{"text_format":"1","workbook":"xlsx","n_sheets":28,"sheets":["NOMBRE","A01","A02","A03","A04","A05","A06","A07","A08","A09","A11","A11a","A19a","A19b","A21","A23","A24","A25","A26","A27","A28","A29","A30","A30AR","A31","A32","Contro","MACROS"],"not_rendered":{"charts":0,"images":0,"macros":1,"external_links":0,"defined_names":4,"comments":0,"pivot_tables":0},"unopened":[],"bounds":{"document_bytes":16777216,"sheet_cells":100000,"rows_first":2000,"rows_last":500,"rows_between":2000,"halvings":0,"cell_chars":16384,"cell_head_chars":4096},"cells_cut":0,"cells_raw":0,"read":"whole","date_system":"1900"}

{"sheet":"NOMBRE","index":0,"n_rows":41,"n_cols":33,"rows_kept":41,"cut":false,"hidden":false,"merged":[[0,2,0,7],[16,1,18,1],[0,0,0,1],[8,0,8,1],[14,0,14,1],[8,6,13,9],[16,6,16,9]]}
["DATOS DEL ESTABLECIMIENTO",null,"CÓDIGOS"]
["NOMBRE DE COMUNA","CALLE LARGA",0,5,3,0,2,null,{"$f":"IF(OR(NOMBRE!C2=\"\",NOMBRE!D2=\"\",NOMBRE!E2=\"\",NOMBRE!F2=\"\",NOMBRE!G2=\"\"),\"Falta Cód. Com.\",\"\")","v":""},null,null,null,null,null,null,null,null,null,null,null,null,null,null,null,null,null,null,null,null,null,null,null,{"$f":"IF(I2>\"\",1,0)","v":0}]
["NOMBRE ESTABLECIMIENTO/ESTRATEGIA","DR. JOSE JOAQUIN AGUIRRE CAMPOS",1,0,8,3,0,8,{"$f":"IF(OR(NOMBRE!C3=\"\",NOMBRE!D3=\"\",NOMBRE!E3=\"\",NOMBRE!F3=\"\",NOMBRE!G3=\"\",NOMBRE!H3=\"\"),\"Falta Cód. Est.\",\"\")","v":""},null,null,null,null,null,null,null,null,null,null,null,null,null,null,null,null,null,null,null,null,null,null,null,{"$f":"IF(I3>\"\",1,0)","v":0}]
["TIPO DE ESTABLECIMIENTO/ESTRATEGIA","Consultorio General Rural (CGR) - CESFAM con SAPU/SAR/SUR",null,null,null,null,null,null,{"$f":"IF(OR(NOMBRE!B4=\"\"),\"Falta Tipo. Est.\",\"\")","v":""},null,null,null,null,null,null,null,null,null,null,null,null,null,null,null,null,null,null,null,null,null,null,null,{"$f":"IF(I4>\"\",1,0)","v":0}]
["DEPENDENCIA","MUNICIPAL",null,null,null,null,null,null,{"$f":"IF(OR(NOMBRE!B5=\"\"),\"Falta Dependencia. Est.\",\"\")","v":""},null,null,null,null,null,null,null,null,null,null,null,null,null,null,null,null,null,null,null,null,null,null,null,{"$f":"IF(I5>\"\",1,0)","v":0}]
["MES:","DICIEMBRE",1,2,null,null,null,null,{"$f":"IF(OR(NOMBRE!C6=\"\",NOMBRE!D6=\"\"),\"Falta Cód. Mes.\",\"\")","v":""},null,null,null,null,null,null,null,null,null,null,null,null,null,null,null,null,null,null,null,null,null,null,null,{"$f":"IF(I6>\"\",1,0)","v":0}]
["AÑO:",2022,null,null,null,null,null,null,null,null,null,null,null,null,null,null,null,null,null,null,null,null,null,null,null,null,null,null,null,null,null,null,{"$f":"SUM(AG2:AG6)","v":0}]
[]
["Versión 1.1: Febrero 2022 ",null,null,null,null,null,"Para habilitar el contenido de las celdas \"Tipo de Establecimiento\", \"Dependencia\" y \"Mes\", presione el boton \"Verificar Habilitacion de Macros\".                                   Para poder tener un 100% de funcionalidad debe hablitar la opcion Macros en esta planilla."]
[]
["Director Servicio de Salud o Director Establecimiento","A.S. Patricia Natalia Rios Rojas",null,null,null,null,null,null,null,null,null,null,null,null,null,null,null,null,null,null,null,null,null,null,null,null,"ENERO","Establecimiento de Mayor Complejidad (EMAYC)","SERVICIO DE SALUD"]
["Jefe de Estadísticas","Carmen G. Ibaceta Cesped",null,null,null,null,null,null,null,null,null,null,null,null,null,null,null,null,null,null,null,null,null,null,null,null,"FEBRERO","Establecimiento de Mediana Complejidad (EMEDC)","MUNICIPAL"]
[null,null,null,null,null,null,null,null,null,null,null," ",null,null,null,null,null,null,null,null,null,null,null,null,null,null,"MARZO","Establecimiento de Menor Complejidad (EMENC)","OTRA INSTITUCION (Delegado)"]
[null,null,null,null,null,null,null,null,null,null,null,null,null,null,null,null,null,null,null,null,null,null,null,null,null,null,"ABRIL","Centros de Diagnóstico Terapeutico (CDT)"]
["MINSAL - DEIS",null,null,null,null,null,null,null,null,null,null,null,null,null,null,null,null,null,null,null,null,null,null,null,null,null,"MAYO","Centro de Referencia de Salud (CRS)"]
[null,null,null,null,null,null,null,null,null,null,null,null,null,null,null,null,null,null,null,null,null,null,null,null,null,null,"JUNIO","Consultorio General Urbano (CGU)"]
[null,"SERIE A",null,null,null,null,"ESTADO MACROS:",null,null,null,null,null,null,null,null,null,null,null,null,null,null,null,null,null,null,null,"JULIO","Consultorio General Urbano (CGU) - CESFAM"]
[null,null,null,null,null,null,null,null,"HABILITADO",null,null,null,null,null,null,null,null,null,null,null,null,null,null,null,null,null,"AGOSTO","Consultorio General Urbano(CGU) con SAPU/SUR/SAR"]
[null,null,null,null,null,null,null,null,null,null,null,null,null,null,null,null,null,null,null,null,null,null,null,null,null,null,"SEPTIEMBRE","Consultorio General Urbano (CGU) - CESFAM con SAPU/SAR"]
[null,null,null,null,null,null,null,null,null,null,null,null,null,null,null,null,null,null,null,null,null,null,null,null,null,null,"OCTUBRE","Consultorio General Rural (CGR)"]
[null,null,null,null,null,null,null,null,null,null,null,null,null,null,null,null,null,null,null,null,null,null,null,null,null,null,"NOVIEMBRE","Consultorio General Rural (CGR) - CESFAM"]
[null,null,null,null,null,null,null,null,null,null,null,null,null,null,null,null,null,null,null,null,null,null,null,null,null,null,"DICIEMBRE","Consultorio General Rural (CGR) con SAPU/SAR/SUR"]
[null,null,null,null,null,null,null,null,null,null,null,null,null,null,null,null,null,null,null,null,null,null,null,null,null,null,null,"Consultorio General Rural (CGR) - CESFAM con SAPU/SAR/SUR"]
[null,null,null,null,null,null,null,null,null,null,null,null,null,null,null,null,null,null,null,null,null,null,null,null,null,null,null,"Posta de Salud Rural (PSR)"]
[null,null,null,null,null,null,null,null,null,null,null,null,null,null,null,null,null,null,null,null,null,null,null,null,null,null,null,"Centro Comunitario de Salud Familiar (CECOF)"]
[null,null,null,null,null,null,null,null,null,null,null,null,null,null,null,null,null,null,null,null,null,null,null,null,null,null,null,"Consultorio de Salud Mental (COSAM)"]
[null,null,null,null,null,null,null,null,null,null,null,null,null,null,null,null,null,null,null,null,null,null,null,null,null,null,null,"Programa de Reparación y Atención Integral de Salud (PRAIS)"]
[null,null,null,null,null,null,null,null,null,null,null,null,null,null,null,null,null,null,null,null,null,null,null,null,null,null,null,"Centro de Atención Funcionarios (CAF)"]
[null,null,null,null,null,null,null,null,null,null,null,null,null,null,null,null,null,null,null,null,null,null,null,null,null,null,null,"Unidad de Salud de Funcionarios (USF)"]
[null,null,null,null,null,null,null,null,null,null,null,null,null,null,null,null,null,null,null,null,null,null,null,null,null,null,null,"ClÍnica Dental Móvil (CDM)"]
[null,null,null,null,null,null,null,null,null,null,null,null,null,null,null,null,null,null,null,null,null,null,null,null,null,null,null,"Dirección Servicio de Salud (DSS)"]
[null,null,null,null,null,null,null,null,null,null,null,null,null,null,null,null,null,null,null,null,null,null,null,null,null,null,null,"Servicio de Atención Primaria de Urgencia (SAPU)"]
[null,null,null,null,null,null,null,null,null,null,null,null,null,null,null,null,null,null,null,null,null,null,null,null,null,null,null,"SAPU Alta Resolución (SAR)"]
[null,null,null,null,null,null,null,null,null,null,null,null,null,null,null,null,null,null,null,null,null,null,null,null,null,null,null,"Servicio de Urgencia Rural (SUR)"]
[null,null,null,null,null,null,null,null,null,null,null,null,null,null,null,null,null,null,null,null,null,null,null,null,null,null,null,"Servicio de Alta Resolución SAR"]
[null,null,null,null,null,null,null,null,null,null,null,null,null,null,null,null,null,null,null,null,null,null,null,null,null,null,null,"Laboratorio Clínico o Dental"]
[null,null,null,null,null,null,null,null,null,null,null,null,null,null,null,null,null,null,null,null,null,null,null,null,null,null,null,"Servicio de Atención Primaria de Urgencia Dental (SAPUDENT)"]
[null,null,null,null,null,null,null,null,null,null,null,null,null,null,null,null,null,null,null,null,null,null,null,null,null,null,null,"Centro de Rehabilitación (CR)"]
[null,null,null,null,null,null,null,null,null,null,null,null,null,null,null,null,null,null,null,null,null,null,null,null,null,null,null,"Hospital de Campaña"]
[null,null,null,null,null,null,null,null,null,null,null,null,null,null,null,null,null,null,null,null,null,null,null,null,null,null,null,"Centro Oncologico"]
[null,null,null,null,null,null,null,null,null,null,null,null,null,null,null,null,null,null,null,null,null,null,null,null,null,null,null,"SAMU"]

{"sheet":"A01","index":1,"n_rows":193,"n_cols":98,"rows_kept":193,"cut":false,"hidden":false,"merged":[[5,0,5,15],[6,0,6,11],[36,0,39,0],[42,13,42,14],[42,15,42,16],[9,3,9,19],[42,5,42,6],[17,0,18,0],[23,0,24,0],[25,0,26,0],[21,0,22,0],[27,0,28,0],[31,0,32,0],[34,0,35,0],[29,0,30,0],[34,2,34,4],[34,1,35,1],[19,0,20,0],[42,31,42,32],[42,25,42,26],[42,27,42,28],[42,17,42,18],[42,19,42,20],[42,29,42,30],[76,3,77,3],[76,4,76,5],[41,39,43,39],[34,37,35,37],[42,37,42,38],[42,33,42,34],[42,35,42,36],[68,2,68,4],[68,5,68,7],[42,11,42,12],[42,7,42,8],[42,9,42,10],[41,2,42,4],[41,5,41,38],[42,21,42,22],[42,23,42,24],[73,0,73,1],[78,0,82,0],[74,0,74,1],[41,0,43,0],[41,1,43,1],[48,0,49,0],[44,0,47,0],[50,0,51,0],[52,0,53,0],[70,0,70,1],[68,0,69,1],[71,0,71,1],[57,0,61,0],[62,0,66,0],[54,0,56,0],[9,25,9,27],[11,0,12,0],[13,0,14,0],[15,0,16,0],[9,2,10,2],[9,23,10,23],[9,24,10,24],[9,20,9,21],[9,0,10,0],[9,1,10,1],[9,22,10,22],[34,35,34,36],[34,5,34,33],[34,34,35,34],[90,0,92,0],[90,1,91,3],[90,4,90,31],[90,32,92,32],[83,0,87,0],[76,0,77,0],[76,1,77,1],[76,2,77,2],[72,0,72,1],[90,33,92,33],[90,34,92,34],[91,4,91,5],[91,6,91,7],[91,8,91,9],[91,10,91,11],[91,12,91,13],[91,14,91,15],[91,16,91,17],[91,28,91,29],[91,30,91,31],[91,18,91,19],[91,20,91,21],[91,22,91,23],[91,24,91,25],[91,26,91,27]]}
["SERVICIO DE SALUD"]
[{"$f":"CONCATENATE(\"COMUNA: \",NOMBRE!B2,\" - \",\"( \",NOMBRE!C2,NOMBRE!D2,NOMBRE!E2,NOMBRE!F2,NOMBRE!G2,\" )\")","v":"COMUNA: CALLE LARGA - ( 05302 )"}]
[{"$f":"CONCATENATE(\"ESTABLECIMIENTO/ESTRATEGIA: \",NOMBRE!B3,\" - \",\"( \",NOMBRE!C3,NOMBRE!D3,NOMBRE!E3,NOMBRE!F3,NOMBRE!G3,NOMBRE!H3,\" )\")","v":"ESTABLECIMIENTO/ESTRATEGIA: DR. JOSE JOAQUIN AGUIRRE CAMPOS - ( 108308 )"}]
[{"$f":"CONCATENATE(\"MES: \",NOMBRE!B6,\" - \",\"( \",NOMBRE!C6,NOMBRE!D6,\" )\")","v":"MES: DICIEMBRE - ( 12 )"}]
[{"$f":"CONCATENATE(\"AÑO: \",NOMBRE!B7)","v":"AÑO: 2022"}]
["REM-A01.   CONTROLES DE SALUD"]
[]
[]
["SECCIÓN A: CONTROLES DE SALUD SEXUAL Y REPRODUCTIVA"]
["TIPO DE CONTROL","PROFESIONAL","TOTAL      ","POR EDAD",null,null,null,null,null,null,null,null,null,null,null,null,null,null,null,null,"SEXO",null,"Beneficiarios","Control con pareja familiar u otro","Control de diada con presencia del padre","TIPOS DE LACTANCIA"]
[null,null,null,"Menores de un mes"," 5  -  9"," 10 - 14","15 a 19","20 - 24","25 - 29","30 - 34","35 - 39","40 - 44","45 - 49","50 - 54","55 - 59","60 - 64","65 - 69","70 - 74","75 - 79","80 y mas","HOMBRES","MUJERES",null,null,null,"Lactancia Materna Exclusiva","Lactancia Materna / Formula Láctea","Formula Láctea"]
[" PRE-\nCONCEPCIONAL ","MÉDICO",{"$f":"SUM(F12:O12)","v":0},null,null,0,0,0,0,0,0,0,0,0,0,null,null,null,null,null,null,0,0,null,null,null,null,null,null,null,null,null,null,null,null,null,null,null,null,null,null,null,null,null,null,null,null,null,null,null,null,null,null,null,null,null,null,null,null,null,null,null,null,null,null,null,null,null,null,null,null,null,null,null,null,null,null,null,null,null,null,null,null,null,null,null,null,null,null,0,0,0,null,null,0]
[null,"MATRONA /ÓN",{"$f":"SUM(F13:O13)","v":4},null,null,0,0,1,1,1,1,0,0,0,0,null,null,null,null,null,null,4,4,null,null,null,null,null,null,null,null,null,null,null,null,null,null,null,null,null,null,null,null,null,null,null,null,null,null,null,null,null,null,null,null,null,null,null,null,null,null,null,null,null,null,null,null,null,null,null,null,null,null,null,null,null,null,null,null,null,null,null,null,null,null,null,null,null,null,0,0,0,null,null,0]
["PRENATAL","MÉDICO",{"$f":"SUM(F14:O14)","v":14},null,null,0,1,4,5,2,2,0,0,0,0,null,null,null,null,null,null,14,13,3,null,null,null,null,null,null,null,null,null,null,null,null,null,null,null,null,null,null,null,null,null,null,null,null,null,null,null,null,null,null,null,null,null,null,null,null,null,null,null,null,null,null,null,null,null,null,null,null,null,null,null,null,null,null,null,null,null,null,null,null,null,null,null,null,null,0,0,0,null,null,0,0]
[null,"MATRONA /ÓN",94,null,null,0,4,21,28,26,11,3,1,0,0,null,null,null,null,null,null,94,91,66,null,null,null,null,null,null,null,null,null,null,null,null,null,null,null,null,null,null,null,null,null,null,null,null,null,null,null,null,null,null,null,null,null,null,null,null,null,null,null,null,null,null,null,null,null,null,null,null,null,null,null,null,null,null,null,null,null,null,null,null,null,null,null,null,null,0,0,0,null,null,0,0]
["POST PARTO ","MÉDICO",0,null,null,0,0,0,0,0,0,0,0,0,0,null,null,null,null,null,null,0,0,null,null,null,null,null,null,null,null,null,null,null,null,null,null,null,null,null,null,null,null,null,null,null,null,null,null,null,null,null,null,null,null,null,null,null,null,null,null,null,null,null,null,null,null,null,null,null,null,null,null,null,null,null,null,null,null,null,null,null,null,null,null,null,null,null,null,0,0,0,null,null,0]
[null,"MATRONA /ÓN",0,null,null,0,0,0,0,0,0,0,0,0,0,null,null,null,null,null,null,0,0,null,null,null,null,null,null,null,null,null,null,null,null,null,null,null,null,null,null,null,null,null,null,null,null,null,null,null,null,null,null,null,null,null,null,null,null,null,null,null,null,null,null,null,null,null,null,null,null,null,null,null,null,null,null,null,null,null,null,null,null,null,null,null,null,null,null,0,0,0,null,null,0]
["POST ABORTO","MÉDICO",{"$f":"SUM(F18:O18)","v":0},null,null,0,0,0,0,0,0,0,0,0,0,null,null,null,null,null,null,0,0,null,null,null,null,null,null,null,null,null,null,null,null,null,null,null,null,null,null,null,null,null,null,null,null,null,null,null,null,null,null,null,null,null,null,null,null,null,null,null,null,null,null,null,null,null,null,null,null,null,null,null,null,null,null,null,null,null,null,null,null,null,null,null,null,null,null,0,0,0,null,null,0]
[null,"MATRONA /ÓN",0,null,null,0,0,0,0,0,0,0,0,0,0,null,null,null,null,null,null,0,0,null,null,null,null,null,null,null,null,null,null,null,null,null,null,null,null,null,null,null,null,null,null,null,null,null,null,null,null,null,null,null,null,null,null,null,null,null,null,null,null,null,null,null,null,null,null,null,null,null,null,null,null,null,null,null,null,null,null,null,null,null,null,null,null,null,null,0,0,0,null,null,0]
["PUÉRPERA CON RECIÉN NACIDO HASTA 10 DÍAS DE VIDA","MÉDICO",0,null,null,0,0,0,0,0,0,0,0,0,0,null,null,null,null,null,null,0,0,null,null,null,null,null,null,null,null,null,null,null,null,null,null,null,null,null,null,null,null,null,null,null,null,null,null,null,null,null,null,null,null,null,null,null,null,null,null,null,null,null,null,null,null,null,null,null,null,null,null,null,null,null,null,null,null,null,null,null,null,{"$f":"IF(AND(C20<>0,'A05'!C50=\"\"),\"* No olvide registrar ingresos a control de salud de los respectivos RN, en REM A05-sección E. \",\"\")","v":""},null,null,null,null,null,0,0,0,0,null,0,null,0,0]
[null,"MATRONA /ÓN",10,null,null,0,0,3,2,4,1,0,0,0,0,null,null,null,null,null,null,10,10,null,10,10,0,0,null,null,null,null,null,null,null,null,null,null,null,null,null,null,null,null,null,null,null,null,null,null,null,null,null,null,null,null,null,null,null,null,null,null,null,null,null,null,null,null,null,null,null,null,null,null,null,null,null,null,null,null,null,null,null,{"$f":"IF(AND(C21<>0,'A05'!C84=\"\"),\"* No olvide registrar ingresos a control de salud de los respectivos RN, en REM A05-sección E. \",\"\")","v":""},null,null,null,null,null,0,0,0,0,null,0,null,0,0]
["PUÉRPERA CON RECIÉN NACIDO ENTRE 11 y 28 DÍAS","MÉDICO",0,null,null,0,0,0,0,0,0,0,0,0,0,null,null,null,null,null,null,0,0,null,null,null,null,null,null,null,null,null,null,null,null,null,null,null,null,null,null,null,null,null,null,null,null,null,null,null,null,null,null,null,null,null,null,null,null,null,null,null,null,null,null,null,null,null,null,null,null,null,null,null,null,null,null,null,null,null,null,null,null,{"$f":"IF(AND(C22<>0,'A05'!C50=\"\"),\"* No olvide registrar ingresos a control de salud de los respectivos RN, en REM A05-sección E. \",\"\")","v":""},null,null,null,null,null,0,0,0,0,null,0,null,0,0]
[null,"MATRONA /ÓN",1,null,null,0,0,0,0,1,0,0,0,0,0,null,null,null,null,null,null,1,1,null,1,0,1,0,null,null,null,null,null,null,null,null,null,null,null,null,null,null,null,null,null,null,null,null,null,null,null,null,null,null,null,null,null,null,null,null,null,null,null,null,null,null,null,null,null,null,null,null,null,null,null,null,null,null,null,null,null,null,null,{"$f":"IF(AND(C23<>0,'A05'!C84=\"\"),\"* No olvide registrar ingresos a control de salud de los respectivos RN, en REM A05-sección E. \",\"\")","v":""},null,null,null,null,null,0,0,0,0,null,0,null,0,0]
["RECIÉN NACIDO HASTA 10 DÍAS DE VIDA","MÉDICO",{"$f":"SUM(D24)","v":0},null,null,null,null,null,null,null,null,null,null,null,null,null,null,null,null,null,null,0,0,null,null,null,null,null,null,null,null,null,null,null,null,null,null,null,null,null,null,null,null,null,null,null,null,null,null,null,null,null,null,null,null,null,null,null,null,null,null,null,null,null,null,null,null,null,null,null,null,null,null,null,null,null,null,null,null,null,null,null,null,{"$f":"IF(AND(C24<>0,'A05'!C84=\"\"),\"* No olvide registrar ingresos a control de salud de los respectivos RN, en REM A05-sección E. \",\"\")","v":""},null,null,null,null,null,0,0,0,0,null,0,0,0,0]
[null,"MATRONA /ÓN",{"$f":"SUM(D25)","v":0},null,null,null,null,null,null,null,null,null,null,null,null,null,null,null,null,null,null,0,0,null,null,null,null,null,null,null,null,null,null,null,null,null,null,null,null,null,null,null,null,null,null,null,null,null,null,null,null,null,null,null,null,null,null,null,null,null,null,null,null,null,null,null,null,null,null,null,null,null,null,null,null,null,null,null,null,null,null,null,null,null,null,null,null,null,null,0,0,0,0,null,0]
["RECIÉN NACIDO ENTRE 11 y 28 DÍAS","MÉDICO",{"$f":"SUM(D26)","v":0},null,null,null,null,null,null,null,null,null,null,null,null,null,null,null,null,null,null,0,0,null,null,null,null,null,null,null,null,null,null,null,null,null,null,null,null,null,null,null,null,null,null,null,null,null,null,null,null,null,null,null,null,null,null,null,null,null,null,null,null,null,null,null,null,null,null,null,null,null,null,null,null,null,null,null,null,null,null,null,null,null,null,null,null,null,null,0,0,0,0,null,0]
[null,"MATRONA /ÓN",{"$f":"SUM(D27)","v":0},null,null,null,null,null,null,null,null,null,null,null,null,null,null,null,null,null,null,0,0,null,null,null,null,null,null,null,null,null,null,null,null,null,null,null,null,null,null,null,null,null,null,null,null,null,null,null,null,null,null,null,null,null,null,null,null,null,null,null,null,null,null,null,null,null,null,null,null,null,null,null,null,null,null,null,null,null,null,null,null,null,null,null,null,null,null,0,0,0,0,null,0]
["GINECOLÓGICO ","MÉDICO ",{"$f":"SUM(F28:T28)","v":0},null,null,0,0,0,0,0,0,0,0,0,0,0,0,0,0,0,null,0,0,null,null,null,null,null,null,null,null,null,null,null,null,null,null,null,null,null,null,null,null,null,null,null,null,null,null,null,null,null,null,null,null,null,null,null,null,null,null,null,null,null,null,null,null,null,null,null,null,null,null,null,null,null,null,null,null,null,null,null,null,null,null,null,null,null,null,0,0,0,null,null,0]
[null,"MATRONA /ÓN",{"$f":"SUM(F29:T29)","v":29},null,null,0,0,0,0,4,2,6,1,5,7,2,1,1,0,0,null,29,29,null,null,null,null,null,null,null,null,null,null,null,null,null,null,null,null,null,null,null,null,null,null,null,null,null,null,null,null,null,null,null,null,null,null,null,null,null,null,null,null,null,null,null,null,null,null,null,null,null,null,null,null,null,null,null,null,null,null,null,null,null,null,null,null,null,null,0,0,0,null,null,0]
["CLIMATERIO ","MÉDICO",{"$f":"SUM(M30:P30)","v":14},null,null,null,null,null,null,null,null,null,4,7,2,1,null,null,null,null,null,14,14,null,null,null,null,null,null,null,null,null,null,null,null,null,null,null,null,null,null,null,null,null,null,null,null,null,null,null,null,null,null,null,null,null,null,null,null,null,null,null,null,null,null,null,null,null,null,null,null,null,null,null,null,null,null,null,null,null,null,null,null,null,null,null,null,null,null,0,0,0,null,null,0]
[null,"MATRONA /ÓN",{"$f":"SUM(M31:P31)","v":2},null,null,null,null,null,null,null,null,null,2,0,0,0,null,null,null,null,null,2,2,null,null,null,null,null,null,null,null,null,null,null,null,null,null,null,null,null,null,null,null,null,null,null,null,null,null,null,null,null,null,null,null,null,null,null,null,null,null,null,null,null,null,null,null,null,null,null,null,null,null,null,null,null,null,null,null,null,null,null,null,null,null,null,null,null,null,0,0,0,null,null,0]
["REGULACIÓN DE FECUNDIDAD","MÉDICO",{"$f":"SUM(F32:T32)","v":0},null,null,0,0,0,0,0,0,0,0,0,0,0,0,0,0,0,null,0,0,null,null,null,null,null,null,null,null,null,null,null,null,null,null,null,null,null,null,null,null,null,null,null,null,null,null,null,null,null,null,null,null,null,null,null,null,null,null,null,null,null,null,null,null,null,null,null,null,null,null,null,null,null,null,null,null,null,null,null,null,null,null,null,null,null,null,0,0,0,null,null,0]
[null,"MATRONA /ÓN",{"$f":"SUM(F33:T33)","v":119},null,null,1,19,19,22,20,16,5,12,3,0,2,0,0,0,0,null,119,119,null,null,null,null,null,null,null,null,null,null,null,null,null,null,null,null,null,null,null,null,null,null,null,null,null,null,null,null,null,null,null,null,null,null,null,null,null,null,null,null,null,null,null,null,null,null,null,null,null,null,null,null,null,null,null,null,null,null,null,null,null,null,null,null,null,null,0,0,0,null,null,0]
["SECCIÓN B: CONTROLES DE SALUD SEGÚN CICLO VITAL"]
["TIPO DE CONTROL","PROFESIONAL","TOTAL",null,null,"POR EDAD ",null,null,null,null,null,null,null,null,null,null,null,null,null,null,null,null,null,null,null,null,null,null,null,null,null,null,null,null,"Beneficiarios","CONTROL CON PRESENCIA DEL PADRE",null,"Niños, Niñas, Adolescentes y Jóvenes Población SENAME"]
[null,null,"Ambos Sexos","Hombres","Mujeres","Menor de 1 mes","1 mes","2 meses","3 meses","4 meses"," 5 meses","6 meses"," 7  -  11 meses","12 a 17 meses","18  - 23  meses","24  - 47  meses","48  - 59  meses","60  - 71  meses"," 6  -  9 "," 10 - 14 ","15 - 19","20 - 24","25 - 29","30 - 34","35 - 39","40 - 44","45 - 49","50 - 54","55 - 59","60 - 64","65 - 69","70 - 74","75 - 79","80 y mas",null,"menor 1 año","1 año a 3 años 11 meses 29 días"]
["DE SALUD","MÉDICO",{"$f":"SUM(F37:AH37)","v":19},10,9,0,10,0,7,0,0,1,0,0,0,1,0,0,0,0,0,0,0,0,0,0,0,0,0,0,0,0,0,0,18,3,0,0,null,null,null,null,null,null,null,null,null,null,null,null,null,null,null,null,null,null,null,null,null,null,null,null,null,null,null,null,null,null,null,null,null,null,null,null,null,null,null,null,null,null,null,null,null,null,null,0,{"$f":"IF(AJ37>SUM(F37:M37),1,IF(AK37>SUM(N37:P37),1,0))","v":0},0]
[null,"ENFERMERA /O",{"$f":"SUM(F38:AH38)","v":77},35,42,0,1,6,0,8,0,8,1,11,2,16,8,4,11,1,0,0,0,0,0,0,0,0,0,0,0,0,0,0,77,9,15,1,null,null,null,null,null,null,null,null,null,null,null,null,null,null,null,null,null,null,null,null,null,null,null,null,null,null,null,null,null,null,null,null,null,null,null,null,null,null,null,null,null,null,null,null,null,null,null,0,{"$f":"IF(AJ38>SUM(F38:M38),1,IF(AK38>SUM(N38:P38),1,0))","v":0},0]
[null,"MATRONA /ÓN",{"$f":"SUM(F39+T39+U39+V39+W39+X39+Y39+Z39+AA39+AB39+AC39+AD39+AE39+AF39+AG39+AH39)","v":10},4,6,7,null,null,null,null,null,null,null,null,null,null,null,null,null,2,1,0,0,0,0,0,0,0,0,0,0,0,0,0,8,8,null,0,null,null,null,null,null,null,null,null,null,null,null,null,null,null,null,null,null,null,null,null,null,null,null,null,null,null,null,null,null,null,null,null,null,null,null,null,null,null,null,null,null,null,null,null,null,null,null,0,{"$f":"IF(AJ39>SUM(F39:M39),1,IF(AK39>SUM(N39:P39),1,0))","v":1},0]
[null,"TÉCNICO PARAMÉDICO",{"$f":"SUM(N40:S40)","v":0},null,null,null,null,null,null,null,null,null,null,null,null,null,null,null,null,null,null,null,null,null,null,null,null,null,null,null,null,null,null,null,null,null,null,0,null,null,null,null,null,null,null,null,null,null,null,null,null,null,null,null,null,null,null,null,null,null,null,null,null,null,null,null,null,null,null,null,null,null,null,null,null,null,null,null,null,null,null,null,null,null,null,0,{"$f":"IF(AJ40>SUM(F40:M40),1,IF(AK40>SUM(N40:P40),1,0))","v":0},0]
["SECCIÓN C: CONTROLES SEGÚN PROBLEMA DE SALUD"]
["TIPO DE CONTROL","PROFESIONAL","TOTAL",null,null,"POR EDAD ",null,null,null,null,null,null,null,null,null,null,null,null,null,null,null,null,null,null,null,null,null,null,null,null,null,null,null,null,null,null,null,null,null,"Beneficiarios"]
[null,null,null,null,null," 0  -  4",null," 5  -  9",null," 10 - 14  ",null,"15 a 19",null,"20 - 24",null,"25 - 29",null,"30 - 34",null,"35 - 39",null,"40 - 44",null,"45 - 49",null,"50 - 54",null,"55 - 59",null,"60 - 64",null,"65 - 69",null,"70 - 74",null,"75 - 79",null,"80 y mas"]
[null,null,"Ambos Sexos","Hombres","Mujeres","Hombres","Mujeres","Hombres","Mujeres","Hombres","Mujeres","Hombres","Mujeres","Hombres","Mujeres","Hombres","Mujeres","Hombres","Mujeres","Hombres","Mujeres","Hombres","Mujeres","Hombres","Mujeres","Hombres","Mujeres","Hombres","Mujeres","Hombres","Mujeres","Hombres","Mujeres","Hombres","Mujeres","Hombres","Mujeres","Hombres","Mujeres"]
["DE SALUD CARDIOVASCULAR","MÉDICO",{"$f":"SUM(D45:E45)","v":111},{"$f":"SUM(L45+N45+P45+R45+T45+V45+X45+Z45+AB45+AD45+AF45+AH45+AJ45+AL45)","v":35},{"$f":"SUM(M45+O45+Q45+S45+U45+W45+Y45+AA45+AC45+AE45+AG45+AI45+AK45+AM45)","v":76},null,null,null,null,null,null,0,0,0,0,0,0,0,2,0,1,0,2,0,6,1,3,6,14,6,13,6,18,7,8,4,3,5,6,111,null,null,null,null,null,null,null,null,null,null,null,null,null,null,null,null,null,null,null,null,null,null,null,null,null,null,null,null,null,null,null,null,null,null,null,null,null,null,null,null,null,null,null,null,null,null,0]
[null,"ENFERMERA /O",19,{"$f":"SUM(L46+N46+P46+R46+T46+V46+X46+Z46+AB46+AD46+AF46+AH46+AJ46+AL46)","v":9},10,null,null,null,null,null,null,0,0,0,0,0,0,0,0,0,0,1,0,0,2,1,2,0,1,1,1,2,1,1,1,1,1,2,1,19,null,null,null,null,null,null,null,null,null,null,null,null,null,null,null,null,null,null,null,null,null,null,null,null,null,null,null,null,null,null,null,null,null,null,null,null,null,null,null,null,null,null,null,null,null,null,0]
[null,"NUTRICIONISTA",40,16,24,null,null,null,null,null,null,0,0,0,0,0,0,0,0,0,1,1,0,0,0,0,3,0,1,3,3,2,2,3,2,4,4,3,8,39,null,null,null,null,null,null,null,null,null,null,null,null,null,null,null,null,null,null,null,null,null,null,null,null,null,null,null,null,null,null,null,null,null,null,null,null,null,null,null,null,null,null,null,null,null,null,0]
[null,"TÉCNICO PARAMÉDICO",0,0,0]
["DE TUBERCULOSIS","MÉDICO",null,null,null,null,null,null,null,null,null,null,null,null,null,null,null,null,null,null,null,null,null,null,null,null,null,null,null,null,null,null,null,null,null,null,null,null,null,null,null,null,null,null,null,null,null,null,null,null,null,null,null,null,null,null,null,null,null,null,null,null,null,null,null,null,null,null,null,null,null,null,null,null,null,null,null,null,null,null,null,null,null,null,null,null,0]
[null,"ENFERMERA /O"]
["SEGUIMIENTO AUTOVALENTE CON RIESGO","MÉDICO",0,{"$f":"SUM(AF51+AH51+AJ51+AL51)","v":0},{"$f":"SUM(AG51+AI51+AK51+AM51)","v":0}]
[null,"ENFERMERA /O",0,0,0]
["SEGUIMIENTO RIESGO DEPENDENCIA","MÉDICO",0,0,0]
[null,"ENFERMERA /O",0,0,0]
["DE  INFECCIÓN TRANSMISIÓN SEXUAL","MÉDICO",0,{"$f":"SUM(F55+H55+J55+L55+N55+P55+R55+T55+V55+X55+Z55+AB55+AD55+AF55+AH55+AJ55+AL55)","v":0},{"$f":"SUM(G55+I55+K55+M55+O55+Q55+S55+U55+W55+Y55+AA55+AC55+AE55+AG55+AI55+AK55+AM55)","v":0}]
[null,"ENFERMERA /O",0,0,0]
[null,"MATRONA /ÓN",0,0,0]
["OTROS PROBLEMAS DE SALUD","MÉDICO",58,12,46,0,0,0,0,0,0,0,0,0,0,1,0,0,1,1,1,0,1,0,2,0,1,0,14,0,7,1,8,4,7,2,2,3,2,58,null,null,null,null,null,null,null,null,null,null,null,null,null,null,null,null,null,null,null,null,null,null,null,null,null,null,null,null,null,null,null,null,null,null,null,null,null,null,null,null,null,null,null,null,null,null,0]
[null,"ENFERMERA /O",0,0,0]
[null,"MATRONA /ÓN",0,0,0]
[null,"NUTRICIONISTA",0,0,0]
[null,"TÉCNICO PARAMÉDICO",0,0,0]
["NIÑOS CON NECESIDADES ESPECIALES","MÉDICO",0,{"$f":"SUM(F63+H63+J63+L63+N63)","v":0},{"$f":"SUM(G63+I63+K63+M63+O63)","v":0},null,null,null,null,null,null,null,null,null,null,null,null,null,null,null,null,null,null,null,null,null,null,null,null,null,null,null,null,null,null,null,null,null,null,null,null,null,null,null,null,null,null,null,null,null,null,null,null,null,null,null,null,null,null,null,null,null,null,null,null,null,null,null,null,null,null,null,null,null,null,null,null,null,null,null,null,null,null,null,null,null,0]
[null,"ENFERMERA /O",10,5,5,5,4,0,1,null,null,null,null,null,null,null,null,null,null,null,null,null,null,null,null,null,null,null,null,null,null,null,null,null,null,null,null,null,null,10,null,null,null,null,null,null,null,null,null,null,null,null,null,null,null,null,null,null,null,null,null,null,null,null,null,null,null,null,null,null,null,null,null,null,null,null,null,null,null,null,null,null,null,null,null,null,0]
[null,"MATRONA /ÓN",0,0,0]
[null,"NUTRICIONISTA",0,0,0]
[null,"TÉCNICO PARAMÉDICO",0,0,0]
["SECCIÓN D: CONTROL DE SALUD INTEGRAL DE ADOLESCENTES (incluidos en sección B)"]
["LUGAR DEL CONTROL, SEGÚN EDAD",null,"10 A 14 AÑOS",null,null,"15 A 19 AÑOS"]
[null,null,"Ambos Sexos","Hombres","Mujeres","Ambos Sexos","Hombres","Mujeres"]
["EN ESPACIO AMIGABLE",null,{"$f":"SUM(D71:E71)","v":2},1,1,{"$f":"SUM(G71:H71)","v":1},0,1]
["EN OTROS ESPACIOS DEL ESTABLECIMIENTO DE SALUD",null,{"$f":"SUM(D72:E72)","v":0},0,0,{"$f":"SUM(G72:H72)","v":0},0,0]
["EN ESTABLECIMIENTOS EDUCACIONALES",null,{"$f":"SUM(D73:E73)","v":0},0,0,{"$f":"SUM(G73:H73)","v":0},0,0]
["EN OTROS LUGARES FUERA DEL ESTABLECIMIENTO DE SALUD",null,{"$f":"SUM(D74:E74)","v":0},0,0,{"$f":"SUM(G74:H74)","v":0},0,0]
["TOTAL",null,{"$f":"SUM(C71:C74)","v":2},1,1,1,0,1]
["SECCIÓN E: CONTROLES DE SALUD EN ESTABLECIMIENTO EDUCACIONAL (Los controles individuales deben estar incluídos en la Sección B)"]
["TIPO DE CONTROLES","CURSO","TOTAL*","TOTAL NIÑOS Y NIÑAS","SEXO"]
[null,null,null,null,"Hombres","Mujeres"]
["CONTROLES INDIVIDUALES","KÍNDER",{"$f":"SUM(E79:F79)","v":0}]
[null,"PRIMERO BÁSICO ",{"$f":"SUM(E80:F80)","v":0}]
[null,"SEGUNDO BÁSICO",{"$f":"SUM(E81:F81)","v":0}]
[null,"TERCERO BÁSICO",{"$f":"SUM(E82:F82)","v":0}]
[null,"CUARTO BÁSICO",{"$f":"SUM(E83:F83)","v":0}]
["CONTROLES \nGRUPALES *","KÍNDER",null,{"$f":"SUM(E84:F84)","v":0}]
[null,"PRIMERO BÁSICO ",null,{"$f":"SUM(E85:F85)","v":0}]
[null,"SEGUNDO BÁSICO",null,{"$f":"SUM(E86:F86)","v":0}]
[null,"TERCERO BÁSICO",null,{"$f":"SUM(E87:F87)","v":0}]
[null,"CUARTO BÁSICO",null,{"$f":"SUM(E88:F88)","v":0}]
[" En Total* se registra el número de controles grupales"]
["SECCIÓN F: CONTROLES INTEGRALES DE PERSONAS CON CONDICIONES CRÓNICAS (incluidos en Secciones B y C)"]
["TIPO DE CONTROL","TOTAL",null,null,"POR EDAD ",null,null,null,null,null,null,null,null,null,null,null,null,null,null,null,null,null,null,null,null,null,null,null,null,null,null,null,"Beneficiarios","Migrantes","Pueblos Originarios"]
[null,null,null,null,"15 - 19",null,"20 - 24",null,"25 - 29",null,"30 - 34",null,"35 - 39",null,"40 - 44",null,"45 - 49",null,"50 - 54",null,"55 - 59",null,"60 - 64",null,"65 - 69",null,"70 - 74",null,"75 - 79",null,"80 y mas"]
[null,"Ambos Sexos","Hombres","Mujeres","Hombres","Mujeres","Hombres","Mujeres","Hombres","Mujeres","Hombres","Mujeres","Hombres","Mujeres","Hombres","Mujeres","Hombres","Mujeres","Hombres","Mujeres","Hombres","Mujeres","Hombres","Mujeres","Hombres","Mujeres","Hombres","Mujeres","Hombres","Mujeres","Hombres","Mujeres"]
["CONTROL INTEGRAL CON RIESGO LEVE (G1)",{"$f":"SUM(C94:D94)","v":3},{"$f":"SUM(E94+G94+I94+K94+M94+O94+Q94+S94+U94+W94+Y94+AA94+AC94+AE94)","v":1},{"$f":"SUM(F94+H94+J94+L94+N94+P94+R94+T94+V94+X94+Z94+AB94+AD94+AF94)","v":2},0,0,0,0,0,0,0,0,1,0,0,0,0,0,0,0,0,1,0,0,0,0,0,0,0,0,0,1,3,1,0,null,null,null,null,null,null,null,null,null,null,null,null,null,null,null,null,null,null,null,null,null,null,null,null,null,null,null,null,null,null,null,null,null,null,null,null,null,null,null,null,null,null,null,null,null,null,null,null,null,null,0,0,0]
["CONTROL INTEGRAL CON RIESGO MODERADO (G2)",{"$f":"SUM(C95:D95)","v":41},{"$f":"SUM(E95+G95+I95+K95+M95+O95+Q95+S95+U95+W95+Y95+AA95+AC95+AE95)","v":17},24,0,0,0,0,0,0,0,1,0,1,0,1,0,4,1,2,1,5,6,4,1,0,5,1,2,3,1,2,40,0,2,null,null,null,null,null,null,null,null,null,null,null,null,null,null,null,null,null,null,null,null,null,null,null,null,null,null,null,null,null,null,null,null,null,null,null,null,null,null,null,null,null,null,null,null,null,null,null,null,null,null,0,0,0]
["CONTROL INTEGRAL CON RIESGO ALTO (G3)",88,22,66,0,0,0,0,0,0,0,0,0,2,0,0,0,2,1,8,2,6,2,12,5,9,2,9,5,4,5,14,88,0,0]
["SEGUIMIENTO A DISTANCIA CON RIESGO LEVE (G1)",1,{"$f":"SUM(E97+G97+I97+K97+M97+O97+Q97+S97+U97+W97+Y97+AA97+AC97+AE97)","v":0},1,0,0,0,0,0,0,0,0,0,0,0,0,0,0,0,0,0,0,0,0,0,0,0,1,0,0,0,0,1,0,0,null,null,null,null,null,null,null,null,null,null,null,null,null,null,null,null,null,null,null,null,null,null,null,null,null,null,null,null,null,null,null,null,null,null,null,null,null,null,null,null,null,null,null,null,null,null,null,null,null,null,0,0,1]
["SEGUIMIENTO A DISTANCIA CON RIESGO MODEADO (G2)",17,6,11,0,0,0,0,0,0,0,0,0,0,0,1,1,1,1,3,1,2,0,1,0,1,0,1,0,0,3,1,17,0,1,null,null,null,null,null,null,null,null,null,null,null,null,null,null,null,null,null,null,null,null,null,null,null,null,null,null,null,null,null,null,null,null,null,null,null,null,null,null,null,null,null,null,null,null,null,null,null,null,null,null,0,0,0]
["SEGUIMIENTO A DISTANCIA CON RIESGO ALTO (G3)",39,10,29,0,0,0,0,0,1,0,0,0,1,0,1,0,0,0,2,1,1,0,3,0,6,4,4,3,3,2,7,38,0,0]
[]
[]
[]
[]
[]
[]
[]
[]
[]
[]
[]
[]
[]
[]
[]
[]
[]
[]
[]
[]
[]
[]
[]
[]
[]
[]
[]
[]
[]
[]
[]
[]
[]
[]
[]
[]
[]
[]
[]
[]
[]
[]
[]
[]
[]
[]
[]
[]
[]
[]
[]
[]
[]
[]
[]
[]
[]
[]
[]
[]
[]
[]
[]
[]
[]
[]
[]
[]
[]
[]
[]
[]
[]
[]
[]
[]
[]
[]
[]
[]
[]
[]
[]
[]
[]
[]
[]
[]
[]
[]
[]
[]
[]
[{"$f":"SUM(C12:C33,W12:W33,U32:V33,Y20:AB23,X14:X15,C37:C40,D37:E40,AI37:AI40,C45:E67,C71:C75,F71:F75,C79:C83,D84:D88,B94:B99)","v":1766},{"$f":"SUM(CG1:CU88)","v":1}]

{"sheet":"A02","index":2,"n_rows":195,"n_cols":87,"rows_kept":195,"cut":false,"hidden":false,"merged":[[31,30,31,31],[31,14,31,15],[31,16,31,17],[31,18,31,19],[31,20,31,21],[31,22,31,23],[31,24,31,25],[26,30,26,31],[31,0,32,0],[31,1,31,3],[31,4,31,5],[31,6,31,7],[31,8,31,9],[31,10,31,11],[31,12,31,13],[26,14,26,15],[26,16,26,17],[26,18,26,19],[26,20,26,21],[26,22,26,23],[26,24,26,25],[31,26,31,27],[31,28,31,29],[18,30,18,31],[26,0,27,0],[26,1,26,3],[26,4,26,5],[26,6,26,7],[26,8,26,9],[26,10,26,11],[26,12,26,13],[18,14,18,15],[18,16,18,17],[18,18,18,19],[18,20,18,21],[18,22,18,23],[18,24,18,25],[26,26,26,27],[26,28,26,29],[5,0,5,29],[8,0,9,0],[8,1,8,3],[18,0,19,0],[18,1,18,3],[18,4,18,5],[18,6,18,7],[18,8,18,9],[18,10,18,11],[18,12,18,13],[18,26,18,27],[18,28,18,29]]}
["SERVICIO DE SALUD"]
[{"$f":"CONCATENATE(\"COMUNA: \",NOMBRE!B2,\" - \",\"( \",NOMBRE!C2,NOMBRE!D2,NOMBRE!E2,NOMBRE!F2,NOMBRE!G2,\" )\")","v":"COMUNA: CALLE LARGA - ( 05302 )"}]
[{"$f":"CONCATENATE(\"ESTABLECIMIENTO/ESTRATEGIA: \",NOMBRE!B3,\" - \",\"( \",NOMBRE!C3,NOMBRE!D3,NOMBRE!E3,NOMBRE!F3,NOMBRE!G3,NOMBRE!H3,\" )\")","v":"ESTABLECIMIENTO/ESTRATEGIA: DR. JOSE JOAQUIN AGUIRRE CAMPOS - ( 108308 )"}]
[{"$f":"CONCATENATE(\"MES: \",NOMBRE!B6,\" - \",\"( \",NOMBRE!C6,NOMBRE!D6,\" )\")","v":"MES: DICIEMBRE - ( 12 )"}]
[{"$f":"CONCATENATE(\"AÑO: \",NOMBRE!B7)","v":"AÑO: 2022"}]
["REM-A02.   EXAMEN DE MEDICINA PREVENTIVA EN MAYORES DE 15 AÑOS"]
[]
["SECCIÓN A: EMP REALIZADO POR PROFESIONAL"]
["PROFESIONAL","TOTAL"]
[null,"Ambos Sexos","Hombres","Mujeres"]
["TOTAL ",{"$f":"SUM(B12:B17)","v":288},{"$f":"SUM(C12:C17)","v":79},{"$f":"SUM(D12:D17)","v":209}]
["MÉDICO",{"$f":"SUM(C12:D12)","v":0}]
["ENFERMERA /O",83,22,61]
["MATRONA /ÓN",0]
["NUTRICIONISTA ",173,47,126]
["OTRO PROFESIONAL",32,10,22]
["TÉCNICO PARAMÉDICO",0]
["SECCIÓN B: EMP SEGÚN RESULTADO DEL ESTADO NUTRICIONAL"]
["ESTADO \nNUTRICIONAL","TOTAL",null,null,"15 a 19",null,"20 a 24",null,"25 a 29",null,"30 a 34",null,"35 a 39",null,"40 a 44",null,"45 a 49",null,"50 a 54",null,"55 a 59",null,"60 a 64",null,"65 a 69",null,"70 a 74",null,"75 a 79",null,"80 y más"]
[null,"Ambos Sexos","Hombres","Mujeres","Hombres","Mujeres","Hombres","Mujeres","Hombres","Mujeres","Hombres","Mujeres","Hombres","Mujeres","Hombres","Mujeres","Hombres","Mujeres","Hombres","Mujeres","Hombres","Mujeres","Hombres","Mujeres","Hombres","Mujeres","Hombres","Mujeres","Hombres","Mujeres","Hombres","Mujeres"]
["TOTAL",{"$f":"SUM(B22:B25)","v":288},79,209,0,0,8,17,6,22,10,32,9,33,8,23,2,17,6,19,8,18,5,7,9,4,2,5,0,5,6,7,null,null,null,null,null,null,null,null,null,null,null,null,null,null,null,null,null,null,null,null,null,null,null,null,null,null,null,null,null,null,null,null,null,null,null,null,null,null,null,null,null,null,null,null,null,null,null,null,null,null,null,null,null,null,0]
["NORMAL",{"$f":"SUM(C22:D22)","v":53},{"$f":"SUM(E22+G22+I22+K22+M22+O22+Q22+S22+U22+W22+Y22+AA22+AC22+AE22)","v":16},37,null,null,1,7,2,3,null,1,2,4,null,null,null,2,3,1,2,6,null,2,2,1,1,4,null,3,3,3]
["BAJO PESO",{"$f":"SUM(C23:D23)","v":4},3,1,null,null,1,null,null,null,null,null,null,null,null,null,null,null,null,null,null,null,null,null,1,null,null,null,null,1,1]
["SOBREPESO",{"$f":"SUM(C24:D24)","v":111},36,75,null,null,5,6,2,6,6,13,5,12,3,7,2,10,1,6,3,8,1,4,5,1,1,null,null,null,2,2]
["OBESOS",{"$f":"SUM(C25:D25)","v":120},24,96,null,null,1,4,2,13,4,18,2,17,5,16,null,5,2,12,3,4,4,1,1,2,null,1,null,1,null,2]
["SECCIÓN C: RESULTADOS DE EMP SEGÚN ESTADO DE SALUD"]
["ESTADO \nDE SALUD","TOTAL",null,null,"15 a 19",null,"20 a 24",null,"25 a 29",null,"30 a 34",null,"35 a 39",null,"40 a 44",null,"45 a 49",null,"50 a 54",null,"55 a 59",null,"60 a 64",null,"65 a 69",null,"70 a 74",null,"75 a 79",null,"80 y más"]
[null,"Ambos Sexos","Hombres","Mujeres","Hombres","Mujeres","Hombres","Mujeres","Hombres","Mujeres","Hombres","Mujeres","Hombres","Mujeres","Hombres","Mujeres","Hombres","Mujeres","Hombres","Mujeres","Hombres","Mujeres","Hombres","Mujeres","Hombres","Mujeres","Hombres","Mujeres","Hombres","Mujeres","Hombres","Mujeres"]
["TABAQUISMO",{"$f":"SUM(C29:D29)","v":70},{"$f":"SUM(E29+G29+I29+K29+M29+O29+Q29+S29+U29+W29+Y29+AA29+AC29+AE29)","v":20},{"$f":"SUM(F29+H29+J29+L29+N29+P29+R29+T29+V29+X29+Z29+AB29+AD29+AF29)","v":50},0,0,1,4,2,5,3,5,1,8,4,7,1,8,0,5,3,5,1,2,3,1,0,0,0,0,1,0,null,null,null,null,null,null,null,null,null,null,null,null,null,null,null,null,null,null,null,null,null,null,null,null,null,null,null,null,null,null,null,null,null,null,null,null,null,null,null,null,null,null,null,null,null,null,null,null,null,null,null,null,0]
["PRESIÓN ARTERIAL ELEVADA (= >140/90 mmHg)",{"$f":"SUM(C30:D30)","v":31},{"$f":"SUM(E30+G30+I30+K30+M30+O30+Q30+S30+U30+W30+Y30+AA30+AC30+AE30)","v":9},{"$f":"SUM(F30+H30+J30+L30+N30+P30+R30+T30+V30+X30+Z30+AB30+AD30+AF30)","v":22},0,0,1,1,1,2,0,1,0,5,1,2,0,4,1,2,2,3,2,0,0,0,0,1,0,0,1,1,null,null,null,null,null,null,null,null,null,null,null,null,null,null,null,null,null,null,null,null,null,null,null,null,null,null,null,null,null,null,null,null,null,null,null,null,null,null,null,null,null,null,null,null,null,null,null,null,null,null,null,null,0]
["SECCIÓN D: RESULTADOS DE EMP SEGÚN ESTADO DE SALUD (EXÁMENES DE LABORATORIO)"]
["ESTADO \nDE SALUD","TOTAL",null,null,"15 a 19 años",null,"20 a 24 años",null,"25 a 29",null,"30 a 34",null,"35 a 39",null,"40 a 44",null,"45 a 49",null,"50 a 54",null,"55 a 59",null,"60 a 64",null,"65 a 69",null,"70 a 74",null,"75 a 79",null,"80 y más"]
[null,"Ambos Sexos","Hombres","Mujeres","Hombres","Mujeres","Hombres","Mujeres","Hombres","Mujeres","Hombres","Mujeres","Hombres","Mujeres","Hombres","Mujeres","Hombres","Mujeres","Hombres","Mujeres","Hombres","Mujeres","Hombres","Mujeres","Hombres","Mujeres","Hombres","Mujeres","Hombres","Mujeres","Hombres","Mujeres"]
["GLICEMIA ALTERADA (= > a 100 mg/dl)",{"$f":"SUM(C34:D34)","v":109},{"$f":"SUM(E34+G34+I34+K34+M34+O34+Q34+S34+U34+W34+Y34+AA34+AC34+AE34)","v":30},{"$f":"SUM(F34+H34+J34+L34+N34+P34+R34+T34+V34+X34+Z34+AB34+AD34+AF34)","v":79},0,0,2,6,0,3,3,11,4,13,4,10,0,4,4,10,4,7,1,5,7,1,0,3,0,1,1,5]
["COLESTEROL ELEVADO (= > 200 mg/dl)",{"$f":"SUM(C35:D35)","v":69},{"$f":"SUM(E35+G35+I35+K35+M35+O35+Q35+S35+U35+W35+Y35+AA35+AC35+AE35)","v":14},{"$f":"SUM(F35+H35+J35+L35+N35+P35+R35+T35+V35+X35+Z35+AB35+AD35+AF35)","v":55},0,0,2,1,1,5,3,5,1,5,1,5,0,7,1,9,2,8,1,3,2,1,0,1,0,3,0,2]
[]
[]
[]
[]
[]
[]
[]
[]
[]
[]
[]
[]
[]
[]
[]
[]
[]
[]
[]
[]
[]
[]
[]
[]
[]
[]
[]
[]
[]
[]
[]
[]
[]
[]
[]
[]
[]
[]
[]
[]
[]
[]
[]
[]
[]
[]
[]
[]
[]
[]
[]
[]
[]
[]
[]
[]
[]
[]
[]
[]
[]
[]
[]
[]
[]
[]
[]
[]
[]
[]
[]
[]
[]
[]
[]
[]
[]
[]
[]
[]
[]
[]
[]
[]
[]
[]
[]
[]
[]
[]
[]
[]
[]
[]
[]
[]
[]
[]
[]
[]
[]
[]
[]
[]
[]
[]
[]
[]
[]
[]
[]
[]
[]
[]
[]
[]
[]
[]
[]
[]
[]
[]
[]
[]
[]
[]
[]
[]
[]
[]
[]
[]
[]
[]
[]
[]
[]
[]
[]
[]
[]
[]
[]
[]
[]
[]
[]
[]
[]
[]
[]
[]
[]
[]
[]
[]
[]
[]
[]
[{"$f":"SUM(B12:B17,B21:B25,B29:B30,B34:B35)","v":1143},{"$f":"SUM(CG7:CM52)","v":0}]

{"sheet":"A03","index":3,"n_rows":256,"n_cols":129,"rows_kept":256,"cut":false,"hidden":false,"merged":[[57,15,59,15],[57,16,59,16],[201,22,202,22],[200,19,200,22],[200,5,200,14],[200,15,201,16],[200,17,201,18],[194,7,194,8],[194,9,194,10],[201,13,201,14],[194,17,194,18],[201,19,202,19],[201,20,202,20],[201,21,202,21],[95,0,95,15],[81,0,81,1],[82,0,83,0],[57,0,59,1],[57,2,58,4],[57,5,57,14],[58,5,58,6],[58,7,58,8],[58,9,58,10],[58,11,58,12],[9,23,9,24],[11,0,11,1],[12,0,13,0],[8,0,10,1],[8,2,9,4],[8,5,8,24],[9,5,9,6],[44,0,44,1],[45,0,45,1],[18,0,18,1],[19,0,22,0],[23,0,34,0],[35,0,36,0],[37,0,39,0],[15,0,17,0],[15,1,17,1],[15,2,16,4],[15,5,15,16],[16,11,16,12],[16,13,16,14],[16,15,16,16],[9,19,9,20],[9,21,9,22],[15,17,17,17],[49,2,50,4],[49,5,49,8],[50,5,50,6],[50,7,50,8],[52,0,52,1],[53,0,53,1],[41,0,43,1],[84,0,85,0],[87,2,87,4],[87,5,87,6],[46,0,46,1],[47,0,47,1],[49,0,51,1],[87,7,87,8],[69,2,70,2],[71,0,71,1],[41,2,42,4],[41,5,41,16],[42,5,42,6],[42,7,42,8],[42,9,42,10],[42,11,42,12],[54,0,54,1],[55,0,55,1],[9,7,9,8],[9,9,9,10],[9,11,9,12],[9,13,9,14],[9,15,9,16],[9,17,9,18],[42,13,42,14],[42,15,42,16],[16,5,16,6],[16,7,16,8],[16,9,16,10],[58,13,58,14],[73,0,73,1],[74,0,74,1],[75,0,75,1],[91,0,91,1],[90,0,90,1],[87,0,88,1],[89,0,89,1],[64,0,64,1],[78,0,78,1],[65,0,65,1],[60,0,60,1],[61,0,61,1],[66,0,66,1],[62,0,62,1],[63,0,63,1],[69,0,70,1],[111,25,111,26],[111,17,111,18],[111,19,111,20],[104,0,104,1],[105,0,105,1],[111,13,111,14],[111,15,111,16],[96,0,96,16],[97,0,99,1],[97,2,98,4],[98,5,98,6],[98,9,98,10],[98,11,98,12],[98,13,98,14],[98,15,98,16],[100,0,100,1],[98,17,98,18],[98,19,98,20],[97,5,97,20],[157,29,157,30],[157,31,157,32],[111,21,111,22],[111,23,111,24],[106,0,108,0],[110,0,112,0],[110,1,112,1],[110,2,111,4],[110,5,110,26],[154,0,154,1],[157,25,157,26],[157,27,157,28],[149,0,153,0],[128,0,132,0],[133,0,137,0],[118,0,122,0],[123,0,127,0],[113,0,117,0],[111,9,111,10],[111,11,111,12],[138,0,142,0],[143,0,143,1],[144,0,148,0],[111,5,111,6],[5,0,5,24],[167,13,167,14],[169,0,171,0],[157,17,157,18],[157,19,157,20],[157,21,157,22],[157,23,157,24],[101,0,101,1],[102,0,102,1],[166,1,168,1],[166,2,167,4],[157,11,157,12],[159,0,161,0],[162,0,164,0],[167,5,167,6],[167,7,167,8],[167,9,167,10],[98,7,98,8],[93,0,93,1],[77,0,77,1],[79,0,79,1],[111,7,111,8],[103,0,103,1],[92,0,92,1],[94,0,94,1],[72,0,72,1],[157,33,157,34],[157,35,157,36],[157,37,157,38],[208,0,208,1],[193,0,195,1],[176,0,178,1],[205,0,206,1],[205,2,205,3],[172,0,174,0],[175,0,175,14],[156,0,158,1],[156,2,157,4],[157,5,157,6],[157,9,157,10],[156,5,156,38],[157,7,157,8],[157,13,157,14],[157,15,157,16],[167,11,167,12],[186,2,187,4],[186,5,186,16],[187,5,187,6],[183,0,183,1],[187,7,187,8],[186,0,188,1],[176,2,177,4],[196,0,197,0],[198,0,198,1],[179,0,179,1],[180,0,180,1],[176,5,176,16],[181,0,181,1],[166,0,168,0],[193,2,194,4],[194,5,194,6],[190,0,190,1],[200,0,202,1],[200,2,201,4],[201,5,201,6],[177,5,177,6],[189,0,189,1],[182,0,182,1],[166,5,166,14],[193,5,193,28],[177,7,177,8],[177,9,177,10],[201,7,201,8],[201,9,201,10],[187,9,187,10],[177,15,177,16],[187,11,187,12],[177,11,177,12],[177,13,177,14],[187,13,187,14],[187,15,187,16],[191,0,191,1],[215,0,215,1],[216,0,216,1],[217,0,217,1],[218,0,218,1],[219,0,219,1],[209,0,209,1],[194,13,194,14],[194,15,194,16],[201,11,201,12],[210,0,210,1],[207,0,207,1],[203,0,203,1],[194,11,194,12],[193,29,194,30],[194,19,194,20],[194,21,194,22],[194,23,194,24],[194,25,194,26],[194,27,194,28],[212,0,214,1],[212,2,212,4],[213,2,214,2],[213,3,213,4]]}
["SERVICIO DE SALUD"]
[{"$f":"CONCATENATE(\"COMUNA: \",NOMBRE!B2,\" - \",\"( \",NOMBRE!C2,NOMBRE!D2,NOMBRE!E2,NOMBRE!F2,NOMBRE!G2,\" )\")","v":"COMUNA: CALLE LARGA - ( 05302 )"}]
[{"$f":"CONCATENATE(\"ESTABLECIMIENTO/ESTRATEGIA: \",NOMBRE!B3,\" - \",\"( \",NOMBRE!C3,NOMBRE!D3,NOMBRE!E3,NOMBRE!F3,NOMBRE!G3,NOMBRE!H3,\" )\")","v":"ESTABLECIMIENTO/ESTRATEGIA: DR. JOSE JOAQUIN AGUIRRE CAMPOS - ( 108308 )"}]
[{"$f":"CONCATENATE(\"MES: \",NOMBRE!B6,\" - \",\"( \",NOMBRE!C6,NOMBRE!D6,\" )\")","v":"MES: DICIEMBRE - ( 12 )"}]
[{"$f":"CONCATENATE(\"AÑO: \",NOMBRE!B7)","v":"AÑO: 2022"}]
["REM-A03.   APLICACIÓN Y RESULTADOS DE ESCALAS DE EVALUACIÓN "]
["SECCIÓN A: APLICACIÓN DE INSTRUMENTO Y RESULTADO EN EL NIÑO (A)"]
["SECCIÓN A.1: APLICACIÓN Y RESULTADOS DE PAUTA BREVE"]
["EVALUACIONES POR EDAD DEL NIÑO",null,"TOTAL  ",null,null,"GRUPO DE EDAD"]
[null,null,null,null,null,"Menor de 1 mes",null,"1 mes",null,"2 meses",null,"3 meses",null,"4 meses",null," 5 meses",null,"6 meses",null," 7 - 11 meses",null,"12 - 17 meses",null,"18 - 24 meses"]
[null,null,"Ambos Sexos","Hombres","Mujeres","Hombres","Mujeres","Hombres","Mujeres","Hombres","Mujeres","Hombres","Mujeres","Hombres","Mujeres","Hombres","Mujeres","Hombres","Mujeres","Hombres","Mujeres","Hombres","Mujeres","Hombres","Mujeres"]
["APLICACIÓN PAUTA BREVE",null,{"$f":"SUM(D12+E12)","v":21},{"$f":"SUM(F12+H12+J12+L12+N12+P12+R12+T12+V12+X12)","v":6},{"$f":"SUM(G12+I12+K12+M12+O12+Q12+S12+U12+W12+Y12)","v":15},0,0,0,0,0,0,0,0,3,5,0,0,0,0,0,0,2,8,1,2]
["RESULTADOS","NORMAL",{"$f":"SUM(D13+E13)","v":19},{"$f":"SUM(F13+H13+J13+L13+N13+P13+R13+T13+V13+X13)","v":6},{"$f":"SUM(G13+I13+K13+M13+O13+Q13+S13+U13+W13+Y13)","v":13},0,0,0,0,0,0,0,0,3,5,0,0,0,0,0,0,2,7,1,1,null,null,null,null,null,null,null,null,null,null,null,null,null,null,null,null,null,null,null,null,null,null,null,null,null,null,null,null,null,null,null,null,null,null,null,null,null,null,null,null,null,null,null,null,null,null,null,null,null,null,null,null,null,null,null,null,null,null,null,null,null,null,null,null,null,null,null,null,null,null,null,null,null,null,null,null,null,null,null,null,null,null,null,null,0,0,0,0,0,0,0,0,0,0,0,0,0,0,0,0,0,0,0,0]
[null,"ALTERADO",{"$f":"SUM(D14+E14)","v":2},{"$f":"SUM(F14+H14+J14+L14+N14+P14+R14+T14+V14+X14)","v":0},{"$f":"SUM(G14+I14+K14+M14+O14+Q14+S14+U14+W14+Y14)","v":2},0,0,0,0,0,0,0,0,0,0,0,0,0,0,0,0,0,1,0,1]
["SECCIÓN A.2: RESULTADOS DE LA APLICACIÓN DE ESCALA DE EVALUACIÓN DEL DESARROLLO PSICOMOTOR"]
["ACTIVIDAD","RESULTADO","TOTAL    ",null,null,"POR EDAD",null,null,null,null,null,null,null,null,null,null,null,"MIGRANTES"]
[null,null,null,null,null,"Menor 7 meses",null,"7 - 11 meses",null,"12 - 17 meses",null,"18 - 23 meses",null,"24 - 47 meses",null,"48 - 59 meses"]
[null,null,"Ambos Sexos","Hombres","Mujeres","Hombres","Mujeres","Hombres","Mujeres","Hombres","Mujeres","Hombres","Mujeres","Hombres","Mujeres","Hombres","Mujeres"]
["APLICACIÓN TEST DE DESARROLLO PSICOMOTOR",null,{"$f":"SUM(D19+E19)","v":39},{"$f":"SUM(F19+H19+J19+L19+N19+P19)","v":16},{"$f":"SUM(G19+I19+K19+M19+O19+Q19)","v":23},0,0,8,6,0,1,5,8,3,8,0,0,0,null,null,null,null,null,null,null,null,null,null,null,null,null,null,null,null,null,null,null,null,null,null,null,null,null,null,null,null,null,null,null,null,null,null,null,null,null,null,null,null,null,null,null,null,null,null,null,null,null,null,null,null,null,null,null,null,null,null,null,null,null,null,null,null,null,null,0,0,0,0,0,0,0,0]
["PRIMERA EVALUACIÓN","NORMAL",{"$f":"SUM(D20+E20)","v":34},{"$f":"SUM(F20+H20+J20+L20+N20+P20)","v":14},20,0,0,7,6,0,1,4,7,3,6,0,0,0]
[null,"NORMAL CON REZAGO",{"$f":"SUM(D21+E21)","v":0},0,0,0,0,0,0,0,0,0,0,0,0,0,0,0]
[null,"RIESGO",0,0,0,0,0,0,0,0,0,0,0,0,0,0,0,0]
[null,"RETRASO",1,0,1,0,0,0,0,0,0,0,0,0,1,0,0,0]
["REEVALUACIÓN","NORMAL (desde normal con rezago)",2,1,1,0,0,1,0,0,0,0,0,0,1,0,0,0]
[null,"NORMAL (desde riesgo)",2,1,1,0,0,0,0,0,0,1,1,0,0,0,0,0]
[null,"NORMAL (desde retraso)",0,0,0,0,0,0,0,0,0,0,0,0,0,0,0,0]
[null,"NORMAL CON REZAGO (desde riesgo)",0,0,0,0,0,0,0,0,0,0,0,0,0,0,0,0]
[null,"NORMAL CON REZAGO (desde retraso)",0,0,0,0,0,0,0,0,0,0,0,0,0,0,0,0]
[null,"RIESGO (desde retraso)",{"$f":"SUM(D29:E29)","v":0},0,0,0,0,0,0,0,0,0,0,0,0,0,0,0]
[null,"NORMAL CON REZAGO (desde normal con rezago)",{"$f":"SUM(D30:E30)","v":0},0,0,0,0,0,0,0,0,0,0,0,0,0,0,0]
[null,"RIESGO (desde riesgo)",{"$f":"SUM(D31+E31)","v":0},0,0,0,0,0,0,0,0,0,0,0,0,0,0,0]
[null,"RIESGO (desde normal con rezago)",{"$f":"SUM(D32+E32)","v":0},0,0,0,0,0,0,0,0,0,0,0,0,0,0,0]
[null,"RETRASO (desde retraso)",0,0,0,0,0,0,0,0,0,0,0,0,0,0,0,0]
[null,"RETRASO (desde riesgo)",0,0,0,0,0,0,0,0,0,0,0,0,0,0,0,0]
[null,"RETRASO (desde normal con rezago)",0,0,0,0,0,0,0,0,0,0,0,0,0,0,0,0]
["DERIVADOS A ESPECIALIDAD","RIESGO",0,{"$f":"SUM(F36+H36+J36+L36+N36+P36)","v":0},0,0,0,0,0,0,0,0,0,0,0,0,0,0]
[null,"RETRASO",0,0,0,0,0,0,0,0,0,0,0,0,0,0,0,0]
["TRASLADO DE ESTABLECIMIENTO","NORMAL CON REZAGO",0,0,0,0,0,0,0,0,0,0,0,0,0,0,0,0]
[null,"RIESGO",0,0,0,0,0,0,0,0,0,0,0,0,0,0,0,0]
[null,"RETRASO",0,0,0,0,0,0,0,0,0,0,0,0,0,0,0,0]
["SECCIÓN A.3: NIÑOS Y NIÑAS CON REZAGO, DÉFICIT U OTRA VULNERABILIDAD DERIVADOS A ALGUNA MODALIDAD DE ESTIMULACIÓN EN LA PRIMERA EVALUACIÓN"]
["NIÑO / A",null,"TOTAL    ",null,null,"POR EDAD"]
[null,null,null,null,null,"Menor 7 meses",null,"7 - 11 meses",null,"12 - 17 meses",null,"18 - 23 meses",null,"24 - 47 meses",null,"48 - 59 meses"]
[null,null,"Ambos Sexos","Hombres","Mujeres","Hombres","Mujeres","Hombres","Mujeres","Hombres","Mujeres","Hombres","Mujeres","Hombres","Mujeres","Hombres","Mujeres"]
["NORMAL CON REZAGO",null,{"$f":"SUM(D45+E45)","v":0},{"$f":"SUM(F45+H45+J45+L45+N45+P45)","v":0},0,null,null,null,null,null,null,null,null,null,null,null,null,{"$f":"CA45","v":""},null,null,null,null,null,null,null,null,null,null,null,null,null,null,null,null,null,null,null,null,null,null,null,null,null,null,null,null,null,null,null,null,null,null,null,null,null,null,null,null,null,null,null,null,null,null,null,null,null,null,null,null,null,null,null,null,null,null,null,null,{"$f":"IF(C45<>'A05'!C89,\"* Niños derivados deben ser iguales al ingreso de niños(as) Normal con Rezago a salas de estimulación REM A05 sección F. \",\"\")","v":""}]
["RIESGO",null,{"$f":"SUM(D46+E46)","v":0},0,0,null,null,null,null,null,null,null,null,null,null,null,null,{"$f":"CA46","v":""},null,null,null,null,null,null,null,null,null,null,null,null,null,null,null,null,null,null,null,null,null,null,null,null,null,null,null,null,null,null,null,null,null,null,null,null,null,null,null,null,null,null,null,null,null,null,null,null,null,null,null,null,null,null,null,null,null,null,null,null,{"$f":"IF(C46<>'A05'!C90,\"* Niños derivados deben ser iguales al ingreso de niños(as) con Riesgo a salas de estimulación REM A05 sección F. \",\"\")","v":""}]
["RETRASO",null,{"$f":"SUM(D47+E47)","v":1},0,1,null,null,null,null,null,null,null,null,null,1,null,null,{"$f":"CA47","v":""},null,null,null,null,null,null,null,null,null,null,null,null,null,null,null,null,null,null,null,null,null,null,null,null,null,null,null,null,null,null,null,null,null,null,null,null,null,null,null,null,null,null,null,null,null,null,null,null,null,null,null,null,null,null,null,null,null,null,null,null,{"$f":"IF(C47<>'A05'!C91,\"* Niños derivados deben ser iguales al ingreso de niños(as) con Retraso a salas de estimulación REM A05 sección F. \",\"\")","v":""}]
["OTRA VULNERABILIDAD",null,{"$f":"SUM(D48:E48)","v":0},0,0,null,null,null,null,null,null,null,null,null,null,null,null,{"$f":"CA48","v":""},null,null,null,null,null,null,null,null,null,null,null,null,null,null,null,null,null,null,null,null,null,null,null,null,null,null,null,null,null,null,null,null,null,null,null,null,null,null,null,null,null,null,null,null,null,null,null,null,null,null,null,null,null,null,null,null,null,null,null,null,{"$f":"IF(C48<>'A05'!C92,\"* Niños derivados deben ser iguales al ingreso de niños(as) con Otras Vulnerabilidad a salas de estimulación REM A05 sección F. \",\"\")","v":""}]
["SECCIÓN A.4: RESULTADOS DE LA APLICACIÓN DE PROTOCOLO NEUROSENSORIAL"]
["RESULTADOS",null,"TOTAL  ",null,null,"POR EDAD"]
[null,null,null,null,null,"1 mes",null,"2 meses"]
[null,null,"Ambos Sexos","Hombres","Mujeres","Hombres","Mujeres","Hombres","Mujeres"]
["APLICACIÓN DE PROTOCOLO NEUROSENSORIAL (1-2 MESES)",null,{"$f":"SUM(D53+E53)","v":10},{"$f":"SUM(F53+H53)","v":4},6,{"$f":"SUM(F54:F56)","v":4},{"$f":"SUM(G54:G56)","v":6},{"$f":"SUM(H54:H56)","v":0},{"$f":"SUM(I54:I56)","v":0}]
["NORMAL",null,{"$f":"SUM(D54+E54)","v":10},4,6,4,6,0,0]
["ANORMAL",null,{"$f":"SUM(D55+E55)","v":0},{"$f":"SUM(F55+H55)","v":0},{"$f":"SUM(G55+I55)","v":0},0,0,0,0]
["MUY ANORMAL",null,{"$f":"SUM(D56+E56)","v":0},0,0,0,0,0,0]
["SECCIÓN A.5:  LACTANCIA MATERNA EN MENORES CONTROLADOS"]
["TIPO DE ALIMENTACIÓN",null,"TOTAL",null,null,"SEGÚN CONTROL PROGRAMÁTICO",null,null,null,null,null,null,null,null,null,"Pueblos Originarios","Migrantes"]
[null,null,null,null,null,"Del 1° mes",null,"Del 3° mes",null,"Del 6° mes",null,"Del 12° mes",null,"Del 24° mes",null,null,null,null,null,null,null,null,null,null,null,null,null,null,null,null,null,null,null,null,null,null,null,null,null,null,null,null,null,null,null,null,null,null,null,null,null,null,null,null,null,null,null,null,null,null,null,null,null,null,null,null,null,null,null,null,null,null,null,null,null,null,null,null,null,null,null,null,null,null,0,0,0,0,0]
[null,null,"Ambos Sexos","Hombres","Mujeres","Hombres","Mujeres","Hombres","Mujeres","Hombres","Mujeres","Hombres","Mujeres","Hombres","Mujeres"]
["MENORES CONTROLADOS",null,{"$f":"SUM(D61+E61)","v":32},{"$f":"SUM(F61+H61+J61+L61+N61)","v":12},{"$f":"SUM(G61+I61+K61+M61+O61)","v":20},4,7,1,1,2,6,2,5,3,1,0,0,null,null,null,null,null,null,null,null,null,null,null,null,null,null,null,null,null,null,null,null,null,null,null,null,null,null,null,null,null,null,null,null,null,null,null,null,null,null,null,null,null,null,null,null,null,null,null,null,null,null,null,null,null,null,null,null,null,null,null,null,null,null,null,null,null,null,null,0,0,0,0,0,0,0]
["LACTANCIA MATERNA EXCLUSIVA",null,14,{"$f":"SUM(F62+H62+J62)","v":2},12,2,5,0,1,0,6,null,null,null,null,0,0,null,null,null,null,null,null,null,null,null,null,null,null,null,null,null,null,null,null,null,null,null,null,null,null,null,null,null,null,null,null,null,null,null,null,null,null,null,null,null,null,null,null,null,null,null,null,null,null,null,null,null,null,null,null,null,null,null,null,null,null,null,{"$f":"IF(CG62=1,\" * El Número de menores pertenecientes a Pueblos Originarios NO puede ser mayor al Número Total de Menores. \",\"\")","v":""},{"$f":"IF(CH62=1,\" * El Número de menores pertenecientes a Población Migrante NO puede ser mayor al Número Total de Menores. \",\"\")","v":""},null,null,null,null,{"$f":"IF(P62>$C62,1,0)","v":0},{"$f":"IF(Q62>$C62,1,0)","v":0}]
["LACTANCIA MATERNA / FORMULA LÁCTEA",null,5,3,2,2,2,1,0,0,0,null,null,null,null,0,0,null,null,null,null,null,null,null,null,null,null,null,null,null,null,null,null,null,null,null,null,null,null,null,null,null,null,null,null,null,null,null,null,null,null,null,null,null,null,null,null,null,null,null,null,null,null,null,null,null,null,null,null,null,null,null,null,null,null,null,null,null,{"$f":"IF(CG63=1,\" * El Número de menores pertenecientes a Pueblos Originarios NO puede ser mayor al Número Total de Menores. \",\"\")","v":""},{"$f":"IF(CH63=1,\" * El Número de menores pertenecientes a Población Migrante NO puede ser mayor al Número Total de Menores. \",\"\")","v":""},null,null,null,null,{"$f":"IF(P63>$C63,1,0)","v":0},0]
["FORMULA LÁCTEA",null,2,2,0,0,0,0,0,2,0,null,null,null,null,0,0,null,null,null,null,null,null,null,null,null,null,null,null,null,null,null,null,null,null,null,null,null,null,null,null,null,null,null,null,null,null,null,null,null,null,null,null,null,null,null,null,null,null,null,null,null,null,null,null,null,null,null,null,null,null,null,null,null,null,null,null,null,"","",null,null,null,null,0,0]
["LACTANCIA MATERNA MAS SÓLIDOS",null,0,{"$f":"SUM(J65+L65+N65)","v":0},{"$f":"SUM(K65+M65+O65)","v":0},null,null,null,null,null,null,null,null,null,null,0,0,null,null,null,null,null,null,null,null,null,null,null,null,null,null,null,null,null,null,null,null,null,null,null,null,null,null,null,null,null,null,null,null,null,null,null,null,null,null,null,null,null,null,null,null,null,null,null,null,null,null,null,null,null,null,null,null,null,null,null,null,null,"","",null,null,null,null,0,0]
["LACTANCIA MATERNA/FORMULA LÁCTEA MAS SÓLIDOS",null,0,{"$f":"SUM(J66+L66+N66)","v":0},{"$f":"SUM(K66+M66+O66)","v":0},null,null,null,null,null,null,null,null,null,null,0,0,null,null,null,null,null,null,null,null,null,null,null,null,null,null,null,null,null,null,null,null,null,null,null,null,null,null,null,null,null,null,null,null,null,null,null,null,null,null,null,null,null,null,null,null,null,null,null,null,null,null,null,null,null,null,null,null,null,null,null,null,null,"","",null,null,null,null,0,0]
["FORMULA LÁCTEA MAS SÓLIDOS",null,0,0,{"$f":"SUM(K67+M67+O67)","v":0},null,null,null,null,null,null,null,null,null,null,0,0,null,null,null,null,null,null,null,null,null,null,null,null,null,null,null,null,null,null,null,null,null,null,null,null,null,null,null,null,null,null,null,null,null,null,null,null,null,null,null,null,null,null,null,null,null,null,null,null,null,null,null,null,null,null,null,null,null,null,null,null,null,"","",null,null,null,null,0,0]
["SECCION B: EVALUACIÓN, APLICACIÓN Y RESULTADOS DE ESCALAS EN  LA MUJER"]
["SECCIÓN B.1: EVALUACIÓN DEL ESTADO NUTRICIONAL A MUJERES CONTROLADAS AL OCTAVO MES POST PARTO"]
["ESTADO NUTRICIONAL",null,"TOTAL"]
[]
["TOTAL",null,{"$f":"SUM(C73:C76)","v":0}]
["OBESA"]
["SOBREPESO"]
["NORMAL"]
["BAJO PESO"]
["SECCIÓN B.2: APLICACIÓN DE ESCALA SEGÚN EVALUACIÓN DE RIESGO PSICOSOCIAL ABREVIADA A GESTANTES"]
["TIPO",null,"TOTAL DE APLICACIONES","RIESGO","DERIVADAS A EQUIPO DE CABECERA","VIOLENCIA INTRAFAMILIAR",null,null,null,null,null,null,null,null,null,null,null,null,null,null,null,null,null,null,null,null,null,null,null,null,null,null,null,null,null,null,null,null,null,null,null,null,null,null,null,null,null,null,null,null,null,null,null,null,null,null,null,null,null,null,null,null,null,null,null,null,null,null,null,null,null,null,null,null,null,null,null,null,null,null,null,null,null,null,0]
["EVALUACIÓN AL INGRESO",null,10,4,4,0,{"$f":"CA79&CB79&CC79","v":""},null,null,null,null,null,null,null,null,null,null,null,null,null,null,null,null,null,null,null,null,null,null,null,null,null,null,null,null,null,null,null,null,null,null,null,null,null,null,null,null,null,null,null,null,null,null,null,null,null,null,null,null,null,null,null,null,null,null,null,null,null,null,null,null,null,null,null,null,null,null,null,{"$f":"IF(CG79=1,\"* Las Aplicaciones de EPSA con resultado de Riesgo NO DEBE ser MAYOR que el Total de las aplicaciones. \",\"\")","v":""},{"$f":"IF(CH79=1,\"* Las Aplicaciones de EPSA con resultado de Riesgo NO DEBE ser MENOR que las Derivaciones a equipo de cabecera. \",\"\")","v":""},{"$f":"IF(CI79=1,\"* Las Aplicaciones de EPSA asociadas a Violencia Intrafamiliar NO DEBEN ser MAYOR al Total de las aplicaciones. \",\"\")","v":""},null,null,null,{"$f":"IF(C79<D79,1,0)","v":0},{"$f":"IF(D79<E79,1,0)","v":0},{"$f":"IF(F79>C79,1,0)","v":0}]
["EVALUACIÓN AL TERCER TRIMESTRE",null,0,0,0,0,{"$f":"CA80&CB80&CC80","v":""},null,null,null,null,null,null,null,null,null,null,null,null,null,null,null,null,null,null,null,null,null,null,null,null,null,null,null,null,null,null,null,null,null,null,null,null,null,null,null,null,null,null,null,null,null,null,null,null,null,null,null,null,null,null,null,null,null,null,null,null,null,null,null,null,null,null,null,null,null,null,null,{"$f":"IF(CG80=1,\"* Las Aplicaciones de EPSA con resultado de Riesgo NO DEBE ser MAYOR que el Total de las aplicaciones. \",\"\")","v":""},{"$f":"IF(CH80=1,\"* Las Aplicaciones de EPSA con resultado de Riesgo NO DEBE ser MENOR que las Derivaciones a equipo de cabecera. \",\"\")","v":""},{"$f":"IF(CI80=1,\"* Las Aplicaciones de EPSA asociadas a Violencia Intrafamiliar NO DEBEN ser MAYOR al Total de las aplicaciones. \",\"\")","v":""},null,null,null,{"$f":"IF(C80<D80,1,0)","v":0},{"$f":"IF(D80<E80,1,0)","v":0},{"$f":"IF(F80>C80,1,0)","v":0}]
["SECCIÓN B.3: APLICACIÓN DE ESCALA DE EDIMBURGO A GESTANTES Y MUJERES POST PARTO",null,null,null,null,null,null,null,null,null,null,null,null,null,null,null,null,null,null,null,null,null,null,null,null,null,null,null,null,null,null,null,null,null,null,null,null,null,null,null,null,null,null,null,null,null,null,null,null,null,null,null,null,null,null,null,null,null,null,null,null,null,null,null,null,null,null,null,null,null,null,null,null,null,null,null,null,null,null,null,null,null,null,null,0]
["CONCEPTO",null,"TOTAL DE APLICACIONES","RESULTADOS  \n10 O MÁS PTOS. O RESULTADO DISTINTO DE 0 EN PREG 10 . (PUERPERAS)","RESULTADOS  \n13 O MÁS PTOS O RESULTADO DISTINTO DE 0 EN PREG 10. (GESTANTES)","TOTAL DE CASOS ALTERADOS DERIVADOS A SALUD MENTAL",null,null,null,null,null,null,null,null,null,null,null,null,null,null,null,null,null,null,null,null,null,null,null,null,null,null,null,null,null,null,null,null,null,null,null,null,null,null,null,null,null,null,null,null,null,null,null,null,null,null,null,null,null,null,null,null,null,null,null,null,null,null,null,null,null,null,null,null,null,null,null,null,null,null,null,null,null,null,0]
["EVALUACIÓN A GESTANTES","PRIMERA EVALUACIÓN (2º control prenatal)",10,null,2,2,null,null,null,null,null,null,null,null,null,null,null,null,null,null,null,null,null,null,null,null,null,null,null,null,null,null,null,null,null,null,null,null,null,null,null,null,null,null,null,null,null,null,null,null,null,null,null,null,null,null,null,null,null,null,null,null,null,null,null,null,null,null,null,null,null,null,null,null,null,null,null,null,null,null,null,null,null,null,0]
[null,"REEVALUACIÓN (con puntaje elevado en la primera evaluación)",null,null,null,null,null,null,null,null,null,null,null,null,null,null,null,null,null,null,null,null,null,null,null,null,null,null,null,null,null,null,null,null,null,null,null,null,null,null,null,null,null,null,null,null,null,null,null,null,null,null,null,null,null,null,null,null,null,null,null,null,null,null,null,null,null,null,null,null,null,null,null,null,null,null,null,null,null,null,null,null,null,null,0]
["EVALUACIÓN A MUJERES POST PARTO O SÍNTOMAS DE DEPRESIÓN","A los 2 meses",7,1,null,null,null,null,null,null,null,null,null,null,null,null,null,null,null,null,null,null,null,null,null,null,null,null,null,null,null,null,null,null,null,null,null,null,null,null,null,null,null,null,null,null,null,null,null,null,null,null,null,null,null,null,null,null,null,null,null,null,null,null,null,null,null,null,null,null,null,null,null,null,null,null,null,null,null,null,null,null,null,null,0]
[null,"A los 6 meses",9,3,null,null,null,null,null,null,null,null,null,null,null,null,null,null,null,null,null,null,null,null,null,null,null,null,null,null,null,null,null,null,null,null,null,null,null,null,null,null,null,null,null,null,null,null,null,null,null,null,null,null,null,null,null,null,null,null,null,null,null,null,null,null,null,null,null,null,null,null,null,null,null,null,null,null,null,null,null,null,null,null,0]
["SECCIÓN C: RESULTADOS DE LA EVALUACIÓN DEL ESTADO NUTRICIONAL DEL ADOLESCENTE CON CONTROL SALUD INTEGRAL"]
["ESTADO \nNUTRICIONAL",null,"TOTAL",null,null,"10 A 14",null,"15 A 19"]
[null,null,"Ambos Sexos","Hombres","Mujeres","Hombres","Mujeres","Hombres","Mujeres"]
["TOTAL",null,{"$f":"SUM(C91:C95)","v":3},{"$f":"SUM(D91:D95)","v":1},2,{"$f":"SUM(F91:F95)","v":1},1,0,1]
["NORMAL",null,{"$f":"SUM(D91+E91)","v":3},{"$f":"SUM(F91+H91)","v":1},{"$f":"SUM(G91+I91)","v":2},1,1,0,1]
["BAJO PESO",null,{"$f":"SUM(D92+E92)","v":0},0,0,0,0,0,0]
["SOBREPESO",null,{"$f":"SUM(D93+E93)","v":0},0,0,0,0,0,0]
["OBESOS",null,{"$f":"SUM(D94+E94)","v":0},0,0,0,0,0,0]
["OBESOS SEVEROS",null,{"$f":"SUM(D95+E95)","v":0},0,0,0,0,0,0]
["SECCIÓN D: OTRAS EVALUACIONES, APLICACIONES Y RESULTADOS DE ESCALAS EN TODAS LAS EDADES"]
["SECCIÓN D.1: APLICACIÓN DE TAMIZAJE PARA EVALUAR EL NIVEL DE RIESGO DE CONSUMO DE  ALCOHOL, TABACO Y OTRAS DROGAS"]
["COMPONENTE",null,"TOTAL              ",null,null,"POR EDAD"]
[null,null,null,null,null,"10-14 años",null,"15-19 años",null,"20-24 años",null,"25-44 años",null,"45-64 años",null,"65-69 años",null,"70-79 años",null,"80 y más"]
[null,null,"Ambos Sexos","Hombres","Mujeres","Hombres","Mujeres","Hombres","Mujeres","Hombres","Mujeres","Hombres","Mujeres","Hombres","Mujeres","Hombres","Mujeres","Hombres","Mujeres","Hombres","Mujeres"]
["Nº DE AUDIT (EMP/EMPAM)",null,{"$f":"SUM(D101+E101)","v":285},{"$f":"+H101+J101+L101+N101+P101+R101+T101","v":78},{"$f":"+I101+K101+M101+O101+Q101+S101+U101","v":207},null,null,null,null,8,17,33,109,20,61,9,3,2,10,6,7]
["Nº DE AUDIT APLICADO",null,{"$f":"SUM(D102+E102)","v":2},{"$f":"SUM(J102+L102+N102+P102+R102+T102)","v":2},{"$f":"SUM(K102+M102+O102+Q102+S102+U102)","v":0},null,null,null,null,2]
["Nº DE ASSIST (EMP/EMPAM)",null,0,0,0]
["N° DE ASSIST APLICADO",null,0,0,0]
["N° DE CRAFFT EN CONTROL DE SALUD INTEGRAL DEL ADOLESCENTE ",null,2,{"$f":"+F105+H105","v":0},{"$f":"+G105+I105","v":2},0,1,0,1]
["N° DE CRAFFT APLICADO",null,1,{"$f":"+F106+H106","v":1},{"$f":"+G106+I106","v":0},1,0,0,0]
["RESULTADOS DE EVALUACIÓN","BAJO RIESGO ",281,{"$f":"SUM(F107+H107+J107+L107+N107+P107+R107+T107)","v":76},{"$f":"SUM(G107+I107+K107+M107+O107+Q107+S107+U107)","v":205},0,1,0,1,8,16,31,106,20,61,9,3,2,10,6,7]
[null,"CONSUMO RIESGOSO / INTERMEDIO",3,{"$f":"SUM(F108+H108+J108+L108+N108+P108+R108+T108)","v":1},2,0,0,0,0,1,1,null,1]
[null,"POSIBLE CONSUMO PERJUDICIAL O DEPENDENCIA ",6,4,2,1,0,0,0,1,null,2,2]
["SECCIÓN D.2: RESULTADOS DE LA APLICACIÓN DE INSTRUMENTO DE VALORACIÓN DE DESEMPEÑO EN COMUNIDAD (IVADEC-CIF)"]
["ACTIVIDAD","RESULTADO","TOTAL    ",null,null,"POR EDAD"]
[null,null,null,null,null,"6 -11 meses",null,"12 - 23 meses",null,"2 - 4 años",null,"5 - 9 años",null,"10 a 14 años",null,"15 a 19 años",null,"20 a 24 años",null,"25 a 64 años",null,"65 a 69 años",null,"70 a 79 años",null,"80 y más años"]
[null,null,"Ambos Sexos","Hombres","Mujeres","Hombres","Mujeres","Hombres","Mujeres","Hombres","Mujeres","Hombres","Mujeres","Hombres","Mujeres","Hombres","Mujeres","Hombres","Mujeres","Hombres","Mujeres","Hombres","Mujeres","Hombres","Mujeres","Hombres","Mujeres"]
["ORIGEN FÍSICO","SIN DISCAPACIDAD",{"$f":"SUM(D114+E114)","v":0},{"$f":"SUM(F114+H114+J114+L114+N114+P114+R114+T114+V114+X114+Z114)","v":0},{"$f":"SUM(G114+I114+K114+M114+O114+Q114+S114+U114+W114+Y114+AA114)","v":0}]
[null,"DISCAPACIDAD LEVE",0,{"$f":"SUM(F115+H115+J115+L115+N115+P115+R115+T115+V115+X115+Z115)","v":0},0]
[null,"DISCAPACIDAD MODERADA",0,0,0]
[null,"DISCAPACIDAD SEVERA",0,0,0]
[null,"DISCAPACIDAD PROFUNDA",0,0,0]
["ORIGEN SENSORIAL VISUAL","SIN DISCAPACIDAD",0,0,0]
[null,"DISCAPACIDAD LEVE",0,0,0]
[null,"DISCAPACIDAD MODERADA",0,0,0]
[null,"DISCAPACIDAD SEVERA",0,0,0]
[null,"DISCAPACIDAD PROFUNDA",0,0,0]
["ORIGEN SENSORIAL AUDITIVO","SIN DISCAPACIDAD",0,0,0]
[null,"DISCAPACIDAD LEVE",0,0,0]
[null,"DISCAPACIDAD MODERADA",0,0,0]
[null,"DISCAPACIDAD SEVERA",0,0,0]
[null,"DISCAPACIDAD PROFUNDA",0,0,0]
["ORIGEN MENTAL PSÍQUICO","SIN DISCAPACIDAD",0,0,0]
[null,"DISCAPACIDAD LEVE",0,0,0]
[null,"DISCAPACIDAD MODERADA",0,0,0]
[null,"DISCAPACIDAD SEVERA",0,0,0]
[null,"DISCAPACIDAD PROFUNDA",0,0,0]
["ORIGEN MENTAL INTELECTUAL","SIN DISCAPACIDAD",0,0,0]
[null,"DISCAPACIDAD LEVE",0,0,0]
[null,"DISCAPACIDAD MODERADA",0,0,0]
[null,"DISCAPACIDAD SEVERA",0,0,0]
[null,"DISCAPACIDAD PROFUNDA",0,0,0]
["ORIGEN MÚLTIPLE","SIN DISCAPACIDAD",0,0,0]
[null,"DISCAPACIDAD LEVE",0,0,0]
[null,"DISCAPACIDAD MODERADA",0,0,0]
[null,"DISCAPACIDAD SEVERA",0,0,0]
[null,"DISCAPACIDAD PROFUNDA",0,0,0]
["TOTAL DE EVALUACIONES",null,{"$f":"SUM(C114:C143)","v":0},{"$f":"SUM(D114:D143)","v":0},{"$f":"SUM(E114:E143)","v":0},{"$f":"SUM(F114:F143)","v":0},{"$f":"SUM(G114:G143)","v":0},0,0,0,0,0,0,0,0,0,0,0,0,0,0,0,0,0,0,0,0]
["EVALUACIÓN INGRESO","SIN DISCAPACIDAD",{"$f":"SUM(D145+E145)","v":0},{"$f":"SUM(F145+H145+J145+L145+N145+P145+R145+T145+V145+X145+Z145)","v":0},{"$f":"SUM(G145+I145+K145+M145+O145+Q145+S145+U145+W145+Y145+AA145)","v":0}]
[null,"DISCAPACIDAD LEVE",{"$f":"SUM(D146+E146)","v":0},{"$f":"SUM(F146+H146+J146+L146+N146+P146+R146+T146+V146+X146+Z146)","v":0},0]
[null,"DISCAPACIDAD MODERADA",0,0,0]
[null,"DISCAPACIDAD SEVERA",0,0,0]
[null,"DISCAPACIDAD PROFUNDA",0,0,0]
["EVALUACIÓN EGRESO","SIN DISCAPACIDAD",0,0,0]
[null,"DISCAPACIDAD LEVE",0,0,0]
[null,"DISCAPACIDAD MODERADA",0,0,0]
[null,"DISCAPACIDAD SEVERA",0,0,0]
[null,"DISCAPACIDAD PROFUNDA",0,0,0]
["TOTAL DE EVALUACIONES",null,{"$f":"SUM(C145:C154)","v":0},{"$f":"SUM(D145:D154)","v":0},{"$f":"SUM(E145:E154)","v":0},{"$f":"SUM(F145:F154)","v":0},{"$f":"SUM(G145:G154)","v":0},0,0,0,0,0,0,0,0,0,0,0,0,0,0,0,0,0,0,0,0]
["SECCION D.3: APLICACIÓN Y RESULTADO DE PAUTA DE EVALUACIÓN Y SALUD MENTAL"]
["RESULTADOS",null,"TOTAL",null,null,"POR EDAD"]
[null,null,null,null,null,"0 a 4 años",null,"5 a 9 años",null,"10 a 14 años",null,"15 a 19 años",null,"20 a 24 años",null,"25 a 29 años",null,"30 a 34 años",null,"35 a 39 años",null,"40 a 44 años",null,"45 a 49 años",null,"50 a 54 años",null,"55 a 59 años",null,"60 a 64 años",null,"65 a 69 años",null,"70 a 74 años",null,"75 a 79 años",null,"80 y más años"]
[null,null,"Ambos Sexos","Hombres","Mujeres","Hombres","Mujeres","Hombres","Mujeres","Hombres","Mujeres","Hombres","Mujeres","Hombres","Mujeres","Hombres","Mujeres","Hombres","Mujeres","Hombres","Mujeres","Hombres","Mujeres","Hombres","Mujeres","Hombres","Mujeres","Hombres","Mujeres","Hombres","Mujeres","Hombres","Mujeres","Hombres","Mujeres","Hombres","Mujeres","Hombres","Mujeres"]
["EVALUACION AL INGRESO","BAJO",{"$f":"SUM(D160+E160)","v":9},{"$f":"SUM(F160+H160+J160+L160+N160+P160+R160+T160+V160+X160+Z160+AB160+AD160+AF160+AH160+AJ160+AL160)","v":5},{"$f":"SUM(G160+I160+K160+M160+O160+Q160+S160+U160+W160+Y160+AA160+AC160+AE160+AG160+AI160+AK160+AM160)","v":4},0,0,0,0,1,2,0,1,1,0,0,0,0,0,1,0,0,0,0,0,1,1,1,0,0,0,0,0,0,0,0,0,0,0]
[null,"MEDIO",6,3,3,0,0,0,0,0,0,0,0,0,0,0,0,1,1,0,0,0,0,0,2,0,0,0,0,0,0,1,0,0,0,1,0,0,0]
[null,"ALTO",13,1,12,0,0,0,0,0,1,0,2,0,1,0,1,0,1,0,0,0,0,1,3,0,0,0,2,0,0,0,1,0,0,0,0,0,0]
["EVALUACION AL EGRESO","BAJO",1,0,1,0,0,0,0,0,0,0,0,0,0,0,0,0,0,0,0,0,0,0,1,0,0,0,0,0,0,0,0,0,0,0,0,0,0]
[null,"MEDIO",0,0,0,0,0,0,0,0,0,0,0,0,0,0,0,0,0,0,0,0,0,0,0,0,0,0,0,0,0,0,0,0,0,0,0,0,0]
[null,"ALTO",0,{"$f":"SUM(F165+H165+J165+L165+N165+P165+R165+T165+V165+X165+Z165+AB165+AD165+AF165+AH165+AJ165+AL165)","v":0},{"$f":"SUM(G165+I165+K165+M165+O165+Q165+S165+U165+W165+Y165+AA165+AC165+AE165+AG165+AI165+AK165+AM165)","v":0},0,0,0,0,0,0,0,0,0,0,0,0,0,0,0,0,0,0,0,0,0,0,0,0,0,0,0,0,0,0,0,0,0,0]
["SECCIÓN D.4: RESULTADO DE APLICACIÓN DE CONDICIÓN DE FUNCIONALIDAD AL EGRESO PROGRAMA \"MÁS ADULTOS MAYORES AUTOVALENTES\""]
["ACTIVIDAD","RESULTADO","TOTAL",null,null,"POR EDAD"]
[null,null,null,null,null,"60 a 64 años",null,"65 a 69 años",null,"70 a 74 años",null,"75 a 79 años",null,"80 y más años"]
[null,null,"Ambos Sexos","Hombres","Mujeres","Hombres","Mujeres","Hombres","Mujeres","Hombres","Mujeres","Hombres","Mujeres","Hombres","Mujeres"]
["TIMED UP AND GO","MEJORA",{"$f":"SUM(D170+E170)","v":15},{"$f":"SUM(F170+H170+J170+L170+N170)","v":5},{"$f":"SUM(G170+I170+K170+M170+O170)","v":10},2,3,1,0,0,1,0,3,2,3,null,null,null,null,null,null,null,null,null,null,null,null,null,null,null,null,null,null,null,null,null,null,null,null,null,null,null,null,null,null,null,null,null,null,null,null,null,null,null,null,null,null,null,null,null,null,null,null,null,null,null,null,null,null,null,null,null,null,null,null,null,null,null,null,null,null,null,null,null,0,0]
[null,"MANTIENE",73,16,57,1,15,4,13,6,14,2,10,3,5,null,null,null,null,null,null,null,null,null,null,null,null,null,null,null,null,null,null,null,null,null,null,null,null,null,null,null,null,null,null,null,null,null,null,null,null,null,null,null,null,null,null,null,null,null,null,null,null,null,null,null,null,null,null,null,null,null,null,null,null,null,null,null,null,null,null,null,null,null,0,0]
[null,"DISMINUYE",0,0,0,0,0,0,0,0,0,0,0,0,0,null,null,null,null,null,null,null,null,null,null,null,null,null,null,null,null,null,null,null,null,null,null,null,null,null,null,null,null,null,null,null,null,null,null,null,null,null,null,null,null,null,null,null,null,null,null,null,null,null,null,null,null,null,null,null,null,null,null,null,null,null,null,null,null,null,null,null,null,null,0,0]
["CUESTIONARIO ","MEJORA",18,6,12,0,4,1,2,3,5,1,0,1,1,null,null,null,null,null,null,null,null,null,null,null,null,null,null,null,null,null,null,null,null,null,null,null,null,null,null,null,null,null,null,null,null,null,null,null,null,null,null,null,null,null,null,null,null,null,null,null,null,null,null,null,null,null,null,null,null,null,null,null,null,null,null,null,null,null,null,null,null,null,0,0]
[null,"MANTIENE",70,15,55,3,14,4,11,3,10,1,13,4,7,null,null,null,null,null,null,null,null,null,null,null,null,null,null,null,null,null,null,null,null,null,null,null,null,null,null,null,null,null,null,null,null,null,null,null,null,null,null,null,null,null,null,null,null,null,null,null,null,null,null,null,null,null,null,null,null,null,null,null,null,null,null,null,null,null,null,null,null,null,0,0]
[null,"DISMINUYE",0,0,{"$f":"SUM(G175+I175+K175+M175+O175)","v":0},0,0,0,0,0,0,0,0,0,0]
["SECCIÓN D.5: VARIACIÓN  DE RESULTADO DE APLICACIÓN DEL ÍNDICE DE BARTHEL ENTRE EL INGRESO Y EGRESO HOSPITALARIO"]
["ÍNDICE DE BARTHEL",null,"TOTAL",null,null,"POR EDAD"]
[null,null,null,null,null,"65 a 69 años",null,"70 a 74 años",null,"75 a 79 años",null,"80 a 84 años",null,"85 a 89 años",null,"90 y mas años"]
[null,null,"Ambos Sexos","Hombres","Mujeres","Hombres","Mujeres","Hombres","Mujeres","Hombres","Mujeres","Hombres","Mujeres","Hombres","Mujeres","Hombres","Mujeres"]
["MEJORA PUNTUACIÓN ÍNDICE DE BARTHEL",null,{"$f":"SUM(D180+E180)","v":0},{"$f":"SUM(F180+H180+J180+L180+N180+P180)","v":0},0]
["MANTIENE PUNTUACIÓN ÍNDICE DE BARTHEL",null,{"$f":"SUM(D181+E181)","v":0},0,0]
["DISMINUYE PUNTUACIÓN ÍNDICE DE BARTHEL",null,{"$f":"SUM(D182+E182)","v":0},0,0]
["PUNTUACIÓN ÍNDICE DE BARTHEL BASAL "]
["TOTAL",null,{"$f":"SUM(C180:C182)","v":0},{"$f":"SUM(D180:D182)","v":0},{"$f":"SUM(E180:E182)","v":0},{"$f":"SUM(F180:F182)","v":0},{"$f":"SUM(G180:G182)","v":0},0,0,0,0,0,0,0,0,0,0]
["** * El resultado que se consigna es la comparacion del indice de Barthel aplicado al Egreso de la Hospitalización"]
["SECCIÓN D.6: APLICACIÓN DE ESCALA ZARIT ABREVIADO EN CUIDADORES DE PERSONAS CON DEPENDENCIA SEVERA"]
["ESCALA DE SOBRECARGA DEL CUIDADOR \"ZARIT ABREVIADO\"",null,"TOTAL              ",null,null,"POR EDAD"]
[null,null,null,null,null,"10-14 años",null,"15-19 años",null,"20-24 años",null,"25-44 años",null,"45-64 años",null,"65 o más"]
[null,null,"Ambos Sexos","Hombres","Mujeres","Hombres","Mujeres","Hombres","Mujeres","Hombres","Mujeres","Hombres","Mujeres","Hombres","Mujeres","Hombres","Mujeres"]
["CUIDADORA (O) CON SOBRECARGA INTENSA",null,{"$f":"SUM(D190+E190)","v":0},{"$f":"SUM(F190+H190+J190+L190+N190+P190)","v":0},{"$f":"SUM(G190+I190+K190+M190+O190+Q190)","v":0},0,0,0,0,0,0,0,0,0,0,0,0]
["CUIDADORA (O) SIN SOBRECARGA INTENSA",null,{"$f":"SUM(D191+E191)","v":1},{"$f":"SUM(F191+H191+J191+L191+N191+P191)","v":0},1,0,0,0,0,0,0,0,0,0,1,0,0]
["TOTAL CUIDADORES EVALUADOS",null,{"$f":"SUM(D192+E192)","v":1},{"$f":"SUM(F192+H192+J192+L192+N192+P192)","v":0},{"$f":"SUM(G192+I192+K192+M192+O192+Q192)","v":1},{"$f":"SUM(F190:F191)","v":0},0,0,0,0,0,0,0,0,1,0,0]
["SECCIÓN D.7: APLICACIÓN Y RESULTADOS DE PAUTA DE EVALUACIÓN CON ENFOQUE DE RIESGO ODONTOLÓGICO (CERO)"]
["PAUTA CERO ",null,"TOTAL",null,null,"POR EDAD",null,null,null,null,null,null,null,null,null,null,null,null,null,null,null,null,null,null,null,null,null,null,null,"NIÑOS, NIÑAS Y ADOLESCENTES RED SENAME"]
[null,null,null,null,null,"<1 año",null,"1 año",null,"2 años",null,"3 años ",null,"4 años",null,"5 años",null,"6 años",null,"7 años",null,"8 años",null,"9 años",null,"10-14 años",null,"15-19 años"]
[null,null,"Ambos sexos","Hombres","Mujeres","Hombres","Mujeres","Hombres","Mujeres","Hombres","Mujeres","Hombres","Mujeres","Hombres","Mujeres","Hombres","Mujeres","Hombres","Mujeres","Hombres","Mujeres","Hombres","Mujeres","Hombres","Mujeres","Hombres","Mujeres","Hombres","Mujeres","Hombres","Mujeres"]
["EVALUACIÓN DE RIESGO","BAJO RIESGO ",{"$f":"SUM(D197+E197)","v":7},{"$f":"SUM(F197+H197+J197+L197+N197+P197+R197+T197+V197+X197+Z197+AB197)","v":4},{"$f":"SUM(G197+I197+K197+M197+O197+Q197+S197+U197+W197+Y197+AA197+AC197)","v":3},0,2,0,0,0,1,1,0,1,0,null,null,1,0,0,0,1,0,0,0,0,0,0,0,0,0,null,null,null,null,null,null,null,null,null,null,null,null,null,null,null,null,null,null,null,null,null,null,null,null,null,null,null,null,null,null,null,null,null,null,null,null,null,null,null,null,null,null,null,null,null,null,null,null,null,null,null,null,null,0,0,0,0]
[null,"ALTO RIESGO",{"$f":"SUM(D198+E198)","v":4},{"$f":"SUM(F198+H198+J198+L198+N198+P198+R198+T198+V198+X198+Z198+AB198)","v":2},{"$f":"SUM(G198+I198+K198+M198+O198+Q198+S198+U198+W198+Y198+AA198+AC198)","v":2},1,0,0,1,0,0,0,0,0,0,null,1,1,0,0,0,0,0,0,0,0,0,0,0,0,0,null,null,null,null,null,null,null,null,null,null,null,null,null,null,null,null,null,null,null,null,null,null,null,null,null,null,null,null,null,null,null,null,null,null,null,null,null,null,null,null,null,null,null,null,null,null,null,null,null,null,null,null,null,0,0,0,0]
["TOTAL ",null,{"$f":"SUM(D199+E199)","v":11},{"$f":"SUM(D197+D198)","v":6},{"$f":"SUM(E197+E198)","v":5},{"$f":"SUM(F197+F198)","v":1},{"$f":"SUM(G197+G198)","v":2},0,1,0,1,1,0,1,0,0,1,2,0,0,0,1,0,0,0,0,0,0,0,{"$f":"SUM(AD197+AD198)","v":0},{"$f":"SUM(AE197+AE198)","v":0}]
["SECCION E: APLICACIÓN DE PAUTA DETECCIÓN DE FACTORES DE RIESGO PSICOSOCIAL INFANTIL"]
["EVALUACIÓN",null,"TOTAL",null,null,"POR EDAD",null,null,null,null,null,null,null,null,null,"Pueblo originarios",null,"Migrantes",null,"DERIVACIÓN"]
[null,null,null,null,null,"Menor 7 meses",null,"7 - 11 meses",null,"12 - 23 meses",null,"24- 48 meses",null,"5 A 9 AÑOS",null,null,null,null,null,"Riesgo","Derivadas a equipos de cabecera","derivada a MADI  0  4 años","Derivado a Salud Mental 5 a 9 años"]
[null,null,"Ambos sexos","Hombres","Mujeres","Hombres","Mujeres","Hombres","Mujeres","Hombres","Mujeres","Hombres","Mujeres","Hombres","Mujeres","Hombres","Mujeres","Hombres","Mujeres"]
["ESCALA DE  RIESGO PSICOSOCIAL EN CONTROL DE SALUD INFANTIL",null,{"$f":"SUM(D204+E204)","v":0},{"$f":"SUM(F204+H204+J204+L204+N204)","v":0},{"$f":"SUM(G204+I204+K204+M204+O204)","v":0},null,null,null,null,null,null,null,null,null,null,null,null,null,null,null,null,null,null,null,null,null,null,null,null,null,null,null,null,null,null,null,null,null,null,null,null,null,null,null,null,null,null,null,null,null,null,null,null,null,null,null,null,null,null,null,null,null,null,null,null,null,null,null,null,null,null,null,null,null,null,null,null,null,null,null,null,null,null,null,0,0,0,0,0,0]
["SECCIÓN F: TAMIZAJE TRASTORNO ESPECTRO AUTISTA  (MCHAT) "]
["EVALUACIÓN",null,"18 - 23 meses"]
[null,null,"Hombres","Mujeres"]
["Niños/as con Control a los 18 meses",null,5,8]
["Niños/as con alteración de área Lenguaje y/o Social en Control de los 18 meses",null,0,0]
["Niños/as con Tamizaje Trastorno Espectro Autista (MCHAT) realizado   con alteración del área de lenguaje y/o Social en el control de los 18 meses",null,0,0]
["Niños/as con Tamizaje Trastorno Espectro Autista (MCHAT) alterado y  con alteración del área de lenguaje y/o Social en el control ",null,0,0]
["SECCIÓN G: APLICACIÓN ESCALA MRS EN MUJERES EN EDAD DE CLIMATERIO"]
["\nTOTAL DE APLICACIONES SEGÚN AREA DE AFECTACIÓN \n",null,"Momento y condiciones de de aplicación "]
[null,null,"Ingreso ","MRS Control"]
[null,null,null,"Control sin THM","Control con THM"]
["TOTAL APLICACIONES  ",null,6,4,0]
["TOTAL MRS ALTO",null,4,3,0]
["AFECTACIÓN PREDOMINIO SOMÁTICO ",null,4,3,0]
["AFECTACIÓN PREDOMINIO PSICOLÓGICO",null,5,2,0]
["AFECTACIÓN PREDOMINIO UROGENITAL ",null,4,3,0]
[]
[]
[]
[]
[]
[]
[]
[]
[]
[]
[]
[]
[]
[]
[]
[]
[]
[]
[]
[]
[]
[]
[]
[]
[]
[]
[]
[]
[]
[]
[]
[]
[]
[]
[]
[{"$f":"SUM(F12:Y14,F19:R40,F45:Q48,F54:I56,F61:O67,C73:C76,C80:E80,C83:E86,F91:I95,F102:Q109,F114:AA143,F145:AA154,F160:AM165,F170:O175,F180:Q182,F190:Q191,F197:S198,F204:W204,C208:D211)","v":718},{"$f":"SUM(DF13:DY13,CG19:CN211)","v":0}]

{"sheet":"A04","index":4,"n_rows":206,"n_cols":88,"rows_kept":206,"cut":false,"hidden":false,"merged":[[131,5,131,38],[131,39,133,39],[131,40,133,40],[131,4,133,4],[131,3,133,3],[131,2,133,2],[131,1,133,1],[131,0,133,0],[107,12,108,12],[120,15,122,15],[120,16,122,16],[120,5,120,14],[123,0,125,0],[126,0,129,0],[114,38,114,39],[120,0,122,1],[120,2,121,4],[121,5,121,6],[121,7,121,8],[121,9,121,10],[121,11,121,12],[121,13,121,14],[114,26,114,27],[114,28,114,29],[114,30,114,31],[114,32,114,33],[114,34,114,35],[114,36,114,37],[113,0,115,0],[113,1,114,3],[107,2,107,11],[113,40,115,40],[113,41,115,41],[114,4,114,5],[114,6,114,7],[114,8,114,9],[114,10,114,11],[114,12,114,13],[114,14,114,15],[114,16,114,17],[114,18,114,19],[113,4,113,39],[114,20,114,21],[114,22,114,23],[114,24,114,25],[98,0,98,5],[99,0,101,0],[82,0,83,0],[86,0,87,0],[86,1,87,1],[86,2,87,2],[86,3,87,3],[99,1,100,4],[99,5,100,8],[99,9,101,9],[99,10,100,11],[107,0,108,0],[107,1,108,1],[78,36,80,36],[79,5,79,6],[79,7,79,8],[79,9,79,10],[79,11,79,12],[79,13,79,14],[79,15,79,16],[79,17,79,18],[79,19,79,20],[79,21,79,22],[78,0,80,0],[78,1,80,1],[78,2,79,4],[78,5,78,34],[78,35,80,35],[79,23,79,24],[79,25,79,26],[79,27,79,28],[79,29,79,30],[79,31,79,32],[79,33,79,34],[74,0,75,0],[74,1,75,1],[74,2,75,2],[74,3,75,3],[51,16,52,16],[50,0,52,0],[50,1,51,3],[50,4,50,21],[77,0,77,6],[51,10,52,10],[51,11,52,11],[51,12,52,12],[51,13,52,13],[51,14,52,14],[51,15,52,15],[60,0,61,0],[60,1,60,2],[60,3,60,4],[60,5,60,6],[51,9,52,9],[51,17,52,17],[51,18,52,18],[51,19,52,19],[45,0,46,0],[45,1,46,1],[45,2,45,5],[45,6,45,9],[45,11,45,17],[28,26,28,27],[28,28,28,29],[28,30,28,31],[28,32,28,33],[27,42,29,42],[27,43,29,43],[27,44,29,44],[28,4,28,5],[28,6,28,7],[28,8,28,9],[28,10,28,11],[28,12,28,13],[28,14,28,15],[28,16,28,17],[27,4,27,39],[27,40,29,40],[27,41,29,41],[28,18,28,19],[28,20,28,21],[28,22,28,23],[28,24,28,25],[28,38,28,39],[28,34,28,35],[28,36,28,37],[8,42,10,42],[8,43,10,43],[8,44,10,44],[9,38,9,39],[9,26,9,27],[9,28,9,29],[9,30,9,31],[9,32,9,33],[9,34,9,35],[9,36,9,37],[51,6,52,6],[51,7,52,7],[51,8,52,8],[8,40,10,40],[8,41,10,41],[9,18,9,19],[9,20,9,21],[9,22,9,23],[9,24,9,25],[51,20,52,20],[51,21,52,21],[65,1,65,2],[65,3,65,4],[65,0,66,0],[99,12,100,13],[86,4,87,4],[86,5,87,5],[88,0,88,5],[94,0,94,5],[5,0,5,22],[8,0,10,0],[8,1,9,3],[8,4,8,39],[9,4,9,5],[9,6,9,7],[9,8,9,9],[9,10,9,11],[9,12,9,13],[9,14,9,15],[9,16,9,17],[27,0,29,0],[27,1,28,3],[50,22,52,22],[51,4,52,4],[51,5,52,5],[142,0,147,0],[149,0,150,0],[149,1,150,1],[149,19,150,19],[149,20,150,20],[132,31,132,32],[132,33,132,34],[132,35,132,36],[132,37,132,38],[134,0,141,0],[132,13,132,14],[132,15,132,16],[132,17,132,18],[132,19,132,20],[132,21,132,22],[132,23,132,24],[132,25,132,26],[132,27,132,28],[132,29,132,30],[132,5,132,6],[132,7,132,8],[132,9,132,10],[132,11,132,12],[149,2,149,18]]}
["SERVICIO DE SALUD"]
[{"$f":"CONCATENATE(\"COMUNA: \",NOMBRE!B2,\" - \",\"( \",NOMBRE!C2,NOMBRE!D2,NOMBRE!E2,NOMBRE!F2,NOMBRE!G2,\" )\")","v":"COMUNA: CALLE LARGA - ( 05302 )"}]
[{"$f":"CONCATENATE(\"ESTABLECIMIENTO/ESTRATEGIA: \",NOMBRE!B3,\" - \",\"( \",NOMBRE!C3,NOMBRE!D3,NOMBRE!E3,NOMBRE!F3,NOMBRE!G3,NOMBRE!H3,\" )\")","v":"ESTABLECIMIENTO/ESTRATEGIA: DR. JOSE JOAQUIN AGUIRRE CAMPOS - ( 108308 )"}]
[{"$f":"CONCATENATE(\"MES: \",NOMBRE!B6,\" - \",\"( \",NOMBRE!C6,NOMBRE!D6,\" )\")","v":"MES: DICIEMBRE - ( 12 )"}]
[{"$f":"CONCATENATE(\"AÑO: \",NOMBRE!B7)","v":"AÑO: 2022"}]
["REM-A04.   CONSULTAS Y OTRAS ATENCIONES EN LA RED"]
[]
["SECCIÓN A: CONSULTAS MÉDICAS "]
["TIPO DE CONSULTA","TOTAL      ",null,null,"POR DE EDAD (en años)",null,null,null,null,null,null,null,null,null,null,null,null,null,null,null,null,null,null,null,null,null,null,null,null,null,null,null,null,null,null,null,null,null,null,null,"Beneficiarios","Pueblos Originarios","Migrantes","Niños, Niñas, Adolescentes y Jóvenes Población SENAME","Por Campaña de Invierno"]
[null,null,null,null,"Menor \nde 1",null,"1 a 4",null,"5 a 9",null,"10 a 14",null,"15 a 19",null,"20 a 24",null,"25 - 29",null,"30 - 34",null,"35 - 39",null,"40 - 44",null,"45 - 49",null,"50 - 54",null,"55 - 59",null,"60 - 64",null,"65 - 69",null,"70 - 74",null,"75 - 79",null,"80 y mas"]
[null,"Ambos Sexos","Hombres","Mujeres","Hombres","Mujeres","Hombres","Mujeres","Hombres","Mujeres","Hombres","Mujeres","Hombres","Mujeres","Hombres","Mujeres","Hombres","Mujeres","Hombres","Mujeres","Hombres","Mujeres","Hombres","Mujeres","Hombres","Mujeres","Hombres","Mujeres","Hombres","Mujeres","Hombres","Mujeres","Hombres","Mujeres","Hombres","Mujeres","Hombres","Mujeres","Hombres","Mujeres"]
["TOTAL",{"$f":"SUM(B13:B26)","v":1195},{"$f":"SUM(C13:C26)","v":480},{"$f":"SUM(D13:D26)","v":715},{"$f":"SUM(E13:E26)","v":25},{"$f":"SUM(F13:F26)","v":18},{"$f":"SUM(G13:G26)","v":46},49,34,40,27,24,25,28,17,27,17,50,21,47,{"$f":"SUM(U13:U26)","v":16},{"$f":"SUM(V13:V26)","v":40},22,64,9,41,24,55,38,54,38,57,36,46,29,23,20,24,36,28,1170,{"$f":"SUM(AP13:AP26)","v":48},{"$f":"SUM(AQ13:AQ26)","v":17},{"$f":"SUM(AR13:AR26)","v":7},{"$f":"SUM(AS13:AS26)","v":0}]
["IRA ALTA",{"$f":"SUM(C13:D13)","v":0},{"$f":"SUM(E13+G13+I13+K13+M13+O13+Q13+S13+U13+W13+Y13+AA13+AC13+AE13+AG13+AI13+AK13+AM13)","v":0},{"$f":"SUM(F13+H13+J13+L13+N13+P13+R13+T13+V13+X13+Z13+AB13+AD13+AF13+AH13+AJ13+AL13+AN13)","v":0},null,null,null,null,null,null,null,null,null,null,null,null,null,null,null,null,null,null,null,null,null,null,null,null,null,null,null,null,null,null,null,null,null,null,null,null,0,0,0,0,0,null,null,null,null,null,null,null,null,null,null,null,null,null,null,null,null,null,null,null,null,null,null,null,null,null,null,null,null,null,null,null,null,null,null,null,null,null,null,null,0,null,0,0]
["SÍNDROME BRONQUIAL OBSTRUCTIVO ",{"$f":"SUM(C14:D14)","v":0},{"$f":"SUM(E14+G14+I14)","v":0},{"$f":"SUM(F14+H14+J14)","v":0},null,null,null,null,null,null,null,null,null,null,null,null,null,null,null,null,null,null,null,null,null,null,null,null,null,null,null,null,null,null,null,null,null,null,null,null,0,0,0,0,0,null,null,null,null,null,null,null,null,null,null,null,null,null,null,null,null,null,null,null,null,null,null,null,null,null,null,null,null,null,null,null,null,null,null,null,null,null,null,null,0,null,0,0]
["NEUMONÍA",2,{"$f":"SUM(E15+G15+I15+K15+M15+O15+Q15+S15+U15+W15+Y15+AA15+AC15+AE15+AG15+AI15+AK15+AM15)","v":1},{"$f":"SUM(F15+H15+J15+L15+N15+P15+R15+T15+V15+X15+Z15+AB15+AD15+AF15+AH15+AJ15+AL15+AN15)","v":1},0,0,0,0,0,0,0,0,0,0,0,0,0,0,0,0,0,0,0,0,0,0,0,0,0,0,0,0,1,0,0,0,0,1,0,0,2,0,0,0,0,null,null,null,null,null,null,null,null,null,null,null,null,null,null,null,null,null,null,null,null,null,null,null,null,null,null,null,null,null,null,null,null,null,null,null,null,null,null,null,0,null,0,0]
["ASMA",0,{"$f":"SUM(I16+K16+M16+O16+Q16+S16+U16+W16+Y16+AA16+AC16+AE16+AG16+AI16+AK16+AM16)","v":0},{"$f":"SUM(J16+L16+N16+P16+R16+T16+V16+X16+Z16+AB16+AD16+AF16+AH16+AJ16+AL16+AN16)","v":0},null,null,null,null,null,null,null,null,null,null,null,null,null,null,null,null,null,null,null,null,null,null,null,null,null,null,null,null,null,null,null,null,null,null,null,null,0,0,0,0,0,null,null,null,null,null,null,null,null,null,null,null,null,null,null,null,null,null,null,null,null,null,null,null,null,null,null,null,null,null,null,null,null,null,null,null,null,null,null,null,0,null,0,0]
["ENFERMEDAD PULMONAR OBSTRUCTIVA CRÓNICA",0,{"$f":"SUM(U17+W17+Y17+AA17+AC17+AE17+AG17+AI17+AK17+AM17)","v":0},{"$f":"SUM(V17+X17+Z17+AB17+AD17+AF17+AH17+AJ17+AL17+AN17)","v":0},null,null,null,null,null,null,null,null,null,null,null,null,null,null,null,null,null,null,null,null,null,null,null,null,null,null,null,null,null,null,null,null,null,null,null,null,0,0,0,0,0,null,null,null,null,null,null,null,null,null,null,null,null,null,null,null,null,null,null,null,null,null,null,null,null,null,null,null,null,null,null,null,null,null,null,null,null,null,null,null,0,null,0,0]
["OTRAS RESPIRATORIAS",64,{"$f":"SUM(E18+G18+I18+K18+M18+O18+Q18+S18+U18+W18+Y18+AA18+AC18+AE18+AG18+AI18+AK18+AM18)","v":34},{"$f":"SUM(F18+H18+J18+L18+N18+P18+R18+T18+V18+X18+Z18+AB18+AD18+AF18+AH18+AJ18+AL18+AN18)","v":30},5,5,9,5,7,5,2,1,1,2,3,2,1,5,0,0,0,1,0,1,0,1,1,0,2,0,1,1,0,1,1,0,0,0,1,0,63,4,5,1,0,null,null,null,null,null,null,null,null,null,null,null,null,null,null,null,null,null,null,null,null,null,null,null,null,null,null,null,null,null,null,null,null,null,null,null,null,null,null,null,0,null,0,0]
["OBSTÉTRICA",{"$f":"SUM(C19:D19)","v":2},null,{"$f":"SUM(L19+N19+P19+R19+T19+V19+X19+Z19+AB19+AD19+AF19)","v":2},null,null,null,null,null,null,null,null,null,null,null,null,null,2,null,null,null,null,null,null,null,null,null,null,null,null,null,null,null,null,null,null,null,null,null,null,1,0,0,0,0,null,null,null,null,null,null,null,null,null,null,null,null,null,null,null,null,null,null,null,null,null,null,null,null,null,null,null,null,null,null,null,null,null,null,null,null,null,null,null,0,null,0,0]
["GINECOLÓGICA",{"$f":"SUM(C20:D20)","v":5},null,{"$f":"SUM(F20+H20+J20+L20+N20+P20+R20+T20+V20+X20+Z20+AB20+AD20+AF20+AH20+AJ20+AL20+AN20)","v":5},null,null,null,null,null,null,null,null,null,null,null,3,null,2,null,null,null,null,null,null,null,null,null,null,null,null,null,null,null,null,null,null,null,null,null,null,5,0,0,0,0,null,null,null,null,null,null,null,null,null,null,null,null,null,null,null,null,null,null,null,null,null,null,null,null,null,null,null,null,null,null,null,null,null,null,null,null,null,null,null,0,null,0,0]
["GINECOLÓGICA  POR INFERTILIDAD",0,{"$f":"SUM(O21+Q21+S21+U21+W21+Y21+AA21)","v":0},{"$f":"SUM(P21+R21+T21+V21+X21+Z21+AB21)","v":0},null,null,null,null,null,null,null,null,null,null,null,null,null,null,null,null,null,null,null,null,null,null,null,null,null,null,null,null,null,null,null,null,null,null,null,null,0,0,0,0,0,null,null,null,null,null,null,null,null,null,null,null,null,null,null,null,null,null,null,null,null,null,null,null,null,null,null,null,null,null,null,null,null,null,null,null,null,null,null,null,0,null,0,0]
["INFECCIÓN TRANSMISIÓN SEXUAL",0,{"$f":"SUM(E22+G22+I22+K22+M22+O22+Q22+S22+U22+W22+Y22+AA22+AC22+AE22+AG22+AI22+AK22+AM22)","v":0},{"$f":"SUM(F22+H22+J22+L22+N22+P22+R22+T22+V22+X22+Z22+AB22+AD22+AF22+AH22+AJ22+AL22+AN22)","v":0},null,null,null,null,null,null,null,null,null,null,null,null,null,null,null,null,null,null,null,null,null,null,null,null,null,null,null,null,null,null,null,null,null,null,null,null,0,0,0,0,0,null,null,null,null,null,null,null,null,null,null,null,null,null,null,null,null,null,null,null,null,null,null,null,null,null,null,null,null,null,null,null,null,null,null,null,null,null,null,null,0,null,0,0]
["VIH-SIDA",0,{"$f":"SUM(E23+G23+I23+K23+M23+O23+Q23+S23+U23+W23+Y23+AA23+AC23+AE23+AG23+AI23+AK23+AM23)","v":0},{"$f":"SUM(F23+H23+J23+L23+N23+P23+R23+T23+V23+X23+Z23+AB23+AD23+AF23+AH23+AJ23+AL23+AN23)","v":0},null,null,null,null,null,null,null,null,null,null,null,null,null,null,null,null,null,null,null,null,null,null,null,null,null,null,null,null,null,null,null,null,null,null,null,null,0,0,0,0,0,null,null,null,null,null,null,null,null,null,null,null,null,null,null,null,null,null,null,null,null,null,null,null,null,null,null,null,null,null,null,null,null,null,null,null,null,null,null,null,0,null,0,0]
["SALUD MENTAL",13,{"$f":"SUM(G24+I24+K24+M24+O24+Q24+S24+U24+W24+Y24+AA24+AC24+AE24+AG24+AI24+AK24+AM24)","v":4},{"$f":"SUM(H24+J24+L24+N24+P24+R24+T24+V24+X24+Z24+AB24+AD24+AF24+AH24+AJ24+AL24+AN24)","v":9},null,null,0,0,0,0,0,0,0,4,0,0,0,0,2,0,0,0,0,2,0,0,0,0,1,2,1,0,0,0,0,0,0,1,0,0,13,0,0,0,0,null,null,null,null,null,null,null,null,null,null,null,null,null,null,null,null,null,null,null,null,null,null,null,null,null,null,null,null,null,null,null,null,null,null,null,null,null,null,null,0,null,0,0]
["CARDIOVASCULAR",62,{"$f":"SUM(M25+O25+Q25+S25+U25+W25+Y25+AA25+AC25+AE25+AG25+AI25+AK25+AM25)","v":21},{"$f":"SUM(N25+P25+R25+T25+V25+X25+Z25+AB25+AD25+AF25+AH25+AJ25+AL25+AN25)","v":41},null,null,null,null,null,null,null,null,0,0,0,0,0,3,0,0,0,4,2,3,1,3,1,12,3,2,6,4,3,3,0,1,0,4,5,2,60,2,1,0,0,null,null,null,null,null,null,null,null,null,null,null,null,null,null,null,null,null,null,null,null,null,null,null,null,null,null,null,null,null,null,null,null,null,null,null,null,null,null,null,0,null,0,0]
["OTRAS MORBILIDADES",1047,{"$f":"SUM(E26+G26+I26+K26+M26+O26+Q26+S26+U26+W26+Y26+AA26+AC26+AE26+AG26+AI26+AK26+AM26)","v":420},{"$f":"SUM(F26+H26+J26+L26+N26+P26+R26+T26+V26+X26+Z26+AB26+AD26+AF26+AH26+AJ26+AL26+AN26)","v":627},20,13,37,44,27,35,25,23,24,22,14,22,16,38,19,47,16,35,20,58,8,37,22,43,32,50,30,52,32,42,28,22,20,18,30,26,1026,42,11,6,0,null,null,null,null,null,null,null,null,null,null,null,null,null,null,null,null,null,null,null,null,null,null,null,null,null,null,null,null,null,null,null,null,null,null,null,null,null,null,null,0,null,0,0]
["SECCIÓN B: CONSULTAS DE PROFESIONALES NO MÉDICOS ",null,null,null,null,null," "]
["PROFESIONAL","TOTAL      ",null,null,"POR DE EDAD (en años)",null,null,null,null,null,null,null,null,null,null,null,null,null,null,null,null,null,null,null,null,null,null,null,null,null,null,null,null,null,null,null,null,null,null,null,"Beneficiarios","Pueblos Originarios","Migrantes","Espacios Amigables","Niños, Niñas, Adolescentes y Jóvenes Población SENAME"]
[null,null,null,null,"Menor \nde 1",null,"1 a 4",null,"5 a 9",null,"10 a 14",null,"15 a 19",null,"20 a 24",null,"25 - 29",null,"30 - 34",null,"35 - 39",null,"40 - 44",null,"45 - 49",null,"50 - 54",null,"55 - 59",null,"60 - 64",null,"65 - 69",null,"70 - 74",null,"75 - 79",null,"80 y mas"]
[null,"Ambos Sexos","Hombres","Mujeres","Hombres","Mujeres","Hombres","Mujeres","Hombres","Mujeres","Hombres","Mujeres","Hombres","Mujeres","Hombres","Mujeres","Hombres","Mujeres","Hombres","Mujeres","Hombres","Mujeres","Hombres","Mujeres","Hombres","Mujeres","Hombres","Mujeres","Hombres","Mujeres","Hombres","Mujeres","Hombres","Mujeres","Hombres","Mujeres","Hombres","Mujeres","Hombres","Mujeres"]
["ENFERMERA /O",{"$f":"SUM(C31:D31)","v":38},{"$f":"SUM(E31+G31+I31+K31+M31+O31+Q31+S31+U31+W31+Y31+AA31+AC31+AE31+AG31+AI31+AK31+AM31)","v":20},{"$f":"SUM(F31+H31+J31+L31+N31+P31+R31+T31+V31+X31+Z31+AB31+AD31+AF31+AH31+AJ31+AL31+AN31)","v":18},1,0,4,0,4,0,0,0,0,0,0,0,0,1,0,1,1,0,0,1,1,2,0,3,1,2,1,3,2,0,0,1,2,1,3,3,38,0,0,0,0,null,null,null,null,null,null,null,null,null,null,null,null,null,null,null,null,null,null,null,null,null,null,null,null,null,null,null,null,null,null,null,null,null,null,null,null,null,null,null,0,0]
["MATRONA /ÓN (MORB.GINECOLÓGICA)",15,{"$f":"SUM(E32+G32+I32+K32+M32+O32+Q32+S32+U32+W32+Y32+AA32+AC32+AE32+AG32+AI32+AK32+AM32)","v":0},15,0,0,0,0,0,0,0,0,0,1,0,0,0,1,0,1,0,1,0,2,0,4,0,2,0,0,0,2,0,0,0,1,0,0,0,0,15,0,0,0,0,null,null,null,null,null,null,null,null,null,null,null,null,null,null,null,null,null,null,null,null,null,null,null,null,null,null,null,null,null,null,null,null,null,null,null,null,null,null,null,0,0]
["MATRONA /ÓN (ITS)",0,0,0,0,0,0,0,0,0,0,0,0,0,0,0,0,0,0,0,0,0,0,0,0,0,0,0,0,0,0,0,0,0,0,0,0,0,0,0,0,0,0,0,0,null,null,null,null,null,null,null,null,null,null,null,null,null,null,null,null,null,null,null,null,null,null,null,null,null,null,null,null,null,null,null,null,null,null,null,null,null,null,null,0,0]
["MATRONA /ÓN (INFERTILIDAD)",1,{"$f":"SUM(O34+Q34+S34+U34+W34+Y34+AA34)","v":0},{"$f":"SUM(P34+R34+T34+V34+X34+Z34+AB34)","v":1},null,null,null,null,null,null,null,null,null,null,0,0,0,0,0,0,0,1,0,0,null,null,null,null,null,null,null,null,null,null,null,null,null,null,null,null,1,0,0,0,0,null,null,null,null,null,null,null,null,null,null,null,null,null,null,null,null,null,null,null,null,null,null,null,null,null,null,null,null,null,null,null,null,null,null,null,null,null,null,null,0,0]
["MATRONA /ÓN (OTRAS CONSULTAS)",{"$f":"SUM(C35:D35)","v":4},{"$f":"SUM(E35+G35+I35+K35+M35+O35+Q35+S35+U35+W35+Y35+AA35+AC35+AE35+AG35+AI35+AK35+AM35)","v":0},{"$f":"SUM(F35+H35+J35+L35+N35+P35+R35+T35+V35+X35+Z35+AB35+AD35+AF35+AH35+AJ35+AL35+AN35)","v":4},0,0,0,0,0,0,0,0,0,0,0,0,0,0,0,2,0,1,0,1,0,0,0,0,0,0,0,0,0,0,0,0,0,0,0,0,4,0,0,0,0,null,null,null,null,null,null,null,null,null,null,null,null,null,null,null,null,null,null,null,null,null,null,null,null,null,null,null,null,null,null,null,null,null,null,null,null,null,null,null,0,0]
["MATRONA /ÓN (SALUD SEXUAL)",{"$f":"SUM(C36:D36)","v":71},{"$f":"SUM(K36+M36+O36+Q36+S36+U36+W36+Y36+AA36+AC36+AE36+AG36+AI36+AK36+AM36)","v":1},{"$f":"SUM(L36+N36+P36+R36+T36+V36+X36+Z36+AB36+AD36+AF36+AH36+AJ36+AL36+AN36)","v":70},null,null,null,null,null,null,0,0,1,1,0,0,0,4,0,3,0,8,0,6,0,3,0,8,0,18,0,11,0,7,0,1,0,0,0,0,71,3,1,0,0,null,null,null,null,null,null,null,null,null,null,null,null,null,null,null,null,null,null,null,null,null,null,null,null,null,null,null,null,null,null,null,null,null,null,null,null,null,null,null,0,0]
["NUTRICIONISTA (OTRAS CONSULTAS)",10,2,8,1,4,0,2,0,0,0,0,0,0,0,1,0,0,0,0,0,0,0,0,0,1,0,0,0,0,0,0,0,0,1,0,0,0,0,0,10,1,1,0,0,null,null,null,null,null,null,null,null,null,null,null,null,null,null,null,null,null,null,null,null,null,null,null,null,null,null,null,null,null,null,null,null,null,null,null,null,null,null,null,0,0]
["NUTRICIONISTA MAULNUTRICIÓN POR EXCESO",{"$f":"SUM(C38:D38)","v":100},{"$f":"SUM(E38+G38+I38+K38+M38+O38+Q38+S38+U38+W38+Y38+AA38+AC38+AE38+AG38+AI38+AK38+AM38)","v":17},{"$f":"SUM(F38+H38+J38+L38+N38+P38+R38+T38+V38+X38+Z38+AB38+AD38+AF38+AH38+AJ38+AL38+AN38)","v":83},0,1,1,3,1,0,1,1,0,0,0,6,1,5,2,12,0,4,1,2,0,9,1,5,1,13,5,12,1,3,2,4,0,2,0,1,98,4,0,13,0]
["NUTRICIONISTA MALNUTRICIÓN POR DÉFICIT",{"$f":"SUM(C39:D39)","v":14},{"$f":"SUM(E39+G39+I39+K39+M39+O39+Q39+S39+U39+W39+Y39+AA39+AC39+AE39+AG39+AI39+AK39+AM39)","v":5},{"$f":"SUM(F39+H39+J39+L39+N39+P39+R39+T39+V39+X39+Z39+AB39+AD39+AF39+AH39+AJ39+AL39+AN39)","v":9},1,3,3,5,0,0,0,0,0,0,0,0,0,0,0,0,0,0,0,1,0,0,0,0,0,0,0,0,0,0,1,0,0,0,0,0,14,0,0,5,0]
["PSICÓLOGO/A",0,0,0,0,0,0,0,0,0,0,0,0,0,0,0,0,0,0,0,0,0,0,0,0,0,0,0,0,0,0,0,0,0,0,0,0,0,0,0,0,0,0,0,0]
["FONOAUDIÓLOGO",7,6,1,0,0,3,0,0,0,0,0,0,0,0,0,0,0,0,0,0,0,0,0,0,0,0,0,0,0,0,0,0,0,2,0,1,0,0,1,7,1,0,0,0]
["TERAPEUTA OCUPACIONAL",0,0,0,0,0,0,0,0,0,0,0,0,0,0,0,0,0,0,0,0,0,0,0,0,0,0,0,0,0,0,0,0,0,0,0,0,0,0,0,0,0,0,0,0]
["TECNÓLOGO MÉDICO (EXCLUYE UAPO)",0,0,0,0,0,0,0,0,0,0,0,0,0,0,0,0,0,0,0,0,0,0,0,0,0,0,0,0,0,0,0,0,0,0,0,0,0,0,0,0,0,0,0,0]
["ASISTENTE SOCIAL",74,29,45,1,0,2,4,1,2,4,4,2,1,1,5,0,9,0,1,1,3,2,1,3,1,3,1,0,3,0,6,1,0,1,0,1,1,6,3,58,1,0,0,5]
["SECCIÓN C: CONSULTAS ANTICONCEPCIÓN DE EMERGENCIA (Incluidas en Sección A y B, respectivamente.)"]
["PROFESIONAL","TOTAL      ","CON ENTREGA ANTICONCEPCIÓN EMERGENCIA",null,null,null,"SIN ENTREGA ANTICONCEPCIÓN EMERGENCIA"]
[null,null,"10 a 14 años","15 a 19 años","20 a 24 años","25 y más años","10 a 14 años","15 a 19 años","20 a 24 años","25 y más años"]
["MÉDICO",{"$f":"SUM(C48:J48)","v":0},0,0,0,0,0,0,0,0]
["MATRONA /ÓN",{"$f":"SUM(C49:J49)","v":2},0,0,0,2,0,0,0,0]
["SECCIÓN D: CONSULTAS EN HORARIO CONTINUADO (Incluidas en las consultas de morbilidad de sección A y B)"]
["TIPO JORNADA","TOTAL",null,null,"POR DE EDAD (en años)",null,null,null,null,null,null,null,null,null,null,null,null,null,null,null,null,null,"Beneficiarios"]
[null,null,null,null,"Menor \nde 1","1 a 4","5 a 9","10 a 14","15 a 19","20 a 24","25 - 29","30 - 34","35 - 39","40 - 44","45 - 49","50 - 54","55 - 59","60 - 64","65 - 69","70 - 74","75 - 79","80 y mas"]
[null,"Ambos Sexos","Hombres","Mujeres"]
["HORARIO CONTINUADO",{"$f":"SUM(B55:B56)","v":105},{"$f":"SUM(C55:C56)","v":30},{"$f":"SUM(D55:D56)","v":75},4,14,10,7,3,5,9,6,6,4,4,4,14,6,5,3,1,0,101,null,null,null,null,null,null,null,null,null,null,null,null,null,null,null,null,null,null,null,null,null,null,null,null,null,null,null,null,null,null,null,null,null,null,null,null,null,null,null,null,null,null,null,null,null,null,null,null,null,null,null,null,null,null,null,null,null,null,null,null,null,0,0,0]
["MÉDICO",{"$f":"SUM(E55:V55)","v":74},30,44,4,14,10,7,2,5,8,5,3,4,2,1,1,2,2,3,1,0,70,null,null,null,null,null,null,null,null,null,null,null,null,null,null,null,null,null,null,null,null,null,null,null,null,null,null,null,null,null,null,null,null,null,null,null,null,null,null,null,null,null,null,null,null,null,null,null,null,null,null,null,null,null,null,null,null,null,null,null,null,null,0,0,0]
["OTROS PROFESIONALES",{"$f":"SUM(E56:V56)","v":31},0,31,0,0,0,0,1,0,1,1,3,0,2,3,13,4,3,0,0,0,31,null,null,null,null,null,null,null,null,null,null,null,null,null,null,null,null,null,null,null,null,null,null,null,null,null,null,null,null,null,null,null,null,null,null,null,null,null,null,null,null,null,null,null,null,null,null,null,null,null,null,null,null,null,null,null,null,null,null,null,null,null,0,0,0]
["SÁBADO, DOMINGO o FESTIVO",{"$f":"SUM(B58:B59)","v":73},{"$f":"SUM(C58:C59)","v":25},48,1,5,3,3,4,1,8,3,0,7,5,2,8,10,2,0,4,7,70,null,null,null,null,null,null,null,null,null,null,null,null,null,null,null,null,null,null,null,null,null,null,null,null,null,null,null,null,null,null,null,null,null,null,null,null,null,null,null,null,null,null,null,null,null,null,null,null,null,null,null,null,null,null,null,null,null,null,null,null,null,0,0,0]
["MÉDICO",{"$f":"SUM(E58:V58)","v":68},24,44,1,5,3,3,4,1,7,3,0,7,5,2,7,8,2,0,4,6,65,null,null,null,null,null,null,null,null,null,null,null,null,null,null,null,null,null,null,null,null,null,null,null,null,null,null,null,null,null,null,null,null,null,null,null,null,null,null,null,null,null,null,null,null,null,null,null,null,null,null,null,null,null,null,null,null,null,null,null,null,null,0,0,0]
["OTROS PROFESIONALES",{"$f":"SUM(E59:V59)","v":5},1,4,0,0,0,0,0,0,1,0,0,0,0,0,1,2,0,0,0,1,5,null,null,null,null,null,null,null,null,null,null,null,null,null,null,null,null,null,null,null,null,null,null,null,null,null,null,null,null,null,null,null,null,null,null,null,null,null,null,null,null,null,null,null,null,null,null,null,null,null,null,null,null,null,null,null,null,null,null,null,null,null,0,0,0]
["SECCIÓN E: CONSULTAS DE MORBILIDAD SOLICITADAS Y RECHAZADAS DENTRO DE LAS 48 HORAS DE SOLICITADA LA ATENCIÓN"]
["TIPO JORNADA","MENOR 5 AÑOS",null,"65 Y MÁS AÑOS",null,"EMBARAZADAS"]
[null,"TOTAL\nATENCIÓN\nSOLICITADA","RECHAZOS","TOTAL\nATENCIÓN\nSOLICITADA","RECHAZOS","TOTAL\nATENCIÓN\nSOLICITADA","RECHAZOS","  "]
["HORARIO NORMAL ",157,0,424,0,7,0,null,null,null,null,null,null,null,null,null,null,null,null,null,null,null,null,null,null,null,null,null,null,null,null,null,null,null,null,null,null,null,null,null,null,null,null,null,null,null,null,null,null,null,null,null,null,null,null,null,null,null,null,null,null,null,null,null,null,null,null,null,null,null,null,null,null,null,null,null,null,null,null,null,null,null,null,null,{"$f":"IF(B63<C63,1,0)","v":0},{"$f":"IF(D63<E63,1,0)","v":0},{"$f":"IF(F63<G63,1,0)","v":0}]
["HORARIO CONTINUADO (Vespertina, Sábado, Domingo o Festivos)",27,0,22,0,2,0,null,null,null,null,null,null,null,null,null,null,null,null,null,null,null,null,null,null,null,null,null,null,null,null,null,null,null,null,null,null,null,null,null,null,null,null,null,null,null,null,null,null,null,null,null,null,null,null,null,null,null,null,null,null,null,null,null,null,null,null,null,null,null,null,null,null,null,null,null,null,null,null,null,null,null,null,null,{"$f":"IF(B64<C64,1,0)","v":0},{"$f":"IF(D64<E64,1,0)","v":0},{"$f":"IF(F64<G64,1,0)","v":0}]
["SECCIÓN E1: INGRESO A REGULACIÓN DE FERTILIDAD SOLICITADOS Y RECHAZADOS DENTRO DE LAS 48 HORAS DE SOLICITADA LA ATENCIÓN "]
["TIPO JORNADA","< 19 años",null,"20 y más"]
[null,"TOTAL ATENCIÓN SOLICITADA","RECHAZOS","TOTAL ATENCIÓN SOLICITADA","RECHAZOS"]
["HORARIO NORMAL "]
["HORARIO CONTINUADO (Vespertina, sábado)"]
["SECCIÓN F: CONSULTA  ABREVIADA"]
["PROFESIONAL","TOTAL"]
["MÉDICO",271]
["MATRONA",93]
["SECCIÓN G: ATENCIONES DE MEDICINA INDÍGENA ASOCIADA AL PROGRAMA ESPECIAL DE SALUD Y PUEBLOS ORIGINARIOS"]
["COMPONENTE","TOTAL","PUEBLOS ORIGINARIOS","PUEBLOS NO ORIGINARIOS"]
[]
["ATENCIONES POR AGENTE MEDICINA INDÍGENA",{"$f":"SUM(C77:D77)","v":44},12,32]
["SECCIÓN H: INTERVENCIÓN INDIVIDUAL DEL USUARIO EN PROGRAMA ELIGE VIDA SANA"]
["PROFESIONAL","PRESTACIÓN","TOTAL",null,null,"POR DE EDAD (en años)",null,null,null,null,null,null,null,null,null,null,null,null,null,null,null,null,null,null,null,null,null,null,null,null,null,null,null,null,null,"Gestantes","Post Parto"]
[null,null,null,null,null,"Menor de 2 años",null,"2 a 4",null,"5 a 9",null,"10 a 14",null,"15 a 18",null,19,null,"20 a 24",null,"25 - 29",null,"30 - 34",null,"35 - 39",null,"40 - 44",null,"45 - 49",null,"50 - 54",null,"55 - 59",null,"60 - 64"]
[null,null,"Ambos Sexos","Hombres","Mujeres","Hombres","Mujeres","Hombres","Mujeres","Hombres","Mujeres","Hombres","Mujeres","Hombres","Mujeres","Hombres","Mujeres","Hombres","Mujeres","Hombres","Mujeres","Hombres","Mujeres","Hombres","Mujeres","Hombres","Mujeres","Hombres","Mujeres","Hombres","Mujeres","Hombres","Mujeres","Hombres","Mujeres"]
["PROFESIONAL DE LA ACTIVIDAD FÍSICA","EVALUACIÓN",{"$f":"SUM(D82:E82)","v":20},{"$f":"SUM(F82,H82,J82,L82,N82,P82,R82,T82,V82,X82,Z82,AB82,AD82,AF82,AH82)","v":6},{"$f":"SUM(G82,I82,K82,M82,O82,Q82,S82,U82,W82,Y82,AA82,AC82,AE82,AG82,AI82)","v":14},0,0,3,5,0,1,3,3,0,1,0,0,0,1,0,0,0,2,0,1,0,0,0,0,0,0,0,0,0,0,0,0,null,null,null,null,null,null,null,null,null,null,null,null,null,null,null,null,null,null,null,null,null,null,null,null,null,null,null,null,null,null,null,null,null,null,null,null,null,null,null,null,null,null,null,null,null,null,null,0,0]
["NUTRICIONISTA","CONSULTA NUTRICIONAL",{"$f":"SUM(D83:E83)","v":0},{"$f":"SUM(F83,H83,J83,L83,N83,P83,R83,T83,V83,X83,Z83,AB83,AD83,AF83,AH83)","v":0},0,0,0,0,0,0,0,0,0,0,0,0,0,0,0,0,0,0,0,0,0,0,0,0,0,0,0,0,0,0,0,0,0,null,null,null,null,null,null,null,null,null,null,null,null,null,null,null,null,null,null,null,null,null,null,null,null,null,null,null,null,null,null,null,null,null,null,null,null,null,null,null,null,null,null,null,null,null,null,null,0,0]
[null,"CONSULTA NUTRICIONAL DE SEGUIMIENTO",{"$f":"SUM(D84:E84)","v":34},13,21,1,0,6,5,2,2,4,2,0,2,0,0,0,1,0,0,0,2,0,0,0,2,0,1,0,2,0,1,0,1,0,0]
["PSICÓLOGO/A","CONSULTA",{"$f":"SUM(D85:E85)","v":23},10,13,1,0,5,2,1,2,3,2,0,2,0,0,0,1,0,0,0,1,0,0,0,0,0,1,0,2,0,0,0,0,0,0]
["SECCIÓN I: SERVICIOS FARMACÉUTICOS"]
["COMPONENTE","TOTAL","ATENCIÓN ABIERTA ","ATENCIÓN CERRADA","SERVICIOS FARMACÉUTICOS REALIZADOS EN ESTABLECIMIENTOS DE SALUD","SERVICIOS FARMACÉUTICOS REALIZADOS EN DOMICILIO"]
[]
["ATENCIÓN FARMACÉUTICA"]
["REVISIÓN DE LA MEDICACIÓN SIN ENTREVISTA",{"$f":"SUM(C90:D90)","v":0},0,0,0,0]
["REVISIÓN DE LA MEDICACIÓN CON ENTREVISTA",{"$f":"SUM(C91:D91)","v":0},0,0,0,0]
["CONCILIACIÓN FARMACÉUTICA",{"$f":"SUM(C92:D92)","v":0},0,0,0,0]
["EDUCACIÓN FARMACÉUTICA",{"$f":"SUM(C93:D93)","v":5},5,0,5,0]
["SEGUIMIENTO FARMACOTERAPÉUTICO",{"$f":"SUM(C94:D94)","v":15},15,0,15,0]
["FARMACOVIGILANCIA"]
["REPORTE REACCIÓN ADVERSA A MEDICAMENTOS",{"$f":"SUM(C96:D96)","v":0}]
["REPORTE FALLA DE CALIDAD",{"$f":"SUM(C97:D97)","v":0}]
["REPORTE DE EVENTOS ADVERSOS ASOCIADOS A MEDICAMENTOS",{"$f":"SUM(C98:D98)","v":0}]
["SECCIÓN J: DESPACHO DE RECETAS DE PACIENTES AMBULATORIOS"]
["TIPO DE RECETA","RECETAS DESPACHADAS",null,null,null,"PRESCRIPCIONES",null,null,null,"RECETAS DESPACHADAS CON OPORTUNIDAD  (Entregado el mismo día)","RECETAS DESPACHADAS A PACIENTES DEL PROGRAMA DE SALUD CARDIOVASCULAR",null,"PRESCRIPCIONES A PACIENTES DEL PROGRAMA DE SALUD CARDIOVASCULAR"]
[]
[null,"DESPACHO TOTAL","DESPACHO\nPARCIAL","EN CENTRO DE SALUD","EN DOMICILIO","EMITIDAS","RECHAZADAS","EN CENTRO DE SALUD","EN DOMICILIO",null,"DESPACHO TOTAL","DESPACHO\nPARCIAL","EMITIDAS","RECHA-\nZADAS"]
["CRÓNICA",4602,11,4045,568,8500,6,7311,1183,4602,1170,0,2223,0,{"$f":"CA103&CB103&CC103&CD103","v":""},null,null,null,null,null,null,null,null,null,null,null,null,null,null,null,null,null,null,null,null,null,null,null,null,null,null,null,null,null,null,null,null,null,null,null,null,null,null,null,null,null,null,null,null,null,null,null,null,null,null,null,null,null,null,null,null,null,null,null,null,null,null,null,{"$f":"IF(CG103=1,\"* Las recetas totales despachadas a pacientes del PSC, deben ser menores o iguales al total de Recetas con Despacho Total. \",\"\")","v":""},{"$f":"IF(CH103=1,\"* Las recetas parciales despachadas a pacientes del PSC, deben ser menores o iguales al total de Recetas con Despacho Parcial. \",\"\")","v":""},{"$f":"IF(CI103=1,\"* Las prescripciones emitidas a pacientes del PSC, deben ser menores o iguales a las Prescripciones totales emitidas. \",\"\")","v":""},{"$f":"IF(CJ103=1,\"* Las prescripciones rechazadas a pacientes del PSC, deben ser menores o iguales a las Prescripciones totales rechazadas. \",\"\")","v":""},null,null,{"$f":"IF(B103<K103,1,0)","v":0},{"$f":"IF(C103<L103,1,0)","v":0},{"$f":"IF(F103<M103,1,0)","v":0},{"$f":"IF(G103<N103,1,0)","v":0}]
["MORBILIDAD",870,15,885,0,1980,0,1980,0,870,null,null,null,null,null,null,null,null,null,null,null,null,null,null,null,null,null,null,null,null,null,null,null,null,null,null,null,null,null,null,null,null,null,null,null,null,null,null,null,null,null,null,null,null,null,null,null,null,null,null,null,null,null,null,null,null,null,null,null,null,null,null,null,null,null,null,null,null,{"$f":"IF(CG104=1,\"* Las recetas totales despachadas a pacientes del PSC, deben ser menores o iguales al total de Recetas con Despacho Total. \",\"\")","v":""},{"$f":"IF(CH104=1,\"* Las recetas parciales despachadas a pacientes del PSC, deben ser menores o iguales al total de Recetas con Despacho Parcial. \",\"\")","v":""},{"$f":"IF(CI104=1,\"* Las prescripciones emitidas a pacientes del PSC, deben ser menores o iguales a las Prescripciones totales emitidas. \",\"\")","v":""},{"$f":"IF(CJ104=1,\"* Las prescripciones rechazadas a pacientes del PSC, deben ser menores o iguales a las Prescripciones totales rechazadas. \",\"\")","v":""},null,null,{"$f":"IF(B104<K104,1,0)","v":0},{"$f":"IF(C104<L104,1,0)","v":0},{"$f":"IF(F104<M104,1,0)","v":0},{"$f":"IF(G104<N104,1,0)","v":0}]
["BAJO CONTROL LEGAL",58,0,56,2,67,0,65,2,58,null,null,null,null,null,null,null,null,null,null,null,null,null,null,null,null,null,null,null,null,null,null,null,null,null,null,null,null,null,null,null,null,null,null,null,null,null,null,null,null,null,null,null,null,null,null,null,null,null,null,null,null,null,null,null,null,null,null,null,null,null,null,null,null,null,null,null,null,{"$f":"IF(CG105=1,\"* Las recetas totales despachadas a pacientes del PSC, deben ser menores o iguales al total de Recetas con Despacho Total. \",\"\")","v":""},{"$f":"IF(CH105=1,\"* Las recetas parciales despachadas a pacientes del PSC, deben ser menores o iguales al total de Recetas con Despacho Parcial. \",\"\")","v":""},{"$f":"IF(CI105=1,\"* Las prescripciones emitidas a pacientes del PSC, deben ser menores o iguales a las Prescripciones totales emitidas. \",\"\")","v":""},{"$f":"IF(CJ105=1,\"* Las prescripciones rechazadas a pacientes del PSC, deben ser menores o iguales a las Prescripciones totales rechazadas. \",\"\")","v":""},null,null,0,0,0,0]
["TOTAL",{"$f":"SUM(B103:B105)","v":5530},{"$f":"SUM(C103:C105)","v":26},{"$f":"SUM(D103:D105)","v":4986},570,{"$f":"SUM(F103:F105)","v":10547},{"$f":"SUM(G103:G105)","v":6},{"$f":"SUM(H103:H105)","v":9356},1185,{"$f":"SUM(J103:J105)","v":5530},{"$f":"+K103","v":1170},{"$f":"+L103","v":0},{"$f":"+M103","v":2223},{"$f":"+N103","v":0}]
["SECCIÓN K: RONDAS POR TIPO Y PROFESIONAL"]
["TIPO DE RONDA","Nº Rondas","TOTAL DE PROFESIONALES QUE PARTICIPARON EN RONDAS, SEGÚN TIPO DE PROFESIONAL",null,null,null,null,null,null,null,null,null,"Compra de Servicio - Nº Traslados profesionales en Ronda"]
[null,null,"Médico","Dentista","Enfermera","Matrona","Nutricionista","Tecnico Paramedico","Asistente Social","Psicólogo","Químico Farmacéutico","Otros"]
["TERRESTRE"]
["AÉREA"]
["MARÍTIMA"]
["SECCIÓN L: CLASIFICACIÓN DE CONSULTA NUTRICIONAL POR GRUPO DE EDAD (Incluidas en sección B)"]
["CLASIFICACIÓN","TOTAL      ",null,null,"POR DE EDAD (en años)",null,null,null,null,null,null,null,null,null,null,null,null,null,null,null,null,null,null,null,null,null,null,null,null,null,null,null,null,null,null,null,null,null,null,null,"Beneficiarios","Embarazadas"]
[null,null,null,null,"Menor \nde 1",null,"1 a 4",null,"5 a 9",null,"10 a 14",null,"15 a 19",null,"20 a 24",null,"25 - 29",null,"30 - 34",null,"35 - 39",null,"40 - 44",null,"45 - 49",null,"50 - 54",null,"55 - 59",null,"60 - 64",null,"65 - 69",null,"70 - 74",null,"75 - 79",null,"80 y mas"]
[null,"Ambos Sexos","Hombres","Mujeres","Hombres","Mujeres","Hombres","Mujeres","Hombres","Mujeres","Hombres","Mujeres","Hombres","Mujeres","Hombres","Mujeres","Hombres","Mujeres","Hombres","Mujeres","Hombres","Mujeres","Hombres","Mujeres","Hombres","Mujeres","Hombres","Mujeres","Hombres","Mujeres","Hombres","Mujeres","Hombres","Mujeres","Hombres","Mujeres","Hombres","Mujeres","Hombres","Mujeres"]
["MAL NUTRICIÓN POR DÉFICIT",{"$f":"SUM(C117:D117)","v":0},{"$f":"SUM(E117+G117+I117+K117+M117+O117+Q117+S117+U117+W117+Y117+AA117+AC117+AE117+AG117+AI117+AK117+AM117)","v":0},{"$f":"SUM(F117+H117+J117+L117+N117+P117+R117+T117+V117+X117+Z117+AB117+AD117+AF117+AH117+AJ117+AL117+AN117)","v":0},0,0,0,0,0,0,0,0,0,0,0,0,0,0,0,0,0,0,0,0,0,0,0,0,0,0,0,0,0,0,0,0,0,0,0,0,0,0,null,null,null,null,null,null,null,null,null,null,null,null,null,null,null,null,null,null,null,null,null,null,null,null,null,null,null,null,null,null,null,null,null,null,null,null,null,null,null,null,null,null,0,0,0]
["MAL NUTRICIÓN POR EXCESO",{"$f":"SUM(C118:D118)","v":0},{"$f":"SUM(E118+G118+I118+K118+M118+O118+Q118+S118+U118+W118+Y118+AA118+AC118+AE118+AG118+AI118+AK118+AM118)","v":0},0,0,0,0,0,0,0,0,0,0,0,0,0,0,0,0,0,0,0,0,0,0,0,0,0,0,0,0,0,0,0,0,0,0,0,0,0,0,0,null,null,null,null,null,null,null,null,null,null,null,null,null,null,null,null,null,null,null,null,null,null,null,null,null,null,null,null,null,null,null,null,null,null,null,null,null,null,null,null,null,null,0,0,0]
["ESTADO NUTRICIONAL NORMAL",{"$f":"SUM(C119:D119)","v":15},4,11,0,1,3,1,0,1,0,0,0,0,0,0,0,0,0,0,0,0,0,0,0,4,0,2,0,0,0,0,0,1,1,0,0,0,0,1,15,1,null,null,null,null,null,null,null,null,null,null,null,null,null,null,null,null,null,null,null,null,null,null,null,null,null,null,null,null,null,null,null,null,null,null,null,null,null,null,null,null,null,null,0,0,0]
["SECCIÓN M: CONSULTA DE LACTANCIA MATERNA EN MENORES CONTROLADOS"]
["TIPOS DE CONSULTA",null,"TOTAL",null,null,"POR EDAD",null,null,null,null,null,null,null,null,null,"Pueblos Originarios","Migrantes"]
[null,null,null,null,null," De 0 a 29 días",null,"De 1 mes a 2 meses 29 días",null,"De 3 meses a 5 meses 29 días",null,"De 6 meses a 11 meses 29 días",null,"De 1 a 2 años"]
[null,null,"Ambos Sexos","Hombres","Mujeres","Hombres","Mujeres","Hombres","Mujeres","Hombres","Mujeres","Hombres","Mujeres","Hombres","Mujeres"]
["CONSULTA DE LACTANCIA","CONSULTA DE ALERTA",{"$f":"SUM(D124:E124)","v":2},{"$f":"SUM(F124+H124+J124+L124+N124)","v":0},{"$f":"SUM(G124+I124+K124+M124+O124)","v":2},0,2,0,0,0,0,0,0,0,0,1,0,null,null,null,null,null,null,null,null,null,null,null,null,null,null,null,null,null,null,null,null,null,null,null,null,null,null,null,null,null,null,null,null,null,null,null,null,null,null,null,null,null,null,null,null,null,null,null,null,null,null,null,null,null,null,null,null,null,null,null,null,null,null,null,null,null,null,null,0,0,0,0]
[null,"CONTROL DE SEGUIMIENTO",{"$f":"SUM(D125:E125)","v":5},{"$f":"SUM(F125+H125+J125+L125+N125)","v":1},4,1,4,0,0,0,0,0,0,0,0,0,0]
[null,"CONSEJERÍA EN LACTANCIA MATERNA",0,{"$f":"SUM(F126+H126+J126+L126+N126)","v":0},0,0,0,0,0,0,0,0,0,0,0,0,0]
["CONSULTA DE LACTANCIA POR PROFESIONAL","MÉDICO",0,0,0,0,0,0,0,0,0,0,0,0,0,0,0]
[null,"MATRÓN/A",0,0,0,0,0,0,0,0,0,0,0,0,0,0,0]
[null,"ENFERMERA",0,0,0,0,0,0,0,0,0,0,0,0,0,0,0]
[null,"NUTRICIONISTA",7,1,6,1,6,0,0,0,0,0,0,0,0,1,0]
["SECCION N: ATENCIONES AMBULATORIAS POR  EL PROGRAMA TUBERCULOSIS"]
["PROFESIONAL","TIPOS DE ATENCION","Ambos Sexos","Hombres","Mujeres","GRUPO DE EDAD (En años)",null,null,null,null,null,null,null,null,null,null,null,null,null,null,null,null,null,null,null,null,null,null,null,null,null,null,null,null,null,null,null,null,null,"Pueblos Originarios","Migrantes"]
[null,null,null,null,null,"0 a 4",null,"5 - 9",null,"10 - 14",null,"15 - 19",null,"20 - 24",null,"25 a 29",null,"30 a 34",null,"35 a 39",null,"40 a 44",null,"45 a 49",null,"50 a 54",null,"55 a 59",null,"60 a 64",null,"65 a 69",null,"70 a 74",null,"75 a 79",null,"80 y más"]
[null,null,null,null,null,"Hombres ","Mujeres","Hombres ","Mujeres","Hombres ","Mujeres","Hombres ","Mujeres","Hombres ","Mujeres","Hombres ","Mujeres","Hombres ","Mujeres","Hombres ","Mujeres","Hombres ","Mujeres","Hombres ","Mujeres","Hombres ","Mujeres","Hombres ","Mujeres","Hombres ","Mujeres","Hombres ","Mujeres","Hombres ","Mujeres","Hombres ","Mujeres","Hombres ","Mujeres"]
["MÉDICO","Ingreso tratamiento",{"$f":"SUM(D135:E135)","v":0},{"$f":"+F135+H135+J135+L135+N135+P135+R135+T135+V135+X135+Z135+AB135+AD135+AF135+AH135+AJ135+AL135","v":0},{"$f":"+G135+I135+K135+M135+O135+Q135+S135+U135+W135+Y135+AA135+AC135+AE135+AG135+AI135+AK135+AM135","v":0},0,0,0,0,0,0,0,0,0,0,0,0,0,0,0,0,0,0,0,0,0,0,0,0,0,0,0,0,0,0,0,0,0,0,0,0,null,null,null,null,null,null,null,null,null,null,null,null,null,null,null,null,null,null,null,null,null,null,null,null,null,null,null,null,null,null,null,null,null,null,null,null,null,null,null,null,null,null,null,0,0,0,0]
[null,"Ingreso quimioprófilaxis",{"$f":"SUM(D136:E136)","v":0},{"$f":"+F136+H136+J136+L136+N136+P136+R136+T136+V136+X136+Z136+AB136+AD136+AF136+AH136+AJ136+AL136","v":0},{"$f":"+G136+I136+K136+M136+O136+Q136+S136+U136+W136+Y136+AA136+AC136+AE136+AG136+AI136+AK136+AM136","v":0},0,0,0,0,0,0,0,0,0,0,0,0,0,0,0,0,0,0,0,0,0,0,0,0,0,0,0,0,0,0,0,0,0,0,0,0]
[null,"Control mensual",{"$f":"SUM(D137:E137)","v":1},0,1,0,0,0,0,0,0,0,0,0,0,0,0,0,0,0,0,0,0,0,0,0,1,0,0,0,0,0,0,0,0,0,0,0,0,0,0]
[null,"Control de seguimiento",0,0,0,0,0,0,0,0,0,0,0,0,0,0,0,0,0,0,0,0,0,0,0,0,0,0,0,0,0,0,0,0,0,0,0,0,0,0,0]
[null,"Consultas espontáneas",0,0,0,0,0,0,0,0,0,0,0,0,0,0,0,0,0,0,0,0,0,0,0,0,0,0,0,0,0,0,0,0,0,0,0,0,0,0,0]
[null,"Rescate",0,0,0,0,0,0,0,0,0,0,0,0,0,0,0,0,0,0,0,0,0,0,0,0,0,0,0,0,0,0,0,0,0,0,0,0,0,0,0]
[null,"Control de los contactos",0,0,0,0,0,0,0,0,0,0,0,0,0,0,0,0,0,0,0,0,0,0,0,0,0,0,0,0,0,0,0,0,0,0,0,0,0,0,0]
[null,"Atención domiciliaria",0,0,0,0,0,0,0,0,0,0,0,0,0,0,0,0,0,0,0,0,0,0,0,0,0,0,0,0,0,0,0,0,0,0,0,0,0,0,0]
["ENFERMERA","Ingreso de tratamiento",0,{"$f":"+F143+H143+J143+L143+N143+P143+R143+T143+V143+X143+Z143+AB143+AD143+AF143+AH143+AJ143+AL143","v":0},0,0,0,0,0,0,0,0,0,0,0,0,0,0,0,0,0,0,0,0,0,0,0,0,0,0,0,0,0,0,0,0,0,0,0,0,0]
[null,"Control mensual",0,0,{"$f":"+G144+I144+K144+M144+O144+Q144+S144+U144+W144+Y144+AA144+AC144+AE144+AG144+AI144+AK144+AM144","v":0},0,0,0,0,0,0,0,0,0,0,0,0,0,0,0,0,0,0,0,0,0,0,0,0,0,0,0,0,0,0,0,0,0,0,0,0]
[null,"Control de seguimiento",{"$f":"SUM(D145:E145)","v":0},0,0,0,0,0,0,0,0,0,0,0,0,0,0,0,0,0,0,0,0,0,0,0,0,0,0,0,0,0,0,0,0,0,0,0,0,0,0]
[null,"Consultas espontáneas",0,{"$f":"+F146+H146+J146+L146+N146+P146+R146+T146+V146+X146+Z146+AB146+AD146+AF146+AH146+AJ146+AL146","v":0},0,0,0,0,0,0,0,0,0,0,0,0,0,0,0,0,0,0,0,0,0,0,0,0,0,0,0,0,0,0,0,0,0,0,0,0,0]
[null,"Rescate",0,0,0,0,0,0,0,0,0,0,0,0,0,0,0,0,0,0,0,0,0,0,0,0,0,0,0,0,0,0,0,0,0,0,0,0,0,0,0]
[null,"Atención domiciliaria",0,0,0,0,0,0,0,0,0,0,0,0,0,0,0,0,0,0,0,0,0,0,0,0,0,0,0,0,0,0,0,0,0,0,0,0,0,0,0]
["SECCION O: EXÁMENES BACTERIOLOGICOS PROCESADOS"]
["TIPO DE MUESTRA","TOTAL","GRUPO DE EDAD (En años)",null,null,null,null,null,null,null,null,null,null,null,null,null,null,null,null,"Pueblos Originarios","Migrantes"]
[null,null,"0 a 4 años","5 a 9 años","10-14 años","15 a 19 años","20-24 años","25 a 29 años","30-34 años","35 a 39 años","40-44 años","45 a 49 años","50-54 años ","55 a 59 años","60 a 64 años","65 a 69 años","70 a 74 años","75 a 79 años","80 y más "]
["Muestras procesadas para diagnóstico de tuberculosis pulmonar mediante bacteriología.",{"$f":"SUM(C152:S152)","v":0},null,null,null,null,null,null,null,null,null,null,null,null,null,null,null,null,null,null,null,null,null,null,null,null,null,null,null,null,null,null,null,null,null,null,null,null,null,null,null,null,null,null,null,null,null,null,null,null,null,null,null,null,null,null,null,null,null,null,null,null,null,null,null,null,null,null,null,null,null,null,null,null,null,null,null,null,null,null,null,null,null,null,0,0,0,0]
[]
[]
[]
[]
[]
[]
[]
[]
[]
[]
[]
[]
[]
[]
[]
[]
[]
[]
[]
[]
[]
[]
[]
[]
[]
[]
[]
[]
[]
[]
[]
[]
[]
[]
[]
[]
[]
[]
[]
[]
[]
[]
[]
[]
[]
[]
[]
[]
[]
[]
[]
[]
[]
[{"$f":"SUM(B12:D12,B31:B44,B48:B49,B54,B57,C82:E82,B96:B98,B106:F106,B110:B112,B117:B119,C124:C130,C83:C85,B77,B72:B73,B63:G64)","v":25736},{"$f":"SUM(CG13:CJ134)","v":0}]

{"sheet":"A05","index":5,"n_rows":352,"n_cols":94,"rows_kept":352,"cut":false,"hidden":false,"merged":[[332,36,332,38],[333,36,334,36],[333,37,334,37],[333,38,334,38],[332,39,334,39],[304,48,306,48],[304,45,304,46],[305,45,306,45],[305,46,306,46],[220,43,221,43],[220,21,220,22],[174,44,175,44],[220,33,220,34],[220,35,220,36],[220,37,220,38],[174,29,174,30],[174,31,174,32],[174,33,174,34],[174,35,174,36],[174,41,174,42],[174,37,174,38],[174,27,174,28],[266,27,266,28],[266,29,266,30],[266,21,266,22],[266,19,266,20],[220,19,220,20],[266,25,266,26],[220,23,220,24],[220,17,220,18],[304,47,306,47],[282,37,282,38],[266,31,266,32],[282,23,282,24],[274,27,274,28],[305,33,305,34],[305,23,305,24],[305,25,305,26],[282,31,282,32],[273,5,273,36],[274,31,274,32],[274,33,274,34],[274,35,274,36],[274,21,274,22],[282,35,282,36],[304,5,304,44],[305,21,305,22],[274,7,274,8],[273,37,275,37],[220,11,220,12],[220,25,220,26],[220,7,220,8],[281,45,283,45],[116,33,116,36],[117,25,117,26],[117,27,117,28],[116,5,116,32],[117,19,117,20],[117,21,117,22],[127,27,127,28],[127,29,127,30],[117,33,118,33],[117,34,118,34],[117,35,118,35],[127,33,128,33],[117,29,117,30],[126,33,126,35],[117,31,117,32],[127,31,127,32],[127,34,128,34],[127,35,128,35],[127,25,127,26],[117,23,117,24],[117,36,118,36],[127,13,127,14],[127,15,127,16],[104,0,104,1],[102,13,102,14],[119,0,119,1],[107,15,107,16],[127,17,127,18],[127,19,127,20],[101,0,103,1],[101,5,101,14],[102,7,102,8],[102,9,102,10],[102,11,102,12],[101,2,102,4],[107,21,107,22],[107,17,107,18],[107,19,107,20],[107,29,107,30],[135,9,135,10],[127,7,127,8],[127,9,127,10],[120,0,124,0],[116,0,118,1],[116,2,117,4],[109,0,109,1],[107,13,107,14],[135,11,135,12],[117,5,117,6],[117,7,117,8],[117,9,117,10],[117,11,117,12],[117,13,117,14],[127,11,127,12],[126,5,126,32],[107,31,107,32],[107,7,107,8],[107,9,107,10],[107,11,107,12],[107,5,107,6],[107,23,107,24],[107,25,107,26],[107,27,107,28],[89,0,89,1],[22,0,22,1],[20,0,20,1],[23,0,23,1],[88,0,88,1],[34,0,34,1],[35,0,35,1],[36,0,36,1],[86,5,86,6],[21,0,21,1],[30,0,30,1],[43,0,44,0],[24,0,24,1],[27,0,27,1],[28,0,28,1],[29,0,29,1],[25,0,25,1],[71,0,71,1],[72,0,72,1],[85,0,87,1],[77,0,77,1],[47,0,47,1],[5,0,5,15],[8,0,9,1],[8,2,9,2],[8,13,9,13],[10,0,10,1],[26,0,26,1],[32,0,33,1],[17,0,17,1],[11,0,11,1],[12,0,12,1],[19,0,19,1],[15,0,16,1],[15,4,16,4],[8,3,8,12],[32,2,33,2],[13,0,13,1],[18,0,18,1],[86,21,86,22],[86,9,86,10],[86,17,86,18],[86,19,86,20],[85,17,85,18],[85,19,85,20],[37,0,42,0],[49,0,50,0],[51,0,52,0],[53,0,53,1],[48,0,48,1],[56,0,57,1],[58,0,58,1],[59,0,59,1],[60,0,60,1],[61,0,66,0],[67,0,68,0],[69,0,70,0],[73,0,74,0],[75,0,76,0],[86,7,86,8],[85,5,85,16],[86,11,86,12],[85,2,86,4],[86,13,86,14],[86,15,86,16],[8,14,9,14],[8,15,9,15],[15,5,16,5],[15,2,16,2],[15,3,16,3],[8,16,9,16],[56,2,57,2],[56,3,56,15],[32,3,32,15],[273,1,275,1],[305,43,305,44],[305,35,305,36],[305,37,305,38],[305,39,305,40],[305,41,305,42],[305,27,305,28],[305,29,305,30],[305,31,305,32],[281,5,281,38],[282,33,282,34],[282,25,282,26],[282,19,282,20],[282,21,282,22],[282,27,282,28],[282,29,282,30],[282,39,283,39],[282,40,283,40],[274,29,274,30],[273,2,274,4],[274,9,274,10],[274,11,274,12],[274,5,274,6],[282,41,283,41],[319,33,320,34],[319,35,321,35],[320,15,320,16],[320,17,320,18],[320,19,320,20],[320,21,320,22],[320,23,320,24],[320,25,320,26],[220,13,220,14],[220,15,220,16],[220,27,220,28],[220,29,220,30],[220,31,220,32],[266,33,266,34],[266,35,266,36],[266,17,266,18],[274,15,274,16],[274,17,274,18],[274,19,274,20],[274,13,274,14],[266,23,266,24],[274,23,274,24],[274,25,274,26],[266,13,266,14],[320,5,320,6],[320,7,320,8],[320,9,320,10],[320,11,320,12],[320,13,320,14],[320,27,320,28],[320,29,320,30],[320,31,320,32],[319,5,319,32],[327,8,327,9],[327,10,327,11],[327,12,327,13],[305,19,305,20],[304,0,306,1],[307,0,308,0],[281,2,282,4],[282,5,282,6],[282,7,282,8],[282,9,282,10],[282,11,282,12],[282,13,282,14],[284,0,284,1],[305,17,305,18],[305,9,305,10],[305,15,305,16],[309,0,309,1],[285,0,293,0],[305,11,305,12],[305,7,305,8],[305,13,305,14],[305,5,305,6],[326,1,327,3],[311,0,311,1],[310,0,310,1],[220,47,221,47],[227,0,228,0],[220,46,221,46],[220,44,220,45],[220,39,220,41],[323,0,323,1],[324,0,324,1],[322,0,322,1],[319,0,321,1],[294,0,302,0],[304,2,305,4],[273,0,275,0],[278,0,279,0],[281,46,283,46],[268,0,269,0],[276,0,277,0],[281,0,283,1],[281,44,283,44],[281,42,282,43],[282,15,282,16],[282,17,282,18],[281,39,281,41],[319,36,321,36],[326,0,328,0],[319,2,320,4],[326,4,326,12],[327,4,327,5],[327,6,327,7],[174,43,175,43],[195,0,198,0],[161,7,161,8],[161,9,161,10],[161,11,161,12],[161,13,161,14],[174,39,175,39],[174,40,175,40],[174,23,174,24],[174,2,174,4],[174,5,174,6],[174,7,174,8],[174,9,174,10],[174,11,174,12],[220,42,221,42],[205,0,207,0],[230,0,237,0],[222,0,222,1],[226,0,226,1],[148,9,148,10],[148,7,148,8],[178,0,179,0],[176,0,176,1],[174,17,174,18],[174,25,174,26],[174,15,174,16],[174,13,174,14],[110,0,114,0],[127,21,127,22],[127,23,127,24],[117,17,117,18],[145,20,145,21],[117,15,117,16],[145,24,145,25],[145,22,145,23],[145,16,145,17],[174,19,174,20],[174,21,174,22],[145,18,145,19],[133,0,133,1],[135,0,136,1],[135,5,135,6],[135,7,135,8],[199,0,204,0],[208,0,208,1],[209,0,209,1],[126,2,127,4],[131,0,132,0],[126,0,128,1],[127,5,127,6],[135,2,135,4],[129,0,129,1],[181,0,182,0],[177,0,177,1],[184,0,191,0],[304,49,306,49],[45,0,46,0],[220,0,221,1],[264,0,264,1],[263,0,263,1],[257,0,257,1],[256,0,256,1],[255,0,255,1],[254,0,254,1],[192,0,194,0],[270,0,271,0],[167,0,170,0],[82,0,82,1],[83,0,83,1],[90,0,90,1],[91,0,91,1],[145,0,145,1],[180,0,180,1],[223,0,223,1],[94,11,94,12],[94,13,94,14],[266,15,266,16],[266,7,266,8],[266,9,266,10],[332,33,334,33],[332,34,334,34],[332,35,334,35],[332,0,334,0],[332,1,334,1],[332,2,333,4],[333,19,333,20],[333,21,333,22],[333,23,333,24],[333,25,333,26],[333,27,333,28],[333,29,333,30],[333,31,333,32],[266,0,267,1],[251,0,253,0],[153,0,153,1],[154,0,157,0],[106,5,106,32],[93,17,93,21],[93,0,95,1],[93,2,94,4],[93,5,93,16],[94,5,94,6],[94,7,94,8],[94,9,94,10],[224,0,225,0],[96,0,96,1],[97,0,97,1],[98,0,98,1],[99,0,99,1],[94,17,94,18],[94,19,95,19],[94,20,94,21],[102,5,102,6],[150,0,152,0],[148,0,149,1],[158,0,158,1],[85,23,87,23],[85,21,85,22],[94,15,94,16],[238,0,240,0],[146,0,146,1],[163,0,166,0],[161,0,162,1],[130,0,130,1],[137,0,139,0],[140,0,140,1],[141,0,144,0],[159,0,159,1],[161,2,161,4],[161,5,161,6],[220,9,220,10],[220,2,220,4],[220,5,220,6],[106,0,108,1],[106,2,107,4],[212,0,216,0],[148,11,148,12],[148,13,148,15],[148,2,148,4],[148,5,148,6],[85,24,86,25],[335,0,337,0],[338,0,340,0],[332,5,332,32],[333,5,333,6],[333,7,333,8],[333,9,333,10],[333,11,333,12],[333,13,333,14],[333,15,333,16],[333,17,333,18],[210,0,210,1],[211,0,211,1],[217,0,217,1],[218,0,218,1],[174,0,175,1],[241,0,244,0],[245,0,250,0],[266,11,266,12],[266,2,266,4],[266,5,266,6],[258,0,262,0],[312,0,312,1],[313,0,317,0]]}
["SERVICIO DE SALUD"]
[{"$f":"CONCATENATE(\"COMUNA: \",NOMBRE!B2,\" - \",\"( \",NOMBRE!C2,NOMBRE!D2,NOMBRE!E2,NOMBRE!F2,NOMBRE!G2,\" )\")","v":"COMUNA: CALLE LARGA - ( 05302 )"}]
[{"$f":"CONCATENATE(\"ESTABLECIMIENTO/ESTRATEGIA: \",NOMBRE!B3,\" - \",\"( \",NOMBRE!C3,NOMBRE!D3,NOMBRE!E3,NOMBRE!F3,NOMBRE!G3,NOMBRE!H3,\" )\")","v":"ESTABLECIMIENTO/ESTRATEGIA: DR. JOSE JOAQUIN AGUIRRE CAMPOS - ( 108308 )"}]
[{"$f":"CONCATENATE(\"MES: \",NOMBRE!B6,\" - \",\"( \",NOMBRE!C6,NOMBRE!D6,\" )\")","v":"MES: DICIEMBRE - ( 12 )"}]
[{"$f":"CONCATENATE(\"AÑO: \",NOMBRE!B7)","v":"AÑO: 2022"}]
["REM-A05.   INGRESOS Y EGRESOS POR CONDICIÓN Y PROBLEMAS DE SALUD"]
[]
["SECCIÓN A: INGRESOS DE GESTANTES A PROGRAMA PRENATAL"]
["CONDICIÓN",null,"TOTAL      ","POR DE EDAD (en años)",null,null,null,null,null,null,null,null,null,"Victima de violencia de genero","Pueblos Originarios","Migrantes","Ingresos por Traslado"]
[null,null,null,"Menor \nde 15","15 - 19 ","20 - 24","25 - 29","30 - 34","35 - 39","40 - 44","45 - 49","50 - 54","55 y más"]
["GESTANTES INGRESADAS",null,{"$f":"SUM(D11:M11)","v":10},0,0,2,5,1,2,0,0,0,0,1,0,0,0,null,null,null,null,null,null,null,null,null,null,null,null,null,null,null,null,null,null,null,null,null,null,null,null,null,null,null,null,null,null,null,null,null,null,null,null,null,null,null,null,null,null,null,null,null,null,null,null,null,null,null,null,null,null,null,null,null,null,null,null,null,{"$f":"IF(CH11=1,\"* El número de víctima de Violencia de Género NO DEBE ser diferente al Total. \",\"\")","v":""},{"$f":"IF(AND(C11<>0,OR(O11=\"\",P11=\"\")),\"* No olvide digitar los campos Pueblo Originario y/o Migrantes (Digite CEROS si no tiene). \",\"\")","v":""},{"$f":"IF(CJ11=1,\"* Pueblo Originario y/o Migrantes NO DEBEN ser Mayor al Total. \",\"\")","v":""},{"$f":"IF(CK11=1,\"* Total Gestantes Ingresadas a control prenatal debe ser Mayor o Igual que el Total de Evaluaciones a Gestantes de REM A03 Sección B2. \",\"\")","v":""},{"$f":"IF(CL11=1,\"* Total de Ingresos por Traslado no puede superar el Total de Ingresos. \",\"\")","v":""},null,null,{"$f":"IF(C11<N11,1,0)","v":0},null,{"$f":"IF(OR(C11<O11,C11<P11),1,0)","v":0},{"$f":"IF(C11<'A03'!C79,1,0)","v":0},{"$f":"IF(Q11>C11,1,0)","v":0}]
["PRIMIGESTAS INGRESADAS",null,{"$f":"SUM(D12:M12)","v":1},0,0,1,0,0,0,0,0,0,0,0,0,0,0,null,null,null,null,null,null,null,null,null,null,null,null,null,null,null,null,null,null,null,null,null,null,null,null,null,null,null,null,null,null,null,null,null,null,null,null,null,null,null,null,null,null,null,null,null,null,null,null,null,null,null,null,null,null,null,null,null,null,null,null,null,{"$f":"IF(CH12=1,\"* El número de víctima de Violencia de Género NO DEBE ser diferente al Total. \",\"\")","v":""},{"$f":"IF(AND(C12<>0,OR(O12=\"\",P12=\"\")),\"* No olvide digitar los campos Pueblo Originario y/o Migrantes (Digite CEROS si no tiene). \",\"\")","v":""},{"$f":"IF(CJ12=1,\"* Pueblo Originario y/o Migrantes NO DEBEN ser Mayor al Total. \",\"\")","v":""},{"$f":"IF(CK12=1,\"* Total Gestantes debe ser Mayor o Igual a \"&A12&\".\",\"\")","v":""},{"$f":"IF(CL12=1,\"* Total de Ingresos por Traslado no puede superar el Total de Ingresos. \",\"\")","v":""},null,null,{"$f":"IF(C12<N12,1,0)","v":0},null,{"$f":"IF(OR(C12<O12,C12<P12),1,0)","v":0},{"$f":"IF($C$11<C12,1,0)","v":0},{"$f":"IF(Q12>C12,1,0)","v":0}]
["GESTANTES INGRESADAS ANTES DE LAS 14 SEMANAS",null,{"$f":"SUM(D13:M13)","v":9},0,0,1,5,1,2,0,0,0,0,1,0,0,0,null,null,null,null,null,null,null,null,null,null,null,null,null,null,null,null,null,null,null,null,null,null,null,null,null,null,null,null,null,null,null,null,null,null,null,null,null,null,null,null,null,null,null,null,null,null,null,null,null,null,null,null,null,null,null,null,null,null,null,null,null,{"$f":"IF(CH13=1,\"* El número de víctima de Violencia de Género NO DEBE ser diferente al Total. \",\"\")","v":""},{"$f":"IF(AND(C13<>0,OR(O13=\"\",P13=\"\")),\"* No olvide digitar los campos Pueblo Originario y/o Migrantes (Digite CEROS si no tiene). \",\"\")","v":""},{"$f":"IF(CJ13=1,\"* Pueblo Originario y/o Migrantes NO DEBEN ser Mayor al Total. \",\"\")","v":""},{"$f":"IF(CK13=1,\"* Total Gestantes debe ser Mayor o Igual a \"&A13&\".\",\"\")","v":""},"",null,null,{"$f":"IF(C13<N13,1,0)","v":0},null,{"$f":"IF(OR(C13<O13,C13<P13),1,0)","v":0},{"$f":"IF($C$11<C13,1,0)","v":0},0]
["GESTANTES CON EMBARAZO NO PLANIFICADO",null,{"$f":"SUM(D14:M14)","v":5},0,0,1,4,0,0,0,0,0,0,1,0,0,0,null,null,null,null,null,null,null,null,null,null,null,null,null,null,null,null,null,null,null,null,null,null,null,null,null,null,null,null,null,null,null,null,null,null,null,null,null,null,null,null,null,null,null,null,null,null,null,null,null,null,null,null,null,null,null,null,null,null,null,null,null,{"$f":"IF(CH14=1,\"* El número de víctima de Violencia de Género NO DEBE ser diferente al Total. \",\"\")","v":""},{"$f":"IF(AND(C14<>0,OR(O14=\"\",P14=\"\")),\"* No olvide digitar los campos Pueblo Originario y/o Migrantes (Digite CEROS si no tiene). \",\"\")","v":""},{"$f":"IF(CJ14=1,\"* Pueblo Originario y/o Migrantes NO DEBEN ser Mayor al Total. \",\"\")","v":""},{"$f":"IF(CK14=1,\"* Total Gestantes debe ser Mayor o Igual a \"&A14&\".\",\"\")","v":""},"",null,null,{"$f":"IF(C14<N14,1,0)","v":0},null,{"$f":"IF(OR(C14<O14,C14<P14),1,0)","v":0},{"$f":"IF($C$11<C14,1,0)","v":0},0]
["SECCIÓN B: INGRESO DE GESTANTES CON PATOLOGÍA DE ALTO RIESGO OBSTÉTRICO A LA UNIDAD DE ARO  (Nivel Secundario)"]
["PATOLOGÍA",null,"Nº de Ingreso a ARO","Victima de violencia de género","Pueblos Originarios","Migrantes"]
[]
["Nº DE GESTANTES INGRESADAS",null,null,null,null,null,{"$f":"CA18&CB18&CC18&CD18","v":""},null,null,null,null,null,null,null,null,null,null,null,null,null,null,null,null,null,null,null,null,null,null,null,null,null,null,null,null,null,null,null,null,null,null,null,null,null,null,null,null,null,null,null,null,null,null,null,null,null,null,null,null,null,null,null,null,null,null,null,null,null,null,null,null,null,null,null,null,null,null,null,null,null,null,{"$f":"IF(AND(SUM(C19:C31)<>0,C18=0),\"* No olvide registrar número de gestantes ingresadas. \",\"\")","v":""},null,null,0,null,0]
["PREECLAMPSIA (PE)",null,null,null,null,null,"",null,null,null,null,null,null,null,null,null,null,null,null,null,null,null,null,null,null,null,null,null,null,null,null,null,null,null,null,null,null,null,null,null,null,null,null,null,null,null,null,null,null,null,null,null,null,null,null,null,null,null,null,null,null,null,null,null,null,null,null,null,null,null,null,null,null,null,null,null,null,null,null,null,null,null,null,null,0,null,0]
["SÍNDROME HIPERTENSIVO DEL EMBARAZO (SHE)",null,null,null,null,null,"",null,null,null,null,null,null,null,null,null,null,null,null,null,null,null,null,null,null,null,null,null,null,null,null,null,null,null,null,null,null,null,null,null,null,null,null,null,null,null,null,null,null,null,null,null,null,null,null,null,null,null,null,null,null,null,null,null,null,null,null,null,null,null,null,null,null,null,null,null,null,null,null,null,null,null,null,null,0,null,0]
["FACTORES DE RIESGO Y CONDICIONANTES DE PARTO PREMATURO",null,null,null,null,null,"",null,null,null,null,null,null,null,null,null,null,null,null,null,null,null,null,null,null,null,null,null,null,null,null,null,null,null,null,null,null,null,null,null,null,null,null,null,null,null,null,null,null,null,null,null,null,null,null,null,null,null,null,null,null,null,null,null,null,null,null,null,null,null,null,null,null,null,null,null,null,null,null,null,null,null,null,null,0,null,0]
["RETARDO CRECIMIENTO INTRAUTERINO (RCIU)",null,null,null,null,null,"",null,null,null,null,null,null,null,null,null,null,null,null,null,null,null,null,null,null,null,null,null,null,null,null,null,null,null,null,null,null,null,null,null,null,null,null,null,null,null,null,null,null,null,null,null,null,null,null,null,null,null,null,null,null,null,null,null,null,null,null,null,null,null,null,null,null,null,null,null,null,null,null,null,null,null,null,null,0,null,0]
["SÍFILIS",null,null,null,null,null,"",null,null,null,null,null,null,null,null,null,null,null,null,null,null,null,null,null,null,null,null,null,null,null,null,null,null,null,null,null,null,null,null,null,null,null,null,null,null,null,null,null,null,null,null,null,null,null,null,null,null,null,null,null,null,null,null,null,null,null,null,null,null,null,null,null,null,null,null,null,null,null,null,null,null,null,null,null,0,null,0]
["VIH",null,null,null,null,null,"",null,null,null,null,null,null,null,null,null,null,null,null,null,null,null,null,null,null,null,null,null,null,null,null,null,null,null,null,null,null,null,null,null,null,null,null,null,null,null,null,null,null,null,null,null,null,null,null,null,null,null,null,null,null,null,null,null,null,null,null,null,null,null,null,null,null,null,null,null,null,null,null,null,null,null,null,null,0,null,0]
["DIABETES",null,null,null,null,null,"",null,null,null,null,null,null,null,null,null,null,null,null,null,null,null,null,null,null,null,null,null,null,null,null,null,null,null,null,null,null,null,null,null,null,null,null,null,null,null,null,null,null,null,null,null,null,null,null,null,null,null,null,null,null,null,null,null,null,null,null,null,null,null,null,null,null,null,null,null,null,null,null,null,null,null,null,null,0,null,0]
["CESÁREA ANTERIOR",null,null,null,null,null,"",null,null,null,null,null,null,null,null,null,null,null,null,null,null,null,null,null,null,null,null,null,null,null,null,null,null,null,null,null,null,null,null,null,null,null,null,null,null,null,null,null,null,null,null,null,null,null,null,null,null,null,null,null,null,null,null,null,null,null,null,null,null,null,null,null,null,null,null,null,null,null,null,null,null,null,null,null,0,null,0]
["MALFORMACIÓN CONGÉNITA",null,null,null,null,null,"",null,null,null,null,null,null,null,null,null,null,null,null,null,null,null,null,null,null,null,null,null,null,null,null,null,null,null,null,null,null,null,null,null,null,null,null,null,null,null,null,null,null,null,null,null,null,null,null,null,null,null,null,null,null,null,null,null,null,null,null,null,null,null,null,null,null,null,null,null,null,null,null,null,null,null,null,null,0,null,0]
["HIPOTIROIDISMO",null,null,null,null,null,"",null,null,null,null,null,null,null,null,null,null,null,null,null,null,null,null,null,null,null,null,null,null,null,null,null,null,null,null,null,null,null,null,null,null,null,null,null,null,null,null,null,null,null,null,null,null,null,null,null,null,null,null,null,null,null,null,null,null,null,null,null,null,null,null,null,null,null,null,null,null,null,null,null,null,null,null,null,0,null,0]
["DIABETES GESTACIONAL",null,null,null,null,null,"",null,null,null,null,null,null,null,null,null,null,null,null,null,null,null,null,null,null,null,null,null,null,null,null,null,null,null,null,null,null,null,null,null,null,null,null,null,null,null,null,null,null,null,null,null,null,null,null,null,null,null,null,null,null,null,null,null,null,null,null,null,null,null,null,null,null,null,null,null,null,null,null,null,null,null,null,null,0,null,0]
["HIPERTENSIÓN CRONICA",null,null,null,null,null,"",null,null,null,null,null,null,null,null,null,null,null,null,null,null,null,null,null,null,null,null,null,null,null,null,null,null,null,null,null,null,null,null,null,null,null,null,null,null,null,null,null,null,null,null,null,null,null,null,null,null,null,null,null,null,null,null,null,null,null,null,null,null,null,null,null,null,null,null,null,null,null,null,null,null,null,null,null,0,null,0]
["OTRAS PATOLOGÍAS DEL EMBARAZO",null,null,null,null,null,"",null,null,null,null,null,null,null,null,null,null,null,null,null,null,null,null,null,null,null,null,null,null,null,null,null,null,null,null,null,null,null,null,null,null,null,null,null,null,null,null,null,null,null,null,null,null,null,null,null,null,null,null,null,null,null,null,null,null,null,null,null,null,null,null,null,null,null,null,null,null,null,null,null,null,null,null,null,0,null,0]
["SECCIÓN C: INGRESOS A PROGRAMA DE REGULACIÓN DE FERTILIDAD Y SALUD SEXUAL."]
["MÉTODOS",null,"TOTAL      ","POR DE EDAD (en años)"]
[null,null,null,"Menor \nde 15","15 - 19 ","20 - 24","25 - 29","30 - 34","35 - 39","40 - 44","45 - 49","50 - 54","55 -59 ","60 - 64","65 - 69","70 y más","Espacios Amigables","Ingreso por cambio de Método Anticonceptivo"]
["TOTAL REGULACIÓN DE FERTILIDAD",null,{"$f":"SUM(D35:P35)","v":22},{"$f":"SUM(D36:D47,D50:D51,D54)","v":0},{"$f":"SUM(E36:E47,E50:E51,E54)","v":7},4,2,2,5,0,2,0,0,{"$f":"SUM(N36:N47,N50:N51,N54)","v":0},0,0,{"$f":"SUM(Q36:Q47,Q50:Q51,Q54)","v":2},{"$f":"SUM(R36:R47,R50:R51,R54)","v":8},{"$f":"CA35&CB35&CC35","v":""}]
["D . I . U T con Cobre",null,{"$f":"SUM(D36:M36)","v":1},0,0,1,0,0,0,0,0,0,0,null,null,null,0,0,{"$f":"CA36&CB36&CC36","v":""},null,null,null,null,null,null,null,null,null,null,null,null,null,null,null,null,null,null,null,null,null,null,null,null,null,null,null,null,null,null,null,null,null,null,null,null,null,null,null,null,null,null,null,null,null,null,null,null,null,null,null,null,null,null,null,null,null,null,null,{"$f":"IF(CG36=1,\"* No olvide digitar la columna Espacios Amigables (Digite Cero si no tiene). \",\"\")","v":""},{"$f":"IF(CH36=1,\"* No olvide digitar la columna Ingreso por cambio de Método Anticonceptivo (Digite Cero si no tiene). \",\"\")","v":""},{"$f":"IF(CI36=1,\"* El Total de Ingresos por cambio de método Anticonceptivo no puede superar el Total de Ingresos. \",\"\")","v":""},null,null,null,{"$f":"IF(AND(C36<>0,Q36=\"\"),1,0)","v":0},{"$f":"IF(AND(C36<>0,R36=\"\"),1,0)","v":0},{"$f":"IF(C36<R36,1,0)","v":0}]
["D . I . U con Levonorgestrel",null,{"$f":"SUM(D37:M37)","v":1},0,0,0,0,0,1,0,0,0,0,null,null,null,0,0,"",null,null,null,null,null,null,null,null,null,null,null,null,null,null,null,null,null,null,null,null,null,null,null,null,null,null,null,null,null,null,null,null,null,null,null,null,null,null,null,null,null,null,null,null,null,null,null,null,null,null,null,null,null,null,null,null,null,null,null,"",{"$f":"IF(CH37=1,\"* No olvide digitar la columna Ingreso por cambio de Método Anticonceptivo (Digite Cero si no tiene). \",\"\")","v":""},{"$f":"IF(CI37=1,\"* El Total de Ingresos por cambio de método Anticonceptivo no puede superar el Total de Ingresos. \",\"\")","v":""},null,null,null,0,{"$f":"IF(AND(C37<>0,R37=\"\"),1,0)","v":0},{"$f":"IF(C37<R37,1,0)","v":0}]
["HORMONAL","Oral Combinado",5,0,1,1,1,1,1,0,0,0,0,null,null,null,1,4,"",null,null,null,null,null,null,null,null,null,null,null,null,null,null,null,null,null,null,null,null,null,null,null,null,null,null,null,null,null,null,null,null,null,null,null,null,null,null,null,null,null,null,null,null,null,null,null,null,null,null,null,null,null,null,null,null,null,null,null,"","","",null,null,null,0,0,0]
[null,"Oral Progestágeno",0,0,0,0,0,0,0,0,0,0,0,null,null,null,0,null,"",null,null,null,null,null,null,null,null,null,null,null,null,null,null,null,null,null,null,null,null,null,null,null,null,null,null,null,null,null,null,null,null,null,null,null,null,null,null,null,null,null,null,null,null,null,null,null,null,null,null,null,null,null,null,null,null,null,null,null,"","","",null,null,null,0,0,0]
[null,"Inyectable Combinado",5,0,3,0,0,1,1,0,0,0,0,null,null,null,1,0,"",null,null,null,null,null,null,null,null,null,null,null,null,null,null,null,null,null,null,null,null,null,null,null,null,null,null,null,null,null,null,null,null,null,null,null,null,null,null,null,null,null,null,null,null,null,null,null,null,null,null,null,null,null,null,null,null,null,null,null,"","","",null,null,null,0,0,0]
[null,"Inyectable Progestágeno",5,0,1,0,1,0,1,0,2,0,0,null,null,null,0,4,"",null,null,null,null,null,null,null,null,null,null,null,null,null,null,null,null,null,null,null,null,null,null,null,null,null,null,null,null,null,null,null,null,null,null,null,null,null,null,null,null,null,null,null,null,null,null,null,null,null,null,null,null,null,null,null,null,null,null,null,"","","",null,null,null,0,0,0]
[null,"Implante Etonogestrel (3 años)",5,0,2,2,0,0,1,0,0,0,0,null,null,null,0,0,"",null,null,null,null,null,null,null,null,null,null,null,null,null,null,null,null,null,null,null,null,null,null,null,null,null,null,null,null,null,null,null,null,null,null,null,null,null,null,null,null,null,null,null,null,null,null,null,null,null,null,null,null,null,null,null,null,null,null,null,"","","",null,null,null,0,0,0]
[null,"Implante Levonorgestrel (5 años)",0,0,0,0,0,0,0,0,0,0,0,null,null,null,0,0,"",null,null,null,null,null,null,null,null,null,null,null,null,null,null,null,null,null,null,null,null,null,null,null,null,null,null,null,null,null,null,null,null,null,null,null,null,null,null,null,null,null,null,null,null,null,null,null,null,null,null,null,null,null,null,null,null,null,null,null,"","","",null,null,null,0,0,0]
[" SÓLO PRESERVATIVO MAC                                                                                                                                                                                                                                                 ","Mujer",0,0,0,0,0,0,0,0,0,0,0,null,null,null,0,0,"",null,null,null,null,null,null,null,null,null,null,null,null,null,null,null,null,null,null,null,null,null,null,null,null,null,null,null,null,null,null,null,null,null,null,null,null,null,null,null,null,null,null,null,null,null,null,null,null,null,null,null,null,null,null,null,null,null,null,null,"","","",null,null,null,0,0,0]
[null,"Hombres",0,0,0,0,0,0,0,0,0,0,0,null,null,null,0,0,"",null,null,null,null,null,null,null,null,null,null,null,null,null,null,null,null,null,null,null,null,null,null,null,null,null,null,null,null,null,null,null,null,null,null,null,null,null,null,null,null,null,null,null,null,null,null,null,null,null,null,null,null,null,null,null,null,null,null,null,"","","",null,null,null,0,0,0]
["ESTERILIZACIÓN QUIRÚRGICA","Mujer",0,0,0,0,0,0,0,0,0,0,0,null,null,null,0,0,"",null,null,null,null,null,null,null,null,null,null,null,null,null,null,null,null,null,null,null,null,null,null,null,null,null,null,null,null,null,null,null,null,null,null,null,null,null,null,null,null,null,null,null,null,null,null,null,null,null,null,null,null,null,null,null,null,null,null,null,"","","",null,null,null,0,0,0]
[null,"Hombres",0,0,0,0,0,0,0,0,0,0,0,null,null,null,0,0,"",null,null,null,null,null,null,null,null,null,null,null,null,null,null,null,null,null,null,null,null,null,null,null,null,null,null,null,null,null,null,null,null,null,null,null,null,null,null,null,null,null,null,null,null,null,null,null,null,null,null,null,null,null,null,null,null,null,null,null,"","","",null,null,null,0,0,0]
[" Método de Regulación de Fertilidad más Preservativos",null,0,0,0,0,0,0,0,0,0,0,0,null,null,null,0,0,"",null,null,null,null,null,null,null,null,null,null,null,null,null,null,null,null,null,null,null,null,null,null,null,null,null,null,null,null,null,null,null,null,null,null,null,null,null,null,null,null,null,null,null,null,null,null,null,null,null,null,null,null,null,null,null,null,null,null,null,"","","",null,null,null,0,0,0]
["Gestantes que reciben preservativo",null,0,0,0,0,0,0,0,0,0,0,0,null,null,null,0,0,"",null,null,null,null,null,null,null,null,null,null,null,null,null,null,null,null,null,null,null,null,null,null,null,null,null,null,null,null,null,null,null,null,null,null,null,null,null,null,null,null,null,null,null,null,null,null,null,null,null,null,null,null,null,null,null,null,null,null,null,"","","",null,null,null,0,0,0]
["PRESERVATIVO/PRACTICA SEXUAL SEGURA","Mujer",{"$f":"SUM(D50:P50)","v":0},0,0,0,0,0,0,0,0,0,0,null,null,null,0,0,"",null,null,null,null,null,null,null,null,null,null,null,null,null,null,null,null,null,null,null,null,null,null,null,null,null,null,null,null,null,null,null,null,null,null,null,null,null,null,null,null,null,null,null,null,null,null,null,null,null,null,null,null,null,null,null,null,null,null,null,"","","",null,null,null,0,0,0]
[null,"Hombres",{"$f":"SUM(D51:P51)","v":0},0,0,0,0,0,0,0,0,0,0,null,null,null,0,0,"",null,null,null,null,null,null,null,null,null,null,null,null,null,null,null,null,null,null,null,null,null,null,null,null,null,null,null,null,null,null,null,null,null,null,null,null,null,null,null,null,null,null,null,null,null,null,null,null,null,null,null,null,null,null,null,null,null,null,null,"","","",null,null,null,0,0,0]
["LUBRICANTES","Mujer",0,0,0,0,0,0,0,0,0,0,0,null,null,null,0,0,"",null,null,null,null,null,null,null,null,null,null,null,null,null,null,null,null,null,null,null,null,null,null,null,null,null,null,null,null,null,null,null,null,null,null,null,null,null,null,null,null,null,null,null,null,null,null,null,null,null,null,null,null,null,null,null,null,null,null,null,"","","",null,null,null,0,0,0]
[null,"Hombres",0,0,0,0,0,0,0,0,0,0,0,null,null,null,0,0,"",null,null,null,null,null,null,null,null,null,null,null,null,null,null,null,null,null,null,null,null,null,null,null,null,null,null,null,null,null,null,null,null,null,null,null,null,null,null,null,null,null,null,null,null,null,null,null,null,null,null,null,null,null,null,null,null,null,null,null,"","","",null,null,null,0,0,0]
["CONDÓN FEMENINO",null,0,0,0,0,0,0,0,0,0,0,0,null,null,null,0,0,"",null,null,null,null,null,null,null,null,null,null,null,null,null,null,null,null,null,null,null,null,null,null,null,null,null,null,null,null,null,null,null,null,null,null,null,null,null,null,null,null,null,null,null,null,null,null,null,null,null,null,null,null,null,null,null,null,null,null,null,"","","",null,null,null,0,0,0]
[null,null,null,null,null,null,null,null,null,null,null,null,null,null,null,null,null,null,null,null,null,null,null,null,null,null,null,null,null,null,null,null,null,null,null,null,null,null,null,null,null,null,null,null,null,null,null,null,null,null,null,null,null,null,null,null,null,null,null,null,null,null,null,null,null,null,null,null,null,null,null,null,null,null,null,null,null,null,null,null,null,0,0]
["SECCIÓN C1: EGRESOS DE PROGRAMA DE REGULACIÓN DE FERTILIDAD Y SALUD SEXUAL.",null,null,null,null,null,null,null,null,null,null,null,null,null,null,null,null,null,null,null,null,null,null,null,null,null,null,null,null,null,null,null,null,null,null,null,null,null,null,null,null,null,null,null,null,null,null,null,null,null,null,null,null,null,null,null,null,null,null,null,null,null,null,null,null,null,null,null,null,null,null,null,null,null,null,null,null,null,null,null,null,0,0]
["MÉTODOS",null,"TOTAL      ","POR DE EDAD (en años)",null,null,null,null,null,null,null,null,null,null,null,null,null,null,null,null,null,null,null,null,null,null,null,null,null,null,null,null,null,null,null,null,null,null,null,null,null,null,null,null,null,null,null,null,null,null,null,null,null,null,null,null,null,null,null,null,null,null,null,null,null,null,null,null,null,null,null,null,null,null,null,null,null,null,null,null,null,null,null,0,0]
[null,null,null,"Menor \nde 15","15 - 19 ","20 - 24","25 - 29","30 - 34","35 - 39","40 - 44","45 - 49","50 - 54","55 -59 ","60 - 64","65 - 69","70 y más"]
["TOTAL REGULACIÓN DE FERTILIDAD",null,{"$f":"SUM(D59:P59)","v":1},{"$f":"SUM(D60:D71,D74:D75,D78)","v":0},{"$f":"SUM(E60:E71,E74:E75,E78)","v":0},0,0,0,0,0,1,0,0,0,0,0]
["D . I . U T con Cobre",null,{"$f":"SUM(D60:M60)","v":0},0,0,0,0,0,0,0,0,0,0]
["D . I . U con Levonorgestrel",null,{"$f":"SUM(D61:M61)","v":0},0,0,0,0,0,0,0,0,0,0]
["HORMONAL","Oral Combinado",{"$f":"SUM(D62:M62)","v":0},0,0,0,0,0,0,0,0,0,0]
[null,"Oral Progestágeno",1,0,0,0,0,0,0,0,1,0,0]
[null,"Inyectable Combinado",0,0,0,0,0,0,0,0,0,0,0]
[null,"Inyectable Progestágeno",0,0,0,0,0,0,0,0,0,0,0]
[null,"Implante Etonogestrel (3 años)",0,0,0,0,0,0,0,0,0,0,0]
[null,"Implante Levonorgestrel (5 años)",0,0,0,0,0,0,0,0,0,0,0]
[" SÓLO PRESERVATIVO MAC                                                                                                                                                                                                                                                 ","Mujer",0,0,0,0,0,0,0,0,0,0,0]
[null,"Hombres",0,0,0,0,0,0,0,0,0,0,0]
["ESTERILIZACIÓN QUIRÚRGICA","Mujer",0,0,0,0,0,0,0,0,0,0,0,null,null,null,null,null,null,null,null,null,null,null,null,null,null,null,null,null,null,null,null,null,null,null,null,null,null,null,null,null,null,null,null,null,null,null,null,null,null,null,null,null,null,null,null,null,null,null,null,null,null,null,null,null,null,null,null,null,null,null,null,null,null,null,null,null,null,null,null,0,0]
[null,"Hombres",0,0,0,0,0,0,0,0,0,0,0]
[" Método de Regulación de Fertilidad más Preservativos",null,0,0,0,0,0,0,0,0,0,0,0]
["Gestantes que reciben preservativo",null,0,0,0,0,0,0,0,0,0,0,0]
["PRESERVATIVO/PRACTICA SEXUAL SEGURA","Mujer",{"$f":"SUM(D74:P74)","v":0},0,0,0,0,0,0,0,0,0,0]
[null,"Hombres",{"$f":"SUM(D75:P75)","v":0},0,0,0,0,0,0,0,0,0,0]
["LUBRICANTES","Mujer",0,0,0,0,0,0,0,0,0,0,0]
[null,"Hombres",{"$f":"SUM(D77:P77)","v":0},0,0,0,0,0,0,0,0,0,0]
["CONDÓN FEMENINO",null,{"$f":"SUM(D78:P78)","v":0},0,0,0,0,0,0,0,0,0,0]
["SECCIÓN D: INGRESOS A PROGRAMA CONTROL DE CLIMATERIO ",null,null,null,null,null,null,null,null,null,null,null,null,null,null,null,null,null,null,null,null,null,null,null,null,null,null,null,null,null,null,null,null,null,null,null,null,null,null,null,null,null,null,null,null,null,null,null,null,null,null,null,null,null,null,null,null,null,null,null,null,null,null,null,null,null,null,null,null,null,null,null,null,null,null,null,null,null,null,null,null,null,null,null,0]
["CONCEPTO","TOTAL",null,null,null,null,null,null,null,null,null,null,null,null,null,null,null,null,null,null,null,null,null,null,null,null,null,null,null,null,null,null,null,null,null,null,null,null,null,null,null,null,null,null,null,null,null,null,null,null,null,null,null,null,null,null,null,null,null,null,null,null,null,null,null,null,null,null,null,null,null,null,null,null,null,null,null,null,null,null,null,null,null,null,0,0]
["INGRESOS",null,null,null,null,null,null,null,null,null,null,null,null,null,null,null,null,null,null,null,null,null,null,null,null,null,null,null,null,null,null,null,null,null,null,null,null,null,null,null,null,null,null,null,null,null,null,null,null,null,null,null,null,null,null,null,null,null,null,null,null,null,null,null,null,null,null,null,null,null,null,null,null,null,null,null,null,null,null,null,null,null,null,null,0,0]
["SECCIÓN E:  INGRESOS  A CONTROL DE SALUD DE RECIÉN NACIDOS",null,null,null,null,null,null,null,null,null,null,null,null,null,null,null,null,null,null,null,null,null,null,null,null,null,null,null,null,null,null,null,null,null,null,null,null,null,null,null,null,null,null,null,null,null,null,null,null,null,null,null,null,null,null,null,null,null,null,null,null,null,null,null,null,null,null,null,null,null,null,null,null,null,null,null,null,null,null,null,null,null,null,null,0,0]
["EDAD",null,"TOTAL","NIÑOS","NIÑAS",null,null,null,null,null,null,null,null,null,null,null,null,null,null,null,null,null,null,null,null,null,null,null,null,null,null,null,null,null,null,null,null,null,null,null,null,null,null,null,null,null,null,null,null,null,null,null,null,null,null,null,null,null,null,null,null,null,null,null,null,null,null,null,null,null,null,null,null,null,null,null,null,null,null,null,null,null,null,null,0,0]
["MENORES DE 28 DÍAS",null,{"$f":"SUM(D84:E84)","v":11},4,7,null,null,null,null,null,null,null,null,null,null,null,null,null,null,null,null,null,null,null,null,null,null,null,null,null,null,null,null,null,null,null,null,null,null,null,null,null,null,null,null,null,null,null,null,null,null,null,null,null,null,null,null,null,null,null,null,null,null,null,null,null,null,null,null,null,null,null,null,null,null,null,null,null,{"$f":"IF(AND(('A01'!$C20+'A01'!$C21+'A01'!$C22+'A01'!$C23+'A01'!$F37+'A01'!$F38+'A01'!$F39)<>0,D84=0,E84=\"\"),\"* Observacion : En A01 existen controles no ingresados, Revisar. \",\"\")","v":""},null,null,null,null,null,0,0]
["SECCIÓN F:  INGRESOS Y EGRESOS A SALA DE ESTIMULACIÓN SERVICIO ITINERANTE Y ATENCIÓN DOMICILIARIA ",null,null,null,null,null,null,null,null,null,null,null,null,null,null,null,null,null,null,null,null,null,null,null,null,null,null,null,null,null,null,null,null,null,null,null,null,null,null,null,null,null,null,null,null,null,null,null,null,null,null,null,null,null,null,null,null,null,null,null,null,null,null,null,null,null,null,null,null,null,null,null,null,null,null,null,null,null,{"$f":"IF(AND(('A01'!$C20+'A01'!$C21+'A01'!$C22+'A01'!$C23+'A01'!$F37+'A01'!$F38+'A01'!$F39)<>0,D85=0,E85=\"\"),\"* Observacion : En A01 existen controles no ingresados, Revisar. \",\"\")","v":"* Observacion : En A01 existen controles no ingresados, Revisar. "}]
["NIÑO / A (CON) ",null,"TOTAL    ",null,null,"INGRESOS SALA DE ESTIMULACIÓN  ",null,null,null,null,null,null,null,null,null,null,null,"SERVICIO ITINERANTE EN CENTRO DE SALUD",null,"ATENCIÓN DOMICILIARIA ",null,"EGRESOS",null,"Inasistente","RESULTADOS DE LA REEVALUACIÓN POST EGRESO "]
[null,null,null,null,null,"Menor 7 meses",null," 7 - 11 meses",null,"12 - 17 meses",null,"18 - 23 meses",null,"24 - 47 meses",null,"48 - 59 meses",null," 7 a 59 meses",null,"7 a 59 meses",null,"MOTIVO EGRESO"]
[null,null,"Ambos Sexos","Hombres","Mujeres","Hombres","Mujeres","Hombres","Mujeres","Hombres","Mujeres","Hombres","Mujeres","Hombres","Mujeres","Hombres","Mujeres","Hombres","Mujeres","Hombres","Mujeres","Cumplimiento de tratamiento","Otros",null,"Recuperado","No Recuperado"]
["NORMAL CON REZAGO",null,{"$f":"SUM(D89:E89)","v":0},{"$f":"SUM(F89+H89+J89+L89+N89+P89)","v":0},{"$f":"SUM(G89+I89+K89+M89+O89+Q89)","v":0},null,null,null,null,null,null,null,null,null,null,null,null,null,null,null,null,null,null,null,null,null,null,null,null,null,null,null,null,null,null,null,null,null,null,null,null,null,null,null,null,null,null,null,null,null,null,null,null,null,null,null,null,null,null,null,null,null,null,null,null,null,null,null,null,null,null,null,null,null,null,null,null,null,null,null,null,null,null,null,0,0]
["RIESGO",null,{"$f":"SUM(D90:E90)","v":0},{"$f":"SUM(F90+H90+J90+L90+N90+P90)","v":0},0,null,null,null,null,null,null,null,null,null,null,null,null,null,null,null,null,null,null,null,null,null,null,null,null,null,null,null,null,null,null,null,null,null,null,null,null,null,null,null,null,null,null,null,null,null,null,null,null,null,null,null,null,null,null,null,null,null,null,null,null,null,null,null,null,null,null,null,null,null,null,null,null,null,null,null,null,null,null,null,0,0]
["RETRASO",null,{"$f":"SUM(D91:E91)","v":1},0,1,null,null,null,null,null,null,null,null,null,1,null,null,null,null,null,null,null,null,null,null,null,null,null,null,null,null,null,null,null,null,null,null,null,null,null,null,null,null,null,null,null,null,null,null,null,null,null,null,null,null,null,null,null,null,null,null,null,null,null,null,null,null,null,null,null,null,null,null,null,null,null,null,null,null,null,null,null,null,null,0,0]
["OTRA VULNERABILIDAD",null,{"$f":"SUM(D92:E92)","v":0},0,0,null,null,null,null,null,null,null,null,null,null,null,null,null,null,null,null,null,null,null,null,null,null,null,null,null,null,null,null,null,null,null,null,null,null,null,null,null,null,null,null,null,null,null,null,null,null,null,null,null,null,null,null,null,null,null,null,null,null,null,null,null,null,null,null,null,null,null,null,null,null,null,null,null,null,null,null,null,null,null,0,0]
["SECCIÓN F.1: REINGRESOS Y EGRESOS POR SEGUNDA VEZ A MODALIDAD DE ESTIMULACIÓN EN EL CENTRO DE SALUD"]
["NIÑO / A (CON) ",null,"TOTAL    ",null,null,"REINGRESOS A MODALIDAD DE ESTIMULACIÓN  EN CENTRO DE SALUD",null,null,null,null,null,null,null,null,null,null,null," EGRESOS POR SEGUNDA VEZ Y RESULTADOS DE LA REEVALUACIÓN POST EGRESO "]
[null,null,null,null,null,"Menor 7 meses",null," 7 - 11 meses",null,"12 - 17 meses",null,"18 - 23 meses",null,"24 - 47 meses",null,"48 - 59 meses",null,"MOTIVO EGRESO",null,"Inasistente","RESULTADO DE REEVALUACIÓN",null,null,null,null,null,null,null,null,null,null,null,null,null,null,null,null,null,null,null,null,null,null,null,null,null,null,null,null,null,null,null,null,null,null,null,null,null,null,null,null,null,null,null,null,null,null,null,null,null,null,null,null,null,null,null,null,null,null,null,null,null,null,null,0]
[null,null,"Ambos Sexos","Hombres","Mujeres","Hombres","Mujeres","Hombres","Mujeres","Hombres","Mujeres","Hombres","Mujeres","Hombres","Mujeres","Hombres","Mujeres","Cumplimiento de tratamiento","Otros",null,"Recuperado","No Recuperado"]
["NORMAL CON REZAGO",null,{"$f":"SUM(D97:E97)","v":0},{"$f":"SUM(F97+H97+J97+L97+N97+P97)","v":0},{"$f":"SUM(G97+I97+K97+M97+O97+Q97)","v":0},null,null,null,null,null,null,null,null,null,null,null,null,null,null,null,null,null,null,null,null,null,null,null,null,null,null,null,null,null,null,null,null,null,null,null,null,null,null,null,null,null,null,null,null,null,null,null,null,null,null,null,null,null,null,null,null,null,null,null,null,null,null,null,null,null,null,null,null,null,null,null,null,null,null,null,null,null,null,null,0]
["RIESGO",null,{"$f":"SUM(D98:E98)","v":0},{"$f":"SUM(F98+H98+J98+L98+N98+P98)","v":0},0]
["RETRASO",null,{"$f":"SUM(D99:E99)","v":0},{"$f":"SUM(F99+H99+J99+L99+N99+P99)","v":0},0]
["OTRA VULNERABILIDAD",null,{"$f":"SUM(D100:E100)","v":0},0,0]
["SECCIÓN G: INGRESOS DE NIÑOS Y NIÑAS CON NECESIDADES ESPECIALES DE BAJA COMPLEJIDAD A CONTROL DE SALUD INFANTIL EN APS"]
["NANEAS",null,"TOTAL",null,null,"POR EDAD "]
[null,null,null,null,null," 0  -  4",null," 5  -  9",null," 10 - 14  ",null,"15 a 19",null,"20 - 24"]
[null,null,"Ambos Sexos","Hombres","Mujeres","Hombres","Mujeres","Hombres","Mujeres","Hombres","Mujeres","Hombres","Mujeres","Hombres","Mujeres"]
["INGRESOS",null,{"$f":"SUM(D105:E105)","v":0},{"$f":"SUM(F105+H105+J105+L105+N105)","v":0},{"$f":"SUM(G105+I105+K105+M105+O105)","v":0}]
["SECCIÓN H: INGRESOS AL PSCV"]
["CONCEPTO",null,"TOTAL",null,null,"INGRESOS"]
[null,null,null,null,null,"15 - 19",null,"20-24",null,"25 a 29",null,"30 a 34",null,"35 a 39",null,"40 a 44",null,"45 a 49",null,"50 a 54",null,"55 a 59",null,"60 a 64",null,"65 a 69",null,"70 a 74",null,"75 a 79",null,"80 y más",null,null,null,null,null,null,null,null,null,null,null,null,null,null,null,null,null,null,null,null,null,null,null,null,null,null,null,null,null,null,null,null,null,null,null,null,null,null,null,null,null,null,null,null,null,null,{"$f":"IF(C108>C106+C107,\"* Los Ingresos de pacientes dependientes severos con escaras DEBEN estar incluidos en los Ingresos de pacientes dependientes severos Oncológicos o No Oncológicos. \",\"\")","v":{"$error":"#VALUE!"}}]
[null,null,"Ambos Sexos","Hombres","Mujeres","Hombres","Mujeres","Hombres","Mujeres","Hombres","Mujeres","Hombres","Mujeres","Hombres","Mujeres","Hombres","Mujeres","Hombres","Mujeres","Hombres","Mujeres","Hombres","Mujeres","Hombres","Mujeres","Hombres","Mujeres","Hombres","Mujeres","Hombres","Mujeres","Hombres","Mujeres"]
["INGRESOS AL PSCV",null,{"$f":"SUM(D110:E110)","v":4},{"$f":"SUM(F110+H110+J110+L110+N110+P110+R110+T110+V110+X110+Z110+AB110+AD110+AF110)","v":2},{"$f":"SUM(G110+I110+K110+M110+O110+Q110+S110+U110+W110+Y110+AA110+AC110+AE110+AG110)","v":2},0,0,0,0,0,0,0,0,0,0,0,0,0,0,0,0,2,1,0,0,0,1,0,0,0,0,0,0]
["PROGRAMA DE SALUD CARDIOVASCULAR","HIPERTENSIÓN ARTERIAL",{"$f":"SUM(D111:E111)","v":3},1,{"$f":"SUM(G111+I111+K111+M111+O111+Q111+S111+U111+W111+Y111+AA111+AC111+AE111+AG111)","v":2},0,0,0,0,0,0,0,0,0,0,0,0,0,0,0,0,1,1,0,0,0,1,0,0,0,0,0,0,null,null,null,null,null,null,null,null,null,null,null,null,null,null,null,null,null,null,null,null,null,null,null,null,null,null,null,null,null,null,null,null,null,null,null,null,null,null,null,null,null,null,null,null,null,null,null,null,null,null,null,0]
[null,"DIABETES MELLITUS",0,0,0,0,0,0,0,0,0,0,0,0,0,0,0,0,0,0,0,0,0,0,0,0,0,0,0,0,0,0,0,null,null,null,null,null,null,null,null,null,null,null,null,null,null,null,null,null,null,null,null,null,null,null,null,null,null,null,null,null,null,null,null,null,null,null,null,null,null,null,null,null,null,null,null,null,null,null,null,null,null,null,0]
[null,"DISLIPIDEMIA",3,2,1,0,0,0,0,0,0,0,0,0,0,0,0,0,0,0,0,1,0,1,0,0,1,0,0,0,0,0,0,null,null,null,null,null,null,null,null,null,null,null,null,null,null,null,null,null,null,null,null,null,null,null,null,null,null,null,null,null,null,null,null,null,null,null,null,null,null,null,null,null,null,null,null,null,null,null,null,null,null,null,0]
[null,"ANTECEDENTES ENF. CARDIOVASCULAR ATEROSCLERÓTICA",0,0,0,0,0,0,0,0,0,0,0,0,0,0,0,0,0,0,0,0,0,0,0,0,0,0,0,0,0,0,0,null,null,null,null,null,null,null,null,null,null,null,null,null,null,null,null,null,null,null,null,null,null,null,null,null,null,null,null,null,null,null,null,null,null,null,null,null,null,null,null,null,null,null,null,null,null,null,null,null,null,null,0]
[null,"TABAQUISMO",0,0,0,0,0,0,0,0,0,0,0,0,0,0,0,0,0,0,0,0,0,0,0,0,0,0,0,0,0,0,0,null,null,null,null,null,null,null,null,null,null,null,null,null,null,null,null,null,null,null,null,null,null,null,null,null,null,null,null,null,null,null,null,null,null,null,null,null,null,null,null,null,null,null,null,null,null,null,null,null,null,null,0]
["SECCIÓN I: EGRESOS  DEL PSCV",null,null,null,null,null,null,null,null,null,null,null,null,null,null,null,null,null,null,null,null,null,null,null,null,null,null,null,null,null,null,null,null,null,null,null,null,null,null,null,null,null,null,null,null,null,null,null,null,null,null,null,null,null,null,null,null,null,null,null,null,null,null,null,null,null,null,null,null,null,null,null,null,null,null,null,null,null,null,null,null,null,null,null,0]
["CONCEPTO",null,"TOTAL",null,null,"EGRESOS",null,null,null,null,null,null,null,null,null,null,null,null,null,null,null,null,null,null,null,null,null,null,null,null,null,null,null,"CAUSAL DE EGRESO",null,null,null,null,null,null,null,null,null,null,null,null,null,null,null,null,null,null,null,null,null,null,null,null,null,null,null,null,null,null,null,null,null,null,null,null,null,null,null,null,null,null,null,null,null,null,null,null,null,null,0]
[null,null,null,null,null,"15 - 19",null,"20-24",null,"25 a 29",null,"30 a 34",null,"35 a 39",null,"40 a 44",null,"45 a 49",null,"50 a 54",null,"55 a 59",null,"60 a 64",null,"65 a 69",null,"70 a 74",null,"75 a 79",null,"80 y más",null,"Abandono","Traslado","Fallecimiento","No cumple criterio",null,null,null,null,null,null,null,null,null,null,null,null,null,null,null,null,null,null,null,null,null,null,null,null,null,null,null,null,null,null,null,null,null,null,null,null,null,null,null,null,null,null,null,null,null,null,null,0]
[null,null,"Ambos Sexos","Hombres","Mujeres","Hombres","Mujeres","Hombres","Mujeres","Hombres","Mujeres","Hombres","Mujeres","Hombres","Mujeres","Hombres","Mujeres","Hombres","Mujeres","Hombres","Mujeres","Hombres","Mujeres","Hombres","Mujeres","Hombres","Mujeres","Hombres","Mujeres","Hombres","Mujeres","Hombres","Mujeres",null,null,null,null,null,null,null,null,null,null,null,null,null,null,null,null,null,null,null,null,null,null,null,null,null,null,null,null,null,null,null,null,null,null,null,null,null,null,null,null,null,null,null,null,null,null,null,null,null,null,null,0]
["EGRESOS DEL PSCV",null,{"$f":"SUM(D120:E120)","v":2},{"$f":"SUM(F120+H120+J120+L120+N120+P120+R120+T120+V120+X120+Z120+AB120+AD120+AF120)","v":1},{"$f":"SUM(G120+I120+K120+M120+O120+Q120+S120+U120+W120+Y120+AA120+AC120+AE120+AG120)","v":1},0,0,0,0,0,0,0,0,0,0,0,0,0,0,0,0,0,0,0,1,0,0,0,0,1,0,0,0,0,0,0,2,null,null,null,null,null,null,null,null,null,null,null,null,null,null,null,null,null,null,null,null,null,null,null,null,null,null,null,null,null,null,null,null,null,null,null,null,null,null,null,null,null,null,null,null,null,null,null,0]
["PROGRAMA DE SALUD CARDIOVASCULAR","HIPERTENSIÓN ARTERIAL",{"$f":"SUM(D121:E121)","v":0},0,0,0,0,0,0,0,0,0,0,0,0,0,0,0,0,0,0,0,0,0,0,0,0,0,0,0,0,0,0,0,0,0,0,null,null,null,null,null,null,null,null,null,null,null,null,null,null,null,null,null,null,null,null,null,null,null,null,null,null,null,null,null,null,null,null,null,null,null,null,null,null,null,null,null,null,null,null,null,null,null,0]
[null,"DIABETES MELLITUS",0,0,0,0,0,0,0,0,0,0,0,0,0,0,0,0,0,0,0,0,0,0,0,0,0,0,0,0,0,0,0,0,0,0,0,null,null,null,null,null,null,null,null,null,null,null,null,null,null,null,null,null,null,null,null,null,null,null,null,null,null,null,null,null,null,null,null,null,null,null,null,null,null,null,null,null,null,null,null,null,null,null,0]
[null,"DISLIPIDEMIA",2,1,1,0,0,0,0,0,0,0,0,0,0,0,0,0,0,0,0,0,0,0,1,0,0,0,0,1,0,0,0,0,0,0,2]
[null,"ANTECEDENTES ENF. CARDIOVASCULAR ATEROSCLERÓTICA",0,0,0,0,0,0,0,0,0,0,0,0,0,0,0,0,0,0,0,0,0,0,0,0,0,0,0,0,0,0,0,0,0,0,0]
[null,"TABAQUISMO",0,0,0,0,0,0,0,0,0,0,0,0,0,0,0,0,0,0,0,0,0,0,0,0,0,0,0,0,0,0,0,0,0,0,0,null,null,null,null,null,null,null,null,null,null,null,null,null,null,null,null,null,null,null,null,null,null,null,null,null,null,null,null,null,null,null,null,null,null,null,null,null,null,null,null,null,{"$f":"IF(C125>C124+C123,\"* Los Ingresos de pacientes dependientes severos con escaras DEBEN estar incluidos en los Ingresos de pacientes dependientes severos Oncológicos o No Oncológicos. \",\"\")","v":""}]
["SECCIÓN J: INGRESOS Y EGRESOS AL PROGRAMA DE PACIENTES CON DEPENDENCIA LEVE, MODERADA Y SEVERA"]
["CONCEPTO",null,"TOTAL",null,null,"INGRESOS",null,null,null,null,null,null,null,null,null,null,null,null,null,null,null,null,null,null,null,null,null,null,null,null,null,null,null,"CAUSAL DE EGRESO",null,null,null,null,null,null,null,null,null,null,null,null,null,null,null,null,null,null,null,null,null,null,null,null,null,null,null,null,null,null,null,null,null,null,null,null,null,null,null,null,null,null,null,null,null,null,null,null,null,null,0]
[null,null,null,null,null,"< 20 años",null,"20-24",null,"25 a 29",null,"30 a 34",null,"35 a 39",null,"40 a 44",null,"45 a 49",null,"50 a 54",null,"55 a 59",null,"60 a 64",null,"65 a 69",null,"70 a 74",null,"75 a 79",null,"80 y más",null,"Altas","Abandono/\nTraslado","Fallecimiento"]
[null,null,"Ambos Sexos","Hombres","Mujeres","Hombres","Mujeres","Hombres","Mujeres","Hombres","Mujeres","Hombres","Mujeres","Hombres","Mujeres","Hombres","Mujeres","Hombres","Mujeres","Hombres","Mujeres","Hombres","Mujeres","Hombres","Mujeres","Hombres","Mujeres","Hombres","Mujeres","Hombres","Mujeres","Hombres","Mujeres"]
["DEPENDENCIA LEVE",null,{"$f":"SUM(D130:E130)","v":0},{"$f":"SUM(F130+H130+J130+L130+N130+P130+R130+T130+V130+X130+Z130+AB130+AD130+AF130)","v":0},{"$f":"SUM(G130+I130+K130+M130+O130+Q130+S130+U130+W130+Y130+AA130+AC130+AE130+AG130)","v":0}]
["DEPENDENCIA MODERADA",null,{"$f":"SUM(D131:E131)","v":0},{"$f":"SUM(F131+H131+J131+L131+N131+P131+R131+T131+V131+X131+Z131+AB131+AD131+AF131)","v":0},0]
["DEPENDENCIA GRAVE Y TOTAL","ONCOLÓGICO",{"$f":"SUM(D132:E132)","v":0},0,0,null,null,null,null,null,null,null,null,null,null,null,null,null,null,null,null,null,null,null,null,null,null,null,null,null,null,null,null,null,null,null,null,null,null,null,null,null,null,null,null,null,null,null,null,null,null,null,null,null,null,null,null,null,null,null,null,null,null,null,null,null,null,null,null,null,null,null,null,null,null,null,null,null,null,null,null,null,null,null,0]
[null,"NO ONCOLÓGICO",{"$f":"SUM(D133:E133)","v":0},0,0,null,null,null,null,null,null,null,null,null,null,null,null,null,null,null,null,null,null,null,null,null,null,null,null,null,null,null,null,null,null,null,null,null,null,null,null,null,null,null,null,null,null,null,null,null,null,null,null,null,null,null,null,null,null,null,null,null,null,null,null,null,null,null,null,null,null,null,null,null,null,null,null,null,null,null,null,null,null,null,0]
["DEPENDENCIA SEVERA CON  ESCARAS ",null,{"$f":"SUM(D134:E134)","v":0},0,0,null,null,null,null,null,null,null,null,null,null,null,null,null,null,null,null,null,null,null,null,null,null,null,null,null,null,null,null,null,null,null,{"$f":"CA134","v":""},null,null,null,null,null,null,null,null,null,null,null,null,null,null,null,null,null,null,null,null,null,null,null,null,null,null,null,null,null,null,null,null,null,null,null,null,null,null,null,null,null,{"$f":"IF(C134>C133+C132,\"* Los Ingresos de pacientes dependientes severos con escaras DEBEN estar incluidos en los Ingresos de pacientes dependientes severos Oncológicos o No Oncológicos. \",\"\")","v":""}]
["SECCIÓN K: INGRESOS AL PROGRAMA DEL ADULTO MAYOR SEGÚN CONDICIÓN DE FUNCIONALIDAD Y DEPENDENCIA"]
["CONDICIÓN",null,"TOTAL",null,null,"65 a 69",null,"70 a 74",null,"75 a 79",null,"80 y más"]
[null,null,"Ambos Sexos","Hombres","Mujeres","Hombres","Mujeres","Hombres","Mujeres","Hombres","Mujeres","Hombres","Mujeres"]
["EFAM","AUTOVALENTE SIN RIESGO",{"$f":"SUM(D138:E138)","v":10},{"$f":"SUM(F138+H138+J138+L138)","v":4},6,3,2,1,2,0,1,0,1]
[null,"AUTOVALENTE CON RIESGO",{"$f":"SUM(D139:E139)","v":7},3,4,1,0,1,2,0,2,1,0]
[null,"RIESGO DE DEPENDENCIA ",{"$f":"SUM(D140:E140)","v":11},3,8,1,1,0,1,0,2,2,4]
["SUBTOTAL",null,{"$f":"SUM(C138:C140)","v":28},{"$f":"SUM(D138:D140)","v":10},{"$f":"SUM(E138:E140)","v":18},{"$f":"SUM(F138:F140)","v":5},3,2,5,0,5,3,5]
["BARTHEL","DEPENDIENTE LEVE",{"$f":"SUM(D142:E142)","v":4},{"$f":"SUM(F142+H142+J142+L142)","v":1},3,0,1,0,0,0,0,1,2]
[null,"DEPENDIENTE MODERADO",{"$f":"SUM(D143:E143)","v":1},1,0,0,0,0,0,0,0,1,0]
[null,"DEPENDIENTE GRAVE ",{"$f":"SUM(D144:E144)","v":0},0,0,0,0,0,0,0,0,0,0]
[null,"DEPENDIENTE TOTAL",{"$f":"SUM(D145:E145)","v":0},0,0,0,0,0,0,0,0,0,0,null,null,null,null,null,null,null,null,null,null,null,null,null,null,null,null,null,null,null,null,null,null,null,null,null,null,null,null,null,null,null,null,null,null,null,null,null,null,null,null,null,null,null,null,null,null,null,null,null,null,null,null,null,null,null,null,null,null,null,null,null,null,null,null,null,null,null,null,null,null,null,0]
["SUBTOTAL",null,{"$f":"SUM(C142:C145)","v":5},{"$f":"SUM(D142:D145)","v":2},{"$f":"SUM(E142:E145)","v":3},{"$f":"SUM(F142:F145)","v":0},{"$f":"SUM(G142:G145)","v":1},0,0,0,0,2,2]
["TOTAL  ",null,{"$f":"SUM(C141+C146)","v":33},{"$f":"SUM(D141+D146)","v":12},{"$f":"SUM(E141+E146)","v":21},{"$f":"SUM(F141+F146)","v":5},{"$f":"SUM(G141+G146)","v":4},{"$f":"SUM(H141+H146)","v":2},5,0,5,5,7]
["SECCIÓN L: EGRESOS DEL PROGRAMA DEL ADULTO MAYOR SEGÚN CONDICIÓN DE FUNCIONALIDAD Y DEPENDENCIA"]
["CONDICIÓN",null,"TOTAL",null,null,"65 a 69",null,"70 a 74",null,"75 a 79",null,"80 y más",null,"CAUSAL DE EGRESO"]
[null,null,"Ambos Sexos","Hombres","Mujeres","Hombres","Mujeres","Hombres","Mujeres","Hombres","Mujeres","Hombres","Mujeres","Abandono","Traslado","Fallecimiento",null,null,null,null,null,null,null,null,null,null,null,null,null,null,null,null,null,null,null,null,null,null,null,null,null,null,null,null,null,null,null,null,null,null,null,null,null,null,null,null,null,null,null,null,null,null,null,null,null,null,null,null,null,null,null,null,null,null,null,null,null,null,null,null,null,null,null,null,0]
["EFAM","AUTOVALENTE SIN RIESGO",{"$f":"SUM(D151:E151)","v":0},{"$f":"SUM(F151+H151+J151+L151)","v":0},{"$f":"SUM(G151+I151+K151+M151)","v":0},null,null,null,null,null,null,null,null,null,null,null,null,null,null,null,null,null,null,null,null,null,null,null,null,null,null,null,null,null,null,null,null,null,null,null,null,null,null,null,null,null,null,null,null,null,null,null,null,null,null,null,null,null,null,null,null,null,null,null,null,null,null,null,null,null,null,null,null,null,null,null,null,null,null,null,null,null,null,null,0]
[null,"AUTOVALENTE CON RIESGO",{"$f":"SUM(D152:E152)","v":0},{"$f":"SUM(F152+H152+J152+L152)","v":0},0]
[null,"RIESGO DE DEPENDENCIA ",{"$f":"SUM(D153:E153)","v":0},0,0]
["SUBTOTAL",null,{"$f":"SUM(C151:C153)","v":0},{"$f":"SUM(D151:D153)","v":0},{"$f":"SUM(E151:E153)","v":0},{"$f":"SUM(F151:F153)","v":0},{"$f":"SUM(G151:G153)","v":0},0,0,0,0,0,0,0,0,0,null,null,null,null,null,null,null,null,null,null,null,null,null,null,null,null,null,null,null,null,null,null,null,null,null,null,null,null,null,null,null,null,null,null,null,null,null,null,null,null,null,null,null,null,null,null,null,null,null,null,null,null,null,null,null,null,null,null,null,null,null,null,null,null,null,null,null,null,0]
["BARTHEL","DEPENDIENTE LEVE",{"$f":"SUM(D155:E155)","v":0},{"$f":"SUM(F155+H155+J155+L155)","v":0},{"$f":"SUM(G155+I155+K155+M155)","v":0}]
[null,"DEPENDIENTE MODERADO",{"$f":"SUM(D156:E156)","v":0},{"$f":"SUM(F156+H156+J156+L156)","v":0},0,null,null,null,null,null,null,null,null,null,null,null,null,null,null,null,null,null,null,null,null,null,null,null,null,null,null,null,null,null,null,null,null,null,null,null,null,null,null,null,null,null,null,null,null,null,null,null,null,null,null,null,null,null,null,null,null,null,null,null,null,null,null,null,null,null,null,null,null,null,null,null,null,null,null,null,null,null,null,null,0]
[null,"DEPENDIENTE GRAVE ",{"$f":"SUM(D157:E157)","v":0},0,0]
[null,"DEPENDIENTE TOTAL",{"$f":"SUM(D158:E158)","v":0},0,0]
["SUBTOTAL",null,{"$f":"SUM(C155:C158)","v":0},{"$f":"SUM(D155:D158)","v":0},{"$f":"SUM(E155:E158)","v":0},{"$f":"SUM(F155:F158)","v":0},{"$f":"SUM(G155:G158)","v":0},0,0,0,0,0,0,0,0,0,null,null,null,null,null,null,null,null,null,null,null,null,null,null,null,null,null,null,null,null,null,null,null,null,null,null,null,null,null,null,null,null,null,null,null,null,null,null,null,null,null,null,null,null,null,null,null,null,null,null,null,null,null,null,null,null,null,null,null,null,null,null,null,null,null,null,null,null,0]
["TOTAL  ",null,{"$f":"SUM(C154+C159)","v":0},{"$f":"SUM(D154+D159)","v":0},0,0,0,0,0,0,0,0,0,0,0,0]
["SECCIÓN M: INGRESOS Y EGRESOS DEL  PROGRAMA MÁS ADULTOS MAYORES AUTOVALENTES",null,null,null,null,null,null,null,null,null,null,null,null,null,null,null,null,null,null,null,null,null,null,null,null,null,null,null,null,null,null,null,null,null,null,null,null,null,null,null,null,null,null,null,null,null,null,null,null,null,null,null,null,null,null,null,null,null,null,null,null,null,null,null,null,null,null,null,null,null,null,null,null,null,null,null,null,null,null,null,null,null,null,null,0]
["CONDICIÓN",null,"TOTAL",null,null,"60 a 64",null,"65 a 69",null,"70 a 74",null,"75 a 79",null,"80 y más"]
[null,null,"Ambos Sexos","Hombres","Mujeres","Hombres","Mujeres","Hombres","Mujeres","Hombres","Mujeres","Hombres","Mujeres","Hombres","Mujeres"]
["INGRESO","AUTOVALENTE SIN RIESGO",{"$f":"SUM(D164+E164)","v":4},{"$f":"SUM(F164+H164+J164+L164+N164)","v":2},{"$f":"SUM(G164+I164+K164+M164+O164)","v":2},2,1,0,0,0,0,0,0,0,1]
[null,"AUTOVALENTE CON RIESGO",{"$f":"SUM(D165+E165)","v":2},{"$f":"SUM(H165+J165+L165+N165)","v":2},{"$f":"SUM(I165+K165+M165+O165)","v":0},null,null,0,0,0,0,0,0,2,0]
[null,"RIESGO DE DEPENDENCIA ",{"$f":"SUM(D166+E166)","v":1},{"$f":"SUM(H166+J166+L166+N166)","v":0},{"$f":"SUM(I166+K166+M166+O166)","v":1},null,null,0,0,0,0,0,0,0,1]
[null,"TOTAL INGRESOS",{"$f":"SUM(C164:C166)","v":7},{"$f":"SUM(D164:D166)","v":4},{"$f":"SUM(E164:E166)","v":3},{"$f":"SUM(F164:F166)","v":2},{"$f":"SUM(G164:G166)","v":1},0,0,0,0,0,0,2,2]
["EGRESO","COMPLETA CICLO",{"$f":"SUM(D168+E168)","v":86},{"$f":"SUM(F168+H168+J168+L168+N168)","v":20},{"$f":"SUM(G168+I168+K168+M168+O168)","v":66},3,17,4,13,6,15,2,13,5,8]
[null,"ABANDONO",{"$f":"SUM(D169+E169)","v":1},{"$f":"SUM(F169+H169+J169+L169+N169)","v":0},1,0,0,0,0,0,1,0,0,0,0]
[null,"TRASLADO ",{"$f":"SUM(D170+E170)","v":0},0,0,0,0,0,0,0,0,0,0,0,0]
[null,"FALLECIMIENTO",{"$f":"SUM(D171+E171)","v":0},0,0,0,0,0,0,0,0,0,0,0,0]
["* Los pacientes de 60 a 64 años, no debe desagregarse por condición de funcionalidad, por ello sólo se registran en la primera fila (Autovalente sin riesgo)."]
["** Para la desagregación por funcionalidad se contabiliza desde 65 y mas años.Sólo para el cálculo del total de los ingresos se contabiliza el rango de 60 - 64 años."]
["SECCIÓN N: INGRESOS AL PROGRAMA DE SALUD  MENTAL EN APS /ESPECIALIDAD"]
["MOTIVO DE INGRESO",null,"TOTAL",null,null,"0 - 4",null,"5 - 9",null,"10 - 14",null,"15 - 19",null,"20 - 24",null,"25 a 29",null,"30 a 34",null,"35 a 39",null,"40 a 44",null,"45 a 49",null,"50 a 54",null,"55 a 59",null,"60 a 64",null,"65 a 69",null,"70 a 74",null,"75 a 79",null,"80 y más",null,"GESTANTES","MADRE DE HIJO MENOR DE 5 AÑOS","PUEBLOS ORIGINARIOS",null,"Niños, Niñas, Adolescentes y Jóvenes Población SENAME","MIGRANTES"]
[null,null,"Ambos Sexos","Hombres","Mujeres","Hombres","Mujeres","Hombres","Mujeres","Hombres","Mujeres","Hombres","Mujeres","Hombres","Mujeres","Hombres","Mujeres","Hombres","Mujeres","Hombres","Mujeres","Hombres","Mujeres","Hombres","Mujeres","Hombres","Mujeres","Hombres","Mujeres","Hombres","Mujeres","Hombres","Mujeres","Hombres","Mujeres","Hombres","Mujeres","Hombres","Mujeres",null,null,"Hombres","Mujeres"]
["INGRESOS AL PROGRAMA",null,{"$f":"SUM(D177+E177)","v":35},{"$f":"SUM(F177+H177+J177+L177+N177+P177+R177+T177+V177+X177+Z177+AB177+AD177+AF177+AH177+AJ177+AL177)","v":10},{"$f":"SUM(G177+I177+K177+M177+O177+Q177+S177+U177+W177+Y177+AA177+AC177+AE177+AG177+AI177+AK177+AM177)","v":25},0,0,2,1,2,3,0,1,1,3,0,2,0,3,1,1,0,0,0,5,0,1,1,3,0,0,3,2,0,0,0,0,0,0,0,3,0,1,1,0,{"$f":"CA177&CB177&CC177&CD177&CE177&CF177&CN177","v":""},null,null,null,null,null,null,null,null,null,null,null,null,null,null,null,null,null,null,null,null,null,null,null,null,null,null,null,null,null,null,null,null,{"$f":"IF(CG177=0,\"\",\"* Las gestantes ingresadas al Programa NO debe ser mayor al Total de Mujeres ingresadas. \")","v":""},{"$f":"IF(CH177=0,\"\",\"* Las madres de hijos menor de 5 años NO DEBE ser mayor al Total de Mujeres ingresadas al Programa. \")","v":""},{"$f":"IF(CI177=0,\"\",\"* Los ingresos de Pueblos Originarios NO DEBE ser mayor al Total de ingresos del Programa.\")","v":""},{"$f":"IF(CJ177=0,\"\",\"* Los Niños, Niñas, Adolescentes y Jóvenes de Programas SENAME NO DEBE ser mayor al Total de ingresos del Programa. \")","v":""},{"$f":"IF(CK177=0,\"\",\"* Los Migrantes NO DEBEN ser mayor al Total de ingresos del Programa. \")","v":""},{"$f":"IF(CL177=0,\"\",\"* No olvide escribir los campos Gestante y/o Madre de Hijo menor de 5 años y/o Pueblos Originarios y/o Niños, Niñas, Adolescentes y Jóvenes de Programas SENAME y/o Migrante (Digite CERO si no tiene). \")","v":""},{"$f":"IF(E177<AN177,1,0)","v":0},{"$f":"IF(C177<AO177,1,0)","v":0},{"$f":"IF(C177<SUM(AP177,AQ177),1,0)","v":0},{"$f":"IF(C177<AR177,1,0)","v":0},{"$f":"IF(C177<AS177,1,0)","v":0},{"$f":"IF(AND(C177<>0,OR(AN177=\"\",AO177=\"\",AP177=\"\",AQ177=\"\",AR177=\"\",AS177=\"\")),1,0)","v":0},{"$f":"IF(AND(C177=0,OR(C179>0,C180>0,C181>0,C182>0,C183>0)),1,0)","v":0},{"$f":"IF(AND(C177=0,OR(C179>0,C180>0,C181>0,C182>0,C183>0)),\"* No olvide registrar al menos un ingreso y una persona con diagnóstico. \",\"\")","v":""}]
["FACTORES DE RIESGO Y CONDICIONANTES DE LA SALUD MENTAL"]
["VIOLENCIA","VICTIMA",{"$f":"SUM(D179+E179)","v":0},{"$f":"SUM(F179+H179+J179+L179+N179+P179+R179+T179+V179+X179+Z179+AB179+AD179+AF179+AH179+AJ179+AL179)","v":0},{"$f":"SUM(G179+I179+K179+M179+O179+Q179+S179+U179+W179+Y179+AA179+AC179+AE179+AG179+AI179+AK179+AM179)","v":0},null,null,null,null,null,null,null,null,null,null,null,null,null,null,null,null,null,null,null,null,null,null,null,null,null,null,null,null,null,null,null,null,null,null,null,null,null,null,null,null,{"$f":"CA179&CB179&CC179&CD179&CE179&CF179&CN179","v":""},null,null,null,null,null,null,null,null,null,null,null,null,null,null,null,null,null,null,null,null,null,null,null,null,null,null,null,null,null,null,null,null,{"$f":"IF(CG179=0,\"\",\"* Las gestantes ingresadas al Programa NO debe ser mayor al Total de Mujeres ingresadas. \")","v":""},{"$f":"IF(CH179=0,\"\",\"* Las madres de hijos menor de 5 años NO DEBE ser mayor al Total de Mujeres ingresadas al Programa. \")","v":""},{"$f":"IF(CI179=0,\"\",\"* Los ingresos de Pueblos Originarios NO DEBE ser mayor al Total de ingresos del Programa.\")","v":""},{"$f":"IF(CJ179=0,\"\",\"* Los Niños, Niñas, Adolescentes y Jóvenes de Programas SENAME NO DEBE ser mayor al Total de ingresos del Programa. \")","v":""},{"$f":"IF(CK179=0,\"\",\"* Los Migrantes NO DEBEN ser mayor al Total de ingresos del Programa. \")","v":""},{"$f":"IF(CL179=0,\"\",\"* No olvide escribir los campos Gestante y/o Madre de Hijo menor de 5 años y/o Pueblos Originarios y/o Niños, Niñas, Adolescentes y Jóvenes de Programas SENAME y/o Migrante (Digite CERO si no tiene). \")","v":""},{"$f":"IF(E179<AN179,1,0)","v":0},{"$f":"IF(C179<AO179,1,0)","v":0},{"$f":"IF(C179<SUM(AP179,AQ179),1,0)","v":0},{"$f":"IF(C179<AR179,1,0)","v":0},{"$f":"IF(C179<AS179,1,0)","v":0},{"$f":"IF(AND(C179<>0,OR(AN179=\"\",AO179=\"\",AP179=\"\",AQ179=\"\",AR179=\"\",AS179=\"\")),1,0)","v":0}]
[null,"AGRESOR / A",{"$f":"SUM(D180+E180)","v":0},0,0,null,null,null,null,null,null,null,null,null,null,null,null,null,null,null,null,null,null,null,null,null,null,null,null,null,null,null,null,null,null,null,null,null,null,null,null,null,null,null,null,"",null,null,null,null,null,null,null,null,null,null,null,null,null,null,null,null,null,null,null,null,null,null,null,null,null,null,null,null,null,null,null,null,"","","","","","",0,0,0,0,0,0]
["ABUSO SEXUAL",null,{"$f":"SUM(D181+E181)","v":0},0,0,null,null,null,null,null,null,null,null,null,null,null,null,null,null,null,null,null,null,null,null,null,null,null,null,null,null,null,null,null,null,null,null,null,null,null,null,null,null,null,null,"",null,null,null,null,null,null,null,null,null,null,null,null,null,null,null,null,null,null,null,null,null,null,null,null,null,null,null,null,null,null,null,null,"","","","","","",0,0,0,0,0,0,0]
["SUICIDIO","IDEACIÓN",0,0,0,null,null,null,null,null,null,null,null,null,null,null,null,null,null,null,null,null,null,null,null,null,null,null,null,null,null,null,null,null,null,null,null,null,null,null,null,null,null,null,null,"",null,null,null,null,null,null,null,null,null,null,null,null,null,null,null,null,null,null,null,null,null,null,null,null,null,null,null,null,null,null,null,null,"","","","","","",0,0,0,0,0,0]
[null,"INTENTO",0,0,0,null,null,null,null,null,null,null,null,null,null,null,null,null,null,null,null,null,null,null,null,null,null,null,null,null,null,null,null,null,null,null,null,null,null,null,null,null,null,null,null,"",null,null,null,null,null,null,null,null,null,null,null,null,null,null,null,null,null,null,null,null,null,null,null,null,null,null,null,null,null,null,null,null,"","","","","","",0,0,0,0,0,0]
["PERSONAS CON DIAGNÓSTICOS DE TRASTORNOS MENTALES ",null,40,12,28,0,0,2,1,3,3,0,2,1,3,0,2,0,3,1,1,0,0,0,7,0,1,1,3,0,0,3,2,0,0,1,0,0,0,0,3,0,1,1,0,"",null,null,null,null,null,null,null,null,null,null,null,null,null,null,null,null,null,null,null,null,null,null,null,null,null,null,null,null,null,null,null,null,"","","","","","",0,0,0,0,0,0,0]
["TRASTORNOS DEL HUMOR\n(AFECTIVOS)","DEPRESIÓN LEVE",2,0,2,0,0,0,0,0,1,0,0,0,0,0,0,0,0,0,0,0,0,0,0,0,0,0,0,0,0,0,1,0,0,0,0,0,0,0,0,0,0,0,0,"",null,null,null,null,null,null,null,null,null,null,null,null,null,null,null,null,null,null,null,null,null,null,null,null,null,null,null,null,null,null,null,null,"","","","","","",0,0,0,0,0,0]
[null,"DEPRESIÓN MODERADA",7,2,5,0,0,0,0,0,1,0,0,0,1,0,0,0,0,0,1,0,0,0,2,0,0,0,0,0,0,1,0,0,0,1,0,0,0,0,1,0,0,0,0,"",null,null,null,null,null,null,null,null,null,null,null,null,null,null,null,null,null,null,null,null,null,null,null,null,null,null,null,null,null,null,null,null,"","","","","","",0,0,0,0,0,0]
[null,"DEPRESIÓN GRAVE",1,1,0,0,0,0,0,1,0,0,0,0,0,0,0,0,0,0,0,0,0,0,0,0,0,0,0,0,0,0,0,0,0,0,0,0,0,0,0,0,0,0,0,"",null,null,null,null,null,null,null,null,null,null,null,null,null,null,null,null,null,null,null,null,null,null,null,null,null,null,null,null,null,null,null,null,"","","","","","",0,0,0,0,0,0]
[null,"DEPRESIÓN POST PARTO",0,null,{"$f":"SUM(K188+M188+O188+Q188+S188+U188+W188+Y188+AA188+AC188+AE188+AG188+AI188+AK188+AM188)","v":0},null,null,null,null,null,null,null,null,null,null,null,null,null,null,null,null,null,null,null,null,null,null,null,null,null,null,null,null,null,null,null,null,null,null,null,null,null,null,null,null,"",null,null,null,null,null,null,null,null,null,null,null,null,null,null,null,null,null,null,null,null,null,null,null,null,null,null,null,null,null,null,null,null,"","","","","","",0,0,0,0,0,{"$f":"IF(AND(C188<>0,OR(AN188=\"\",AO188=\"\",AQ188=\"\",AR188=\"\",AS188=\"\")),1,0)","v":0}]
[null,"TRASTORNO BIPOLAR",0,{"$f":"SUM(F189+H189+J189+L189+N189+P189+R189+T189+V189+X189+Z189+AB189+AD189+AF189+AH189+AJ189+AL189)","v":0},0,null,null,null,null,null,null,null,null,null,null,null,null,null,null,null,null,null,null,null,null,null,null,null,null,null,null,null,null,null,null,null,null,null,null,null,null,null,null,null,null,"",null,null,null,null,null,null,null,null,null,null,null,null,null,null,null,null,null,null,null,null,null,null,null,null,null,null,null,null,null,null,null,null,"","","","","","",0,0,0,0,0,0]
[null,"DEPRESIÓN REFRACTARIA",0,0,0,null,null,null,null,null,null,null,null,null,null,null,null,null,null,null,null,null,null,null,null,null,null,null,null,null,null,null,null,null,null,null,null,null,null,null,null,null,null,null,null,"",null,null,null,null,null,null,null,null,null,null,null,null,null,null,null,null,null,null,null,null,null,null,null,null,null,null,null,null,null,null,null,null,"","","","","","",0,0,0,0,0,0]
[null,"DEPRESIÓN GRAVE CON PSICOSIS",1,1,0,0,0,0,0,1,0,0,0,0,0,0,0,0,0,0,0,0,0,0,0,0,0,0,0,0,0,0,0,0,0,0,0,0,0,0,0,0,0,0,0,"",null,null,null,null,null,null,null,null,null,null,null,null,null,null,null,null,null,null,null,null,null,null,null,null,null,null,null,null,null,null,null,null,"","","","","","",0,0,0,0,0,0]
[null,"DEPRESIÓN  CON ALTO RIESGO SUICIDA",0,0,0,null,null,null,null,null,null,null,null,null,null,null,null,null,null,null,null,null,null,null,null,null,null,null,null,null,null,null,null,null,null,null,null,null,null,null,null,null,null,null,null,"",null,null,null,null,null,null,null,null,null,null,null,null,null,null,null,null,null,null,null,null,null,null,null,null,null,null,null,null,null,null,null,null,"","","","","","",0,0,0,0,0,0]
["TRASTORNOS MENTALES Y DEL COMPORTAMIENTO DEBIDO A CONSUMO SUSTANCIAS PSICOTRÓPICAS","CONSUMO PERJUDICIAL O DEPENDENCIA DE ALCOHOL",0,0,0,null,null,null,null,null,null,null,null,null,null,null,null,null,null,null,null,null,null,null,null,null,null,null,null,null,null,null,null,null,null,null,null,null,null,null,null,null,null,null,null,"",null,null,null,null,null,null,null,null,null,null,null,null,null,null,null,null,null,null,null,null,null,null,null,null,null,null,null,null,null,null,null,null,"","","","","","",0,0,0,0,0,0]
[null,"CONSUMO PERJUDICIAL O DEPENDENCIA COMO DROGA PRINCIPAL",0,0,0,null,null,null,null,null,null,null,null,null,null,null,null,null,null,null,null,null,null,null,null,null,null,null,null,null,null,null,null,null,null,null,null,null,null,null,null,null,null,null,null,"",null,null,null,null,null,null,null,null,null,null,null,null,null,null,null,null,null,null,null,null,null,null,null,null,null,null,null,null,null,null,null,null,"","","","","","",0,0,0,0,0,0]
[null,"POLICONSUMO",0,0,0,null,null,null,null,null,null,null,null,null,null,null,null,null,null,null,null,null,null,null,null,null,null,null,null,null,null,null,null,null,null,null,null,null,null,null,null,null,null,null,null,"",null,null,null,null,null,null,null,null,null,null,null,null,null,null,null,null,null,null,null,null,null,null,null,null,null,null,null,null,null,null,null,null,"","","","","","",0,0,0,0,0,0]
["TRASTORNOS DEL COMPORTAMIENTO Y DE LAS EMOCIONES DE COMIENZO HABITUAL EN LA INFANCIA Y ADOLESCENCIA","TRASTORNO HIPERCINÉTICOS",2,{"$f":"SUM(F196+H196+J196+L196+N196)","v":2},{"$f":"SUM(G196+I196+K196+M196+O196)","v":0},0,0,2,0,null,null,null,null,null,null,null,null,null,null,null,null,null,null,null,null,null,null,null,null,null,null,null,null,null,null,null,null,null,null,0,null,0,0,0,0,"",null,null,null,null,null,null,null,null,null,null,null,null,null,null,null,null,null,null,null,null,null,null,null,null,null,null,null,null,null,null,null,null,"",null,"","","","",0,null,0,0,0,{"$f":"IF(AND(C196<>0,OR(AN196=\"\",AP196=\"\",AQ196=\"\",AR196=\"\",AS196=\"\")),1,0)","v":0}]
[null,"TRASTORNO DISOCIAL DESAFIANTE Y OPOSICIONISTA",0,0,0,null,null,null,null,null,null,null,null,null,null,null,null,null,null,null,null,null,null,null,null,null,null,null,null,null,null,null,null,null,null,null,null,null,null,null,null,null,null,null,null,"",null,null,null,null,null,null,null,null,null,null,null,null,null,null,null,null,null,null,null,null,null,null,null,null,null,null,null,null,null,null,null,null,"",null,"","","","",0,null,0,0,0,{"$f":"IF(AND(C197<>0,OR(AN197=\"\",AP197=\"\",AQ197=\"\",AR197=\"\",AS197=\"\")),1,0)","v":0}]
[null,"TRASTORNO DE ANSIEDAD DE SEPARACIÓN EN LA INFANCIA",0,0,0,null,null,null,null,null,null,null,null,null,null,null,null,null,null,null,null,null,null,null,null,null,null,null,null,null,null,null,null,null,null,null,null,null,null,null,null,null,null,null,null,"",null,null,null,null,null,null,null,null,null,null,null,null,null,null,null,null,null,null,null,null,null,null,null,null,null,null,null,null,null,null,null,null,"",null,"","","","",0,null,0,0,0,{"$f":"IF(AND(C198<>0,OR(AN198=\"\",AP198=\"\",AQ198=\"\",AR198=\"\",AS198=\"\")),1,0)","v":0}]
[null,"OTROS TRASTORNOS DEL COMPORTAMIENTO Y DE LAS EMOCIONES DE COMIENZO HABITUAL EN LA INFANCIA Y ADOLESCENCIA",0,0,0,null,null,null,null,null,null,null,null,null,null,null,null,null,null,null,null,null,null,null,null,null,null,null,null,null,null,null,null,null,null,null,null,null,null,null,null,null,null,null,null,"",null,null,null,null,null,null,null,null,null,null,null,null,null,null,null,null,null,null,null,null,null,null,null,null,null,null,null,null,null,null,null,null,"",null,"","","","",0,null,0,0,0,{"$f":"IF(AND(C199<>0,OR(AN199=\"\",AP199=\"\",AQ199=\"\",AR199=\"\",AS199=\"\")),1,0)","v":0}]
["TRASTORNOS DE ANSIEDAD","TRASTORNO DE ESTRÉS POST TRAUMATICO",0,{"$f":"SUM(F200+H200+J200+L200+N200+P200+R200+T200+V200+X200+Z200+AB200+AD200+AF200+AH200+AJ200+AL200)","v":0},{"$f":"SUM(G200+I200+K200+M200+O200+Q200+S200+U200+W200+Y200+AA200+AC200+AE200+AG200+AI200+AK200+AM200)","v":0},0,0,0,0,0,0,0,0,0,0,0,0,0,0,0,0,0,0,0,0,0,0,0,0,0,0,0,0,0,0,0,0,0,0,0,0,0,0,0,0,"",null,null,null,null,null,null,null,null,null,null,null,null,null,null,null,null,null,null,null,null,null,null,null,null,null,null,null,null,null,null,null,null,"",{"$f":"IF(CH200=0,\"\",\"* Las madres de hijos menor de 5 años NO DEBE ser mayor al Total de Mujeres ingresadas al Programa. \")","v":""},"","","","",0,{"$f":"IF(C200<AO200,1,0)","v":0},0,0,0,0]
[null,"TRASTORNO DE PÁNICO CON AGOROFOBIA ",0,0,0,0,0,0,0,0,0,0,0,0,0,0,0,0,0,0,0,0,0,0,0,0,0,0,0,0,0,0,0,0,0,0,0,0,0,0,0,0,0,0,0,"",null,null,null,null,null,null,null,null,null,null,null,null,null,null,null,null,null,null,null,null,null,null,null,null,null,null,null,null,null,null,null,null,"","","","","","",0,0,0,0,0,0]
[null,"TRASTORNO DE PÁNICO SIN AGOROFOBIA ",3,1,2,0,0,0,0,1,1,0,1,0,0,0,0,0,0,0,0,0,0,0,0,0,0,0,0,0,0,0,0,0,0,0,0,0,0,0,0,0,0,0,0,"",null,null,null,null,null,null,null,null,null,null,null,null,null,null,null,null,null,null,null,null,null,null,null,null,null,null,null,null,null,null,null,null,"","","","","","",0,0,0,0,0,0]
[null,"FOBIAS SOCIALES",1,0,1,0,0,0,0,0,1,0,0,0,0,0,0,0,0,0,0,0,0,0,0,0,0,0,0,0,0,0,0,0,0,0,0,0,0,0,0,0,0,0,0,"",null,null,null,null,null,null,null,null,null,null,null,null,null,null,null,null,null,null,null,null,null,null,null,null,null,null,null,null,null,null,null,null,"","","","","","",0,0,0,0,0,0]
[null,"TRASTORNOS DE ANSIEDAD GENERALIZADA",1,0,1,0,0,0,0,0,0,0,0,0,0,0,0,0,0,0,0,0,0,0,0,0,0,0,1,0,0,0,0,0,0,0,0,0,0,0,0,0,0,0,0,"",null,null,null,null,null,null,null,null,null,null,null,null,null,null,null,null,null,null,null,null,null,null,null,null,null,null,null,null,null,null,null,null,"","","","","","",0,0,0,0,0,0]
[null,"OTROS TRASTORNOS DE ANSIEDAD",22,5,17,0,0,0,1,1,0,0,1,1,2,0,2,0,3,0,0,0,0,0,4,0,1,1,2,0,0,2,1,0,0,0,0,0,0,0,2,0,1,1,0,"",null,null,null,null,null,null,null,null,null,null,null,null,null,null,null,null,null,null,null,null,null,null,null,null,null,null,null,null,null,null,null,null,"","","","","","",0,0,0,0,0,0]
["DEMENCIAS (INCLUYE ALZHEIMER)","LEVE",0,0,0,null,null,null,null,null,null,null,null,null,null,null,null,null,null,null,null,null,null,null,null,null,null,null,null,null,null,null,null,null,null,null,null,null,null,null,null,null,null,null,null,"",null,null,null,null,null,null,null,null,null,null,null,null,null,null,null,null,null,null,null,null,null,null,null,null,null,null,null,null,null,null,null,null,null,null,"","","","",null,null,0,0,0,{"$f":"IF(AND(C206<>0,OR(AP206=\"\",AQ206=\"\",AR206=\"\",AS206=\"\")),1,0)","v":0}]
[null,"MODERADO",0,0,0,null,null,null,null,null,null,null,null,null,null,null,null,null,null,null,null,null,null,null,null,null,null,null,null,null,null,null,null,null,null,null,null,null,null,null,null,null,null,null,null,"",null,null,null,null,null,null,null,null,null,null,null,null,null,null,null,null,null,null,null,null,null,null,null,null,null,null,null,null,null,null,null,null,null,null,"","","","",null,null,0,0,0,{"$f":"IF(AND(C207<>0,OR(AP207=\"\",AQ207=\"\",AR207=\"\",AS207=\"\")),1,0)","v":0}]
[null,"AVANZADO",0,0,0,null,null,null,null,null,null,null,null,null,null,null,null,null,null,null,null,null,null,null,null,null,null,null,null,null,null,null,null,null,null,null,null,null,null,null,null,null,null,null,null,"",null,null,null,null,null,null,null,null,null,null,null,null,null,null,null,null,null,null,null,null,null,null,null,null,null,null,null,null,null,null,null,null,null,null,"","","","",null,null,0,0,0,{"$f":"IF(AND(C208<>0,OR(AP208=\"\",AQ208=\"\",AR208=\"\",AS208=\"\")),1,0)","v":0}]
["ESQUIZOFRENIA",null,0,0,0,null,null,null,null,null,null,null,null,null,null,null,null,null,null,null,null,null,null,null,null,null,null,null,null,null,null,null,null,null,null,null,null,null,null,null,null,null,null,null,null,"",null,null,null,null,null,null,null,null,null,null,null,null,null,null,null,null,null,null,null,null,null,null,null,null,null,null,null,null,null,null,null,null,{"$f":"IF(CG209=0,\"\",\"* Las gestantes ingresadas al Programa NO debe ser mayor al Total de Mujeres ingresadas. \")","v":""},{"$f":"IF(CH209=0,\"\",\"* Las madres de hijos menor de 5 años NO DEBE ser mayor al Total de Mujeres ingresadas al Programa. \")","v":""},"","","","",{"$f":"IF(E209<AN209,1,0)","v":0},{"$f":"IF(C209<AO209,1,0)","v":0},0,0,0,0]
["TRASTORNOS DE LA CONDUCTA ALIMENTARIA",null,0,0,0,null,null,null,null,null,null,null,null,null,null,null,null,null,null,null,null,null,null,null,null,null,null,null,null,null,null,null,null,null,null,null,null,null,null,null,null,null,null,null,null,"",null,null,null,null,null,null,null,null,null,null,null,null,null,null,null,null,null,null,null,null,null,null,null,null,null,null,null,null,null,null,null,null,"","","","","","",0,0,0,0,0,0]
["RETRASO MENTAL",null,0,0,0,null,null,null,null,null,null,null,null,null,null,null,null,null,null,null,null,null,null,null,null,null,null,null,null,null,null,null,null,null,null,null,null,null,null,null,null,null,null,null,null,"",null,null,null,null,null,null,null,null,null,null,null,null,null,null,null,null,null,null,null,null,null,null,null,null,null,null,null,null,null,null,null,null,"","","","","","",0,0,0,0,0,0]
["TRASTORNO DE PERSONALIDAD",null,3,1,2,0,0,0,0,0,0,0,0,0,0,0,1,0,0,1,0,0,0,0,1,0,0,0,0,0,0,0,0,0,0,0,0,0,0,0,0,0,0,0,0,"",null,null,null,null,null,null,null,null,null,null,null,null,null,null,null,null,null,null,null,null,null,null,null,null,null,null,null,null,null,null,null,null,"","","","","","",0,0,0,0,0,0]
["TRASTORNO GENERALIZADOS DEL DESARROLLO","AUTISMO",0,0,0,null,null,null,null,null,null,null,null,null,null,null,null,null,null,null,null,null,null,null,null,null,null,null,null,null,null,null,null,null,null,null,null,null,null,null,null,null,null,null,null,"",null,null,null,null,null,null,null,null,null,null,null,null,null,null,null,null,null,null,null,null,null,null,null,null,null,null,null,null,null,null,null,null,"","","","","","",0,0,0,0,0,0]
[null,"ASPERGER",0,0,0,null,null,null,null,null,null,null,null,null,null,null,null,null,null,null,null,null,null,null,null,null,null,null,null,null,null,null,null,null,null,null,null,null,null,null,null,null,null,null,null,"",null,null,null,null,null,null,null,null,null,null,null,null,null,null,null,null,null,null,null,null,null,null,null,null,null,null,null,null,null,null,null,null,null,null,null,null,null,null,{"$f":"IF(E214<AN214,1,0)","v":0},{"$f":"IF(C214<AO214,1,0)","v":0},{"$f":"IF(C214<SUM(AP214,AQ214),1,0)","v":0},{"$f":"IF(C214<AR214,1,0)","v":0},{"$f":"IF(C214<AS214,1,0)","v":0},{"$f":"IF(AND(C214<>0,OR(AN214=\"\",AO214=\"\",AP214=\"\",AQ214=\"\",AR214=\"\",AS214=\"\")),1,0)","v":0}]
[null,"SÍNDROME DE RETT",0,0,0,null,null,null,null,null,null,null,null,null,null,null,null,null,null,null,null,null,null,null,null,null,null,null,null,null,null,null,null,null,null,null,null,null,null,null,null,null,null,null,null,"",null,null,null,null,null,null,null,null,null,null,null,null,null,null,null,null,null,null,null,null,null,null,null,null,null,null,null,null,null,null,null,null,null,null,null,null,null,null,0,0,0,0,0,0]
[null,"TRASTORNO DESINTEGRATIVO DE LA INFANCIA",0,0,0,null,null,null,null,null,null,null,null,null,null,null,null,null,null,null,null,null,null,null,null,null,null,null,null,null,null,null,null,null,null,null,null,null,null,null,null,null,null,null,null,"",null,null,null,null,null,null,null,null,null,null,null,null,null,null,null,null,null,null,null,null,null,null,null,null,null,null,null,null,null,null,null,null,null,null,null,null,null,null,0,0,0,0,0,0]
[null,"TRASTONO GENERALIZADO DEL DESARROLLO NO ESPECÍFICO",0,0,0,null,null,null,null,null,null,null,null,null,null,null,null,null,null,null,null,null,null,null,null,null,null,null,null,null,null,null,null,null,null,null,null,null,null,null,null,null,null,null,null,"",null,null,null,null,null,null,null,null,null,null,null,null,null,null,null,null,null,null,null,null,null,null,null,null,null,null,null,null,null,null,null,null,null,null,null,null,null,null,0,0,0,0,0,0]
["EPILEPSIA",null,0,0,0,null,null,null,null,null,null,null,null,null,null,null,null,null,null,null,null,null,null,null,null,null,null,null,null,null,null,null,null,null,null,null,null,null,null,null,null,null,null,null,null,"",null,null,null,null,null,null,null,null,null,null,null,null,null,null,null,null,null,null,null,null,null,null,null,null,null,null,null,null,null,null,null,null,"","","","","","",0,0,0,0,0,0]
["OTRAS",null,0,0,0,null,null,null,null,null,null,null,null,null,null,null,null,null,null,null,null,null,null,null,null,null,null,null,null,null,null,null,null,null,null,null,null,null,null,null,null,null,null,null,null,"",null,null,null,null,null,null,null,null,null,null,null,null,null,null,null,null,null,null,null,null,null,null,null,null,null,null,null,null,null,null,null,null,"","","","","","",0,0,0,0,0,0]
["SECCIÓN O: EGRESOS DEL PROGRAMA DE SALUD  MENTAL POR ALTAS CLÍNICAS EN APS /ESPECIALIDAD"]
["MOTIVO DE EGRESO",null,"TOTAL",null,null,"0 - 4",null,"5 - 9",null,"10 - 14",null,"15 - 19",null,"20 - 24",null,"25 a 29",null,"30 a 34",null,"35 a 39",null,"40 a 44",null,"45 a 49",null,"50 a 54",null,"55 a 59",null,"60 a 64",null,"65 a 69",null,"70 a 74",null,"75 a 79",null,"80 y más",null,"EGRESOS",null,null,"GESTANTES","MADRE DE NIÑO MENOR DE 5 AÑOS","PUEBLOS ORIGINARIOS",null,"Niños, Niñas, Adolescentes y Jóvenes Población  SENAME","MIGRANTES"]
[null,null,"Ambos Sexos","Hombres","Mujeres","Hombres","Mujeres","Hombres","Mujeres","Hombres","Mujeres","Hombres","Mujeres","Hombres","Mujeres","Hombres","Mujeres","Hombres","Mujeres","Hombres","Mujeres","Hombres","Mujeres","Hombres","Mujeres","Hombres","Mujeres","Hombres","Mujeres","Hombres","Mujeres","Hombres","Mujeres","Hombres","Mujeres","Hombres","Mujeres","Hombres","Mujeres","Abandono","Fallecimiento","Traslado",null,null,"Hombres","Mujeres"]
["EGRESOS DEL PROGRAMA",null,{"$f":"SUM(D223+E223)","v":1},{"$f":"SUM(F223+H223+J223+L223+N223+P223+R223+T223+V223+X223+Z223+AB223+AD223+AF223+AH223+AJ223+AL223)","v":0},{"$f":"SUM(G223+I223+K223+M223+O223+Q223+S223+U223+W223+Y223+AA223+AC223+AE223+AG223+AI223+AK223+AM223)","v":1},0,0,0,0,0,0,0,0,0,0,0,0,0,0,0,0,0,0,0,1,0,0,0,0,0,0,0,0,0,0,0,0,0,0,0,0,0,0,0,0,1,0,0,{"$f":"CA223&CB223&CC223&CD223&CE223&CF223&CN223","v":""},null,null,null,null,null,null,null,null,null,null,null,null,null,null,null,null,null,null,null,null,null,null,null,null,null,null,null,null,null,{"$f":"IF(CG223=0,\"\",\"* Las gestantes egresadas del Programa NO debe ser mayor al Total de Mujeres egresadas. \")","v":""},{"$f":"IF(CH223=0,\"\",\"* Las madres de hijos menor de 5 años NO DEBE ser mayor al Total de Mujeres Egresadas al Programa. \")","v":""},{"$f":"IF(CI223=0,\"\",\"* Los egresos de Pueblos Originarios NO DEBE ser mayor al Total de egresos del Programa.\")","v":""},{"$f":"IF(CJ223=0,\"\",\"* Los Niños, Niñas, Adolescentes y Jóvenes de Programas SENAME NO DEBE ser mayor al Total de egresos del Programa. \")","v":""},{"$f":"IF(CK223=0,\"\",\"* Los Migrantes NO DEBEN ser mayor al Total de ingresos del Programa. \")","v":""},{"$f":"IF(CL223=0,\"\",\"* No olvide escribir los campos Gestante y/o Madre de Hijo menor de 5 años y/o Pueblos Originarios y/o Niños, Niñas, Adolescentes y Jóvenes de Programas SENAME (Digite CERO si no tiene). \")","v":""},{"$f":"IF(E223<AQ223,1,0)","v":0},{"$f":"IF(E223<AR223,1,0)","v":0},{"$f":"IF(C223<SUM(AS223,AT223),1,0)","v":0},{"$f":"IF(C223<AU223,1,0)","v":0},{"$f":"IF(C223<AV223,1,0)","v":0},{"$f":"IF(AND(C223<>0,OR(AQ223=\"\",AR223=\"\",AS223=\"\",AT223=\"\",AU223=\"\",AV223=\"\")),1,0)","v":0},{"$f":"IF(AND(C223=0,OR(C225>0,C226>0,C227>0,C228>0,C229>0)),1,0)","v":0},{"$f":"IF(CM223=1,\"* No olvide registrar al menos un ingreso y una persona con diagnóstico. \",\"\")","v":""}]
["FACTORES DE RIESGO Y CONDICIONANTES DE LA SALUD MENTAL"]
["VIOLENCIA ","VÍCTIMA",{"$f":"SUM(D225+E225)","v":0},{"$f":"SUM(F225+H225+J225+L225+N225+P225+R225+T225+V225+X225+Z225+AB225+AD225+AF225+AH225+AJ225+AL225)","v":0},{"$f":"SUM(G225+I225+K225+M225+O225+Q225+S225+U225+W225+Y225+AA225+AC225+AE225+AG225+AI225+AK225+AM225)","v":0},null,null,null,null,null,null,null,null,null,null,null,null,null,null,null,null,null,null,null,null,null,null,null,null,null,null,null,null,null,null,null,null,null,null,null,null,null,null,null,null,null,null,null,{"$f":"CA225&CB225&CC225&CD225&CE225&CF225&CN225","v":""},null,null,null,null,null,null,null,null,null,null,null,null,null,null,null,null,null,null,null,null,null,null,null,null,null,null,null,null,null,"","","","","","",{"$f":"IF(E225<AQ225,1,0)","v":0},{"$f":"IF(E225<AR225,1,0)","v":0},{"$f":"IF(C225<SUM(AS225,AT225),1,0)","v":0},{"$f":"IF(C225<AU225,1,0)","v":0},{"$f":"IF(C225<AV225,1,0)","v":0},{"$f":"IF(AND(C225<>0,OR(AQ225=\"\",AR225=\"\",AS225=\"\",AT225=\"\",AU225=\"\",AV225=\"\")),1,0)","v":0}]
[null,"AGRESOR / A",{"$f":"SUM(D226+E226)","v":0},0,0,null,null,null,null,null,null,null,null,null,null,null,null,null,null,null,null,null,null,null,null,null,null,null,null,null,null,null,null,null,null,null,null,null,null,null,null,null,null,null,null,null,null,null,"",null,null,null,null,null,null,null,null,null,null,null,null,null,null,null,null,null,null,null,null,null,null,null,null,null,null,null,null,null,"","","","","","",0,0,0,0,0,0]
["ABUSO SEXUAL",null,{"$f":"SUM(D227+E227)","v":0},0,0,null,null,null,null,null,null,null,null,null,null,null,null,null,null,null,null,null,null,null,null,null,null,null,null,null,null,null,null,null,null,null,null,null,null,null,null,null,null,null,null,null,null,null,"",null,null,null,null,null,null,null,null,null,null,null,null,null,null,null,null,null,null,null,null,null,null,null,null,null,null,null,null,null,null,null,"","","","",0,0,0,0,0,0]
["SUICIDIO","IDEACIÓN",0,0,0,null,null,null,null,null,null,null,null,null,null,null,null,null,null,null,null,null,null,null,null,null,null,null,null,null,null,null,null,null,null,null,null,null,null,null,null,null,null,null,null,null,null,null,"",null,null,null,null,null,null,null,null,null,null,null,null,null,null,null,null,null,null,null,null,null,null,null,null,null,null,null,null,null,"","","","","","",0,0,0,0,0,0]
[null,"INTENTO",0,0,0,null,null,null,null,null,null,null,null,null,null,null,null,null,null,null,null,null,null,null,null,null,null,null,null,null,null,null,null,null,null,null,null,null,null,null,null,null,null,null,null,null,null,null,"",null,null,null,null,null,null,null,null,null,null,null,null,null,null,null,null,null,null,null,null,null,null,null,null,null,null,null,null,null,"","","","","","",0,0,0,0,0,0]
["PERSONAS CON DIAGNÓSTICOS DE TRASTORNOS MENTALES ",null,1,0,1,0,0,0,0,0,0,0,0,0,0,0,0,0,0,0,0,0,0,0,1,0,0,0,0,0,0,0,0,0,0,0,0,0,0,0,0,0,0,0,0,1,0,0,"",null,null,null,null,null,null,null,null,null,null,null,null,null,null,null,null,null,null,null,null,null,null,null,null,null,null,null,null,null,"","","","","","",0,0,0,0,0,0,0]
["TRASTORNOS DEL HUMOR\n(AFECTIVOS)","DEPRESIÓN LEVE",0,0,0,null,null,null,null,null,null,null,null,null,null,null,null,null,null,null,null,null,null,null,null,null,null,null,null,null,null,null,null,null,null,null,null,null,null,null,null,null,null,null,null,null,null,null,"",null,null,null,null,null,null,null,null,null,null,null,null,null,null,null,null,null,null,null,null,null,null,null,null,null,null,null,null,null,"","","","","","",0,0,0,0,0,0]
[null,"DEPRESIÓN MODERADA",0,0,0,null,null,null,null,null,null,null,null,null,null,null,null,null,null,null,null,null,null,null,null,null,null,null,null,null,null,null,null,null,null,null,null,null,null,null,null,null,null,null,null,null,null,null,"",null,null,null,null,null,null,null,null,null,null,null,null,null,null,null,null,null,null,null,null,null,null,null,null,null,null,null,null,null,"","","","","","",0,0,0,0,0,0]
[null,"DEPRESIÓN GRAVE",0,0,0,null,null,null,null,null,null,null,null,null,null,null,null,null,null,null,null,null,null,null,null,null,null,null,null,null,null,null,null,null,null,null,null,null,null,null,null,null,null,null,null,null,null,null,"",null,null,null,null,null,null,null,null,null,null,null,null,null,null,null,null,null,null,null,null,null,null,null,null,null,null,null,null,null,"","","","","","",0,0,0,0,0,0]
[null,"DEPRESIÓN POST PARTO",0,null,{"$f":"SUM(K234+M234+O234+Q234+S234+U234+W234+Y234+AA234+AC234+AE234+AG234+AI234+AK234+AM234)","v":0},null,null,null,null,null,null,null,null,null,null,null,null,null,null,null,null,null,null,null,null,null,null,null,null,null,null,null,null,null,null,null,null,null,null,null,null,null,null,null,null,null,null,null,"",null,null,null,null,null,null,null,null,null,null,null,null,null,null,null,null,null,null,null,null,null,null,null,null,null,null,null,null,null,"","","","","","",0,0,0,0,0,{"$f":"IF(AND(C234<>0,OR(AQ234=\"\",AR234=\"\",AT234=\"\",AU234=\"\",AV234=\"\")),1,0)","v":0}]
[null,"TRASTORNO BIPOLAR",0,{"$f":"SUM(F235+H235+J235+L235+N235+P235+R235+T235+V235+X235+Z235+AB235+AD235+AF235+AH235+AJ235+AL235)","v":0},0,null,null,null,null,null,null,null,null,null,null,null,null,null,null,null,null,null,null,null,null,null,null,null,null,null,null,null,null,null,null,null,null,null,null,null,null,null,null,null,null,null,null,null,"",null,null,null,null,null,null,null,null,null,null,null,null,null,null,null,null,null,null,null,null,null,null,null,null,null,null,null,null,null,"","","","","","",0,0,0,0,0,0]
[null,"DEPRESIÓN REFRACTARIA",0,0,0,null,null,null,null,null,null,null,null,null,null,null,null,null,null,null,null,null,null,null,null,null,null,null,null,null,null,null,null,null,null,null,null,null,null,null,null,null,null,null,null,null,null,null,"",null,null,null,null,null,null,null,null,null,null,null,null,null,null,null,null,null,null,null,null,null,null,null,null,null,null,null,null,null,"","","","","","",0,0,0,0,0,0]
[null,"DEPRESIÓN GRAVE CON PSICOSIS",0,0,0,null,null,null,null,null,null,null,null,null,null,null,null,null,null,null,null,null,null,null,null,null,null,null,null,null,null,null,null,null,null,null,null,null,null,null,null,null,null,null,null,null,null,null,"",null,null,null,null,null,null,null,null,null,null,null,null,null,null,null,null,null,null,null,null,null,null,null,null,null,null,null,null,null,"","","","","","",0,0,0,0,0,0]
[null,"DEPRESIÓN  CON ALTO RIESGO SUICIDA",0,0,0,null,null,null,null,null,null,null,null,null,null,null,null,null,null,null,null,null,null,null,null,null,null,null,null,null,null,null,null,null,null,null,null,null,null,null,null,null,null,null,null,null,null,null,"",null,null,null,null,null,null,null,null,null,null,null,null,null,null,null,null,null,null,null,null,null,null,null,null,null,null,null,null,null,"","","","","","",0,0,0,0,0,0]
["TRASTORNOS MENTALES Y DEL COMPORTAMIENTO DEBIDO A CONSUMO SUSTANCIAS PSICOTRÓPICAS","CONSUMO PERJUDICIAL O DEPENDENCIA DE ALCOHOL",0,0,0,null,null,null,null,null,null,null,null,null,null,null,null,null,null,null,null,null,null,null,null,null,null,null,null,null,null,null,null,null,null,null,null,null,null,null,null,null,null,null,null,null,null,null,"",null,null,null,null,null,null,null,null,null,null,null,null,null,null,null,null,null,null,null,null,null,null,null,null,null,null,null,null,null,"","","","","","",0,0,0,0,0,0]
[null,"CONSUMO PERJUDICIAL O DEPENDENCIA COMO DROGA PRINCIPAL",0,0,0,null,null,null,null,null,null,null,null,null,null,null,null,null,null,null,null,null,null,null,null,null,null,null,null,null,null,null,null,null,null,null,null,null,null,null,null,null,null,null,null,null,null,null,"",null,null,null,null,null,null,null,null,null,null,null,null,null,null,null,null,null,null,null,null,null,null,null,null,null,null,null,null,null,"","","","","","",0,0,0,0,0,0]
[null,"POLICONSUMO",0,0,0,null,null,null,null,null,null,null,null,null,null,null,null,null,null,null,null,null,null,null,null,null,null,null,null,null,null,null,null,null,null,null,null,null,null,null,null,null,null,null,null,null,null,null,"",null,null,null,null,null,null,null,null,null,null,null,null,null,null,null,null,null,null,null,null,null,null,null,null,null,null,null,null,null,"","","","","","",0,0,0,0,0,0]
["TRASTORNOS DEL COMPORTAMIENTO Y DE LAS EMOCIONES DE COMIENZO HABITUAL EN LA INFANCIA Y ADOLESCENCIA","TRASTORNO HIPERCINÉTICOS",0,{"$f":"SUM(F242+H242+J242+L242+N242)","v":0},{"$f":"SUM(G242+I242+K242+M242+O242)","v":0},null,null,null,null,null,null,null,null,null,null,null,null,null,null,null,null,null,null,null,null,null,null,null,null,null,null,null,null,null,null,null,null,null,null,null,null,null,null,null,null,null,null,null,"",null,null,null,null,null,null,null,null,null,null,null,null,null,null,null,null,null,null,null,null,null,null,null,null,null,null,null,null,null,null,null,"","","","",0,0,0,0,0,{"$f":"IF(AND(C242<>0,OR(AQ242=\"\",AS242=\"\",AT242=\"\",AU242=\"\",AV242=\"\")),1,0)","v":0}]
[null,"TRASTORNO DISOCIAL DESAFIANTE Y OPOSICIONISTA",0,{"$f":"SUM(F243+H243+J243+L243+N243)","v":0},0,null,null,null,null,null,null,null,null,null,null,null,null,null,null,null,null,null,null,null,null,null,null,null,null,null,null,null,null,null,null,null,null,null,null,null,null,null,null,null,null,null,null,null,"",null,null,null,null,null,null,null,null,null,null,null,null,null,null,null,null,null,null,null,null,null,null,null,null,null,null,null,null,null,"",null,"","","","",0,null,0,0,0,{"$f":"IF(AND(C243<>0,OR(AQ243=\"\",AS243=\"\",AT243=\"\",AU243=\"\",AV243=\"\")),1,0)","v":0}]
[null,"TRASTORNO DE ANSIEDAD DE SEPARACIÓN EN LA INFANCIA",0,0,0,null,null,null,null,null,null,null,null,null,null,null,null,null,null,null,null,null,null,null,null,null,null,null,null,null,null,null,null,null,null,null,null,null,null,null,null,null,null,null,null,null,null,null,"",null,null,null,null,null,null,null,null,null,null,null,null,null,null,null,null,null,null,null,null,null,null,null,null,null,null,null,null,null,"",null,"","","","",0,null,0,0,0,{"$f":"IF(AND(C244<>0,OR(AQ244=\"\",AS244=\"\",AT244=\"\",AU244=\"\",AV244=\"\")),1,0)","v":0}]
[null,"OTROS TRASTORNOS DEL COMPORTAMIENTO Y DE LAS EMOCIONES DE COMIENZO HABITUAL EN LA INFANCIA Y ADOLESCENCIA",0,0,0,null,null,null,null,null,null,null,null,null,null,null,null,null,null,null,null,null,null,null,null,null,null,null,null,null,null,null,null,null,null,null,null,null,null,null,null,null,null,null,null,null,null,null,"",null,null,null,null,null,null,null,null,null,null,null,null,null,null,null,null,null,null,null,null,null,null,null,null,null,null,null,null,null,"",null,"","","","",0,null,0,0,0,{"$f":"IF(AND(C245<>0,OR(AQ245=\"\",AS245=\"\",AT245=\"\",AU245=\"\",AV245=\"\")),1,0)","v":0}]
["TRASTORNOS DE ANSIEDAD","TRASTORNO DE ESTRÉS POST TRAUMÁTICO",0,{"$f":"SUM(F246+H246+J246+L246+N246+P246+R246+T246+V246+X246+Z246+AB246+AD246+AF246+AH246+AJ246+AL246)","v":0},{"$f":"SUM(G246+I246+K246+M246+O246+Q246+S246+U246+W246+Y246+AA246+AC246+AE246+AG246+AI246+AK246+AM246)","v":0},null,null,null,null,null,null,null,null,null,null,null,null,null,null,null,null,null,null,null,null,null,null,null,null,null,null,null,null,null,null,null,null,null,null,null,null,null,null,null,null,null,null,null,"",null,null,null,null,null,null,null,null,null,null,null,null,null,null,null,null,null,null,null,null,null,null,null,null,null,null,null,null,null,"","","","","","",0,0,0,0,0,0]
[null,"TRASTORNO DE PÁNICO CON AGOROFOBIA ",0,0,{"$f":"SUM(G247+I247+K247+M247+O247+Q247+S247+U247+W247+Y247+AA247+AC247+AE247+AG247+AI247+AK247+AM247)","v":0},null,null,null,null,null,null,null,null,null,null,null,null,null,null,null,null,null,null,null,null,null,null,null,null,null,null,null,null,null,null,null,null,null,null,null,null,null,null,null,null,null,null,null,"",null,null,null,null,null,null,null,null,null,null,null,null,null,null,null,null,null,null,null,null,null,null,null,null,null,null,null,null,null,"","","","","","",0,0,0,0,0,0]
[null,"TRASTORNO DE PÁNICO SIN AGOROFOBIA ",0,0,0,null,null,null,null,null,null,null,null,null,null,null,null,null,null,null,null,null,null,null,null,null,null,null,null,null,null,null,null,null,null,null,null,null,null,null,null,null,null,null,null,null,null,null,"",null,null,null,null,null,null,null,null,null,null,null,null,null,null,null,null,null,null,null,null,null,null,null,null,null,null,null,null,null,"","","","","","",0,0,0,0,0,0]
[null,"FOBIAS SOCIALES",0,0,0,null,null,null,null,null,null,null,null,null,null,null,null,null,null,null,null,null,null,null,null,null,null,null,null,null,null,null,null,null,null,null,null,null,null,null,null,null,null,null,null,null,null,null,"",null,null,null,null,null,null,null,null,null,null,null,null,null,null,null,null,null,null,null,null,null,null,null,null,null,null,null,null,null,"","","","","","",0,0,0,0,0,0]
[null,"TRASTORNOS DE ANSIEDAD GENERALIZADA",0,0,0,null,null,null,null,null,null,null,null,null,null,null,null,null,null,null,null,null,null,null,null,null,null,null,null,null,null,null,null,null,null,null,null,null,null,null,null,null,null,null,null,null,null,null,"",null,null,null,null,null,null,null,null,null,null,null,null,null,null,null,null,null,null,null,null,null,null,null,null,null,null,null,null,null,"","","","","","",0,0,0,0,0,0]
[null,"OTROS TRASTORNOS DE ANSIEDAD",1,0,1,0,0,0,0,0,0,0,0,0,0,0,0,0,0,0,0,0,0,0,1,0,0,0,0,0,0,0,0,0,0,0,0,0,0,0,0,0,0,0,0,1,0,0,"",null,null,null,null,null,null,null,null,null,null,null,null,null,null,null,null,null,null,null,null,null,null,null,null,null,null,null,null,null,"","","","","","",0,0,0,0,0,0]
["DEMENCIAS (INCLUYE ALZHEIMER)","LEVE",0,0,0,null,null,null,null,null,null,null,null,null,null,null,null,null,null,null,null,null,null,null,null,null,null,null,null,null,null,null,null,null,null,null,null,null,null,null,null,null,null,null,null,null,null,null,"",null,null,null,null,null,null,null,null,null,null,null,null,null,null,null,null,null,null,null,null,null,null,null,null,null,null,null,null,null,null,null,"","","","",null,null,0,0,0,{"$f":"IF(AND(C252<>0,OR(AS252=\"\",AT252=\"\",AU252=\"\",AV252=\"\")),1,0)","v":0}]
[null,"MODERADO",0,0,0,null,null,null,null,null,null,null,null,null,null,null,null,null,null,null,null,null,null,null,null,null,null,null,null,null,null,null,null,null,null,null,null,null,null,null,null,null,null,null,null,null,null,null,"",null,null,null,null,null,null,null,null,null,null,null,null,null,null,null,null,null,null,null,null,null,null,null,null,null,null,null,null,null,null,null,"","","","",null,null,0,0,0,{"$f":"IF(AND(C253<>0,OR(AS253=\"\",AT253=\"\",AU253=\"\",AV253=\"\")),1,0)","v":0}]
[null,"AVANZADO",0,0,0,null,null,null,null,null,null,null,null,null,null,null,null,null,null,null,null,null,null,null,null,null,null,null,null,null,null,null,null,null,null,null,null,null,null,null,null,null,null,null,null,null,null,null,"",null,null,null,null,null,null,null,null,null,null,null,null,null,null,null,null,null,null,null,null,null,null,null,null,null,null,null,null,null,null,null,"","","","",null,null,0,0,0,{"$f":"IF(AND(C254<>0,OR(AS254=\"\",AT254=\"\",AU254=\"\",AV254=\"\")),1,0)","v":0}]
["ESQUIZOFRENIA",null,0,0,0,null,null,null,null,null,null,null,null,null,null,null,null,null,null,null,null,null,null,null,null,null,null,null,null,null,null,null,null,null,null,null,null,null,null,null,null,null,null,null,null,null,null,null,"",null,null,null,null,null,null,null,null,null,null,null,null,null,null,null,null,null,null,null,null,null,null,null,null,null,null,null,null,null,"","","","","","",0,0,0,0,0,0]
["TRASTORNOS DE LA CONDUCTA ALIMENTARIA",null,0,0,0,null,null,null,null,null,null,null,null,null,null,null,null,null,null,null,null,null,null,null,null,null,null,null,null,null,null,null,null,null,null,null,null,null,null,null,null,null,null,null,null,null,null,null,"",null,null,null,null,null,null,null,null,null,null,null,null,null,null,null,null,null,null,null,null,null,null,null,null,null,null,null,null,null,"","","","","","",0,0,0,0,0,0]
["RETRASO MENTAL",null,0,0,0,null,null,null,null,null,null,null,null,null,null,null,null,null,null,null,null,null,null,null,null,null,null,null,null,null,null,null,null,null,null,null,null,null,null,null,null,null,null,null,null,null,null,null,"",null,null,null,null,null,null,null,null,null,null,null,null,null,null,null,null,null,null,null,null,null,null,null,null,null,null,null,null,null,"","","","","","",0,0,0,0,0,0]
["TRASTORNO DE PERSONALIDAD",null,0,0,0,null,null,null,null,null,null,null,null,null,null,null,null,null,null,null,null,null,null,null,null,null,null,null,null,null,null,null,null,null,null,null,null,null,null,null,null,null,null,null,null,null,null,null,"",null,null,null,null,null,null,null,null,null,null,null,null,null,null,null,null,null,null,null,null,null,null,null,null,null,null,null,null,null,"","","","","","",0,0,0,0,0,0]
["TRASTORNO GENERALIZADOS DEL DESARROLLO","AUTISMO",0,0,0,null,null,null,null,null,null,null,null,null,null,null,null,null,null,null,null,null,null,null,null,null,null,null,null,null,null,null,null,null,null,null,null,null,null,null,null,null,null,null,null,null,null,null,"",null,null,null,null,null,null,null,null,null,null,null,null,null,null,null,null,null,null,null,null,null,null,null,null,null,null,null,null,null,{"$f":"IF(CG259=0,\"\",\"* Las gestantes egresadas del Programa NO debe ser mayor al Total de Mujeres egresadas. \")","v":""},{"$f":"IF(CH259=0,\"\",\"* Las madres de hijos menor de 5 años NO DEBE ser mayor al Total de Mujeres Egresadas al Programa. \")","v":""},{"$f":"IF(CI259=0,\"\",\"* Los egresos de Pueblos Originarios NO DEBE ser mayor al Total de egresos del Programa.\")","v":""},{"$f":"IF(CJ259=0,\"\",\"* Los Niños, Niñas, Adolescentes y Jóvenes de Programas SENAME NO DEBE ser mayor al Total de egresos del Programa. \")","v":""},{"$f":"IF(CK259=0,\"\",\"* Los Migrantes NO DEBEN ser mayor al Total de ingresos del Programa. \")","v":""},{"$f":"IF(CL259=0,\"\",\"* No olvide escribir los campos Gestante y/o Madre de Hijo menor de 5 años y/o Pueblos Originarios y/o Niños, Niñas, Adolescentes y Jóvenes de Programas SENAME (Digite CERO si no tiene). \")","v":""},0,0,0,0,0,0]
[null,"ASPERGER",0,0,0,null,null,null,null,null,null,null,null,null,null,null,null,null,null,null,null,null,null,null,null,null,null,null,null,null,null,null,null,null,null,null,null,null,null,null,null,null,null,null,null,null,null,null,"",null,null,null,null,null,null,null,null,null,null,null,null,null,null,null,null,null,null,null,null,null,null,null,null,null,null,null,null,null,null,null,null,null,null,null,{"$f":"IF(E260<AQ260,1,0)","v":0},{"$f":"IF(E260<AR260,1,0)","v":0},{"$f":"IF(C260<SUM(AS260,AT260),1,0)","v":0},{"$f":"IF(C260<AU260,1,0)","v":0},{"$f":"IF(C260<AV260,1,0)","v":0},{"$f":"IF(AND(C260<>0,OR(AQ260=\"\",AR260=\"\",AS260=\"\",AT260=\"\",AU260=\"\",AV260=\"\")),1,0)","v":0}]
[null,"SÍNDROME DE RETT",0,0,0,null,null,null,null,null,null,null,null,null,null,null,null,null,null,null,null,null,null,null,null,null,null,null,null,null,null,null,null,null,null,null,null,null,null,null,null,null,null,null,null,null,null,null,"",null,null,null,null,null,null,null,null,null,null,null,null,null,null,null,null,null,null,null,null,null,null,null,null,null,null,null,null,null,null,null,null,null,null,null,0,0,0,0,0,0]
[null,"TRASTORNO DESINTEGRATIVO DE LA INFANCIA",0,0,0,null,null,null,null,null,null,null,null,null,null,null,null,null,null,null,null,null,null,null,null,null,null,null,null,null,null,null,null,null,null,null,null,null,null,null,null,null,null,null,null,null,null,null,"",null,null,null,null,null,null,null,null,null,null,null,null,null,null,null,null,null,null,null,null,null,null,null,null,null,null,null,null,null,null,null,null,null,null,null,0,0,0,0,0,0]
[null,"TRASTONO GENERALIZADO DEL DESARROLLO NO ESPECÍFICO",0,0,0,null,null,null,null,null,null,null,null,null,null,null,null,null,null,null,null,null,null,null,null,null,null,null,null,null,null,null,null,null,null,null,null,null,null,null,null,null,null,null,null,null,null,null,"",null,null,null,null,null,null,null,null,null,null,null,null,null,null,null,null,null,null,null,null,null,null,null,null,null,null,null,null,null,null,null,null,null,null,null,0,0,0,0,0,0]
["EPILEPSIA",null,0,0,0,null,null,null,null,null,null,null,null,null,null,null,null,null,null,null,null,null,null,null,null,null,null,null,null,null,null,null,null,null,null,null,null,null,null,null,null,null,null,null,null,null,null,null,"",null,null,null,null,null,null,null,null,null,null,null,null,null,null,null,null,null,null,null,null,null,null,null,null,null,null,null,null,null,{"$f":"IF(CG264=0,\"\",\"* Las gestantes egresadas del Programa NO debe ser mayor al Total de Mujeres egresadas. \")","v":""},{"$f":"IF(CH264=0,\"\",\"* Las madres de hijos menor de 5 años NO DEBE ser mayor al Total de Mujeres Egresadas al Programa. \")","v":""},{"$f":"IF(CI264=0,\"\",\"* Los egresos de Pueblos Originarios NO DEBE ser mayor al Total de egresos del Programa.\")","v":""},{"$f":"IF(CJ264=0,\"\",\"* Los Niños, Niñas, Adolescentes y Jóvenes de Programas SENAME NO DEBE ser mayor al Total de egresos del Programa. \")","v":""},{"$f":"IF(CK264=0,\"\",\"* Los Migrantes NO DEBEN ser mayor al Total de ingresos del Programa. \")","v":""},{"$f":"IF(CL264=0,\"\",\"* No olvide escribir los campos Gestante y/o Madre de Hijo menor de 5 años y/o Pueblos Originarios y/o Niños, Niñas, Adolescentes y Jóvenes de Programas SENAME (Digite CERO si no tiene). \")","v":""},0,0,0,0,0,0]
["OTRAS",null,{"$f":"SUM(D265+E265)","v":0},{"$f":"SUM(F265+H265+J265+L265+N265+P265+R265+T265+V265+X265+Z265+AB265+AD265+AF265+AH265+AJ265+AL265)","v":0},0,null,null,null,null,null,null,null,null,null,null,null,null,null,null,null,null,null,null,null,null,null,null,null,null,null,null,null,null,null,null,null,null,null,null,null,null,null,null,null,null,null,null,null,"",null,null,null,null,null,null,null,null,null,null,null,null,null,null,null,null,null,null,null,null,null,null,null,null,null,null,null,null,null,{"$f":"IF(CG265=0,\"\",\"* Las gestantes egresadas del Programa NO debe ser mayor al Total de Mujeres egresadas. \")","v":""},{"$f":"IF(CH265=0,\"\",\"* Las madres de hijos menor de 5 años NO DEBE ser mayor al Total de Mujeres Egresadas al Programa. \")","v":""},{"$f":"IF(CI265=0,\"\",\"* Los egresos de Pueblos Originarios NO DEBE ser mayor al Total de egresos del Programa.\")","v":""},{"$f":"IF(CJ265=0,\"\",\"* Los Niños, Niñas, Adolescentes y Jóvenes de Programas SENAME NO DEBE ser mayor al Total de egresos del Programa. \")","v":""},{"$f":"IF(CK265=0,\"\",\"* Los Migrantes NO DEBEN ser mayor al Total de ingresos del Programa. \")","v":""},{"$f":"IF(CL265=0,\"\",\"* No olvide escribir los campos Gestante y/o Madre de Hijo menor de 5 años y/o Pueblos Originarios y/o Niños, Niñas, Adolescentes y Jóvenes de Programas SENAME (Digite CERO si no tiene). \")","v":""},0,0,0,0,0,0]
["SECCIÓN P:  INGRESOS Y EGRESOS AL COMPONENTE ALCOHOL Y DROGA EN APS/ESPECIALIDAD"]
["CONCEPTO",null,"TOTAL",null,null,"5 - 9 años",null,"10 - 14 años",null,"15 - 19 años",null,"20 - 24 años",null,"25 - 29 años",null,"30 - 34 años",null,"35 -39 años",null,"40 -44 años",null,"45 -49 años",null,"50 -54 años",null,"55 -59 años",null,"60 -64 años",null,"65 -69 años",null,"70 -74 años",null,"75 -79 años",null,"80 años y más"]
[null,null,"Ambos Sexos","Hombres","Mujeres","Hombres","Mujeres","Hombres","Mujeres","Hombres","Mujeres","Hombres","Mujeres","Hombres","Mujeres","Hombres","Mujeres","Hombres","Mujeres","Hombres","Mujeres","Hombres","Mujeres","Hombres","Mujeres","Hombres","Mujeres","Hombres","Mujeres","Hombres","Mujeres","Hombres","Mujeres","Hombres","Mujeres","Hombres","Mujeres"]
["PLAN AMBULATORIO BÁSICO ","INGRESO",{"$f":"SUM(D269+E269)","v":0},{"$f":"SUM(F269+H269+J269+L269+N269+P269+R269+T269+V269+X269+Z269+AB269+AD269+AF269+AH269+AJ269)","v":0},{"$f":"SUM(G269+I269+K269+M269+O269+Q269+S269+U269+W269+Y269+AA269+AC269+AE269+AG269+AI269+AK269)","v":0},null,null,null,null,null,null,null,null,null,null,null,null,null,null,null,null,null,null,null,null,null,null,null,null,null,null,null,null,null,null,null,null,null,null,null,null,null,null,null,null,null,null,null,null,null,null,null,null,null,null,null,null,null,null,null,null,null,null,null,null,null,null,null,null,null,null,null,null,null,null,null,null,null,null,null,null,null,null,null,0,0,null,0]
[null,"EGRESOS",{"$f":"SUM(D270+E270)","v":0},{"$f":"SUM(F270+H270+J270+L270+N270+P270+R270+T270+V270+X270+Z270+AB270+AD270+AF270+AH270+AJ270)","v":0},0]
["PLAN AMBULATORIO INTENSIVO","INGRESO",{"$f":"SUM(D271+E271)","v":0},0,0]
[null,"EGRESOS",{"$f":"SUM(D272+E272)","v":0},0,0]
["SECCIÓN Q:  PROGRAMA DE REHABILITACIÓN (PERSONAS CON TRASTORNOS PSIQUIÁTRICOS)"]
["TIPO DE PROGRAMA","RUBRO","TOTAL      ",null,null,"GRUPOS DE EDAD (en años)",null,null,null,null,null,null,null,null,null,null,null,null,null,null,null,null,null,null,null,null,null,null,null,null,null,null,null,null,null,null,null,"Beneficiarios"]
[null,null,null,null,null,"5 - 9",null,"10 - 14",null,"15 - 19",null,"20 - 24",null,"25 - 29",null,"30 - 34",null,"35 - 39",null,"40 - 44",null,"45 - 49",null,"50 - 54",null,"55 - 59",null,"60 - 64",null,"65 - 69",null,"70 - 74",null,"75 - 79",null,"80 y mas"]
[null,null,"Ambos Sexos","Hombres","Mujeres","Hombres","Mujeres","Hombres","Mujeres","Hombres","Mujeres","Hombres","Mujeres","Hombres","Mujeres","Hombres","Mujeres","Hombres","Mujeres","Hombres","Mujeres","Hombres","Mujeres","Hombres","Mujeres","Hombres","Mujeres","Hombres","Mujeres","Hombres","Mujeres","Hombres","Mujeres","Hombres","Mujeres","Hombres","Mujeres"]
["PROGRAMA DE REHABILITACIÓN TIPO I","INGRESOS",{"$f":"SUM(D277+E277)","v":0},{"$f":"SUM(F277+H277+J277+L277+N277+P277+R277+T277+V277+X277+Z277+AB277+AD277+AF277+AH277+AJ277)","v":0},{"$f":"SUM(G277+I277+K277+M277+O277+Q277+S277+U277+W277+Y277+AA277+AC277+AE277+AG277+AI277+AK277)","v":0},null,null,null,null,null,null,null,null,null,null,null,null,null,null,null,null,null,null,null,null,null,null,null,null,null,null,null,null,null,null,null,null,null,null,null,null,null,null,null,null,null,null,null,null,null,null,null,null,null,null,null,null,null,null,null,null,null,null,null,null,null,null,null,null,null,null,null,null,null,null,null,null,null,null,null,null,null,null,null,0,0]
[null,"EGRESOS",{"$f":"SUM(D278+E278)","v":0},{"$f":"SUM(F278+H278+J278+L278+N278+P278+R278+T278+V278+X278+Z278+AB278+AD278+AF278+AH278+AJ278)","v":0},0,null,null,null,null,null,null,null,null,null,null,null,null,null,null,null,null,null,null,null,null,null,null,null,null,null,null,null,null,null,null,null,null,null,null,null,null,null,null,null,null,null,null,null,null,null,null,null,null,null,null,null,null,null,null,null,null,null,null,null,null,null,null,null,null,null,null,null,null,null,null,null,null,null,null,null,null,null,null,null,0,0]
["PROGRAMA DE REHABILITACIÓN TIPO II","INGRESOS",{"$f":"SUM(D279+E279)","v":0},0,0,null,null,null,null,null,null,null,null,null,null,null,null,null,null,null,null,null,null,null,null,null,null,null,null,null,null,null,null,null,null,null,null,null,null,null,null,null,null,null,null,null,null,null,null,null,null,null,null,null,null,null,null,null,null,null,null,null,null,null,null,null,null,null,null,null,null,null,null,null,null,null,null,null,null,null,null,null,null,null,0,0]
[null,"EGRESOS",{"$f":"SUM(D280+E280)","v":0},0,0,null,null,null,null,null,null,null,null,null,null,null,null,null,null,null,null,null,null,null,null,null,null,null,null,null,null,null,null,null,null,null,null,null,null,null,null,null,null,null,null,null,null,null,null,null,null,null,null,null,null,null,null,null,null,null,null,null,null,null,null,null,null,null,null,null,null,null,null,null,null,null,null,null,null,null,null,null,null,null,0,0]
["SECCIÓN R: INGRESOS Y EGRESOS A PROGRAMA INFECCIÓN POR TRANSMISIÓN SEXUAL (Uso de establecimientos que realizan atención de ITS)"]
["PATOLOGÍAS",null,"TOTAL ",null,null,"INGRESOS POR EDAD",null,null,null,null,null,null,null,null,null,null,null,null,null,null,null,null,null,null,null,null,null,null,null,null,null,null,null,null,null,null,null,null,null,"EGRESOS",null,null,"TRANS",null,"Pueblos Originarios","Migrantes","Niños, Niñas, Adolescentes y Jóvenes Población  SENAME"]
[null,null,null,null,null,"0 a 4",null,"5 - 9",null,"10 - 14",null,"15 - 19",null,"20 - 24",null,"25 a 29",null,"30 a 34",null,"35 a 39",null,"40 a 44",null,"45 a 49",null,"50 a 54",null,"55 a 59",null,"60 a 64",null,"65 a 69",null,"70 a 74",null,"75 a 79",null,"80 y más",null,"Total","Por alta","Por abandono"]
[null,null,"Ambos Sexos","Hombres","Mujeres","Hombres ","Mujeres","Hombres ","Mujeres","Hombres ","Mujeres","Hombres ","Mujeres","Hombres ","Mujeres","Hombres ","Mujeres","Hombres ","Mujeres","Hombres ","Mujeres","Hombres ","Mujeres","Hombres ","Mujeres","Hombres ","Mujeres","Hombres ","Mujeres","Hombres ","Mujeres","Hombres ","Mujeres","Hombres ","Mujeres","Hombres ","Mujeres","Hombres ","Mujeres",null,null,null,"Masculino","Femenino"]
["TOTAL DE INGRESOS",null,{"$f":"SUM(D285+E285)","v":0},{"$f":"SUM(F285+H285+J285+L285+N285+P285+R285+T285+V285+X285+Z285+AB285+AD285+AF285+AH285+AJ285+AL285)","v":0},{"$f":"SUM(G285+I285+K285+M285+O285+Q285+S285+U285+W285+Y285+AA285+AC285+AE285+AG285+AI285+AK285+AM285)","v":0},{"$f":"SUM(F295:F303)","v":0},{"$f":"SUM(G295:G303)","v":0},{"$f":"SUM(H295:H303)","v":0},{"$f":"SUM(I295:I303)","v":0},{"$f":"SUM(J295:J303)","v":0},{"$f":"SUM(K286:K303)","v":0},{"$f":"SUM(L295:L303)","v":0},{"$f":"SUM(M286:M303)","v":0},{"$f":"SUM(N295:N303)","v":0},{"$f":"SUM(O286:O303)","v":0},{"$f":"SUM(P295:P303)","v":0},{"$f":"SUM(Q286:Q303)","v":0},{"$f":"SUM(R295:R303)","v":0},{"$f":"SUM(S286:S303)","v":0},{"$f":"SUM(T295:T303)","v":0},{"$f":"SUM(U286:U303)","v":0},{"$f":"SUM(V295:V303)","v":0},{"$f":"SUM(W286:W303)","v":0},{"$f":"SUM(X295:X303)","v":0},{"$f":"SUM(Y286:Y303)","v":0},{"$f":"SUM(Z295:Z303)","v":0},{"$f":"SUM(AA286:AA303)","v":0},{"$f":"SUM(AB295:AB303)","v":0},{"$f":"SUM(AC286:AC303)","v":0},0,0,0,0,0,0,0,0,{"$f":"SUM(AL295:AL303)","v":0},0,{"$f":"SUM(AN286:AN303)","v":0},0,0,0,0,0,0,0,null,null,null,null,null,null,null,null,null,null,null,null,null,null,null,null,null,null,null,null,null,null,null,null,null,null,null,null,null,null,null,null,null,null,null,null,null,null,null,null,0]
["GESTANTES","SÍFILIS",0,null,{"$f":"SUM(K286+M286+O286+Q286+S286+U286+W286+Y286+AA286+AC286)","v":0},null,null,null,null,null,null,null,null,null,null,null,null,null,null,null,null,null,null,null,null,null,null,null,null,null,null,null,null,null,null,null,null,null,null,null,null,null,null,null,null,null,null,{"$f":"CA286&CB286&CC286","v":""},null,null,null,null,null,null,null,null,null,null,null,null,null,null,null,null,null,null,null,null,null,null,null,null,null,null,null,null,null,null,{"$f":"IF(CG286=0,\"\",\"* Egresos por Alta + Abandono NO DEBE ser mayor que Total Egresos. \")","v":""},null,null,null,null,null,{"$f":"IF(AN286<SUM(AO286+AP286),1,0)","v":0},{"$f":"IF(AND(C286<>0,OR(AQ286=\"\",AR286=\"\",AS286=\"\",AT286=\"\",AU286=\"\")),1,0)","v":0},{"$f":"IF(OR(C286<SUM(AQ286,AR286),C286<AS286,C286<AT286,C286<AU286),1,0)","v":0},0]
[null,"GONORREA",0,null,0,null,null,null,null,null,null,null,null,null,null,null,null,null,null,null,null,null,null,null,null,null,null,null,null,null,null,null,null,null,null,null,null,null,null,null,null,null,null,null,null,null,null,"",null,null,null,null,null,null,null,null,null,null,null,null,null,null,null,null,null,null,null,null,null,null,null,null,null,null,null,null,null,null,"",null,null,null,null,null,0,0,0,0]
[null,"CONDILOMA",0,null,0,null,null,null,null,null,null,null,null,null,null,null,null,null,null,null,null,null,null,null,null,null,null,null,null,null,null,null,null,null,null,null,null,null,null,null,null,null,null,null,null,null,null,"",null,null,null,null,null,null,null,null,null,null,null,null,null,null,null,null,null,null,null,null,null,null,null,null,null,null,null,null,null,null,"",{"$f":"IF(CH288=0,\"\",\"* No olvide digitar los campos Trans y/o Pueblo Originario y/o Migrantes y/o Niños, Niñas, Adolescentes y Jóvenes Población SENAME (Digite CERO si no tiene).\")","v":""},{"$f":"IF(CI288=0,\"\",\"* Trans y/o Pueblo Originario y/o Migrantes y/o Niños, Niñas, Adolescentesy Jóvenes Población SENAME NO DEBEN ser Mayor al Total. \")","v":""},null,null,null,0,0,0]
[null,"HERPES",0,null,0,null,null,null,null,null,null,null,null,null,null,null,null,null,null,null,null,null,null,null,null,null,null,null,null,null,null,null,null,null,null,null,null,null,null,null,null,null,null,null,null,null,null,"",null,null,null,null,null,null,null,null,null,null,null,null,null,null,null,null,null,null,null,null,null,null,null,null,null,null,null,null,null,null,"","","",null,null,null,0,0,0]
[null,"CHLAMYDIAS",0,null,0,null,null,null,null,null,null,null,null,null,null,null,null,null,null,null,null,null,null,null,null,null,null,null,null,null,null,null,null,null,null,null,null,null,null,null,null,null,null,null,null,null,null,"",null,null,null,null,null,null,null,null,null,null,null,null,null,null,null,null,null,null,null,null,null,null,null,null,null,null,null,null,null,null,"","","",null,null,null,0,0,0]
[null,"URETRITIS NO GONOCÓCICA",0,null,0,null,null,null,null,null,null,null,null,null,null,null,null,null,null,null,null,null,null,null,null,null,null,null,null,null,null,null,null,null,null,null,null,null,null,null,null,null,null,null,null,null,null,"",null,null,null,null,null,null,null,null,null,null,null,null,null,null,null,null,null,null,null,null,null,null,null,null,null,null,null,null,null,null,"","","",null,null,null,0,0,0]
[null,"LINFOGRANULOMA",0,null,0,null,null,null,null,null,null,null,null,null,null,null,null,null,null,null,null,null,null,null,null,null,null,null,null,null,null,null,null,null,null,null,null,null,null,null,null,null,null,null,null,null,null,"",null,null,null,null,null,null,null,null,null,null,null,null,null,null,null,null,null,null,null,null,null,null,null,null,null,null,null,null,null,null,"","","",null,null,null,0,0,0]
[null,"CHANCROIDE",0,null,0,null,null,null,null,null,null,null,null,null,null,null,null,null,null,null,null,null,null,null,null,null,null,null,null,null,null,null,null,null,null,null,null,null,null,null,null,null,null,null,null,null,null,"",null,null,null,null,null,null,null,null,null,null,null,null,null,null,null,null,null,null,null,null,null,null,null,null,null,null,null,null,null,null,"","","",null,null,null,0,0,0]
[null,"OTRAS ITS",0,null,0,null,null,null,null,null,null,null,null,null,null,null,null,null,null,null,null,null,null,null,null,null,null,null,null,null,null,null,null,null,null,null,null,null,null,null,null,null,null,null,null,null,null,"",null,null,null,null,null,null,null,null,null,null,null,null,null,null,null,null,null,null,null,null,null,null,null,null,null,null,null,null,null,null,"","","",null,null,null,0,0,0]
["NO GESTANTES","SÍFILIS",{"$f":"SUM(D295+E295)","v":0},{"$f":"SUM(F295+H295+J295+L295+N295+P295+R295+T295+V295+X295+Z295+AB295+AD295+AF295+AH295+AJ295+AL295)","v":0},{"$f":"SUM(G295+I295+K295+M295+O295+Q295+S295+U295+W295+Y295+AA295+AC295+AE295+AG295+AI295+AK295+AM295)","v":0},null,null,null,null,null,null,null,null,null,null,null,null,null,null,null,null,null,null,null,null,null,null,null,null,null,null,null,null,null,null,null,null,null,null,null,null,null,null,null,null,null,null,"",null,null,null,null,null,null,null,null,null,null,null,null,null,null,null,null,null,null,null,null,null,null,null,null,null,null,null,null,null,null,null,null,"",null,null,null,0,0,0,0]
[null,"GONORREA",0,{"$f":"SUM(F296+H296+J296+L296+N296+P296+R296+T296+V296+X296+Z296+AB296+AD296+AF296+AH296+AJ296+AL296)","v":0},{"$f":"SUM(G296+I296+K296+M296+O296+Q296+S296+U296+W296+Y296+AA296+AC296+AE296+AG296+AI296+AK296+AM296)","v":0},null,null,null,null,null,null,null,null,null,null,null,null,null,null,null,null,null,null,null,null,null,null,null,null,null,null,null,null,null,null,null,null,null,null,null,null,null,null,null,null,null,null,"",null,null,null,null,null,null,null,null,null,null,null,null,null,null,null,null,null,null,null,null,null,null,null,null,null,null,null,null,null,null,"","","",null,null,null,0,0,0]
[null,"CONDILOMA",0,0,0,null,null,null,null,null,null,null,null,null,null,null,null,null,null,null,null,null,null,null,null,null,null,null,null,null,null,null,null,null,null,null,null,null,null,null,null,null,null,null,null,null,null,"",null,null,null,null,null,null,null,null,null,null,null,null,null,null,null,null,null,null,null,null,null,null,null,null,null,null,null,null,null,null,"","","",null,null,null,0,0,0]
[null,"HERPES",0,0,0,null,null,null,null,null,null,null,null,null,null,null,null,null,null,null,null,null,null,null,null,null,null,null,null,null,null,null,null,null,null,null,null,null,null,null,null,null,null,null,null,null,null,"",null,null,null,null,null,null,null,null,null,null,null,null,null,null,null,null,null,null,null,null,null,null,null,null,null,null,null,null,null,null,"","","",null,null,null,0,0,0]
[null,"CHLAMYDIAS",0,0,0,null,null,null,null,null,null,null,null,null,null,null,null,null,null,null,null,null,null,null,null,null,null,null,null,null,null,null,null,null,null,null,null,null,null,null,null,null,null,null,null,null,null,"",null,null,null,null,null,null,null,null,null,null,null,null,null,null,null,null,null,null,null,null,null,null,null,null,null,null,null,null,null,null,"","","",null,null,null,0,0,0]
[null,"URETRITIS NO GONOCÓCICA",0,0,0,null,null,null,null,null,null,null,null,null,null,null,null,null,null,null,null,null,null,null,null,null,null,null,null,null,null,null,null,null,null,null,null,null,null,null,null,null,null,null,null,null,null,"",null,null,null,null,null,null,null,null,null,null,null,null,null,null,null,null,null,null,null,null,null,null,null,null,null,null,null,null,null,null,"","","",null,null,null,0,0,0]
[null,"LINFOGRANULOMA",0,0,0,null,null,null,null,null,null,null,null,null,null,null,null,null,null,null,null,null,null,null,null,null,null,null,null,null,null,null,null,null,null,null,null,null,null,null,null,null,null,null,null,null,null,"",null,null,null,null,null,null,null,null,null,null,null,null,null,null,null,null,null,null,null,null,null,null,null,null,null,null,null,null,null,null,"","","",null,null,null,0,0,0]
[null,"CHANCROIDE",0,0,0,null,null,null,null,null,null,null,null,null,null,null,null,null,null,null,null,null,null,null,null,null,null,null,null,null,null,null,null,null,null,null,null,null,null,null,null,null,null,null,null,null,null,{"$f":"CB302&CC302&CD302","v":""},null,null,null,null,null,null,null,null,null,null,null,null,null,null,null,null,null,null,null,null,null,null,null,null,null,null,null,null,null,null,null,{"$f":"IF(CH302=0,\"\",\"* Egresos por Alta + Abandono NO DEBE ser mayor que Total Egresos. \")","v":""},{"$f":"IF(CI302=0,\"\",\"* No olvide digitar los campos Trans y/o Pueblo Originario y/o Migrantes y/o Niños, Niñas, Adolescentes y Jóvenes Población SENAME (Digite CERO si no tiene).\")","v":""},{"$f":"IF(CJ302=0,\"\",\"* Trans y/o Pueblo Originario y/o Migrantes y/o Niños, Niñas, Adolescentesy Jóvenes Población SENAME NO DEBEN ser Mayor al Total. \")","v":""},null,null,null,{"$f":"IF(AN302<SUM(AO302+AP302),1,0)","v":0},{"$f":"IF(AND(C302<>0,OR(AQ302=\"\",AR302=\"\",AS302=\"\",AT302=\"\",AU302=\"\")),1,0)","v":0},{"$f":"IF(OR(C302<SUM(AQ302,AR302),C302<AS302,C302<AT302,C302<AU302),1,0)","v":0}]
[null,"OTRAS ITS",0,0,0,null,null,null,null,null,null,null,null,null,null,null,null,null,null,null,null,null,null,null,null,null,null,null,null,null,null,null,null,null,null,null,null,null,null,null,null,null,null,null,null,null,null,{"$f":"CB303&CC303&CD303","v":""},null,null,null,null,null,null,null,null,null,null,null,null,null,null,null,null,null,null,null,null,null,null,null,null,null,null,null,null,null,null,null,{"$f":"IF(CH303=0,\"\",\"* Egresos por Alta + Abandono NO DEBE ser mayor que Total Egresos. \")","v":""},{"$f":"IF(CI303=0,\"\",\"* No olvide digitar los campos Trans y/o Pueblo Originario y/o Migrantes y/o Niños, Niñas, Adolescentes y Jóvenes Población SENAME (Digite CERO si no tiene).\")","v":""},{"$f":"IF(CJ303=0,\"\",\"* Trans y/o Pueblo Originario y/o Migrantes y/o Niños, Niñas, Adolescentesy Jóvenes Población SENAME NO DEBEN ser Mayor al Total. \")","v":""},null,null,null,{"$f":"IF(AN303<SUM(AO303+AP303),1,0)","v":0},{"$f":"IF(AND(C303<>0,OR(AQ303=\"\",AR303=\"\",AS303=\"\",AT303=\"\",AU303=\"\")),1,0)","v":0},{"$f":"IF(OR(C303<SUM(AQ303,AR303),C303<AS303,C303<AT303,C303<AU303),1,0)","v":0}]
["SECCIÓN S: INGRESOS Y EGRESOS DEL PROGRAMA DE VIH/SIDA (Uso exclusivo Centros de Atención VIH-SIDA)"]
["CONCEPTO",null,"TOTAL ",null,null,"POR EDAD (en meses - años)",null,null,null,null,null,null,null,null,null,null,null,null,null,null,null,null,null,null,null,null,null,null,null,null,null,null,null,null,null,null,null,null,null,null,null,null,null,null,null,"TRANS",null,"Pueblos Originarios","Migrantes","Niños, Niñas, Adolescentes y Jóvenes Población  SENAME"]
[null,null,null,null,null,"Menor de 6 meses",null,"6 a 11 meses",null,"12-24 meses",null,"3 a 4",null,"5 a 9",null,"10 - 14",null,"15 - 19",null,"20 - 24",null,"25 a 29",null,"30 a 34",null,"35 a 39",null,"40 a 44",null,"45 a 49",null,"50 a 54",null,"55 a 59",null,"60 a 64",null,"65 a 69",null,"70 a 74",null,"75 a 79",null,"80 y más",null,"Masculino","Femenino"]
[null,null,"Ambos Sexos","Hombres","Mujeres","Hombres ","Mujeres","Hombres ","Mujeres","Hombres ","Mujeres","Hombres ","Mujeres","Hombres ","Mujeres","Hombres ","Mujeres","Hombres ","Mujeres","Hombres ","Mujeres","Hombres ","Mujeres","Hombres ","Mujeres","Hombres ","Mujeres","Hombres ","Mujeres","Hombres ","Mujeres","Hombres ","Mujeres","Hombres ","Mujeres","Hombres ","Mujeres","Hombres ","Mujeres","Hombres ","Mujeres","Hombres ","Mujeres","Hombres ","Mujeres"]
["INGRESOS AL PROGRAMA","GESTANTES",{"$f":"SUM(D308+E308)","v":0},null,{"$f":"+Q308+S308+U308+W308+Y308+AA308+AC308+AE308+AG308+AI308","v":0},null,null,null,null,null,null,null,null,null,null,null,null,null,null,null,null,null,null,null,null,null,null,null,null,null,null,null,null,null,null,null,null,null,null,null,null,null,null,null,null,null,null,null,null,null,{"$f":"CA308&CB308&CC308&CD308&CE308","v":""},null,null,null,null,null,null,null,null,null,null,null,null,null,null,null,null,null,null,null,null,null,null,null,null,null,null,null,{"$f":"IF(CG308=0,\"\",\"* La suma de Ingresos de pacientes TRANS NO DEBE superar el total de mujeres ingresadas. \")","v":""},{"$f":"IF(CH308=0,\"\",\"* El Total de Pueblo Originario Ingresado NO DEBE superar el total de mujeres ingresadas. \")","v":""},{"$f":"IF(CI308=0,\"\",\"* El total de Migrantes Ingresado NO DEBE superar el total de mujeres ingresadas. \")","v":""},{"$f":"IF(CJ308=0,\"\",\"* No olvide digitar los campos Trans y/o Pueblo Originario y/o Migrantes y/o Población SENAME(Digite CERO si no tiene). \")","v":""},null,null,{"$f":"IF(SUM(AT308,AU308)>E308,1,0)","v":0},{"$f":"IF(E308<AV308,1,0)","v":0},{"$f":"IF(E308<AW308,1,0)","v":0},{"$f":"IF(AND(E308<>0,OR(AT308=\"\",AU308=\"\",AV308=\"\",AW308=\"\",AX308=\"\")),1,0)","v":0}]
[null,"NO GESTANTES",{"$f":"SUM(D309+E309)","v":0},{"$f":"SUM(F309+H309+J309+L309+N309+P309+R309+T309+V309+X309+Z309+AB309+AD309+AF309+AH309+AJ309+AL309+AN309+AP309+AR309)","v":0},{"$f":"SUM(G309+I309+K309+M309+O309+Q309+S309+U309+W309+Y309+AA309+AC309+AE309+AG309+AI309+AK309+AM309+AO309+AQ309+AS309)","v":0},null,null,null,null,null,null,null,null,null,null,null,null,null,null,null,null,null,null,null,null,null,null,null,null,null,null,null,null,null,null,null,null,null,null,null,null,null,null,null,null,null,null,null,null,null,{"$f":"CA309&CB309&CC309&CD309&CE309","v":""},null,null,null,null,null,null,null,null,null,null,null,null,null,null,null,null,null,null,null,null,null,null,null,null,null,null,null,{"$f":"IF(CG309=0,\"\",\"* La suma de Ingresos de pacientes Trans NO DEBE superar el total de pacientes ingresados. \")","v":""},{"$f":"IF(CH309=0,\"\",\"* El Total de Pueblo Originario Ingresado NO DEBE superar el total de pacientes ingresados. \")","v":""},{"$f":"IF(CI309=0,\"\",\"* El total de Migrantes Ingresado NO DEBE superar el total de pacientes ingresados. \")","v":""},{"$f":"IF(CJ309=0,\"\",\"* No olvide digitar los campos Trans y/o Pueblo Originario y/o Migrantes y/o Población SENAME(Digite CERO si no tiene). \")","v":""},null,null,{"$f":"IF(SUM(AT309,AU309)>C309,1,0)","v":0},{"$f":"IF(C309<AV309,1,0)","v":0},{"$f":"IF(C309<AW309,1,0)","v":0},{"$f":"IF(AND(E309<>0,OR(AT309=\"\",AU309=\"\",AV309=\"\",AW309=\"\",AX309=\"\")),1,0)","v":0}]
["REINGRESOS POR ABANDONO",null,{"$f":"SUM(D310+E310)","v":0},{"$f":"SUM(F310+H310+J310+L310+N310+P310+R310+T310+V310+X310+Z310+AB310+AD310+AF310+AH310+AJ310+AL310+AN310+AP310+AR310)","v":0},{"$f":"SUM(G310+I310+K310+M310+O310+Q310+S310+U310+W310+Y310+AA310+AC310+AE310+AG310+AI310+AK310+AM310+AO310+AQ310+AS310)","v":0},null,null,null,null,null,null,null,null,null,null,null,null,null,null,null,null,null,null,null,null,null,null,null,null,null,null,null,null,null,null,null,null,null,null,null,null,null,null,null,null,null,null,null,null,null,"",null,null,null,null,null,null,null,null,null,null,null,null,null,null,null,null,null,null,null,null,null,null,null,null,null,null,null,{"$f":"IF(CG310=0,\"\",\"* La suma de Ingresos de pacientes Trans NO DEBE superar el total de pacientes reingresados. \")","v":""},{"$f":"IF(CH310=0,\"\",\"* El Total de Pueblo Originario Ingresado NO DEBE superar el total de pacientes reingresados. \")","v":""},{"$f":"IF(CI310=0,\"\",\"* El total de Migrantes Ingresado NO DEBE superar el total de pacientes reingresados. \")","v":""},"",null,null,0,0,0,0]
["TOTAL EGRESOS",null,0,{"$f":"SUM(F311+H311+J311+L311+N311+P311+R311+T311+V311+X311+Z311+AB311+AD311+AF311+AH311+AJ311+AL311+AN311+AP311+AR311)","v":0},0,null,null,null,null,null,null,null,null,null,null,null,null,null,null,null,null,null,null,null,null,null,null,null,null,null,null,null,null,null,null,null,null,null,null,null,null,null,null,null,null,null,null,null,null,null,"",null,null,null,null,null,null,null,null,null,null,null,null,null,null,null,null,null,null,null,null,null,null,null,null,null,null,null,{"$f":"IF(CG311=0,\"\",\"* La suma de Egresos de pacientes Trans NO DEBE superar el total de pacientes egresados. \")","v":""},{"$f":"IF(CH311=0,\"\",\"* El Total de Pueblo Originario Egresado NO DEBE superar el total de pacientes egresados. \")","v":""},{"$f":"IF(CI311=0,\"\",\"* El total de Migrantes Egresado NO DEBE superar el total de pacientes egresados. \")","v":""},"",null,null,0,0,0,0]
["EGRESOS POR FALLECIMIENTO (INCLUÍDO EN TOTAL EGRESOS)",null,0,0,0,null,null,null,null,null,null,null,null,null,null,null,null,null,null,null,null,null,null,null,null,null,null,null,null,null,null,null,null,null,null,null,null,null,null,null,null,null,null,null,null,null,null,null,null,null,"",null,null,null,null,null,null,null,null,null,null,null,null,null,null,null,null,null,null,null,null,null,null,null,null,null,null,null,"",{"$f":"IF(CH312=0,\"\",\"* El Total de Pueblo Originario Egresado NO DEBE superar el total de pacientes egresados. \")","v":""},{"$f":"IF(CI312=0,\"\",\"* El total de Migrantes Egresado NO DEBE superar el total de pacientes egresados. \")","v":""},"",{"$f":"IF(CK312=0,\"\",\"* El Total de egresos por fallecimiento NO DEBE superar el total de Egresos. \")","v":""},null,0,0,0,0,{"$f":"IF(C312>C311,1,0)","v":0}]
["EGRESOS POR ALTA HIJO VIH (-) DE MADRE VIH +INCLUÍDO EN TOTAL EGRESOS",null,0,{"$f":"SUM(F313+H313+J313+L313)","v":0},{"$f":"SUM(G313+I313+K313+M313)","v":0},null,null,null,null,null,null,null,null,null,null,null,null,null,null,null,null,null,null,null,null,null,null,null,null,null,null,null,null,null,null,null,null,null,null,null,null,null,null,null,null,null,null,null,null,null,"",null,null,null,null,null,null,null,null,null,null,null,null,null,null,null,null,null,null,null,null,null,null,null,null,null,null,null,"",{"$f":"IF(CH313=0,\"\",\"* El Total de Pueblo Originario Egresado NO DEBE superar el total de pacientes egresados. \")","v":""},{"$f":"IF(CI313=0,\"\",\"* El total de Migrantes Egresado NO DEBE superar el total de pacientes egresados. \")","v":""},"",{"$f":"IF(CK313=0,\"\",\"* El total de Egresos por Alta Hijo VIH NO DEBE superar el Total de Egresos. \")","v":""},null,0,0,0,0,{"$f":"IF(C313>C311,1,0)","v":0}]
["EVALUACIÓN MOVILIDAD PROGRAMA","ABANDONO CONTROLES",0,{"$f":"SUM(F314+H314+J314+L314+N314+P314+R314+T314+V314+X314+Z314+AB314+AD314+AF314+AH314+AJ314+AL314+AN314+AP314+AR314)","v":0},{"$f":"SUM(G314+I314+K314+M314+O314+Q314+S314+U314+W314+Y314+AA314+AC314+AE314+AG314+AI314+AK314+AM314+AO314+AQ314+AS314)","v":0},null,null,null,null,null,null,null,null,null,null,null,null,null,null,null,null,null,null,null,null,null,null,null,null,null,null,null,null,null,null,null,null,null,null,null,null,null,null,null,null,null,null,null,null,null,"",null,null,null,null,null,null,null,null,null,null,null,null,null,null,null,null,null,null,null,null,null,null,null,null,null,null,null,"",{"$f":"IF(CH314=0,\"\",\"* El Total de Pueblo Originario Egresado NO DEBE superar el total de pacientes egresados. \")","v":""},{"$f":"IF(CI314=0,\"\",\"* El total de Migrantes Egresado NO DEBE superar el total de pacientes egresados. \")","v":""},"",null,null,0,0,0,0]
[null,"ABANDONO TRATAMIENTO",0,0,0,null,null,null,null,null,null,null,null,null,null,null,null,null,null,null,null,null,null,null,null,null,null,null,null,null,null,null,null,null,null,null,null,null,null,null,null,null,null,null,null,null,null,null,null,null,"",null,null,null,null,null,null,null,null,null,null,null,null,null,null,null,null,null,null,null,null,null,null,null,null,null,null,null,"",null,null,"",null,null,0,0,0,0]
[null,"ABANDONO DE LA ATENCION",0,0,0,null,null,null,null,null,null,null,null,null,null,null,null,null,null,null,null,null,null,null,null,null,null,null,null,null,null,null,null,null,null,null,null,null,null,null,null,null,null,null,null,null,null,null,null,null,"",null,null,null,null,null,null,null,null,null,null,null,null,null,null,null,null,null,null,null,null,null,null,null,null,null,null,null,"",null,null,"",null,null,0,0,0,0]
[null,"INGRESOS POR TRASLADO",0,0,0,null,null,null,null,null,null,null,null,null,null,null,null,null,null,null,null,null,null,null,null,null,null,null,null,null,null,null,null,null,null,null,null,null,null,null,null,null,null,null,null,null,null,null,null,null,"",null,null,null,null,null,null,null,null,null,null,null,null,null,null,null,null,null,null,null,null,null,null,null,null,null,null,null,"",null,null,"",null,null,0,0,0,0]
[null,"EGRESOS POR TRASLADO",0,0,0,null,null,null,null,null,null,null,null,null,null,null,null,null,null,null,null,null,null,null,null,null,null,null,null,null,null,null,null,null,null,null,null,null,null,null,null,null,null,null,null,null,null,null,null,null,"",null,null,null,null,null,null,null,null,null,null,null,null,null,null,null,null,null,null,null,null,null,null,null,null,null,null,null,"",null,null,{"$f":"IF(CJ318=0,\"\",\"* No olvide digitar los campos Trans y/o Pueblo Originario y/o Migrantes y/o Población SENAME(Digite CERO si no tiene). \")","v":""},null,null,0,0,0,0]
["SECCIÓN T: INGRESOS Y EGRESOS POR COMERCIO SEXUAL (Uso exclusivo de Unidades Control Comercio Sexual)"]
["CONCEPTO",null,"TOTAL ",null,null,"GRUPOS DE EDAD (en años)",null,null,null,null,null,null,null,null,null,null,null,null,null,null,null,null,null,null,null,null,null,null,null,null,null,null,null,"TRANS",null,"Pueblos Originarios","Migrantes"]
[null,null,null,null,null,"15 - 19",null,"20 - 24",null,"25 a 29",null,"30 a 34",null,"35 a 39",null,"40 a 44",null,"45 a 49",null,"50 a 54",null,"55 a 59",null,"60 a 64",null,"65 a 69",null,"70 a 74",null,"75 a 79",null,"80 y más"]
[null,null,"Ambos Sexos","Hombres","Mujeres","Hombres ","Mujeres","Hombres ","Mujeres","Hombres ","Mujeres","Hombres ","Mujeres","Hombres ","Mujeres","Hombres ","Mujeres","Hombres ","Mujeres","Hombres ","Mujeres","Hombres ","Mujeres","Hombres ","Mujeres","Hombres ","Mujeres","Hombres ","Mujeres","Hombres ","Mujeres","Hombres ","Mujeres","Masculino","Femenino"]
["INGRESOS AL PROGRAMA",null,{"$f":"SUM(D323+E323)","v":0},{"$f":"SUM(F323+H323+J323+L323+N323+P323+R323+T323+V323+X323+Z323+AB323+AD323+AF323)","v":0},{"$f":"SUM(G323+I323+K323+M323+O323+Q323+S323+U323+W323+Y323+AA323+AC323+AE323+AG323)","v":0},null,null,null,null,null,null,null,null,null,null,null,null,null,null,null,null,null,null,null,null,null,null,null,null,null,null,null,null,null,null,null,null,null,null,null,null,null,null,null,null,null,null,null,null,null,null,null,null,null,null,null,null,null,null,null,null,null,null,null,null,null,null,null,null,null,null,null,null,null,null,null,null,null,null,null,null,null,null,null,null,null,null,0]
["TOTAL EGRESOS",null,{"$f":"SUM(D324+E324)","v":0},{"$f":"SUM(F324+H324+J324+L324+N324+P324+R324+T324+V324+X324+Z324+AB324+AD324+AF324)","v":0},0]
["INASISTENTES",null,{"$f":"SUM(D325+E325)","v":0},0,0]
["SECCIÓN U. INGRESOS Y EGRESOS PROGRAMA DE ACOMPAÑAMIENTO PSICOSOCIAL EN ATENCIÓN PRIMARIA"]
["ACTIVIDAD","TOTAL               ",null,null,"GRUPOS DE EDAD  (en años)"]
[null,null,null,null,"0 - 4",null,"5 - 9",null,"10 - 14",null,"15 - 19",null,"20 - 24"]
[null,"Ambos Sexos","Hombres","Mujeres","Hombres","Mujeres","Hombres","Mujeres","Hombres","Mujeres","Hombres","Mujeres","Hombres","Mujeres"]
["INGRESOS",{"$f":"SUM(C330+D330)","v":0},{"$f":"SUM(E330+G330+I330+K330+M330)","v":0},{"$f":"SUM(F330+H330+J330+L330+N330)","v":0}]
["EGRESOS",{"$f":"SUM(C331+D331)","v":0},{"$f":"SUM(E331+G331+I331+K331+M331)","v":0},{"$f":"SUM(F331+H331+J331+L331+N331)","v":0}]
["SECCIÓN V. INGRESOS  INTEGRALES DE PERSONAS CON CONDICIONES CRÓNICAS EN ATENCIÓN PRIMARIA"]
["ACTIVIDAD","RIESGO","TOTAL               ",null,null,"GRUPOS DE EDAD  (en años)",null,null,null,null,null,null,null,null,null,null,null,null,null,null,null,null,null,null,null,null,null,null,null,null,null,null,null,"Beneficiarios","Migrantes","Pueblos Originarios","REALIZADO POR",null,null,"Realizado en domicilio"]
[null,null,null,null,null,"15 - 19",null,"20 - 24",null,"25 a 29",null,"30 a 34",null,"35 a 39",null,"40 a 44",null,"45 a 49",null,"50 a 54",null,"55 a 59",null,"60 a 64",null,"65 a 69",null,"70 a 74",null,"75 a 79",null,"80 y más",null,null,null,null,"Dupla (Medico + Profesional no médico)","Médico","Profesional No Médico"]
[null,null,"Ambos Sexos","Hombres","Mujeres","Hombres","Mujeres","Hombres","Mujeres","Hombres ","Mujeres","Hombres ","Mujeres","Hombres ","Mujeres","Hombres ","Mujeres","Hombres ","Mujeres","Hombres ","Mujeres","Hombres ","Mujeres","Hombres ","Mujeres","Hombres ","Mujeres","Hombres ","Mujeres","Hombres ","Mujeres","Hombres ","Mujeres"]
["INGRESOS","RIESGO LEVE (G1)",{"$f":"SUM(D336+E336)","v":3},{"$f":"SUM(F336+H336+J336+L336+N336+P336+R336+T336+V336+X336+Z336+AB336+AD336+AF336)","v":0},{"$f":"SUM(G336+I336+K336+M336+O336+Q336+S336+U336+W336+Y336+AA336+AC336+AE336+AG336)","v":3},0,0,0,0,0,0,0,0,0,0,0,2,0,1,0,0,0,0,0,0,0,0,0,0,0,0,0,0,3,0,0,0,2,0,0,null,null,null,null,null,null,null,null,null,null,null,null,null,null,null,null,null,null,null,null,null,null,null,null,null,null,null,null,null,null,null,null,null,null,null,null,null,null,null,null,null,null,null,null,null,null,null,0,null,null,null,null,null,0]
[null,"RIESGO MODERADO (G2)",{"$f":"SUM(D337+E337)","v":50},{"$f":"SUM(F337+H337+J337+L337+N337+P337+R337+T337+V337+X337+Z337+AB337+AD337+AF337)","v":20},30,0,0,0,0,0,0,0,2,1,2,0,0,0,6,1,1,4,9,5,3,3,4,5,2,0,0,1,1,48,0,0,1,37,3,0,null,null,null,null,null,null,null,null,null,null,null,null,null,null,null,null,null,null,null,null,null,null,null,null,null,null,null,null,null,null,null,null,null,null,null,null,null,null,null,null,null,null,null,null,null,null,null,null,null,null,null,null,null,0]
[null,"RIESGO ALTO (G3)",48,12,36,0,0,0,0,0,0,0,0,0,0,0,1,0,1,0,2,1,8,1,7,1,5,3,7,4,3,2,2,46,0,2,2,41,0,0,null,null,null,null,null,null,null,null,null,null,null,null,null,null,null,null,null,null,null,null,null,null,null,null,null,null,null,null,null,null,null,null,null,null,null,null,null,null,null,null,null,null,null,null,null,null,null,null,null,null,null,null,null,0]
["PLAN DE CUIDADO ELABORADO","RIESGO LEVE (G1)",3,0,3,0,0,0,0,0,0,0,0,0,0,0,2,0,1,0,0,0,0,0,0,0,0,0,0,0,0,0,0,3,0,0,0,2,0,0,null,null,null,null,null,null,null,null,null,null,null,null,null,null,null,null,null,null,null,null,null,null,null,null,null,null,null,null,null,null,null,null,null,null,null,null,null,null,null,null,null,null,null,null,null,null,null,0,null,null,null,null,null,0]
[null,"RIESGO MODERADO (G2)",50,20,{"$f":"SUM(G340+I340+K340+M340+O340+Q340+S340+U340+W340+Y340+AA340+AC340+AE340+AG340)","v":30},0,0,0,0,0,0,0,2,1,2,0,0,0,6,1,1,4,9,5,3,3,4,5,2,0,0,1,1,48,0,0,1,37,3,0,null,null,null,null,null,null,null,null,null,null,null,null,null,null,null,null,null,null,null,null,null,null,null,null,null,null,null,null,null,null,null,null,null,null,null,null,null,null,null,null,null,null,null,null,null,null,null,null,null,null,null,null,null,0]
[null,"RIESGO ALTO (G3)",48,12,36,0,0,0,0,0,0,0,0,0,0,0,1,0,1,0,2,1,8,1,7,1,5,3,7,4,3,2,2,46,0,2,2,41,0,0,null,null,null,null,null,null,null,null,null,null,null,null,null,null,null,null,null,null,null,null,null,null,null,null,null,null,null,null,null,null,null,null,null,null,null,null,null,null,null,null,null,null,null,null,null,null,null,null,null,null,null,null,null,0]
[]
[]
[]
[]
[]
[]
[]
[]
[]
[]
[{"$f":"SUM(C11:C14,C18:C31,C35:C54,B81,C84,C89:C92,C97:C100,C105,C110:C115,C120:C125,C130:C134,C141,C146,C147,C154,C159,C160,C167,C168:C171,C177,C179:C219,C223,C225:C265,C269:C272,C277:C280,C285:C303,C308:C315,C323:C325,B330:B331,C336:C341)","v":578},{"$f":"SUM(CF8:CN341)","v":0}]

{"sheet":"A06","index":6,"n_rows":176,"n_cols":90,"rows_kept":176,"cut":false,"hidden":false,"merged":[[149,23,149,24],[149,25,149,26],[9,43,11,43],[28,2,28,3],[28,1,29,1],[146,0,146,1],[9,40,11,40],[96,0,97,0],[96,2,96,3],[86,0,87,0],[105,0,107,0],[105,1,106,3],[127,6,127,8],[127,2,127,3],[127,1,128,1],[127,0,128,0],[132,33,132,34],[132,35,132,36],[132,5,132,6],[132,7,132,8],[105,4,105,12],[106,4,106,5],[106,6,106,7],[106,8,106,9],[151,0,154,0],[148,0,150,0],[148,1,150,1],[148,2,149,4],[148,5,148,38],[148,39,150,39],[148,40,150,40],[148,41,150,41],[148,42,150,42],[149,5,149,6],[149,7,149,8],[149,9,149,10],[149,11,149,12],[149,13,149,14],[149,15,149,16],[149,17,149,18],[149,19,149,20],[149,33,149,34],[149,27,149,28],[149,29,149,30],[149,31,149,32],[149,35,149,36],[149,37,149,38],[149,21,149,22],[106,10,106,11],[106,12,106,13],[132,37,132,38],[132,25,132,26],[132,27,132,28],[132,29,132,30],[132,31,132,32],[111,38,113,38],[116,4,117,4],[112,36,112,37],[112,22,112,23],[112,24,112,25],[112,26,112,27],[112,28,112,29],[112,30,112,31],[112,32,112,33],[111,4,111,37],[112,4,112,5],[132,13,132,14],[132,15,132,16],[132,17,132,18],[132,19,132,20],[132,21,132,22],[132,23,132,24],[134,0,144,0],[145,0,145,1],[96,1,97,1],[70,0,71,0],[72,0,77,0],[86,1,87,1],[86,2,87,2],[82,0,82,1],[83,0,83,1],[84,0,84,1],[79,0,80,1],[81,0,81,1],[116,0,117,0],[116,1,116,3],[111,0,113,0],[120,0,122,0],[48,5,48,6],[54,35,54,36],[86,3,87,3],[79,4,79,5],[79,6,79,7],[79,8,79,9],[54,13,54,14],[54,15,54,16],[54,17,54,18],[79,2,79,3],[54,27,54,28],[44,0,45,0],[47,0,49,1],[47,2,48,4],[47,5,47,38],[53,5,53,38],[54,23,54,24],[54,25,54,26],[53,39,55,39],[54,5,54,6],[54,7,54,8],[54,9,54,10],[54,11,54,12],[48,33,48,34],[47,39,49,39],[48,15,48,16],[48,17,48,18],[48,19,48,20],[54,29,54,30],[48,31,48,32],[54,19,54,20],[54,21,54,22],[52,0,52,12],[48,7,48,8],[48,21,48,22],[56,0,61,0],[62,0,63,0],[64,0,67,0],[68,0,69,0],[53,0,55,1],[53,2,54,4],[54,37,54,38],[54,31,54,32],[54,33,54,34],[48,37,48,38],[48,9,48,10],[48,11,48,12],[48,13,48,14],[48,35,48,36],[48,23,48,24],[48,25,48,26],[48,27,48,28],[48,29,48,30],[40,0,41,0],[40,1,41,1],[40,2,41,2],[42,0,43,0],[28,35,28,36],[28,37,28,38],[28,21,28,22],[34,0,35,0],[34,1,35,1],[34,2,34,3],[34,4,34,6],[34,7,34,12],[28,39,28,40],[28,23,28,24],[28,25,28,26],[28,27,28,28],[28,29,28,30],[28,11,28,12],[28,13,28,14],[28,15,28,16],[28,17,28,18],[28,19,28,20],[10,33,10,34],[10,35,10,36],[28,31,28,32],[28,33,28,34],[23,0,23,1],[5,0,5,22],[9,0,11,0],[9,1,11,1],[9,2,10,4],[9,5,9,38],[10,17,10,18],[10,19,10,20],[12,0,22,0],[25,0,26,0],[28,0,29,0],[28,4,28,6],[28,7,28,8],[28,9,28,10],[9,41,11,41],[9,42,11,42],[131,0,133,0],[131,1,133,1],[131,2,132,4],[131,5,131,38],[131,39,133,39],[131,40,133,40],[131,41,133,41],[131,42,133,42],[10,5,10,6],[10,7,10,8],[10,9,10,10],[10,11,10,12],[10,13,10,14],[10,15,10,16],[9,39,11,39],[10,21,10,22],[10,23,10,24],[10,25,10,26],[10,27,10,28],[10,37,10,38],[10,29,10,30],[10,31,10,32],[131,43,133,43],[131,44,133,44],[132,9,132,10],[132,11,132,12],[112,34,112,35],[120,1,121,3],[120,4,120,9],[121,4,121,5],[121,6,121,7],[121,8,121,9],[127,4,127,5],[112,6,112,7],[112,8,112,9],[112,10,112,11],[112,12,112,13],[112,14,112,15],[112,16,112,17],[112,18,112,19],[112,20,112,21],[111,1,112,3]]}
["SERVICIO DE SALUD"]
[{"$f":"CONCATENATE(\"COMUNA: \",NOMBRE!B2,\" - \",\"( \",NOMBRE!C2,NOMBRE!D2,NOMBRE!E2,NOMBRE!F2,NOMBRE!G2,\" )\")","v":"COMUNA: CALLE LARGA - ( 05302 )"}]
[{"$f":"CONCATENATE(\"ESTABLECIMIENTO/ESTRATEGIA: \",NOMBRE!B3,\" - \",\"( \",NOMBRE!C3,NOMBRE!D3,NOMBRE!E3,NOMBRE!F3,NOMBRE!G3,NOMBRE!H3,\" )\")","v":"ESTABLECIMIENTO/ESTRATEGIA: DR. JOSE JOAQUIN AGUIRRE CAMPOS - ( 108308 )"}]
[{"$f":"CONCATENATE(\"MES: \",NOMBRE!B6,\" - \",\"( \",NOMBRE!C6,NOMBRE!D6,\" )\")","v":"MES: DICIEMBRE - ( 12 )"}]
[{"$f":"CONCATENATE(\"AÑO: \",NOMBRE!B7)","v":"AÑO: 2022"}]
["REM-06.   PROGRAMA DE SALUD MENTAL ATENCIÓN PRIMARIA Y ESPECIALIDADES"]
[]
[]
["SECCIÓN A.1: CONTROLES DE ATENCIÓN PRIMARIA / ESPECIALIDADES"]
["ACTIVIDAD","PROFESIONAL","TOTAL               ",null,null,"GRUPOS DE EDAD  (en años)",null,null,null,null,null,null,null,null,null,null,null,null,null,null,null,null,null,null,null,null,null,null,null,null,null,null,null,null,null,null,null,null,null,"Beneficiarios","Niños, Niñas, Adolescentes y Jóvenes Población SENAME","Pueblos Originarios","Migrantes","Demencia"]
[null,null,null,null,null,"0 - 4",null,"5 - 9",null,"10 - 14",null,"15 - 19",null,"20 - 24",null,"25 - 29",null,"30 - 34",null,"35 - 39",null,"40 - 44",null,"45 - 49",null,"50 - 54",null,"55 - 59",null,"60 - 64",null,"65 - 69",null,"70 - 74",null,"75 - 79",null,"80 y mas"]
[null,null,"Ambos Sexos","Hombres","Mujeres","Hombres","Mujeres","Hombres","Mujeres","Hombres","Mujeres","Hombres","Mujeres","Hombres","Mujeres","Hombres","Mujeres","Hombres","Mujeres","Hombres","Mujeres","Hombres","Mujeres","Hombres","Mujeres","Hombres","Mujeres","Hombres","Mujeres","Hombres","Mujeres","Hombres","Mujeres","Hombres","Mujeres","Hombres","Mujeres","Hombres","Mujeres"]
["CONTROLES SALUD MENTAL","MÉDICO",{"$f":"SUM(D13+E13)","v":123},{"$f":"SUM(F13+H13+J13+L13+N13+P13+R13+T13+V13+X13+Z13+AB13+AD13+AF13+AH13+AJ13+AL13)","v":30},{"$f":"SUM(G13+I13+K13+M13+O13+Q13+S13+U13+W13+Y13+AA13+AC13+AE13+AG13+AI13+AK13+AM13)","v":93},0,0,3,2,5,6,0,5,1,7,1,5,1,6,1,6,0,3,2,14,1,5,3,6,2,10,4,12,3,3,3,0,0,3,122,1,2,0,1,{"$f":"CONCATENATE(CA13,CB13,CC13,CD13,CE13,CF13)","v":""},null,null,null,null,null,null,null,null,null,null,null,null,null,null,null,null,null,null,null,null,null,null,null,null,null,null,null,null,null,null,null,null,null,{"$f":"IF(CG13=1,\"* El número de Beneficiarios NO DEBE ser mayor que el Total. \",\"\")","v":""},{"$f":"IF(CH13=1,\"* Los Niños, Niñas, Adolescentes y Jóvenes de Programa SENAME NO DEBE ser mayor que el Total. \",\"\")","v":""},{"$f":"IF(CI13=1,\"* El número de personas pertenecientes a Pueblos Originarios NO DEBE ser mayor que el Total. \",\"\")","v":""},{"$f":"IF(CJ13=1,\"* El número de personas Migrantes NO DEBE ser mayor que el Total. \",\"\")","v":""},{"$f":"IF(CK13=1,\"* El número de personas con Demencia NO DEBE ser mayor que el Total. \",\"\")","v":""},{"$f":"IF(CL13=1,\"* No olvide digitar la columna Beneficiarios y/o Niños, Niñas, Adolescentes y Jóvenes de Programa SENAME y/o Pueblos Originarios y/o Migrantes y/o Demencia (Digite CEROS si no tiene). \",\"\")","v":""},{"$f":"IF($C13<AN13,1,0)","v":0},{"$f":"IF($C13<AO13,1,0)","v":0},{"$f":"IF($C13<AP13,1,0)","v":0},{"$f":"IF($C13<AQ13,1,0)","v":0},{"$f":"IF($C13<AR13,1,0)","v":0},{"$f":"IF(AND(C13<>0,OR(AN13=\"\",AO13=\"\",AP13=\"\",AQ13=\"\",AR13=\"\")),1,0)","v":0}]
[null,"PSICÓLOGO/A",241,72,169,0,1,7,3,16,22,6,18,1,12,3,13,5,10,6,7,3,8,3,12,7,11,3,18,3,15,4,8,3,5,1,2,1,4,238,2,2,0,0,"",null,null,null,null,null,null,null,null,null,null,null,null,null,null,null,null,null,null,null,null,null,null,null,null,null,null,null,null,null,null,null,null,null,"","",{"$f":"IF(CI14=1,\"* El total de personas pertenecientes a Pueblos Originarios NO DEBE ser mayor que el Total. \",\"\")","v":""},"","","",0,0,0,0,0,0]
[null,"ENFERMERA /O",0,0,0,0,0,0,0,0,0,0,0,0,0,0,0,0,0,0,0,0,0,0,0,0,0,0,0,0,0,0,0,0,0,0,0,0,0,0,0,0,0,0,"",null,null,null,null,null,null,null,null,null,null,null,null,null,null,null,null,null,null,null,null,null,null,null,null,null,null,null,null,null,null,null,null,null,"","","","","","",0,0,0,0,0,0]
[null,"MATRONA /ÓN",0,0,0,0,0,0,0,0,0,0,0,0,0,0,0,0,0,0,0,0,0,0,0,0,0,0,0,0,0,0,0,0,0,0,0,0,0,0,0,0,0,0,"",null,null,null,null,null,null,null,null,null,null,null,null,null,null,null,null,null,null,null,null,null,null,null,null,null,null,null,null,null,null,null,null,null,"","","","","","",0,0,0,0,0,0]
[null,"ASISTENTE SOCIAL",0,0,0,0,0,0,0,0,0,0,0,0,0,0,0,0,0,0,0,0,0,0,0,0,0,0,0,0,0,0,0,0,0,0,0,0,0,0,0,0,0,0,"",null,null,null,null,null,null,null,null,null,null,null,null,null,null,null,null,null,null,null,null,null,null,null,null,null,null,null,null,null,null,null,null,null,"","","","","","",0,0,0,0,0,0]
[null,"OTROS PROFESIONALES",0,0,0,0,0,0,0,0,0,0,0,0,0,0,0,0,0,0,0,0,0,0,0,0,0,0,0,0,0,0,0,0,0,0,0,0,0,0,0,0,0,0,"",null,null,null,null,null,null,null,null,null,null,null,null,null,null,null,null,null,null,null,null,null,null,null,null,null,null,null,null,null,null,null,null,null,"","","","","","",0,0,0,0,0,0]
[null,"TERAPEUTA OCUPACIONAL",0,0,0,null,null,null,null,null,null,null,null,null,null,null,null,null,null,null,null,null,null,null,null,null,null,null,null,null,null,null,null,null,null,null,null,null,null,null,null,null,null,null,"",null,null,null,null,null,null,null,null,null,null,null,null,null,null,null,null,null,null,null,null,null,null,null,null,null,null,null,null,null,null,null,null,null,"","","","","","",0,0,0,0,0,0]
[null,"TÉCNICO PARAMÉDICO y EN SALUD MENTAL",0,0,0,null,null,null,null,null,null,null,null,null,null,null,null,null,null,null,null,null,null,null,null,null,null,null,null,null,null,null,null,null,null,null,null,null,null,null,null,null,null,null,"",null,null,null,null,null,null,null,null,null,null,null,null,null,null,null,null,null,null,null,null,null,null,null,null,null,null,null,null,null,null,null,null,null,"","","","","","",0,0,0,0,0,0]
[null,"GESTOR COMUNITARIO",0,0,0,null,null,null,null,null,null,null,null,null,null,null,null,null,null,null,null,null,null,null,null,null,null,null,null,null,null,null,null,null,null,null,null,null,null,null,null,null,null,null,"",null,null,null,null,null,null,null,null,null,null,null,null,null,null,null,null,null,null,null,null,null,null,null,null,null,null,null,null,null,null,null,null,null,"","","","","","",0,0,0,0,0,0]
[null,"TÉCNICO REHABILITACIÓN ALCOHOL Y DROGAS",0,0,0,null,null,null,null,null,null,null,null,null,null,null,null,null,null,null,null,null,null,null,null,null,null,null,null,null,null,null,null,null,null,null,null,null,null,null,null,null,null,null,"",null,null,null,null,null,null,null,null,null,null,null,null,null,null,null,null,null,null,null,null,null,null,null,null,null,null,null,null,null,null,null,null,null,"","","","","","",0,0,0,0,0,0]
[null,"TOTAL",364,102,262,{"$f":"SUM(F13:F22)","v":0},{"$f":"SUM(G13:G22)","v":1},10,5,21,28,6,23,2,19,4,18,6,16,7,13,3,11,5,26,8,16,6,24,5,25,8,20,6,8,4,2,1,7,360,3,4,0,1,null,null,null,null,null,null,null,null,null,null,null,null,null,null,null,null,null,null,null,null,null,null,null,null,null,null,null,null,null,null,null,null,null,null,null,null,"","","","",0,0,0,0,0,0]
["INTERVENCIÓN PSICOSOCIAL GRUPAL",null,0,0,0,null,null,null,null,null,null,null,null,null,null,null,null,null,null,null,null,null,null,null,null,null,null,null,null,null,null,null,null,null,null,null,null,null,null,null,null,null,null,null,{"$f":"CONCATENATE(CA24,CB24,CC24,CD24,CE24,CF24)","v":""},null,null,null,null,null,null,null,null,null,null,null,null,null,null,null,null,null,null,null,null,null,null,null,null,null,null,null,null,null,null,null,null,null,{"$f":"IF(CG24=1,\"* El número de Beneficiarios NO DEBE ser mayor que el Total. \",\"\")","v":""},{"$f":"IF(CH24=1,\"* Los Niños, Niñas, Adolescentes y Jóvenes de Programa SENAME NO DEBE ser mayor que el Total. \",\"\")","v":""},"","","","",0,0,0,0,0,0]
["PSICODIAGNOSTICO","PSICÓLOGO/A",0,0,0,null,null,null,null,null,null,null,null,null,null,null,null,null,null,null,null,null,null,null,null,null,null,null,null,null,null,null,null,null,null,null,null,null,null,null,null,null,null,null,{"$f":"CONCATENATE(CA25,CB25,CC25,CD25,CE25,CF25)","v":""},null,null,null,null,null,null,null,null,null,null,null,null,null,null,null,null,null,null,null,null,null,null,null,null,null,null,null,null,null,null,null,null,null,{"$f":"IF(CG25=1,\"* El número de Beneficiarios NO DEBE ser mayor que el Total. \",\"\")","v":""},{"$f":"IF(CH25=1,\"* Los Niños, Niñas, Adolescentes y Jóvenes de Programa SENAME NO DEBE ser mayor que el Total. \",\"\")","v":""},"","","","",0,0,0,0,0,0]
["PSICOTERAPIA INDIVIDUAL","PSICÓLOGO/A",0,0,0,null,null,null,null,null,null,null,null,null,null,null,null,null,null,null,null,null,null,null,null,null,null,null,null,null,null,null,null,null,null,null,null,null,null,null,null,null,null,null,{"$f":"CONCATENATE(CA26,CB26,CC26,CD26,CE26,CF26)","v":""},null,null,null,null,null,null,null,null,null,null,null,null,null,null,null,null,null,null,null,null,null,null,null,null,null,null,null,null,null,null,null,null,null,{"$f":"IF(CG26=1,\"* El número de Beneficiarios NO DEBE ser mayor que el Total. \",\"\")","v":""},{"$f":"IF(CH26=1,\"* Los Niños, Niñas, Adolescentes y Jóvenes de Programa SENAME NO DEBE ser mayor que el Total. \",\"\")","v":""},"","","","",0,0,0,0,0,0]
[null,"MÉDICO PSIQUIATRA",0,0,0,null,null,null,null,null,null,null,null,null,null,null,null,null,null,null,null,null,null,null,null,null,null,null,null,null,null,null,null,null,null,null,null,null,null,null,null,null,null,null,{"$f":"CONCATENATE(CA27,CB27,CC27,CD27,CE27,CF27)","v":""},null,null,null,null,null,null,null,null,null,null,null,null,null,null,null,null,null,null,null,null,null,null,null,null,null,null,null,null,null,null,null,null,null,{"$f":"IF(CG27=1,\"* El número de Beneficiarios NO DEBE ser mayor que el Total. \",\"\")","v":""},{"$f":"IF(CH27=1,\"* Los Niños, Niñas, Adolescentes y Jóvenes de Programa SENAME NO DEBE ser mayor que el Total. \",\"\")","v":""},"","","","",0,0,0,0,0,0]
["SECCIÓN A.2: CONSULTORÍAS DE SALUD MENTAL EN APS"]
["ACTIVIDAD","TOTAL CONSULTORÍAS Y TELECONSULTORÍAS RECIBIDAS","CONSULTORÍAS Y TELECONSULTORÍAS RECIBIDAS",null,"TOTAL Nº DE CASOS REVISADOS",null,null,"0 - 4",null,"5 - 9",null,"10 - 14",null,"15 - 19",null,"20 - 24",null,"25 - 29",null,"30 - 34",null,"35 - 39",null,"40 - 44",null,"45 - 49",null,"50 - 54",null,"55 - 59",null,"60 - 64",null,"65 - 69",null,"70 - 74",null,"75 - 79",null,"80 y mas"]
[null,null,"CONSULTORÍAS Y TELECONSULTORÍAS DE SALUD MENTAL INFANTO ADOLESCENTE","CONSULTORÍAS Y TELECONSULTORÍAS DE SALUD MENTAL ADULTO","Ambos Sexos","Hombres","Mujeres","Hombres","Mujeres","Hombres","Mujeres","Hombres","Mujeres","Hombres","Mujeres","Hombres","Mujeres","Hombres","Mujeres","Hombres","Mujeres","Hombres","Mujeres","Hombres","Mujeres","Hombres","Mujeres","Hombres","Mujeres","Hombres","Mujeres","Hombres","Mujeres","Hombres","Mujeres","Hombres","Mujeres","Hombres","Mujeres","Hombres","Mujeres"]
["CONSULTORÍAS DE SALUD MENTAL",{"$f":"SUM(C31:D31)","v":0},null,null,{"$f":"SUM(F31+G31)","v":0},{"$f":"SUM(H31+J31+L31+N31+P31+R31+T31+V31+X31+Z31+AB31+AD31+AF31+AH31+AJ31+AL31+AN31)","v":0},{"$f":"SUM(I31+K31+M31+O31+Q31+S31+U31+W31+Y31+AA31+AC31+AE31+AG31+AI31+AK31+AM31+AO31)","v":0}]
["TELECONSULTORÍAS DE SALUD MENTAL",{"$f":"SUM(C32:D32)","v":0},null,null,{"$f":"SUM(F32+G32)","v":0},{"$f":"SUM(H32+J32+L32+N32+P32+R32+T32+V32+X32+Z32+AB32+AD32+AF32+AH32+AJ32+AL32+AN32)","v":0},{"$f":"SUM(I32+K32+M32+O32+Q32+S32+U32+W32+Y32+AA32+AC32+AE32+AG32+AI32+AK32+AM32+AO32)","v":0}]
["TOTAL",{"$f":"SUM(B31:B32)","v":0},0,0,0,0,0,0,{"$f":"SUM(I31:I32)","v":0},0,0,0,0,0,0,0,0,0,0,0,0,0,0,0,0,0,0,0,0,0,0,0,0,0,0,0,0,0,0,0,0]
["SECCIÓN A.3: CONSULTORÍAS DE SALUD MENTAL OTORGADA POR EL NIVEL DE ESPECIALIDAD"]
["ACTIVIDAD","TOTAL CONSULTORÍAS Y TELECONSULTORÍAS OTORGADAS","CONSULTORÍAS Y TELECONSULTORÍAS OTORGADAS",null,"TOTAL Nº DE CASOS REVISADOS",null,null,"Participantes"]
[null,null,"CONSULTORÍAS Y TELECONSULTORÍAS DE SALUD MENTAL INFANTO ADOLESCENTE","CONSULTORÍAS Y TELECONSULTORÍAS DE SALUD MENTAL ADULTO","Ambos Sexos","Hombres","Mujeres","Médico psiquiatra","Médico Psiquiatría más un profesional","Médico Psiquiatría más dos Profesionales","Médico Psiquiatría con más de dos Profesionales","Dos profesionales","Más de dos profesionales"]
["CONSULTORÍAS DE SALUD MENTAL",{"$f":"SUM(C37:D37)","v":0},null,null,{"$f":"SUM(F37:G37)","v":0}]
["TELECONSULTORÍAS DE SALUD MENTAL",{"$f":"SUM(C38:D38)","v":0},null,null,{"$f":"SUM(F38:G38)","v":0}]
["TOTAL",{"$f":"SUM(B37:B38)","v":0},0,0,0,0,0,0,{"$f":"SUM(I37:I38)","v":0},0,0,0,0]
["SECCIÓN B.1: ACTIVIDADES GRUPALES (NÚMERO DE SESIONES)"]
["ACTIVIDAD","PROFESIONAL","TOTAL               "]
[]
["PSICOTERAPIA  GRUPAL","MÉDICO PSIQUIATRA"]
[null,"PSICÓLOGO"]
["PSICOTERAPIA FAMILIAR","MÉDICO PSIQUIATRA"]
[null,"PSICÓLOGO"]
["SECCIÓN B.2:  PROGRAMA DE REHABILITACIÓN (PERSONAS CON TRASTORNOS PSIQUIÁTRICOS)"]
["TIPO",null,"TOTAL               ",null,null,"GRUPOS DE EDAD (en años)",null,null,null,null,null,null,null,null,null,null,null,null,null,null,null,null,null,null,null,null,null,null,null,null,null,null,null,null,null,null,null,null,null,"Beneficiarios"]
[null,null,null,null,null,"0 - 4",null,"5 - 9",null,"10 - 14",null,"15 - 19",null,"20 - 24",null,"25 - 29",null,"30 - 34",null,"35 - 39",null,"40 - 44",null,"45 - 49",null,"50 - 54",null,"55 - 59",null,"60 - 64",null,"65 - 69",null,"70 - 74",null,"75 - 79",null,"80 y mas"]
[null,null,"Ambos Sexos","Hombres","Mujeres","Hombres","Mujeres","Hombres","Mujeres","Hombres","Mujeres","Hombres","Mujeres","Hombres","Mujeres","Hombres","Mujeres","Hombres","Mujeres","Hombres","Mujeres","Hombres","Mujeres","Hombres","Mujeres","Hombres","Mujeres","Hombres","Mujeres","Hombres","Mujeres","Hombres","Mujeres","Hombres","Mujeres","Hombres","Mujeres","Hombres","Mujeres"]
["PROGRAMA DE REHABILITACIÓN TIPO I","DÍAS PERSONA",{"$f":"SUM(D51+E51)","v":0},{"$f":"SUM(F51+H51+J51+L51+N51+P51+R51+T51+V51+X51+Z51+AB51+AD51+AF51+AH51+AJ51+AL51)","v":0},{"$f":"SUM(G51+I51+K51+M51+O51+Q51+S51+U51+W51+Y51+AA51+AC51+AE51+AG51+AI51+AK51+AM51)","v":0},null,null,null,null,null,null,null,null,null,null,null,null,null,null,null,null,null,null,null,null,null,null,null,null,null,null,null,null,null,null,null,null,null,null,null,{"$f":"CA51&CB51","v":""},null,null,null,null,null,null,null,null,null,null,null,null,null,null,null,null,null,null,null,null,null,null,null,null,null,null,null,null,null,null,null,null,null,null,null,null,null,{"$f":"IF(CG51=1,\"* El número de Beneficiarios NO DEBE ser mayor que el total. \",\"\")","v":""},{"$f":"IF(CH51=1,\"* No olvide digitar la columna Beneficiarios. \",\"\")","v":""},null,null,null,null,{"$f":"IF(C51<AN51,1,0)","v":0},{"$f":"IF(AND(C51<>0,AN51=\"\"),1,0)","v":0}]
["PROGRAMA DE REHABILITACIÓN TIPO II","DÍAS PERSONA",{"$f":"SUM(D52+E52)","v":0},{"$f":"SUM(F52+H52+J52+L52+N52+P52+R52+T52+V52+X52+Z52+AB52+AD52+AF52+AH52+AJ52+AL52)","v":0},{"$f":"SUM(G52+I52+K52+M52+O52+Q52+S52+U52+W52+Y52+AA52+AC52+AE52+AG52+AI52+AK52+AM52)","v":0},null,null,null,null,null,null,null,null,null,null,null,null,null,null,null,null,null,null,null,null,null,null,null,null,null,null,null,null,null,null,null,null,null,null,null,{"$f":"CA52&CB52","v":""},null,null,null,null,null,null,null,null,null,null,null,null,null,null,null,null,null,null,null,null,null,null,null,null,null,null,null,null,null,null,null,null,null,null,null,null,null,{"$f":"IF(CG52=1,\"* El número de Beneficiarios NO DEBE ser mayor que el total. \",\"\")","v":""},{"$f":"IF(CH52=1,\"* No olvide digitar la columna Beneficiarios. \",\"\")","v":""},null,null,null,null,{"$f":"IF(C52<AN52,1,0)","v":0},{"$f":"IF(AND(C52<>0,AN52=\"\"),1,0)","v":0}]
["SECCIÓN B.3: ACTIVIDADES DE PSIQUIATRÍA FORENSE PARA PERSONAS EN CONFLICTO CON LA JUSTICIA (En lo Penal, Civil, Familiar, etc.)"]
["ACTIVIDAD",null,"TOTAL               ",null,null,"GRUPOS DE EDAD (en años)",null,null,null,null,null,null,null,null,null,null,null,null,null,null,null,null,null,null,null,null,null,null,null,null,null,null,null,null,null,null,null,null,null,"Beneficiarios"]
[null,null,null,null,null,"0 - 4",null,"5 - 9",null,"10 - 14",null,"15 - 19",null,"20 - 24",null,"25 - 29",null,"30 - 34",null,"35 - 39",null,"40 - 44",null,"45 - 49",null,"50 - 54",null,"55 - 59",null,"60 - 64",null,"65 - 69",null,"70 - 74",null,"75 - 79",null,"80 y mas"]
[null,null,"Ambos Sexos","Hombres","Mujeres","Hombres","Mujeres","Hombres","Mujeres","Hombres","Mujeres","Hombres","Mujeres","Hombres","Mujeres","Hombres","Mujeres","Hombres","Mujeres","Hombres","Mujeres","Hombres","Mujeres","Hombres","Mujeres","Hombres","Mujeres","Hombres","Mujeres","Hombres","Mujeres","Hombres","Mujeres","Hombres","Mujeres","Hombres","Mujeres","Hombres","Mujeres"]
["PERITAJE PSIQUIÁTRICO JUDICIAL","MÉDICO",{"$f":"SUM(D57+E57)","v":0},{"$f":"SUM(H57+J57+L57+N57+P57+R57+T57+V57+X57+Z57+AB57+AD57+AF57+AH57+AJ57+AL57)","v":0},0,null,null,null,null,null,null,null,null,null,null,null,null,null,null,null,null,null,null,null,null,null,null,null,null,null,null,null,null,null,null,null,null,null,null,null,{"$f":"CA57&CB57","v":""},null,null,null,null,null,null,null,null,null,null,null,null,null,null,null,null,null,null,null,null,null,null,null,null,null,null,null,null,null,null,null,null,null,null,null,null,null,{"$f":"IF(CG57=1,\"* El número de Beneficiarios NO DEBE ser mayor que el total. \",\"\")","v":""},{"$f":"IF(CH57=1,\"* No olvide digitar la columna Beneficiarios. \",\"\")","v":""},null,null,null,null,{"$f":"IF(C57<AN57,1,0)","v":0},{"$f":"IF(AND(C57<>0,AN57=\"\"),1,0)","v":0}]
[null,"MÉDICO PSIQUIATRA",0,0,0,null,null,null,null,null,null,null,null,null,null,null,null,null,null,null,null,null,null,null,null,null,null,null,null,null,null,null,null,null,null,null,null,null,null,null,"",null,null,null,null,null,null,null,null,null,null,null,null,null,null,null,null,null,null,null,null,null,null,null,null,null,null,null,null,null,null,null,null,null,null,null,null,null,"","",null,null,null,null,0,0]
[null,"PSICÓLOGO/A",0,0,0,null,null,null,null,null,null,null,null,null,null,null,null,null,null,null,null,null,null,null,null,null,null,null,null,null,null,null,null,null,null,null,null,null,null,null,"",null,null,null,null,null,null,null,null,null,null,null,null,null,null,null,null,null,null,null,null,null,null,null,null,null,null,null,null,null,null,null,null,null,null,null,null,null,"","",null,null,null,null,0,0]
[null,"ENFERMERO/A",0,0,0,null,null,null,null,null,null,null,null,null,null,null,null,null,null,null,null,null,null,null,null,null,null,null,null,null,null,null,null,null,null,null,null,null,null,null,"",null,null,null,null,null,null,null,null,null,null,null,null,null,null,null,null,null,null,null,null,null,null,null,null,null,null,null,null,null,null,null,null,null,null,null,null,null,"","",null,null,null,null,0,0]
[null,"ASISTENTE SOCIAL",0,0,0,null,null,null,null,null,null,null,null,null,null,null,null,null,null,null,null,null,null,null,null,null,null,null,null,null,null,null,null,null,null,null,null,null,null,null,"",null,null,null,null,null,null,null,null,null,null,null,null,null,null,null,null,null,null,null,null,null,null,null,null,null,null,null,null,null,null,null,null,null,null,null,null,null,"","",null,null,null,null,0,0]
[null,"OTROS PROFESIONALES",0,0,0,null,null,null,null,null,null,null,null,null,null,null,null,null,null,null,null,null,null,null,null,null,null,null,null,null,null,null,null,null,null,null,null,null,null,null,"",null,null,null,null,null,null,null,null,null,null,null,null,null,null,null,null,null,null,null,null,null,null,null,null,null,null,null,null,null,null,null,null,null,null,null,null,null,"","",null,null,null,null,0,0]
["EXAMEN PRELIMINAR EN DROGAS PARA ADOLESCENTES IMPUTADOS / CONDENADOS ","PSICÓLOGO/A",0,{"$f":"SUM(J63+L63+N63)","v":0},0,null,null,null,null,null,null,null,null,null,null,null,null,null,null,null,null,null,null,null,null,null,null,null,null,null,null,null,null,null,null,null,null,null,null,null,"",null,null,null,null,null,null,null,null,null,null,null,null,null,null,null,null,null,null,null,null,null,null,null,null,null,null,null,null,null,null,null,null,null,null,null,null,null,"","",null,null,null,null,0,0]
[null,"ASISTENTE SOCIAL",0,0,0,null,null,null,null,null,null,null,null,null,null,null,null,null,null,null,null,null,null,null,null,null,null,null,null,null,null,null,null,null,null,null,null,null,null,null,"",null,null,null,null,null,null,null,null,null,null,null,null,null,null,null,null,null,null,null,null,null,null,null,null,null,null,null,null,null,null,null,null,null,null,null,null,null,"","",null,null,null,null,0,0]
["EVALUACIÓN CLÍNICA PARA ADOLESCENTES IMPUTADOS CON CONSUMO DE DROGAS","MÉDICO",0,0,0,null,null,null,null,null,null,null,null,null,null,null,null,null,null,null,null,null,null,null,null,null,null,null,null,null,null,null,null,null,null,null,null,null,null,null,"",null,null,null,null,null,null,null,null,null,null,null,null,null,null,null,null,null,null,null,null,null,null,null,null,null,null,null,null,null,null,null,null,null,null,null,null,null,"","",null,null,null,null,0,0]
[null,"MÉDICO PSIQUIATRA",0,0,0,null,null,null,null,null,null,null,null,null,null,null,null,null,null,null,null,null,null,null,null,null,null,null,null,null,null,null,null,null,null,null,null,null,null,null,"",null,null,null,null,null,null,null,null,null,null,null,null,null,null,null,null,null,null,null,null,null,null,null,null,null,null,null,null,null,null,null,null,null,null,null,null,null,"","",null,null,null,null,0,0]
[null,"PSICÓLOGO/A",0,0,0,null,null,null,null,null,null,null,null,null,null,null,null,null,null,null,null,null,null,null,null,null,null,null,null,null,null,null,null,null,null,null,null,null,null,null,"",null,null,null,null,null,null,null,null,null,null,null,null,null,null,null,null,null,null,null,null,null,null,null,null,null,null,null,null,null,null,null,null,null,null,null,null,null,"","",null,null,null,null,0,0]
[null,"ASISTENTE SOCIAL",0,0,0,null,null,null,null,null,null,null,null,null,null,null,null,null,null,null,null,null,null,null,null,null,null,null,null,null,null,null,null,null,null,null,null,null,null,null,"",null,null,null,null,null,null,null,null,null,null,null,null,null,null,null,null,null,null,null,null,null,null,null,null,null,null,null,null,null,null,null,null,null,null,null,null,null,"","",null,null,null,null,0,0]
["EXAMEN MENTAL PRELIMINAR A PERSONAS IMPUTADAS","MÉDICO",0,{"$f":"SUM(J69+L69+N69+P69+R69+T69+V69+X69+Z69+AB69+AD69+AF69+AH69+AJ69+AL69)","v":0},{"$f":"SUM(K69+M69+O69+Q69+S69+U69+W69+Y69+AA69+AC69+AE69+AG69+AI69+AK69+AM69)","v":0},null,null,null,null,null,null,null,null,null,null,null,null,null,null,null,null,null,null,null,null,null,null,null,null,null,null,null,null,null,null,null,null,null,null,null,"",null,null,null,null,null,null,null,null,null,null,null,null,null,null,null,null,null,null,null,null,null,null,null,null,null,null,null,null,null,null,null,null,null,null,null,null,null,"","",null,null,null,null,0,0]
[null,"MÉDICO PSIQUIATRA",0,0,0,null,null,null,null,null,null,null,null,null,null,null,null,null,null,null,null,null,null,null,null,null,null,null,null,null,null,null,null,null,null,null,null,null,null,null,"",null,null,null,null,null,null,null,null,null,null,null,null,null,null,null,null,null,null,null,null,null,null,null,null,null,null,null,null,null,null,null,null,null,null,null,null,null,"","",null,null,null,null,0,0]
["PERITAJE DROGAS","MÉDICO",0,0,0,null,null,null,null,null,null,null,null,null,null,null,null,null,null,null,null,null,null,null,null,null,null,null,null,null,null,null,null,null,null,null,null,null,null,null,"",null,null,null,null,null,null,null,null,null,null,null,null,null,null,null,null,null,null,null,null,null,null,null,null,null,null,null,null,null,null,null,null,null,null,null,null,null,"","",null,null,null,null,0,0]
[null,"MÉDICO PSIQUIATRA",0,0,0,null,null,null,null,null,null,null,null,null,null,null,null,null,null,null,null,null,null,null,null,null,null,null,null,null,null,null,null,null,null,null,null,null,null,null,"",null,null,null,null,null,null,null,null,null,null,null,null,null,null,null,null,null,null,null,null,null,null,null,null,null,null,null,null,null,null,null,null,null,null,null,null,null,"","",null,null,null,null,0,0]
["ATENCIÓN A AGRESORES DERIVADOS DE TRIBUNALES (LEY DE VIOLENCIA INTRAFAMILIAR","MÉDICO",0,0,0,null,null,null,null,null,null,null,null,null,null,null,null,null,null,null,null,null,null,null,null,null,null,null,null,null,null,null,null,null,null,null,null,null,null,null,"",null,null,null,null,null,null,null,null,null,null,null,null,null,null,null,null,null,null,null,null,null,null,null,null,null,null,null,null,null,null,null,null,null,null,null,null,null,"","",null,null,null,null,0,0]
[null,"MÉDICO PSIQUIATRA",0,0,0,null,null,null,null,null,null,null,null,null,null,null,null,null,null,null,null,null,null,null,null,null,null,null,null,null,null,null,null,null,null,null,null,null,null,null,"",null,null,null,null,null,null,null,null,null,null,null,null,null,null,null,null,null,null,null,null,null,null,null,null,null,null,null,null,null,null,null,null,null,null,null,null,null,"","",null,null,null,null,0,0]
[null,"PSICÓLOGO/A",0,0,0,null,null,null,null,null,null,null,null,null,null,null,null,null,null,null,null,null,null,null,null,null,null,null,null,null,null,null,null,null,null,null,null,null,null,null,"",null,null,null,null,null,null,null,null,null,null,null,null,null,null,null,null,null,null,null,null,null,null,null,null,null,null,null,null,null,null,null,null,null,null,null,null,null,"","",null,null,null,null,0,0]
[null,"ENFERMERO/A",0,0,0,null,null,null,null,null,null,null,null,null,null,null,null,null,null,null,null,null,null,null,null,null,null,null,null,null,null,null,null,null,null,null,null,null,null,null,"",null,null,null,null,null,null,null,null,null,null,null,null,null,null,null,null,null,null,null,null,null,null,null,null,null,null,null,null,null,null,null,null,null,null,null,null,null,"","",null,null,null,null,0,0]
[null,"ASISTENTE SOCIAL",0,0,0,null,null,null,null,null,null,null,null,null,null,null,null,null,null,null,null,null,null,null,null,null,null,null,null,null,null,null,null,null,null,null,null,null,null,null,"",null,null,null,null,null,null,null,null,null,null,null,null,null,null,null,null,null,null,null,null,null,null,null,null,null,null,null,null,null,null,null,null,null,null,null,null,null,"","",null,null,null,null,0,0]
[null,"OTROS PROFESIONALES",0,0,0,null,null,null,null,null,null,null,null,null,null,null,null,null,null,null,null,null,null,null,null,null,null,null,null,null,null,null,null,null,null,null,null,null,null,null,"",null,null,null,null,null,null,null,null,null,null,null,null,null,null,null,null,null,null,null,null,null,null,null,null,null,null,null,null,null,null,null,null,null,null,null,null,null,"","",null,null,null,null,0,0]
["SECCIÓN B.4: DISPOSITIVOS DE SALUD MENTAL"]
["TIPO DE DISPOSITIVO",null,"Nº DE PERSONAS ATENDIDAS",null,"DÍAS DE ESTADA DE PERSONAS ATENDIDAS EN EL MES",null,"Nº DE EGRESOS",null,"Nº DE PERSONAS EN LISTA DE ESPERA"]
[null,null,"Menos de 20 años","20 y más años","Menos de 20 años","20 y más años","Menos de 20 años","20 y más años","Menos de 20 años","20 y más años"]
["HOGAR PROTEGIDO  "]
["RESIDENCIA PROTEGIDA"]
["HOSPITAL PSIQUIÁTRICO DIURNO"]
["CENTRO PRIVATIVO DE LIBERTAD (SENAME)"]
["SECCIÓN C.1: ACTIVIDADES DE COORDINACION SECTORIAL, INTERSECTORIAL Y COMUNITARIA"]
["ACTIVIDADES","TOTAL DE PARTICIPANTES","Nº REUNIONES / SESIONES","Nº INSTITUCIONES,  ORGANIZACIONES  PARTICIPANTES"]
[]
["TRABAJO INTERSECTORIAL"]
["TRABAJO CON ORGANIZACIONES COMUNITARIAS DE BASE"]
["TRABAJO CON ORGANIZACIONES DE USUARIOS Y FAMILIARES"]
["COLABORACIÓN CON GRUPO DE AUTOAYUDA"]
["REUNIONES CON INSTITUCIONES DEL SECTOR SALUD PROGRAMA ACOMPAÑAMIENTO PSICOSOCIAL"]
["REUNIONES CON INSTITUCIONES DEL INTERSECTOR ACOMPAÑAMIENTO PSICOSOCIAL"]
["REUNIONES CON ORGANIZACIONES COMUNITARIAS ACOMPAÑAMIENTO PSICOSOCIAL"]
["SECCIÓN C.2: INFORMES A TRIBUNALES"]
["TRIBUNALES","Nº INFORMES","ASISTENCIA A TRIBUNALES"]
[null,null,"Nº de profesionales","Nº de veces"]
["DE FAMILIA"]
["PENALES"]
["CIVILES"]
["POLICÍA LOCAL"]
["LABORALES"]
["TOTAL",{"$f":"SUM(B99:B103)","v":0},{"$f":"SUM(C99:C103)","v":0},{"$f":"SUM(D99:D103)","v":0}]
["SECCIÓN D: PLANES Y EVALUACIONES PROGRAMA DE ACOMPAÑAMIENTO PSICOSOCIAL EN ATENCIÓN PRIMARIA"]
["ACTIVIDAD","TOTAL               ",null,null,"GRUPOS DE EDAD  (en años)"]
[null,null,null,null,"0 - 4",null,"5 - 9",null,"10 - 14",null,"15 - 19",null,"20 - 24"]
[null,"Ambos Sexos","Hombres","Mujeres","Hombres","Mujeres","Hombres","Mujeres","Hombres","Mujeres","Hombres","Mujeres","Hombres","Mujeres"]
["PLAN DE ACOMPAÑAMIENTO ELABORADOS",{"$f":"SUM(C109:D109)","v":0},{"$f":"SUM(E109+G109+I109+K109+M109)","v":0},{"$f":"SUM(F109+H109+J109+L109+N109)","v":0}]
["EVALUACIONES PARTICIPATIVAS REALIZADAS AL EGRESO DEL PROGRAMA",{"$f":"SUM(C110:D110)","v":0},{"$f":"SUM(E110+G110+I110+K110+M110)","v":0},{"$f":"SUM(F110+H110+J110+L110+N110)","v":0}]
["SECCIÓN E: PLANES DE CUIDADO INTEGRAL (PCI)"]
["ACTIVIDAD","TOTAL               ",null,null,"GRUPOS DE EDAD  (en años)",null,null,null,null,null,null,null,null,null,null,null,null,null,null,null,null,null,null,null,null,null,null,null,null,null,null,null,null,null,null,null,null,null,"Niños, Niñas, Adolescentes y Jóvenes Población SENAME"]
[null,null,null,null,"0 - 4",null,"5 - 9",null,"10 - 14",null,"15 - 19",null,"20 - 24",null,"25 - 29",null,"30 - 34",null,"35 - 39",null,"40 - 44",null,"45 - 49",null,"50 - 54",null,"55 - 59",null,"60 - 64",null,"65 - 69",null,"70 - 74",null,"75 - 79",null,"80 y mas"]
[null,"Ambos Sexos","Hombres","Mujeres","Hombres","Mujeres","Hombres","Mujeres","Hombres","Mujeres","Hombres","Mujeres","Hombres","Mujeres","Hombres","Mujeres","Hombres","Mujeres","Hombres","Mujeres","Hombres","Mujeres","Hombres","Mujeres","Hombres","Mujeres","Hombres","Mujeres","Hombres","Mujeres","Hombres","Mujeres","Hombres","Mujeres","Hombres","Mujeres","Hombres","Mujeres"]
["PLAN DE CUIDADO INTEGRAL (PCI) ELABORADOS",{"$f":"SUM(C115:D115)","v":0},{"$f":"+E115+G115+I115+K115+M115+O115+Q115+S115+U115+W115+Y115+AA115+AC115+AE115+AG115+AI115+AK115","v":0},{"$f":"+F115+H115+J115+L115+N115+P115+R115+T115+V115+X115+Z115+AB115+AD115+AF115+AH115+AJ115+AL115","v":0},null,null,null,null,null,null,null,null,null,null,null,null,null,null,null,null,null,null,null,null,null,null,null,null,null,null,null,null,null,null,null,null,null,null,null,{"$f":"CA115&CB115","v":""},null,null,null,null,null,null,null,null,null,null,null,null,null,null,null,null,null,null,null,null,null,null,null,null,null,null,null,null,null,null,null,null,null,null,null,null,null,null,{"$f":"IF(CG115=1,\"* No olvide ingresar la Población SENAME (Digite CERO si no tiene). \",\"\")","v":""},{"$f":"IF(CH115=1,\"* La Población SENAME ingresada NO PUEDE superar la suma de ambos sexos. \",\"\")","v":""},null,null,null,null,{"$f":"IF(AND(B115<>0,AM115=\"\"),1,0)","v":0},{"$f":"IF(AM115>B115,1,0)","v":0}]
["SECCIÓN F: PERSONAS CON EVALUACIÓN Y CONFIRMACIÓN DIAGNOSTICA EN APS"]
["N° DE EVALUACIONES DIAGNÓSTICAS","REALIZADA POR",null,null,"N° CONFIRMACIONES DIAGNÓSTICAS"]
[null,"1 PROFESIONAL","2 PROFESIONALES","3 PROFESIONALES"]
["TOTAL",463,0,0,463]
["SECCIÓN G: EVALUACIONES PROGRAMA PLAN NACIONAL DE DEMENCIA"]
["ACTIVIDAD","TOTAL               "]
[null,null,null,null,"AUMENTO",null,"MANTENCIÓN",null,"DISMINUCIÓN"]
[null,"Ambos Sexos","Hombres","Mujeres","Hombres","Mujeres","Hombres","Mujeres","Hombres","Mujeres"]
["PERSONAS CON DEMENCIA CON  REEVALUACIÓN DETERIORO GLOGAL GDS REISBERG",{"$f":"SUM(C124:D124)","v":0},{"$f":"+E124+G124+I124","v":0},0]
["CUIDADORES PERSONAS CON DEMENCIA CON REEVALUACIÓN SOBRECARGA DEL CUIDADO",{"$f":"SUM(C125:D125)","v":0},0,0]
["CUIDADORES DE PERSONAS CON DEMENCIA CON EVALUACIÓN DE SATISFACCIÓN USARIA DEL PROCESO DE INTERVENCIÓN",{"$f":"SUM(C126:D126)","v":0},0,0]
["SECCIÓN H: EVALUACIÓN PROGRAMA DE APOYO A LA SALUD MENTAL INFANTIL (PASMI)"]
["ACTIVIDAD","TOTAL","GRUPOS DE EDAD 5 A 9 AÑOS",null,"Evaluadores",null,"Cumplimiento de criterios diagnósticos según  Evaluación Diagnóstica Integral (EDI)"]
[null,null,"Hombres","Mujeres","Equipo biopsicosocial","Equipo psicosocial","Requiere tratamiento en APS","Requiere tratamiento en nivel secundario","No Requiere tratamiento"]
["Evaluación Diagnostica Integral (EDI)",{"$f":"SUM(C130:D130)","v":0}]
["SECCIÓN I : SALUD MENTAL EN SITUACIONES DE EMERGENCIA O DESASTRE"]
["ACTIVIDAD","PROFESIONAL","TOTAL               ",null,null,"GRUPOS DE EDAD  (en años)",null,null,null,null,null,null,null,null,null,null,null,null,null,null,null,null,null,null,null,null,null,null,null,null,null,null,null,null,null,null,null,null,null,"Beneficiarios","Niños, Niñas, Adolescentes y Jóvenes Población SENAME","Pueblos Originarios","Migrantes","Acciones no presenciales o remotas","Atenciones a funcionarios de la salud"]
[null,null,null,null,null,"0 - 4",null,"5 - 9",null,"10 - 14",null,"15 - 19",null,"20 - 24",null,"25 - 29",null,"30 - 34",null,"35 - 39",null,"40 - 44",null,"45 - 49",null,"50 - 54",null,"55 - 59",null,"60 - 64",null,"65 - 69",null,"70 - 74",null,"75 - 79",null,"80 y mas"]
[null,null,"Ambos Sexos","Hombres","Mujeres","Hombres","Mujeres","Hombres","Mujeres","Hombres","Mujeres","Hombres","Mujeres","Hombres","Mujeres","Hombres","Mujeres","Hombres","Mujeres","Hombres","Mujeres","Hombres","Mujeres","Hombres","Mujeres","Hombres","Mujeres","Hombres","Mujeres","Hombres","Mujeres","Hombres","Mujeres","Hombres","Mujeres","Hombres","Mujeres","Hombres","Mujeres"]
["CONSULTA DE SALUD MENTAL ASOCIADA A EMERGENCIA O DESASTRE","MÉDICO",{"$f":"SUM(D135+E135)","v":0},{"$f":"SUM(F135+H135+J135+L135+N135+P135+R135+T135+V135+X135+Z135+AB135+AD135+AF135+AH135+AJ135+AL135)","v":0},{"$f":"SUM(G135+I135+K135+M135+O135+Q135+S135+U135+W135+Y135+AA135+AC135+AE135+AG135+AI135+AK135+AM135)","v":0},null,null,null,null,null,null,null,null,null,null,null,null,null,null,null,null,null,null,null,null,null,null,null,null,null,null,null,null,null,null,null,null,null,null,null,null,null,null,null,null,{"$f":"CA135&CB135&CC135&CD135&CE135&CF135","v":""},null,null,null,null,null,null,null,null,null,null,null,null,null,null,null,null,null,null,null,null,null,null,null,null,null,null,null,null,null,null,null,null,{"$f":"IF(CG135=1,\"* El número de Beneficiarios NO DEBE ser mayor que el Total. \",\"\")","v":""},{"$f":"IF(CH135=1,\"* Los Niños, Niñas, Adolescentes y Jóvenes de Programa SENAME NO DEBE ser mayor que el Total. \",\"\")","v":""},{"$f":"IF(CI135=1,\"* El número de personas pertenecientes a Pueblos Originarios NO DEBE ser mayor que el Total. \",\"\")","v":""},{"$f":"IF(CJ135=1,\"* El número de personas Migrantes NO DEBE ser mayor que el Total. \",\"\")","v":""},null,{"$f":"IF(CL135=1,\"* No olvide digitar la columna Beneficiarios y/o Niños, Niñas, Adolescentes y Jóvenes de Programa SENAME y/o Pueblos Originarios y/o Migrantes y/o Demencia (Digite CEROS si no tiene). \",\"\")","v":""},{"$f":"IF($C135<AN135,1,0)","v":0},{"$f":"IF($C135<AO135,1,0)","v":0},{"$f":"IF($C135<AP135,1,0)","v":0},{"$f":"IF($C135<AQ135,1,0)","v":0},null,{"$f":"IF(AND(C135<>0,OR(AN135=\"\",AO135=\"\",AP135=\"\",AQ135=\"\")),1,0)","v":0}]
[null,"PSICÓLOGO/A",0,0,0,null,null,null,null,null,null,null,null,null,null,null,null,null,null,null,null,null,null,null,null,null,null,null,null,null,null,null,null,null,null,null,null,null,null,null,null,null,null,null,null,{"$f":"CA136&CB136&CC136&CD136&CE136&CF136","v":""},null,null,null,null,null,null,null,null,null,null,null,null,null,null,null,null,null,null,null,null,null,null,null,null,null,null,null,null,null,null,null,null,"","","","",null,{"$f":"IF(CL136=1,\"* No olvide digitar la columna Beneficiarios y/o Niños, Niñas, Adolescentes y Jóvenes de Programa SENAME y/o Pueblos Originarios y/o Migrantes y/o Demencia (Digite CEROS si no tiene). \",\"\")","v":""},0,0,0,0,null,0]
[null,"ENFERMERA /O",0,0,0,null,null,null,null,null,null,null,null,null,null,null,null,null,null,null,null,null,null,null,null,null,null,null,null,null,null,null,null,null,null,null,null,null,null,null,null,null,null,null,null,"",null,null,null,null,null,null,null,null,null,null,null,null,null,null,null,null,null,null,null,null,null,null,null,null,null,null,null,null,null,null,null,null,"","","","",null,"",0,0,0,0,null,0]
[null,"MATRONA /ÓN",0,0,0,null,null,null,null,null,null,null,null,null,null,null,null,null,null,null,null,null,null,null,null,null,null,null,null,null,null,null,null,null,null,null,null,null,null,null,null,null,null,null,null,"",null,null,null,null,null,null,null,null,null,null,null,null,null,null,null,null,null,null,null,null,null,null,null,null,null,null,null,null,null,null,null,null,"","","","",null,"",0,0,0,0,null,0]
[null,"ASISTENTE SOCIAL",0,0,0,null,null,null,null,null,null,null,null,null,null,null,null,null,null,null,null,null,null,null,null,null,null,null,null,null,null,null,null,null,null,null,null,null,null,null,null,null,null,null,null,"",null,null,null,null,null,null,null,null,null,null,null,null,null,null,null,null,null,null,null,null,null,null,null,null,null,null,null,null,null,null,null,null,"","","","",null,"",0,0,0,0,null,0]
[null,"OTROS PROFESIONALES",0,0,0,null,null,null,null,null,null,null,null,null,null,null,null,null,null,null,null,null,null,null,null,null,null,null,null,null,null,null,null,null,null,null,null,null,null,null,null,null,null,null,null,"",null,null,null,null,null,null,null,null,null,null,null,null,null,null,null,null,null,null,null,null,null,null,null,null,null,null,null,null,null,null,null,null,"","","","",null,"",0,0,0,0,null,0]
[null,"TERAPEUTA OCUPACIONAL",0,0,0,null,null,null,null,null,null,null,null,null,null,null,null,null,null,null,null,null,null,null,null,null,null,null,null,null,null,null,null,null,null,null,null,null,null,null,null,null,null,null,null,"",null,null,null,null,null,null,null,null,null,null,null,null,null,null,null,null,null,null,null,null,null,null,null,null,null,null,null,null,null,null,null,null,"","","","",null,"",0,0,0,0,null,0]
[null,"TÉCNICO PARAMÉDICO y EN SALUD MENTAL",0,0,0,null,null,null,null,null,null,null,null,null,null,null,null,null,null,null,null,null,null,null,null,null,null,null,null,null,null,null,null,null,null,null,null,null,null,null,null,null,null,null,null,"",null,null,null,null,null,null,null,null,null,null,null,null,null,null,null,null,null,null,null,null,null,null,null,null,null,null,null,null,null,null,null,null,"","","","",null,"",0,0,0,0,null,0]
[null,"GESTOR COMUNITARIO",0,0,0,null,null,null,null,null,null,null,null,null,null,null,null,null,null,null,null,null,null,null,null,null,null,null,null,null,null,null,null,null,null,null,null,null,null,null,null,null,null,null,null,"",null,null,null,null,null,null,null,null,null,null,null,null,null,null,null,null,null,null,null,null,null,null,null,null,null,null,null,null,null,null,null,null,"","","","",null,"",0,0,0,0,null,0]
[null,"TÉCNICO REHABILITACIÓN ALCOHOL Y DROGAS",0,0,0,null,null,null,null,null,null,null,null,null,null,null,null,null,null,null,null,null,null,null,null,null,null,null,null,null,null,null,null,null,null,null,null,null,null,null,null,null,null,null,null,"",null,null,null,null,null,null,null,null,null,null,null,null,null,null,null,null,null,null,null,null,null,null,null,null,null,null,null,null,null,null,null,null,"","","","",null,"",0,0,0,0,null,0]
[null,"TOTAL",0,0,0,{"$f":"SUM(F135:F144)","v":0},{"$f":"SUM(G135:G144)","v":0},0,0,0,0,0,0,0,0,0,0,0,0,0,0,0,0,0,0,0,0,0,0,0,0,0,0,0,0,0,0,0,0,0,0,0,0,{"$f":"SUM(AR135:AR144)","v":0},0,null,null,null,null,null,null,null,null,null,null,null,null,null,null,null,null,null,null,null,null,null,null,null,null,null,null,null,null,null,null,null,null,null,"","","","",null,"",0,0,0,0,null,0]
["INTERVENCIÓN PSICOSOCIAL GRUPAL",null,0,0,0,null,null,null,null,null,null,null,null,null,null,null,null,null,null,null,null,null,null,null,null,null,null,null,null,null,null,null,null,null,null,null,null,null,null,null,null,null,null,null,null,"",null,null,null,null,null,null,null,null,null,null,null,null,null,null,null,null,null,null,null,null,null,null,null,null,null,null,null,null,null,null,null,null,"","","","",null,"",0,0,0,0,null,0]
["PRIMERA AYUDA PSICOLÓGICA",null,0,0,0,null,null,null,null,null,null,null,null,null,null,null,null,null,null,null,null,null,null,null,null,null,null,null,null,null,null,null,null,null,null,null,null,null,null,null,null,null,null,null,null,"",null,null,null,null,null,null,null,null,null,null,null,null,null,null,null,null,null,null,null,null,null,null,null,null,null,null,null,null,null,null,null,null,"","","","",null,"",0,0,0,0,null,0]
["SECCIÓN J: CONSULTA DE SALUD MENTAL POR EL NIVEL DE ESPECIALIDAD"]
["ACTIVIDAD","PROFESIONAL","TOTAL               ",null,null,"GRUPOS DE EDAD  (en años)",null,null,null,null,null,null,null,null,null,null,null,null,null,null,null,null,null,null,null,null,null,null,null,null,null,null,null,null,null,null,null,null,null,"Beneficiarios","Niños, Niñas, Adolescentes y Jóvenes Población SENAME","Pueblos Originarios","Migrantes"]
[null,null,null,null,null,"0 - 4",null,"5 - 9",null,"10 - 14",null,"15 - 19",null,"20 - 24",null,"25 - 29",null,"30 - 34",null,"35 - 39",null,"40 - 44",null,"45 - 49",null,"50 - 54",null,"55 - 59",null,"60 - 64",null,"65 - 69",null,"70 - 74",null,"75 - 79",null,"80 y mas"]
[null,null,"Ambos Sexos","Hombres","Mujeres","Hombres","Mujeres","Hombres","Mujeres","Hombres","Mujeres","Hombres","Mujeres","Hombres","Mujeres","Hombres","Mujeres","Hombres","Mujeres","Hombres","Mujeres","Hombres","Mujeres","Hombres","Mujeres","Hombres","Mujeres","Hombres","Mujeres","Hombres","Mujeres","Hombres","Mujeres","Hombres","Mujeres","Hombres","Mujeres","Hombres","Mujeres"]
["CONSULTA NUEVA SALUD MENTAL (INGRESO)","UNIPROFESIONAL",{"$f":"SUM(D152+E152)","v":0},{"$f":"SUM(F152+H152+J152+L152+N152+P152+R152+T152+V152+X152+Z152+AB152+AD152+AF152+AH152+AJ152+AL152)","v":0},0,null,null,null,null,null,null,null,null,null,null,null,null,null,null,null,null,null,null,null,null,null,null,null,null,null,null,null,null,null,null,null,null,null,null,null,null,null,null,{"$f":"CONCATENATE(CF152,CA152,CB152,CC152,CD152,CE152)","v":""},null,null,null,null,null,null,null,null,null,null,null,null,null,null,null,null,null,null,null,null,null,null,null,null,null,null,null,null,null,null,null,null,null,null,{"$f":"IF(CG152=1,\"* El número de Beneficiarios NO DEBE ser mayor que el Total. \",\"\")","v":""},{"$f":"IF(CH152=1,\"* Los Niños, Niñas, Adolescentes y Jóvenes de Programa SENAME NO DEBE ser mayor que el Total. \",\"\")","v":""},{"$f":"IF(CI152=1,\"* El número de personas pertenecientes a Pueblos Originarios NO DEBE ser mayor que el Total. \",\"\")","v":""},{"$f":"IF(CJ152=1,\"* El número de personas Migrantes NO DEBE ser mayor que el Total. \",\"\")","v":""},null,{"$f":"IF(CL152=1,\"* No olvide digitar la columna Beneficiarios y/o Niños, Niñas, Adolescentes y Jóvenes de Programa SENAME y/o Pueblos Originarios y/o Migrantes y/o Demencia (Digite CEROS si no tiene). \",\"\")","v":""},{"$f":"IF($C152<AN152,1,0)","v":0},0,0,0,null,{"$f":"IF(AND(C152<>0,OR(AN152=\"\",AO152=\"\",AP152=\"\",AQ152=\"\")),1,0)","v":0}]
[null,"DOS PROFESIONALES",{"$f":"SUM(D153+E153)","v":0},0,0,null,null,null,null,null,null,null,null,null,null,null,null,null,null,null,null,null,null,null,null,null,null,null,null,null,null,null,null,null,null,null,null,null,null,null,null,null,null,{"$f":"CONCATENATE(CF153,CA153,CB153,CC153,CD153,CE153)","v":""},null,null,null,null,null,null,null,null,null,null,null,null,null,null,null,null,null,null,null,null,null,null,null,null,null,null,null,null,null,null,null,null,null,null,{"$f":"IF(CG153=1,\"* El número de Beneficiarios NO DEBE ser mayor que el Total. \",\"\")","v":""},{"$f":"IF(CH153=1,\"* Los Niños, Niñas, Adolescentes y Jóvenes de Programa SENAME NO DEBE ser mayor que el Total. \",\"\")","v":""},{"$f":"IF(CI153=1,\"* El número de personas pertenecientes a Pueblos Originarios NO DEBE ser mayor que el Total. \",\"\")","v":""},{"$f":"IF(CJ153=1,\"* El número de personas Migrantes NO DEBE ser mayor que el Total. \",\"\")","v":""},null,{"$f":"IF(CL153=1,\"* No olvide digitar la columna Beneficiarios y/o Niños, Niñas, Adolescentes y Jóvenes de Programa SENAME y/o Pueblos Originarios y/o Migrantes y/o Demencia (Digite CEROS si no tiene). \",\"\")","v":""},0,0,0,0,null,{"$f":"IF(AND(C153<>0,OR(AN153=\"\",AO153=\"\",AP153=\"\",AQ153=\"\")),1,0)","v":0}]
[null,"MULTIPROFESIONAL",{"$f":"SUM(D154+E154)","v":0},0,0,null,null,null,null,null,null,null,null,null,null,null,null,null,null,null,null,null,null,null,null,null,null,null,null,null,null,null,null,null,null,null,null,null,null,null,null,null,null,{"$f":"CONCATENATE(CF154,CA154,CB154,CC154,CD154,CE154)","v":""},null,null,null,null,null,null,null,null,null,null,null,null,null,null,null,null,null,null,null,null,null,null,null,null,null,null,null,null,null,null,null,null,null,null,{"$f":"IF(CG154=1,\"* El número de Beneficiarios NO DEBE ser mayor que el Total. \",\"\")","v":""},{"$f":"IF(CH154=1,\"* Los Niños, Niñas, Adolescentes y Jóvenes de Programa SENAME NO DEBE ser mayor que el Total. \",\"\")","v":""},{"$f":"IF(CI154=1,\"* El número de personas pertenecientes a Pueblos Originarios NO DEBE ser mayor que el Total. \",\"\")","v":""},{"$f":"IF(CJ154=1,\"* El número de personas Migrantes NO DEBE ser mayor que el Total. \",\"\")","v":""},null,{"$f":"IF(CL154=1,\"* No olvide digitar la columna Beneficiarios y/o Niños, Niñas, Adolescentes y Jóvenes de Programa SENAME y/o Pueblos Originarios y/o Migrantes y/o Demencia (Digite CEROS si no tiene). \",\"\")","v":""},0,0,0,0,null,{"$f":"IF(AND(C154<>0,OR(AN154=\"\",AO154=\"\",AP154=\"\",AQ154=\"\")),1,0)","v":0}]
[null,"TOTAL",{"$f":"SUM(D155+E155)","v":0},0,0,{"$f":"SUM(F152:F154)","v":0},0,0,0,0,0,0,0,0,0,0,0,0,0,0,0,0,0,0,0,0,0,0,0,0,0,0,0,0,0,0,0,0,0,0,0,0,0]
[]
[]
[]
[]
[]
[]
[]
[]
[]
[]
[]
[]
[]
[]
[]
[]
[]
[]
[]
[]
[{"$f":"SUM(C23,C25:C27,C51:C52,C57:C78,B109:B110,B89:D95,B104,C43:C46,C82:J85,B115,B119:E119,B124:B126,B130,C135:C147,C152:C155,B39,B33)","v":1290},{"$f":"SUM(CG8:CL155)","v":0}]

{"sheet":"A07","index":7,"n_rows":195,"n_cols":90,"rows_kept":195,"cut":false,"hidden":false,"merged":[[115,0,116,0],[117,0,118,0],[110,0,112,0],[105,0,107,0],[105,1,107,1],[106,37,106,38],[108,0,109,0],[106,27,106,28],[113,0,114,0],[106,15,106,16],[103,0,103,1],[106,31,106,32],[105,2,106,4],[105,5,105,38],[106,17,106,18],[106,19,106,20],[106,33,106,34],[106,5,106,6],[106,7,106,8],[106,9,106,10],[106,11,106,12],[106,13,106,14],[106,29,106,30],[106,21,106,22],[106,23,106,24],[106,35,106,36],[94,0,97,0],[90,0,92,1],[90,2,91,4],[90,5,90,38],[91,37,91,38],[91,31,91,32],[91,33,91,34],[91,35,91,36],[91,15,91,16],[91,17,91,18],[91,19,91,20],[91,5,91,6],[91,7,91,8],[91,9,91,10],[91,11,91,12],[93,0,93,1],[105,39,107,39],[7,37,8,38],[7,30,8,31],[8,22,8,25],[8,1,9,1],[8,2,8,18],[8,26,8,29],[91,13,91,14],[7,35,8,36],[7,32,8,33],[98,0,98,1],[106,25,106,26],[99,0,99,1],[100,0,100,1],[101,0,101,1],[102,0,102,1],[91,25,91,26],[91,27,91,28],[91,29,91,30],[5,0,5,29],[7,0,9,0],[7,22,7,29],[6,44,6,46],[4,41,6,41],[4,42,6,43],[7,42,9,42],[7,45,8,47],[7,41,9,41],[7,43,8,44],[7,48,8,49],[8,19,9,19],[8,20,8,21],[7,1,7,21],[105,42,107,42],[105,43,107,43],[90,42,92,42],[7,39,8,40],[105,40,106,41],[90,41,92,41],[90,40,92,40],[105,44,107,44],[7,34,9,34],[90,39,92,39],[91,21,91,22],[91,23,91,24]]}
["SERVICIO DE SALUD"]
[{"$f":"CONCATENATE(\"COMUNA: \",NOMBRE!B2,\" - \",\"( \",NOMBRE!C2,NOMBRE!D2,NOMBRE!E2,NOMBRE!F2,NOMBRE!G2,\" )\")","v":"COMUNA: CALLE LARGA - ( 05302 )"}]
[{"$f":"CONCATENATE(\"ESTABLECIMIENTO/ESTRATEGIA: \",NOMBRE!B3,\" - \",\"( \",NOMBRE!C3,NOMBRE!D3,NOMBRE!E3,NOMBRE!F3,NOMBRE!G3,NOMBRE!H3,\" )\")","v":"ESTABLECIMIENTO/ESTRATEGIA: DR. JOSE JOAQUIN AGUIRRE CAMPOS - ( 108308 )"}]
[{"$f":"CONCATENATE(\"MES: \",NOMBRE!B6,\" - \",\"( \",NOMBRE!C6,NOMBRE!D6,\" )\")","v":"MES: DICIEMBRE - ( 12 )"}]
[{"$f":"CONCATENATE(\"AÑO: \",NOMBRE!B7)","v":"AÑO: 2022"}]
["REM-07.  ATENCIÓN  DE ESPECIALIDADES "]
["SECCIÓN A : CONSULTAS MÉDICAS"]
["ESPECIALIDADES   Y  SUB-ESPECIALIDADES","CONSULTAS MÉDICAS",null,null,null,null,null,null,null,null,null,null,null,null,null,null,null,null,null,null,null,null,"CONSULTAS NUEVAS SEGÚN ORIGEN(*)",null,null,null,null,null,null,null,"CONSULTAS PERTINENTES (Nuevas originadas en APS)",null,"INASISTENTE A CONSULTA MÉDICA (NSP)",null,"CONSULTA ABREVIADA (Confección de recetas o lectura de exámenes)","INTERCONSULTAS A HOSPITALIZADOS (EN SALA)",null,"ALTA DE CONSULTA DE ESPECIALIDAD AMBULATORIA",null,"CONSULTAS REALIZADAS EN APS E INFORMADAS EN GRUPO DE EDAD",null,"COMPRA DE SERVICIO","CONSULTAS MÉDICAS POR OPERATIVOS (no incluidas en produccion)","TOTAL INTERCONSULTAS GENERADAS EN APS PARA DERIVACION ESPECIALIDAD",null,"CONSULTORÍAS DE MEDICOS ESPECIALISTAS OTORGADAS",null,null,"CONSULTA DE ESPECIALIDAD RESUELTA POR MÉDICO GENERAL"]
[null,"TOTAL               ","GRUPOS DE EDAD (en años)",null,null,null,null,null,null,null,null,null,null,null,null,null,null,null,null,"A BENEFICIARIOS","POR SEXO",null,"Menos 15 años",null,null,null,"De 15 y más años"]
[null,null,"0 - 4","5 - 9","10 - 14","15 - 19","20 - 24","25 - 29","30 - 34","35 - 39","40 - 44","45 - 49","50 - 54","55 - 59","60 - 64","65 - 69","70 - 74","75 - 79","80 y mas",null,"Hombres","Mujeres","TOTAL","APS","CAE/CDT/CRS/HOSPITALIZACIÓN","URGENCIA","TOTAL","APS","CAE/CDT/CRS/HOSPITALIZACIÓN","URGENCIA","Según protocolo de referencia","Según tiempo establecido","NUEVAS","CONTROLES",null,"Menos \n15 años","15 y más \naños","Menos \n15 años","15 y más \naños","CONTRATADOS POR EL ESTABLECIMIENTO O DIRECCIÓN DEL SERVICIO","ESPECIALISTAS DE  HOSPITALES",null,null,"Menos 15 años","15 y más años","Nº Consultorías","Nº de casos revisados por el equipo","Nº de casos atendidos","Menos \n15 años","15 y más \naños"]
["PEDIATRÍA",{"$f":"SUM(C11:S11)","v":0},null,null,null,null,null,null,null,null,null,null,null,null,null,null,null,null,null,null,null,null,{"$f":"SUM(X11+Y11+Z11)","v":0},null,null,null,{"$f":"SUM(AB11+AC11+AD11)","v":0},null,null,null,null,null,null,null,null,null,null,null,null,null,null,null,null,4,0,null,null,null,null,null,{"$f":"CA11&CB11&CC11&CD11&CE11","v":""},null,null,null,null,null,null,null,null,null,null,null,null,null,null,null,null,null,null,null,null,null,null,null,null,null,null,null,{"$f":"IF(CG11=1,\"* El número de consultas según sexo NO DEBE ser diferente al Total. \",\"\")","v":""},{"$f":"IF(CH11=1,\"* No olvide digitar la columna Beneficiarios (Digite CEROS si no tiene). \",\"\")","v":""},{"$f":"IF(CI11=1,\"* El número de Beneficiarios NO DEBE ser mayor que el Total. \",\"\")","v":""},{"$f":"IF(CJ11=1,\"* El total de Consultas Nuevas NO DEBE ser MAYOR que el total de las Consultas Médicas. \",\"\")","v":""},{"$f":"IF(CK11=1,\"* No olvide registrar datos en Pertinencia (Digite CEROS si no tiene). \",\"\")","v":""},null,{"$f":"IF(B11<>(U11+V11),1,0)","v":0},{"$f":"IF(AND(B11<>0,T11=\"\"),1,0)","v":0},{"$f":"IF(B11<(T11),1,0)","v":0},{"$f":"IF(B11<(W11+AA11),1,0)","v":0},{"$f":"IF(AND((X11+AB11)<>0,OR(AE11=\"\",AF11=\"\")),1,0)","v":0}]
["MEDICINA INTERNA",{"$f":"SUM(C12:S12)","v":0},null,null,null,null,null,null,null,null,null,null,null,null,null,null,null,null,null,null,null,null,0,null,null,null,0,null,null,null,null,null,null,null,null,null,null,null,null,null,null,null,null,0,27,null,null,null,null,null,{"$f":"CA12&CB12&CC12&CD12&CE12","v":""},null,null,null,null,null,null,null,null,null,null,null,null,null,null,null,null,null,null,null,null,null,null,null,null,null,null,null,{"$f":"IF(CG12=1,\"* El número de consultas según sexo NO DEBE ser diferente al Total. \",\"\")","v":""},{"$f":"IF(CH12=1,\"* No olvide digitar la columna Beneficiarios (Digite CEROS si no tiene). \",\"\")","v":""},{"$f":"IF(CI12=1,\"* El número de Beneficiarios NO DEBE ser mayor que el Total. \",\"\")","v":""},{"$f":"IF(CJ12=1,\"* El total de Consultas Nuevas NO DEBE ser MAYOR que el total de las Consultas Médicas. \",\"\")","v":""},{"$f":"IF(CK12=1,\"* No olvide registrar datos en Pertinencia (Digite CEROS si no tiene). \",\"\")","v":""},null,{"$f":"IF(B12<>(U12+V12),1,0)","v":0},{"$f":"IF(AND(B12<>0,T12=\"\"),1,0)","v":0},0,0,0]
["NEONATOLOGÍA",{"$f":"SUM(C13)","v":0},null,null,null,null,null,null,null,null,null,null,null,null,null,null,null,null,null,null,null,null,0,null,null,null,0,null,null,null,null,null,null,null,null,null,null,null,null,null,null,null,null,0,0,null,null,null,null,null,"",null,null,null,null,null,null,null,null,null,null,null,null,null,null,null,null,null,null,null,null,null,null,null,null,null,null,null,{"$f":"IF(CG13=1,\"* El número de consultas según sexo NO DEBE ser diferente al Total. \",\"\")","v":""},{"$f":"IF(CH13=1,\"* No olvide digitar la columna Beneficiarios (Digite CEROS si no tiene). \",\"\")","v":""},{"$f":"IF(CI13=1,\"* El número de Beneficiarios NO DEBE ser mayor que el Total. \",\"\")","v":""},{"$f":"IF(CJ13=1,\"* El total de Consultas Nuevas NO DEBE ser MAYOR que el total de las Consultas Médicas. \",\"\")","v":""},{"$f":"IF(CK13=1,\"* No olvide registrar datos en Pertinencia (Digite CEROS si no tiene). \",\"\")","v":""},null,0,0,0,0,0]
["ENFERMEDAD RESPIRATORIA PEDIÁTRICA (BRONCOPULMONAR INFANTIL)",{"$f":"SUM(C14:S14)","v":0},null,null,null,null,null,null,null,null,null,null,null,null,null,null,null,null,null,null,null,null,0,null,null,null,0,null,null,null,null,null,null,null,null,null,null,null,null,null,null,null,null,0,0,null,null,null,null,null,"",null,null,null,null,null,null,null,null,null,null,null,null,null,null,null,null,null,null,null,null,null,null,null,null,null,null,null,{"$f":"IF(CG14=1,\"* El número de consultas según sexo NO DEBE ser diferente al Total. \",\"\")","v":""},{"$f":"IF(CH14=1,\"* No olvide digitar la columna Beneficiarios (Digite CEROS si no tiene). \",\"\")","v":""},{"$f":"IF(CI14=1,\"* El número de Beneficiarios NO DEBE ser mayor que el Total. \",\"\")","v":""},{"$f":"IF(CJ14=1,\"* El total de Consultas Nuevas NO DEBE ser MAYOR que el total de las Consultas Médicas. \",\"\")","v":""},{"$f":"IF(CK14=1,\"* No olvide registrar datos en Pertinencia (Digite CEROS si no tiene). \",\"\")","v":""},null,0,0,0,0,0]
["ENFERMEDAD RESPIRATORIA DE ADULTO (BRONCOPULMONAR)",0,null,null,null,null,null,null,null,null,null,null,null,null,null,null,null,null,null,null,null,null,0,null,null,null,0,null,null,null,null,null,null,null,null,null,null,null,null,null,null,null,null,0,0,null,null,null,null,null,"",null,null,null,null,null,null,null,null,null,null,null,null,null,null,null,null,null,null,null,null,null,null,null,null,null,null,null,"","","","","",null,0,0,0,0,0]
["CARDIOLOGÍA PEDIÁTRICA",0,null,null,null,null,null,null,null,null,null,null,null,null,null,null,null,null,null,null,null,null,0,null,null,null,0,null,null,null,null,null,null,null,null,null,null,null,null,null,null,null,null,0,0,null,null,null,null,null,"",null,null,null,null,null,null,null,null,null,null,null,null,null,null,null,null,null,null,null,null,null,null,null,null,null,null,null,"","","","","",null,0,0,0,0,0]
["CARDIOLOGÍA ADULTO",0,null,null,null,null,null,null,null,null,null,null,null,null,null,null,null,null,null,null,null,null,0,null,null,null,0,null,null,null,null,null,null,null,null,null,null,null,null,null,null,null,null,0,0,null,null,null,null,null,"",null,null,null,null,null,null,null,null,null,null,null,null,null,null,null,null,null,null,null,null,null,null,null,null,null,null,null,"","","","","",null,0,0,0,0,0]
["ENDOCRINOLOGÍA PEDIÁTRICA",0,null,null,null,null,null,null,null,null,null,null,null,null,null,null,null,null,null,null,null,null,0,null,null,null,0,null,null,null,null,null,null,null,null,null,null,null,null,null,null,null,null,0,0,null,null,null,null,null,"",null,null,null,null,null,null,null,null,null,null,null,null,null,null,null,null,null,null,null,null,null,null,null,null,null,null,null,"","","","","",null,0,0,0,0,0]
["ENDOCRINOLOGÍA ADULTO",0,null,null,null,null,null,null,null,null,null,null,null,null,null,null,null,null,null,null,null,null,0,null,null,null,0,null,null,null,null,null,null,null,null,null,null,null,null,null,null,null,null,0,0,null,null,null,null,null,"",null,null,null,null,null,null,null,null,null,null,null,null,null,null,null,null,null,null,null,null,null,null,null,null,null,null,null,"","","","","",null,0,0,0,0,0]
["GASTROENTEROLOGÍA PEDIÁTRICA",0,null,null,null,null,null,null,null,null,null,null,null,null,null,null,null,null,null,null,null,null,0,null,null,null,0,null,null,null,null,null,null,null,null,null,null,null,null,null,null,null,null,0,0,null,null,null,null,null,"",null,null,null,null,null,null,null,null,null,null,null,null,null,null,null,null,null,null,null,null,null,null,null,null,null,null,null,"","","","","",null,0,0,0,0,0]
["GASTROENTEROLOGÍA ADULTO",0,null,null,null,null,null,null,null,null,null,null,null,null,null,null,null,null,null,null,null,null,0,null,null,null,0,null,null,null,null,null,null,null,null,null,null,null,null,null,null,null,null,0,0,null,null,null,null,null,"",null,null,null,null,null,null,null,null,null,null,null,null,null,null,null,null,null,null,null,null,null,null,null,null,null,null,null,"","","","","",null,0,0,0,0,0]
["GENÉTICA CLÍNICA",0,null,null,null,null,null,null,null,null,null,null,null,null,null,null,null,null,null,null,null,null,0,null,null,null,0,null,null,null,null,null,null,null,null,null,null,null,null,null,null,null,null,0,0,null,null,null,null,null,"",null,null,null,null,null,null,null,null,null,null,null,null,null,null,null,null,null,null,null,null,null,null,null,null,null,null,null,"","","","","",null,0,0,0,0,0]
["HEMATO-ONCOLOGÍA INFANTIL",0,null,null,null,null,null,null,null,null,null,null,null,null,null,null,null,null,null,null,null,null,0,null,null,null,0,null,null,null,null,null,null,null,null,null,null,null,null,null,null,null,null,0,0,null,null,null,null,null,"",null,null,null,null,null,null,null,null,null,null,null,null,null,null,null,null,null,null,null,null,null,null,null,null,null,null,null,"","","","","",null,0,0,0,0,0]
["HEMATOLOGÍA ADULTO",0,null,null,null,null,null,null,null,null,null,null,null,null,null,null,null,null,null,null,null,null,0,null,null,null,0,null,null,null,null,null,null,null,null,null,null,null,null,null,null,null,null,0,0,null,null,null,null,null,"",null,null,null,null,null,null,null,null,null,null,null,null,null,null,null,null,null,null,null,null,null,null,null,null,null,null,null,"","","","","",null,0,0,0,0,0]
["NEFROLOGÍA PEDIÁTRICA",0,null,null,null,null,null,null,null,null,null,null,null,null,null,null,null,null,null,null,null,null,0,null,null,null,0,null,null,null,null,null,null,null,null,null,null,null,null,null,null,null,null,0,0,null,null,null,null,null,"",null,null,null,null,null,null,null,null,null,null,null,null,null,null,null,null,null,null,null,null,null,null,null,null,null,null,null,"","","","","",null,0,0,0,0,0]
["NEFROLOGÍA ADULTO",0,null,null,null,null,null,null,null,null,null,null,null,null,null,null,null,null,null,null,null,null,0,null,null,null,0,null,null,null,null,null,null,null,null,null,null,null,null,null,null,null,null,0,0,null,null,null,null,null,"",null,null,null,null,null,null,null,null,null,null,null,null,null,null,null,null,null,null,null,null,null,null,null,null,null,null,null,"","","","","",null,0,0,0,0,0]
["NUTRIÓLOGO PEDIÁTRICO",0,null,null,null,null,null,null,null,null,null,null,null,null,null,null,null,null,null,null,null,null,0,null,null,null,0,null,null,null,null,null,null,null,null,null,null,null,null,null,null,null,null,0,0,null,null,null,null,null,"",null,null,null,null,null,null,null,null,null,null,null,null,null,null,null,null,null,null,null,null,null,null,null,null,null,null,null,"","","","","",null,0,0,0,0,0]
["NUTRIÓLOGO ADULTO",0,null,null,null,null,null,null,null,null,null,null,null,null,null,null,null,null,null,null,null,null,0,null,null,null,0,null,null,null,null,null,null,null,null,null,null,null,null,null,null,null,null,0,0,null,null,null,null,null,"",null,null,null,null,null,null,null,null,null,null,null,null,null,null,null,null,null,null,null,null,null,null,null,null,null,null,null,"","","","","",null,0,0,0,0,0]
["REUMATOLOGÍA PEDIÁTRICA",0,null,null,null,null,null,null,null,null,null,null,null,null,null,null,null,null,null,null,null,null,0,null,null,null,0,null,null,null,null,null,null,null,null,null,null,null,null,null,null,null,null,0,0,null,null,null,null,null,"",null,null,null,null,null,null,null,null,null,null,null,null,null,null,null,null,null,null,null,null,null,null,null,null,null,null,null,"","","","","",null,0,0,0,0,0]
["REUMATOLOGÍA ADULTO",0,null,null,null,null,null,null,null,null,null,null,null,null,null,null,null,null,null,null,null,null,0,null,null,null,0,null,null,null,null,null,null,null,null,null,null,null,null,null,null,null,null,0,0,null,null,null,null,null,"",null,null,null,null,null,null,null,null,null,null,null,null,null,null,null,null,null,null,null,null,null,null,null,null,null,null,null,"","","","","",null,0,0,0,0,0]
["DERMATOLOGÍA",0,null,null,null,null,null,null,null,null,null,null,null,null,null,null,null,null,null,null,null,null,0,null,null,null,0,null,null,null,null,null,null,null,null,null,null,null,null,null,null,null,null,1,0,null,null,null,null,null,"",null,null,null,null,null,null,null,null,null,null,null,null,null,null,null,null,null,null,null,null,null,null,null,null,null,null,null,"","","","","",null,0,0,0,0,0]
["INFECTOLOGÍA PEDIÁTRICA",0,null,null,null,null,null,null,null,null,null,null,null,null,null,null,null,null,null,null,null,null,0,null,null,null,0,null,null,null,null,null,null,null,null,null,null,null,null,null,null,null,null,0,0,null,null,null,null,null,"",null,null,null,null,null,null,null,null,null,null,null,null,null,null,null,null,null,null,null,null,null,null,null,null,null,null,null,"","","","","",null,0,0,0,0,0]
["INFECTOLOGÍA ADULTO",0,null,null,null,null,null,null,null,null,null,null,null,null,null,null,null,null,null,null,null,null,0,null,null,null,0,null,null,null,null,null,null,null,null,null,null,null,null,null,null,null,null,0,2,null,null,null,null,null,"",null,null,null,null,null,null,null,null,null,null,null,null,null,null,null,null,null,null,null,null,null,null,null,null,null,null,null,"","","","","",null,0,0,0,0,0]
["INMUNOLOGÍA",0,null,null,null,null,null,null,null,null,null,null,null,null,null,null,null,null,null,null,null,null,0,null,null,null,0,null,null,null,null,null,null,null,null,null,null,null,null,null,null,null,null,0,0,null,null,null,null,null,"",null,null,null,null,null,null,null,null,null,null,null,null,null,null,null,null,null,null,null,null,null,null,null,null,null,null,null,"","","","","",null,0,0,0,0,0]
["GERIATRÍA",{"$f":"SUM(O35+P35+Q35+R35+S35)","v":0},null,null,null,null,null,null,null,null,null,null,null,null,null,null,null,null,null,null,null,null,{"$f":"SUM(X35+Y35+Z35)","v":0},null,null,null,0,null,null,null,null,null,null,null,null,null,null,null,null,null,null,null,null,0,0,null,null,null,null,null,"",null,null,null,null,null,null,null,null,null,null,null,null,null,null,null,null,null,null,null,null,null,null,null,null,null,null,null,"","","","","",null,0,0,0,0,0]
["MEDICINA FÍSICA Y REHABILITACIÓN PEDIÁTRICA (FISIATRÍA PEDIÁTRICA)",{"$f":"SUM(C36:S36)","v":0},null,null,null,null,null,null,null,null,null,null,null,null,null,null,null,null,null,null,null,null,0,null,null,null,0,null,null,null,null,null,null,null,null,null,null,null,null,null,null,null,null,0,0,null,null,null,null,null,"",null,null,null,null,null,null,null,null,null,null,null,null,null,null,null,null,null,null,null,null,null,null,null,null,null,null,null,"","","","","",null,0,0,0,0,0]
["MEDICINA FÍSICA Y REHABILITACIÓN ADULTO (FISIATRÍA ADULTO)",0,null,null,null,null,null,null,null,null,null,null,null,null,null,null,null,null,null,null,null,null,{"$f":"SUM(X37+Y37+Z37)","v":0},null,null,null,0,null,null,null,null,null,null,null,null,null,null,null,null,null,null,null,null,0,1,null,null,null,null,null,"",null,null,null,null,null,null,null,null,null,null,null,null,null,null,null,null,null,null,null,null,null,null,null,null,null,null,null,"","","","","",null,0,0,0,0,0]
["NEUROLOGÍA PEDIÁTRICA",0,null,null,null,null,null,null,null,null,null,null,null,null,null,null,null,null,null,null,null,null,{"$f":"SUM(X38+Y38+Z38)","v":0},null,null,null,{"$f":"SUM(AB38+AC38+AD38)","v":0},null,null,null,null,null,null,null,null,null,null,null,null,null,null,null,null,4,0,null,null,null,null,null,"",null,null,null,null,null,null,null,null,null,null,null,null,null,null,null,null,null,null,null,null,null,null,null,null,null,null,null,"","","","","",null,0,0,0,0,0]
["NEUROLOGÍA ADULTO",0,null,null,null,null,null,null,null,null,null,null,null,null,null,null,null,null,null,null,null,null,{"$f":"SUM(X39+Y39+Z39)","v":0},null,null,null,{"$f":"SUM(AB39+AC39+AD39)","v":0},null,null,null,null,null,null,null,null,null,null,null,null,null,null,null,null,0,8,null,null,null,null,null,"",null,null,null,null,null,null,null,null,null,null,null,null,null,null,null,null,null,null,null,null,null,null,null,null,null,null,null,"","","","","",null,0,0,0,0,0]
["ONCOLOGÍA MÉDICA",0,null,null,null,null,null,null,null,null,null,null,null,null,null,null,null,null,null,null,null,null,{"$f":"SUM(X40+Y40+Z40)","v":0},null,null,null,{"$f":"SUM(AB40+AC40+AD40)","v":0},null,null,null,null,null,null,null,null,null,null,null,null,null,null,null,null,0,0,null,null,null,null,null,"",null,null,null,null,null,null,null,null,null,null,null,null,null,null,null,null,null,null,null,null,null,null,null,null,null,null,null,"","","","","",null,0,0,0,0,0]
["PSIQUIATRÍA PEDIÁTRICA Y DE LA ADOLESCENCIA",0,null,null,null,null,null,null,null,null,null,null,null,null,null,null,null,null,null,null,null,null,{"$f":"SUM(X41+Y41+Z41)","v":0},null,null,null,{"$f":"SUM(AB41+AC41+AD41)","v":0},null,null,null,null,null,null,null,null,null,null,null,null,null,null,null,null,2,0,null,null,null,null,null,"",null,null,null,null,null,null,null,null,null,null,null,null,null,null,null,null,null,null,null,null,null,null,null,null,null,null,null,"","","","","",null,0,0,0,0,0]
["PSIQUIATRÍA ADULTO",0,null,null,null,null,null,null,null,null,null,null,null,null,null,null,null,null,null,null,null,null,{"$f":"SUM(X42+Y42+Z42)","v":0},null,null,null,{"$f":"SUM(AB42+AC42+AD42)","v":0},null,null,null,null,null,null,null,null,null,null,null,null,null,null,null,null,0,3,null,null,null,null,null,"",null,null,null,null,null,null,null,null,null,null,null,null,null,null,null,null,null,null,null,null,null,null,null,null,null,null,null,"","","","","",null,0,0,0,0,0]
["CIRUGÍA PEDIÁTRICA",0,null,null,null,null,null,null,null,null,null,null,null,null,null,null,null,null,null,null,null,null,0,null,null,null,{"$f":"SUM(AB43+AC43+AD43)","v":0},null,null,null,null,null,null,null,null,null,null,null,null,null,null,null,null,2,0,null,null,null,null,null,"",null,null,null,null,null,null,null,null,null,null,null,null,null,null,null,null,null,null,null,null,null,null,null,null,null,null,null,"","","","","",null,0,0,{"$f":"IF(B43<(T43),1,0)","v":0},{"$f":"IF(B43<(W43+AA43),1,0)","v":0},{"$f":"IF(AND((X43+AB43)<>0,OR(AE43=\"\",AF43=\"\")),1,0)","v":0}]
["CIRUGÍA GENERAL ADULTO",0,null,null,null,null,null,null,null,null,null,null,null,null,null,null,null,null,null,null,null,null,0,null,null,null,0,null,null,null,null,null,null,null,null,null,null,null,null,null,null,null,null,0,8,null,null,null,null,null,"",null,null,null,null,null,null,null,null,null,null,null,null,null,null,null,null,null,null,null,null,null,null,null,null,null,null,null,"","","","","",null,0,0,0,0,0]
["CIRUGÍA DIGESTIVA (ALTA)",0,null,null,null,null,null,null,null,null,null,null,null,null,null,null,null,null,null,null,null,null,0,null,null,null,0,null,null,null,null,null,null,null,null,null,null,null,null,null,null,null,null,0,0,null,null,null,null,null,"",null,null,null,null,null,null,null,null,null,null,null,null,null,null,null,null,null,null,null,null,null,null,null,null,null,null,null,"","","","","",null,0,0,0,0,0]
["CIRUGÍA DE CABEZA, CUELLO Y MAXILOFACIAL",0,null,null,null,null,null,null,null,null,null,null,null,null,null,null,null,null,null,null,null,null,0,null,null,null,0,null,null,null,null,null,null,null,null,null,null,null,null,null,null,null,null,0,0,null,null,null,null,null,"",null,null,null,null,null,null,null,null,null,null,null,null,null,null,null,null,null,null,null,null,null,null,null,null,null,null,null,"","","","","",null,0,0,0,0,0]
["CIRUGÍA PLÁSTICA Y REPARADORA PEDIÁTRICA",0,null,null,null,null,null,null,null,null,null,null,null,null,null,null,null,null,null,null,null,null,0,null,null,null,0,null,null,null,null,null,null,null,null,null,null,null,null,null,null,null,null,0,0,null,null,null,null,null,"",null,null,null,null,null,null,null,null,null,null,null,null,null,null,null,null,null,null,null,null,null,null,null,null,null,null,null,"","","","","",null,0,0,0,0,0]
["CIRUGÍA PLÁSTICA Y REPARADORA ADULTO",0,null,null,null,null,null,null,null,null,null,null,null,null,null,null,null,null,null,null,null,null,0,null,null,null,0,null,null,null,null,null,null,null,null,null,null,null,null,null,null,null,null,0,0,null,null,null,null,null,"",null,null,null,null,null,null,null,null,null,null,null,null,null,null,null,null,null,null,null,null,null,null,null,null,null,null,null,"","","","","",null,0,0,0,0,0]
["COLOPROCTOLOGÍA (CIRUGIA DIGESTIVA BAJA)",0,null,null,null,null,null,null,null,null,null,null,null,null,null,null,null,null,null,null,null,null,0,null,null,null,0,null,null,null,null,null,null,null,null,null,null,null,null,null,null,null,null,0,0,null,null,null,null,null,"",null,null,null,null,null,null,null,null,null,null,null,null,null,null,null,null,null,null,null,null,null,null,null,null,null,null,null,"","","","","",null,0,0,0,0,0]
["CIRUGÍA TÓRAX",0,null,null,null,null,null,null,null,null,null,null,null,null,null,null,null,null,null,null,null,null,0,null,null,null,0,null,null,null,null,null,null,null,null,null,null,null,null,null,null,null,null,0,0,null,null,null,null,null,"",null,null,null,null,null,null,null,null,null,null,null,null,null,null,null,null,null,null,null,null,null,null,null,null,null,null,null,"","","","","",null,0,0,0,0,0]
["CIRUGÍA VASCULAR PERIFÉRICA",0,null,null,null,null,null,null,null,null,null,null,null,null,null,null,null,null,null,null,null,null,0,null,null,null,0,null,null,null,null,null,null,null,null,null,null,null,null,null,null,null,null,0,0,null,null,null,null,null,"",null,null,null,null,null,null,null,null,null,null,null,null,null,null,null,null,null,null,null,null,null,null,null,null,null,null,null,"","","","","",null,0,0,0,0,0]
["NEUROCIRUGÍA",0,null,null,null,null,null,null,null,null,null,null,null,null,null,null,null,null,null,null,null,null,0,null,null,null,0,null,null,null,null,null,null,null,null,null,null,null,null,null,null,null,null,0,9,null,null,null,null,null,"",null,null,null,null,null,null,null,null,null,null,null,null,null,null,null,null,null,null,null,null,null,null,null,null,null,null,null,"","","","","",null,0,0,0,0,0]
["CIRUGÍA CARDIOVASCULAR",0,null,null,null,null,null,null,null,null,null,null,null,null,null,null,null,null,null,null,null,null,0,null,null,null,0,null,null,null,null,null,null,null,null,null,null,null,null,null,null,null,null,0,0,null,null,null,null,null,"",null,null,null,null,null,null,null,null,null,null,null,null,null,null,null,null,null,null,null,null,null,null,null,null,null,null,null,"","","","","",null,0,0,0,0,0]
["ANESTESIOLOGÍA",0,null,null,null,null,null,null,null,null,null,null,null,null,null,null,null,null,null,null,null,null,0,null,null,null,0,null,null,null,null,null,null,null,null,null,null,null,null,null,null,null,null,0,0,null,null,null,null,null,"",null,null,null,null,null,null,null,null,null,null,null,null,null,null,null,null,null,null,null,null,null,null,null,null,null,null,null,"","","","","",null,0,0,0,0,0]
["OBSTETRICIA",0,null,null,null,null,null,null,null,null,null,null,null,null,null,null,null,null,null,null,null,null,0,null,null,null,0,null,null,null,null,null,null,null,null,null,null,null,null,null,null,null,null,0,13,null,null,null,null,null,"",null,null,null,null,null,null,null,null,null,null,null,null,null,null,null,null,null,null,null,null,null,null,null,null,null,null,null,"","","","","",null,0,0,0,0,0]
["GINECOLOGÍA PEDIÁTRICA Y DE LA ADOLESCENCIA",0,null,null,null,null,null,null,null,null,null,null,null,null,null,null,null,null,null,null,null,null,0,null,null,null,0,null,null,null,null,null,null,null,null,null,null,null,null,null,null,null,null,0,0,null,null,null,null,null,"",null,null,null,null,null,null,null,null,null,null,null,null,null,null,null,null,null,null,null,null,null,null,null,null,null,null,null,"","","","","",null,0,0,0,0,0]
["GINECOLOGÍA ADULTO",0,null,null,null,null,null,null,null,null,null,null,null,null,null,null,null,null,null,null,null,null,0,null,null,null,0,null,null,null,null,null,null,null,null,null,null,null,null,null,null,null,null,0,13,null,null,null,null,null,"",null,null,null,null,null,null,null,null,null,null,null,null,null,null,null,null,null,null,null,null,null,null,null,null,null,null,null,"","","","","",null,0,0,0,0,0]
["OFTALMOLOGÍA",0,null,null,null,null,null,null,null,null,null,null,null,null,null,null,null,null,null,null,null,null,0,null,null,null,0,null,null,null,null,null,null,null,null,null,null,null,null,null,null,null,null,1,16,null,null,null,null,null,"",null,null,null,null,null,null,null,null,null,null,null,null,null,null,null,null,null,null,null,null,null,null,null,null,null,null,null,"","","","","",null,0,0,0,0,0]
["OTORRINOLARINGOLOGÍA",0,null,null,null,null,null,null,null,null,null,null,null,null,null,null,null,null,null,null,null,null,0,null,null,null,0,null,null,null,null,null,null,null,null,null,null,null,null,null,null,null,null,4,12,null,null,null,null,null,"",null,null,null,null,null,null,null,null,null,null,null,null,null,null,null,null,null,null,null,null,null,null,null,null,null,null,null,"","","","","",null,0,0,0,0,0]
["TRAUMATOLOGÍA Y ORTOPEDIA PEDIÁTRICA",0,null,null,null,null,null,null,null,null,null,null,null,null,null,null,null,null,null,null,null,null,0,null,null,null,0,null,null,null,null,null,null,null,null,null,null,null,null,null,null,null,null,4,0,null,null,null,null,null,"",null,null,null,null,null,null,null,null,null,null,null,null,null,null,null,null,null,null,null,null,null,null,null,null,null,null,null,"","","","","",null,0,0,0,0,0]
["TRAUMATOLOGÍA Y ORTOPEDIA ADULTO",0,null,null,null,null,null,null,null,null,null,null,null,null,null,null,null,null,null,null,null,null,0,null,null,null,0,null,null,null,null,null,null,null,null,null,null,null,null,null,null,null,null,0,6,null,null,null,null,null,"",null,null,null,null,null,null,null,null,null,null,null,null,null,null,null,null,null,null,null,null,null,null,null,null,null,null,null,"","","","","",null,0,0,0,0,0]
["UROLOGÍA PEDIÁTRICA",0,null,null,null,null,null,null,null,null,null,null,null,null,null,null,null,null,null,null,null,null,0,null,null,null,0,null,null,null,null,null,null,null,null,null,null,null,null,null,null,null,null,0,0,null,null,null,null,null,"",null,null,null,null,null,null,null,null,null,null,null,null,null,null,null,null,null,null,null,null,null,null,null,null,null,null,null,"","","","","",null,0,0,0,0,0]
["UROLOGÍA ADULTO",0,null,null,null,null,null,null,null,null,null,null,null,null,null,null,null,null,null,null,null,null,0,null,null,null,0,null,null,null,null,null,null,null,null,null,null,null,null,null,null,null,null,0,8,null,null,null,null,null,"",null,null,null,null,null,null,null,null,null,null,null,null,null,null,null,null,null,null,null,null,null,null,null,null,null,null,null,"","","","","",null,0,0,0,0,0]
["MEDICINA FAMILIAR DEL NIÑO",0,null,null,null,null,null,null,null,null,null,null,null,null,null,null,null,null,null,null,null,null,0,null,null,null,0,null,null,null,null,null,null,null,null,null,null,null,null,null,null,null,null,0,0,null,null,null,null,null,"",null,null,null,null,null,null,null,null,null,null,null,null,null,null,null,null,null,null,null,null,null,null,null,null,null,null,null,"","","","","",null,0,0,0,0,0]
["MEDICINA FAMILIAR",0,null,null,null,null,null,null,null,null,null,null,null,null,null,null,null,null,null,null,null,null,0,null,null,null,0,null,null,null,null,null,null,null,null,null,null,null,null,null,null,null,null,0,0,null,null,null,null,null,"",null,null,null,null,null,null,null,null,null,null,null,null,null,null,null,null,null,null,null,null,null,null,null,null,null,null,null,"","","","","",null,0,0,0,0,0]
["MEDICINA FAMILIAR ADULTO",{"$f":"SUM(L66+M66+N66+O66+P66+Q66+R66+S66)","v":0},null,null,null,null,null,null,null,null,null,null,null,null,null,null,null,null,null,null,null,null,0,null,null,null,0,null,null,null,null,null,null,null,null,null,null,null,null,null,null,null,null,0,0,null,null,null,null,null,"",null,null,null,null,null,null,null,null,null,null,null,null,null,null,null,null,null,null,null,null,null,null,null,null,null,null,null,"","","","","",null,0,0,0,0,0]
["DIABETOLOGÍA",{"$f":"SUM(C67:S67)","v":0},null,null,null,null,null,null,null,null,null,null,null,null,null,null,null,null,null,null,null,null,0,null,null,null,0,null,null,null,null,null,null,null,null,null,null,null,null,null,null,null,null,0,0,null,null,null,null,null,"",null,null,null,null,null,null,null,null,null,null,null,null,null,null,null,null,null,null,null,null,null,null,null,null,null,null,null,"","","","","",null,0,0,0,0,0]
["MEDICINA NUCLEAR (EXCLUYE INFORMES)",{"$f":"SUM(C68:S68)","v":0},null,null,null,null,null,null,null,null,null,null,null,null,null,null,null,null,null,null,null,null,{"$f":"SUM(X68+Y68+Z68)","v":0},null,null,null,0,null,null,null,null,null,null,null,null,null,null,null,null,null,null,null,null,0,0,null,null,null,null,null,"",null,null,null,null,null,null,null,null,null,null,null,null,null,null,null,null,null,null,null,null,null,null,null,null,null,null,null,"","","","","",null,0,0,0,0,0]
["IMAGENOLOGÍA",{"$f":"SUM(C69:S69)","v":0},null,null,null,null,null,null,null,null,null,null,null,null,null,null,null,null,null,null,null,null,{"$f":"SUM(X69+Y69+Z69)","v":0},null,null,null,0,null,null,null,null,null,null,null,null,null,null,null,null,null,null,null,null,0,0,null,null,null,null,null,"",null,null,null,null,null,null,null,null,null,null,null,null,null,null,null,null,null,null,null,null,null,null,null,null,null,null,null,"","","","","",null,0,0,0,0,0]
["RADIOTERAPIA ONCOLÓGICA",{"$f":"SUM(C70:S70)","v":0},null,null,null,null,null,null,null,null,null,null,null,null,null,null,null,null,null,null,null,null,{"$f":"SUM(X70+Y70+Z70)","v":0},null,null,null,0,null,null,null,null,null,null,null,null,null,null,null,null,null,null,null,null,0,0,null,null,null,null,null,"",null,null,null,null,null,null,null,null,null,null,null,null,null,null,null,null,null,null,null,null,null,null,null,null,null,null,null,"","","","","",null,0,0,0,0,0]
["TOTAL",{"$f":"SUM(B11:B70)","v":0},0,0,0,0,0,0,0,0,0,0,0,0,0,0,0,0,0,0,0,0,0,0,0,0,0,{"$f":"SUM(AB11:AB70)","v":0},0,0,0,0,0,0,0,0,0,0,0,0,0,0,0,{"$f":"SUM(AR11:AR70)","v":22},126,0,0,0,0,0]
["SECCIÓN B: ATENCIONES MEDICAS POR PROGRAMAS Y POLICLÍNICOS  (INCLUIDAS EN SECCION A)"]
["ATENCIONES","TOTAL","0 - 4 años","5 - 9 años","10 - 14 años","15 - 19 años","20 - 24 años","25 - 29 años","30 - 34 años","35 - 39 años","40 - 44 años","45 - 49 años","50 - 54 años","55 - 59 años","60 - 64 años","65 - 69 años","70 - 74 años","75 - 79 años","80  años y mas"]
["ARRITMIAS",{"$f":"SUM(C74:S74)","v":0}]
["DIABETES",0]
["CIRUGÍA DE MAMAS",0]
["ALTO RIESGO OBSTÉTRICO",0]
["ATENCIÓN OBSTÉTRICA POR LEY IVE",0]
["TRATAMIENTO ANTICOAGULANTE",0]
["CUIDADOS PALIATIVOS",0]
["INFERTILIDAD",0]
["PATOLOGÍA CERVICAL",0]
["PATOLOGÍA DE MAMAS",0]
["ADOLESCENCIA",0]
["NANEAS",0]
["ITS",0]
["VIH/SIDA",0]
["MEDICINAL OCUPACIONAL (SALUD DEL PERSONAL)",0]
["TOTAL ",{"$f":"SUM(B74:B88)","v":0},0,0,0,0,0,0,0,0,0,0,0,0,0,0,0,0,0]
["SECCIÓN C: CONSULTAS Y CONTROLES POR OTROS PROFESIONALES EN ESPECIALIDAD (NIVEL SECUNDARIO)"]
["PROFESIONAL",null,"TOTAL ",null,null,"POR EDAD (en años)",null,null,null,null,null,null,null,null,null,null,null,null,null,null,null,null,null,null,null,null,null,null,null,null,null,null,null,null,null,null,null,null,null,"Beneficiarios","Total Controles (incluidos en grupo de edad)","Pueblos Originarios","Migrantes"]
[null,null,null,null,null,"0 - 4",null,"5 - 9",null,"10 - 14",null,"15 - 19",null,"20 - 24",null,"25 - 29",null,"30 - 34",null,"35 - 39",null,"40 - 44",null,"45 - 49",null,"50 - 54",null,"55 - 59",null,"60 - 64",null,"65 - 69",null,"70 - 74",null,"75 - 79",null,"80 y mas"]
[null,null,"Ambos Sexos","Hombres","Mujeres","Hombres","Mujeres","Hombres","Mujeres","Hombres","Mujeres","Hombres","Mujeres","Hombres","Mujeres","Hombres","Mujeres","Hombres","Mujeres","Hombres","Mujeres","Hombres","Mujeres","Hombres","Mujeres","Hombres","Mujeres","Hombres","Mujeres","Hombres","Mujeres","Hombres","Mujeres","Hombres","Mujeres","Hombres","Mujeres","Hombres","Mujeres"]
["ENFERMERA",null,{"$f":"SUM(D94+E94)","v":0},{"$f":"SUM(F94+H94+J94+L94+N94+P94+R94+T94+V94+X94+Z94+AB94+AD94+AF94+AH94+AJ94+AL94)","v":0},{"$f":"SUM(G94+I94+K94+M94+O94+Q94+S94+U94+W94+Y94+AA94+AC94+AE94+AG94+AI94+AK94+AM94)","v":0},null,null,null,null,null,null,null,null,null,null,null,null,null,null,null,null,null,null,null,null,null,null,null,null,null,null,null,null,null,null,null,null,null,null,null,null,null,null,{"$f":"CA94&CB94&CC94&CD94","v":""},null,null,null,null,null,null,null,null,null,null,null,null,null,null,null,null,null,null,null,null,null,null,null,null,null,null,null,null,null,null,null,null,null,null,{"$f":"IF(CG94=1,\"* El número de Beneficiarios NO DEBE ser mayor que el Total. \",\"\")","v":""},{"$f":"IF(CH94=1,\"* No olvide digitar la columna Beneficiarios y/o Pueblos Originarios y/o Migrantes (Digite CEROS si no tiene.). \",\"\")","v":""},{"$f":"IF(CI94=1,\"* El número de Pueblos Originarios y/o Migrantes NO DEBE ser mayor que el Total. \",\"\")","v":""},{"$f":"IF(CJ94=1,\"* El número de Controles NO DEBE ser mayor que el Total. \",\"\")","v":""},null,null,{"$f":"IF(C94<AN94,1,0)","v":0},{"$f":"IF(AND(C94<>0,OR(AN94=\"\",AP94=\"\",AQ94=\"\")),1,0)","v":0},{"$f":"IF(OR(C94<AP94,C94<AQ94),1,0)","v":0},{"$f":"IF(C94<AO94,1,0)","v":0}]
["MATRONA","ARO",{"$f":"SUM(D95:E95)","v":0},null,{"$f":"SUM(K95+M95+O95+Q95+S95+U95+W95+Y95+AA95+AC95+AE95+AG95+AI95+AK95+AM95)","v":0},null,null,null,null,null,null,null,null,null,null,null,null,null,null,null,null,null,null,null,null,null,null,null,null,null,null,null,null,null,null,null,null,null,null,null,null,null,null,{"$f":"CA95&CB95&CC95&CD95","v":""},null,null,null,null,null,null,null,null,null,null,null,null,null,null,null,null,null,null,null,null,null,null,null,null,null,null,null,null,null,null,null,null,null,null,{"$f":"IF(CG95=1,\"* El número de Beneficiarios NO DEBE ser mayor que el Total. \",\"\")","v":""},{"$f":"IF(CH95=1,\"* No olvide digitar la columna Beneficiarios y/o Pueblos Originarios y/o Migrantes (Digite CEROS si no tiene.). \",\"\")","v":""},{"$f":"IF(CI95=1,\"* El número de Pueblos Originarios y/o Migrantes NO DEBE ser mayor que el Total. \",\"\")","v":""},{"$f":"IF(CJ95=1,\"* El número de Controles NO DEBE ser mayor que el Total. \",\"\")","v":""},null,null,{"$f":"IF(E95<AN95,1,0)","v":0},{"$f":"IF(AND(E95<>0,OR(AN95=\"\",AP95=\"\",AQ95=\"\")),1,0)","v":0},{"$f":"IF(OR(E95<AP95,E95<AQ95),1,0)","v":0},{"$f":"IF(E95<AO95,1,0)","v":0}]
[null,"ARO POR LEY IVE",{"$f":"SUM(D96:E96)","v":0},null,{"$f":"SUM(K96+M96+O96+Q96+S96+U96+W96+Y96+AA96+AC96+AE96+AG96+AI96+AK96+AM96)","v":0},null,null,null,null,null,null,null,null,null,null,null,null,null,null,null,null,null,null,null,null,null,null,null,null,null,null,null,null,null,null,null,null,null,null,null,null,null,null,"",null,null,null,null,null,null,null,null,null,null,null,null,null,null,null,null,null,null,null,null,null,null,null,null,null,null,null,null,null,null,null,null,null,null,{"$f":"IF(CG96=1,\"* El número de Beneficiarios NO DEBE ser mayor que el Total. \",\"\")","v":""},{"$f":"IF(CH96=1,\"* No olvide digitar la columna Beneficiarios y/o Pueblos Originarios y/o Migrantes (Digite CEROS si no tiene.). \",\"\")","v":""},{"$f":"IF(CI96=1,\"* El número de Pueblos Originarios y/o Migrantes NO DEBE ser mayor que el Total. \",\"\")","v":""},{"$f":"IF(CJ96=1,\"* El número de Controles NO DEBE ser mayor que el Total. \",\"\")","v":""},null,null,{"$f":"IF(E96<AN96,1,0)","v":0},{"$f":"IF(AND(E96<>0,OR(AN96=\"\",AP96=\"\",AQ96=\"\")),1,0)","v":0},{"$f":"IF(OR(E96<AP96,E96<AQ96),1,0)","v":0},{"$f":"IF(E96<AO96,1,0)","v":0}]
[null,"GINECOLOGÍA Y OTROS",{"$f":"SUM(D97+E97)","v":0},{"$f":"SUM(F97+H97+J97+L97+N97+P97+R97+T97+V97+X97+Z97+AB97+AD97+AF97+AH97+AJ97+AL97)","v":0},{"$f":"SUM(G97+I97+K97+M97+O97+Q97+S97+U97+W97+Y97+AA97+AC97+AE97+AG97+AI97+AK97+AM97)","v":0},null,null,null,null,null,null,null,null,null,null,null,null,null,null,null,null,null,null,null,null,null,null,null,null,null,null,null,null,null,null,null,null,null,null,null,null,null,null,"",null,null,null,null,null,null,null,null,null,null,null,null,null,null,null,null,null,null,null,null,null,null,null,null,null,null,null,null,null,null,null,null,null,null,"","","","",null,null,{"$f":"IF(C97<AN97,1,0)","v":0},{"$f":"IF(AND(C97<>0,OR(AN97=\"\",AP97=\"\",AQ97=\"\")),1,0)","v":0},{"$f":"IF(OR(C97<AP97,C97<AQ97),1,0)","v":0},{"$f":"IF(C97<AO97,1,0)","v":0}]
[null,"INFERTILIDAD",0,{"$f":"SUM(N98+P98+R98+T98+V98+X98+Z98+AB98)","v":0},{"$f":"SUM(O98+Q98+S98+U98+W98+Y98+AA98+AC98)","v":0},null,null,null,null,null,null,null,null,null,null,null,null,null,null,null,null,null,null,null,null,null,null,null,null,null,null,null,null,null,null,null,null,null,null,null,null,null,null,"",null,null,null,null,null,null,null,null,null,null,null,null,null,null,null,null,null,null,null,null,null,null,null,null,null,null,null,null,null,null,null,null,null,null,"","","","",null,null,0,0,0,0]
["NUTRICIONISTA",null,0,{"$f":"SUM(F99+H99+J99+L99+N99+P99+R99+T99+V99+X99+Z99+AB99+AD99+AF99+AH99+AJ99+AL99)","v":0},0,null,null,null,null,null,null,null,null,null,null,null,null,null,null,null,null,null,null,null,null,null,null,null,null,null,null,null,null,null,null,null,null,null,null,null,null,null,null,"",null,null,null,null,null,null,null,null,null,null,null,null,null,null,null,null,null,null,null,null,null,null,null,null,null,null,null,null,null,null,null,null,null,null,"","","","",null,null,0,0,0,0]
["PSICÓLOGO (EXCLUYE SM)",null,0,0,0,null,null,null,null,null,null,null,null,null,null,null,null,null,null,null,null,null,null,null,null,null,null,null,null,null,null,null,null,null,null,null,null,null,null,null,null,null,null,"",null,null,null,null,null,null,null,null,null,null,null,null,null,null,null,null,null,null,null,null,null,null,null,null,null,null,null,null,null,null,null,null,null,null,"","","","",null,null,0,0,0,0]
["FONOAUDIÓLOGO",null,0,0,0,null,null,null,null,null,null,null,null,null,null,null,null,null,null,null,null,null,null,null,null,null,null,null,null,null,null,null,null,null,null,null,null,null,null,null,null,null,null,"",null,null,null,null,null,null,null,null,null,null,null,null,null,null,null,null,null,null,null,null,null,null,null,null,null,null,null,null,null,null,null,null,null,null,"","","","",null,null,0,0,0,0]
["TECNÓLOGO MÉDICO",null,0,0,0,null,null,null,null,null,null,null,null,null,null,null,null,null,null,null,null,null,null,null,null,null,null,null,null,null,null,null,null,null,null,null,null,null,null,null,null,null,null,"",null,null,null,null,null,null,null,null,null,null,null,null,null,null,null,null,null,null,null,null,null,null,null,null,null,null,null,null,null,null,null,null,null,null,"","","","",null,null,0,0,0,0]
["ASISTENTE  SOCIAL",null,0,0,0,null,null,null,null,null,null,null,null,null,null,null,null,null,null,null,null,null,null,null,null,null,null,null,null,null,null,null,null,null,null,null,null,null,null,null,null,null,null,"",null,null,null,null,null,null,null,null,null,null,null,null,null,null,null,null,null,null,null,null,null,null,null,null,null,null,null,null,null,null,null,null,null,null,{"$f":"IF(CG103=1,\"* El número de Beneficiarios NO DEBE ser mayor que el Total. \",\"\")","v":""},{"$f":"IF(CH103=1,\"* No olvide digitar la columna Beneficiarios y/o Pueblos Originarios y/o Migrantes (Digite CEROS si no tiene.). \",\"\")","v":""},{"$f":"IF(CI103=1,\"* El número de Pueblos Originarios y/o Migrantes NO DEBE ser mayor que el Total. \",\"\")","v":""},{"$f":"IF(CJ103=1,\"* El número de Controles NO DEBE ser mayor que el Total. \",\"\")","v":""},null,null,{"$f":"IF(C103<AN103,1,0)","v":0},{"$f":"IF(AND(C103<>0,OR(AN103=\"\",AP103=\"\",AQ103=\"\")),1,0)","v":0},{"$f":"IF(OR(C103<AP103,C103<AQ103),1,0)","v":0},{"$f":"IF(C103<AO103,1,0)","v":0}]
["TOTAL",null,{"$f":"SUM(C94:C103)","v":0},0,0,0,0,0,0,0,0,0,0,0,0,0,0,0,0,0,0,0,0,0,0,0,0,0,0,0,0,0,0,0,0,0,0,0,0,0,0,0,0,"   "]
["SECCIÓN D: CONSULTAS INFECCIÓN TRANSMISIÓN SEXUAL (ITS) Y CONTROLES DE SALUD SEXUAL EN EL NIVEL SECUNDARIO (Incluidas en Sección C)"]
["ACTIVIDAD","PROFESIONAL","TOTAL ",null,null,"POR EDAD (en años)",null,null,null,null,null,null,null,null,null,null,null,null,null,null,null,null,null,null,null,null,null,null,null,null,null,null,null,null,null,null,null,null,null,"Beneficiarios","Trans",null,"Pueblos Originarios","Migrantes","Niños, Niñas, Adolescentes y Jóvenes Población SENAME"]
[null,null,null,null,null,"0 - 4",null,"5 - 9",null,"10 - 14",null,"15 - 19",null,"20 - 24",null,"25 - 29",null,"30 - 34",null,"35 - 39",null,"40 - 44",null,"45 - 49",null,"50 - 54",null,"55 - 59",null,"60 - 64",null,"65 - 69",null,"70 - 74",null,"75 - 79",null,"80 y mas"]
[null,null,"Ambos Sexos","Hombre","Mujer","Hombre","Mujer","Hombre","Mujer","Hombre","Mujer","Hombre","Mujer","Hombre","Mujer","Hombre","Mujer","Hombre","Mujer","Hombre","Mujer","Hombre","Mujer","Hombre","Mujer","Hombre","Mujer","Hombre","Mujer","Hombre","Mujer","Hombre","Mujer","Hombre","Mujer","Hombre","Mujer","Hombre","Mujer",null,"Masculino","Femenino"]
["CONSULTAS  INFECCIÓN TRANSMISIÓN SEXUAL  (ITS) (excluir VIH/SIDA)","ENFERMERA",{"$f":"SUM(D109+E109)","v":0},{"$f":"SUM(F109+H109+J109+L109+N109+P109+R109+T109+V109+X109+Z109+AB109+AD109+AF109+AH109+AJ109+AL109)","v":0},{"$f":"SUM(G109+I109+K109+M109+O109+Q109+S109+U109+W109+Y109+AA109+AC109+AE109+AG109+AI109+AK109+AM109)","v":0},null,null,null,null,null,null,null,null,null,null,null,null,null,null,null,null,null,null,null,null,null,null,null,null,null,null,null,null,null,null,null,null,null,null,null,null,null,null,null,null,{"$f":"CA109&CB109&CC109&CD109&CE109&CF109","v":""},null,null,null,null,null,null,null,null,null,null,null,null,null,null,null,null,null,null,null,null,null,null,null,null,null,null,null,null,null,null,null,null,{"$f":"IF(CG109=1,\"* El número de Beneficiarios NO DEBE ser mayor que el Total \",\"\")","v":""},{"$f":"IF(CH109=1,\"* No olvide digitar las columnas Beneficiarios y/o Trans y/o Pueblos Originarios y/o Migrantes y/o Niños, Niñas, Adolescentes y Jóvenes Población SENAME (Digite CEROS si no tiene.). \",\"\")","v":""},{"$f":"IF(CI109=1,\"* El número de Trans NO DEBE ser mayor que el Total. \",\"\")","v":""},{"$f":"IF(CJ109=1,\"* El número de Pueblos Originarios NO DEBE ser mayor que el Total. \",\"\")","v":""},{"$f":"IF(CK109=1,\"* El número de Migrantes NO DEBE ser mayor que el Total. \",\"\")","v":""},{"$f":"IF(CL109=1,\"* El número de Niños, Niñas, Adolescentes y Jóvenes Población SENAME NO DEBE ser mayor que el Total. \",\"\")","v":""},{"$f":"IF(C109<AN109,1,0)","v":0},{"$f":"IF(AND(C109<>0,OR(AN109=\"\",AO109=\"\",AP109=\"\",AQ109=\"\",AR109=\"\",AS109=\"\")),1,0)","v":0},{"$f":"IF(C109<(AO109+AP109),1,0)","v":0},{"$f":"IF(C109<AQ109,1,0)","v":0},{"$f":"IF(C109<AR109,1,0)","v":0},{"$f":"IF(C109<AS109,1,0)","v":0}]
[null,"MATRONA",0,0,0,null,null,null,null,null,null,null,null,null,null,null,null,null,null,null,null,null,null,null,null,null,null,null,null,null,null,null,null,null,null,null,null,null,null,null,null,null,null,null,null,{"$f":"CA110&CB110&CC110&CD110&CE110&CF110","v":""},null,null,null,null,null,null,null,null,null,null,null,null,null,null,null,null,null,null,null,null,null,null,null,null,null,null,null,null,null,null,null,null,{"$f":"IF(CG110=1,\"* El número de Beneficiarios NO DEBE ser mayor que el Total \",\"\")","v":""},{"$f":"IF(CH110=1,\"* No olvide digitar las columnas Beneficiarios y/o Trans y/o Pueblos Originarios y/o Migrantes y/o Niños, Niñas, Adolescentes y Jóvenes Población SENAME (Digite CEROS si no tiene.). \",\"\")","v":""},{"$f":"IF(CI110=1,\"* El número de Trans NO DEBE ser mayor que el Total. \",\"\")","v":""},{"$f":"IF(CJ110=1,\"* El número de Pueblos Originarios NO DEBE ser mayor que el Total. \",\"\")","v":""},{"$f":"IF(CK110=1,\"* El número de Migrantes NO DEBE ser mayor que el Total. \",\"\")","v":""},{"$f":"IF(CL110=1,\"* El número de Niños, Niñas, Adolescentes y Jóvenes Población SENAME NO DEBE ser mayor que el Total. \",\"\")","v":""},{"$f":"IF(C110<AN110,1,0)","v":0},{"$f":"IF(AND(C110<>0,OR(AN110=\"\",AO110=\"\",AP110=\"\",AQ110=\"\",AR110=\"\",AS110=\"\")),1,0)","v":0},{"$f":"IF(C110<(AO110+AP110),1,0)","v":0},{"$f":"IF(C110<AQ110,1,0)","v":0},{"$f":"IF(C110<AR110,1,0)","v":0},{"$f":"IF(C110<AS110,1,0)","v":0}]
["CONSULTAS VIH/SIDA","ENFERMERA",0,0,{"$f":"SUM(G111+I111+K111+M111+O111+Q111+S111+U111+W111+Y111+AA111+AC111+AE111+AG111+AI111+AK111+AM111)","v":0},null,null,null,null,null,null,null,null,null,null,null,null,null,null,null,null,null,null,null,null,null,null,null,null,null,null,null,null,null,null,null,null,null,null,null,null,null,null,null,null,"",null,null,null,null,null,null,null,null,null,null,null,null,null,null,null,null,null,null,null,null,null,null,null,null,null,null,null,null,null,null,null,null,"","","","","","",0,0,0,0,0,0]
[null,"MATRONA",0,0,0,null,null,null,null,null,null,null,null,null,null,null,null,null,null,null,null,null,null,null,null,null,null,null,null,null,null,null,null,null,null,null,null,null,null,null,null,null,null,null,null,"",null,null,null,null,null,null,null,null,null,null,null,null,null,null,null,null,null,null,null,null,null,null,null,null,null,null,null,null,null,null,null,null,"","","","","","",0,0,0,0,0,0]
[null,"PSICÓLOGO",0,0,0,null,null,null,null,null,null,null,null,null,null,null,null,null,null,null,null,null,null,null,null,null,null,null,null,null,null,null,null,null,null,null,null,null,null,null,null,null,null,null,null,"",null,null,null,null,null,null,null,null,null,null,null,null,null,null,null,null,null,null,null,null,null,null,null,null,null,null,null,null,null,null,null,null,"","","","","","",0,0,0,0,0,0]
["CONTROL VIH CON TAR","ENFERMERA",0,0,0,null,null,null,null,null,null,null,null,null,null,null,null,null,null,null,null,null,null,null,null,null,null,null,null,null,null,null,null,null,null,null,null,null,null,null,null,null,null,null,null,"",null,null,null,null,null,null,null,null,null,null,null,null,null,null,null,null,null,null,null,null,null,null,null,null,null,null,null,null,null,null,null,null,"","","","","","",0,0,0,0,0,0]
[null,"MATRONA",0,0,0,null,null,null,null,null,null,null,null,null,null,null,null,null,null,null,null,null,null,null,null,null,null,null,null,null,null,null,null,null,null,null,null,null,null,null,null,null,null,null,null,"",null,null,null,null,null,null,null,null,null,null,null,null,null,null,null,null,null,null,null,null,null,null,null,null,null,null,null,null,null,null,null,null,"","","","","","",0,0,0,0,0,0]
["CONTROL VIH SIN TAR","ENFERMERA",0,0,0,null,null,null,null,null,null,null,null,null,null,null,null,null,null,null,null,null,null,null,null,null,null,null,null,null,null,null,null,null,null,null,null,null,null,null,null,null,null,null,null,"",null,null,null,null,null,null,null,null,null,null,null,null,null,null,null,null,null,null,null,null,null,null,null,null,null,null,null,null,null,null,null,null,"","","","","","",0,0,0,0,0,0]
[null,"MATRONA",0,0,0,null,null,null,null,null,null,null,null,null,null,null,null,null,null,null,null,null,null,null,null,null,null,null,null,null,null,null,null,null,null,null,null,null,null,null,null,null,null,null,null,"",null,null,null,null,null,null,null,null,null,null,null,null,null,null,null,null,null,null,null,null,null,null,null,null,null,null,null,null,null,null,null,null,"","","","","","",0,0,0,0,0,0]
["CONTROLES DE SALUD A PERSONAS QUE EJERCEN COMERCIO SEXUAL","ENFERMERA",0,{"$f":"SUM(L118+N118+P118+R118+T118+V118+X118+Z118+AB118+AD118+AF118+AH118+AJ118+AL118)","v":0},{"$f":"SUM(M118+O118+Q118+S118+U118+W118+Y118+AA118+AC118+AE118+AG118+AI118+AK118+AM118)","v":0},null,null,null,null,null,null,null,null,null,null,null,null,null,null,null,null,null,null,null,null,null,null,null,null,null,null,null,null,null,null,null,null,null,null,null,null,null,null,null,null,"",null,null,null,null,null,null,null,null,null,null,null,null,null,null,null,null,null,null,null,null,null,null,null,null,null,null,null,null,null,null,null,null,"","","","","","",{"$f":"IF(C118<AN118,1,0)","v":0},0,0,0,0,0]
[null,"MATRONA",0,{"$f":"SUM(L119+N119+P119+R119+T119+V119+X119+Z119+AB119+AD119+AF119+AH119+AJ119+AL119)","v":0},{"$f":"SUM(M119+O119+Q119+S119+U119+W119+Y119+AA119+AC119+AE119+AG119+AI119+AK119+AM119)","v":0},null,null,null,null,null,null,null,null,null,null,null,null,null,null,null,null,null,null,null,null,null,null,null,null,null,null,null,null,null,null,null,null,null,null,null,null,null,null,null,null,"",null,null,null,null,null,null,null,null,null,null,null,null,null,null,null,null,null,null,null,null,null,null,null,null,null,null,null,null,null,null,null,null,"","","","","","",0,0,0,0,0,0]
[null,null,null,null,null,null,null,null,null,null,null,null,null,null,null,null,null,null,null,null,null,null,null,null,null,null,null,null,null,null,null,null,null,null,null,null,null,null,null,null,null,null,null,"   "]
[]
[]
[]
[]
[]
[]
[]
[]
[]
[]
[]
[]
[]
[]
[]
[]
[]
[]
[]
[]
[]
[]
[]
[]
[]
[]
[]
[]
[]
[]
[]
[]
[]
[]
[]
[]
[]
[]
[]
[]
[]
[]
[]
[]
[]
[]
[]
[]
[]
[]
[]
[]
[]
[]
[]
[]
[]
[]
[]
[]
[]
[]
[]
[]
[]
[]
[]
[]
[]
[]
[]
[]
[]
[]
[{"$f":"SUM(B71,B89,C104,C109:C119,AV71,AR71:AS71,W71:AV71)","v":296},{"$f":"SUM(CG7:CK121)","v":0}]

{"sheet":"A08","index":8,"n_rows":200,"n_cols":88,"rows_kept":200,"cut":false,"hidden":false,"merged":[[182,16,182,17],[182,18,182,19],[182,20,182,21],[182,8,182,9],[182,10,182,11],[182,12,182,13],[87,40,89,40],[176,0,177,0],[176,2,177,2],[173,0,174,0],[181,0,183,0],[181,1,182,3],[181,4,181,21],[182,4,182,5],[182,6,182,7],[182,14,182,15],[104,2,105,4],[105,13,105,14],[88,19,88,20],[88,37,88,38],[88,33,88,34],[88,35,88,36],[105,27,105,28],[111,28,111,29],[44,1,45,3],[88,21,88,22],[88,13,88,14],[87,0,89,1],[87,5,87,38],[8,44,10,44],[16,39,18,39],[24,39,26,39],[34,39,36,39],[44,39,46,39],[45,22,45,23],[9,40,10,40],[9,41,10,41],[9,42,10,42],[8,43,10,43],[16,38,18,38],[24,38,26,38],[8,39,8,42],[9,39,10,39],[35,24,35,25],[34,0,36,0],[34,1,35,3],[34,4,34,37],[35,4,35,5],[96,0,96,1],[94,0,94,1],[95,0,95,1],[91,0,93,0],[90,0,90,1],[55,4,55,5],[104,5,104,38],[105,15,105,16],[105,23,105,24],[105,7,105,8],[105,9,105,10],[105,11,105,12],[88,5,88,6],[17,26,17,27],[17,28,17,29],[17,30,17,31],[114,0,114,1],[99,0,99,2],[109,0,109,1],[100,0,102,1],[107,0,107,1],[104,0,106,1],[111,0,112,1],[108,0,108,1],[113,0,113,1],[111,13,111,14],[111,5,111,6],[111,11,111,12],[111,2,111,4],[97,0,97,1],[55,8,55,9],[55,10,55,11],[54,1,55,3],[88,7,88,8],[88,9,88,10],[87,2,88,4],[54,0,56,0],[25,18,25,19],[25,20,25,21],[35,16,35,17],[35,18,35,19],[16,0,18,0],[17,4,17,5],[35,22,35,23],[8,38,10,38],[16,1,17,3],[16,4,16,37],[17,20,17,21],[17,22,17,23],[17,24,17,25],[17,16,17,17],[17,18,17,19],[9,36,9,37],[35,12,35,13],[35,6,35,7],[35,8,35,9],[35,10,35,11],[17,12,17,13],[17,36,17,37],[17,14,17,15],[17,34,17,35],[45,6,45,7],[45,8,45,9],[45,10,45,11],[45,12,45,13],[45,14,45,15],[45,16,45,17],[45,18,45,19],[45,20,45,21],[45,24,45,25],[44,0,46,0],[25,8,25,9],[25,10,25,11],[25,12,25,13],[25,30,25,31],[25,4,25,5],[24,1,25,3],[24,4,24,37],[17,6,17,7],[17,8,17,9],[17,10,17,11],[25,6,25,7],[17,32,17,33],[25,32,25,33],[25,24,25,25],[25,28,25,29],[25,26,25,27],[25,34,25,35],[35,14,35,15],[25,16,25,17],[24,0,26,0],[25,22,25,23],[25,36,25,37],[25,14,25,15],[5,0,5,14],[8,0,10,0],[8,1,9,3],[8,4,8,37],[9,30,9,31],[9,32,9,33],[9,22,9,23],[9,4,9,5],[9,6,9,7],[9,16,9,17],[9,18,9,19],[9,20,9,21],[9,28,9,29],[9,34,9,35],[9,8,9,9],[9,10,9,11],[9,12,9,13],[9,14,9,15],[9,24,9,25],[9,26,9,27],[104,39,106,39],[105,35,105,36],[105,33,105,34],[111,34,112,34],[111,30,111,33],[87,39,89,39],[105,37,105,38],[88,29,88,30],[35,34,35,35],[54,4,54,37],[55,12,55,13],[55,14,55,15],[55,36,55,37],[35,20,35,21],[44,4,44,37],[45,4,45,5],[55,18,55,19],[55,20,55,21],[55,22,55,23],[55,30,55,31],[55,28,55,29],[55,6,55,7],[55,32,55,33],[55,24,55,25],[44,38,46,38],[45,32,45,33],[34,38,36,38],[35,30,35,31],[35,32,35,33],[88,31,88,32],[88,11,88,12],[55,34,55,35],[55,26,55,27],[45,34,45,35],[45,36,45,37],[35,36,35,37],[54,38,55,39],[88,23,88,24],[55,16,55,17],[45,26,45,27],[45,28,45,29],[45,30,45,31],[35,26,35,27],[35,28,35,29],[88,15,88,16],[88,17,88,18],[88,25,88,26],[88,27,88,28],[167,0,167,1],[170,5,170,20],[111,15,111,16],[140,6,141,6],[116,0,117,1],[116,2,117,2],[118,0,119,0],[140,0,141,2],[111,17,111,18],[111,19,111,20],[111,9,111,10],[111,7,111,8],[121,0,122,0],[121,1,122,1],[165,0,165,1],[162,2,163,4],[149,0,151,0],[162,0,164,1],[158,0,160,0],[160,1,160,2],[153,8,154,8],[116,3,116,8],[116,9,117,9],[137,0,137,3],[145,0,145,1],[138,1,138,3],[142,0,143,0],[163,25,163,26],[163,27,163,28],[146,0,147,0],[157,1,157,2],[156,1,156,2],[158,1,158,2],[159,1,159,2],[155,1,155,2],[153,0,154,2],[111,24,111,27],[105,29,105,30],[105,5,105,6],[105,25,105,26],[105,31,105,32],[163,17,163,18],[163,19,163,20],[163,29,163,30],[105,21,105,22],[105,17,105,18],[105,19,105,20],[111,21,111,22],[111,23,112,23],[171,5,171,6],[153,3,153,5],[153,7,154,7],[170,24,172,24],[171,32,172,32],[140,10,140,12],[171,15,171,16],[171,19,171,20],[171,9,171,10],[171,28,172,28],[170,21,172,21],[170,23,172,23],[171,17,171,18],[153,6,154,6],[170,2,171,4],[140,7,140,9],[140,3,140,5],[142,1,142,2],[170,31,170,32],[163,9,163,10],[163,31,163,32],[163,13,163,14],[171,11,171,12],[170,22,172,22],[170,27,170,30],[170,25,172,25],[171,30,172,30],[171,29,172,29],[171,27,172,27],[163,21,163,22],[163,23,163,24],[170,26,172,26],[163,11,163,12],[163,15,163,16],[186,4,186,11],[186,12,187,13],[186,14,188,14],[187,4,187,5],[187,6,187,7],[187,8,187,9],[187,10,187,11],[155,0,157,0],[170,0,172,1],[186,0,189,0],[186,1,187,3],[166,0,166,1],[171,13,171,14],[163,7,163,8],[176,3,177,3],[176,1,177,1],[163,5,163,6],[162,5,162,38],[163,37,163,38],[168,0,168,1],[163,33,163,34],[163,35,163,36],[171,7,171,8],[171,31,172,31]]}
["SERVICIO DE SALUD"]
[{"$f":"CONCATENATE(\"COMUNA: \",NOMBRE!B2,\" - \",\"( \",NOMBRE!C2,NOMBRE!D2,NOMBRE!E2,NOMBRE!F2,NOMBRE!G2,\" )\")","v":"COMUNA: CALLE LARGA - ( 05302 )"}]
[{"$f":"CONCATENATE(\"ESTABLECIMIENTO/ESTRATEGIA: \",NOMBRE!B3,\" - \",\"( \",NOMBRE!C3,NOMBRE!D3,NOMBRE!E3,NOMBRE!F3,NOMBRE!G3,NOMBRE!H3,\" )\")","v":"ESTABLECIMIENTO/ESTRATEGIA: DR. JOSE JOAQUIN AGUIRRE CAMPOS - ( 108308 )"}]
[{"$f":"CONCATENATE(\"MES: \",NOMBRE!B6,\" - \",\"( \",NOMBRE!C6,NOMBRE!D6,\" )\")","v":"MES: DICIEMBRE - ( 12 )"}]
[{"$f":"CONCATENATE(\"AÑO: \",NOMBRE!B7)","v":"AÑO: 2022"}]
["REM-A08.  ATENCIÓN DE URGENCIA"]
["SECCIÓN A: ATENCIONES REALIZADAS EN UNIDADES DE URGENCIA DE LA RED"]
["SECCIÓN A.1: ATENCIONES REALIZADAS EN UNIDADES DE EMERGENCIA HOSPITALARIA DE ALTA Y MEDIANA COMPLEJIDAD (UEH)"]
["TIPO DE ATENCIÓN","TOTAL        ",null,null,"GRUPOS DE EDAD (en años)",null,null,null,null,null,null,null,null,null,null,null,null,null,null,null,null,null,null,null,null,null,null,null,null,null,null,null,null,null,null,null,null,null,"Beneficiarios","ORIGEN DE LA PROCEDENCIA (Sólo pacientes derivados de establecimientos de la Red)",null,null,null,"Establecimientos de otra Red","Demanda de Urgencia"]
[null,null,null,null,"0 - 4",null,"5 - 9",null,"10 - 14",null,"15 - 19",null,"20 - 24",null,"25 - 29",null,"30 - 34",null,"35 - 39",null,"40 - 44",null,"45 - 49",null,"50 - 54",null,"55 - 59",null,"60 - 64",null,"65 - 69",null,"70 - 74",null,"75 - 79",null,"80 y mas",null,null,"SAPU/ SAR / SUR","Hospital Baja Complejidad","Hospital Mediana/Alta Complejidad","Otros Establecimientos de la  Red"]
[null,"Ambos Sexos","Hombres","Mujeres","Hombres","Mujeres","Hombres","Mujeres","Hombres","Mujeres","Hombres","Mujeres","Hombres","Mujeres","Hombres","Mujeres","Hombres","Mujeres","Hombres","Mujeres","Hombres","Mujeres","Hombres","Mujeres","Hombres","Mujeres","Hombres","Mujeres","Hombres","Mujeres","Hombres","Mujeres","Hombres","Mujeres","Hombres","Mujeres","Hombres","Mujeres"]
["ATENCIÓN MÉDICA NIÑO Y ADULTO",{"$f":"SUM(C12+D12)","v":0},{"$f":"SUM(E12+G12+I12+K12+M12+O12+Q12+S12+U12+W12+Y12+AA12+AC12+AE12+AG12+AI12+AK12)","v":0},{"$f":"SUM(F12+H12+J12+L12+N12+P12+R12+T12+V12+X12+Z12+AB12+AD12+AF12+AH12+AJ12+AL12)","v":0},null,null,null,null,null,null,null,null,null,null,null,null,null,null,null,null,null,null,null,null,null,null,null,null,null,null,null,null,null,null,null,null,null,null,null,null,null,null,null,null,null,null,null,null,null,null,null,null,null,null,null,null,null,null,null,null,null,null,null,null,null,null,null,null,null,null,null,null,null,null,null,null,null,null,null,null,null,null,null,null,0,0,0,0]
["ATENCIÓN MÉDICA GINECO-OBSTETRA",{"$f":"SUM(C13+D13)","v":0},0,0,null,null,null,null,null,null,null,null,null,null,null,null,null,null,null,null,null,null,null,null,null,null,null,null,null,null,null,null,null,null,null,null,null,null,null,null,null,null,null,null,null,"* No olvide digitar la columna Beneficiarios. * Debe registrar el origen de la procedencia solicitado, digite --CEROS-- si NO tiene pacientes derivados de  SAPU, Hospital Baja Complejidad u Otros Establecimientos de la Red. ",null,null,null,null,null,null,null,null,null,null,null,null,null,null,null,null,null,null,null,null,null,null,null,null,null,null,null,null,null,null,null,null,null,"* No olvide digitar la columna Beneficiarios. ","* Debe registrar el origen de la procedencia solicitado, digite --CEROS-- si NO tiene pacientes derivados de  SAPU, Hospital Baja Complejidad u Otros Establecimientos de la Red. ",null,null,null,0,1,1,0]
["ATENCIÓN POR MATRONA",{"$f":"SUM(C14+D14)","v":0},0,0,null,null,null,null,null,null,null,null,null,null,null,null,null,null,null,null,null,null,null,null,null,null,null,null,null,null,null,null,null,null,null,null,null,null,null,null,null,null,null,null,null,null,null,null,null,null,null,null,null,null,null,null,null,null,null,null,null,null,null,null,null,null,null,null,null,null,null,null,null,null,null,null,null,null,null,null,null,null,null,null,0,0]
["ATENCIÓN POR ODONTÓLOGO",{"$f":"SUM(C15+D15)","v":0},{"$f":"SUM(E15+G15+I15+K15+M15+O15+Q15+S15+U15+W15+Y15+AA15+AC15+AE15+AG15+AI15+AK15)","v":0},0,null,null,null,null,null,null,null,null,null,null,null,null,null,null,null,null,null,null,null,null,null,null,null,null,null,null,null,null,null,null,null,null,null,null,null,null,null,null,null,null,null,null,null,null,null,null,null,null,null,null,null,null,null,null,null,null,null,null,null,null,null,null,null,null,null,null,null,null,null,null,null,null,null,null,null,null,null,null,null,null,0,0,0,0]
["SECCIÓN A.2: ATENCIONES DE URGENCIA REALIZADAS EN SAPU Y SAR"]
["PROFESIONAL","TOTAL        ",null,null,"GRUPOS DE EDAD (en años)",null,null,null,null,null,null,null,null,null,null,null,null,null,null,null,null,null,null,null,null,null,null,null,null,null,null,null,null,null,null,null,null,null,"Beneficiarios","Demanda de Urgencia"]
[null,null,null,null,"0 - 4",null,"5 - 9",null,"10 - 14",null,"15 - 19",null,"20 - 24",null,"25 - 29",null,"30 - 34",null,"35 - 39",null,"40 - 44",null,"45 - 49",null,"50 - 54",null,"55 - 59",null,"60 - 64",null,"65 - 69",null,"70 - 74",null,"75 - 79",null,"80 y mas"]
[null,"Ambos Sexos","Hombres ","Mujeres","Hombres ","Mujeres","Hombres ","Mujeres","Hombres ","Mujeres","Hombres ","Mujeres","Hombres ","Mujeres","Hombres ","Mujeres","Hombres ","Mujeres","Hombres ","Mujeres","Hombres ","Mujeres","Hombres ","Mujeres","Hombres ","Mujeres","Hombres ","Mujeres","Hombres ","Mujeres","Hombres ","Mujeres","Hombres ","Mujeres","Hombres ","Mujeres","Hombres ","Mujeres"]
["MÉDICO",{"$f":"SUM(C20+D20)","v":0},{"$f":"SUM(E20+G20+I20+K20+M20+O20+Q20+S20+U20+W20+Y20+AA20+AC20+AE20+AG20+AI20+AK20)","v":0},0,null,null,null,null,null,null,null,null,null,null,null,null,null,null,null,null,null,null,null,null,null,null,null,null,null,null,null,null,null,null,null,null,null,null,null,null,null,null,null,null,null,null,null,null,null,null,null,null,null,null,null,null,null,null,null,null,null,null,null,null,null,null,null,null,null,null,null,null,null,null,null,null,null,null,null,null,null,null,null,null,0,0]
["ENFERMERA /O",{"$f":"SUM(C21+D21)","v":0},0,0,null,null,null,null,null,null,null,null,null,null,null,null,null,null,null,null,null,null,null,null,null,null,null,null,null,null,null,null,null,null,null,null,null,null,null,null,null,null,null,null,null,null,null,null,null,null,null,null,null,null,null,null,null,null,null,null,null,null,null,null,null,null,null,null,null,null,null,null,null,null,null,null,null,null,null,null,null,null,null,null,0,0]
["MATRONA /ÓN",{"$f":"SUM(C22+D22)","v":0},0,0,null,null,null,null,null,null,null,null,null,null,null,null,null,null,null,null,null,null,null,null,null,null,null,null,null,null,null,null,null,null,null,null,null,null,null,null,null,null,null,null,null,null,null,null,null,null,null,null,null,null,null,null,null,null,null,null,null,null,null,null,null,null,null,null,null,null,null,null,null,null,null,null,null,null,null,null,null,null,null,null,0,0]
["KINESIÓLOGO/ A",{"$f":"SUM(C23+D23)","v":0},0,0,null,null,null,null,null,null,null,null,null,null,null,null,null,null,null,null,null,null,null,null,null,null,null,null,null,null,null,null,null,null,null,null,null,null,null,null,null,null,null,null,null,null,null,null,null,null,null,null,null,null,null,null,null,null,null,null,null,null,null,null,null,null,null,null,null,null,null,null,null,null,null,null,null,null,null,null,null,null,null,null,0,0]
["SECCIÓN A.3: ATENCIONES DE URGENCIA REALIZADAS EN ESTABLECIMIENTOS DE BAJA COMPLEJIDAD"]
["PROFESIONAL","TOTAL        ",null,null,"GRUPOS DE EDAD (en años)",null,null,null,null,null,null,null,null,null,null,null,null,null,null,null,null,null,null,null,null,null,null,null,null,null,null,null,null,null,null,null,null,null,"Beneficiarios","Demanda de Urgencia"]
[null,null,null,null,"0 - 4",null,"5 - 9",null,"10 - 14",null,"15 - 19",null,"20 - 24",null,"25 - 29",null,"30 - 34",null,"35 - 39",null,"40 - 44",null,"45 - 49",null,"50 - 54",null,"55 - 59",null,"60 - 64",null,"65 - 69",null,"70 - 74",null,"75 - 79",null,"80 y mas"]
[null,"Ambos Sexos","Hombres ","Mujeres","Hombres ","Mujeres","Hombres ","Mujeres","Hombres ","Mujeres","Hombres ","Mujeres","Hombres ","Mujeres","Hombres ","Mujeres","Hombres ","Mujeres","Hombres ","Mujeres","Hombres ","Mujeres","Hombres ","Mujeres","Hombres ","Mujeres","Hombres ","Mujeres","Hombres ","Mujeres","Hombres ","Mujeres","Hombres ","Mujeres","Hombres ","Mujeres","Hombres ","Mujeres"]
["MÉDICO",{"$f":"SUM(C28+D28)","v":0},{"$f":"SUM(E28+G28+I28+K28+M28+O28+Q28+S28+U28+W28+Y28+AA28+AC28+AE28+AG28+AI28+AK28)","v":0},0,null,null,null,null,null,null,null,null,null,null,null,null,null,null,null,null,null,null,null,null,null,null,null,null,null,null,null,null,null,null,null,null,null,null,null,null,null,null,null,null,null,null,null,null,null,null,null,null,null,null,null,null,null,null,null,null,null,null,null,null,null,null,null,null,null,null,null,null,null,null,null,null,null,null,null,null,null,null,null,null,0,0]
["ENFERMERA /O",0,0,0,null,null,null,null,null,null,null,null,null,null,null,null,null,null,null,null,null,null,null,null,null,null,null,null,null,null,null,null,null,null,null,null,null,null,null,null,null,null,null,null,null,null,null,null,null,null,null,null,null,null,null,null,null,null,null,null,null,null,null,null,null,null,null,null,null,null,null,null,null,null,null,null,null,null,null,null,null,null,null,null,0,0]
["MATRONA /ÓN",0,0,0,null,null,null,null,null,null,null,null,null,null,null,null,null,null,null,null,null,null,null,null,null,null,null,null,null,null,null,null,null,null,null,null,null,null,null,null,null,null,null,null,null,null,null,null,null,null,null,null,null,null,null,null,null,null,null,null,null,null,null,null,null,null,null,null,null,null,null,null,null,null,null,null,null,null,null,null,null,null,null,null,0,0]
["KINESIÓLOGO/A",0,0,0,null,null,null,null,null,null,null,null,null,null,null,null,null,null,null,null,null,null,null,null,null,null,null,null,null,null,null,null,null,null,null,null,null,null,null,null,null,null,null,null,null,null,null,null,null,null,null,null,null,null,null,null,null,null,null,null,null,null,null,null,null,null,null,null,null,null,null,null,null,null,null,null,null,null,null,null,null,null,null,null,0,0]
["TÉCNICO PARAMÉDICO",0,0,0,null,null,null,null,null,null,null,null,null,null,null,null,null,null,null,null,null,null,null,null,null,null,null,null,null,null,null,null,null,null,null,null,null,null,null,null,null,null,null,null,null,null,null,null,null,null,null,null,null,null,null,null,null,null,null,null,null,null,null,null,null,null,null,null,null,null,null,null,null,null,null,null,null,null,null,null,null,null,null,null,0,0]
["OTROS PROFESIONALES",0,0,0,null,null,null,null,null,null,null,null,null,null,null,null,null,null,null,null,null,null,null,null,null,null,null,null,null,null,null,null,null,null,null,null,null,null,null,null,null,null,null,null,null,null,null,null,null,null,null,null,null,null,null,null,null,null,null,null,null,null,null,null,null,null,null,null,null,null,null,null,null,null,null,null,null,null,null,null,null,null,null,null,0,0]
["SECCIÓN A.4: ATENCIONES DE URGENCIA REALIZADAS EN ESTABLECIMIENTOS  ATENCIÓN PRIMARIA NO SAPU"]
["PROFESIONAL","TOTAL        ",null,null,"GRUPOS DE EDAD (en años)",null,null,null,null,null,null,null,null,null,null,null,null,null,null,null,null,null,null,null,null,null,null,null,null,null,null,null,null,null,null,null,null,null,"Beneficiarios","Demanda de Urgencia"]
[null,null,null,null,"0 - 4",null,"5 - 9",null,"10 - 14",null,"15 - 19",null,"20 - 24",null,"25 - 29",null,"30 - 34",null,"35 - 39",null,"40 - 44",null,"45 - 49",null,"50 - 54",null,"55 - 59",null,"60 - 64",null,"65 - 69",null,"70 - 74",null,"75 - 79",null,"80 y mas"]
[null,"Ambos Sexos","Hombres ","Mujeres","Hombres ","Mujeres","Hombres ","Mujeres","Hombres ","Mujeres","Hombres ","Mujeres","Hombres ","Mujeres","Hombres ","Mujeres","Hombres ","Mujeres","Hombres ","Mujeres","Hombres ","Mujeres","Hombres ","Mujeres","Hombres ","Mujeres","Hombres ","Mujeres","Hombres ","Mujeres","Hombres ","Mujeres","Hombres ","Mujeres","Hombres ","Mujeres","Hombres ","Mujeres"]
["MÉDICO",{"$f":"SUM(C38+D38)","v":0},{"$f":"SUM(E38+G38+I38+K38+M38+O38+Q38+S38+U38+W38+Y38+AA38+AC38+AE38+AG38+AI38+AK38)","v":0},0,null,null,null,null,null,null,null,null,null,null,null,null,null,null,null,null,null,null,null,null,null,null,null,null,null,null,null,null,null,null,null,null,null,null,null,null,null,null,null,null,null,null,null,null,null,null,null,null,null,null,null,null,null,null,null,null,null,null,null,null,null,null,null,null,null,null,null,null,null,null,null,null,null,null,null,null,null,null,null,null,0,0]
["ENFERMERA /O",0,0,0,null,null,null,null,null,null,null,null,null,null,null,null,null,null,null,null,null,null,null,null,null,null,null,null,null,null,null,null,null,null,null,null,null,null,null,null,null,null,null,null,null,null,null,null,null,null,null,null,null,null,null,null,null,null,null,null,null,null,null,null,null,null,null,null,null,null,null,null,null,null,null,null,null,null,null,null,null,null,null,null,0,0]
["MATRONA /ÓN",0,0,0,null,null,null,null,null,null,null,null,null,null,null,null,null,null,null,null,null,null,null,null,null,null,null,null,null,null,null,null,null,null,null,null,null,null,null,null,null,null,null,null,null,null,null,null,null,null,null,null,null,null,null,null,null,null,null,null,null,null,null,null,null,null,null,null,null,null,null,null,null,null,null,null,null,null,null,null,null,null,null,null,0,0]
["KINESIÓLOGO/A",0,0,0,null,null,null,null,null,null,null,null,null,null,null,null,null,null,null,null,null,null,null,null,null,null,null,null,null,null,null,null,null,null,null,null,null,null,null,null,null,null,null,null,null,null,null,null,null,null,null,null,null,null,null,null,null,null,null,null,null,null,null,null,null,null,null,null,null,null,null,null,null,null,null,null,null,null,null,null,null,null,null,null,0,0]
["TÉCNICO PARAMÉDICO",0,0,0,null,null,null,null,null,null,null,null,null,null,null,null,null,null,null,null,null,null,null,null,null,null,null,null,null,null,null,null,null,null,null,null,null,null,null,null,null,null,null,null,null,null,null,null,null,null,null,null,null,null,null,null,null,null,null,null,null,null,null,null,null,null,null,null,null,null,null,null,null,null,null,null,null,null,null,null,null,null,null,null,0,0]
["OTROS PROFESIONALES",0,0,0,null,null,null,null,null,null,null,null,null,null,null,null,null,null,null,null,null,null,null,null,null,null,null,null,null,null,null,null,null,null,null,null,null,null,null,null,null,null,null,null,null,null,null,null,null,null,null,null,null,null,null,null,null,null,null,null,null,null,null,null,null,null,null,null,null,null,null,null,null,null,null,null,null,null,null,null,null,null,null,null,0,0]
["SECCIÓN A.5:  CONSULTAS EN SISTEMA DE ATENCIÓN DE URGENCIA EN CENTROS DE SALUD RURAL (SUR) Y POSTAS RURALES"]
["PROFESIONAL","TOTAL        ",null,null,"GRUPOS DE EDAD (en años)",null,null,null,null,null,null,null,null,null,null,null,null,null,null,null,null,null,null,null,null,null,null,null,null,null,null,null,null,null,null,null,null,null,"Beneficiarios","Demanda de Urgencia"]
[null,null,null,null,"0 - 4",null,"5 - 9",null,"10 - 14",null,"15 - 19",null,"20 - 24",null,"25 - 29",null,"30 - 34",null,"35 - 39",null,"40 - 44",null,"45 - 49",null,"50 - 54",null,"55 - 59",null,"60 - 64",null,"65 - 69",null,"70 - 74",null,"75 - 79",null,"80 y mas"]
[null,"Ambos Sexos","Hombres ","Mujeres","Hombres ","Mujeres","Hombres ","Mujeres","Hombres ","Mujeres","Hombres ","Mujeres","Hombres ","Mujeres","Hombres ","Mujeres","Hombres ","Mujeres","Hombres ","Mujeres","Hombres ","Mujeres","Hombres ","Mujeres","Hombres ","Mujeres","Hombres ","Mujeres","Hombres ","Mujeres","Hombres ","Mujeres","Hombres ","Mujeres","Hombres ","Mujeres","Hombres ","Mujeres"]
["MÉDICO",{"$f":"SUM(C48+D48)","v":0},{"$f":"SUM(E48+G48+I48+K48+M48+O48+Q48+S48+U48+W48+Y48+AA48+AC48+AE48+AG48+AI48+AK48)","v":0},0,null,null,null,null,null,null,null,null,null,null,null,null,null,null,null,null,null,null,null,null,null,null,null,null,null,null,null,null,null,null,null,null,null,null,null,null,null,null,null,null,null,null,null,null,null,null,null,null,null,null,null,null,null,null,null,null,null,null,null,null,null,null,null,null,null,null,null,null,null,null,null,null,null,null,null,null,null,null,null,null,0,0]
["ENFERMERA /O",0,0,0,null,null,null,null,null,null,null,null,null,null,null,null,null,null,null,null,null,null,null,null,null,null,null,null,null,null,null,null,null,null,null,null,null,null,null,null,null,null,null,null,null,null,null,null,null,null,null,null,null,null,null,null,null,null,null,null,null,null,null,null,null,null,null,null,null,null,null,null,null,null,null,null,null,null,null,null,null,null,null,null,0,0]
["MATRONA /ÓN",0,0,0,null,null,null,null,null,null,null,null,null,null,null,null,null,null,null,null,null,null,null,null,null,null,null,null,null,null,null,null,null,null,null,null,null,null,null,null,null,null,null,null,null,null,null,null,null,null,null,null,null,null,null,null,null,null,null,null,null,null,null,null,null,null,null,null,null,null,null,null,null,null,null,null,null,null,null,null,null,null,null,null,0,0]
["KINESIÓLOGO/A",0,0,0,null,null,null,null,null,null,null,null,null,null,null,null,null,null,null,null,null,null,null,null,null,null,null,null,null,null,null,null,null,null,null,null,null,null,null,null,null,null,null,null,null,null,null,null,null,null,null,null,null,null,null,null,null,null,null,null,null,null,null,null,null,null,null,null,null,null,null,null,null,null,null,null,null,null,null,null,null,null,null,null,0,0]
["TÉCNICO PARAMÉDICO",0,0,0,null,null,null,null,null,null,null,null,null,null,null,null,null,null,null,null,null,null,null,null,null,null,null,null,null,null,null,null,null,null,null,null,null,null,null,null,null,null,null,null,null,null,null,null,null,null,null,null,null,null,null,null,null,null,null,null,null,null,null,null,null,null,null,null,null,null,null,null,null,null,null,null,null,null,null,null,null,null,null,null,0,0]
["OTROS PROFESIONALES",0,0,0,null,null,null,null,null,null,null,null,null,null,null,null,null,null,null,null,null,null,null,null,null,null,null,null,null,null,null,null,null,null,null,null,null,null,null,null,null,null,null,null,null,null,null,null,null,null,null,null,null,null,null,null,null,null,null,null,null,null,null,null,null,null,null,null,null,null,null,null,null,null,null,null,null,null,null,null,null,null,null,null,0,0]
["SECCIÓN B: CATEGORIZACIÓN DE PACIENTES, PREVIA A LA ATENCIÓN MÉDICA (Establecimientos Alta, Mediana o Baja Complejidad y SAR)."]
["CATEGORÍAS","TOTAL",null,null,"GRUPOS DE EDAD (en años)",null,null,null,null,null,null,null,null,null,null,null,null,null,null,null,null,null,null,null,null,null,null,null,null,null,null,null,null,null,null,null,null,null,"Herramientas de Categorización"]
[null,null,null,null,"0 - 4",null,"5 - 9",null,"10 - 14",null,"15 - 19",null,"20 - 24",null,"25 - 29",null,"30 - 34",null,"35 - 39",null,"40 - 44",null,"45 - 49",null,"50 - 54",null,"55 - 59",null,"60 - 64",null,"65 - 69",null,"70 - 74",null,"75 - 79",null,"80 y mas"]
[null,"Ambos Sexos","Hombres","Mujeres","Hombres","Mujeres","Hombres","Mujeres","Hombres","Mujeres","Hombres","Mujeres","Hombres","Mujeres","Hombres","Mujeres","Hombres","Mujeres","Hombres","Mujeres","Hombres","Mujeres","Hombres","Mujeres","Hombres","Mujeres","Hombres","Mujeres","Hombres","Mujeres","Hombres","Mujeres","Hombres","Mujeres","Hombres","Mujeres","Hombres","Mujeres","Discrecional","Estructurado (ESI)"]
["C1",{"$f":"SUM(C58+D58)","v":0},{"$f":"SUM(E58+G58+I58+K58+M58+O58+Q58+S58+U58+W58+Y58+AA58+AC58+AE58+AG58+AI58+AK58)","v":0},0,null,null,null,null,null,null,null,null,null,null,null,null,null,null,null,null,null,null,null,null,null,null,null,null,null,null,null,null,null,null,null,null,null,null,null,null,{"$f":"CA58","v":""},null,null,null,null,null,null,null,null,null,null,null,null,null,null,null,null,null,null,null,null,null,null,null,null,null,null,null,null,null,null,null,null,null,null,null,null,null,{"$f":"IF(CG58=1,\"* La suma de las Herramientas de Categorización debe ser igual al total. \",\"\")","v":""},null,null,null,null,null,{"$f":"IF(B58<>(AM58+AN58),1,0)","v":0}]
["C2",0,0,0,null,null,null,null,null,null,null,null,null,null,null,null,null,null,null,null,null,null,null,null,null,null,null,null,null,null,null,null,null,null,null,null,null,null,null,null,{"$f":"CA59","v":""},null,null,null,null,null,null,null,null,null,null,null,null,null,null,null,null,null,null,null,null,null,null,null,null,null,null,null,null,null,null,null,null,null,null,null,null,null,{"$f":"IF(CG59=1,\"* La suma de las Herramientas de Categorización debe ser igual al total. \",\"\")","v":""},null,null,null,null,null,{"$f":"IF(B59<>(AM59+AN59),1,0)","v":0}]
["C3",0,0,0,null,null,null,null,null,null,null,null,null,null,null,null,null,null,null,null,null,null,null,null,null,null,null,null,null,null,null,null,null,null,null,null,null,null,null,null,{"$f":"CA60","v":""},null,null,null,null,null,null,null,null,null,null,null,null,null,null,null,null,null,null,null,null,null,null,null,null,null,null,null,null,null,null,null,null,null,null,null,null,null,{"$f":"IF(CG60=1,\"* La suma de las Herramientas de Categorización debe ser igual al total. \",\"\")","v":""},null,null,null,null,null,{"$f":"IF(B60<>(AM60+AN60),1,0)","v":0}]
["C4",0,0,0,null,null,null,null,null,null,null,null,null,null,null,null,null,null,null,null,null,null,null,null,null,null,null,null,null,null,null,null,null,null,null,null,null,null,null,null,{"$f":"CA61","v":""},null,null,null,null,null,null,null,null,null,null,null,null,null,null,null,null,null,null,null,null,null,null,null,null,null,null,null,null,null,null,null,null,null,null,null,null,null,{"$f":"IF(CG61=1,\"* La suma de las Herramientas de Categorización debe ser igual al total. \",\"\")","v":""},null,null,null,null,null,{"$f":"IF(B61<>(AM61+AN61),1,0)","v":0}]
["C5",0,0,0,null,null,null,null,null,null,null,null,null,null,null,null,null,null,null,null,null,null,null,null,null,null,null,null,null,null,null,null,null,null,null,null,null,null,null,null,{"$f":"CA62","v":""},null,null,null,null,null,null,null,null,null,null,null,null,null,null,null,null,null,null,null,null,null,null,null,null,null,null,null,null,null,null,null,null,null,null,null,null,null,{"$f":"IF(CG62=1,\"* La suma de las Herramientas de Categorización debe ser igual al total. \",\"\")","v":""},null,null,null,null,null,{"$f":"IF(B62<>(AM62+AN62),1,0)","v":0}]
["SIN CATEGORIZACIÓN",0,0,0,null,null,null,null,null,null,null,null,null,null,null,null,null,null,null,null,null,null,null,null,null,null,null,null,null,null,null,null,null,null,null,null,null,null,null,null,null,null,null,null,null,null,null,null,null,null,null,null,null,null,null,null,null,null,null,null,null,null,null,null,null,null,null,null,null,null,null,null,null,null,null,null,null,null,null,null,null,null,null,null,0]
["TOTAL",{"$f":"SUM(B58:B63)","v":0},0,0,0,0,0,0,0,0,0,0,0,0,0,0,0,0,0,0,0,0,0,0,0,0,0,0,0,0,0,0,0,0,0,0,0,0,{"$f":"SUM(AM58:AM62)","v":0},{"$f":"SUM(AN58:AN62)","v":0}]
["SECCIÓN C: ATENCIONES REALIZADAS POR MÉDICOS ESPECIALISTAS EN LAS UNIDADES DE URGENCIA HOSPITALARIA"]
["ESPECIALIDADES","TOTAL        ","DE TURNO","CONSULTOR LLAMADA","OTROS",null,null,null,null,null,null,null,null," "]
["MEDICINA INTERNA",{"$f":"SUM(C67:E67)","v":0}]
["NEUROLOGÍA ADULTOS",0]
["NEUROLOGÍA PEDIÁTRICA",0]
["OBSTETRICIA Y GINECOLOGÍA",0]
["OFTALMOLOGÍA",0]
["OTORRINOLARINGOLOGÍA",0]
["PEDIATRÍA",0]
["TRAUMATOLOGÍA Y ORTOPEDIA",0]
["NEUROCIRUGÍA",0]
["PSIQUIATRÍA ADULTOS",0]
["PSIQUIATRÍA PEDIÁTRICA  Y ADOLESCENTES",0]
["UROLOGÍA",0]
["URGENCIÓLOGO",0]
["CIRUGÍA VASCULAR PERIFÉRICA",0]
["CIRUGÍA GENERAL",0]
["CIRUGÍA PEDIÁTRICA",0]
["CARDIOLOGÍA",0]
["ANESTESIOLOGÍA",0]
["CIRUGÍA DE CABEZA, CUELLO Y MAXILOFACIAL",0]
["TOTAL",{"$f":"SUM(B67:B85)","v":0},{"$f":"SUM(C67:C85)","v":0},{"$f":"SUM(D67:D85)","v":0},{"$f":"SUM(E67:E85)","v":0}]
["SECCIÓN D: PACIENTES CON INDICACIÓN DE HOSPITALIZACIÓN EN ESPERA DE CAMAS EN UEH"]
["TIPO DE PACIENTES",null,"TOTAL        ",null,null,"GRUPOS DE EDAD (en años)",null,null,null,null,null,null,null,null,null,null,null,null,null,null,null,null,null,null,null,null,null,null,null,null,null,null,null,null,null,null,null,null,null,"Beneficiarios","Hospitalización Domiciliaria"]
[null,null,null,null,null,"0 - 4",null,"5 - 9",null,"10 - 14",null,"15 - 19",null,"20 - 24",null,"25 - 29",null,"30 - 34",null,"35 - 39",null,"40 - 44",null,"45 - 49",null,"50 - 54",null,"55 - 59",null,"60 - 64",null,"65 - 69",null,"70 - 74",null,"75 - 79",null,"80 y mas"]
[null,null,"Ambos Sexos","Hombres ","Mujeres","Hombres ","Mujeres","Hombres ","Mujeres","Hombres ","Mujeres","Hombres ","Mujeres","Hombres ","Mujeres","Hombres ","Mujeres","Hombres ","Mujeres","Hombres ","Mujeres","Hombres ","Mujeres","Hombres ","Mujeres","Hombres ","Mujeres","Hombres ","Mujeres","Hombres ","Mujeres","Hombres ","Mujeres","Hombres ","Mujeres","Hombres ","Mujeres","Hombres ","Mujeres"]
["TOTAL DE PACIENTES CON INDICACIÓN DE HOSPITALIZACIÓN",null,{"$f":"SUM(C92:C98)","v":0},{"$f":"SUM(D92:D98)","v":0},{"$f":"SUM(E92:E98)","v":0},0,0,0,0,0,0,0,0,0,0,0,0,0,0,0,0,0,0,0,0,0,0,0,0,0,0,0,0,0,0,0,0,0,0,0,{"$f":"SUM(AO92:AO94)","v":0},null,null,null,null,null,null,null,null,null,null,null,null,null,null,null,null,null,null,null,null,null,null,null,null,null,null,null,null,null,null,null,null,null,null,null,null,null,null,null,null,null,null,null,0,0]
["PACIENTES QUE INGRESAN A CAMA HOSPITALARIA SEGÚN TIEMPO DE DEMORA AL INGRESO                               ","MENOS DE 12 HORAS",{"$f":"SUM(D92+E92)","v":0},{"$f":"SUM(F92+H92+J92+L92+N92+P92+R92+T92+V92+X92+Z92+AB92+AD92+AF92+AH92+AJ92+AL92)","v":0},{"$f":"SUM(G92+I92+K92+M92+O92+Q92+S92+U92+W92+Y92+AA92+AC92+AE92+AG92+AI92+AK92+AM92)","v":0},null,null,null,null,null,null,null,null,null,null,null,null,null,null,null,null,null,null,null,null,null,null,null,null,null,null,null,null,null,null,null,null,null,null,null,null,null,null,null,null,null,null,null,null,null,null,null,null,null,null,null,null,null,null,null,null,null,null,null,null,null,null,null,null,null,null,null,null,null,null,null,null,null,null,null,null,null,null,null,0,0,0,0]
[null,"12-24 HORAS",0,{"$f":"SUM(F93+H93+J93+L93+N93+P93+R93+T93+V93+X93+Z93+AB93+AD93+AF93+AH93+AJ93+AL93)","v":0},{"$f":"SUM(G93+I93+K93+M93+O93+Q93+S93+U93+W93+Y93+AA93+AC93+AE93+AG93+AI93+AK93+AM93)","v":0},null,null,null,null,null,null,null,null,null,null,null,null,null,null,null,null,null,null,null,null,null,null,null,null,null,null,null,null,null,null,null,null,null,null,null,null,null,null,null,null,null,null,null,null,null,null,null,null,null,null,null,null,null,null,null,null,null,null,null,null,null,null,null,null,null,null,null,null,null,null,null,null,null,null,null,null,null,null,null,0,0,0,0]
[null,"MAYOR A 24 HORAS",0,0,0,null,null,null,null,null,null,null,null,null,null,null,null,null,null,null,null,null,null,null,null,null,null,null,null,null,null,null,null,null,null,null,null,null,null,null,null,null,null,null,null,null,null,null,null,null,null,null,null,null,null,null,null,null,null,null,null,null,null,null,null,null,null,null,null,null,null,null,null,null,null,null,null,null,null,null,null,null,null,null,0,0,0,0]
["PACIENTES QUE RECHAZAN HOSPITALIZACIÓN ",null,0,0,0,null,null,null,null,null,null,null,null,null,null,null,null,null,null,null,null,null,null,null,null,null,null,null,null,null,null,null,null,null,null,null,null,null,null,null,null,null,null,null,null,null,null,null,null,null,null,null,null,null,null,null,null,null,null,null,null,null,null,null,null,null,null,null,null,null,null,null,null,null,null,null,null,null,null,null,null,null,null,null,0,0]
["PACIENTES DERIVADOS  A OTRO ESTABLECIMIENTO",null,0,0,0,null,null,null,null,null,null,null,null,null,null,null,null,null,null,null,null,null,null,null,null,null,null,null,null,null,null,null,null,null,null,null,null,null,null,null,null,null,null,null,null,null,null,null,null,null,null,null,null,null,null,null,null,null,null,null,null,null,null,null,null,null,null,null,null,null,null,null,null,null,null,null,null,null,{"$f":"IF(C96=0,\"\",IF(AN96=\"\",IF(C96=\"\",\"\",\"* No olvide digitar la columna Beneficiarios. \"),\"\"))","v":""},{"$f":"IF(C96<AN96,\"* El número de Beneficiarios NO DEBE ser mayor que el total. \",\"\")","v":""},null,null,null,null,{"$f":"IF(C96<AN96,1,0)","v":0},{"$f":"IF(C96=0,\"\",IF(AN96=\"\",IF(C96=\"\",\"\",1),0))","v":""}]
["PACIENTES QUE PERMANECEN EN UEH",null,0,0,0,null,null,null,null,null,null,null,null,null,null,null,null,null,null,null,null,null,null,null,null,null,null,null,null,null,null,null,null,null,null,null,null,null,null,null,null,null,null,null,null,null,null,null,null,null,null,null,null,null,null,null,null,null,null,null,null,null,null,null,null,null,null,null,null,null,null,null,null,null,null,null,null,null,{"$f":"IF(C97=0,\"\",IF(AN97=\"\",IF(C97=\"\",\"\",\"* No olvide digitar la columna Beneficiarios. \"),\"\"))","v":""},{"$f":"IF(C97<AN97,\"* El número de Beneficiarios NO DEBE ser mayor que el total. \",\"\")","v":""},null,null,null,null,{"$f":"IF(C97<AN97,1,0)","v":0},{"$f":"IF(C97=0,\"\",IF(AN97=\"\",IF(C97=\"\",\"\",1),0))","v":""}]
["PACIENTES QUE INGRESAN DIRECTAMENTE A PROCESO QUIRÚRGICO",null,0,0,0,null,null,null,null,null,null,null,null,null,null,null,null,null,null,null,null,null,null,null,null,null,null,null,null,null,null,null,null,null,null,null,null,null,null,null,null,null,null,null,null,null,null,null,null,null,null,null,null,null,null,null,null,null,null,null,null,null,null,null,null,null,null,null,null,null,null,null,null,null,null,null,null,null,{"$f":"IF(C98=0,\"\",IF(AN98=\"\",IF(C98=\"\",\"\",\"* No olvide digitar la columna Beneficiarios. \"),\"\"))","v":""},{"$f":"IF(C98<AN98,\"* El número de Beneficiarios NO DEBE ser mayor que el total. \",\"\")","v":""},null,null,null,null,{"$f":"IF(C98<AN98,1,0)","v":0},{"$f":"IF(C98=0,\"\",IF(AN98=\"\",IF(C98=\"\",\"\",1),0))","v":""}]
["SECCIÓN E: PACIENTES CON INDICACIÓN DE OBSERVACIÓN EN SAR"]
["PACIENTES CON INDICACIÓN DE OBSERVACIÓN",null,null,"TOTAL"]
["PACIENTES QUE PERMANECEN EN OBSERVACIÓN     ",null,"MENOS DE 2 HORAS"]
[null,null,"2 A 6 HORAS"]
[null,null,"MAYOR A 6 HORAS"]
["SECCIÓN F: PACIENTES FALLECIDOS EN UEH (Establecimientos Alta, Mediana o Baja Complejidad, SAR, SAPU y SUR) "]
["TIPO DE PACIENTES",null,"TOTAL        ",null,null,"GRUPOS DE EDAD (en años)",null,null,null,null,null,null,null,null,null,null,null,null,null,null,null,null,null,null,null,null,null,null,null,null,null,null,null,null,null,null,null,null,null,"Beneficiarios"]
[null,null,null,null,null,"0 - 4",null,"5 - 9",null,"10 - 14",null,"15 - 19",null,"20 - 24",null,"25 - 29",null,"30 - 34",null,"35 - 39",null,"40 - 44",null,"45 - 49",null,"50 - 54",null,"55 - 59",null,"60 - 64",null,"65 - 69",null,"70 - 74",null,"75 - 79",null,"80 y mas"]
[null,null,"Ambos Sexos","Hombres ","Mujeres","Hombres ","Mujeres","Hombres ","Mujeres","Hombres ","Mujeres","Hombres ","Mujeres","Hombres ","Mujeres","Hombres ","Mujeres","Hombres ","Mujeres","Hombres ","Mujeres","Hombres ","Mujeres","Hombres ","Mujeres","Hombres ","Mujeres","Hombres ","Mujeres","Hombres ","Mujeres","Hombres ","Mujeres","Hombres ","Mujeres","Hombres ","Mujeres","Hombres ","Mujeres"]
["PACIENTES FALLECIDOS EN ESPERA DE ATENCIÓN MÉDICA",null,{"$f":"SUM(D108+E108)","v":0},{"$f":"SUM(F108+H108+J108+L108+N108+P108+R108+T108+V108+X108+Z108+AB108+AD108+AF108+AH108+AJ108+AL108)","v":0},0,null,null,null,null,null,null,null,null,null,null,null,null,null,null,null,null,null,null,null,null,null,null,null,null,null,null,null,null,null,null,null,null,null,null,null,null,null,null,null,null,null,null,null,null,null,null,null,null,null,null,null,null,null,null,null,null,null,null,null,null,null,null,null,null,null,null,null,null,null,null,null,null,null,null,null,null,null,null,null,0,0]
["PACIENTES FALLECIDOS EN PROCESO DE ATENCIÓN",null,{"$f":"SUM(D109+E109)","v":0},0,0,null,null,null,null,null,null,null,null,null,null,null,null,null,null,null,null,null,null,null,null,null,null,null,null,null,null,null,null,null,null,null,null,null,null,null,null,null,null,null,null,null,null,null,null,null,null,null,null,null,null,null,null,null,null,null,null,null,null,null,null,null,null,null,null,null,null,null,null,null,null,null,null,null,{"$f":"IF(C109=0,\"\",IF(AN109=\"\",IF(C109=\"\",\"\",\"* No olvide digitar la columna Beneficiarios. \"),\"\"))","v":""},{"$f":"IF(C109<AN109,\"* El número de Beneficiarios NO DEBE ser mayor que el total. \",\"\")","v":""},null,null,null,null,{"$f":"IF(C109<AN109,1,0)","v":0},{"$f":"IF(C109=0,\"\",IF(AN109=\"\",IF(C109=\"\",\"\",1),0))","v":""}]
["PACIENTES FALLECIDOS EN ESPERA DE CAMA HOSPITALARIA ",null,{"$f":"SUM(D110+E110)","v":0},0,0,null,null,null,null,null,null,null,null,null,null,null,null,null,null,null,null,null,null,null,null,null,null,null,null,null,null,null,null,null,null,null,null,null,null,null,null,null,null,null,null,null,null,null,null,null,null,null,null,null,null,null,null,null,null,null,null,null,null,null,null,null,null,null,null,null,null,null,null,null,null,null,null,null,{"$f":"IF(C110=0,\"\",IF(AN110=\"\",IF(C110=\"\",\"\",\"* No olvide digitar la columna Beneficiarios. \"),\"\"))","v":""},{"$f":"IF(C110<AN110,\"* El número de Beneficiarios NO DEBE ser mayor que el total. \",\"\")","v":""},null,null,null,null,{"$f":"IF(C110<AN110,1,0)","v":0},{"$f":"IF(C110=0,\"\",IF(AN110=\"\",IF(C110=\"\",\"\",1),0))","v":""}]
["SECCIÓN G: ATENCIONES MÉDICAS ASOCIADAS A  VIOLENCIA"]
["CONCEPTO",null,"TOTAL",null,null,"0 - 9",null,"10-17",null,"18 - 24",null,"25-34",null,"35-44",null,"45-54",null,"55-64",null,"65 -74",null,"75 años y más",null,"Embarazadas","AGRESOR /A",null,null,null,"Total",null,"LESIONES DE LA VÍCTIMA",null,null,null,"Sin lesiones constatables"]
[null,null,"Ambos Sexos","Hombres","Mujeres","Hombres ","Mujeres","Hombres ","Mujeres","Hombres ","Mujeres","Hombres ","Mujeres","Hombres ","Mujeres","Hombres ","Mujeres","Hombres ","Mujeres","Hombres ","Mujeres","Hombres ","Mujeres",null,"Pareja/ Ex pareja","Familiar","Conocido/a","Desconocido/a","Hombre","Mujer","Trau-\nmatológicas","Odonto-\nlógicas","Contusio-nales","Por Arma"]
["VIOLENCIA INTRAFAMILIAR",null,{"$f":"SUM(D114+E114)","v":0},{"$f":"SUM(F114+H114+J114+L114+N114+P114+R114+T114+V114)","v":0},{"$f":"SUM(G114+I114+K114+M114+O114+Q114+S114+U114+W114)","v":0},null,null,null,null,null,null,null,null,null,null,null,null,null,null,null,null,null,null,null,null,null,null,null,null,null,null,null,null,null,null,null,null,null,null,null,null,null,null,null,null,null,null,null,null,null,null,null,null,null,null,null,null,null,null,null,null,null,null,null,null,null,null,null,null,null,null,null,null,null,null,null,null,null,null,null,null,null,null,null,0,0,0]
["OTRAS VIOLENCIAS ",null,{"$f":"SUM(D115+E115)","v":0},{"$f":"SUM(F115+H115+J115+L115+N115+P115+R115+T115+V115)","v":0},{"$f":"SUM(G115+I115+K115+M115+O115+Q115+S115+U115+W115)","v":0},null,null,null,null,null,null,null,null,null,null,null,null,null,null,null,null,null,null,null,null,null,null,null,null,null,null,null,null,null,null,null,null,null,null,null,null,null,null,null,null,null,null,null,null,null,null,null,null,null,null,null,null,null,null,null,null,null,null,null,null,null,null,null,null,null,null,null,null,null,null,null,null,null,null,null,null,null,null,null,0,0,0]
["SECCIÓN H: ATENCIONES  POR ANTICONCEPCIÓN DE EMERGENCIA "]
["CONCEPTO",null,"TOTAL","GRUPOS DE EDAD (en años)",null,null,null,null,null,"Beneficiarios"]
[null,null,null,"10 - 14","15 - 19","20 - 24","25 - 34","35 - 44","45 - 54"]
["ATENCIÓN POR ANTICONCEPCIÓN DE EMERGENCIA ","CON ENTREGA DE ANTICONCEPTIVO",{"$f":"SUM(D119:I119)","v":0},null,null,null,null,null,null,null,null,null,null,null,null,null,null,null,null,null,null,null,null,null,null,null,null,null,null,null,null,null,null,null,null,null,null,null,null,null,null,null,null,null,null,null,null,null,null,null,null,null,null,null,null,null,null,null,null,null,null,null,null,null,null,null,null,null,null,null,null,null,null,null,null,null,null,null,null,null,null,null,null,null,null,0,0]
[null,"SIN ENTREGA DE ANTICONCEPTIVO",{"$f":"SUM(D120:I120)","v":0},null,null,null,null,null,null,null,null,null,null,null,null,null,null,null,null,null,null,null,null,null,null,null,null,null,null,null,null,null,null,null,null,null,null,null,null,null,null,null,null,null,null,null,null,null,null,null,null,null,null,null,null,null,null,null,null,null,null,null,null,null,null,null,null,null,null,null,null,null,null,null,null,null,null,null,null,null,null,null,null,null,null,0,0]
["SECCIÓN I: MOTIVOS DE ATENCIÓN POR EMERGENCIA OBSTÉTRICA AL SERVICIO DE  URGENCIA  (Establecimientos Alta y Mediana Complejidad)."]
["PATOLOGÍA","CANTIDAD"]
[]
["PREECLAMPSIA SEVERA"]
["ECLAMPSIA"]
["SÍNDROME HIPERTENSIVO DEL EMBARAZO (SHE)"]
["RETARDO CRECIMIENTO INTRAUTERINO (RCIU)"]
["HELLP"]
["PARTO PREMATURO"]
["HEMORRAGIA I TRIMESTRE"]
["HEMORRAGIA II TRIMESTRE"]
["HEMORRAGIA III TRIMESTRE"]
["ROTURA PREMATURA DE MEMBRANA"]
["OTRAS PATOLOGÍAS"]
["TRABAJO DE PARTO SIN PATOLOGÍA"]
["TOTAL",{"$f":"SUM(B124:B135)","v":0}]
["SECCIÓN J: LLAMADOS DE URGENCIA A CENTRO REGULADOR"]
["TIPO DE ACCIÓN",null,null,null,"TOTAL DE LLAMADAS","LLAMADAS VALIDAS"]
["CENTRO REGULADOR","Nº LLAMADOS DE URGENCIA",null,null,null,null,{"$f":"CA139","v":""},null,null,null,null,null,null,null,null,null,null,null,null,null,null,null,null,null,null,null,null,null,null,null,null,null,null,null,null,null,null,null,null,null,null,null,null,null,null,null,null,null,null,null,null,null,null,null,null,null,null,null,null,null,null,null,null,null,null,null,null,null,null,null,null,null,null,null,null,null,null,null,{"$f":"IF(E139<F139,\"* El número de llamadas válidas NO DEBE ser mayor al total de llamadas.\",\"\")","v":""},null,null,null,null,null,{"$f":"IF(E139<F139,1,0)","v":0}]
["SECCIÓN K: INTERVENCIONES PRE HOSPITALARIAS (SAMU)"]
["TIPO DE ACCIÓN",null,null,"N° INTERVENCIONES",null,null,"Beneficiarios","TIEMPO DE LLEGADA INTERVENCIONES CRITICAS",null,null,"TIEMPO DE LLEGADA INTERVENCIONES NO CRITICAS"]
[null,null,null,"TOTAL","Criticas","No Criticas",null,"0-20 Min","20-40 Min","Mas de 40 Min","0-20 Min","20-40 Min","Mas de 40 Min"]
["INTERVENCIONES CLÍNICAS PRE HOSPITALARIAS","INTERVENCIÓN DE MÓVIL BÁSICO",null,{"$f":"SUM(E143+F143)","v":0},null,null,null,null,null,null,null,null,null,null,null,null,null,null,null,null,null,null,null,null,null,null,null,null,null,null,null,null,null,null,null,null,null,null,null,null,null,null,null,null,null,null,null,null,null,null,null,null,null,null,null,null,null,null,null,null,null,null,null,null,null,null,null,null,null,null,null,null,null,null,null,null,null,null,null,null,null,null,null,null,null,null,0]
[null,"INTERVENCIÓN DE MÓVIL AVANZADO",null,{"$f":"SUM(E144+F144)","v":0},null,null,null,null,null,null,null,null,null,null,null,null,null,null,null,null,null,null,null,null,null,null,null,null,null,null,null,null,null,null,null,null,null,null,null,null,null,null,null,null,null,null,null,null,null,null,null,null,null,null,null,null,null,null,null,null,null,null,null,null,null,null,null,null,null,null,null,null,null,null,null,null,null,null,null,null,null,null,null,null,null,null,0]
["SECCIÓN L: TRASLADOS PRIMARIOS A UNIDADES DE URGENCIA (Desde el lugar del evento a unidad de Emergencia)"]
["TIPO",null,"TOTAL        ","BENEFICIARIOS","POR COMPRA \nDE SERVICIO","OTROS"]
["SAMU","BÁSICO",null,null,null,null,null,null,null,null,null,null,null,null,null,null,null,null,null,null,null,null,null,null,null,null,null,null,null,null,null,null,null,null,null,null,null,null,null,null,null,null,null,null,null,null,null,null,null,null,null,null,null,null,null,null,null,null,null,null,null,null,null,null,null,null,null,null,null,null,null,null,null,null,null,null,null,null,null,null,null,null,null,null,0]
[null,"AVANZADO",null,null,null,null,null,null,null,null,null,null,null,null,null,null,null,null,null,null,null,null,null,null,null,null,null,null,null,null,null,null,null,null,null,null,null,null,null,null,null,null,null,null,null,null,null,null,null,null,null,null,null,null,null,null,null,null,null,null,null,null,null,null,null,null,null,null,null,null,null,null,null,null,null,null,null,null,null,null,null,null,null,null,0]
["ENRUTADO","BÁSICO",null,null,null,null,null,null,null,null,null,null,null,null,null,null,null,null,null,null,null,null,null,null,null,null,null,null,null,null,null,null,null,null,null,null,null,null,null,null,null,null,null,null,null,null,null,null,null,null,null,null,null,null,null,null,null,null,null,null,null,null,null,null,null,null,null,null,null,null,null,null,null,null,null,null,null,null,null,null,null,null,null,null,0]
["NO SAMU","TERRESTRE",null,null,null,null,null,null,null,null,null,null,null,null,null,null,null,null,null,null,null,null,null,null,null,null,null,null,null,null,null,null,null,null,null,null,null,null,null,null,null,null,null,null,null,null,null,null,null,null,null,null,null,null,null,null,null,null,null,null,null,null,null,null,null,null,null,null,null,null,null,null,null,null,null,null,null,null,null,null,null,null,null,null,0]
[null,"MARÍTIMO",null,null,null,null,null,null,null,null,null,null,null,null,null,null,null,null,null,null,null,null,null,null,null,null,null,null,null,null,null,null,null,null,null,null,null,null,null,null,null,null,null,null,null,null,null,null,null,null,null,null,null,null,null,null,null,null,null,null,null,null,null,null,null,null,null,null,null,null,null,null,null,null,null,null,null,null,null,null,null,null,null,null,0]
[null,"AÉREO",null,null,null,null,null,null,null,null,null,null,null,null,null,null,null,null,null,null,null,null,null,null,null,null,null,null,null,null,null,null,null,null,null,null,null,null,null,null,null,null,null,null,null,null,null,null,null,null,null,null,null,null,null,null,null,null,null,null,null,null,null,null,null,null,null,null,null,null,null,null,null,null,null,null,null,null,null,null,null,null,null,null,0]
["SECCIÓN M: TRASLADO SECUNDARIO (Desde un Establecimiento a Otro)"]
["TIPO DE ACCIÓN",null,null,"TOTAL DE TRASLADOS",null,null,"BENEFICIARIOS","COMPRA DE SERVICIO","OTROS"]
[null,null,null,"Ambos","SAMU","NO SAMU"]
["CRÍTICO","AÉREO",null,{"$f":"SUM(E156:F156)","v":0},null,null,null,null,null,null,null,null,null,null,null,null,null,null,null,null,null,null,null,null,null,null,null,null,null,null,null,null,null,null,null,null,null,null,null,null,null,null,null,null,null,null,null,null,null,null,null,null,null,null,null,null,null,null,null,null,null,null,null,null,null,null,null,null,null,null,null,null,null,null,null,null,null,null,null,null,null,null,null,null,0]
[null,"TERRESTRE",null,0,null,null,null,null,null,null,null,null,null,null,null,null,null,null,null,null,null,null,null,null,null,null,null,null,null,null,null,null,null,null,null,null,null,null,null,null,null,null,null,null,null,null,null,null,null,null,null,null,null,null,null,null,null,null,null,null,null,null,null,null,null,null,null,null,null,null,null,null,null,null,null,null,null,null,null,null,null,null,null,null,0]
[null,"MARÍTIMO",null,0,null,null,null,null,null,null,null,null,null,null,null,null,null,null,null,null,null,null,null,null,null,null,null,null,null,null,null,null,null,null,null,null,null,null,null,null,null,null,null,null,null,null,null,null,null,null,null,null,null,null,null,null,null,null,null,null,null,null,null,null,null,null,null,null,null,null,null,null,null,null,null,null,null,null,null,null,null,null,null,null,0]
["NO CRÍTICO","AÉREO",null,0,null,null,null,null,null,null,null,null,null,null,null,null,null,null,null,null,null,null,null,null,null,null,null,null,null,null,null,null,null,null,null,null,null,null,null,null,null,null,null,null,null,null,null,null,null,null,null,null,null,null,null,null,null,null,null,null,null,null,null,null,null,null,null,null,null,null,null,null,null,null,null,null,null,null,null,null,null,null,null,null,0]
[null,"TERRESTRE",null,0,null,null,null,null,null,null,null,null,null,null,null,null,null,null,null,null,null,null,null,null,null,null,null,null,null,null,null,null,null,null,null,null,null,null,null,null,null,null,null,null,null,null,null,null,null,null,null,null,null,null,null,null,null,null,null,null,null,null,null,null,null,null,null,null,null,null,null,null,null,null,null,null,null,null,null,null,null,null,null,null,0]
[null,"MARÍTIMO",null,0,null,null,null,null,null,null,null,null,null,null,null,null,null,null,null,null,null,null,null,null,null,null,null,null,null,null,null,null,null,null,null,null,null,null,null,null,null,null,null,null,null,null,null,null,null,null,null,null,null,null,null,null,null,null,null,null,null,null,null,null,null,null,null,null,null,null,null,null,null,null,null,null,null,null,null,null,null,null,null,null,0]
["SECCIÓN N: CLASIFICACIÓN DE LAS INTERVENCIONES POR GRANDES GRUPOS DE DIAGNÓSTICOS (SAMU)"]
["CAUSAS DE LA INTERVENCIÓN",null,"TOTALES",null,null,"GRUPOS DE EDAD (en años)"]
[null,null,null,null,null,"0 - 4",null,"5 - 9",null,"10 - 14",null,"15 - 19",null,"20 - 24",null,"25 - 29",null,"30 - 34",null,"35 - 39",null,"40 - 44",null,"45 - 49",null,"50 - 54",null,"55 - 59",null,"60 - 64",null,"65 - 69",null,"70 - 74",null,"75 - 79",null,"80 y mas"]
[null,null,"Ambos Sexos","Hombres","Mujeres","Hombres ","Mujeres","Hombres ","Mujeres","Hombres ","Mujeres","Hombres ","Mujeres","Hombres ","Mujeres","Hombres ","Mujeres","Hombres ","Mujeres","Hombres ","Mujeres","Hombres ","Mujeres","Hombres ","Mujeres","Hombres ","Mujeres","Hombres ","Mujeres","Hombres ","Mujeres","Hombres ","Mujeres","Hombres ","Mujeres","Hombres ","Mujeres","Hombres ","Mujeres"]
["SÍNDROME CORONARIO AGUDO",null,{"$f":"SUM(D166+E166)","v":0},{"$f":"SUM(P166+R166+T166+V166+X166+Z166+AB166+AD166+AF166+AH166+AJ166+AL166)","v":0},{"$f":"SUM(Q166+S166+U166+W166+Y166+AA166+AC166+AE166+AG166+AI166+AK166+AM166)","v":0}]
["PARO CARDIORESPIRATORIO",null,{"$f":"SUM(D167+E167)","v":0},{"$f":"SUM(F167+H167+J167+L167+N167+P167+R167+T167+V167+X167+Z167+AB167+AD167+AF167+AH167+AJ167+AL167)","v":0},0]
["POLITRAUMATISMO",null,{"$f":"SUM(D168+E168)","v":0},0,0]
["OTROS",null,{"$f":"SUM(D169+E169)","v":0},0,0]
["SECCIÓN O: ATENCIONES  EN URGENCIA POR VIOLENCIA SEXUAL  "]
["CONCEPTO",null,"TOTAL",null,null,"GRUPOS DE EDAD (en años)  Y CONDICIÓN\n \n",null,null,null,null,null,null,null,null,null,null,null,null,null,null,null,"Gestantes","Con entrega de anticoncepción de emergencia","Sin entrega de anticoncepción de emergencia","Con profilaxis VIH ","Con profilaxis ITS","Con profilaxis Hepatitis B","VICTIMARIO/A",null,null,null,"Total"]
[null,null,null,null,null,"0 - 4",null,"5 - 9",null,"10 - 14",null,"15 - 17",null,"18 - 24",null,"25 - 44",null,"45-64",null,"65 años y más",null,null,null,null,null,null,null,"Pareja/ Ex pareja","Familiar","Conocido/a","Desconocido/a","Hombre","Mujer"]
[null,null,"Ambos Sexos","Hombres ","Mujeres","Hombres ","Mujeres","Hombres ","Mujeres","Hombres ","Mujeres","Hombres ","Mujeres","Hombres ","Mujeres","Hombres ","Mujeres","Hombres ","Mujeres","Hombres ","Mujeres"]
["VIOLENCIA SEXUAL","72 horas o menos",{"$f":"SUM(D174:E174)","v":0},{"$f":"SUM(F174+H174+J174+L174+N174+P174+R174+T174)","v":0},{"$f":"G174+I174+K174+M174+O174+Q174+S174+U174","v":0},null,null,null,null,null,null,null,null,null,null,null,null,null,null,null,null,null,null,null,null,null,null,null,null,null,null,null,null,null,null,null,null,null,null,null,null,null,null,null,null,null,null,null,null,null,null,null,null,null,null,null,null,null,null,null,null,null,null,null,null,null,null,null,null,null,null,null,null,null,null,null,null,null,null,null,null,null,null,null,0,0,0,0]
[null,"después de 72 horas",{"$f":"SUM(D175:E175)","v":0},{"$f":"SUM(F175+H175+J175+L175+N175+P175+R175+T175)","v":0},{"$f":"G175+I175+K175+M175+O175+Q175+S175+U175","v":0},null,null,null,null,null,null,null,null,null,null,null,null,null,null,null,null,null,null,null,null,null,null,null,null,null,null,null,null,null,null,null,null,null,null,null,null,null,null,null,null,null,null,null,null,null,null,null,null,null,null,null,null,null,null,null,null,null,null,null,null,null,null,null,null,null,null,null,null,null,null,null,null,null,null,null,null,null,null,null,0,0,0,0]
["SECCIÓN P: ATENCIONES MÉDICAS POR VIOLENCIA SEXUAL CON REALIZACIÓN O INDICACIÓN DE PERITAJE "]
["TIPO DE ATENCIÓN","TOTAL","DE TURNO","DE LLAMADA"]
[]
["ATENCIÓN POR  MÉDICO PERITO",{"$f":"SUM(C179:D179)","v":0}]
["ATENCIÓN OTROS MÉDICOS",{"$f":"SUM(C180)","v":0}]
["SECCIÓN Q: ATENCIONES DE URGENCIA ASOCIADAS A LESIONES AUTOINFLIGIDAS"]
["CONCEPTO","TOTAL",null,null,"GRUPOS DE EDAD (en años)"]
[null,null,null,null,"0 - 9",null,"10 - 19",null,"20 - 24",null,"25-44",null,"45-54",null,"55-64",null,"65-74",null,"75-84",null,"85 y más"]
[null,"Ambos Sexos","Hombres","Mujeres","Hombres ","Mujeres","Hombres ","Mujeres","Hombres ","Mujeres","Hombres ","Mujeres","Hombres ","Mujeres","Hombres ","Mujeres","Hombres ","Mujeres","Hombres ","Mujeres","Hombres ","Mujeres"]
["Nº DE ATENCIONES ",{"$f":"SUM(C185+D185)","v":0},{"$f":"SUM(E185+G185+I185+K185+M185+O185+Q185+S185+U185)","v":0},{"$f":"SUM(F185+H185+J185+L185+N185+P185+R185+T185+V185)","v":0}]
["SECCIÓN R: ATENCIONES POR MORDEDURA EN SERVICIO DE  URGENCIA DE LA RED"]
["IDENTIFICACIÓN DEL ANIMAL MORDEDOR","TOTAL",null,null,"GRUPOS DE EDAD (en años)",null,null,null,null,null,null,null,"TIPO DE MORDEDURA",null,"INDICACIÓN  DE VACUNA  "]
[null,null,null,null,"0 - 4",null,"5 - 9",null,"10 - 14",null,"Mayor 15 años"]
[null,"Ambos Sexos","Hombres","Mujeres","Hombres ","Mujeres","Hombres ","Mujeres","Hombres ","Mujeres","Hombres ","Mujeres","Única","Múltiple"]
[null,{"$f":"+C190+D190","v":0},{"$f":"+E190+G190+I190+K190","v":0},0,{"$f":"SUM(E191:E195)","v":0},0,0,0,0,0,0,0,0,0,0]
["PERRO",0,0,0,null,null,null,null,null,null,null,null,null,null,null,null,null,null,null,null,null,null,null,null,null,null,null,null,null,null,null,null,null,null,null,null,null,null,null,null,null,null,null,null,null,null,null,null,null,null,null,null,null,null,null,null,null,null,null,null,null,null,null,null,null,null,null,null,null,null,null,null,null,null,null,null,null,null,null,null,null,null,null,null,0,0]
["GATO",0,0,0,null,null,null,null,null,null,null,null,null,null,null,null,null,null,null,null,null,null,null,null,null,null,null,null,null,null,null,null,null,null,null,null,null,null,null,null,null,null,null,null,null,null,null,null,null,null,null,null,null,null,null,null,null,null,null,null,null,null,null,null,null,null,null,null,null,null,null,null,null,null,null,null,null,null,null,null,null,null,null,null,0,0]
["ANIMAL SILVESTRE ",0,0,0,null,null,null,null,null,null,null,null,null,null,null,null,null,null,null,null,null,null,null,null,null,null,null,null,null,null,null,null,null,null,null,null,null,null,null,null,null,null,null,null,null,null,null,null,null,null,null,null,null,null,null,null,null,null,null,null,null,null,null,null,null,null,null,null,null,null,null,null,null,null,null,null,null,null,null,null,null,null,null,null,0,0]
["EXPOSICIÓN A MURCIÉLAGO",0,0,0,null,null,null,null,null,null,null,null,null,null,null,null,null,null,null,null,null,null,null,null,null,null,null,null,null,null,null,null,null,null,null,null,null,null,null,null,null,null,null,null,null,null,null,null,null,null,null,null,null,null,null,null,null,null,null,null,null,null,null,null,null,null,null,null,null,null,null,null,null,null,null,null,null,null,null,null,null,null,null,null,0,0]
["ROEDOR O ANIMAL DE ABASTO",0,0,0,null,null,null,null,null,null,null,null,null,null,null,null,null,null,null,null,null,null,null,null,null,null,null,null,null,null,null,null,null,null,null,null,null,null,null,null,null,null,null,null,null,null,null,null,null,null,null,null,null,null,null,null,null,null,null,null,null,null,null,null,null,null,null,null,null,null,null,null,null,null,null,null,null,null,null,null,null,null,null,null,0,0]
[]
[]
[]
[]
[{"$f":"SUM(B12:B14,B20:B23,B28:B33,B64,B86,C91,D101:D103,C108:C110,C114:C115,C119:C120,B136,D143:D144,C147:C152,D156:D161,C166:C169,B179:B180,B185,B38:B43,B48:B53,E139:F139,C92:C98,C174:C175,B190)","v":0}]

{"sheet":"A09","index":9,"n_rows":378,"n_cols":92,"rows_kept":378,"cut":false,"hidden":false,"merged":[[88,22,88,23],[88,24,88,25],[88,26,88,27],[88,28,88,29],[88,30,88,31],[88,32,88,33],[88,34,88,35],[88,36,88,37],[88,38,88,39],[37,46,39,46],[37,47,39,47],[37,48,39,48],[37,6,37,41],[38,30,38,31],[38,32,38,33],[38,34,38,35],[38,36,38,37],[38,38,38,39],[38,40,38,41],[37,42,39,42],[37,43,39,43],[37,44,39,44],[9,32,9,33],[9,34,9,35],[9,36,9,37],[16,8,16,9],[8,48,10,48],[9,18,9,19],[16,24,16,25],[16,18,16,19],[9,12,9,13],[9,14,9,15],[9,16,9,17],[9,24,9,25],[9,38,9,39],[9,40,9,41],[8,45,10,45],[8,6,8,41],[16,43,17,43],[16,44,17,44],[16,45,17,45],[16,46,17,46],[16,47,17,47],[9,26,9,27],[16,20,16,21],[9,10,9,11],[270,0,275,0],[276,0,281,0],[282,0,287,0],[288,0,293,0],[16,49,17,49],[16,30,16,31],[16,32,16,33],[16,34,16,35],[16,36,16,37],[16,38,16,39],[16,40,16,41],[16,42,17,42],[47,0,52,1],[27,0,27,2],[32,0,32,2],[31,0,31,2],[38,26,38,27],[38,28,38,29],[38,16,38,17],[38,18,38,19],[38,20,38,21],[16,48,17,48],[88,20,88,21],[37,45,39,45],[243,1,243,2],[276,1,276,2],[258,1,258,2],[260,1,260,2],[261,1,261,2],[273,1,273,2],[259,1,259,2],[265,1,265,2],[271,1,271,2],[253,1,253,2],[262,1,262,2],[267,1,267,2],[252,1,252,2],[209,0,211,2],[209,3,210,5],[209,6,209,41],[210,6,210,7],[210,8,210,9],[210,10,210,11],[210,12,210,13],[210,14,210,15],[210,16,210,17],[210,18,210,19],[210,20,210,21],[210,22,210,23],[210,24,210,25],[210,26,210,27],[210,28,210,29],[210,30,210,31],[210,32,210,33],[210,34,210,35],[210,36,210,37],[210,38,210,39],[210,40,210,41],[205,0,205,2],[206,0,206,2],[207,0,207,2],[212,0,212,2],[213,0,213,2],[214,0,214,2],[215,0,215,2],[5,0,5,15],[37,0,39,2],[37,3,38,5],[14,0,14,2],[24,0,24,2],[25,0,25,2],[26,0,26,2],[12,0,12,2],[75,0,75,2],[71,0,71,2],[72,0,72,2],[28,0,28,2],[38,6,38,7],[38,8,38,9],[38,10,38,11],[38,12,38,13],[29,0,29,2],[234,1,234,2],[232,1,232,2],[224,1,224,2],[220,1,220,2],[222,1,222,2],[227,1,227,2],[228,1,228,2],[226,1,226,2],[221,1,221,2],[223,1,223,2],[338,0,338,1],[118,0,118,2],[119,0,119,2],[120,0,120,2],[151,0,151,2],[229,1,229,2],[235,1,235,2],[217,0,219,2],[225,1,225,2],[231,1,231,2],[249,1,249,2],[233,1,233,2],[230,1,230,2],[251,1,251,2],[248,1,248,2],[238,1,238,2],[250,1,250,2],[246,1,246,2],[254,1,254,2],[128,0,128,2],[275,1,275,2],[337,0,337,1],[177,1,179,1],[204,0,204,2],[292,1,292,2],[255,1,255,2],[257,1,257,2],[256,1,256,2],[291,1,291,2],[281,1,281,2],[282,1,282,2],[284,1,284,2],[269,1,269,2],[274,1,274,2],[290,1,290,2],[279,1,279,2],[280,1,280,2],[277,1,277,2],[283,1,283,2],[289,1,289,2],[8,3,9,5],[13,0,13,2],[9,20,9,21],[67,0,69,0],[69,1,69,2],[73,0,74,0],[287,1,287,2],[288,1,288,2],[116,0,116,2],[266,1,266,2],[239,1,239,2],[245,1,245,2],[247,1,247,2],[142,0,142,2],[203,0,203,2],[154,0,154,2],[124,0,124,2],[242,1,242,2],[244,1,244,2],[237,1,237,2],[104,0,104,2],[105,0,105,2],[202,0,202,2],[236,1,236,2],[74,1,74,2],[77,0,77,2],[78,0,78,2],[79,0,79,2],[38,22,38,23],[38,24,38,25],[20,0,20,2],[16,16,16,17],[59,0,59,2],[54,0,58,1],[53,0,53,2],[76,0,76,2],[19,0,19,2],[30,0,30,2],[16,6,16,7],[16,10,16,11],[43,0,43,2],[35,0,35,2],[33,0,33,2],[38,14,38,15],[40,0,40,2],[41,0,41,2],[301,1,301,2],[307,1,307,2],[333,0,333,1],[334,0,334,1],[300,1,300,2],[9,30,9,31],[9,6,9,7],[9,8,9,9],[23,0,23,2],[16,3,16,5],[140,0,140,2],[99,0,99,2],[100,0,100,2],[102,0,102,2],[82,0,83,2],[82,3,82,5],[84,0,85,0],[84,1,84,2],[22,0,22,2],[87,0,89,2],[87,3,88,5],[88,6,88,7],[88,8,88,9],[88,10,88,11],[155,0,155,2],[149,0,149,2],[129,0,129,2],[130,0,130,2],[114,0,114,2],[117,0,117,2],[115,0,115,2],[127,0,127,2],[336,0,336,1],[316,0,316,2],[296,1,296,2],[298,1,298,2],[304,1,304,2],[299,1,299,2],[302,1,302,2],[331,0,331,1],[317,0,317,2],[332,0,332,1],[308,1,308,2],[335,0,335,1],[297,1,297,2],[303,1,303,2],[305,1,305,2],[306,1,306,2],[156,0,156,2],[157,0,157,2],[158,0,158,2],[80,0,80,2],[92,0,92,2],[93,0,93,2],[94,0,94,2],[5,80,5,97],[8,44,10,44],[16,28,16,29],[16,22,16,23],[121,0,121,2],[122,0,122,2],[123,0,123,2],[9,22,9,23],[138,0,138,2],[134,0,134,2],[135,0,135,2],[136,0,136,2],[137,0,137,2],[8,46,10,46],[8,47,10,47],[5,48,5,63],[5,64,5,79],[85,1,85,2],[60,0,63,1],[65,0,65,2],[66,0,66,2],[8,42,10,42],[8,43,10,43],[9,28,9,29],[70,0,70,2],[21,0,21,2],[16,12,16,13],[16,14,16,15],[18,0,18,2],[67,1,67,2],[68,1,68,2],[42,0,42,2],[45,0,45,2],[46,0,46,2],[34,0,34,2],[44,0,44,2],[16,26,16,27],[8,0,10,2],[11,0,11,2],[16,0,17,2],[73,1,73,2],[152,0,152,2],[133,0,133,2],[150,0,150,2],[153,0,153,2],[106,0,106,2],[110,0,110,2],[108,0,108,2],[109,0,109,2],[112,0,112,2],[139,0,139,2],[143,0,143,2],[144,0,144,2],[146,0,148,2],[125,0,125,2],[126,0,126,2],[107,0,107,2],[113,0,113,2],[146,3,147,5],[146,6,146,41],[146,42,148,42],[147,40,147,41],[131,0,131,2],[132,0,132,2],[141,0,141,2],[95,0,95,2],[111,0,111,2],[103,0,103,2],[91,0,91,2],[90,0,90,2],[96,0,96,2],[97,0,97,2],[98,0,98,2],[101,0,101,2],[88,14,88,15],[88,16,88,17],[88,18,88,19],[88,12,88,13],[146,43,148,43],[146,44,148,44],[146,45,148,45],[146,46,148,46],[146,47,148,47],[146,48,148,48],[146,49,148,49],[147,6,147,7],[147,8,147,9],[147,10,147,11],[147,12,147,13],[147,14,147,15],[147,16,147,17],[147,18,147,19],[147,20,147,21],[147,22,147,23],[147,24,147,25],[147,26,147,27],[147,28,147,29],[147,30,147,31],[147,32,147,33],[147,34,147,35],[147,36,147,37],[147,38,147,39],[160,42,162,42],[160,43,162,43],[160,44,162,44],[160,45,162,45],[160,46,162,46],[160,47,162,47],[161,6,161,7],[161,8,161,9],[161,10,161,11],[161,12,161,13],[161,14,161,15],[161,16,161,17],[161,18,161,19],[161,20,161,21],[161,22,161,23],[161,24,161,25],[161,26,161,27],[161,28,161,29],[161,30,161,31],[161,32,161,33],[161,34,161,35],[161,36,161,37],[161,38,161,39],[161,40,161,41],[160,6,160,41],[177,0,179,0],[180,0,187,0],[180,1,182,1],[183,1,184,1],[185,1,187,1],[188,0,192,0],[188,1,188,2],[189,1,190,1],[191,1,192,1],[163,0,172,0],[163,1,163,2],[164,1,164,2],[165,1,165,2],[166,1,172,1],[173,0,176,0],[173,1,176,1],[160,0,162,2],[160,3,161,5],[193,0,195,0],[193,1,195,1],[196,0,197,0],[196,1,197,1],[199,0,201,2],[199,42,201,42],[199,43,201,43],[199,44,201,44],[199,45,201,45],[199,3,200,5],[199,6,199,41],[199,46,201,46],[200,6,200,7],[200,8,200,9],[200,10,200,11],[200,12,200,13],[200,14,200,15],[200,16,200,17],[200,18,200,19],[200,20,200,21],[200,22,200,23],[200,24,200,25],[200,26,200,27],[200,28,200,29],[200,30,200,31],[200,32,200,33],[200,34,200,35],[200,36,200,37],[200,38,200,39],[200,40,200,41],[217,3,218,5],[217,6,217,39],[217,40,219,40],[217,41,219,41],[217,42,217,43],[217,44,219,44],[217,45,219,45],[217,46,219,46],[217,47,219,47],[217,48,219,48],[218,6,218,7],[218,8,218,9],[218,10,218,11],[218,12,218,13],[218,14,218,15],[218,16,218,17],[218,18,218,19],[218,20,218,21],[218,22,218,23],[218,24,218,25],[218,26,218,27],[218,28,218,29],[218,30,218,31],[218,32,218,33],[218,34,218,35],[218,36,218,37],[218,38,218,39],[218,42,219,42],[314,16,314,17],[314,18,314,19],[314,20,314,21],[218,43,219,43],[220,0,221,0],[222,0,227,0],[228,0,233,0],[234,0,239,0],[240,0,245,0],[246,0,251,0],[252,0,257,0],[258,0,263,0],[241,1,241,2],[240,1,240,2],[293,1,293,2],[294,1,294,2],[278,1,278,2],[272,1,272,2],[268,1,268,2],[263,1,263,2],[270,1,270,2],[264,1,264,2],[285,1,285,2],[286,1,286,2],[341,0,341,1],[87,6,87,39],[87,40,89,40],[87,41,89,41],[87,42,89,42],[87,43,89,43],[87,44,89,44],[87,45,89,45],[318,0,318,2],[319,0,319,2],[320,0,320,2],[322,0,325,0],[322,1,325,1],[322,2,325,2],[322,3,325,3],[322,4,325,4],[339,0,339,1],[313,42,315,42],[264,0,269,0],[314,28,314,29],[314,30,314,31],[314,32,314,33],[314,34,314,35],[314,36,314,37],[313,43,315,43],[314,6,314,7],[314,8,314,9],[314,22,314,23],[314,24,314,25],[314,26,314,27],[87,46,89,46],[87,47,89,47],[340,0,340,1],[314,38,314,39],[314,40,314,41],[294,0,299,0],[300,0,305,0],[306,0,311,0],[309,1,309,2],[310,1,310,2],[311,1,311,2],[313,0,315,2],[313,3,314,5],[313,6,313,41],[295,1,295,2],[314,10,314,11],[314,12,314,13],[314,14,314,15]]}
["SERVICIO DE SALUD"]
[{"$f":"CONCATENATE(\"COMUNA: \",NOMBRE!B2,\" - \",\"( \",NOMBRE!C2,NOMBRE!D2,NOMBRE!E2,NOMBRE!F2,NOMBRE!G2,\" )\")","v":"COMUNA: CALLE LARGA - ( 05302 )"}]
[{"$f":"CONCATENATE(\"ESTABLECIMIENTO/ESTRATEGIA: \",NOMBRE!B3,\" - \",\"( \",NOMBRE!C3,NOMBRE!D3,NOMBRE!E3,NOMBRE!F3,NOMBRE!G3,NOMBRE!H3,\" )\")","v":"ESTABLECIMIENTO/ESTRATEGIA: DR. JOSE JOAQUIN AGUIRRE CAMPOS - ( 108308 )"}]
[{"$f":"CONCATENATE(\"MES: \",NOMBRE!B6,\" - \",\"( \",NOMBRE!C6,NOMBRE!D6,\" )\")","v":"MES: DICIEMBRE - ( 12 )"}]
[{"$f":"CONCATENATE(\"AÑO: \",NOMBRE!B7)","v":"AÑO: 2022"}]
[" REM-A9. ATENCIÓN DE SALUD BUCAL EN LA RED ASISTENCIAL "]
[]
["SECCIÓN A: CONSULTAS Y CONTROLES ODONTOLÓGICOS REALIZADOS EN APS. "]
["ACTIVIDAD ",null,null,"TOTAL",null,null,"SEGÚN GRUPOS DE EDAD O DE RIESGO",null,null,null,null,null,null,null,null,null,null,null,null,null,null,null,null,null,null,null,null,null,null,null,null,null,null,null,null,null,null,null,null,null,null,null,"12 años (incluido en el grupo de 10-14 años)","Embarazadas","60 años (incluido en grupos de 60-64 años)","Usuarios con Discapacidad","Niños, niñas, adolescentes y jóvenes población SENAME","Migrantes","Paciente en Control Programa Salud Cardiovascular"]
[null,null,null,null,null,null,"Menos de 1 año",null,"1 año",null,"2 años",null,"3 años",null,"4 años",null,"5 años",null,"6 años",null,"7 años",null,"8-9 años",null,"10-14 años",null,"15-19 años",null,"20-24 años ",null,"25-34 años",null,"35-44 años",null,"45-59 años",null,"60-64 años",null,"65-74 años",null,"75 y más años"]
[null,null,null,"Ambos Sexos","Hombres","Mujeres","Hombres","Mujeres","Hombres","Mujeres","Hombres","Mujeres","Hombres","Mujeres","Hombres","Mujeres","Hombres","Mujeres","Hombres","Mujeres","Hombres","Mujeres","Hombres","Mujeres","Hombres","Mujeres","Hombres","Mujeres","Hombres","Mujeres","Hombres","Mujeres","Hombres","Mujeres","Hombres","Mujeres","Hombres","Mujeres","Hombres","Mujeres","Hombres","Mujeres"]
["CONSULTA DE MORBILIDAD",null,null,{"$f":"SUM(E12+F12)","v":424},{"$f":"SUM(G12+I12+K12+M12+O12+Q12+S12+U12+W12+Y12+AA12+AC12+AE12+AG12+AI12+AK12+AM12+AO12)","v":166},{"$f":"SUM(H12+J12+L12+N12+P12+R12+T12+V12+X12+Z12+AB12+AD12+AF12+AH12+AJ12+AL12+AN12+AP12)","v":258},1,0,1,0,1,1,1,0,0,1,5,3,3,4,6,0,9,6,17,6,13,8,8,21,7,40,17,22,19,72,16,20,32,31,10,23,2,10,19,0,1,0,53,{"$f":"$CA12&$CB12&$CC12&$CD12&$CE12&$CF12&$CG12","v":""},null,null,null,null,null,null,null,null,null,null,null,null,null,null,null,null,null,null,null,null,null,null,null,null,null,null,null,null,{"$f":"IF(CH12=1,\"* Las consultas de 60 años NO DEBEN ser mayor que el total de Consultas entre 60-64 Años. \",\"\")","v":""},{"$f":"IF(CI12=1,\"* Las actividades de usuarios en situación de discapacidad NO DEBEN superar el total. \",\"\")","v":""},{"$f":"IF(CJ12=1,\"* Las consultas de 12 años NO DEBEN ser mayor que el total de Consultas entre 10-14 Años. \",\"\")","v":""},{"$f":"IF(CK12=1,\"* Las consultas de Pacientes en control PSCV NO DEBEN ser mayor que el total de Consultas. \",\"\")","v":""},{"$f":"IF(AND(AR12=\"\",D12<>0),\"* Recuerde que las Embarazadas deben ser incluídas en el ingreso por rango Etario (Digite CEROS si no tiene). \",IF(F12<AR12,\"* Las Embarazadas NO DEBEN ser mayor al total de mujeres. \",\"\"))","v":""},{"$f":"IF(AND(AU12=\"\",D12<>0),\"* No olvide digitar la población SENAME (Digite CEROS si no tiene). \",IF(D12<AU12,\"* La Población SENAME NO DEBE ser mayor al Total. \",\"\"))","v":""},{"$f":"IF(AND(AV12=\"\",D12<>0),\"* No olvide digitar la población Migrante (Digite CEROS si no tiene). \",IF(D12<AV12,\"* La Población Migrante NO DEBE ser mayor al Total. \",\"\"))","v":""},{"$f":"IF(AS12>(AK12+AL12),1,0)","v":0},{"$f":"IF(D12<AT12,1,0)","v":0},{"$f":"IF((Y12+Z12)<AQ12,1,0)","v":0},{"$f":"IF(D12<AW12,1,0)","v":0},{"$f":"IF(AND(AR12=\"\",D12<>0),1,IF(F12<AR12,1,0))","v":0},{"$f":"IF(AND(AU12=\"\",D12<>0),1,IF(D12<AU12,1,0))","v":0},{"$f":"IF(AND(AV12=\"\",D12<>0),1,IF(D12<AV12,1,0))","v":0}]
["CONTROL ODONTOLÓGICO",null,null,{"$f":"SUM(E13+F13)","v":83},48,{"$f":"SUM(H13+J13+L13+N13+P13+R13+T13+V13+X13+Z13+AB13+AD13+AF13+AH13+AJ13+AL13+AN13+AP13)","v":35},1,0,6,2,1,2,1,0,2,1,5,1,2,3,1,1,4,0,7,7,4,5,0,2,0,7,0,1,2,1,6,2,1,0,5,0,3,2,1,1,0,0,1,{"$f":"$CA13&$CB13&$CC13&$CD13&$CE13&$CF13&$CG13","v":""},null,null,null,null,null,null,null,null,null,null,null,null,null,null,null,null,null,null,null,null,null,null,null,null,null,null,null,null,{"$f":"IF(CH13=1,\"* Las consultas de 60 años NO DEBEN ser mayor que el total de Consultas entre 60-64 Años. \",\"\")","v":""},"",{"$f":"IF(CJ13=1,\"* Las consultas de 12 años NO DEBEN ser mayor que el total de Consultas entre 10-14 Años. \",\"\")","v":""},{"$f":"IF(CK13=1,\"* Las consultas de Pacientes en control PSCV NO DEBEN ser mayor que el total de Consultas. \",\"\")","v":""},{"$f":"IF(AND(AR13=\"\",D13<>0),\"* Recuerde que las Embarazadas deben ser incluídas en el ingreso por rango Etario (Digite CEROS si no tiene). \",IF(F13<AR13,\"* Las Embarazadas NO DEBEN ser mayor al total de mujeres. \",\"\"))","v":""},{"$f":"IF(AND(AU13=\"\",D13<>0),\"* No olvide digitar la población SENAME (Digite CEROS si no tiene). \",IF(D13<AU13,\"* La Población SENAME NO DEBE ser mayor al Total. \",\"\"))","v":""},{"$f":"IF(AND(AV13=\"\",D13<>0),\"* No olvide digitar la población Migrante (Digite CEROS si no tiene). \",IF(D13<AV13,\"* La Población Migrante NO DEBE ser mayor al Total. \",\"\"))","v":""},{"$f":"IF(AS13>(AK13+AL13),1,0)","v":0},{"$f":"IF(D13<AT13,1,0)","v":0},{"$f":"IF((Y13+Z13)<AQ13,1,0)","v":0},{"$f":"IF(D13<AW13,1,0)","v":0},{"$f":"IF(AND(AR13=\"\",D13<>0),1,IF(F13<AR13,1,0))","v":0},{"$f":"IF(AND(AH13=\"\",D13<>0),1,IF(D13<AH13,1,0))","v":0},{"$f":"IF(AND(AV13=\"\",D13<>0),1,IF(D13<AV13,1,0))","v":0}]
["CONSULTA DE URGENCIA (GES)",null,null,{"$f":"SUM(E14+F14)","v":0},0,0,0,0,0,0,0,0,0,0,0,0,0,0,0,0,0,0,0,0,0,0,0,0,0,0,0,0,0,0,0,0,0,0,0,0,0,0,0,0,0,0,0,0,0,"",null,null,null,null,null,null,null,null,null,null,null,null,null,null,null,null,null,null,null,null,null,null,null,null,null,null,null,null,"","","","","","","",0,0,0,0,0,{"$f":"IF(AND(AH14=\"\",D14<>0),1,IF(D14<AH14,1,0))","v":0},0]
["INASISTENCIA A CONSULTA",null,null,{"$f":"SUM(E15+F15)","v":161},{"$f":"SUM(G15+I15+K15+M15+O15+Q15+S15+U15+W15+Y15+AA15+AC15+AE15+AG15+AI15+AK15+AM15+AO15)","v":65},96,2,2,2,3,5,3,4,2,1,1,8,4,2,4,0,1,3,5,8,5,2,5,2,13,6,14,7,17,7,12,1,2,4,3,1,0,4,11,0,0,3,1,11,"",null,null,null,null,null,null,null,null,null,null,null,null,null,null,null,null,null,null,null,null,null,null,null,null,null,null,null,null,"","","","","","","",0,0,0,0,0,{"$f":"IF(AND(AH15=\"\",D15<>0),1,IF(D15<AH15,1,0))","v":0},0]
["SECCIÓN B: ACTIVIDADES DE ODONTOLOGÍA GENERAL  REALIZADOS EN NIVEL PRIMARIO Y SECUNDARIO DE SALUD."]
["TIPO DE ACTIVIDAD",null,null,"TOTAL ",null,null,"Menos de 1 año",null,"1 año",null,"2 años",null,"3 años",null,"4 años",null,"5 años",null,"6 años",null,"7 años",null,"8-9 años",null,"10-14 años",null,"15-19 años",null,"20-24 años ",null,"25-34 años",null,"35-44 años",null,"45-59 años",null,"60-64 años",null,"65-74 años",null,"75 y más años",null,"12 años (incluido en el grupo de 10-14 años)","Embarazadas","Beneficiarios","60 años (incluido en grupos de 60-64 años)","Compra de Servicio","Usuarios con Discapacidad","Niños, niñas, adolescentes y jóvenes población SENAME","Migrantes"]
[null,null,null,"Ambos Sexos","Hombres","Mujeres","Hombres","Mujeres","Hombres","Mujeres","Hombres","Mujeres","Hombres","Mujeres","Hombres","Mujeres","Hombres","Mujeres","Hombres","Mujeres","Hombres","Mujeres","Hombres","Mujeres","Hombres","Mujeres","Hombres","Mujeres","Hombres","Mujeres","Hombres","Mujeres","Hombres","Mujeres","Hombres","Mujeres","Hombres","Mujeres","Hombres","Mujeres","Hombres","Mujeres"]
["EDUCACIÓN INDIVIDUAL CON INSTRUCCIÓN DE TÉCNICA DE CEPILLADO",null,null,{"$f":"SUM(E19+F19)","v":113},{"$f":"SUM(G19+I19+K19+M19+O19+Q19+S19+U19+W19+Y19+AA19+AC19+AE19+AG19+AI19+AK19+AM19+AO19)","v":38},{"$f":"SUM(H19+J19+L19+N19+P19+R19+T19+V19+X19+Z19+AB19+AD19+AF19+AH19+AJ19+AL19+AN19+AP19)","v":75},1,2,1,2,0,1,1,0,0,0,0,1,2,0,0,0,1,0,1,1,1,2,1,4,3,11,4,5,4,21,6,6,7,7,5,12,0,4,86,6,0,1,0,0,{"$f":"$CA19&$CB19&$CC19&$CD19&$CE19&$CF19&$CG19","v":""},null,null,null,null,null,null,null,null,null,null,null,null,null,null,null,null,null,null,null,null,null,null,null,null,null,null,null,{"$f":"IF(CH19=1,\"* Las consultas de 12 años NO DEBEN ser mayor que el total de Consultas entre 10-14 Años. \",\"\")","v":""},{"$f":"IF(CI19=1,\"* Las consultas de 60 años NO DEBEN ser mayor que el total de Consultas entre 60-64 Años. \",\"\")","v":""},{"$f":"IF(CJ19=1,\"* Las actividades de usuarios en situación de discapacidad NO DEBEN superar el total. \",\"\")","v":""},{"$f":"IF(AND(AR19=\"\",D19<>0),\"* Recuerde que las Embarazadas deben ser incluídas en el ingreso por rango Etario (Digite CEROS si no tiene). \",IF(F19<AR19,\"* Las Embarazadas NO DEBEN ser mayor al total de mujeres. \",\"\"))","v":""},{"$f":"IF(AND(AS19=\"\",D19<>0),\"* No olvide digitar la columna Beneficiarios (Digite CEROS si no tiene). \",IF(D19<AS19,\"* El número de Beneficiarios NO DEBE ser mayor que el Total. \",\"\"))","v":""},{"$f":"IF(AND(AW19=\"\",D19<>0),\"* No olvide digitar la Población SENAME (Digite CEROS si no tiene). \",IF(D19<AW19,\"* La Población SENAME NO DEBE ser mayor al Total. \",\"\"))","v":""},{"$f":"IF(AND(AX19=\"\",D19<>0),\"* No olvide digitar la Población Migrante (Digite CEROS si no tiene). \",IF(D19<AX19,\"* La Población Migrante NO DEBE superar el Total. \",\"\"))","v":""},{"$f":"IF(AQ19>(Y19+Z19),1,0)","v":0},{"$f":"IF(AT19>(AK19+AL19),1,0)","v":0},{"$f":"IF(D19<AV19,1,0)","v":0},{"$f":"IF(AND(AR19=\"\",D19<>0),1,IF(F19<AR19,1,0))","v":0},{"$f":"IF(AND(AS19=\"\",D19<>0),1,IF(D19<AS19,1,0))","v":0},{"$f":"IF(AND(AW19=\"\",D19<>0),1,IF(D19<AW19,1,0))","v":0},{"$f":"IF(AND(AX19=\"\",D19<>0),1,IF(D19<AX19,1,0))","v":0}]
["CONSEJERÍA BREVE EN TABACO",null,null,{"$f":"SUM(E20+F20)","v":35},{"$f":"SUM(U20+W20+Y20+AA20+AC20+AE20+AG20+AI20+AK20+AM20+AO20)","v":14},{"$f":"SUM(V20+X20+Z20+AB20+AD20+AF20+AH20+AJ20+AL20+AN20+AP20)","v":21},null,null,null,null,null,null,null,null,null,null,null,null,null,null,0,0,0,0,0,0,0,0,1,2,3,3,4,3,3,7,1,2,0,2,2,2,0,0,35,0,0,1,0,0,{"$f":"$CA20&$CB20&$CC20&$CD20&$CE20&$CF20&$CG20","v":""},null,null,null,null,null,null,null,null,null,null,null,null,null,null,null,null,null,null,null,null,null,null,null,null,null,null,null,{"$f":"IF(CH20=1,\"* Las consultas de 12 años NO DEBEN ser mayor que el total de Consultas entre 10-14 Años. \",\"\")","v":""},{"$f":"IF(CI20=1,\"* Las consultas de 60 años NO DEBEN ser mayor que el total de Consultas entre 60-64 Años. \",\"\")","v":""},{"$f":"IF(CJ20=1,\"* Las actividades de usuarios en situación de discapacidad NO DEBEN superar el total. \",\"\")","v":""},{"$f":"IF(AND(AR20=\"\",D20<>0),\"* Recuerde que las Embarazadas deben ser incluídas en el ingreso por rango Etario (Digite CEROS si no tiene). \",IF(F20<AR20,\"* Las Embarazadas NO DEBEN ser mayor al total de mujeres. \",\"\"))","v":""},{"$f":"IF(AND(AS20=\"\",D20<>0),\"* No olvide digitar la columna Beneficiarios (Digite CEROS si no tiene). \",IF(D20<AS20,\"* El número de Beneficiarios NO DEBE ser mayor que el Total. \",\"\"))","v":""},{"$f":"IF(AND(AW20=\"\",D20<>0),\"* No olvide digitar la Población SENAME (Digite CEROS si no tiene). \",IF(D20<AW20,\"* La Población SENAME NO DEBE ser mayor al Total. \",\"\"))","v":""},{"$f":"IF(AND(AX20=\"\",D20<>0),\"* No olvide digitar la Población Migrante (Digite CEROS si no tiene). \",IF(D20<AX20,\"* La Población Migrante NO DEBE superar el Total. \",\"\"))","v":""},{"$f":"IF(AQ20>(Y20+Z20),1,0)","v":0},{"$f":"IF(AT20>(AK20+AL20),1,0)","v":0},{"$f":"IF(D20<AV20,1,0)","v":0},{"$f":"IF(AND(AR20=\"\",D20<>0),1,IF(F20<AR20,1,0))","v":0},{"$f":"IF(AND(AS20=\"\",D20<>0),1,IF(D20<AS20,1,0))","v":0},{"$f":"IF(AND(AW20=\"\",D20<>0),1,IF(D20<AW20,1,0))","v":0},{"$f":"IF(AND(AX20=\"\",D20<>0),1,IF(D20<AX20,1,0))","v":0}]
["EXAMEN DE SALUD ORAL",null,null,156,{"$f":"SUM(G21+I21+K21+M21+O21+Q21+S21+U21+W21+Y21+AA21+AC21+AE21+AG21+AI21+AK21+AM21+AO21)","v":55},101,1,2,1,2,1,1,1,0,0,0,2,1,3,2,0,0,5,1,5,4,0,1,2,9,6,20,9,9,8,27,4,7,4,10,3,5,2,7,135,2,0,1,0,0,"",null,null,null,null,null,null,null,null,null,null,null,null,null,null,null,null,null,null,null,null,null,null,null,null,null,null,null,"","","","","","","",0,0,0,0,0,0,0]
["APLICACIÓN DE SELLANTES",null,null,59,44,15,0,0,0,0,0,0,0,0,0,0,0,0,0,0,1,0,4,0,32,15,7,0,0,0,0,0,0,0,0,0,0,0,0,0,0,0,24,0,59,0,0,0,0,0,"",null,null,null,null,null,null,null,null,null,null,null,null,null,null,null,null,null,null,null,null,null,null,null,null,null,null,null,"","","","","","","",0,0,0,0,0,0,0]
["FLUORURACIÓN TÓPICA BARNIZ",null,null,66,26,40,0,0,0,1,1,1,1,0,2,1,2,0,2,0,0,1,4,1,5,2,2,2,0,3,1,5,0,6,1,9,2,3,3,3,0,2,0,2,64,4,0,0,1,1,"",null,null,null,null,null,null,null,null,null,null,null,null,null,null,null,null,null,null,null,null,null,null,null,null,null,null,null,"","","","","","","",0,0,0,0,0,0,0]
["ACTIVIDAD INTERCEPTIVA DE ANOMALÍAS DENTO MAXILARES (OPI)",null,null,0,{"$f":"SUM(G24+I24+K24+M24+O24+Q24+S24+U24+W24+Y24+AA24+AC24+AE24+AG24+AI24+AK24+AM24+AO24)","v":0},{"$f":"SUM(H24+J24+L24+N24+P24+R24+T24+V24+X24+Z24+AB24+AD24+AF24+AH24+AJ24+AL24+AN24+AP24)","v":0},0,0,0,0,0,0,0,0,0,0,0,0,0,0,0,0,0,0,0,0,0,0,0,0,0,0,0,0,0,0,0,0,0,0,0,0,0,0,0,0,0,0,0,0,"",null,null,null,null,null,null,null,null,null,null,null,null,null,null,null,null,null,null,null,null,null,null,null,null,null,null,null,"","","","","","","",0,0,0,0,0,0,0]
["DESTARTRAJE SUPRAGINGIVAL Y PULIDO CORONARIO",null,null,231,80,151,0,0,0,0,1,0,0,0,0,0,1,0,1,0,1,0,2,0,8,3,5,4,6,18,10,26,15,34,10,41,8,9,8,10,4,6,0,6,125,7,0,0,0,0,"",null,null,null,null,null,null,null,null,null,null,null,null,null,null,null,null,null,null,null,null,null,null,null,null,null,null,null,"","","","","","","",0,0,0,0,0,0,0]
["EXODONCIA",null,null,97,47,50,0,0,0,0,0,0,0,0,0,0,0,0,2,2,3,0,0,2,9,1,2,0,5,7,0,6,3,4,9,13,5,9,7,5,2,1,1,1,96,3,0,1,0,0,"",null,null,null,null,null,null,null,null,null,null,null,null,null,null,null,null,null,null,null,null,null,null,null,null,null,null,null,"","","","","","","",0,0,0,0,0,0,0]
["PROCEDIMIENTO PULPAR",null,null,11,4,7,0,0,0,0,0,0,0,0,0,0,0,0,1,0,0,0,0,0,0,0,0,0,1,0,0,5,1,0,0,2,1,0,0,0,0,0,0,0,11,0,0,0,0,0,"",null,null,null,null,null,null,null,null,null,null,null,null,null,null,null,null,null,null,null,null,null,null,null,null,null,null,null,"","","","","","","",0,0,0,0,0,0,0]
["ACCESO CAVITARIO",null,null,{"$f":"SUM(E28+F28)","v":0},0,0,0,0,0,0,0,0,0,0,0,0,0,0,0,0,0,0,0,0,0,0,0,0,0,0,0,0,0,0,0,0,0,0,0,0,0,0,0,0,0,0,0,0,0,0,"",null,null,null,null,null,null,null,null,null,null,null,null,null,null,null,null,null,null,null,null,null,null,null,null,null,null,null,"","","","","","","",0,0,0,0,0,0,0]
["RESTAURACIÓN ESTÉTICA",null,null,251,66,185,0,0,0,0,0,1,1,0,0,0,2,2,1,0,2,0,6,3,5,10,3,5,2,8,6,41,16,31,12,44,3,12,5,26,2,2,2,6,243,5,0,0,0,1,"",null,null,null,null,null,null,null,null,null,null,null,null,null,null,null,null,null,null,null,null,null,null,null,null,null,null,null,"","","","","","","",0,0,0,0,0,0,0]
["RESTAURACIÓN DE AMALGAMAS",null,null,0,0,0,0,0,0,0,0,0,0,0,0,0,0,0,0,0,0,0,0,0,0,0,0,0,0,0,0,0,0,0,0,0,0,0,0,0,0,0,0,0,0,0,0,0,0,0,"",null,null,null,null,null,null,null,null,null,null,null,null,null,null,null,null,null,null,null,null,null,null,null,null,null,null,null,"","","","","","","",0,0,0,0,0,0,0]
["OBTURACIÓN DE VIDRIO IONÓMERO ",null,null,21,12,9,0,0,0,0,4,0,0,0,0,0,3,0,1,3,0,0,1,0,0,0,0,1,0,0,1,2,0,1,2,2,0,0,0,0,0,0,0,1,21,0,0,0,0,0,"",null,null,null,null,null,null,null,null,null,null,null,null,null,null,null,null,null,null,null,null,null,null,null,null,null,null,null,"","","","","","","",0,0,0,0,0,0,0]
["DESTARTRAJE SUBGINGIVAL Y PULIDO RADICULAR POR SEXTANTE",null,null,2,{"$f":"SUM(U32+W32+Y32+AA32+AC32+AE32+AG32+AI32+AK32+AM32+AO32)","v":1},{"$f":"SUM(V32+X32+Z32+AB32+AD32+AF32+AH32+AJ32+AL32+AN32+AP32)","v":1},null,null,null,null,null,null,null,null,null,null,null,null,null,null,0,0,0,0,0,0,0,0,0,0,0,0,1,0,0,0,0,1,0,0,0,0,0,0,2,1,0,0,0,0,"",null,null,null,null,null,null,null,null,null,null,null,null,null,null,null,null,null,null,null,null,null,null,null,null,null,null,null,"","","","","","","",0,0,0,0,0,0,0]
["TRATAMIENTO RESTAURADOR ATRAUMÁTICO (ART)",null,null,{"$f":"SUM(E33+F33)","v":0},{"$f":"SUM(G33+I33+K33+M33+O33+Q33+S33+U33+W33+Y33+AA33+AC33+AE33+AG33+AI33+AK33+AM33+AO33)","v":0},0,null,null,null,null,null,null,null,null,null,null,null,null,null,null,null,null,null,null,null,null,null,null,null,null,null,null,null,null,null,null,null,null,null,null,null,null,null,null,null,0,0,0,0,0,"",null,null,null,null,null,null,null,null,null,null,null,null,null,null,null,null,null,null,null,null,null,null,null,null,null,null,null,"","","","","","","",0,0,0,0,0,0,0]
["PROCEDIMIENTOS MÉDICO-QUIRÚRGICOS",null,null,213,86,127,3,0,6,0,0,0,0,0,0,1,1,3,0,2,2,1,4,3,5,3,8,1,5,9,4,12,6,13,5,32,13,11,19,14,5,22,1,3,140,18,0,1,1,0,"",null,null,null,null,null,null,null,null,null,null,null,null,null,null,null,null,null,null,null,null,null,null,null,null,null,null,null,"","","","","","","",0,0,0,0,0,0,0]
["RADIOGRAFÍA INTRAORAL (RETROALVEOLARES, BITE WING Y OCLUSALES)",null,null,20,3,17,0,0,0,0,0,0,0,0,0,0,0,0,0,0,0,0,0,0,0,0,0,0,0,0,0,6,2,7,0,1,0,3,1,0,0,0,0,0,9,3,0,0,0,0,"",null,null,null,null,null,null,null,null,null,null,null,null,null,null,null,null,null,null,null,null,null,null,null,null,null,null,null,"","","","","","","",0,0,0,0,0,0,0]
["TOTAL ACTIVIDADES",null,null,{"$f":"SUM(D19:D35)","v":1275},476,799,5,4,8,5,7,4,4,0,2,2,11,7,13,9,9,2,27,10,70,39,28,16,23,60,34,137,61,113,54,199,43,63,54,77,23,52,{"$f":"SUM(AQ19:AQ35)","v":30},30,1026,49,0,5,2,2]
["SECCIÓN C : INGRESOS Y EGRESOS EN APS"]
["TIPO DE INGRESO O EGRESO",null,null,"TOTAL  ",null,null,"Según grupos de edad o de riesgo",null,null,null,null,null,null,null,null,null,null,null,null,null,null,null,null,null,null,null,null,null,null,null,null,null,null,null,null,null,null,null,null,null,null,null,"12 años (incluido en el grupo de 10-14 años)","Embarazadas","60 años (incluido en grupos de 60-64 años)","Usuarios con Discapacidad","Niños, niñas, adolescentes y jóvenes población SENAME","Migrantes","Pacientes en Control Programa Salud Cardiovascular"]
[null,null,null,null,null,null,"Menos de 1 año",null,"1 año",null,"2 años",null,"3 años",null,"4 años",null,"5 años",null,"6 años",null,"7 años",null,"8-9 años",null,"10-14 años",null,"15-19 años",null,"20-24 años ",null,"25-34 años",null,"35-44 años",null,"45-59 años",null,"60-64 años",null,"65-74 años",null,"75 y más años"]
[null,null,null,"Ambos Sexos","Hombres","Mujeres","Hombres","Mujeres","Hombres","Mujeres","Hombres","Mujeres","Hombres","Mujeres","Hombres","Mujeres","Hombres","Mujeres","Hombres","Mujeres","Hombres","Mujeres","Hombres","Mujeres","Hombres","Mujeres","Hombres","Mujeres","Hombres","Mujeres","Hombres","Mujeres","Hombres","Mujeres","Hombres","Mujeres","Hombres","Mujeres","Hombres","Mujeres","Hombres","Mujeres"]
["INGRESOS A TRATAMIENTO ODONTOLOGÍA GENERAL",null,null,{"$f":"SUM(E41+F41)","v":12},{"$f":"+S41+Y41+AA41+AC41+AE41+AG41+AI41+AK41+AM41+AO41","v":2},{"$f":"+T41+Z41+AB41+AD41+AF41+AH41+AJ41+AL41+AN41+AP41","v":10},null,null,null,null,null,null,null,null,null,null,null,null,null,null,null,null,null,null,0,0,0,1,0,2,0,4,0,0,0,0,1,1,0,1,1,1,0,5,1,1,1,0,2,{"$f":"$CA41&$CB41&$CC41&$CD41&$CE41&$CF41&$CG41","v":""},null,null,null,null,null,null,null,null,null,null,null,null,null,null,null,null,null,null,null,null,null,null,null,null,null,null,null,null,{"$f":"IF(CH41=1,\"* Las consultas de 60 años NO DEBEN ser mayor que el total de Consultas entre 60-64 Años. \",\"\")","v":""},{"$f":"IF(CI41=1,\"* Las actividades de usuarios en situación de discapacidad NO DEBEN superar el total. \",\"\")","v":""},{"$f":"IF(CJ41=1,\"* Las consultas de 12 años NO DEBEN ser mayor que el total de Consultas entre 10-14 Años. \",\"\")","v":""},{"$f":"IF(CK41=1,\"* Las consultas de Pacientes en control PSCV NO DEBEN ser mayor que el total de Consultas. \",\"\")","v":""},{"$f":"IF(AND(AR41=\"\",D41<>0),\"* Recuerde que las Embarazadas deben ser incluídas en el ingreso por rango Etario (Digite CEROS si no tiene). \",IF(F41<AR41,\"* Las Embarazadas NO DEBEN ser mayor al total de mujeres. \",\"\"))","v":""},{"$f":"IF(AND(AU41=\"\",D41<>0),\"* No olvide digitar la población SENAME (Digite CEROS si no tiene). \",IF(D41<AU41,\"* La Población SENAME NO DEBE ser mayor al Total. \",\"\"))","v":""},{"$f":"IF(AND(AV41=\"\",D41<>0),\"* No olvide digitar la población Migrante (Digite CEROS si no tiene). \",IF(D41<AV41,\"* La Población Migrante NO DEBE ser mayor al Total. \",\"\"))","v":""},{"$f":"IF(AS41>(AK41+AL41),1,0)","v":0},{"$f":"IF(D41<AT41,1,0)","v":0},{"$f":"IF((Y41+Z41)<AQ41,1,0)","v":0},{"$f":"IF(D41<AW41,1,0)","v":0},{"$f":"IF(AND(AR41=\"\",D41<>0),1,IF(F41<AR41,1,0))","v":0},{"$f":"IF(AND(AU41=\"\",D41<>0),1,IF(D41<AU41,1,0))","v":0},{"$f":"IF(AND(AV41=\"\",D41<>0),1,IF(D41<AV41,1,0))","v":0}]
["INGRESO CONTROL CON ENFOQUE RIESGO ODONTOLÓGICO (CERO)",null,null,{"$f":"SUM(E42+F42)","v":2},{"$f":"+G42+I42+K42+M42+O42+Q42+S42+U42+W42+Y42+AA42","v":0},{"$f":"+H42+J42+L42+N42+P42+R42+T42+V42+X42+Z42+AB42","v":2},0,2,0,0,0,0,0,0,0,0,0,0,0,0,0,0,0,0,0,0,0,0,null,null,null,null,null,null,null,null,null,null,null,null,null,null,null,null,null,0,0,0,0,"",null,null,null,null,null,null,null,null,null,null,null,null,null,null,null,null,null,null,null,null,null,null,null,null,null,null,null,null,null,{"$f":"IF(CI42=1,\"* Las actividades de usuarios en situación de discapacidad NO DEBEN superar el total. \",\"\")","v":""},null,{"$f":"IF(CK42=1,\"* Las consultas de Pacientes en control PSCV NO DEBEN ser mayor que el total de Consultas. \",\"\")","v":""},null,{"$f":"IF(AND(AU42=\"\",D42<>0),\"* No olvide digitar la población SENAME (Digite CEROS si no tiene). \",IF(D42<AU42,\"* La Población SENAME NO DEBE ser mayor al Total. \",\"\"))","v":""},{"$f":"IF(AND(AV42=\"\",D42<>0),\"* No olvide digitar la población Migrante (Digite CEROS si no tiene). \",IF(D42<AV42,\"* La Población Migrante NO DEBE ser mayor al Total. \",\"\"))","v":""},null,{"$f":"IF(D42<AT42,1,0)","v":0},null,{"$f":"IF(D42<AW42,1,0)","v":0},null,{"$f":"IF(AND(AU42=\"\",D42<>0),1,IF(D42<AU42,1,0))","v":0},{"$f":"IF(AND(AV42=\"\",D42<>0),1,IF(D42<AV42,1,0))","v":0}]
["EGRESO CONTROL CON ENFOQUE RIESGO ODONTOLÓGICO (CERO)",null,null,{"$f":"SUM(E43+F43)","v":0},{"$f":"+G43+I43+K43+M43+O43+Q43+S43+U43+W43+Y43+AA43","v":0},{"$f":"+H43+J43+L43+N43+P43+R43+T43+V43+X43+Z43+AB43","v":0},0,0,0,0,0,0,0,0,0,0,0,0,0,0,0,0,0,0,0,0,0,0,null,null,null,null,null,null,null,null,null,null,null,null,null,null,null,null,null,0,0,0,0,"",null,null,null,null,null,null,null,null,null,null,null,null,null,null,null,null,null,null,null,null,null,null,null,null,null,null,null,null,null,"",null,"",null,"","",null,0,null,0,null,0,0]
["ALTAS ODONTOLÓGICAS PREVENTIVAS",null,null,{"$f":"SUM(E44+F44)","v":0},{"$f":"+Y44+AA44+AC44+AE44+AG44+AI44+AK44+AM44+AO44","v":0},{"$f":"+Z44+AB44+AD44+AF44+AH44+AJ44+AL44+AN44+AP44","v":0},null,null,null,null,null,null,null,null,null,null,null,null,null,null,null,null,null,null,0,0,0,0,0,0,0,0,0,0,0,0,0,0,0,0,0,0,0,0,null,0,0,0,0,"",null,null,null,null,null,null,null,null,null,null,null,null,null,null,null,null,null,null,null,null,null,null,null,null,null,null,null,null,{"$f":"IF(CH44=1,\"* Las consultas de 60 años NO DEBEN ser mayor que el total de Consultas entre 60-64 Años. \",\"\")","v":""},"",{"$f":"IF(CJ44=1,\"* Las consultas de 12 años NO DEBEN ser mayor que el total de Consultas entre 10-14 Años. \",\"\")","v":""},"",{"$f":"IF(AND(AR44=\"\",D44<>0),\"* Recuerde que las Embarazadas deben ser incluídas en el ingreso por rango Etario (Digite CEROS si no tiene). \",IF(F44<AR44,\"* Las Embarazadas NO DEBEN ser mayor al total de mujeres. \",\"\"))","v":""},"","",{"$f":"IF(AS44>(AK44+AL44),1,0)","v":0},0,{"$f":"IF((Y44+Z44)<AQ44,1,0)","v":0},0,{"$f":"IF(AND(AR44=\"\",D44<>0),1,IF(F44<AR44,1,0))","v":0},0,0]
["ALTAS ODONTOLÓGICAS INTEGRALES (EXCLUYE SECCIÓN G)",null,null,{"$f":"SUM(E45+F45)","v":18},{"$f":"Y45+AA45+AC45+AE45+AG45+AI45+AK45+AM45+AO45","v":2},{"$f":"+Z45+AB45+AD45+AF45+AH45+AJ45+AL45+AN45+AP45","v":16},null,null,null,null,null,null,null,null,null,null,null,null,null,null,null,null,null,null,0,0,0,0,0,4,0,10,0,2,0,0,1,0,0,0,1,0,0,0,null,0,0,0,2,"",null,null,null,null,null,null,null,null,null,null,null,null,null,null,null,null,null,null,null,null,null,null,null,null,null,null,null,null,null,"","","","","","",null,0,0,0,0,0,0]
["ALTAS ODONTOLÓGICAS TOTALES",null,null,{"$f":"SUM(E46+F46)","v":18},{"$f":"Y46+AA46+AC46+AE46+AG46+AI46+AK46+AM46+AO46","v":2},{"$f":"+Z46+AB46+AD46+AF46+AH46+AJ46+AL46+AN46+AP46","v":16},null,null,null,null,null,null,null,null,null,null,null,null,null,null,null,null,null,null,{"$f":"SUM(Y44:Y45)","v":0},0,0,0,0,4,{"$f":"SUM(AE44:AE45)","v":0},{"$f":"SUM(AF44:AF45)","v":10},0,2,0,0,1,0,0,0,{"$f":"SUM(AO44:AO45)","v":1},{"$f":"SUM(AP44:AP45)","v":0},{"$f":"SUM(AQ44:AQ45)","v":0},{"$f":"SUM(AR44:AR45)","v":0},{"$f":"SUM(AS44)","v":0},{"$f":"SUM(AT44:AT45)","v":0},{"$f":"SUM(AU44:AU45)","v":0},{"$f":"SUM(AV44:AV45)","v":0},{"$f":"SUM(AW44:AW45)","v":2}]
["EGRESOS POR ABANDONO",null,null,0,{"$f":"+G47+I47+K47+M47+O47+Q47+S47+U47+W47+Y47+AA47+AC47+AE47+AG47+AI47+AK47+AM47+AO47","v":0},{"$f":"+H47+J47+L47+N47+P47+R47+T47+V47+X47+Z47+AB47+AD47+AF47+AH47+AJ47+AL47+AN47+AP47","v":0},null,null,null,null,null,null,null,null,null,null,null,null,null,null,null,null,null,null,null,null,null,null,null,null,null,null,null,null,null,null,null,null,null,null,null,null,null,null,null,null,null,null,null,"",null,null,null,null,null,null,null,null,null,null,null,null,null,null,null,null,null,null,null,null,null,null,null,null,null,null,null,null,"","","","","","","",0,0,0,0,0,0,0]
["ÍNDICE ceod O COPD EN PACIENTES INGRESADOS (Índice ceod se usa en menores de 7 años, para resto se utiliza COPD) ",null,0,58,{"$f":"SUM(G48+I48+K48+M48+O48+Q48+S48+U48+W48+Y48+AA48+AC48+AE48+AG48+AI48+AK48+AM48+AO48)","v":28},{"$f":"SUM(H48+J48+L48+N48+P48+R48+T48+V48+X48+Z48+AB48+AD48+AF48+AH48+AJ48+AL48+AN48+AP48)","v":30},0,2,1,0,10,15,12,8,5,5,0,0,0,0,0,0,0,0,0,0,0,0,0,0,0,0,0,0,0,0,0,0,0,0,0,0,0,0,0,0,0,0,0,"",null,null,null,null,null,null,null,null,null,null,null,null,null,null,null,null,null,null,null,null,null,null,null,null,null,null,null,null,"","","","","","","",0,0,0,0,0,0,0]
[null,null,"1 a 2",1,{"$f":"SUM(G49+I49+K49+M49+O49+Q49+S49+U49+W49+Y49+AA49+AC49+AE49+AG49+AI49+AK49+AM49+AO49)","v":1},{"$f":"SUM(H49+J49+L49+N49+P49+R49+T49+V49+X49+Z49+AB49+AD49+AF49+AH49+AJ49+AL49+AN49+AP49)","v":0},0,0,0,0,0,0,0,0,0,0,0,0,0,0,0,0,0,0,0,0,0,0,0,0,0,0,0,0,0,0,0,0,0,0,1,0,0,0,0,0,0,0,0,"",null,null,null,null,null,null,null,null,null,null,null,null,null,null,null,null,null,null,null,null,null,null,null,null,null,null,null,null,"","","","","","","",0,0,0,0,0,0,0]
[null,null,"3 a 4",4,1,3,0,0,0,0,0,0,0,0,0,0,0,1,0,0,0,0,0,0,0,0,0,1,0,0,0,1,0,0,0,0,1,0,0,0,0,0,0,1,0,0,1,0,1,"",null,null,null,null,null,null,null,null,null,null,null,null,null,null,null,null,null,null,null,null,null,null,null,null,null,null,null,null,"","","","","","","",0,0,0,0,0,0,0]
[null,null,"5 a 6",2,0,2,0,0,0,0,0,0,0,0,0,0,0,0,0,0,0,0,0,0,0,0,0,0,0,0,0,2,0,0,0,0,0,0,0,0,0,0,0,2,0,0,0,0,0,"",null,null,null,null,null,null,null,null,null,null,null,null,null,null,null,null,null,null,null,null,null,null,null,null,null,null,null,null,"","","","","","","",0,0,0,0,0,0,0]
[null,null,"7 a 8",{"$f":"SUM(E52+F52)","v":2},0,2,0,0,0,0,0,0,0,0,0,0,0,0,0,0,0,0,0,0,0,0,0,0,0,1,0,0,0,0,0,0,0,1,0,0,0,0,0,1,1,1,0,0,0,"",null,null,null,null,null,null,null,null,null,null,null,null,null,null,null,null,null,null,null,null,null,null,null,null,null,null,null,null,"","","","","","","",0,0,0,0,0,0,0]
[null,null,"9 o más",3,1,2,0,0,0,0,0,0,0,0,0,0,0,0,1,0,0,0,0,0,0,0,0,0,0,0,0,1,0,0,0,0,0,0,0,1,0,0,0,0,0,0,0,0,1,"",null,null,null,null,null,null,null,null,null,null,null,null,null,null,null,null,null,null,null,null,null,null,null,null,null,null,null,null,"","","","","","","",0,0,0,0,0,0,0]
["TOTAL",null,null,{"$f":"SUM(D48:D53)","v":70},{"$f":"SUM(E48:E53)","v":31},{"$f":"SUM(F48:F53)","v":39},{"$f":"SUM(G48:G53)","v":0},{"$f":"SUM(H48:H53)","v":2},1,0,10,15,12,8,5,5,0,1,1,0,0,0,0,0,0,0,0,1,0,1,0,4,0,0,0,0,1,1,0,1,1,0,0,4,1,1,1,0,{"$f":"SUM(AW48:AW53)","v":2}]
[" N° de dientes (total de dientes en boca. En dentición mixta se suman los dientes primarios y permanentes)",null,0,4,1,3,0,2,0,0,0,0,0,0,0,0,0,0,1,0,0,0,0,0,0,0,0,0,0,1,0,0,0,0,0,0,0,0,0,0,0,0,0,1,0,0,0,0,0,"",null,null,null,null,null,null,null,null,null,null,null,null,null,null,null,null,null,null,null,null,null,null,null,null,null,null,null,null,"","","","","","","",0,0,0,0,0,0,0]
[null,null,"1 a 9",0,0,0,0,0,0,0,0,0,0,0,0,0,0,0,0,0,0,0,0,0,0,0,0,0,0,0,0,0,0,0,0,0,0,0,0,0,0,0,0,0,0,0,0,0,0,"",null,null,null,null,null,null,null,null,null,null,null,null,null,null,null,null,null,null,null,null,null,null,null,null,null,null,null,null,"","","","","","","",0,0,0,0,0,0,0]
[null,null,"10 a 19",0,0,0,0,0,0,0,0,0,0,0,0,0,0,0,0,0,0,0,0,0,0,0,0,0,0,0,0,0,0,0,0,0,0,0,0,0,0,0,0,0,0,0,0,0,0,"",null,null,null,null,null,null,null,null,null,null,null,null,null,null,null,null,null,null,null,null,null,null,null,null,null,null,null,null,"","","","","","","",0,0,0,0,0,0,0]
[null,null,"20 a 27",0,0,0,0,0,0,0,0,0,0,0,0,0,0,0,0,0,0,0,0,0,0,0,0,0,0,0,0,0,0,0,0,0,0,0,0,0,0,0,0,0,0,0,0,0,0,"",null,null,null,null,null,null,null,null,null,null,null,null,null,null,null,null,null,null,null,null,null,null,null,null,null,null,null,null,"","","","","","","",0,0,0,0,0,0,0]
[null,null,"28 y más",0,{"$f":"SUM(G59+I59+K59+M59+O59+Q59+S59+U59+W59+Y59+AA59+AC59+AE59+AG59+AI59+AK59+AM59+AO59)","v":0},{"$f":"SUM(H59+J59+L59+N59+P59+R59+T59+V59+X59+Z59+AB59+AD59+AF59+AH59+AJ59+AL59+AN59+AP59)","v":0},0,0,0,0,0,0,0,0,0,0,0,0,0,0,0,0,0,0,0,0,0,0,0,0,0,0,0,0,0,0,0,0,0,0,0,0,0,0,0,0,0,0,0,"",null,null,null,null,null,null,null,null,null,null,null,null,null,null,null,null,null,null,null,null,null,null,null,null,null,null,null,null,"","","","","","","",0,0,0,0,0,0,0]
["TOTAL",null,null,{"$f":"SUM(D55:D59)","v":4},{"$f":"SUM(E55:E59)","v":1},{"$f":"SUM(F55:F59)","v":3},0,2,0,0,0,0,0,0,0,0,0,0,1,0,0,0,0,0,0,0,0,0,0,1,0,0,0,0,0,0,0,0,0,0,0,0,0,1,0,0,0,0,0]
["CÓDIGO EXAMEN PERIODONTAL BASICO (EPB) EN PACIENTES INGRESADOS",null,0,{"$f":"SUM(E61:F61)","v":0},{"$f":"SUM(AA61+AC61+AE61+AG61+AI61+AK61+AM61+AO61)","v":0},0,null,null,null,null,null,null,null,null,null,null,null,null,null,null,null,null,null,null,null,null,null,null,null,null,null,null,null,null,null,null,null,null,null,null,null,null,null,null,null,null,null,null,null,"",null,null,null,null,null,null,null,null,null,null,null,null,null,null,null,null,null,null,null,null,null,null,null,null,null,null,null,null,"","","","","","","",0,0,0,0,0,0,0]
[null,null,"1,2,3",{"$f":"SUM(E62:F62)","v":0},0,0,null,null,null,null,null,null,null,null,null,null,null,null,null,null,null,null,null,null,null,null,null,null,null,null,null,null,null,null,null,null,null,null,null,null,null,null,null,null,null,null,null,null,null,"",null,null,null,null,null,null,null,null,null,null,null,null,null,null,null,null,null,null,null,null,null,null,null,null,null,null,null,null,"","","","","","","",0,0,0,0,0,0,0]
[null,null,"4 y *",{"$f":"SUM(E63:F63)","v":0},0,0,null,null,null,null,null,null,null,null,null,null,null,null,null,null,null,null,null,null,null,null,null,null,null,null,null,null,null,null,null,null,null,null,null,null,null,null,null,null,null,null,null,null,null,"",null,null,null,null,null,null,null,null,null,null,null,null,null,null,null,null,null,null,null,null,null,null,null,null,null,null,null,null,"","","","","","","",0,0,0,0,0,0,0]
[null,null,"TOTAL",{"$f":"SUM(E64:F64)","v":0},{"$f":"SUM(E61:E63)","v":0},{"$f":"SUM(F61:F63)","v":0},null,null,null,null,null,null,null,null,null,null,null,null,null,null,null,null,null,null,null,null,{"$f":"SUM(AA61:AA63)","v":0},0,0,0,0,0,0,0,0,0,0,0,0,0,0,0,0,0,0,0,0,0,0]
["SECCIÓN D : INTERCONSULTAS GENERADAS EN ESTABLECIMIENTOS DE APS"]
["ESPECIALIDAD",null,null,"TOTAL","Gestantes","60 años","Usuarios con Discapacidad","Niños. Niñas, adolescentes y jóvenes Población SENAME","Migrantes"]
["ENDODONCIA",null,null,null,null,null,null,null,null,{"$f":"CA67&CB67&CC67&CD67&CE67","v":""},null,null,null,null,null,null,null,null,null,null,null,null,null,null,null,null,null,null,null,null,null,null,null,null,null,null,null,null,null,null,null,null,null,null,null,null,null,null,null,null,null,null,null,null,null,null,null,null,null,null,null,null,null,null,null,null,null,null,null,null,null,null,null,null,null,null,null,null,{"$f":"IF(CH67=1,\"* Las Interconsultas de Gestantes NO DEBEN ser mayor al Total de Interconsultas. \",\"\")","v":""},{"$f":"IF(CI67=1,\"* Las Interconsultas de Pacientes de 60 años NO DEBEN ser mayor al Total de Interconsultas. \",\"\")","v":""},{"$f":"IF(CJ67=1,\"* Las Interconsultas de Usuarios en situación de Discapacidad NO DEBEN ser mayor al Total de Interconsultas. \",\"\")","v":""},{"$f":"IF(CK67=1,\"* Las Interconsultas de Niños, Niñas, Adolescentes y Jóvenes Red SENAME NO DEBEN ser mayor al Total de Interconsultas. \",\"\")","v":""},{"$f":"IF(CL67=1,\"* Las Interconsultas de Migrantes NO DEBEN ser mayor al Total de Interconsultas. \",\"\")","v":""},null,null,{"$f":"IF($D67<E67,1,0)","v":0},{"$f":"IF($D67<F67,1,0)","v":0},0,0,0]
["REHABILITACIÓN ORAL","PRÓTESIS REMOVIBLES",null,null,null,null,null,null,null,{"$f":"CA68&CB68&CC68&CD68&CE68","v":""},null,null,null,null,null,null,null,null,null,null,null,null,null,null,null,null,null,null,null,null,null,null,null,null,null,null,null,null,null,null,null,null,null,null,null,null,null,null,null,null,null,null,null,null,null,null,null,null,null,null,null,null,null,null,null,null,null,null,null,null,null,null,null,null,null,null,null,null,{"$f":"IF(CH68=1,\"* Las Interconsultas de Gestantes NO DEBEN ser mayor al Total de Interconsultas. \",\"\")","v":""},{"$f":"IF(CI68=1,\"* Las Interconsultas de Pacientes de 60 años NO DEBEN ser mayor al Total de Interconsultas. \",\"\")","v":""},{"$f":"IF(CJ68=1,\"* Las Interconsultas de Usuarios en situación de Discapacidad NO DEBEN ser mayor al Total de Interconsultas. \",\"\")","v":""},{"$f":"IF(CK68=1,\"* Las Interconsultas de Niños, Niñas, Adolescentes y Jóvenes Red SENAME NO DEBEN ser mayor al Total de Interconsultas. \",\"\")","v":""},{"$f":"IF(CL68=1,\"* Las Interconsultas de Migrantes NO DEBEN ser mayor al Total de Interconsultas. \",\"\")","v":""},null,null,{"$f":"IF($D68<E68,1,0)","v":0},{"$f":"IF($D68<F68,1,0)","v":0},{"$f":"IF($D68<G68,1,0)","v":0},{"$f":"IF($D68<H68,1,0)","v":0},{"$f":"IF($D68<I68,1,0)","v":0}]
[null,"PRÓTESIS FIJA",null,null,null,null,null,null,null,"",null,null,null,null,null,null,null,null,null,null,null,null,null,null,null,null,null,null,null,null,null,null,null,null,null,null,null,null,null,null,null,null,null,null,null,null,null,null,null,null,null,null,null,null,null,null,null,null,null,null,null,null,null,null,null,null,null,null,null,null,null,null,null,null,null,null,null,null,"","","","","",null,null,0,0,0,0,0]
[null,"PRÓTESIS IMPLANTOASISTIDA",null,null,null,null,null,null,null,"",null,null,null,null,null,null,null,null,null,null,null,null,null,null,null,null,null,null,null,null,null,null,null,null,null,null,null,null,null,null,null,null,null,null,null,null,null,null,null,null,null,null,null,null,null,null,null,null,null,null,null,null,null,null,null,null,null,null,null,null,null,null,null,null,null,null,null,null,"","","","","",null,null,0,0,0,0,0]
["CIRUGÍA BUCAL ",null,null,null,null,null,null,null,null,"",null,null,null,null,null,null,null,null,null,null,null,null,null,null,null,null,null,null,null,null,null,null,null,null,null,null,null,null,null,null,null,null,null,null,null,null,null,null,null,null,null,null,null,null,null,null,null,null,null,null,null,null,null,null,null,null,null,null,null,null,null,null,null,null,null,null,null,null,"","","","","",null,null,0,0,0,0,0]
["CIRUGÍA Y TRAUMATOLOGÍA MAXILOFACIAL",null,null,null,null,null,null,null,null,"",null,null,null,null,null,null,null,null,null,null,null,null,null,null,null,null,null,null,null,null,null,null,null,null,null,null,null,null,null,null,null,null,null,null,null,null,null,null,null,null,null,null,null,null,null,null,null,null,null,null,null,null,null,null,null,null,null,null,null,null,null,null,null,null,null,null,null,null,"","","","","",null,null,0,0,0,0,0]
["ODONTOPEDIATRÍA ",null,null,null,null,null,null,null,null,"",null,null,null,null,null,null,null,null,null,null,null,null,null,null,null,null,null,null,null,null,null,null,null,null,null,null,null,null,null,null,null,null,null,null,null,null,null,null,null,null,null,null,null,null,null,null,null,null,null,null,null,null,null,null,null,null,null,null,null,null,null,null,null,null,null,null,null,null,"","","","","",null,null,0,0,0,0,0]
["ORTODONCIA Y ORTOPEDIA DENTOMAXILOFACIAL","ORTODONCIA Y ORTOPEDIA DENTOMAXILOFACIAL",null,null,null,null,null,null,null,"",null,null,null,null,null,null,null,null,null,null,null,null,null,null,null,null,null,null,null,null,null,null,null,null,null,null,null,null,null,null,null,null,null,null,null,null,null,null,null,null,null,null,null,null,null,null,null,null,null,null,null,null,null,null,null,null,null,null,null,null,null,null,null,null,null,null,null,null,"","","","","",null,null,0,0,0,0,0]
[null,"APARATOLOGÍA REMOVIBLE",null,null,null,null,null,null,null,"",null,null,null,null,null,null,null,null,null,null,null,null,null,null,null,null,null,null,null,null,null,null,null,null,null,null,null,null,null,null,null,null,null,null,null,null,null,null,null,null,null,null,null,null,null,null,null,null,null,null,null,null,null,null,null,null,null,null,null,null,null,null,null,null,null,null,null,null,"","","","","",null,null,0,0,0,0,0]
["PERIODONCIA",null,null,null,null,null,null,null,null,"",null,null,null,null,null,null,null,null,null,null,null,null,null,null,null,null,null,null,null,null,null,null,null,null,null,null,null,null,null,null,null,null,null,null,null,null,null,null,null,null,null,null,null,null,null,null,null,null,null,null,null,null,null,null,null,null,null,null,null,null,null,null,null,null,null,null,null,null,"","","","","",null,null,0,0,0,0,0]
["IMAGENOLOGÍA ORAL Y MAXILOFACIAL ",null,null,null,null,null,null,null,null,"",null,null,null,null,null,null,null,null,null,null,null,null,null,null,null,null,null,null,null,null,null,null,null,null,null,null,null,null,null,null,null,null,null,null,null,null,null,null,null,null,null,null,null,null,null,null,null,null,null,null,null,null,null,null,null,null,null,null,null,null,null,null,null,null,null,null,null,null,"","","","","",null,null,0,0,0,0,0]
["PATOLOGÍA ORAL",null,null,null,null,null,null,null,null,"",null,null,null,null,null,null,null,null,null,null,null,null,null,null,null,null,null,null,null,null,null,null,null,null,null,null,null,null,null,null,null,null,null,null,null,null,null,null,null,null,null,null,null,null,null,null,null,null,null,null,null,null,null,null,null,null,null,null,null,null,null,null,null,null,null,null,null,null,"","","","","",null,null,0,0,0,0,0]
["IMPLANTOLOGÍA BUCO MAXILOFACIAL",null,null,null,null,null,null,null,null,"",null,null,null,null,null,null,null,null,null,null,null,null,null,null,null,null,null,null,null,null,null,null,null,null,null,null,null,null,null,null,null,null,null,null,null,null,null,null,null,null,null,null,null,null,null,null,null,null,null,null,null,null,null,null,null,null,null,null,null,null,null,null,null,null,null,null,null,null,"","","","","",null,null,0,0,0,0,0]
["TRASTORNOS TEMPOROMANDIBULARES Y DOLOR OROFACIAL",null,null,null,null,null,null,null,null,"",null,null,null,null,null,null,null,null,null,null,null,null,null,null,null,null,null,null,null,null,null,null,null,null,null,null,null,null,null,null,null,null,null,null,null,null,null,null,null,null,null,null,null,null,null,null,null,null,null,null,null,null,null,null,null,null,null,null,null,null,null,null,null,null,null,null,null,null,{"$f":"IF(CH80=1,\"* Las Interconsultas de Gestantes NO DEBEN ser mayor al Total de Interconsultas. \",\"\")","v":""},{"$f":"IF(CI80=1,\"* Las Interconsultas de Pacientes de 60 años NO DEBEN ser mayor al Total de Interconsultas. \",\"\")","v":""},{"$f":"IF(CJ80=1,\"* Las Interconsultas de Usuarios en situación de Discapacidad NO DEBEN ser mayor al Total de Interconsultas. \",\"\")","v":""},{"$f":"IF(CK80=1,\"* Las Interconsultas de Niños, Niñas, Adolescentes y Jóvenes Red SENAME NO DEBEN ser mayor al Total de Interconsultas. \",\"\")","v":""},{"$f":"IF(CL80=1,\"* Las Interconsultas de Migrantes NO DEBEN ser mayor al Total de Interconsultas. \",\"\")","v":""},null,null,{"$f":"IF($D80<E80,1,0)","v":0},0,0,0,0]
["SOMATOPRÓTESIS",null,null,null,null,null,null,null,null,"",null,null,null,null,null,null,null,null,null,null,null,null,null,null,null,null,null,null,null,null,null,null,null,null,null,null,null,null,null,null,null,null,null,null,null,null,null,null,null,null,null,null,null,null,null,null,null,null,null,null,null,null,null,null,null,null,null,null,null,null,null,null,null,null,null,null,null,null,{"$f":"IF(CH81=1,\"* Las Interconsultas de Gestantes NO DEBEN ser mayor al Total de Interconsultas. \",\"\")","v":""},{"$f":"IF(CI81=1,\"* Las Interconsultas de Pacientes de 60 años NO DEBEN ser mayor al Total de Interconsultas. \",\"\")","v":""},{"$f":"IF(CJ81=1,\"* Las Interconsultas de Usuarios en situación de Discapacidad NO DEBEN ser mayor al Total de Interconsultas. \",\"\")","v":""},{"$f":"IF(CK81=1,\"* Las Interconsultas de Niños, Niñas, Adolescentes y Jóvenes Red SENAME NO DEBEN ser mayor al Total de Interconsultas. \",\"\")","v":""},{"$f":"IF(CL81=1,\"* Las Interconsultas de Migrantes NO DEBEN ser mayor al Total de Interconsultas. \",\"\")","v":""},null,null,{"$f":"IF($D81<E81,1,0)","v":0},{"$f":"IF($D81<F81,1,0)","v":0},{"$f":"IF($D81<G81,1,0)","v":0},{"$f":"IF($D81<H81,1,0)","v":0},{"$f":"IF($D81<I81,1,0)","v":0}]
["SECCIÓN E: CONSULTAS ODONTOLÓGICAS  EN HORARIO CONTINUADO (incluidas en  Secciones A y B. Excluye extensiones horarias de Sección G )"]
["JORNADA",null,null,"CONSULTAS  "]
[null,null,null,"TOTAL","Hombres","Mujeres"]
[" HORARIO CONTINUADO","VESPERTINA (LUNES-VIERNES)",null,{"$f":"SUM(E85+F85)","v":146},54,92]
[null,"SÁBADO, DOMINGO o FESTIVO",null,{"$f":"SUM(E86+F86)","v":120},39,81]
["SECCIÓN F:  ACTIVIDADES DE ATENCIÓN EN ESPECIALIDADES ODONTOLÓGICAS. "]
["ACTIVIDADES DE ESPECIALIDADES",null,null,"TOTAL",null,null,"SEGÚN GRUPOS DE EDAD O DE RIESGO",null,null,null,null,null,null,null,null,null,null,null,null,null,null,null,null,null,null,null,null,null,null,null,null,null,null,null,null,null,null,null,null,null,"12 años (incluidos en  grupo de 10-14 años)","Embarazadas","Beneficiarios","60 años incluidos en grupos de  60-64 años)","Compra de Servicios","Usuarios con Discapacidad ","Niños, niñas, adolescentes y jovenes RED SENAME","Migrantes"]
[null,null,null,null,null,null,"Menos de 1 año - 1 año",null,"2 años",null,"3 años",null,"4 años",null,"5 años",null,"6 años",null,"7 años",null,"8-9 años",null,"10-14 años",null,"15-19 años",null,"20-24 años ",null,"25-34 años",null,"35-44 años",null,"45-59 años",null,"60-64 años",null,"65-74 años",null,"75 y más años"]
[null,null,null,"Ambos Sexos","Hombres","Mujeres","Hombres","Mujeres","Hombres","Mujeres","Hombres","Mujeres","Hombres","Mujeres","Hombres","Mujeres","Hombres","Mujeres","Hombres","Mujeres","Hombres","Mujeres","Hombres","Mujeres","Hombres","Mujeres","Hombres","Mujeres","Hombres","Mujeres","Hombres","Mujeres","Hombres","Mujeres","Hombres","Mujeres","Hombres","Mujeres","Hombres","Mujeres"]
["EXAMEN Y DIAGNÓSTICO DE ESPECIALIDAD",null,null,{"$f":"SUM(E91:F91)","v":0},{"$f":"SUM(G91+I91+K91+M91+O91+Q91+S91+U91+W91+Y91+AA91+AC91+AE91+AG91+AI91+AK91+AM91)","v":0},{"$f":"SUM(H91+J91+L91+N91+P91+R91+T91+V91+X91+Z91+AB91+AD91+AF91+AH91+AJ91+AL91+AN91)","v":0},null,null,null,null,null,null,null,null,null,null,null,null,null,null,null,null,null,null,null,null,null,null,null,null,null,null,null,null,null,null,null,null,null,null,null,null,null,null,null,null,null,null,{"$f":"$CA91&$CB91&$CC91&$CD91&$CE91&$CF91&$CG91","v":""},null,null,null,null,null,null,null,null,null,null,null,null,null,null,null,null,null,null,null,null,null,null,null,null,null,null,null,null,null,{"$f":"IF(CH91=1,\"* Las consultas de 12 años NO DEBEN ser mayor que el total de Consultas entre 10-14 Años. \",\"\")","v":""},{"$f":"IF(CI91=1,\"* Las consultas de 60 años NO DEBEN ser mayor que el total de Consultas entre 60-64 Años. \",\"\")","v":""},{"$f":"IF(CJ91=1,\"* Las actividades de usuarios en situación de discapacidad NO DEBEN superar el total. \",\"\")","v":""},{"$f":"IF(AND(AP91=\"\",D91<>0),\"* Recuerde que las Embarazadas deben ser incluídas en el ingreso por rango Etario (Digite CEROS si no tiene). \",IF(F91<AP91,\"* Las Embarazadas NO DEBEN ser mayor al total de mujeres. \",\"\"))","v":""},{"$f":"IF(AND(AQ91=\"\",D91<>0),\"* No olvide digitar la columna Beneficiarios (Digite CEROS si no tiene). \",IF(D91<AQ91,\"* El número de Beneficiarios NO DEBE ser mayor que el Total. \",\"\"))","v":""},{"$f":"IF(AND(AU91=\"\",D91<>0),\"* No olvide digitar la Población SENAME (Digite CEROS si no tiene). \",IF(D91<AU91,\"* La Población SENAME NO DEBE ser mayor al Total. \",\"\"))","v":""},{"$f":"IF(AND(AV91=\"\",D91<>0),\"* No olvide digitar la Población Migrante (Digite CEROS si no tiene). \",IF(D91<AV91,\"* La Población Migrante NO DEBE superar el Total. \",\"\"))","v":""},{"$f":"IF(AO91>(W91+X91),1,0)","v":0},{"$f":"IF(AR91>(AI91+AJ91),1,0)","v":0},{"$f":"IF(D91<AT91,1,0)","v":0},{"$f":"IF(AND(AP91=\"\",D91<>0),1,IF(F91<AP91,1,0))","v":0},{"$f":"IF(AND(AQ91=\"\",D91<>0),1,IF(D91<AQ91,1,0))","v":0},{"$f":"IF(AND(AU91=\"\",D91<>0),1,IF(D91<AU91,1,0))","v":0},{"$f":"IF(AND(AV91=\"\",D91<>0),1,IF(D91<AV91,1,0))","v":0}]
["EDUCACIÓN EN SALUD BUCAL",null,null,{"$f":"SUM(E92:F92)","v":0},{"$f":"SUM(G92+I92+K92+M92+O92+Q92+S92+U92+W92+Y92+AA92+AC92+AE92+AG92+AI92+AK92+AM92)","v":0},{"$f":"SUM(H92+J92+L92+N92+P92+R92+T92+V92+X92+Z92+AB92+AD92+AF92+AH92+AJ92+AL92+AN92)","v":0},null,null,null,null,null,null,null,null,null,null,null,null,null,null,null,null,null,null,null,null,null,null,null,null,null,null,null,null,null,null,null,null,null,null,null,null,null,null,null,null,null,null,"",null,null,null,null,null,null,null,null,null,null,null,null,null,null,null,null,null,null,null,null,null,null,null,null,null,null,null,null,null,{"$f":"IF(CH92=1,\"* Las consultas de 12 años NO DEBEN ser mayor que el total de Consultas entre 10-14 Años. \",\"\")","v":""},{"$f":"IF(CI92=1,\"* Las consultas de 60 años NO DEBEN ser mayor que el total de Consultas entre 60-64 Años. \",\"\")","v":""},{"$f":"IF(CJ92=1,\"* Las actividades de usuarios en situación de discapacidad NO DEBEN superar el total. \",\"\")","v":""},{"$f":"IF(AND(AP92=\"\",D92<>0),\"* Recuerde que las Embarazadas deben ser incluídas en el ingreso por rango Etario (Digite CEROS si no tiene). \",IF(F92<AP92,\"* Las Embarazadas NO DEBEN ser mayor al total de mujeres. \",\"\"))","v":""},{"$f":"IF(AND(AQ92=\"\",D92<>0),\"* No olvide digitar la columna Beneficiarios (Digite CEROS si no tiene). \",IF(D92<AQ92,\"* El número de Beneficiarios NO DEBE ser mayor que el Total. \",\"\"))","v":""},{"$f":"IF(AND(AU92=\"\",D92<>0),\"* No olvide digitar la Población SENAME (Digite CEROS si no tiene). \",IF(D92<AU92,\"* La Población SENAME NO DEBE ser mayor al Total. \",\"\"))","v":""},{"$f":"IF(AND(AV92=\"\",D92<>0),\"* No olvide digitar la Población Migrante (Digite CEROS si no tiene). \",IF(D92<AV92,\"* La Población Migrante NO DEBE superar el Total. \",\"\"))","v":""},{"$f":"IF(AO92>(W92+X92),1,0)","v":0},{"$f":"IF(AR92>(AI92+AJ92),1,0)","v":0},{"$f":"IF(D92<AT92,1,0)","v":0},{"$f":"IF(AND(AP92=\"\",D92<>0),1,IF(F92<AP92,1,0))","v":0},{"$f":"IF(AND(AQ92=\"\",D92<>0),1,IF(D92<AQ92,1,0))","v":0},{"$f":"IF(AND(AU92=\"\",D92<>0),1,IF(D92<AU92,1,0))","v":0},{"$f":"IF(AND(AV92=\"\",D92<>0),1,IF(D92<AV92,1,0))","v":0}]
["RESPUESTA A INTERCONSULTA PERSONAS HOSPITALIZADOS",null,null,0,0,0,null,null,null,null,null,null,null,null,null,null,null,null,null,null,null,null,null,null,null,null,null,null,null,null,null,null,null,null,null,null,null,null,null,null,null,null,null,null,null,null,null,null,"",null,null,null,null,null,null,null,null,null,null,null,null,null,null,null,null,null,null,null,null,null,null,null,null,null,null,null,null,null,"","","","","","","",0,0,0,0,0,0,0]
["VISITA A SALA",null,null,0,0,0,null,null,null,null,null,null,null,null,null,null,null,null,null,null,null,null,null,null,null,null,null,null,null,null,null,null,null,null,null,null,null,null,null,null,null,null,null,null,null,null,null,null,"",null,null,null,null,null,null,null,null,null,null,null,null,null,null,null,null,null,null,null,null,null,null,null,null,null,null,null,null,null,"","","","","","","",0,0,0,0,0,0,0]
["CONTRALORÍA CLÍNICA",null,null,0,0,0,null,null,null,null,null,null,null,null,null,null,null,null,null,null,null,null,null,null,null,null,null,null,null,null,null,null,null,null,null,null,null,null,null,null,null,null,null,null,null,null,null,null,"",null,null,null,null,null,null,null,null,null,null,null,null,null,null,null,null,null,null,null,null,null,null,null,null,null,null,null,null,null,"","","","","","","",0,0,0,0,0,0,0]
["CIRUGÍA TERCER MOLAR",null,null,0,{"$f":"SUM(Y96+AA96+AC96+AE96+AG96+AI96+AK96+AM96)","v":0},{"$f":"SUM(Z96+AB96+AD96+AF96+AH96+AJ96+AL96+AN96)","v":0},null,null,null,null,null,null,null,null,null,null,null,null,null,null,null,null,null,null,null,null,null,null,null,null,null,null,null,null,null,null,null,null,null,null,null,null,null,null,null,null,null,null,"",null,null,null,null,null,null,null,null,null,null,null,null,null,null,null,null,null,null,null,null,null,null,null,null,null,null,null,null,null,null,"","","","","","",null,0,0,0,0,0,0]
["CIRUGÍA MENOR AMBULATORIA",null,null,0,0,0,null,null,null,null,null,null,null,null,null,null,null,null,null,null,null,null,null,null,null,null,null,null,null,null,null,null,null,null,null,null,null,null,null,null,null,null,null,null,null,null,null,null,"",null,null,null,null,null,null,null,null,null,null,null,null,null,null,null,null,null,null,null,null,null,null,null,null,null,null,null,null,null,"","","","","","","",0,0,0,0,0,0,0]
["CIRUGÍA MAYOR AMBULATORIA",null,null,0,0,0,null,null,null,null,null,null,null,null,null,null,null,null,null,null,null,null,null,null,null,null,null,null,null,null,null,null,null,null,null,null,null,null,null,null,null,null,null,null,null,null,null,null,"",null,null,null,null,null,null,null,null,null,null,null,null,null,null,null,null,null,null,null,null,null,null,null,null,null,null,null,null,null,"","","","","","","",0,0,0,0,0,0,0]
["TRATAMIENTO TRAUMATISMO DENTOALVEOLAR",null,null,0,0,0,null,null,null,null,null,null,null,null,null,null,null,null,null,null,null,null,null,null,null,null,null,null,null,null,null,null,null,null,null,null,null,null,null,null,null,null,null,null,null,null,null,null,"",null,null,null,null,null,null,null,null,null,null,null,null,null,null,null,null,null,null,null,null,null,null,null,null,null,null,null,null,null,"","","","","","","",0,0,0,0,0,0,0]
["OBTURACIÓN DIRECTA",null,null,0,0,0,null,null,null,null,null,null,null,null,null,null,null,null,null,null,null,null,null,null,null,null,null,null,null,null,null,null,null,null,null,null,null,null,null,null,null,null,null,null,null,null,null,null,"",null,null,null,null,null,null,null,null,null,null,null,null,null,null,null,null,null,null,null,null,null,null,null,null,null,null,null,null,null,"","","","","","","",0,0,0,0,0,0,0]
["OBTURACIÓN INDIRECTA (INLAYS U ONLAYS)",null,null,0,{"$f":"SUM(Y101+AA101+AC101+AE101+AG101+AI101+AK101+AM101)","v":0},{"$f":"SUM(Z101+AB101+AD101+AF101+AH101+AJ101+AL101+AN101)","v":0},null,null,null,null,null,null,null,null,null,null,null,null,null,null,null,null,null,null,null,null,null,null,null,null,null,null,null,null,null,null,null,null,null,null,null,null,null,null,null,null,null,null,"",null,null,null,null,null,null,null,null,null,null,null,null,null,null,null,null,null,null,null,null,null,null,null,null,null,null,null,null,null,null,"","","","","","",null,0,0,0,0,0,0]
["INSTALACIÓN APARATO REMOVIBLE ORTODÓNCICO",null,null,0,{"$f":"SUM(G102+I102+K102+M102+O102+Q102+S102+U102+W102+Y102)","v":0},{"$f":"SUM(H102+J102+L102+N102+P102+R102+T102+V102+X102+Z102)","v":0},null,null,null,null,null,null,null,null,null,null,null,null,null,null,null,null,null,null,null,null,null,null,null,null,null,null,null,null,null,null,null,null,null,null,null,null,null,null,null,null,null,null,"",null,null,null,null,null,null,null,null,null,null,null,null,null,null,null,null,null,null,null,null,null,null,null,null,null,null,null,null,null,"",null,"","","","","",0,null,0,0,0,0,0]
["INSTALACIÓN APARATO FIJO ORTODÓNCICO",null,null,0,0,0,null,null,null,null,null,null,null,null,null,null,null,null,null,null,null,null,null,null,null,null,null,null,null,null,null,null,null,null,null,null,null,null,null,null,null,null,null,null,null,null,null,null,"",null,null,null,null,null,null,null,null,null,null,null,null,null,null,null,null,null,null,null,null,null,null,null,null,null,null,null,null,null,"","","","","","","",0,0,0,0,0,0,0]
["INSTALACIÓN APARATO DE CONTENCIÓN ORTODÓNCICO",null,null,0,0,0,null,null,null,null,null,null,null,null,null,null,null,null,null,null,null,null,null,null,null,null,null,null,null,null,null,null,null,null,null,null,null,null,null,null,null,null,null,null,null,null,null,null,"",null,null,null,null,null,null,null,null,null,null,null,null,null,null,null,null,null,null,null,null,null,null,null,null,null,null,null,null,null,"","","","","","","",0,0,0,0,0,0,0]
["RETIRO APARATOLOGÍA DE ORTODONCIA",null,null,0,0,0,null,null,null,null,null,null,null,null,null,null,null,null,null,null,null,null,null,null,null,null,null,null,null,null,null,null,null,null,null,null,null,null,null,null,null,null,null,null,null,null,null,null,"",null,null,null,null,null,null,null,null,null,null,null,null,null,null,null,null,null,null,null,null,null,null,null,null,null,null,null,null,null,"","","","","","","",0,0,0,0,0,0,0]
["ORTOPEDIA PREQUIRÚRGICA",null,null,0,0,0,null,null,null,null,null,null,null,null,null,null,null,null,null,null,null,null,null,null,null,null,null,null,null,null,null,null,null,null,null,null,null,null,null,null,null,null,null,null,null,null,null,null,"",null,null,null,null,null,null,null,null,null,null,null,null,null,null,null,null,null,null,null,null,null,null,null,null,null,null,null,null,null,"","","","","","","",0,0,0,0,0,0,0]
["ORTODONCIA PREVENTIVA E INTERCEPTIVA (OPI)",null,null,0,{"$f":"SUM(G107+I107+K107+M107+O107+Q107+S107+U107+W107)","v":0},{"$f":"SUM(H107+J107+L107+N107+P107+R107+T107+V107+X107)","v":0},null,null,null,null,null,null,null,null,null,null,null,null,null,null,null,null,null,null,null,null,null,null,null,null,null,null,null,null,null,null,null,null,null,null,null,null,null,null,null,null,null,null,"",null,null,null,null,null,null,null,null,null,null,null,null,null,null,null,null,null,null,null,null,null,null,null,null,null,null,null,null,null,"",null,"","","","","",0,null,0,0,0,0,0]
["TRATAMIENTO ENDODONCIA UNIRRADICULAR",null,null,0,{"$f":"SUM(Q108+S108+U108+W108+Y108+AA108+AC108+AE108+AG108+AI108+AK108+AM108)","v":0},{"$f":"SUM(R108+T108+V108+X108+Z108+AB108+AD108+AF108+AH108+AJ108+AL108+AN108)","v":0},null,null,null,null,null,null,null,null,null,null,null,null,null,null,null,null,null,null,null,null,null,null,null,null,null,null,null,null,null,null,null,null,null,null,null,null,null,null,null,null,null,null,"",null,null,null,null,null,null,null,null,null,null,null,null,null,null,null,null,null,null,null,null,null,null,null,null,null,null,null,null,null,"","","","","","","",0,0,0,0,0,0,0]
["TRATAMIENTO ENDODONCIA BIRRADICULAR",null,null,0,{"$f":"SUM(Q109+S109+U109+W109+Y109+AA109+AC109+AE109+AG109+AI109+AK109+AM109)","v":0},{"$f":"SUM(R109+T109+V109+X109+Z109+AB109+AD109+AF109+AH109+AJ109+AL109+AN109)","v":0},null,null,null,null,null,null,null,null,null,null,null,null,null,null,null,null,null,null,null,null,null,null,null,null,null,null,null,null,null,null,null,null,null,null,null,null,null,null,null,null,null,null,"",null,null,null,null,null,null,null,null,null,null,null,null,null,null,null,null,null,null,null,null,null,null,null,null,null,null,null,null,null,"","","","","","","",0,0,0,0,0,0,0]
["TRATAMIENTO ENDODONCIA MULTIRRADICULAR",null,null,0,0,0,null,null,null,null,null,null,null,null,null,null,null,null,null,null,null,null,null,null,null,null,null,null,null,null,null,null,null,null,null,null,null,null,null,null,null,null,null,null,null,null,null,null,"",null,null,null,null,null,null,null,null,null,null,null,null,null,null,null,null,null,null,null,null,null,null,null,null,null,null,null,null,null,"","","","","","","",0,0,0,0,0,0,0]
["INDUCCIÓN AL CIERRE APICAL",null,null,0,{"$f":"SUM(Q111+S111+U111+W111+Y111)","v":0},{"$f":"SUM(R111+T111+V111+X111+Z111)","v":0},null,null,null,null,null,null,null,null,null,null,null,null,null,null,null,null,null,null,null,null,null,null,null,null,null,null,null,null,null,null,null,null,null,null,null,null,null,null,null,null,null,null,"",null,null,null,null,null,null,null,null,null,null,null,null,null,null,null,null,null,null,null,null,null,null,null,null,null,null,null,null,null,"",null,"",null,"","","",0,null,0,null,0,0,0]
["RETRATAMIENTO DE ENDODONCIA",null,null,0,{"$f":"SUM(Q112+S112+U112+W112+Y112+AA112+AC112+AE112+AG112+AI112+AK112+AM112)","v":0},{"$f":"SUM(R112+T112+V112+X112+Z112+AB112+AD112+AF112+AH112+AJ112+AL112+AN112)","v":0},null,null,null,null,null,null,null,null,null,null,null,null,null,null,null,null,null,null,null,null,null,null,null,null,null,null,null,null,null,null,null,null,null,null,null,null,null,null,null,null,null,null,"",null,null,null,null,null,null,null,null,null,null,null,null,null,null,null,null,null,null,null,null,null,null,null,null,null,null,null,null,null,"","","","","","","",0,0,0,0,0,0,0]
["CIRUGÍA APICAL",null,null,0,{"$f":"SUM(Q113+S113+U113+W113+Y113+AA113+AC113+AE113+AG113+AI113+AK113+AM113)","v":0},{"$f":"SUM(R113+T113+V113+X113+Z113+AB113+AD113+AF113+AH113+AJ113+AL113+AN113)","v":0},null,null,null,null,null,null,null,null,null,null,null,null,null,null,null,null,null,null,null,null,null,null,null,null,null,null,null,null,null,null,null,null,null,null,null,null,null,null,null,null,null,null,"",null,null,null,null,null,null,null,null,null,null,null,null,null,null,null,null,null,null,null,null,null,null,null,null,null,null,null,null,null,"","","","","","","",0,0,0,0,0,0,0]
["ADAPTACIÓN A LA ATENCIÓN ODONTOLÓGICA ",null,null,0,0,0,null,null,null,null,null,null,null,null,null,null,null,null,null,null,null,null,null,null,null,null,null,null,null,null,null,null,null,null,null,null,null,null,null,null,null,null,null,null,null,null,null,null,"",null,null,null,null,null,null,null,null,null,null,null,null,null,null,null,null,null,null,null,null,null,null,null,null,null,null,null,null,null,"","","","","","","",0,0,0,0,0,0,0]
["PROCEDIMIENTO RESTAURADOR (ODONTOPEDIATRÍA)",null,null,0,0,0,null,null,null,null,null,null,null,null,null,null,null,null,null,null,null,null,null,null,null,null,null,null,null,null,null,null,null,null,null,null,null,null,null,null,null,null,null,null,null,null,null,null,"",null,null,null,null,null,null,null,null,null,null,null,null,null,null,null,null,null,null,null,null,null,null,null,null,null,null,null,null,null,"","","","","","","",0,0,0,0,0,0,0]
["PROCEDIMIENTO PULPAR (ODONTOPEDIATRÍA)",null,null,0,0,0,null,null,null,null,null,null,null,null,null,null,null,null,null,null,null,null,null,null,null,null,null,null,null,null,null,null,null,null,null,null,null,null,null,null,null,null,null,null,null,null,null,null,"",null,null,null,null,null,null,null,null,null,null,null,null,null,null,null,null,null,null,null,null,null,null,null,null,null,null,null,null,null,"","","","","","","",0,0,0,0,0,0,0]
["CIRUGÍA AMBULATORIA (ODONTOPEDIATRÍA)",null,null,0,0,0,null,null,null,null,null,null,null,null,null,null,null,null,null,null,null,null,null,null,null,null,null,null,null,null,null,null,null,null,null,null,null,null,null,null,null,null,null,null,null,null,null,null,"",null,null,null,null,null,null,null,null,null,null,null,null,null,null,null,null,null,null,null,null,null,null,null,null,null,null,null,null,null,"","","","","","","",0,0,0,0,0,0,0]
["DESTARTRAJE SUBGINGIVAL O PULIDO RADICULAR ",null,null,0,{"$f":"SUM(S118+U118+W118+Y118+AA118+AC118+AE118+AG118+AI118+AK118+AM118)","v":0},{"$f":"SUM(T118+V118+X118+Z118+AB118+AD118+AF118+AH118+AJ118+AL118+AN118)","v":0},null,null,null,null,null,null,null,null,null,null,null,null,null,null,null,null,null,null,null,null,null,null,null,null,null,null,null,null,null,null,null,null,null,null,null,null,null,null,null,null,null,null,"",null,null,null,null,null,null,null,null,null,null,null,null,null,null,null,null,null,null,null,null,null,null,null,null,null,null,null,null,null,"","","","","","","",0,0,0,0,0,0,0]
["DESTARTRAJE SUPRAGINGIVAL O PULIDO CORONARIO",null,null,0,{"$f":"SUM(S119+U119+W119+Y119+AA119+AC119+AE119+AG119+AI119+AK119+AM119)","v":0},{"$f":"SUM(T119+V119+X119+Z119+AB119+AD119+AF119+AH119+AJ119+AL119+AN119)","v":0},null,null,null,null,null,null,null,null,null,null,null,null,null,null,null,null,null,null,null,null,null,null,null,null,null,null,null,null,null,null,null,null,null,null,null,null,null,null,null,null,null,null,"",null,null,null,null,null,null,null,null,null,null,null,null,null,null,null,null,null,null,null,null,null,null,null,null,null,null,null,null,null,"","","","","","","",0,0,0,0,0,0,0]
["PROCEDIMIENTO QUIRÚRGICO (PERIODONCIA)",null,null,0,{"$f":"SUM(U120+W120+Y120+AA120+AC120+AE120+AG120+AI120+AK120+AM120)","v":0},{"$f":"SUM(V120+X120+Z120+AB120+AD120+AF120+AH120+AJ120+AL120+AN120)","v":0},null,null,null,null,null,null,null,null,null,null,null,null,null,null,null,null,null,null,null,null,null,null,null,null,null,null,null,null,null,null,null,null,null,null,null,null,null,null,null,null,null,null,"",null,null,null,null,null,null,null,null,null,null,null,null,null,null,null,null,null,null,null,null,null,null,null,null,null,null,null,null,null,"","","","","","","",0,0,0,0,0,0,0]
["PROCEDIMIENTO QUIRÚRGICO PERIIMPLANTAR (PERIODONCIA)",null,null,0,{"$f":"SUM(Y121+AA121+AC121+AE121+AG121+AI121+AK121+AM121)","v":0},{"$f":"SUM(Z121+AB121+AD121+AF121+AH121+AJ121+AL121+AN121)","v":0},null,null,null,null,null,null,null,null,null,null,null,null,null,null,null,null,null,null,null,null,null,null,null,null,null,null,null,null,null,null,null,null,null,null,null,null,null,null,null,null,null,null,"",null,null,null,null,null,null,null,null,null,null,null,null,null,null,null,null,null,null,null,null,null,null,null,null,null,null,null,null,null,null,"","","","","","",null,0,0,0,0,0,0]
["FERULIZACIÓN",null,null,0,0,0,null,null,null,null,null,null,null,null,null,null,null,null,null,null,null,null,null,null,null,null,null,null,null,null,null,null,null,null,null,null,null,null,null,null,null,null,null,null,null,null,null,null,"",null,null,null,null,null,null,null,null,null,null,null,null,null,null,null,null,null,null,null,null,null,null,null,null,null,null,null,null,null,"","","","","","","",0,0,0,0,0,0,0]
["REHABILITACIÓN MEDIANTE PRÓTESIS REMOVIBLE ACRÍLICA PARCIAL O TOTAL",null,null,0,{"$f":"SUM(Y123+AA123+AC123+AE123+AG123+AI123+AK123+AM123)","v":0},{"$f":"SUM(Z123+AB123+AD123+AF123+AH123+AJ123+AL123+AN123)","v":0},null,null,null,null,null,null,null,null,null,null,null,null,null,null,null,null,null,null,null,null,null,null,null,null,null,null,null,null,null,null,null,null,null,null,null,null,null,null,null,null,null,null,"",null,null,null,null,null,null,null,null,null,null,null,null,null,null,null,null,null,null,null,null,null,null,null,null,null,null,null,null,null,null,"","","","","","",null,0,0,0,0,0,0]
["REHABILITACIÓN MEDIANTE PRÓTESIS REMOVIBLE METÁLICA PARCIAL",null,null,0,{"$f":"SUM(Y124+AA124+AC124+AE124+AG124+AI124+AK124+AM124)","v":0},{"$f":"SUM(Z124+AB124+AD124+AF124+AH124+AJ124+AL124+AN124)","v":0},null,null,null,null,null,null,null,null,null,null,null,null,null,null,null,null,null,null,null,null,null,null,null,null,null,null,null,null,null,null,null,null,null,null,null,null,null,null,null,null,null,null,"",null,null,null,null,null,null,null,null,null,null,null,null,null,null,null,null,null,null,null,null,null,null,null,null,null,null,null,null,null,null,"","","","","","",null,0,0,0,0,0,0]
["REHABILITACIÓN MEDIANTE PRÓTESIS FIJA UNITARIA O PLURAL",null,null,0,0,0,null,null,null,null,null,null,null,null,null,null,null,null,null,null,null,null,null,null,null,null,null,null,null,null,null,null,null,null,null,null,null,null,null,null,null,null,null,null,null,null,null,null,"",null,null,null,null,null,null,null,null,null,null,null,null,null,null,null,null,null,null,null,null,null,null,null,null,null,null,null,null,null,null,"","","","","","",null,0,0,0,0,0,0]
["REHABILITACIÓN MEDIANTE PRÓTESIS FIJA IMPLANTOASISTIDA",null,null,0,0,0,null,null,null,null,null,null,null,null,null,null,null,null,null,null,null,null,null,null,null,null,null,null,null,null,null,null,null,null,null,null,null,null,null,null,null,null,null,null,null,null,null,null,"",null,null,null,null,null,null,null,null,null,null,null,null,null,null,null,null,null,null,null,null,null,null,null,null,null,null,null,null,null,null,"","","","","","",null,0,0,0,0,0,0]
["REHABILITACIÓN MEDIANTE PRÓTESIS MUCO-  IMPLANTOASISTIDA",null,null,0,{"$f":"SUM(Y127+AA127+AC127+AE127+AG127+AI127+AK127+AM127)","v":0},0,null,null,null,null,null,null,null,null,null,null,null,null,null,null,null,null,null,null,null,null,null,null,null,null,null,null,null,null,null,null,null,null,null,null,null,null,null,null,null,null,null,null,"",null,null,null,null,null,null,null,null,null,null,null,null,null,null,null,null,null,null,null,null,null,null,null,null,null,null,null,null,null,null,"","","","","","",null,0,0,0,0,0,0]
["REPARACIÓN DE PRÓTESIS",null,null,0,0,0,null,null,null,null,null,null,null,null,null,null,null,null,null,null,null,null,null,null,null,null,null,null,null,null,null,null,null,null,null,null,null,null,null,null,null,null,null,null,null,null,null,null,"",null,null,null,null,null,null,null,null,null,null,null,null,null,null,null,null,null,null,null,null,null,null,null,null,null,null,null,null,null,null,"","","","","","",null,0,0,0,0,0,0]
["IMPLANTOLOGÍA QUIRÚRGICA",null,null,0,0,0,null,null,null,null,null,null,null,null,null,null,null,null,null,null,null,null,null,null,null,null,null,null,null,null,null,null,null,null,null,null,null,null,null,null,null,null,null,null,null,null,null,null,"",null,null,null,null,null,null,null,null,null,null,null,null,null,null,null,null,null,null,null,null,null,null,null,null,null,null,null,null,null,null,"","","","","","",null,0,0,0,0,0,0]
["TOMA DE BIOPSIA",null,null,0,0,0,null,null,null,null,null,null,null,null,null,null,null,null,null,null,null,null,null,null,null,null,null,null,null,null,null,null,null,null,null,null,null,null,null,null,null,null,null,null,null,null,null,null,"",null,null,null,null,null,null,null,null,null,null,null,null,null,null,null,null,null,null,null,null,null,null,null,null,null,null,null,null,null,"","","","","","","",0,0,0,0,0,0,0]
["ESTUDIO HISTOPATOLÓGICO",null,null,0,0,0,null,null,null,null,null,null,null,null,null,null,null,null,null,null,null,null,null,null,null,null,null,null,null,null,null,null,null,null,null,null,null,null,null,null,null,null,null,null,null,null,null,null,"",null,null,null,null,null,null,null,null,null,null,null,null,null,null,null,null,null,null,null,null,null,null,null,null,null,null,null,null,null,"","","","","","","",0,0,0,0,0,0,0]
["SIALOMETRÍA",null,null,0,0,0,null,null,null,null,null,null,null,null,null,null,null,null,null,null,null,null,null,null,null,null,null,null,null,null,null,null,null,null,null,null,null,null,null,null,null,null,null,null,null,null,null,null,"",null,null,null,null,null,null,null,null,null,null,null,null,null,null,null,null,null,null,null,null,null,null,null,null,null,null,null,null,null,"","","","","","","",0,0,0,0,0,0,0]
["TERAPIA FARMACOLÓGICA DE LESIONES DEL TERRITORIO ORAL Y MAXILOFACIAL",null,null,0,0,0,null,null,null,null,null,null,null,null,null,null,null,null,null,null,null,null,null,null,null,null,null,null,null,null,null,null,null,null,null,null,null,null,null,null,null,null,null,null,null,null,null,null,"",null,null,null,null,null,null,null,null,null,null,null,null,null,null,null,null,null,null,null,null,null,null,null,null,null,null,null,null,null,"","","","","","","",0,0,0,0,0,0,0]
["TERAPIA NO FARMACOLÓGICA DE LESIONES DEL TERRITORIO ORAL Y MAXILOFACIAL",null,null,0,0,0,null,null,null,null,null,null,null,null,null,null,null,null,null,null,null,null,null,null,null,null,null,null,null,null,null,null,null,null,null,null,null,null,null,null,null,null,null,null,null,null,null,null,"",null,null,null,null,null,null,null,null,null,null,null,null,null,null,null,null,null,null,null,null,null,null,null,null,null,null,null,null,null,"","","","","","","",0,0,0,0,0,0,0]
["ESTUDIO CLÍNICO LESIONES DEL TERRITORIO ORAL MAXILOFACIAL",null,null,0,0,0,null,null,null,null,null,null,null,null,null,null,null,null,null,null,null,null,null,null,null,null,null,null,null,null,null,null,null,null,null,null,null,null,null,null,null,null,null,null,null,null,null,null,"",null,null,null,null,null,null,null,null,null,null,null,null,null,null,null,null,null,null,null,null,null,null,null,null,null,null,null,null,null,"","","","","","","",0,0,0,0,0,0,0]
["TERAPIA FÍSICA EN TRASTORNOS TEMPOROMANDIBULARES (TTM) Y DOLOR OROFACIAL (DOF)",null,null,0,0,0,null,null,null,null,null,null,null,null,null,null,null,null,null,null,null,null,null,null,null,null,null,null,null,null,null,null,null,null,null,null,null,null,null,null,null,null,null,null,null,null,null,null,"",null,null,null,null,null,null,null,null,null,null,null,null,null,null,null,null,null,null,null,null,null,null,null,null,null,null,null,null,null,"","","","","","","",0,0,0,0,0,0,0]
["INFILTRACIÓN EN ARTICULACIÓN TEMPORO MANDIBULAR (ATM)",null,null,0,0,0,null,null,null,null,null,null,null,null,null,null,null,null,null,null,null,null,null,null,null,null,null,null,null,null,null,null,null,null,null,null,null,null,null,null,null,null,null,null,null,null,null,null,"",null,null,null,null,null,null,null,null,null,null,null,null,null,null,null,null,null,null,null,null,null,null,null,null,null,null,null,null,null,"","","","","","","",0,0,0,0,0,0,0]
["BLOQUEO ANESTÉSICO Y/O MEDICAMENTOSO EN TTM Y DOF",null,null,0,0,0,null,null,null,null,null,null,null,null,null,null,null,null,null,null,null,null,null,null,null,null,null,null,null,null,null,null,null,null,null,null,null,null,null,null,null,null,null,null,null,null,null,null,"",null,null,null,null,null,null,null,null,null,null,null,null,null,null,null,null,null,null,null,null,null,null,null,null,null,null,null,null,null,"","","","","","","",0,0,0,0,0,0,0]
["ARTROCENTESIS EN ATM",null,null,0,0,0,null,null,null,null,null,null,null,null,null,null,null,null,null,null,null,null,null,null,null,null,null,null,null,null,null,null,null,null,null,null,null,null,null,null,null,null,null,null,null,null,null,null,"",null,null,null,null,null,null,null,null,null,null,null,null,null,null,null,null,null,null,null,null,null,null,null,null,null,null,null,null,null,"","","","","","","",0,0,0,0,0,0,0]
["TERAPIA BIOCONDUCTUAL",null,null,0,0,0,null,null,null,null,null,null,null,null,null,null,null,null,null,null,null,null,null,null,null,null,null,null,null,null,null,null,null,null,null,null,null,null,null,null,null,null,null,null,null,null,null,null,"",null,null,null,null,null,null,null,null,null,null,null,null,null,null,null,null,null,null,null,null,null,null,null,null,null,null,null,null,null,"","","","","","","",0,0,0,0,0,0,0]
["DESGASTE SELECTIVO",null,null,0,0,0,null,null,null,null,null,null,null,null,null,null,null,null,null,null,null,null,null,null,null,null,null,null,null,null,null,null,null,null,null,null,null,null,null,null,null,null,null,null,null,null,null,null,"",null,null,null,null,null,null,null,null,null,null,null,null,null,null,null,null,null,null,null,null,null,null,null,null,null,null,null,null,null,"","","","","","","",0,0,0,0,0,0,0]
["INSTALACIÓN DE DISPOSITIVO ORTOPÉDICO",null,null,0,0,0,null,null,null,null,null,null,null,null,null,null,null,null,null,null,null,null,null,null,null,null,null,null,null,null,null,null,null,null,null,null,null,null,null,null,null,null,null,null,null,null,null,null,"",null,null,null,null,null,null,null,null,null,null,null,null,null,null,null,null,null,null,null,null,null,null,null,null,null,null,null,null,null,"","","","","","","",0,0,0,0,0,0,0]
["ACTIVIDADES SOMATOPRÓTESIS",null,null,0,0,0,null,null,null,null,null,null,null,null,null,null,null,null,null,null,null,null,null,null,null,null,null,null,null,null,null,null,null,null,null,null,null,null,null,null,null,null,null,null,null,null,null,null,"",null,null,null,null,null,null,null,null,null,null,null,null,null,null,null,null,null,null,null,null,null,null,null,null,null,null,null,null,null,"","","","","","","",0,0,0,0,0,0,0]
["REHABILITACIÓN DE PRÓTESIS MAXILOFACIAL",null,null,0,0,0,null,null,null,null,null,null,null,null,null,null,null,null,null,null,null,null,null,null,null,null,null,null,null,null,null,null,null,null,null,null,null,null,null,null,null,null,null,null,null,null,null,null,"",null,null,null,null,null,null,null,null,null,null,null,null,null,null,null,null,null,null,null,null,null,null,null,null,null,null,null,null,null,"","","","","","","",0,0,0,0,0,0,0]
["TOTAL",null,null,0,0,0,{"$f":"SUM(G91:G144)","v":0},0,0,0,0,0,0,0,0,0,0,0,0,0,0,0,0,0,0,0,0,0,0,0,0,0,0,0,0,0,0,0,0,0,{"$f":"SUM(AO91:AO144)","v":0},{"$f":"SUM(AP91:AP144)","v":0},{"$f":"SUM(AQ91:AQ144)","v":0},{"$f":"SUM(AR91:AR144)","v":0},{"$f":"SUM(AS91:AS144)","v":0},0,0,0]
["SECCIÓN F.1:  ACTIVIDADES DE IMAGENOLOGÍA ORAL Y MAXILOFACIAL."]
["ACTIVIDADES DE APOYO",null,null,"TOTAL",null,null,"SEGÚN GRUPOS DE EDAD O DE RIESGO",null,null,null,null,null,null,null,null,null,null,null,null,null,null,null,null,null,null,null,null,null,null,null,null,null,null,null,null,null,null,null,null,null,null,null,"12 años (incluidos en  grupo de 10-14 años)","Embarazadas","Beneficiarios","60 años (incluido en grupos de 60-64 años)","Compra de Servicio","Usuarios con Discapacidad ","Niños, niñas, adolescentes y jovenes RED SENAME","Migrantes"]
[null,null,null,null,null,null,"Menos de 1 año",null,"1 año",null,"2 años",null,"3 años",null,"4 años",null,"5 años",null,"6 años",null,"7 años",null,"8-9 años",null,"10-14 años",null,"15-19 años",null,"20-24 años ",null,"25-34 años",null,"35-44 años",null,"45-59 años",null,"60-64 años",null,"65-74 años",null,"75 y más años"]
[null,null,null,"Total ","Hombres","Mujeres","Hombres","Mujeres","Hombres","Mujeres","Hombres","Mujeres","Hombres","Mujeres","Hombres","Mujeres","Hombres","Mujeres","Hombres","Mujeres","Hombres","Mujeres","Hombres","Mujeres","Hombres","Mujeres","Hombres","Mujeres","Hombres","Mujeres","Hombres","Mujeres","Hombres","Mujeres","Hombres","Mujeres","Hombres","Mujeres","Hombres","Mujeres","Hombres","Mujeres"]
["RADIOGRAFÍA INTRAORAL MEDIANTE TÉCNICAS RETROALVEOLARES (POR PLACA)",null,null,{"$f":"SUM(G150:AP150)","v":0},{"$f":"SUM(G150+I150+K150+M150+O150+Q150+S150+U150+W150+Y150+AA150+AC150+AE150+AG150+AI150+AK150+AM150+AO150)","v":0},{"$f":"SUM(H150+J150+L150+N150+P150+R150+T150+V150+X150+Z150+AB150+AD150+AF150+AH150+AJ150+AL150+AN150+AP150)","v":0},null,null,null,null,null,null,null,null,null,null,null,null,null,null,null,null,null,null,null,null,null,null,null,null,null,null,null,null,null,null,null,null,null,null,null,null,null,null,null,null,null,null,null,null,{"$f":"$CA150&$CB150&$CC150&$CD150&$CE150&$CF150&$CG150","v":""},null,null,null,null,null,null,null,null,null,null,null,null,null,null,null,null,null,null,null,null,null,null,null,null,null,null,null,{"$f":"IF(CH150=1,\"* Las consultas de 12 años NO DEBEN ser mayor que el total de Consultas entre 10-14 Años. \",\"\")","v":""},{"$f":"IF(CI150=1,\"* Las consultas de 60 años NO DEBEN ser mayor que el total de Consultas entre 60-64 Años. \",\"\")","v":""},{"$f":"IF(CJ150=1,\"* Las actividades de usuarios en situación de discapacidad NO DEBEN superar el total. \",\"\")","v":""},{"$f":"IF(AND(AR150=\"\",D150<>0),\"* Recuerde que las Embarazadas deben ser incluídas en el ingreso por rango Etario (Digite CEROS si no tiene). \",IF(F150<AR150,\"* Las Embarazadas NO DEBEN ser mayor al total de mujeres. \",\"\"))","v":""},{"$f":"IF(AND(AS150=\"\",D150<>0),\"* No olvide digitar la columna Beneficiarios (Digite CEROS si no tiene). \",IF(D150<AS150,\"* El número de Beneficiarios NO DEBE ser mayor que el Total. \",\"\"))","v":""},{"$f":"IF(AND(AW150=\"\",D150<>0),\"* No olvide digitar la Población SENAME (Digite CEROS si no tiene). \",IF(D150<AW150,\"* La Población SENAME NO DEBE ser mayor al Total. \",\"\"))","v":""},{"$f":"IF(AND(AX150=\"\",D150<>0),\"* No olvide digitar la Población Migrante (Digite CEROS si no tiene). \",IF(D150<AX150,\"* La Población Migrante NO DEBE superar el Total. \",\"\"))","v":""},{"$f":"IF(AQ150>(Y150+Z150),1,0)","v":0},{"$f":"IF(AT150>(AK150+AL150),1,0)","v":0},{"$f":"IF(D150<AV150,1,0)","v":0},{"$f":"IF(AND(AR150=\"\",D150<>0),1,IF(F150<AR150,1,0))","v":0},{"$f":"IF(AND(AS150=\"\",D150<>0),1,IF(D150<AS150,1,0))","v":0},{"$f":"IF(AND(AW150=\"\",D150<>0),1,IF(D150<AW150,1,0))","v":0},{"$f":"IF(AND(AX150=\"\",D150<>0),1,IF(D150<AX150,1,0))","v":0}]
["RADIOGRAFÍA INTRAORAL MEDIANTE TÉCNICAS BITE WING (POR PLACA)",null,null,{"$f":"SUM(G151:AP151)","v":0},{"$f":"SUM(G151+I151+K151+M151+O151+Q151+S151+U151+W151+Y151+AA151+AC151+AE151+AG151+AI151+AK151+AM151+AO151)","v":0},{"$f":"SUM(H151+J151+L151+N151+P151+R151+T151+V151+X151+Z151+AB151+AD151+AF151+AH151+AJ151+AL151+AN151+AP151)","v":0},null,null,null,null,null,null,null,null,null,null,null,null,null,null,null,null,null,null,null,null,null,null,null,null,null,null,null,null,null,null,null,null,null,null,null,null,null,null,null,null,null,null,null,null,"",null,null,null,null,null,null,null,null,null,null,null,null,null,null,null,null,null,null,null,null,null,null,null,null,null,null,null,{"$f":"IF(CH151=1,\"* Las consultas de 12 años NO DEBEN ser mayor que el total de Consultas entre 10-14 Años. \",\"\")","v":""},{"$f":"IF(CI151=1,\"* Las consultas de 60 años NO DEBEN ser mayor que el total de Consultas entre 60-64 Años. \",\"\")","v":""},{"$f":"IF(CJ151=1,\"* Las actividades de usuarios en situación de discapacidad NO DEBEN superar el total. \",\"\")","v":""},{"$f":"IF(AND(AR151=\"\",D151<>0),\"* Recuerde que las Embarazadas deben ser incluídas en el ingreso por rango Etario (Digite CEROS si no tiene). \",IF(F151<AR151,\"* Las Embarazadas NO DEBEN ser mayor al total de mujeres. \",\"\"))","v":""},{"$f":"IF(AND(AS151=\"\",D151<>0),\"* No olvide digitar la columna Beneficiarios (Digite CEROS si no tiene). \",IF(D151<AS151,\"* El número de Beneficiarios NO DEBE ser mayor que el Total. \",\"\"))","v":""},{"$f":"IF(AND(AW151=\"\",D151<>0),\"* No olvide digitar la Población SENAME (Digite CEROS si no tiene). \",IF(D151<AW151,\"* La Población SENAME NO DEBE ser mayor al Total. \",\"\"))","v":""},{"$f":"IF(AND(AX151=\"\",D151<>0),\"* No olvide digitar la Población Migrante (Digite CEROS si no tiene). \",IF(D151<AX151,\"* La Población Migrante NO DEBE superar el Total. \",\"\"))","v":""},{"$f":"IF(AQ151>(Y151+Z151),1,0)","v":0},{"$f":"IF(AT151>(AK151+AL151),1,0)","v":0},{"$f":"IF(D151<AV151,1,0)","v":0},{"$f":"IF(AND(AR151=\"\",D151<>0),1,IF(F151<AR151,1,0))","v":0},{"$f":"IF(AND(AS151=\"\",D151<>0),1,IF(D151<AS151,1,0))","v":0},{"$f":"IF(AND(AW151=\"\",D151<>0),1,IF(D151<AW151,1,0))","v":0},{"$f":"IF(AND(AX151=\"\",D151<>0),1,IF(D151<AX151,1,0))","v":0}]
["RADIOGRAFÍA EXTRAORAL (POR PLACA)",null,null,{"$f":"SUM(G152:AP152)","v":0},0,0,null,null,null,null,null,null,null,null,null,null,null,null,null,null,null,null,null,null,null,null,null,null,null,null,null,null,null,null,null,null,null,null,null,null,null,null,null,null,null,null,null,null,null,null,"",null,null,null,null,null,null,null,null,null,null,null,null,null,null,null,null,null,null,null,null,null,null,null,null,null,null,null,"","","","","","","",0,0,0,0,0,0,0]
["RADIOGRAFÍA OCLUSAL (POR PLACA)",null,null,0,0,0,null,null,null,null,null,null,null,null,null,null,null,null,null,null,null,null,null,null,null,null,null,null,null,null,null,null,null,null,null,null,null,null,null,null,null,null,null,null,null,null,null,null,null,null,"",null,null,null,null,null,null,null,null,null,null,null,null,null,null,null,null,null,null,null,null,null,null,null,null,null,null,null,"","","","","","","",0,0,0,0,0,0,0]
["TELERRADIOGRAFÍA (POR PLACA)",null,null,0,0,0,null,null,null,null,null,null,null,null,null,null,null,null,null,null,null,null,null,null,null,null,null,null,null,null,null,null,null,null,null,null,null,null,null,null,null,null,null,null,null,null,null,null,null,null,"",null,null,null,null,null,null,null,null,null,null,null,null,null,null,null,null,null,null,null,null,null,null,null,null,null,null,null,"","","","","","","",0,0,0,0,0,0,0]
["RADIOGRAFÍA PANORÁMICA (POR PLACA)",null,null,0,0,0,null,null,null,null,null,null,null,null,null,null,null,null,null,null,null,null,null,null,null,null,null,null,null,null,null,null,null,null,null,null,null,null,null,null,null,null,null,null,null,null,null,null,null,null,"",null,null,null,null,null,null,null,null,null,null,null,null,null,null,null,null,null,null,null,null,null,null,null,null,null,null,null,"","","","","","","",0,0,0,0,0,0,0]
["TOMOGRAFÍA COMPUTACIONAL MAXILO FACIAL CONE BEAM (POR ADQUISICIÓN)",null,null,0,0,0,null,null,null,null,null,null,null,null,null,null,null,null,null,null,null,null,null,null,null,null,null,null,null,null,null,null,null,null,null,null,null,null,null,null,null,null,null,null,null,null,null,null,null,null,"",null,null,null,null,null,null,null,null,null,null,null,null,null,null,null,null,null,null,null,null,null,null,null,null,null,null,null,"","","","","","","",0,0,0,0,0,0,0]
["SIALOGRAFÍAS (POR PROCEDIMIENTO)",null,null,0,0,0,null,null,null,null,null,null,null,null,null,null,null,null,null,null,null,null,null,null,null,null,null,null,null,null,null,null,null,null,null,null,null,null,null,null,null,null,null,null,null,null,null,null,null,null,"",null,null,null,null,null,null,null,null,null,null,null,null,null,null,null,null,null,null,null,null,null,null,null,null,null,null,null,"","","","","","","",0,0,0,0,0,0,0]
["PROCEDIMIENTO IMAGENOLÓGICO COMPLEJO (POR PROCEDIMIENTO)",null,null,0,{"$f":"SUM(G158+I158+K158+M158+O158+Q158+S158+U158+W158+Y158+AA158+AC158+AE158+AG158+AI158+AK158+AM158+AO158)","v":0},0,null,null,null,null,null,null,null,null,null,null,null,null,null,null,null,null,null,null,null,null,null,null,null,null,null,null,null,null,null,null,null,null,null,null,null,null,null,null,null,null,null,null,null,null,"",null,null,null,null,null,null,null,null,null,null,null,null,null,null,null,null,null,null,null,null,null,null,null,null,null,null,null,"","","","","","","",0,0,0,0,0,0,0]
["TOTAL",null,null,{"$f":"SUM(D150:D158)","v":0},{"$f":"SUM(E150:E158)","v":0},{"$f":"SUM(F150:F158)","v":0},{"$f":"SUM(G150:G158)","v":0},0,0,0,0,0,0,0,0,0,0,0,0,0,0,0,0,0,0,0,0,0,0,0,0,0,0,0,0,0,0,0,0,0,0,0,0,0,0,0,0,{"$f":"SUM(AV150:AV158)","v":0},{"$f":"SUM(AW150:AW158)","v":0},{"$f":"SUM(AX150:AX158)","v":0}]
["SECCIÓN G: PROGRAMAS ESPECIALES Y GES (Actividades incluidas en Sección B)"]
["PROGRAMA - ACTIVIDAD",null,null,"TOTAL",null,null,"SEGÚN GRUPOS DE EDAD O DE RIESGO",null,null,null,null,null,null,null,null,null,null,null,null,null,null,null,null,null,null,null,null,null,null,null,null,null,null,null,null,null,null,null,null,null,null,null,"Compra de Servicio","Usuarios con Discapacidad","Niños, niñas, adolescentes y jovenes RED SENAME","Migrantes","Egreso por Abandono","Paciente Diabético en Control Programa Salud Cardiovascular"]
[null,null,null,null,null,null,"Menos de 1 año",null,"1 año",null,"2 años",null,"3 años",null,"4 años",null,"5 años",null,"6 años",null,"7 años",null,"8-9 años",null,"10-14 años",null,"15-19 años",null,"20-24 años ",null,"25-34 años",null,"35-44 años",null,"45-59 años",null,"60-64 años",null,"65-74 años",null,"75 y más años"]
[null,null,null,"Ambos Sexos","Hombres","Mujeres","Hombres","Mujeres","Hombres","Mujeres","Hombres","Mujeres","Hombres","Mujeres","Hombres","Mujeres","Hombres","Mujeres","Hombres","Mujeres","Hombres","Mujeres","Hombres","Mujeres","Hombres","Mujeres","Hombres","Mujeres","Hombres","Mujeres","Hombres","Mujeres","Hombres","Mujeres","Hombres","Mujeres","Hombres","Mujeres","Hombres","Mujeres","Hombres","Mujeres"]
["PROGRAMA ODONTOLÓGICO INTEGRAL, ESTRATEGIA MÁS SONRISAS PARA CHILE","N°AUDITORÍAS CLÍNICAS REALIZADAS",null,{"$f":"SUM(E164+F164)","v":0},null,{"$f":"SUM(AD164+AF164+AH164+AJ164+AL164+AN164+AP164)","v":0},null,null,null,null,null,null,null,null,null,null,null,null,null,null,null,null,null,null,null,null,null,null,null,null,null,null,null,null,null,null,null,null,null,null,null,null,null,null,null,null,null,null,{"$f":"$CA164&$CB164&$CC164&$CD164&$CE164&$CF164&$CG164","v":""},null,null,null,null,null,null,null,null,null,null,null,null,null,null,null,null,null,null,null,null,null,null,null,null,null,null,null,null,null,{"$f":"IF(CH164=1,\"* El número de actividades en usuarios en situacion de discapacidad NO DEBE ser mayor al total. \",\"\")","v":""},{"$f":"IF(CI164=1,\" * El número de actividades en Niños, Niñas, Adolescentes y Jóvenes de la red SENAME NO DEBE ser mayor al total. \",\"\")","v":""},{"$f":"IF(CJ164=1,\" * El número de actividades en Población Migrante NO DEBE ser mayor al total. \",\"\")","v":""},{"$f":"IF(CK164=1,\" * El número de actividades en Pacientes Diabéticos en Control PSCV NO DEBE superar el total. \",\"\")","v":""},null,null,null,{"$f":"IF($D164<AR164,1,0)","v":0},{"$f":"IF($D164<AS164,1,0)","v":0},{"$f":"IF($D164<AT164,1,0)","v":0},{"$f":"IF($D164<AV164,1,0)","v":0}]
[null,"PRÓTESIS REMOVIBLES",null,{"$f":"SUM(E165+F165)","v":19},null,{"$f":"SUM(AD165+AF165+AH165+AJ165+AL165+AN165+AP165)","v":19},null,null,null,null,null,null,null,null,null,null,null,null,null,null,null,null,null,null,null,null,null,null,null,null,null,null,null,null,null,10,null,null,null,2,null,7,null,null,null,null,null,null,"",null,null,null,null,null,null,null,null,null,null,null,null,null,null,null,null,null,null,null,null,null,null,null,null,null,null,null,null,null,{"$f":"IF(CH165=1,\"* El número de actividades en usuarios en situacion de discapacidad NO DEBE ser mayor al total. \",\"\")","v":""},{"$f":"IF(CI165=1,\" * El número de actividades en Niños, Niñas, Adolescentes y Jóvenes de la red SENAME NO DEBE ser mayor al total. \",\"\")","v":""},{"$f":"IF(CJ165=1,\" * El número de actividades en Población Migrante NO DEBE ser mayor al total. \",\"\")","v":""},{"$f":"IF(CK165=1,\" * El número de actividades en Pacientes Diabéticos en Control PSCV NO DEBE superar el total. \",\"\")","v":""},null,null,null,{"$f":"IF($D165<AR165,1,0)","v":0},{"$f":"IF($D165<AS165,1,0)","v":0},{"$f":"IF($D165<AT165,1,0)","v":0},{"$f":"IF($D165<AV165,1,0)","v":0}]
[null,"REPARACIÓN DE PRÓTESIS",null,0,null,0,null,null,null,null,null,null,null,null,null,null,null,null,null,null,null,null,null,null,null,null,null,null,null,null,null,null,null,null,null,null,null,null,null,null,null,null,null,null,null,null,null,null,"",null,null,null,null,null,null,null,null,null,null,null,null,null,null,null,null,null,null,null,null,null,null,null,null,null,null,null,null,null,"","","","",null,null,null,0,0,0,0]
[null,"ALTAS INTEGRALES","TOTAL",16,null,16,null,null,null,null,null,null,null,null,null,null,null,null,null,null,null,null,null,null,null,null,null,null,null,{"$f":"SUM(AD168:AD173)","v":0},null,2,null,1,null,7,null,1,null,2,null,3,{"$f":"SUM(AQ168:AQ173)","v":0},0,0,0,0,3,""]
[null,null,"JUNJI-INTEGRA-MINEDUC",0,null,{"$f":"SUM(AD168+AF168+AH168+AJ168+AL168+AN168+AP168)","v":0},null,null,null,null,null,null,null,null,null,null,null,null,null,null,null,null,null,null,null,null,null,null,null,null,null,null,null,null,null,null,null,null,null,null,null,null,null,null,null,null,null,null,"",null,null,null,null,null,null,null,null,null,null,null,null,null,null,null,null,null,null,null,null,null,null,null,null,null,null,null,null,null,"","","","",null,null,null,0,0,0,0]
[null,null,"SERNAM",0,null,0,null,null,null,null,null,null,null,null,null,null,null,null,null,null,null,null,null,null,null,null,null,null,null,null,null,null,null,null,null,null,null,null,null,null,null,null,null,null,null,null,null,null,"",null,null,null,null,null,null,null,null,null,null,null,null,null,null,null,null,null,null,null,null,null,null,null,null,null,null,null,null,null,"","","","",null,null,null,0,0,0,0]
[null,null,"PRODEMU",0,null,0,null,null,null,null,null,null,null,null,null,null,null,null,null,null,null,null,null,null,null,null,null,null,null,null,null,null,null,null,null,null,null,null,null,null,null,null,null,null,null,null,null,null,"",null,null,null,null,null,null,null,null,null,null,null,null,null,null,null,null,null,null,null,null,null,null,null,null,null,null,null,null,null,"","","","",null,null,null,0,0,0,0]
[null,null,"CHILE SOLIDARIO ",0,null,0,null,null,null,null,null,null,null,null,null,null,null,null,null,null,null,null,null,null,null,null,null,null,null,null,null,null,null,null,null,null,null,null,null,null,null,null,null,null,null,null,null,null,"",null,null,null,null,null,null,null,null,null,null,null,null,null,null,null,null,null,null,null,null,null,null,null,null,null,null,null,null,null,"","","","",null,null,null,0,0,0,0]
[null,null,"MINVU",0,null,0,null,null,null,null,null,null,null,null,null,null,null,null,null,null,null,null,null,null,null,null,null,null,null,null,null,null,null,null,null,null,null,null,null,null,null,null,null,null,null,null,null,null,"",null,null,null,null,null,null,null,null,null,null,null,null,null,null,null,null,null,null,null,null,null,null,null,null,null,null,null,null,null,"","","","",null,null,null,0,0,0,0]
[null,null,"DEMANDA LOCAL",16,null,16,null,null,null,null,null,null,null,null,null,null,null,null,null,null,null,null,null,null,null,null,null,null,null,null,null,2,null,1,null,7,null,1,null,2,null,3,null,null,null,null,null,3,"",null,null,null,null,null,null,null,null,null,null,null,null,null,null,null,null,null,null,null,null,null,null,null,null,null,null,null,null,null,"","","","",null,null,null,0,0,0,0]
["PROGRAMA ODONTOLÓGICO INTEGRAL, ESTRATEGIA HOMBRES DE ESCASOS RECURSOS ","ALTAS INTEGRALES/ACTIVIDADES","PRÓTESIS REMOVIBLES",{"$f":"SUM(E174+F174)","v":4},{"$f":"SUM(AC174+AE174+AG174+AI174+AK174+AM174+AO174)","v":4},null,null,null,null,null,null,null,null,null,null,null,null,null,null,null,null,null,null,null,null,null,null,null,null,null,null,null,null,null,null,null,null,null,4,null,null,null,null,null,null,null,null,null,"",null,null,null,null,null,null,null,null,null,null,null,null,null,null,null,null,null,null,null,null,null,null,null,null,null,null,null,null,null,"","","","",null,null,null,0,0,0,0]
[null,null,"TOTAL ALTAS INTEGRALES",4,{"$f":"SUM(AC175+AE175+AG175+AI175+AK175+AM175+AO175)","v":4},null,null,null,null,null,null,null,null,null,null,null,null,null,null,null,null,null,null,null,null,null,null,null,null,null,null,null,null,null,null,null,null,null,4,null,null,null,null,null,null,null,null,null,"",null,null,null,null,null,null,null,null,null,null,null,null,null,null,null,null,null,null,null,null,null,null,null,null,null,null,null,null,null,"","","","",null,null,null,0,0,0,0]
[null,null,"Nº DE AUDITORIAS CLÍNICAS REALIZADAS",0,0,null,null,null,null,null,null,null,null,null,null,null,null,null,null,null,null,null,null,null,null,null,null,null,null,null,null,null,null,null,null,null,null,null,null,null,null,null,null,null,null,null,null,null,"",null,null,null,null,null,null,null,null,null,null,null,null,null,null,null,null,null,null,null,null,null,null,null,null,null,null,null,null,null,"","","","",null,null,null,0,0,0,0]
[null,null,"REPARACIÓN DE PROTESIS",0,0,null,null,null,null,null,null,null,null,null,null,null,null,null,null,null,null,null,null,null,null,null,null,null,null,null,null,null,null,null,null,null,null,null,null,null,null,null,null,null,null,null,null,null,"",null,null,null,null,null,null,null,null,null,null,null,null,null,null,null,null,null,null,null,null,null,null,null,null,null,null,null,null,null,"","","","",null,null,null,0,0,0,0]
["PROGRAMA ODONTOLÓGICO INTEGRAL, ESTRATEGIA ATENCION ODONTOLOGICA EN DOMICILIO","ALTAS ODONTOLOGICAS","TOTAL ALTAS ",{"$f":"SUM(E178:F178)","v":20},{"$f":"+G178+I178+K178+M178+O178+Q178+S178+U178+W178+Y178+AA178+AC178+AE178+AG178+AI178+AK178+AM178+AO178","v":15},5,{"$f":"SUM(G179:G180)","v":0},{"$f":"SUM(H179:H180)","v":0},0,0,{"$f":"SUM(K179:K180)","v":0},0,0,0,0,0,0,0,0,0,0,0,0,0,1,0,1,0,1,0,0,1,4,1,0,0,4,2,4,0,0,1,0,0,0,0,{"$f":"SUM(AU179:AU180)","v":0},{"$f":"SUM(AV179:AV180)","v":1},""]
[null,null,"ALTAS PERSONAS CON DEPENDENCIA SEVERA",{"$f":"SUM(E179:F179)","v":20},15,5,null,null,null,null,null,null,null,null,null,null,null,null,null,null,null,null,null,null,1,0,1,0,1,0,0,1,4,1,0,0,4,2,4,0,0,1,null,null,null,null,null,1,"",null,null,null,null,null,null,null,null,null,null,null,null,null,null,null,null,null,null,null,null,null,null,null,null,null,null,null,null,null,"","","","",null,null,null,0,0,0,0]
[null,null,"ALTAS CUIDADORES PERSONAS CON DEPENDENCIA",{"$f":"SUM(E180:F180)","v":0},0,0,null,null,null,null,null,null,null,null,null,null,null,null,null,null,null,null,null,null,null,null,null,null,null,null,null,null,null,null,null,null,null,null,null,null,null,null,null,null,null,null,null,null,"",null,null,null,null,null,null,null,null,null,null,null,null,null,null,null,null,null,null,null,null,null,null,null,null,null,null,null,null,null,"","","","",null,null,null,0,0,0,0]
["PROGRAMA MEJORAMIENTO DEL ACCESO, ESTRATEGIA RESOLUCIÓN DE ESPECIALIDAD EN APS","TRATAMIENTO ENDODONCIA","N° PACIENTES",{"$f":"SUM(E181+F181)","v":0},{"$f":"SUM(AA181+AC181+AE181+AG181+AI181+AK181+AM181+AO181)","v":0},{"$f":"SUM(AB181+AD181+AF181+AH181+AJ181+AL181+AN181+AP181)","v":0},null,null,null,null,null,null,null,null,null,null,null,null,null,null,null,null,null,null,null,null,null,null,null,null,null,null,null,null,null,null,null,null,null,null,null,null,null,null,null,null,null,null,"",null,null,null,null,null,null,null,null,null,null,null,null,null,null,null,null,null,null,null,null,null,null,null,null,null,null,null,null,null,"","","","",null,null,null,0,0,0,0]
[null,null,"N° DIENTES TRATADOS POR ODONTOLOGO GRAL",{"$f":"SUM(E182+F182)","v":0},{"$f":"SUM(AA182+AC182+AE182+AG182+AI182+AK182+AM182+AO182)","v":0},0,null,null,null,null,null,null,null,null,null,null,null,null,null,null,null,null,null,null,null,null,null,null,null,null,null,null,null,null,null,null,null,null,null,null,null,null,null,null,null,null,null,null,"",null,null,null,null,null,null,null,null,null,null,null,null,null,null,null,null,null,null,null,null,null,null,null,null,null,null,null,null,null,"","","","",null,null,null,0,0,0,0]
[null,null,"N° DIENTES TRATADOS POR  ENDODONCISTA",{"$f":"SUM(E183+F183)","v":0},{"$f":"SUM(AA183+AC183+AE183+AG183+AI183+AK183+AM183+AO183)","v":0},0,null,null,null,null,null,null,null,null,null,null,null,null,null,null,null,null,null,null,null,null,null,null,null,null,null,null,null,null,null,null,null,null,null,null,null,null,null,null,null,null,null,null,"",null,null,null,null,null,null,null,null,null,null,null,null,null,null,null,null,null,null,null,null,null,null,null,null,null,null,null,null,null,"","","","",null,null,null,0,0,0,0]
[null,"TRATAMIENTO DE PERIODONCIA","N° PACIENTES",0,{"$f":"SUM(AA184+AC184+AE184+AG184+AI184+AK184+AM184+AO184)","v":0},0,null,null,null,null,null,null,null,null,null,null,null,null,null,null,null,null,null,null,null,null,null,null,null,null,null,null,null,null,null,null,null,null,null,null,null,null,null,null,null,null,null,null,"",null,null,null,null,null,null,null,null,null,null,null,null,null,null,null,null,null,null,null,null,null,null,null,null,null,null,null,null,null,"","","","",null,null,null,0,0,0,0]
[null,null,"N° DE SEXTANTES POR PERIODONCISTA",0,{"$f":"SUM(AA185+AC185+AE185+AG185+AI185+AK185+AM185+AO185)","v":0},0,null,null,null,null,null,null,null,null,null,null,null,null,null,null,null,null,null,null,null,null,null,null,null,null,null,null,null,null,null,null,null,null,null,null,null,null,null,null,null,null,null,null,"",null,null,null,null,null,null,null,null,null,null,null,null,null,null,null,null,null,null,null,null,null,null,null,null,null,null,null,null,null,"","","","",null,null,null,0,0,0,0]
[null,"PRÓTESIS REMOVIBLES","N° PACIENTES",1,{"$f":"SUM(AC186+AE186+AG186+AI186+AK186+AM186+AO186)","v":1},{"$f":"SUM(AD186+AF186+AH186+AJ186+AL186+AN186+AP186)","v":0},null,null,null,null,null,null,null,null,null,null,null,null,null,null,null,null,null,null,null,null,null,null,null,null,null,null,null,null,null,null,null,null,null,null,1,null,null,null,null,null,null,null,"",null,null,null,null,null,null,null,null,null,null,null,null,null,null,null,null,null,null,null,null,null,null,null,null,null,null,null,null,null,"","","","",null,null,null,0,0,0,0]
[null,null,"N° PRÓTESIS REALIZADAS POR ODONTOLOGO GRAL",7,{"$f":"SUM(AC187+AE187+AG187+AI187+AK187+AM187+AO187)","v":7},0,null,null,null,null,null,null,null,null,null,null,null,null,null,null,null,null,null,null,null,null,null,null,null,null,null,null,null,null,null,null,null,null,null,null,7,null,null,null,null,null,null,null,"",null,null,null,null,null,null,null,null,null,null,null,null,null,null,null,null,null,null,null,null,null,null,null,null,null,null,null,null,null,"","","","",null,null,null,0,0,0,0]
[null,null,"N° PRÓTESIS REALIZADAS POR REHABILITADORES ORALES",0,0,{"$f":"SUM(AD188+AF188+AH188+AJ188+AL188+AN188+AP188)","v":0},null,null,null,null,null,null,null,null,null,null,null,null,null,null,null,null,null,null,null,null,null,null,null,null,null,null,null,null,null,null,null,null,null,null,null,null,null,null,null,null,null,null,"",null,null,null,null,null,null,null,null,null,null,null,null,null,null,null,null,null,null,null,null,null,null,null,null,null,null,null,null,null,"","","","",null,null,null,0,0,0,0]
["PROGRAMA GES ODONTOLÓGICO ADULTO DE 60 AÑOS.","ALTAS INTEGRALES",null,{"$f":"SUM(E189+F189)","v":7},{"$f":"SUM(AC189+AE189+AG189+AI189+AK189)","v":4},{"$f":"SUM(AD189+AF189+AH189+AJ189+AL189)","v":3},null,null,null,null,null,null,null,null,null,null,null,null,null,null,null,null,null,null,null,null,null,null,0,0,0,0,0,0,0,0,4,3,null,null,null,null,null,null,null,null,null,1,"",null,null,null,null,null,null,null,null,null,null,null,null,null,null,null,null,null,null,null,null,null,null,null,null,null,null,null,null,null,"","","","",null,null,null,0,0,0,0]
[null,"TRATAMIENTO ENDODONCIA","N° PACIENTES",0,{"$f":"SUM(AC190+AE190+AG190+AI190+AK190)","v":0},{"$f":"SUM(AD190+AF190+AH190+AJ190+AL190)","v":0},null,null,null,null,null,null,null,null,null,null,null,null,null,null,null,null,null,null,null,null,null,null,0,0,0,0,0,0,0,0,0,0,null,null,null,null,null,null,null,null,null,0,"",null,null,null,null,null,null,null,null,null,null,null,null,null,null,null,null,null,null,null,null,null,null,null,null,null,null,null,null,null,"","","","",null,null,null,0,0,0,0]
[null,null,"N° DIENTES",0,0,0,null,null,null,null,null,null,null,null,null,null,null,null,null,null,null,null,null,null,null,null,null,null,0,0,0,0,0,0,0,0,0,0,null,null,null,null,null,null,null,null,null,0,"",null,null,null,null,null,null,null,null,null,null,null,null,null,null,null,null,null,null,null,null,null,null,null,null,null,null,null,null,null,"","","","",null,null,null,0,0,0,0]
[null,"PRÓTESIS REMOVIBLES","N° PACIENTES",4,3,1,null,null,null,null,null,null,null,null,null,null,null,null,null,null,null,null,null,null,null,null,null,null,0,0,0,0,0,0,0,0,3,1,null,null,null,null,null,null,null,null,null,1,"",null,null,null,null,null,null,null,null,null,null,null,null,null,null,null,null,null,null,null,null,null,null,null,null,null,null,null,null,null,"","","","",null,null,null,0,0,0,0]
[null,null,"N° PRÓTESIS",8,6,2,null,null,null,null,null,null,null,null,null,null,null,null,null,null,null,null,null,null,null,null,null,null,0,0,0,0,0,0,0,0,6,2,null,null,null,null,null,null,null,null,null,1,"",null,null,null,null,null,null,null,null,null,null,null,null,null,null,null,null,null,null,null,null,null,null,null,null,null,null,null,null,null,"","","","",null,null,null,0,0,0,0]
["PROGRAMA ODONTOLOGICO INTEGRAL, ESTRATEGIA ESTUDIANTES DE ENSEÑANZA MEDIA","ALTAS INTEGRALES ESTUDIANTES DE ENSEÑANZA MEDIA","ALTA INTEGRAL EN CENTRO DE SALUD",0,{"$f":"SUM(Y194+AA194+AC194+AE194+AG194+AI194+AK194+AM194+AO194)","v":0},{"$f":"SUM(Z194+AB194+AD194+AF194+AH194+AJ194+AL194+AN194+AP194)","v":0},null,null,null,null,null,null,null,null,null,null,null,null,null,null,null,null,null,null,null,null,null,null,null,null,null,null,null,null,null,null,null,null,null,null,null,null,null,null,null,null,null,null,"",null,null,null,null,null,null,null,null,null,null,null,null,null,null,null,null,null,null,null,null,null,null,null,null,null,null,null,null,null,"","","","",null,null,null,0,0,0,0]
[null,null,"ALTA INTEGRAL EN UNIDAD DENTAL MÓVIL O PORTÁTIL",0,{"$f":"SUM(Y195+AA195+AC195+AE195+AG195+AI195+AK195+AM195+AO195)","v":0},{"$f":"SUM(Z195+AB195+AD195+AF195+AH195+AJ195+AL195+AN195+AP195)","v":0},null,null,null,null,null,null,null,null,null,null,null,null,null,null,null,null,null,null,null,null,null,null,null,null,null,null,null,null,null,null,null,null,null,null,null,null,null,null,null,null,null,null,"",null,null,null,null,null,null,null,null,null,null,null,null,null,null,null,null,null,null,null,null,null,null,null,null,null,null,null,null,null,"","","","",null,null,null,0,0,0,0]
[null,null,"ALTA INTEGRAL EN ESTABLECIMIENTO EDUCACIONAL",0,0,0,null,null,null,null,null,null,null,null,null,null,null,null,null,null,null,null,null,null,null,null,null,null,null,null,null,null,null,null,null,null,null,null,null,null,null,null,null,null,null,null,null,null,"",null,null,null,null,null,null,null,null,null,null,null,null,null,null,null,null,null,null,null,null,null,null,null,null,null,null,null,null,null,"","","","",null,null,null,0,0,0,0]
["PROGRAMA MEJORAMIENTO DEL ACCESO, ESTRATEGIA MORBILIDAD ADULTO","MORBILIDAD ADULTO","N° TOTAL DE ACTIVIDAD RECUPERATIVA REALIZADA EN >20 AÑOS, EN EXTENSIÓN HORARIA",{"$f":"SUM(E197+F197)","v":148},{"$f":"SUM(AC197+AE197+AG197+AI197+AK197+AM197+AO197)","v":40},{"$f":"SUM(AD197+AF197+AH197+AJ197+AL197+AN197+AP197)","v":108},null,null,null,null,null,null,null,null,null,null,null,null,null,null,null,null,null,null,null,null,null,null,7,7,5,26,13,33,10,25,4,2,1,13,0,2,null,null,null,1,null,6,"",null,null,null,null,null,null,null,null,null,null,null,null,null,null,null,null,null,null,null,null,null,null,null,null,null,null,null,null,null,"","","","",null,null,null,0,0,0,0]
[null,null,"N° DE CONSULTAS DE MORBILIDAD REALIZADAS EN >20 AÑOS, EN EXTENSIÓN HORARIA",{"$f":"SUM(E198+F198)","v":145},{"$f":"SUM(AC198+AE198+AG198+AI198+AK198+AM198+AO198)","v":41},{"$f":"SUM(AD198+AF198+AH198+AJ198+AL198+AN198+AP198)","v":104},null,null,null,null,null,null,null,null,null,null,null,null,null,null,null,null,null,null,null,null,null,null,5,7,7,23,11,30,12,29,4,2,1,10,1,3,null,null,null,1,null,7,"",null,null,null,null,null,null,null,null,null,null,null,null,null,null,null,null,null,null,null,null,null,null,null,null,null,null,null,null,null,"","","",{"$f":"IF(CK198=1,\" * El número de actividades en Pacientes Diabéticos en Control PSCV NO DEBE superar el total. \",\"\")","v":""},null,null,null,{"$f":"IF($D198<AR198,1,0)","v":0},{"$f":"IF($D198<AS198,1,0)","v":0},{"$f":"IF($D198<AT198,1,0)","v":0},{"$f":"IF($D198<AV198,1,0)","v":0}]
["SECCIÓN G.1: PROGRAMA SEMBRANDO SONRISAS"]
["ACTIVIDAD",null,null,"TOTAL",null,null,"SEGÚN GRUPOS DE EDAD O DE RIESGO",null,null,null,null,null,null,null,null,null,null,null,null,null,null,null,null,null,null,null,null,null,null,null,null,null,null,null,null,null,null,null,null,null,null,null,"Usuarios con Discapacidad","Total","JUNJI","INTEGRA","MINEDUC"]
[null,null,null,null,null,null,"Menos de 1 año",null,"1 año",null,"2 años",null,"3 años",null,"4 años",null,"5 años",null,"6 años",null,"7 años",null,"8-9 años",null,"10-14 años",null,"15-19 años",null,"20-24 años ",null,"25-34 años",null,"35-44 años",null,"45-59 años",null,"60-64 años",null,"65-74 años",null,"75 y más años"]
[null,null,null,"Ambos Sexos","Hombres","Mujeres","Hombres","Mujeres","Hombres","Mujeres","Hombres","Mujeres","Hombres","Mujeres","Hombres","Mujeres","Hombres","Mujeres","Hombres","Mujeres","Hombres","Mujeres","Hombres","Mujeres","Hombres","Mujeres","Hombres","Mujeres","Hombres","Mujeres","Hombres","Mujeres","Hombres","Mujeres","Hombres","Mujeres","Hombres","Mujeres","Hombres","Mujeres","Hombres","Mujeres"]
["EXAMEN DE SALUD",null,null,{"$f":"SUM(E203+F203)","v":0},{"$f":"+K203+M203+O203+Q203+S203","v":0},{"$f":"+L203+N203+P203+R203+T203","v":0},null,null,null,null,0,0,0,0,0,0,0,0,0,0,null,null,null,null,null,null,null,null,null,null,null,null,null,null,null,null,null,null,null,null,null,null,0,{"$f":"SUM(AS203:AU203)","v":0},0,0,0,{"$f":"$CA203&$CB203&$CC203&$CD203&$CE203&$CF203&$CG203","v":""},null,null,null,null,null,null,null,null,null,null,null,null,null,null,null,null,null,null,null,null,null,null,null,null,null,null,null,null,null,null,{"$f":"IF(CH203=1,\"* El número de actividades en usuarios en situacion de discapacidad NO DEBE ser mayor al total. \",\"\")","v":""},{"$f":"IF(CI203=1,\"* El número de actividades en usuarios JUNJI NO DEBE ser mayor al total. \",\"\")","v":""},{"$f":"IF(CJ203=1,\"* El número de actividades en usuarios INTEGRA NO DEBE ser mayor al total. \",\"\")","v":""},{"$f":"IF(CK203=1,\"* El número de actividades en usuarios MINEDUC NO DEBE ser mayor al total. \",\"\")","v":""},{"$f":"IF(CL203=1,\"* El total de actividades de JUNJI, Integra y MINEDUC no puede superar el Total.\",\"\")","v":""},null,null,{"$f":"IF(D203<AQ203,1,0)","v":0},{"$f":"IF(D203<AS203,1,0)","v":0},{"$f":"IF(D203<AT203,1,0)","v":0},{"$f":"IF(D203<AU203,1,0)","v":0},{"$f":"IF(D203<AR203,1,0)","v":0}]
["Nº DE NIÑOS CON ÍNDICE ceod=0 AL INGRESO",null,null,{"$f":"SUM(E204+F204)","v":0},{"$f":"+K204+M204+O204+Q204+S204","v":0},{"$f":"+L204+N204+P204+R204+T204","v":0},null,null,null,null,0,0,0,0,0,0,0,0,0,0,null,null,null,null,null,null,null,null,null,null,null,null,null,null,null,null,null,null,null,null,null,null,0,{"$f":"SUM(AS204:AU204)","v":0},0,0,0,"",null,null,null,null,null,null,null,null,null,null,null,null,null,null,null,null,null,null,null,null,null,null,null,null,null,null,null,null,null,null,{"$f":"IF(CH204=1,\"* El número de actividades en usuarios en situacion de discapacidad NO DEBE ser mayor al total. \",\"\")","v":""},{"$f":"IF(CI204=1,\"* El número de actividades en usuarios JUNJI NO DEBE ser mayor al total. \",\"\")","v":""},{"$f":"IF(CJ204=1,\"* El número de actividades en usuarios INTEGRA NO DEBE ser mayor al total. \",\"\")","v":""},{"$f":"IF(CK204=1,\"* El número de actividades en usuarios MINEDUC NO DEBE ser mayor al total. \",\"\")","v":""},{"$f":"IF(CL204=1,\"* El total de actividades de JUNJI, Integra y MINEDUC no puede superar el Total.\",\"\")","v":""},null,null,{"$f":"IF(D204<AQ204,1,0)","v":0},{"$f":"IF(D204<AS204,1,0)","v":0},{"$f":"IF(D204<AT204,1,0)","v":0},{"$f":"IF(D204<AU204,1,0)","v":0},{"$f":"IF(D204<AR204,1,0)","v":0}]
["SET DE HIGIENE ORAL ENTREGADOS",null,null,{"$f":"SUM(E205+F205)","v":124},60,64,null,null,null,null,2,0,11,7,13,17,30,33,4,7,null,null,null,null,null,null,null,null,null,null,null,null,null,null,null,null,null,null,null,null,null,null,0,0,0,0,0,"",null,null,null,null,null,null,null,null,null,null,null,null,null,null,null,null,null,null,null,null,null,null,null,null,null,null,null,null,null,null,"","","","","",null,null,0,0,0,0,0]
["Nº DE APLICACIONES FLÚOR BARNIZ",null,null,{"$f":"SUM(E206+F206)","v":124},60,64,null,null,null,null,2,0,11,7,13,17,30,33,4,7,null,null,null,null,null,null,null,null,null,null,null,null,null,null,null,null,null,null,null,null,null,null,0,0,0,0,0,"",null,null,null,null,null,null,null,null,null,null,null,null,null,null,null,null,null,null,null,null,null,null,null,null,null,null,null,null,null,null,"","","","","",null,null,0,0,0,0,0]
["EDUCACIÓN GRUPAL EN ESTABLECIMIENTO DE EDUCACIÓN",null,null,null,null,null,null,null,null,null,null,null,null,null,null,null,null,null,null,null,null,null,null,null,null,null,null,null,null,null,null,null,null,null,null,null,null,null,null,null,null,null,null,0,null,null,null,null,null,null,null,null,null,null,null,null,null,null,null,null,null,null,null,null,null,null,null,null,null,null,null,null,null,null,null,null,null,null,"","","","",""]
["N° DE ESTABLECIMIENTOS DE EDUCACIÓN CON PROGRAMA IMPLEMENTADO",null,null,null,null,null,null,null,null,null,null,null,null,null,null,null,null,null,null,null,null,null,null,null,null,null,null,null,null,null,null,null,null,null,null,null,null,null,null,null,null,null,null,{"$f":"SUM(AS208:AU208)","v":0},null,null,null,null,null,null,null,null,null,null,null,null,null,null,null,null,null,null,null,null,null,null,null,null,null,null,null,null,null,null,null,null,null,null,"","","","",""]
["SECCIÓN H: SEDACIÓN Y ANESTESIA"]
["ACTIVIDAD",null,null,"TOTAL",null,null,"SEGÚN GRUPOS DE EDAD O DE RIESGO"]
[null,null,null,null,null,null,"Menos de 1 año",null,"1 año",null,"2 años",null,"3 años",null,"4 años",null,"5 años",null,"6 años",null,"7 años",null,"8-9 años",null,"10-14 años",null,"15-19 años",null,"20-24 años ",null,"25-34 años",null,"35-44 años",null,"45-59 años",null,"60-64 años",null,"65-74 años",null,"75 y más años"]
[null,null,null,"Ambos Sexos","Hombres","Mujeres","Hombres","Mujeres","Hombres","Mujeres","Hombres","Mujeres","Hombres","Mujeres","Hombres","Mujeres","Hombres","Mujeres","Hombres","Mujeres","Hombres","Mujeres","Hombres","Mujeres","Hombres","Mujeres","Hombres","Mujeres","Hombres","Mujeres","Hombres","Mujeres","Hombres","Mujeres","Hombres","Mujeres","Hombres","Mujeres","Hombres","Mujeres","Hombres","Mujeres"]
["ATENCIÓN BAJO SEDACIÓN INHALATORIA (CON ÓXIDO NITROSO)",null,null,{"$f":"SUM(E213:F213)","v":0},{"$f":"SUM(G213+I213+K213+M213+O213+Q213+S213+U213+W213+Y213+AA213+AC213+AE213+AG213+AI213+AK213+AM213+AO213)","v":0},{"$f":"SUM(H213+J213+L213+N213+P213+R213+T213+V213+X213+Z213+AB213+AD213+AF213+AH213+AJ213+AL213+AN213+AP213)","v":0}]
["SEDACIÓN ENDOVENOSA",null,null,{"$f":"SUM(E214:F214)","v":0},{"$f":"SUM(G214+I214+K214+M214+O214+Q214+S214+U214+W214+Y214+AA214+AC214+AE214+AG214+AI214+AK214+AM214+AO214)","v":0},0]
["ATENCIÓN BAJO ANESTESIA GENERAL",null,null,0,0,0]
["ATENCIÓN BAJO SEDACIÓN ORAL",null,null,0,{"$f":"SUM(G216+I216+K216+M216+O216+Q216+S216+U216+W216+Y216+AA216+AC216+AE216+AG216+AI216+AK216+AM216+AO216)","v":0},0]
["SECCIÓN I:  CONSULTAS, INGRESOS Y EGRESOS EN ESPECIALIDADES ODONTOLÓGICAS REALIZADOS EN NIVEL PRIMARIO Y SECUNDARIO DE SALUD. "]
["ESPECIALIDAD Y TIPO DE INGRESO O EGRESO.",null,null,"TOTAL   ",null,null,"SEGÚN GRUPOS DE EDAD O DE RIESGO",null,null,null,null,null,null,null,null,null,null,null,null,null,null,null,null,null,null,null,null,null,null,null,null,null,null,null,null,null,null,null,null,null,"Embarazadas","60 años (incluido en grupos de  60-64 años)","CONSULTAS PERTINENTES",null,"Inasistente","Compra de Servicio","Usuarios con Discapacidad","Niños, niñas, adolescentes y jovenes RED SENAME","Migrantes"]
[null,null,null,null,null,null,"Menos de 1 año - 1 año",null,"2 años",null,"3 años",null,"4 años",null,"5 años",null,"6 años",null,"7 años",null,"8-9 años",null,"10-14 años",null,"15-19 años",null,"20-24 años ",null,"25-34 años",null,"35-44 años",null,"45-59 años",null,"60-64 años",null,"65-74 años",null,"75 y más años",null,null,null,"Según Protocolo de Referencia","Según condición clínica"]
[null,null,null,"Ambos Sexos","Hombres","Mujeres","Hombres","Mujeres","Hombres","Mujeres","Hombres","Mujeres","Hombres","Mujeres","Hombres","Mujeres","Hombres","Mujeres","Hombres","Mujeres","Hombres","Mujeres","Hombres","Mujeres","Hombres","Mujeres","Hombres","Mujeres","Hombres","Mujeres","Hombres","Mujeres","Hombres","Mujeres","Hombres","Mujeres","Hombres","Mujeres","Hombres","Mujeres"]
["CONSULTAS","CONSULTA DE URGENCIA GES",null,{"$f":"SUM(E221+F221)","v":0},{"$f":"SUM(G221+I221+K221+M221+O221+Q221+S221+U221+W221+Y221+AA221+AC221+AE221+AG221+AI221+AK221+AM221)","v":0},{"$f":"SUM(H221+J221+L221+N221+P221+R221+T221+V221+X221+Z221+AB221+AD221+AF221+AH221+AJ221+AL221+AN221)","v":0},null,null,null,null,null,null,null,null,null,null,null,null,null,null,null,null,null,null,null,null,null,null,null,null,null,null,null,null,null,null,null,null,null,null,null,null,null,null,null,null,null,null,null,{"$f":"$CA221&$CB221&$CC221&$CD221&$CE221&$CF221&$CG221","v":""},null,null,null,null,null,null,null,null,null,null,null,null,null,null,null,null,null,null,null,null,null,null,null,null,null,null,null,null,{"$f":"IF(CH221=1,\"* El número de pacientes de 60 años NO DEBE Ser mayor a lo registrado en el grupo Etario 60-64 años. \",\"\")","v":""},{"$f":"IF(CI221=1,\"* La consulta pertinente según Protocolo de Referencia NO DEBE ser mayor al Total registrado. \",\"\")","v":""},{"$f":"IF(CJ221=1,\"* La consulta pertinente según condición clínica NO DEBE ser mayor al Total registrado. \",\"\")","v":""},{"$f":"IF(AND(D221<>0,AO221=\"\"),\"* Recuerde que las Embarazadas deben ser incluídas en el ingreso por rango Etario (Digite CEROS si no tiene). \",IF(F221<AO221,\"* Las Embarazadas NO DEBEN ser mayor al total de Mujeres. \",\"\"))","v":""},{"$f":"IF(AND($D221<>0,AU221=\"\"),\"* No olvide digitar la columna Usuarios en Situación de Discapacidad (Digite CEROS si no tiene). \",IF($D221<AU221,\"* Los Usuarios en Situación de Discapacidad NO DEBEN ser mayor al total. \",\"\"))","v":""},{"$f":"IF(AND($D221<>0,AV221=\"\"),\"* No olvide digitar la columna Niños, Niñas, Adolescentes y Jóvenes Población SENAME (Digite CEROS si no tiene). \",IF($D221<AV221,\"* Los Niños, Niñas, Adolescentes y Jóvenes Población SENAME NO DEBEN ser mayor al total. \",\"\"))","v":""},{"$f":"IF(AND($D221<>0,AW221=\"\"),\"* No olvide digitar la columna Migrantes (Digite CEROS si no tiene). \",IF($D221<AW221,\"* Los Migrantes NO DEBEN ser mayor al total. \",\"\"))","v":""},{"$f":"IF((AI221+AJ221)<AP221,1,0)","v":0},{"$f":"IF(D221<AQ221,1,0)","v":0},{"$f":"IF(D221<AR221,1,0)","v":0},{"$f":"IF(AND(D221<>0,AO221=\"\"),1,IF(F221<AO221,1,0))","v":0},{"$f":"IF(AND($D221<>0,AU221=\"\"),1,IF($D221<AU221,1,0))","v":0},{"$f":"IF(AND($D221<>0,AV221=\"\"),1,IF($D221<AV221,1,0))","v":0},{"$f":"IF(AND($D221<>0,AW221=\"\"),1,IF($D221<AW221,1,0))","v":0}]
[null,"CONSULTA DE URGENCIA NO GES",null,{"$f":"SUM(E222+F222)","v":0},{"$f":"SUM(G222+I222+K222+M222+O222+Q222+S222+U222+W222+Y222+AA222+AC222+AE222+AG222+AI222+AK222+AM222)","v":0},{"$f":"SUM(H222+J222+L222+N222+P222+R222+T222+V222+X222+Z222+AB222+AD222+AF222+AH222+AJ222+AL222+AN222)","v":0},null,null,null,null,null,null,null,null,null,null,null,null,null,null,null,null,null,null,null,null,null,null,null,null,null,null,null,null,null,null,null,null,null,null,null,null,null,null,null,null,null,null,null,"",null,null,null,null,null,null,null,null,null,null,null,null,null,null,null,null,null,null,null,null,null,null,null,null,null,null,null,null,{"$f":"IF(CH222=1,\"* El número de pacientes de 60 años NO DEBE Ser mayor a lo registrado en el grupo Etario 60-64 años. \",\"\")","v":""},{"$f":"IF(CI222=1,\"* La consulta pertinente según Protocolo de Referencia NO DEBE ser mayor al Total registrado. \",\"\")","v":""},{"$f":"IF(CJ222=1,\"* La consulta pertinente según condición clínica NO DEBE ser mayor al Total registrado. \",\"\")","v":""},{"$f":"IF(AND(D222<>0,AO222=\"\"),\"* Recuerde que las Embarazadas deben ser incluídas en el ingreso por rango Etario (Digite CEROS si no tiene). \",IF(F222<AO222,\"* Las Embarazadas NO DEBEN ser mayor al total de Mujeres. \",\"\"))","v":""},{"$f":"IF(AND($D222<>0,AU222=\"\"),\"* No olvide digitar la columna Usuarios en Situación de Discapacidad (Digite CEROS si no tiene). \",IF($D222<AU222,\"* Los Usuarios en Situación de Discapacidad NO DEBEN ser mayor al total. \",\"\"))","v":""},{"$f":"IF(AND($D222<>0,AV222=\"\"),\"* No olvide digitar la columna Niños, Niñas, Adolescentes y Jóvenes Población SENAME (Digite CEROS si no tiene). \",IF($D222<AV222,\"* Los Niños, Niñas, Adolescentes y Jóvenes Población SENAME NO DEBEN ser mayor al total. \",\"\"))","v":""},{"$f":"IF(AND($D222<>0,AW222=\"\"),\"* No olvide digitar la columna Migrantes (Digite CEROS si no tiene). \",IF($D222<AW222,\"* Los Migrantes NO DEBEN ser mayor al total. \",\"\"))","v":""},{"$f":"IF((AI222+AJ222)<AP222,1,0)","v":0},{"$f":"IF(D222<AQ222,1,0)","v":0},{"$f":"IF(D222<AR222,1,0)","v":0},{"$f":"IF(AND(D222<>0,AO222=\"\"),1,IF(F222<AO222,1,0))","v":0},{"$f":"IF(AND($D222<>0,AU222=\"\"),1,IF($D222<AU222,1,0))","v":0},{"$f":"IF(AND($D222<>0,AV222=\"\"),1,IF($D222<AV222,1,0))","v":0},{"$f":"IF(AND($D222<>0,AW222=\"\"),1,IF($D222<AW222,1,0))","v":0}]
["CIRUGÍA BUCAL","CONSULTA NUEVA ",null,0,0,0,null,null,null,null,null,null,null,null,null,null,null,null,null,null,null,null,null,null,null,null,null,null,null,null,null,null,null,null,null,null,null,null,null,null,null,null,null,null,null,null,null,null,null,"",null,null,null,null,null,null,null,null,null,null,null,null,null,null,null,null,null,null,null,null,null,null,null,null,null,null,null,null,"","","","","","","",0,0,0,0,0,0,0]
[null,"CONTROL ",null,0,0,0,null,null,null,null,null,null,null,null,null,null,null,null,null,null,null,null,null,null,null,null,null,null,null,null,null,null,null,null,null,null,null,null,null,null,null,null,null,null,null,null,null,null,null,"",null,null,null,null,null,null,null,null,null,null,null,null,null,null,null,null,null,null,null,null,null,null,null,null,null,null,null,null,"",null,"","","","","",0,null,null,0,0,0,0]
[null,"INGRESOS A TRATAMIENTO",null,0,0,0,null,null,null,null,null,null,null,null,null,null,null,null,null,null,null,null,null,null,null,null,null,null,null,null,null,null,null,null,null,null,null,null,null,null,null,null,null,null,null,null,null,null,null,"",null,null,null,null,null,null,null,null,null,null,null,null,null,null,null,null,null,null,null,null,null,null,null,null,null,null,null,null,"",null,"","","","","",0,null,null,0,0,0,0]
[null,"ALTAS DE TRATAMIENTO",null,0,0,0,null,null,null,null,null,null,null,null,null,null,null,null,null,null,null,null,null,null,null,null,null,null,null,null,null,null,null,null,null,null,null,null,null,null,null,null,null,null,null,null,null,null,null,"",null,null,null,null,null,null,null,null,null,null,null,null,null,null,null,null,null,null,null,null,null,null,null,null,null,null,null,null,"",null,"","","","","",0,null,null,0,0,0,0]
[null,"CONTROL DE ESPECIALIDAD POST ALTA",null,0,0,0,null,null,null,null,null,null,null,null,null,null,null,null,null,null,null,null,null,null,null,null,null,null,null,null,null,null,null,null,null,null,null,null,null,null,null,null,null,null,null,null,null,null,null,"",null,null,null,null,null,null,null,null,null,null,null,null,null,null,null,null,null,null,null,null,null,null,null,null,null,null,null,null,"",null,"","","","","",0,null,null,0,0,0,0]
[null,"ALTAS ADMINISTRATIVAS",null,0,0,0,null,null,null,null,null,null,null,null,null,null,null,null,null,null,null,null,null,null,null,null,null,null,null,null,null,null,null,null,null,null,null,null,null,null,null,null,null,null,null,null,null,null,null,"",null,null,null,null,null,null,null,null,null,null,null,null,null,null,null,null,null,null,null,null,null,null,null,null,null,null,null,null,"",null,"","","","","",0,null,null,0,0,0,0]
["CIRUGÍA Y TRAUMATOLOGÍA MAXILOFACIAL","CONSULTA NUEVA ",null,0,0,0,null,null,null,null,null,null,null,null,null,null,null,null,null,null,null,null,null,null,null,null,null,null,null,null,null,null,null,null,null,null,null,null,null,null,null,null,null,null,null,null,null,null,null,"",null,null,null,null,null,null,null,null,null,null,null,null,null,null,null,null,null,null,null,null,null,null,null,null,null,null,null,null,"","","","","","","",0,0,0,0,0,0,0]
[null,"CONTROL ",null,0,0,0,null,null,null,null,null,null,null,null,null,null,null,null,null,null,null,null,null,null,null,null,null,null,null,null,null,null,null,null,null,null,null,null,null,null,null,null,null,null,null,null,null,null,null,"",null,null,null,null,null,null,null,null,null,null,null,null,null,null,null,null,null,null,null,null,null,null,null,null,null,null,null,null,"",null,"","","","","",0,null,null,0,0,0,0]
[null,"INGRESOS A TRATAMIENTO",null,0,0,0,null,null,null,null,null,null,null,null,null,null,null,null,null,null,null,null,null,null,null,null,null,null,null,null,null,null,null,null,null,null,null,null,null,null,null,null,null,null,null,null,null,null,null,"",null,null,null,null,null,null,null,null,null,null,null,null,null,null,null,null,null,null,null,null,null,null,null,null,null,null,null,null,"",null,"","","","","",0,null,null,0,0,0,0]
[null,"ALTAS DE TRATAMIENTO",null,0,0,0,null,null,null,null,null,null,null,null,null,null,null,null,null,null,null,null,null,null,null,null,null,null,null,null,null,null,null,null,null,null,null,null,null,null,null,null,null,null,null,null,null,null,null,"",null,null,null,null,null,null,null,null,null,null,null,null,null,null,null,null,null,null,null,null,null,null,null,null,null,null,null,null,"",null,"","","","","",0,null,null,0,0,0,0]
[null,"CONTROL DE ESPECIALIDAD POST ALTA",null,0,0,0,null,null,null,null,null,null,null,null,null,null,null,null,null,null,null,null,null,null,null,null,null,null,null,null,null,null,null,null,null,null,null,null,null,null,null,null,null,null,null,null,null,null,null,"",null,null,null,null,null,null,null,null,null,null,null,null,null,null,null,null,null,null,null,null,null,null,null,null,null,null,null,null,"",null,"","","","","",0,null,null,0,0,0,0]
[null,"ALTAS ADMINISTRATIVAS",null,0,0,0,null,null,null,null,null,null,null,null,null,null,null,null,null,null,null,null,null,null,null,null,null,null,null,null,null,null,null,null,null,null,null,null,null,null,null,null,null,null,null,null,null,null,null,"",null,null,null,null,null,null,null,null,null,null,null,null,null,null,null,null,null,null,null,null,null,null,null,null,null,null,null,null,"",null,"","","","","",0,null,null,0,0,0,0]
["ENDODONCIA","CONSULTA NUEVA ",null,0,{"$f":"SUM(G235+I235+K235+M235+O235+Q235+S235+U235+W235+Y235+AA235+AC235+AE235+AG235+AI235+AK235+AM235)","v":0},{"$f":"SUM(H235+J235+L235+N235+P235+R235+T235+V235+X235+Z235+AB235+AD235+AF235+AH235+AJ235+AL235+AN235)","v":0},null,null,null,null,null,null,null,null,null,null,null,null,null,null,null,null,null,null,null,null,null,null,null,null,null,null,null,null,null,null,null,null,null,null,null,null,null,null,null,null,null,null,null,"",null,null,null,null,null,null,null,null,null,null,null,null,null,null,null,null,null,null,null,null,null,null,null,null,null,null,null,null,"","","","","","","",0,0,0,0,0,0,0]
[null,"CONTROL ",null,0,0,0,null,null,null,null,null,null,null,null,null,null,null,null,null,null,null,null,null,null,null,null,null,null,null,null,null,null,null,null,null,null,null,null,null,null,null,null,null,null,null,null,null,null,null,"",null,null,null,null,null,null,null,null,null,null,null,null,null,null,null,null,null,null,null,null,null,null,null,null,null,null,null,null,"",null,"","","","","",0,null,null,0,0,0,0]
[null,"INGRESOS A TRATAMIENTO",null,0,0,0,null,null,null,null,null,null,null,null,null,null,null,null,null,null,null,null,null,null,null,null,null,null,null,null,null,null,null,null,null,null,null,null,null,null,null,null,null,null,null,null,null,null,null,"",null,null,null,null,null,null,null,null,null,null,null,null,null,null,null,null,null,null,null,null,null,null,null,null,null,null,null,null,"",null,"","","","","",0,null,null,0,0,0,0]
[null,"ALTAS DE TRATAMIENTO",null,0,0,0,null,null,null,null,null,null,null,null,null,null,null,null,null,null,null,null,null,null,null,null,null,null,null,null,null,null,null,null,null,null,null,null,null,null,null,null,null,null,null,null,null,null,null,"",null,null,null,null,null,null,null,null,null,null,null,null,null,null,null,null,null,null,null,null,null,null,null,null,null,null,null,null,"",null,"","","","","",0,null,null,0,0,0,0]
[null,"CONTROL DE ESPECIALIDAD POST ALTA",null,0,0,0,null,null,null,null,null,null,null,null,null,null,null,null,null,null,null,null,null,null,null,null,null,null,null,null,null,null,null,null,null,null,null,null,null,null,null,null,null,null,null,null,null,null,null,"",null,null,null,null,null,null,null,null,null,null,null,null,null,null,null,null,null,null,null,null,null,null,null,null,null,null,null,null,"",null,"","","","","",0,null,null,0,0,0,0]
[null,"ALTAS ADMINISTRATIVAS",null,0,0,0,null,null,null,null,null,null,null,null,null,null,null,null,null,null,null,null,null,null,null,null,null,null,null,null,null,null,null,null,null,null,null,null,null,null,null,null,null,null,null,null,null,null,null,"",null,null,null,null,null,null,null,null,null,null,null,null,null,null,null,null,null,null,null,null,null,null,null,null,null,null,null,null,"",null,"","","","","",0,null,null,0,0,0,0]
["ODONTOPEDIATRÍA","CONSULTA NUEVA ",null,{"$f":"SUM(E241+F241)","v":0},{"$f":"SUM(G241+I241+K241+M241+O241+Q241+S241+U241+W241+Y241+AA241+AC241+AE241+AG241+AI241+AK241+AM241)","v":0},{"$f":"SUM(H241+J241+L241+N241+P241+R241+T241+V241+X241+Z241+AB241+AD241+AF241+AH241+AJ241+AL241+AN241)","v":0},null,null,null,null,null,null,null,null,null,null,null,null,null,null,null,null,null,null,null,null,null,null,null,null,null,null,null,null,null,null,null,null,null,null,null,null,null,null,null,null,null,null,null,"",null,null,null,null,null,null,null,null,null,null,null,null,null,null,null,null,null,null,null,null,null,null,null,null,null,null,null,null,"","","","","","","",null,0,0,0,0,0,0]
[null,"CONTROL ",null,0,0,0,null,null,null,null,null,null,null,null,null,null,null,null,null,null,null,null,null,null,null,null,null,null,null,null,null,null,null,null,null,null,null,null,null,null,null,null,null,null,null,null,null,null,null,"",null,null,null,null,null,null,null,null,null,null,null,null,null,null,null,null,null,null,null,null,null,null,null,null,null,null,null,null,"",null,"","","","","",null,null,null,0,0,0,0]
[null,"INGRESOS A TRATAMIENTO",null,0,0,0,null,null,null,null,null,null,null,null,null,null,null,null,null,null,null,null,null,null,null,null,null,null,null,null,null,null,null,null,null,null,null,null,null,null,null,null,null,null,null,null,null,null,null,"",null,null,null,null,null,null,null,null,null,null,null,null,null,null,null,null,null,null,null,null,null,null,null,null,null,null,null,null,"",null,"","","","","",null,null,null,0,0,0,0]
[null,"ALTAS DE TRATAMIENTO",null,0,0,0,null,null,null,null,null,null,null,null,null,null,null,null,null,null,null,null,null,null,null,null,null,null,null,null,null,null,null,null,null,null,null,null,null,null,null,null,null,null,null,null,null,null,null,"",null,null,null,null,null,null,null,null,null,null,null,null,null,null,null,null,null,null,null,null,null,null,null,null,null,null,null,null,"",null,"","","","","",null,null,null,0,0,0,0]
[null,"CONTROL DE ESPECIALIDAD POST ALTA",null,0,0,0,null,null,null,null,null,null,null,null,null,null,null,null,null,null,null,null,null,null,null,null,null,null,null,null,null,null,null,null,null,null,null,null,null,null,null,null,null,null,null,null,null,null,null,"",null,null,null,null,null,null,null,null,null,null,null,null,null,null,null,null,null,null,null,null,null,null,null,null,null,null,null,null,"",null,"","","","","",null,null,null,0,0,0,0]
[null,"ALTAS ADMINISTRATIVAS",null,0,0,0,null,null,null,null,null,null,null,null,null,null,null,null,null,null,null,null,null,null,null,null,null,null,null,null,null,null,null,null,null,null,null,null,null,null,null,null,null,null,null,null,null,null,null,"",null,null,null,null,null,null,null,null,null,null,null,null,null,null,null,null,null,null,null,null,null,null,null,null,null,null,null,null,"",null,"","","","","",null,null,null,0,0,0,0]
["OPERATORIA","CONSULTA NUEVA ",null,0,0,0,null,null,null,null,null,null,null,null,null,null,null,null,null,null,null,null,null,null,null,null,null,null,null,null,null,null,null,null,null,null,null,null,null,null,null,null,null,null,null,null,null,null,null,"",null,null,null,null,null,null,null,null,null,null,null,null,null,null,null,null,null,null,null,null,null,null,null,null,null,null,null,null,"","","","","","","",0,0,0,0,0,0,0]
[null,"CONTROL ",null,0,0,0,null,null,null,null,null,null,null,null,null,null,null,null,null,null,null,null,null,null,null,null,null,null,null,null,null,null,null,null,null,null,null,null,null,null,null,null,null,null,null,null,null,null,null,"",null,null,null,null,null,null,null,null,null,null,null,null,null,null,null,null,null,null,null,null,null,null,null,null,null,null,null,null,"",null,"","","","","",0,null,null,0,0,0,0]
[null,"INGRESOS A TRATAMIENTO",null,0,0,0,null,null,null,null,null,null,null,null,null,null,null,null,null,null,null,null,null,null,null,null,null,null,null,null,null,null,null,null,null,null,null,null,null,null,null,null,null,null,null,null,null,null,null,"",null,null,null,null,null,null,null,null,null,null,null,null,null,null,null,null,null,null,null,null,null,null,null,null,null,null,null,null,"",null,"","","","","",0,null,null,0,0,0,0]
[null,"ALTAS DE TRATAMIENTO",null,0,{"$f":"SUM(G250+I250+K250+M250+O250+Q250+S250+U250+W250+Y250+AA250+AC250+AE250+AG250+AI250+AK250+AM250)","v":0},0,null,null,null,null,null,null,null,null,null,null,null,null,null,null,null,null,null,null,null,null,null,null,null,null,null,null,null,null,null,null,null,null,null,null,null,null,null,null,null,null,null,null,null,"",null,null,null,null,null,null,null,null,null,null,null,null,null,null,null,null,null,null,null,null,null,null,null,null,null,null,null,null,"",null,"","","","","",0,null,null,0,0,0,0]
[null,"CONTROL DE ESPECIALIDAD POST ALTA",null,0,0,0,null,null,null,null,null,null,null,null,null,null,null,null,null,null,null,null,null,null,null,null,null,null,null,null,null,null,null,null,null,null,null,null,null,null,null,null,null,null,null,null,null,null,null,"",null,null,null,null,null,null,null,null,null,null,null,null,null,null,null,null,null,null,null,null,null,null,null,null,null,null,null,null,"",null,"","","","","",0,null,null,0,0,0,0]
[null,"ALTAS ADMINISTRATIVAS",null,0,0,0,null,null,null,null,null,null,null,null,null,null,null,null,null,null,null,null,null,null,null,null,null,null,null,null,null,null,null,null,null,null,null,null,null,null,null,null,null,null,null,null,null,null,null,"",null,null,null,null,null,null,null,null,null,null,null,null,null,null,null,null,null,null,null,null,null,null,null,null,null,null,null,null,"",null,"","","","","",0,null,null,0,0,0,0]
["ORTODONCIA Y ORTOPEDIA DENTO MAXILOFACIAL: APARATOLOGÍA FIJA","CONSULTA NUEVA ",null,0,{"$f":"SUM(G253+I253+K253+M253+O253+Q253+S253+U253+W253+Y253+AA253+AC253+AE253+AG253+AI253+AK253+AM253)","v":0},{"$f":"SUM(H253+J253+L253+N253+P253+R253+T253+V253+X253+Z253+AB253+AD253+AF253+AH253+AJ253+AL253+AN253)","v":0},null,null,null,null,null,null,null,null,null,null,null,null,null,null,null,null,null,null,null,null,null,null,null,null,null,null,null,null,null,null,null,null,null,null,null,null,null,null,null,null,null,null,null,"",null,null,null,null,null,null,null,null,null,null,null,null,null,null,null,null,null,null,null,null,null,null,null,null,null,null,null,null,"","","",null,"","","",null,0,0,null,0,0,0]
[null,"CONTROL ",null,0,0,0,null,null,null,null,null,null,null,null,null,null,null,null,null,null,null,null,null,null,null,null,null,null,null,null,null,null,null,null,null,null,null,null,null,null,null,null,null,null,null,null,null,null,null,"",null,null,null,null,null,null,null,null,null,null,null,null,null,null,null,null,null,null,null,null,null,null,null,null,null,null,null,null,"",null,"",null,"","","",null,null,null,null,0,0,0]
[null,"INGRESOS A TRATAMIENTO",null,0,0,0,null,null,null,null,null,null,null,null,null,null,null,null,null,null,null,null,null,null,null,null,null,null,null,null,null,null,null,null,null,null,null,null,null,null,null,null,null,null,null,null,null,null,null,"",null,null,null,null,null,null,null,null,null,null,null,null,null,null,null,null,null,null,null,null,null,null,null,null,null,null,null,null,"",null,"",null,"","","",null,null,null,null,0,0,0]
[null,"ALTAS DE TRATAMIENTO",null,0,0,0,null,null,null,null,null,null,null,null,null,null,null,null,null,null,null,null,null,null,null,null,null,null,null,null,null,null,null,null,null,null,null,null,null,null,null,null,null,null,null,null,null,null,null,"",null,null,null,null,null,null,null,null,null,null,null,null,null,null,null,null,null,null,null,null,null,null,null,null,null,null,null,null,"",null,"",null,"","","",null,null,null,null,0,0,0]
[null,"CONTROL DE ESPECIALIDAD POST ALTA",null,0,0,0,null,null,null,null,null,null,null,null,null,null,null,null,null,null,null,null,null,null,null,null,null,null,null,null,null,null,null,null,null,null,null,null,null,null,null,null,null,null,null,null,null,null,null,"",null,null,null,null,null,null,null,null,null,null,null,null,null,null,null,null,null,null,null,null,null,null,null,null,null,null,null,null,"",null,"",null,"","","",null,null,null,null,0,0,0]
[null,"ALTAS ADMINISTRATIVAS",null,0,0,0,null,null,null,null,null,null,null,null,null,null,null,null,null,null,null,null,null,null,null,null,null,null,null,null,null,null,null,null,null,null,null,null,null,null,null,null,null,null,null,null,null,null,null,"",null,null,null,null,null,null,null,null,null,null,null,null,null,null,null,null,null,null,null,null,null,null,null,null,null,null,null,null,"",null,"",null,"","","",null,null,null,null,0,0,0]
["ORTODONCIA Y ORTOPEDIA DENTO MAXILOFACIAL: APARATOLOGÍA REMOVIBLE","CONSULTA NUEVA ",null,0,0,0,null,null,null,null,null,null,null,null,null,null,null,null,null,null,null,null,null,null,null,null,null,null,null,null,null,null,null,null,null,null,null,null,null,null,null,null,null,null,null,null,null,null,null,"",null,null,null,null,null,null,null,null,null,null,null,null,null,null,null,null,null,null,null,null,null,null,null,null,null,null,null,null,"","","",null,"","","",null,0,0,null,0,0,0]
[null,"CONTROL ",null,0,0,0,null,null,null,null,null,null,null,null,null,null,null,null,null,null,null,null,null,null,null,null,null,null,null,null,null,null,null,null,null,null,null,null,null,null,null,null,null,null,null,null,null,null,null,"",null,null,null,null,null,null,null,null,null,null,null,null,null,null,null,null,null,null,null,null,null,null,null,null,null,null,null,null,"",null,"",null,"","","",null,null,null,null,0,0,0]
[null,"INGRESOS A TRATAMIENTO",null,0,0,0,null,null,null,null,null,null,null,null,null,null,null,null,null,null,null,null,null,null,null,null,null,null,null,null,null,null,null,null,null,null,null,null,null,null,null,null,null,null,null,null,null,null,null,"",null,null,null,null,null,null,null,null,null,null,null,null,null,null,null,null,null,null,null,null,null,null,null,null,null,null,null,null,"",null,"",null,"","","",null,null,null,null,0,0,0]
[null,"ALTAS DE TRATAMIENTO",null,0,0,0,null,null,null,null,null,null,null,null,null,null,null,null,null,null,null,null,null,null,null,null,null,null,null,null,null,null,null,null,null,null,null,null,null,null,null,null,null,null,null,null,null,null,null,"",null,null,null,null,null,null,null,null,null,null,null,null,null,null,null,null,null,null,null,null,null,null,null,null,null,null,null,null,"",null,"",null,"","","",null,null,null,null,0,0,0]
[null,"CONTROL DE ESPECIALIDAD POST ALTA",null,0,0,0,null,null,null,null,null,null,null,null,null,null,null,null,null,null,null,null,null,null,null,null,null,null,null,null,null,null,null,null,null,null,null,null,null,null,null,null,null,null,null,null,null,null,null,"",null,null,null,null,null,null,null,null,null,null,null,null,null,null,null,null,null,null,null,null,null,null,null,null,null,null,null,null,"",null,"",null,"","","",null,null,null,null,0,0,0]
[null,"ALTAS ADMINISTRATIVAS",null,0,0,0,null,null,null,null,null,null,null,null,null,null,null,null,null,null,null,null,null,null,null,null,null,null,null,null,null,null,null,null,null,null,null,null,null,null,null,null,null,null,null,null,null,null,null,"",null,null,null,null,null,null,null,null,null,null,null,null,null,null,null,null,null,null,null,null,null,null,null,null,null,null,null,null,"",null,"",null,"","","",null,null,null,null,0,0,0]
["PERIODONCIA","CONSULTA NUEVA ",null,0,{"$f":"SUM(G265+I265+K265+M265+O265+Q265+S265+U265+W265+Y265+AA265+AC265+AE265+AG265+AI265+AK265+AM265)","v":0},{"$f":"SUM(H265+J265+L265+N265+P265+R265+T265+V265+X265+Z265+AB265+AD265+AF265+AH265+AJ265+AL265+AN265)","v":0},null,null,null,null,null,null,null,null,null,null,null,null,null,null,null,null,null,null,null,null,null,null,null,null,null,null,null,null,null,null,null,null,null,null,null,null,null,null,null,null,null,null,null,"",null,null,null,null,null,null,null,null,null,null,null,null,null,null,null,null,null,null,null,null,null,null,null,null,null,null,null,null,"","","","","","","",0,0,0,0,0,0,0]
[null,"CONTROL ",null,0,0,0,null,null,null,null,null,null,null,null,null,null,null,null,null,null,null,null,null,null,null,null,null,null,null,null,null,null,null,null,null,null,null,null,null,null,null,null,null,null,null,null,null,null,null,"",null,null,null,null,null,null,null,null,null,null,null,null,null,null,null,null,null,null,null,null,null,null,null,null,null,null,null,null,"","","","","","","",0,null,null,0,0,0,0]
[null,"INGRESOS A TRATAMIENTO",null,0,0,0,null,null,null,null,null,null,null,null,null,null,null,null,null,null,null,null,null,null,null,null,null,null,null,null,null,null,null,null,null,null,null,null,null,null,null,null,null,null,null,null,null,null,null,"",null,null,null,null,null,null,null,null,null,null,null,null,null,null,null,null,null,null,null,null,null,null,null,null,null,null,null,null,"","","","","","","",0,null,null,0,0,0,0]
[null,"ALTAS DE TRATAMIENTO",null,0,0,0,null,null,null,null,null,null,null,null,null,null,null,null,null,null,null,null,null,null,null,null,null,null,null,null,null,null,null,null,null,null,null,null,null,null,null,null,null,null,null,null,null,null,null,"",null,null,null,null,null,null,null,null,null,null,null,null,null,null,null,null,null,null,null,null,null,null,null,null,null,null,null,null,"","","","","","","",0,null,null,0,0,0,0]
[null,"CONTROL DE ESPECIALIDAD POST ALTA",null,0,0,0,null,null,null,null,null,null,null,null,null,null,null,null,null,null,null,null,null,null,null,null,null,null,null,null,null,null,null,null,null,null,null,null,null,null,null,null,null,null,null,null,null,null,null,"",null,null,null,null,null,null,null,null,null,null,null,null,null,null,null,null,null,null,null,null,null,null,null,null,null,null,null,null,"","","","","","","",0,null,null,0,0,0,0]
[null,"ALTAS ADMINISTRATIVAS",null,0,0,0,null,null,null,null,null,null,null,null,null,null,null,null,null,null,null,null,null,null,null,null,null,null,null,null,null,null,null,null,null,null,null,null,null,null,null,null,null,null,null,null,null,null,null,"",null,null,null,null,null,null,null,null,null,null,null,null,null,null,null,null,null,null,null,null,null,null,null,null,null,null,null,null,"","","","","","","",0,null,null,0,0,0,0]
["REHABILITACIÓN: PRÓTESIS FIJA","CONSULTA NUEVA ",null,0,{"$f":"+Y271+AA271+AC271+AE271+AG271+AI271+AK271+AM271","v":0},{"$f":"+Z271+AB271+AD271+AF271+AH271+AJ271+AL271+AN271","v":0},null,null,null,null,null,null,null,null,null,null,null,null,null,null,null,null,null,null,null,null,null,null,null,null,null,null,null,null,null,null,null,null,null,null,null,null,null,null,null,null,null,null,null,"",null,null,null,null,null,null,null,null,null,null,null,null,null,null,null,null,null,null,null,null,null,null,null,null,null,null,null,null,"","","","","","","",0,0,0,0,0,0,0]
[null,"CONTROL ",null,{"$f":"SUM(E272+F272)","v":0},{"$f":"+Y272+AA272+AC272+AE272+AG272+AI272+AK272+AM272","v":0},{"$f":"+Z272+AB272+AD272+AF272+AH272+AJ272+AL272+AN272","v":0},null,null,null,null,null,null,null,null,null,null,null,null,null,null,null,null,null,null,null,null,null,null,null,null,null,null,null,null,null,null,null,null,null,null,null,null,null,null,null,null,null,null,null,"",null,null,null,null,null,null,null,null,null,null,null,null,null,null,null,null,null,null,null,null,null,null,null,null,null,null,null,null,"","","","","","","",0,null,null,0,0,0,0]
[null,"INGRESOS A TRATAMIENTO",null,{"$f":"SUM(E273+F273)","v":0},0,0,null,null,null,null,null,null,null,null,null,null,null,null,null,null,null,null,null,null,null,null,null,null,null,null,null,null,null,null,null,null,null,null,null,null,null,null,null,null,null,null,null,null,null,"",null,null,null,null,null,null,null,null,null,null,null,null,null,null,null,null,null,null,null,null,null,null,null,null,null,null,null,null,"","","","","","","",0,null,null,0,0,0,0]
[null,"ALTAS DE TRATAMIENTO",null,0,0,0,null,null,null,null,null,null,null,null,null,null,null,null,null,null,null,null,null,null,null,null,null,null,null,null,null,null,null,null,null,null,null,null,null,null,null,null,null,null,null,null,null,null,null,"",null,null,null,null,null,null,null,null,null,null,null,null,null,null,null,null,null,null,null,null,null,null,null,null,null,null,null,null,"","","","","","","",0,null,null,0,0,0,0]
[null,"CONTROL DE ESPECIALIDAD POST ALTA",null,0,0,0,null,null,null,null,null,null,null,null,null,null,null,null,null,null,null,null,null,null,null,null,null,null,null,null,null,null,null,null,null,null,null,null,null,null,null,null,null,null,null,null,null,null,null,"",null,null,null,null,null,null,null,null,null,null,null,null,null,null,null,null,null,null,null,null,null,null,null,null,null,null,null,null,"","","","","","","",0,null,null,0,0,0,0]
[null,"ALTAS ADMINISTRATIVAS",null,0,0,0,null,null,null,null,null,null,null,null,null,null,null,null,null,null,null,null,null,null,null,null,null,null,null,null,null,null,null,null,null,null,null,null,null,null,null,null,null,null,null,null,null,null,null,"",null,null,null,null,null,null,null,null,null,null,null,null,null,null,null,null,null,null,null,null,null,null,null,null,null,null,null,null,"","","","","","","",0,null,null,0,0,0,0]
["REHABILITACIÓN: PRÓTESIS REMOVIBLE","CONSULTA NUEVA ",null,0,{"$f":"+Y277+AA277+AC277+AE277+AG277+AI277+AK277+AM277","v":0},{"$f":"+Z277+AB277+AD277+AF277+AH277+AJ277+AL277+AN277","v":0},null,null,null,null,null,null,null,null,null,null,null,null,null,null,null,null,null,null,null,null,null,null,null,null,null,null,null,null,null,null,null,null,null,null,null,null,null,null,null,null,null,null,null,"",null,null,null,null,null,null,null,null,null,null,null,null,null,null,null,null,null,null,null,null,null,null,null,null,null,null,null,null,"","","","","","","",0,0,0,0,0,0,0]
[null,"CONTROL ",null,0,0,0,null,null,null,null,null,null,null,null,null,null,null,null,null,null,null,null,null,null,null,null,null,null,null,null,null,null,null,null,null,null,null,null,null,null,null,null,null,null,null,null,null,null,null,"",null,null,null,null,null,null,null,null,null,null,null,null,null,null,null,null,null,null,null,null,null,null,null,null,null,null,null,null,"","","","","","","",0,null,null,0,0,0,0]
[null,"INGRESOS A TRATAMIENTO",null,0,0,0,null,null,null,null,null,null,null,null,null,null,null,null,null,null,null,null,null,null,null,null,null,null,null,null,null,null,null,null,null,null,null,null,null,null,null,null,null,null,null,null,null,null,null,"",null,null,null,null,null,null,null,null,null,null,null,null,null,null,null,null,null,null,null,null,null,null,null,null,null,null,null,null,"","","","","","","",0,null,null,0,0,0,0]
[null,"ALTAS DE TRATAMIENTO",null,0,0,0,null,null,null,null,null,null,null,null,null,null,null,null,null,null,null,null,null,null,null,null,null,null,null,null,null,null,null,null,null,null,null,null,null,null,null,null,null,null,null,null,null,null,null,"",null,null,null,null,null,null,null,null,null,null,null,null,null,null,null,null,null,null,null,null,null,null,null,null,null,null,null,null,"","","","","","","",0,null,null,0,0,0,0]
[null,"CONTROL DE ESPECIALIDAD POST ALTA",null,0,0,0,null,null,null,null,null,null,null,null,null,null,null,null,null,null,null,null,null,null,null,null,null,null,null,null,null,null,null,null,null,null,null,null,null,null,null,null,null,null,null,null,null,null,null,"",null,null,null,null,null,null,null,null,null,null,null,null,null,null,null,null,null,null,null,null,null,null,null,null,null,null,null,null,"","","","","","","",0,null,null,0,0,0,0]
[null,"ALTAS ADMINISTRATIVAS",null,0,0,0,null,null,null,null,null,null,null,null,null,null,null,null,null,null,null,null,null,null,null,null,null,null,null,null,null,null,null,null,null,null,null,null,null,null,null,null,null,null,null,null,null,null,null,"",null,null,null,null,null,null,null,null,null,null,null,null,null,null,null,null,null,null,null,null,null,null,null,null,null,null,null,null,"","","","","","","",0,null,null,0,0,0,0]
["REHABILITACIÓN: PRÓTESIS IMPLANTOASISTIDA","CONSULTA NUEVA ",null,0,0,0,null,null,null,null,null,null,null,null,null,null,null,null,null,null,null,null,null,null,null,null,null,null,null,null,null,null,null,null,null,null,null,null,null,null,null,null,null,null,null,null,null,null,null,"",null,null,null,null,null,null,null,null,null,null,null,null,null,null,null,null,null,null,null,null,null,null,null,null,null,null,null,null,"","","","","","","",0,0,0,0,0,0,0]
[null,"CONTROL ",null,0,{"$f":"+Y284+AA284+AC284+AE284+AG284+AI284+AK284+AM284","v":0},0,null,null,null,null,null,null,null,null,null,null,null,null,null,null,null,null,null,null,null,null,null,null,null,null,null,null,null,null,null,null,null,null,null,null,null,null,null,null,null,null,null,null,null,"",null,null,null,null,null,null,null,null,null,null,null,null,null,null,null,null,null,null,null,null,null,null,null,null,null,null,null,null,"","","","","","","",0,null,null,0,0,0,0]
[null,"INGRESOS A TRATAMIENTO",null,0,0,0,null,null,null,null,null,null,null,null,null,null,null,null,null,null,null,null,null,null,null,null,null,null,null,null,null,null,null,null,null,null,null,null,null,null,null,null,null,null,null,null,null,null,null,{"$f":"$CA285&$CB285&$CC285&$CD285&$CE285&$CF285&$CG285","v":""},null,null,null,null,null,null,null,null,null,null,null,null,null,null,null,null,null,null,null,null,null,null,null,null,null,null,null,null,"","","","","","","",0,null,null,0,0,0,0]
[null,"ALTAS DE TRATAMIENTO",null,0,0,0,null,null,null,null,null,null,null,null,null,null,null,null,null,null,null,null,null,null,null,null,null,null,null,null,null,null,null,null,null,null,null,null,null,null,null,null,null,null,null,null,null,null,null,"",null,null,null,null,null,null,null,null,null,null,null,null,null,null,null,null,null,null,null,null,null,null,null,null,null,null,null,null,{"$f":"IF(CH286=1,\"* El número de pacientes de 60 años NO DEBE Ser mayor a lo registrado en el grupo Etario 60-64 años. \",\"\")","v":""},{"$f":"IF(CI286=1,\"* La consulta pertinente según Protocolo de Referencia NO DEBE ser mayor al Total registrado. \",\"\")","v":""},{"$f":"IF(CJ286=1,\"* La consulta pertinente según condición clínica NO DEBE ser mayor al Total registrado. \",\"\")","v":""},{"$f":"IF(AND(D286<>0,AO286=\"\"),\"* Recuerde que las Embarazadas deben ser incluídas en el ingreso por rango Etario (Digite CEROS si no tiene). \",IF(F286<AO286,\"* Las Embarazadas NO DEBEN ser mayor al total de Mujeres. \",\"\"))","v":""},{"$f":"IF(AND($D286<>0,AU286=\"\"),\"* No olvide digitar la columna Usuarios en Situación de Discapacidad (Digite CEROS si no tiene). \",IF($D286<AU286,\"* Los Usuarios en Situación de Discapacidad NO DEBEN ser mayor al total. \",\"\"))","v":""},{"$f":"IF(AND($D286<>0,AV286=\"\"),\"* No olvide digitar la columna Niños, Niñas, Adolescentes y Jóvenes Población SENAME (Digite CEROS si no tiene). \",IF($D286<AV286,\"* Los Niños, Niñas, Adolescentes y Jóvenes Población SENAME NO DEBEN ser mayor al total. \",\"\"))","v":""},{"$f":"IF(AND($D286<>0,AW286=\"\"),\"* No olvide digitar la columna Migrantes (Digite CEROS si no tiene). \",IF($D286<AW286,\"* Los Migrantes NO DEBEN ser mayor al total. \",\"\"))","v":""},{"$f":"IF((AI286+AJ286)<AP286,1,0)","v":0},null,null,{"$f":"IF(AND(D286<>0,AO286=\"\"),1,IF(F286<AO286,1,0))","v":0},{"$f":"IF(AND($D286<>0,AU286=\"\"),1,IF($D286<AU286,1,0))","v":0},{"$f":"IF(AND($D286<>0,AV286=\"\"),1,IF($D286<AV286,1,0))","v":0},{"$f":"IF(AND($D286<>0,AW286=\"\"),1,IF($D286<AW286,1,0))","v":0}]
[null,"CONTROL DE ESPECIALIDAD POST ALTA",null,0,0,0,null,null,null,null,null,null,null,null,null,null,null,null,null,null,null,null,null,null,null,null,null,null,null,null,null,null,null,null,null,null,null,null,null,null,null,null,null,null,null,null,null,null,null,"",null,null,null,null,null,null,null,null,null,null,null,null,null,null,null,null,null,null,null,null,null,null,null,null,null,null,null,null,"","","","","","","",0,null,null,0,0,0,0]
[null,"ALTAS ADMINISTRATIVAS",null,0,0,0,null,null,null,null,null,null,null,null,null,null,null,null,null,null,null,null,null,null,null,null,null,null,null,null,null,null,null,null,null,null,null,null,null,null,null,null,null,null,null,null,null,null,null,"",null,null,null,null,null,null,null,null,null,null,null,null,null,null,null,null,null,null,null,null,null,null,null,null,null,null,null,null,"","","","","","","",0,null,null,0,0,0,0]
["IMPLANTOLOGÍA BUCO MAXILOFACIAL","CONSULTA NUEVA ",null,0,{"$f":"SUM(G289+I289+K289+M289+O289+Q289+S289+U289+W289+Y289+AA289+AC289+AE289+AG289+AI289+AK289+AM289)","v":0},{"$f":"SUM(H289+J289+L289+N289+P289+R289+T289+V289+X289+Z289+AB289+AD289+AF289+AH289+AJ289+AL289+AN289)","v":0},null,null,null,null,null,null,null,null,null,null,null,null,null,null,null,null,null,null,null,null,null,null,null,null,null,null,null,null,null,null,null,null,null,null,null,null,null,null,null,null,null,null,null,"",null,null,null,null,null,null,null,null,null,null,null,null,null,null,null,null,null,null,null,null,null,null,null,null,null,null,null,null,"","","","","","","",0,{"$f":"IF(D289<AQ289,1,0)","v":0},{"$f":"IF(D289<AR289,1,0)","v":0},0,0,0,0]
[null,"CONTROL ",null,0,0,0,null,null,null,null,null,null,null,null,null,null,null,null,null,null,null,null,null,null,null,null,null,null,null,null,null,null,null,null,null,null,null,null,null,null,null,null,null,null,null,null,null,null,null,"",null,null,null,null,null,null,null,null,null,null,null,null,null,null,null,null,null,null,null,null,null,null,null,null,null,null,null,null,"","","","","","","",0,null,null,0,0,0,0]
[null,"INGRESOS A TRATAMIENTO",null,0,0,0,null,null,null,null,null,null,null,null,null,null,null,null,null,null,null,null,null,null,null,null,null,null,null,null,null,null,null,null,null,null,null,null,null,null,null,null,null,null,null,null,null,null,null,"",null,null,null,null,null,null,null,null,null,null,null,null,null,null,null,null,null,null,null,null,null,null,null,null,null,null,null,null,"","","","","","","",0,null,null,0,0,0,0]
[null,"ALTAS DE TRATAMIENTO",null,0,0,0,null,null,null,null,null,null,null,null,null,null,null,null,null,null,null,null,null,null,null,null,null,null,null,null,null,null,null,null,null,null,null,null,null,null,null,null,null,null,null,null,null,null,null,"",null,null,null,null,null,null,null,null,null,null,null,null,null,null,null,null,null,null,null,null,null,null,null,null,null,null,null,null,"","","","","","","",0,null,null,0,0,0,0]
[null,"CONTROL DE ESPECIALIDAD POST ALTA",null,0,0,0,null,null,null,null,null,null,null,null,null,null,null,null,null,null,null,null,null,null,null,null,null,null,null,null,null,null,null,null,null,null,null,null,null,null,null,null,null,null,null,null,null,null,null,"",null,null,null,null,null,null,null,null,null,null,null,null,null,null,null,null,null,null,null,null,null,null,null,null,null,null,null,null,"","","","","","","",0,null,null,0,0,0,0]
[null,"ALTAS ADMINISTRATIVAS",null,0,0,0,null,null,null,null,null,null,null,null,null,null,null,null,null,null,null,null,null,null,null,null,null,null,null,null,null,null,null,null,null,null,null,null,null,null,null,null,null,null,null,null,null,null,null,"",null,null,null,null,null,null,null,null,null,null,null,null,null,null,null,null,null,null,null,null,null,null,null,null,null,null,null,null,"","","","","","","",0,null,null,0,0,0,0]
["PATOLOGÍA ORAL","CONSULTA NUEVA ",null,0,0,0,null,null,null,null,null,null,null,null,null,null,null,null,null,null,null,null,null,null,null,null,null,null,null,null,null,null,null,null,null,null,null,null,null,null,null,null,null,null,null,null,null,null,null,"",null,null,null,null,null,null,null,null,null,null,null,null,null,null,null,null,null,null,null,null,null,null,null,null,null,null,null,null,"","","","","","","",0,0,0,0,0,0,0]
[null,"CONTROL ",null,0,0,0,null,null,null,null,null,null,null,null,null,null,null,null,null,null,null,null,null,null,null,null,null,null,null,null,null,null,null,null,null,null,null,null,null,null,null,null,null,null,null,null,null,null,null,"",null,null,null,null,null,null,null,null,null,null,null,null,null,null,null,null,null,null,null,null,null,null,null,null,null,null,null,null,"","","","","","","",0,null,null,0,0,0,0]
[null,"INGRESOS A TRATAMIENTO",null,0,0,0,null,null,null,null,null,null,null,null,null,null,null,null,null,null,null,null,null,null,null,null,null,null,null,null,null,null,null,null,null,null,null,null,null,null,null,null,null,null,null,null,null,null,null,"",null,null,null,null,null,null,null,null,null,null,null,null,null,null,null,null,null,null,null,null,null,null,null,null,null,null,null,null,"","","","","","","",0,null,null,0,0,0,0]
[null,"ALTAS DE TRATAMIENTO",null,0,0,0,null,null,null,null,null,null,null,null,null,null,null,null,null,null,null,null,null,null,null,null,null,null,null,null,null,null,null,null,null,null,null,null,null,null,null,null,null,null,null,null,null,null,null,"",null,null,null,null,null,null,null,null,null,null,null,null,null,null,null,null,null,null,null,null,null,null,null,null,null,null,null,null,"","","","","","","",0,null,null,0,0,0,0]
[null,"CONTROL DE ESPECIALIDAD POST ALTA",null,0,0,0,null,null,null,null,null,null,null,null,null,null,null,null,null,null,null,null,null,null,null,null,null,null,null,null,null,null,null,null,null,null,null,null,null,null,null,null,null,null,null,null,null,null,null,"",null,null,null,null,null,null,null,null,null,null,null,null,null,null,null,null,null,null,null,null,null,null,null,null,null,null,null,null,"","","","","","","",0,null,null,0,0,0,0]
[null,"ALTAS ADMINISTRATIVAS",null,0,0,0,null,null,null,null,null,null,null,null,null,null,null,null,null,null,null,null,null,null,null,null,null,null,null,null,null,null,null,null,null,null,null,null,null,null,null,null,null,null,null,null,null,null,null,"",null,null,null,null,null,null,null,null,null,null,null,null,null,null,null,null,null,null,null,null,null,null,null,null,null,null,null,null,"","","","","","","",0,null,null,0,0,0,0]
["TRASTORNOS TEMPOROMANDIBULARES Y DOLOR OROFACIAL","CONSULTA NUEVA ",null,0,0,0,null,null,null,null,null,null,null,null,null,null,null,null,null,null,null,null,null,null,null,null,null,null,null,null,null,null,null,null,null,null,null,null,null,null,null,null,null,null,null,null,null,null,null,"",null,null,null,null,null,null,null,null,null,null,null,null,null,null,null,null,null,null,null,null,null,null,null,null,null,null,null,null,"","","","","","","",0,0,0,0,0,0,0]
[null,"CONTROL ",null,0,0,0,null,null,null,null,null,null,null,null,null,null,null,null,null,null,null,null,null,null,null,null,null,null,null,null,null,null,null,null,null,null,null,null,null,null,null,null,null,null,null,null,null,null,null,"",null,null,null,null,null,null,null,null,null,null,null,null,null,null,null,null,null,null,null,null,null,null,null,null,null,null,null,null,"","","","","","","",0,null,null,0,0,0,0]
[null,"INGRESOS A TRATAMIENTO",null,0,0,0,null,null,null,null,null,null,null,null,null,null,null,null,null,null,null,null,null,null,null,null,null,null,null,null,null,null,null,null,null,null,null,null,null,null,null,null,null,null,null,null,null,null,null,"",null,null,null,null,null,null,null,null,null,null,null,null,null,null,null,null,null,null,null,null,null,null,null,null,null,null,null,null,"","","","","","","",0,null,null,0,0,0,0]
[null,"ALTAS DE TRATAMIENTO",null,0,0,0,null,null,null,null,null,null,null,null,null,null,null,null,null,null,null,null,null,null,null,null,null,null,null,null,null,null,null,null,null,null,null,null,null,null,null,null,null,null,null,null,null,null,null,"",null,null,null,null,null,null,null,null,null,null,null,null,null,null,null,null,null,null,null,null,null,null,null,null,null,null,null,null,"","","","","","","",0,null,null,0,0,0,0]
[null,"CONTROL DE ESPECIALIDAD POST ALTA",null,0,0,0,null,null,null,null,null,null,null,null,null,null,null,null,null,null,null,null,null,null,null,null,null,null,null,null,null,null,null,null,null,null,null,null,null,null,null,null,null,null,null,null,null,null,null,"",null,null,null,null,null,null,null,null,null,null,null,null,null,null,null,null,null,null,null,null,null,null,null,null,null,null,null,null,"","","","","","","",0,null,null,0,0,0,0]
[null,"ALTAS ADMINISTRATIVAS",null,0,0,0,null,null,null,null,null,null,null,null,null,null,null,null,null,null,null,null,null,null,null,null,null,null,null,null,null,null,null,null,null,null,null,null,null,null,null,null,null,null,null,null,null,null,null,"",null,null,null,null,null,null,null,null,null,null,null,null,null,null,null,null,null,null,null,null,null,null,null,null,null,null,null,null,"","","","","","","",0,null,null,0,0,0,0]
["TOTAL","CONSULTA NUEVA ",null,0,{"$f":"SUM(G307+I307+K307+M307+O307+Q307+S307+U307+W307+Y307+AA307+AC307+AE307+AG307+AI307+AK307+AM307)","v":0},{"$f":"SUM(H307+J307+L307+N307+P307+R307+T307+V307+X307+Z307+AB307+AD307+AF307+AH307+AJ307+AL307+AN307)","v":0},{"$f":"+G223+G229+G235+G241+G247+G253+G259+G265+G289+G295+G301","v":0},{"$f":"+H223+H229+H235+H241+H247+H253+H259+H265+H289+H295+H301","v":0},0,0,0,0,0,0,0,0,0,0,0,0,0,0,0,0,{"$f":"+Y223+Y229+Y235+Y241+Y247+Y253+Y259+Y265+Y271+Y277+Y283+Y289+Y295+Y301","v":0},0,0,0,0,0,0,0,0,0,0,0,0,0,{"$f":"+AM223+AM229+AM235+AM241+AM247+AM253+AM259+AM265+AM271+AM277+AM283+AM289+AM295+AM301","v":0},0,{"$f":"+AO223+AO229+AO235+AO241+AO247+AO265+AO271+AO277+AO283+AO289+AO295+AO301","v":0},{"$f":"+AP223+AP229+AP235+AP247+AP265+AP271+AP277+AP283+AP289+AP295+AP301","v":0},{"$f":"SUM(AQ223+AQ229+AQ235+AQ241+AQ247+AQ253+AQ259+AQ265+AQ271+AQ277+AQ283+AQ289+AQ295+AQ301)","v":0},{"$f":"SUM(AR223+AR229+AR235+AR241+AR247+AR253+AR259+AR265+AR271+AR277+AR283+AR289+AR295+AR301)","v":0},{"$f":"+AS223+AS229+AS235+AS241+AS247+AS253+AS259+AS265+AS271+AS277+AS283+AS289+AS295+AS301","v":0},0,0,0,{"$f":"+AW223+AW229+AW235+AW241+AW247+AW253+AW259+AW265+AW271+AW277+AW283+AW289+AW295+AW301","v":0}]
[null,"CONTROL ",null,0,0,0,{"$f":"+G224+G230+G236+G242+G248+G254+G260+G266+G290+G296+G302","v":0},0,0,0,0,0,0,0,0,0,0,0,0,0,0,0,0,0,{"$f":"+Y224+Y230+Y236+Y242+Y248+Y254+Y260+Y266+Y272+Y278+Y284+Y290+Y296+Y302","v":0},0,0,0,0,0,0,0,0,0,0,0,0,0,0,0,{"$f":"+AO224+AO230+AO236+AO242+AO248+AO266+AO272+AO278+AO284+AO290+AO296+AO302","v":0},{"$f":"+AP224+AP230+AP236+AP248+AP266+AP272+AP278+AP284+AP290+AP296+AP302","v":0},null,null,{"$f":"+AS224+AS230+AS236+AS242+AS248+AS254+AS260+AS266+AS272+AS278+AS284+AS290+AS296+AS302","v":0},0,0,0,{"$f":"+AW224+AW230+AW236+AW242+AW248+AW254+AW260+AW266+AW272+AW278+AW284+AW290+AW296+AW302","v":0}]
[null,"INGRESOS A TRATAMIENTO",null,0,{"$f":"SUM(G309+I309+K309+M309+O309+Q309+S309+U309+W309+Y309+AA309+AC309+AE309+AG309+AI309+AK309+AM309)","v":0},0,0,0,0,0,0,0,0,0,0,0,0,0,0,0,0,0,0,0,{"$f":"+Y225+Y231+Y237+Y243+Y249+Y255+Y261+Y267+Y273+Y279+Y285+Y291+Y297+Y303","v":0},0,0,0,0,0,0,0,0,0,0,0,0,0,0,0,0,{"$f":"+AP225+AP231+AP237+AP249+AP267+AP273+AP279+AP285+AP291+AP297+AP303","v":0},null,null,null,{"$f":"+AT225+AT231+AT237+AT243+AT249+AT255+AT261+AT267+AT273+AT279+AT285+AT291+AT297+AT303","v":0},0,0,{"$f":"+AW225+AW231+AW237+AW243+AW249+AW255+AW261+AW267+AW273+AW279+AW285+AW291+AW297+AW303","v":0}]
[null,"ALTAS DE TRATAMIENTO",null,{"$f":"SUM(E310+F310)","v":0},0,0,0,0,0,0,0,0,0,0,0,0,0,0,0,0,0,0,0,0,{"$f":"+Y226+Y232+Y238+Y244+Y250+Y256+Y262+Y268+Y274+Y280+Y286+Y292+Y298+Y304","v":0},0,0,0,0,0,0,0,0,0,0,0,0,0,0,0,0,{"$f":"+AP226+AP232+AP238+AP250+AP268+AP274+AP280+AP286+AP292+AP298+AP304","v":0},null,null,null,{"$f":"+AT226+AT232+AT238+AT244+AT250+AT256+AT262+AT268+AT274+AT280+AT286+AT292+AT298+AT304","v":0},0,0,{"$f":"+AW226+AW232+AW238+AW244+AW250+AW256+AW262+AW268+AW274+AW280+AW286+AW292+AW298+AW304","v":0}]
[null,"CONTROL DE ESPECIALIDAD POST ALTA",null,0,0,0,0,0,0,0,0,0,0,0,0,0,0,0,0,0,0,0,0,0,{"$f":"+Y227+Y233+Y239+Y245+Y251+Y257+Y263+Y269+Y287+Y281+Y275+Y293+Y299+Y305","v":0},0,0,0,0,0,0,0,0,0,0,0,0,0,{"$f":"+AM227+AM233+AM239+AM245+AM251+AM257+AM263+AM269+AM287+AM281+AM275+AM293+AM299+AM305","v":0},{"$f":"+AN227+AN233+AN239+AN245+AN251+AN257+AN263+AN269+AN287+AN281+AN275+AN293+AN299+AN305","v":0},0,{"$f":"+AP227+AP233+AP239+AP251+AP269+AP287+AP281+AP275+AP293+AP299+AP305","v":0},null,null,null,{"$f":"+AT227+AT233+AT239+AT245+AT251+AT257+AT263+AT269+AT287+AT281+AT275+AT293+AT299+AT305","v":0},0,0,{"$f":"+AW227+AW233+AW239+AW245+AW251+AW257+AW263+AW269+AW287+AW281+AW275+AW293+AW299+AW305","v":0}]
[null,"ALTAS ADMINISTRATIVAS",null,{"$f":"SUM(E312+F312)","v":0},0,0,0,0,0,0,0,0,0,0,0,0,0,0,0,0,0,0,0,0,{"$f":"SUM(Y228+Y234+Y240+Y246+Y252+Y258+Y264+Y270+Y276+Y282+Y288+Y294+Y300+Y306)","v":0},0,0,0,0,0,0,0,0,0,0,0,0,0,{"$f":"SUM(AM228+AM234+AM240+AM246+AM252+AM258+AM264+AM270+AM276+AM282+AM288+AM294+AM300+AM306)","v":0},0,0,{"$f":"SUM(AP228+AP234+AP240+AP252+AP270+AP276+AP282+AP288+AP294+AP300+AP306)","v":0},null,null,null,{"$f":"SUM(AT228+AT234+AT240+AT246+AT252+AT258+AT264+AT270+AT276+AT282+AT288+AT294+AT300+AT306)","v":0},0,0,{"$f":"SUM(AW228+AW234+AW240+AW246+AW252+AW258+AW264+AW270+AW276+AW282+AW288+AW294+AW300+AW306)","v":0}]
["SECCIÓN J: ACTIVIDADES EFECTUADAS POR TÉCNICO PARAMÉDICO DENTAL Y/O HIGIENISTAS DENTALES  "]
["TIPO DE ACTIVIDAD",null,null,"TOTAL",null,null,"SEGÚN GRUPOS DE EDAD O DE RIESGO",null,null,null,null,null,null,null,null,null,null,null,null,null,null,null,null,null,null,null,null,null,null,null,null,null,null,null,null,null,null,null,null,null,null,null,"Embarazadas","60 años (incluidos en grupos de 20-64 años)"]
[null,null,null,null,null,null,"Menos de 1 año",null,"1 año",null,"2 años",null,"3 años",null,"4 años",null,"5 años",null,"6 años",null,"7 años",null,"8-9 años",null,"10-14 años",null,"15-19 años",null,"20-24 años ",null,"25-34 años",null,"35-44 años",null,"45-59 años",null,"60-64 años",null,"65-74 años",null,"75 y más años"]
[null,null,null,"Ambos Sexos","Hombres","Mujeres","Hombres","Mujeres","Hombres","Mujeres","Hombres","Mujeres","Hombres","Mujeres","Hombres","Mujeres","Hombres","Mujeres","Hombres","Mujeres","Hombres","Mujeres","Hombres","Mujeres","Hombres","Mujeres","Hombres","Mujeres","Hombres","Mujeres","Hombres","Mujeres","Hombres","Mujeres","Hombres","Mujeres","Hombres","Mujeres","Hombres","Mujeres","Hombres","Mujeres"]
["APLICACIÓN DE SELLANTES",null,null,{"$f":"SUM(E317:F317)","v":0},{"$f":"SUM(G317+I317+K317+M317+O317+Q317+S317+U317+W317+Y317+AA317+AC317+AE317+AG317+AI317+AK317+AM317+AO317)","v":0},{"$f":"SUM(H317+J317+L317+N317+P317+R317+T317+V317+X317+Z317+AB317+AD317+AF317+AH317+AJ317+AL317+AN317+AP317)","v":0},null,null,null,null,null,null,null,null,null,null,null,null,null,null,null,null,null,null,null,null,null,null,null,null,null,null,null,null,null,null,null,null,null,null,null,null,null,null,{"$f":"$CA317&$CB317&$CC317&$CD317&$CE317&$CF317&$CG317","v":""},null,null,null,null,null,null,null,null,null,null,null,null,null,null,null,null,null,null,null,null,null,null,null,null,null,null,null,null,null,null,null,null,null,{"$f":"IF(CH317=1,\"* Las actividades de 60 años NO DEBE ser mayor que el de 60-64 Años. \",\"\")","v":""},{"$f":"IF(AND(D317<>0,AQ317=\"\"),\"* Recuerde que las Embarazadas deben ser incluídas en el ingreso por rango Etario (Digite CEROS si no tiene). \",IF(F317<AQ317,\"* Las Embarazadas NO DEBEN ser mayor al total de Mujeres. \",\"\"))","v":""},null,null,null,null,null,{"$f":"IF((AK317+AL317)<AR317,1,0)","v":0},{"$f":"IF(AND(D317<>0,AQ317=\"\"),1,IF(F317<AQ317,1,0))","v":0}]
["PULIDO CORONARIO Y DESTARTRAJE SUPRAGINGIVAL",null,null,{"$f":"SUM(E318:F318)","v":0},{"$f":"SUM(G318+I318+K318+M318+O318+Q318+S318+U318+W318+Y318+AA318+AC318+AE318+AG318+AI318+AK318+AM318+AO318)","v":0},0,null,null,null,null,null,null,null,null,null,null,null,null,null,null,null,null,null,null,null,null,null,null,null,null,null,null,null,null,null,null,null,null,null,null,null,null,null,null,"",null,null,null,null,null,null,null,null,null,null,null,null,null,null,null,null,null,null,null,null,null,null,null,null,null,null,null,null,null,null,null,null,null,{"$f":"IF(CH318=1,\"* Las actividades de 60 años NO DEBE ser mayor que el de 60-64 Años. \",\"\")","v":""},{"$f":"IF(AND(D318<>0,AQ318=\"\"),\"* Recuerde que las Embarazadas deben ser incluídas en el ingreso por rango Etario (Digite CEROS si no tiene). \",IF(F318<AQ318,\"* Las Embarazadas NO DEBEN ser mayor al total de Mujeres. \",\"\"))","v":""},null,null,null,null,null,{"$f":"IF((AK318+AL318)<AR318,1,0)","v":0},{"$f":"IF(AND(D318<>0,AQ318=\"\"),1,IF(F318<AQ318,1,0))","v":0}]
["FLUORURACIÓN TÓPICA ",null,null,0,0,0,null,null,null,null,null,null,null,null,null,null,null,null,null,null,null,null,null,null,null,null,null,null,null,null,null,null,null,null,null,null,null,null,null,null,null,null,null,null,"",null,null,null,null,null,null,null,null,null,null,null,null,null,null,null,null,null,null,null,null,null,null,null,null,null,null,null,null,null,null,null,null,null,"","",null,null,null,null,null,0,0]
["EDUCACIÓN INDIVIDUAL CON INSTRUCCIÓN DE TÉCNICA DE CEPILLADO",null,null,0,0,0,null,null,null,null,null,null,null,null,null,null,null,null,null,null,null,null,null,null,null,null,null,null,null,null,null,null,null,null,null,null,null,null,null,null,null,null,null,null,"",null,null,null,null,null,null,null,null,null,null,null,null,null,null,null,null,null,null,null,null,null,null,null,null,null,null,null,null,null,null,null,null,null,"","",null,null,null,null,null,0,0]
["RADIOGRAFÍAS INTRAORALES (RETROALVEOLARES Y BITEWING)",null,null,{"$f":"SUM(E321:F321)","v":9},{"$f":"SUM(G321+I321+K321+M321+O321+Q321+S321+U321+W321+Y321+AA321+AC321+AE321+AG321+AI321+AK321+AM321+AO321)","v":6},{"$f":"SUM(H321+J321+L321+N321+P321+R321+T321+V321+X321+Z321+AB321+AD321+AF321+AH321+AJ321+AL321+AN321+AP321)","v":3},0,0,0,0,0,0,0,0,0,0,0,0,0,0,0,1,0,0,0,2,2,0,0,0,0,0,0,0,1,0,0,0,0,0,3,0,0,0,"",null,null,null,null,null,null,null,null,null,null,null,null,null,null,null,null,null,null,null,null,null,null,null,null,null,null,null,null,null,null,null,null,null,"","",null,null,null,null,null,0,0]
["SECCIÓN K : GESTIÓN DE AGENDA (CLÍNICAS DENTALES MÓVILES). ",null,null,null,null,null,null,null,null,null,null,null,null,null,null,null,"  "]
["CONSULTAS","HORAS ODONTOLÓGICAS MENSUALES CONTRATADAS","HORAS DISPONIBLES DE ATENCIÓN CLÍNICA","CITAS AGENDADAS","CITAS EFECTIVAS"]
[]
[]
[]
["NIVEL PRIMARIO",null,null,{"$f":"SUM(D328:D330)","v":0},{"$f":"SUM(E328:E330)","v":0}]
["ATENCIÓN MORBILIDAD"]
["ATENCIÓN TRATAMIENTO"]
["ATENCIÓN URGENCIA"]
["SECCIÓN L: CONSULTORÍAS DE ESPECIALIDADES ODONTOLÓGICAS. "]
["ESPECIALIDADES",null,"Nº CONSULTORÍAS","Nº DE CASOS REVISADOS POR EL EQUIPO","Nº DE CASOS ATENDIDOS"]
["ENDODONCIA"]
["IMAGENOLOGÍA ORAL Y MAXILOFACIAL "]
["ORTODONCIA"]
["ODONTOPEDIATRÍA"]
["PERIODONCIA"]
["REHABILITACIÓN ORAL"]
["CIRUGÍA Y TRAUMATOLOGÍA MAXILOFACIAL"]
["TRASTORNOS TEMPOROMANDIBULARES Y DOLOR OROFACIAL"]
["PATOLOGÍA ORAL"]
["IMPLANTOLOGÍA BUCO MAXILOFACIAL"]
[]
[]
[]
[]
[]
[]
[]
[]
[]
[]
[]
[]
[]
[]
[]
[]
[]
[]
[]
[]
[]
[]
[]
[]
[]
[]
[]
[]
[]
[]
[]
[]
[]
[]
[]
[{"$f":"SUM(D12:D15,D36,D64,D67:I77,D85:D86,D145,D159,D164:D198,D203:D206,D213:D216,D307:D312,D317:D321,B327:C327,D328:E330,C333:C342)","v":2885},{"$f":"SUM(CH9:CN342)","v":0}]

{"sheet":"A11","index":10,"n_rows":308,"n_cols":130,"rows_kept":308,"cut":false,"hidden":false,"merged":[[267,18,268,18],[267,19,268,19],[286,28,288,28],[286,29,288,29],[292,36,294,36],[292,37,294,37],[292,0,294,0],[292,1,293,3],[292,4,292,35],[293,4,293,5],[293,6,293,7],[293,8,293,9],[293,10,293,11],[293,12,293,13],[293,14,293,15],[293,16,293,17],[293,18,293,19],[293,20,293,21],[293,22,293,23],[293,24,293,25],[293,26,293,27],[293,28,293,29],[293,30,293,31],[293,32,293,33],[293,34,293,35],[286,0,288,0],[286,1,287,3],[286,4,286,27],[287,4,287,5],[287,6,287,7],[287,8,287,9],[287,10,287,11],[287,12,287,13],[287,14,287,15],[287,16,287,17],[287,18,287,19],[287,20,287,21],[287,22,287,23],[287,24,287,25],[287,26,287,27],[276,30,276,31],[276,32,276,33],[276,34,276,35],[277,1,278,1],[277,2,278,2],[277,3,278,3],[277,4,277,5],[277,6,277,7],[277,8,277,9],[277,10,277,11],[277,12,277,13],[277,14,277,15],[277,16,277,17],[277,18,277,19],[277,20,277,21],[277,22,277,23],[277,24,277,25],[277,26,277,27],[277,28,277,29],[277,30,277,31],[277,32,277,33],[277,34,277,35],[259,0,260,0],[259,1,260,1],[259,2,259,11],[259,12,260,12],[259,13,260,13],[267,0,268,0],[267,1,268,1],[267,2,267,17],[275,0,278,0],[275,1,276,3],[275,4,275,35],[276,4,276,5],[276,6,276,7],[276,8,276,9],[276,10,276,11],[276,12,276,13],[276,14,276,15],[276,16,276,17],[276,18,276,19],[276,20,276,21],[276,22,276,23],[276,24,276,25],[276,26,276,27],[276,28,276,29],[235,0,253,0],[254,0,257,0],[233,30,233,31],[233,32,233,33],[233,34,233,35],[233,36,233,37],[233,38,233,39],[233,40,233,41],[233,18,233,19],[233,20,233,21],[233,22,233,23],[233,24,233,25],[233,26,233,27],[233,28,233,29],[232,0,234,1],[232,2,233,3],[232,44,233,45],[232,46,233,47],[232,48,233,49],[233,4,233,5],[233,6,233,7],[233,8,233,9],[233,10,233,11],[233,12,233,13],[233,14,233,15],[233,16,233,17],[233,42,233,43],[232,4,232,35],[232,36,232,39],[232,40,232,43],[221,41,223,41],[221,42,223,42],[222,3,222,4],[222,5,222,6],[222,7,222,8],[222,9,222,10],[222,11,222,12],[222,13,222,14],[222,15,222,16],[222,17,222,18],[221,0,223,0],[221,1,222,2],[221,3,221,36],[221,37,221,38],[221,39,221,40],[222,19,222,20],[222,21,222,22],[211,27,211,28],[211,29,211,30],[211,31,211,32],[211,33,211,34],[211,35,211,36],[211,37,212,37],[222,35,222,36],[222,37,223,37],[222,38,223,38],[222,39,223,39],[222,40,223,40],[222,23,222,24],[222,25,222,26],[222,27,222,28],[222,29,222,30],[222,31,222,32],[222,33,222,34],[210,41,212,41],[210,42,212,42],[211,3,211,4],[211,5,211,6],[211,7,211,8],[211,9,211,10],[211,11,211,12],[211,13,211,14],[211,15,211,16],[211,17,211,18],[211,38,212,38],[211,39,212,39],[211,40,212,40],[208,0,208,1],[210,0,212,0],[210,1,211,2],[210,3,210,36],[210,37,210,38],[210,39,210,40],[211,19,211,20],[211,21,211,22],[211,23,211,24],[211,25,211,26],[204,0,204,1],[205,0,205,1],[206,0,206,1],[207,0,207,1],[193,0,193,1],[194,0,194,1],[195,0,197,0],[198,0,198,1],[199,0,199,1],[200,0,200,1],[189,0,189,1],[190,0,190,1],[191,0,191,1],[192,0,192,1],[184,34,184,35],[184,36,184,37],[184,38,184,39],[201,0,201,1],[202,0,202,1],[186,0,186,1],[184,22,184,23],[184,24,184,25],[184,26,184,27],[184,28,184,29],[184,30,184,31],[184,32,184,33],[187,0,187,1],[188,0,188,1],[183,36,183,39],[183,40,183,43],[183,44,184,45],[183,46,184,47],[183,48,184,49],[184,4,184,5],[184,6,184,7],[184,8,184,9],[184,10,184,11],[184,12,184,13],[184,40,184,41],[184,42,184,43],[180,0,180,1],[181,0,181,1],[182,0,182,16],[183,0,185,1],[183,2,184,3],[183,4,183,35],[184,14,184,15],[184,16,184,17],[184,18,184,19],[184,20,184,21],[173,0,173,1],[174,0,174,1],[175,0,175,1],[177,0,177,1],[178,0,178,1],[179,0,179,1],[165,0,165,1],[166,0,166,1],[167,0,167,1],[168,0,170,0],[171,0,171,1],[172,0,172,1],[159,0,159,1],[160,0,160,1],[161,0,161,1],[162,0,162,1],[163,0,163,1],[164,0,164,1],[157,32,157,33],[157,34,157,35],[157,36,157,37],[156,36,156,39],[156,40,156,43],[156,44,157,45],[156,46,157,47],[156,48,157,49],[157,4,157,5],[157,6,157,7],[157,8,157,9],[157,10,157,11],[157,12,157,13],[157,38,157,39],[157,40,157,41],[157,42,157,43],[157,20,157,21],[157,22,157,23],[157,24,157,25],[157,26,157,27],[157,28,157,29],[157,30,157,31],[150,0,150,1],[151,0,153,0],[154,0,154,1],[155,0,155,16],[156,0,158,1],[156,2,157,3],[156,4,156,35],[157,14,157,15],[157,16,157,17],[157,18,157,19],[142,0,142,1],[143,0,145,0],[146,0,146,1],[147,0,147,17],[148,0,149,1],[148,2,148,4],[148,5,148,7],[148,8,148,10],[148,11,148,13],[148,14,148,15],[139,0,139,16],[140,0,141,1],[140,2,140,4],[140,5,140,7],[140,8,140,10],[140,11,140,13],[140,14,140,15],[119,33,119,34],[119,35,119,36],[119,21,119,22],[119,23,119,24],[119,25,119,26],[119,27,119,28],[119,29,119,30],[119,31,119,32],[118,0,120,0],[118,1,119,2],[118,45,119,46],[118,47,120,47],[118,48,120,48],[119,3,119,4],[119,5,119,6],[119,7,119,8],[119,9,119,10],[119,11,119,12],[119,13,119,14],[119,15,119,16],[119,44,120,44],[119,37,119,38],[119,39,119,40],[119,41,119,42],[119,43,120,43],[118,3,118,42],[118,43,118,44],[119,17,119,18],[119,19,119,20],[96,47,98,47],[96,48,98,48],[97,3,97,4],[97,5,97,6],[97,7,97,8],[97,9,97,10],[97,11,97,12],[97,13,97,14],[97,15,97,16],[97,17,97,18],[97,39,97,40],[97,41,97,42],[97,43,98,43],[97,44,98,44],[96,0,98,0],[96,1,97,2],[96,3,96,42],[96,43,96,44],[96,45,97,46],[97,19,97,20],[97,21,97,22],[97,23,97,24],[97,25,97,26],[97,27,97,28],[97,29,97,30],[97,31,97,32],[97,33,97,34],[97,35,97,36],[97,37,97,38],[74,47,76,47],[74,48,76,48],[75,3,75,4],[75,5,75,6],[75,7,75,8],[75,9,75,10],[75,11,75,12],[75,13,75,14],[75,15,75,16],[75,44,76,44],[75,33,75,34],[75,35,75,36],[75,37,75,38],[75,39,75,40],[75,41,75,42],[75,43,76,43],[75,21,75,22],[75,23,75,24],[75,25,75,26],[75,27,75,28],[75,29,75,30],[75,31,75,32],[74,45,75,46],[74,0,76,0],[74,1,75,2],[74,3,74,42],[74,43,74,44],[75,17,75,18],[75,19,75,20],[53,27,53,28],[53,29,53,30],[53,31,53,32],[53,33,53,34],[53,35,53,36],[53,37,53,38],[52,0,54,0],[52,1,53,2],[52,47,54,47],[52,48,54,48],[53,3,53,4],[53,5,53,6],[53,7,53,8],[53,9,53,10],[53,11,53,12],[53,13,53,14],[53,15,53,16],[53,17,53,18],[53,39,53,40],[53,41,53,42],[53,43,54,43],[53,44,54,44],[52,3,52,42],[52,43,52,44],[52,45,53,46],[53,19,53,20],[53,21,53,22],[53,23,53,24],[53,25,53,26],[30,47,32,47],[30,48,32,48],[31,3,31,4],[31,5,31,6],[31,7,31,8],[31,9,31,10],[31,11,31,12],[31,13,31,14],[31,15,31,16],[31,44,32,44],[31,33,31,34],[31,35,31,36],[31,37,31,38],[31,39,31,40],[31,41,31,42],[31,43,32,43],[31,21,31,22],[31,23,31,24],[31,25,31,26],[31,27,31,28],[31,29,31,30],[31,31,31,32],[30,45,31,46],[30,0,32,0],[30,1,31,2],[30,3,30,42],[30,43,30,44],[31,17,31,18],[31,19,31,20],[9,27,9,28],[9,29,9,30],[9,31,9,32],[9,33,9,34],[9,35,9,36],[9,37,9,38],[8,47,10,47],[8,48,10,48],[9,3,9,4],[9,5,9,6],[9,7,9,8],[9,9,9,10],[9,11,9,12],[9,13,9,14],[9,15,9,16],[9,17,9,18],[9,39,9,40],[9,41,9,42],[9,43,10,43],[9,44,10,44],[5,0,5,15],[8,0,10,0],[8,1,9,2],[8,3,8,42],[8,43,8,44],[8,45,9,46],[9,19,9,20],[9,21,9,22],[9,23,9,24],[9,25,9,26]]}
["SERVICIO DE SALUD"]
[{"$f":"CONCATENATE(\"COMUNA: \",NOMBRE!B2,\" - \",\"( \",NOMBRE!C2,NOMBRE!D2,NOMBRE!E2,NOMBRE!F2,NOMBRE!G2,\" )\")","v":"COMUNA: CALLE LARGA - ( 05302 )"}]
[{"$f":"CONCATENATE(\"ESTABLECIMIENTO/ESTRATEGIA: \",NOMBRE!B3,\" - \",\"( \",NOMBRE!C3,NOMBRE!D3,NOMBRE!E3,NOMBRE!F3,NOMBRE!G3,NOMBRE!H3,\" )\")","v":"ESTABLECIMIENTO/ESTRATEGIA: DR. JOSE JOAQUIN AGUIRRE CAMPOS - ( 108308 )"}]
[{"$f":"CONCATENATE(\"MES: \",NOMBRE!B6,\" - \",\"( \",NOMBRE!C6,NOMBRE!D6,\" )\")","v":"MES: DICIEMBRE - ( 12 )"}]
[{"$f":"CONCATENATE(\"AÑO: \",NOMBRE!B7)","v":"AÑO: 2022"}]
["REM-A11.  EXÁMENES DE PESQUISA DE ENFERMEDADES TRASMISIBLES "]
["SECCION A: EXÁMENES DE SÍFILIS"]
["SECCIÓN A.1: EXAMEN VDRL POR GRUPO DE USUARIOS (Uso exclusivo de establecimientos con Laboratorio que procesan)"]
["GRUPO DE PESQUISA","TOTAL",null,"POR EDAD (en meses - años)",null,null,null,null,null,null,null,null,null,null,null,null,null,null,null,null,null,null,null,null,null,null,null,null,null,null,null,null,null,null,null,null,null,null,null,null,null,null,null,"POR SEXO\n(Procesados)",null,"TRANS",null,"Pueblos Originarios","Migrantes"]
[null,null,null,"Menor de 6 meses",null,"6 a 11 meses",null,"12-24 meses",null,"3 a 4",null,"5 a 9",null,"10 - 14",null,"15 - 19",null,"20 - 24",null,"25 a 29",null,"30 a 34",null,"35 a 39",null,"40 a 44",null,"45 a 49",null,"50 a 54",null,"55 a 59",null,"60 a 64",null,"65 a 69",null,"70 a 74",null,"75 a 79",null,"80 y más",null,"Hombres","Mujeres"]
[null,"Procesados","Reactivos","Procesados","Reactivos","Procesados","Reactivos","Procesados","Reactivos","Procesados","Reactivos","Procesados","Reactivos","Procesados","Reactivos","Procesados","Reactivos","Procesados","Reactivos","Procesados","Reactivos","Procesados","Reactivos","Procesados","Reactivos","Procesados","Reactivos","Procesados","Reactivos","Procesados","Reactivos","Procesados","Reactivos","Procesados","Reactivos","Procesados","Reactivos","Procesados","Reactivos","Procesados","Reactivos","Procesados","Reactivos",null,null,"Masculino","Femenino"]
["GESTANTES PRIMER TRIMESTRE EMBARAZO",{"$f":"+N12+P12+R12+T12+V12+X12+Z12+AB12+AD12+AF12+AH12+AJ12+AL12+AN12+AP12","v":0},{"$f":"+O12+Q12+S12+U12+W12+Y12+AA12+AC12+AE12+AG12+AI12+AK12+AM12+AO12+AQ12","v":0},null,null,null,null,null,null,null,null,null,null,null,null,null,null,null,null,null,null,null,null,null,null,null,null,null,null,null,null,null,null,null,null,null,null,null,null,null,null,null,null,null,null,null,null,null,null,{"$f":"$CA12&$CB12&$CC12&$CD12&$CE12&$CF12&$CG12&$CH12&$CI12&$CJ12&$CK12&$CL12&$CM12&$CN12&$CO12&$CP12&$CQ12&$CR12&$CS12&$CT12&$CU12&$CV12&$CW12&$CX12&$CY12&$CZ12","v":""},null,null,null,null,null,null,null,null,null,null,null,null,null,null,null,null,null,null,null,null,null,null,null,null,null,null,null,null,{"$f":"IF(B12<C12,\"* El total de Reactivos NO DEBE ser superior al total de Procesados. \",\"\")","v":""},{"$f":"IF(B12<>(AR12+ AS12),\"* La suma de las columnas Sexo DEBE SER IGUAL a los Procesados. \",\"\")","v":""},{"$f":"IF(B12<(AT12+ AU12),\"* La suma de las columna Trans NO DEBE ser superior al total de Procesados. \",\"\")","v":""},{"$f":"IF(B12<AV12,\"* La columna Pueblos Originarios NO DEBE ser superior al total de Procesados. \",\"\")","v":""},{"$f":"IF(B12<AW12,\"* La columna Migrantes NO DEBE ser superior al total de Procesados. \",\"\")","v":""},{"$f":"IF(D12<E12,CONCATENATE(\"* El total de procesados debe ser mayor o igual al total de Reactivos en el grupo de edad \",$D$10),\"\")","v":""},{"$f":"IF(F12<G12,CONCATENATE(\"* El total de procesados debe ser mayor o igual al total de Reactivos en el grupo de edad \",$F$10),\"\")","v":""},{"$f":"IF(H12<I12,CONCATENATE(\"* El total de procesados debe ser mayor o igual al total de Reactivos en el grupo de edad \",$H$10),\"\")","v":""},{"$f":"IF(J12<K12,CONCATENATE(\"* El total de procesados debe ser mayor o igual al total de Reactivos en el grupo de edad \",$J$10),\"\")","v":""},{"$f":"IF(L12<M12,CONCATENATE(\"* El total de procesados debe ser mayor o igual al total de Reactivos en el grupo de edad \",$L$10),\"\")","v":""},{"$f":"IF(N12<O12,CONCATENATE(\"* El total de procesados debe ser mayor o igual al total de Reactivos en el grupo de edad \",$N$10),\"\")","v":""},{"$f":"IF(P12<Q12,CONCATENATE(\"* El total de procesados debe ser mayor o igual al total de Reactivos en el grupo de edad \",$P$10),\"\")","v":""},{"$f":"IF(R12<S12,CONCATENATE(\"* El total de procesados debe ser mayor o igual al total de Reactivos en el grupo de edad \",$R$10),\"\")","v":""},{"$f":"IF(T12<U12,CONCATENATE(\"* El total de procesados debe ser mayor o igual al total de Reactivos en el grupo de edad \",$T$10),\"\")","v":""},{"$f":"IF(V12<W12,CONCATENATE(\"* El total de procesados debe ser mayor o igual al total de Reactivos en el grupo de edad \",$V$10),\"\")","v":""},{"$f":"IF(X12<Y12,CONCATENATE(\"* El total de procesados debe ser mayor o igual al total de Reactivos en el grupo de edad \",$X$10),\"\")","v":""},{"$f":"IF(Z12<AA12,CONCATENATE(\"* El total de procesados debe ser mayor o igual al total de Reactivos en el grupo de edad \",$Z$10),\"\")","v":""},{"$f":"IF(AB12<AC12,CONCATENATE(\"* El total de procesados debe ser mayor o igual al total de Reactivos en el grupo de edad \",$AB$10),\"\")","v":""},{"$f":"IF(AD12<AE12,CONCATENATE(\"* El total de procesados debe ser mayor o igual al total de Reactivos en el grupo de edad \",$AD$10),\"\")","v":""},{"$f":"IF(AF12<AG12,CONCATENATE(\"* El total de procesados debe ser mayor o igual al total de Reactivos en el grupo de edad \",$AF$10),\"\")","v":""},{"$f":"IF(AH12<AI12,CONCATENATE(\"* El total de procesados debe ser mayor o igual al total de Reactivos en el grupo de edad \",$AH$10),\"\")","v":""},{"$f":"IF(AJ12<AK12,CONCATENATE(\"* El total de procesados debe ser mayor o igual al total de Reactivos en el grupo de edad \",$AJ$10),\"\")","v":""},{"$f":"IF(AL12<AM12,CONCATENATE(\"* El total de procesados debe ser mayor o igual al total de Reactivos en el grupo de edad \",$AL$10),\"\")","v":""},{"$f":"IF(AN12<AO12,CONCATENATE(\"* El total de procesados debe ser mayor o igual al total de Reactivos en el grupo de edad \",$AN$10),\"\")","v":""},{"$f":"IF(AP12<AQ12,CONCATENATE(\"* El total de procesados debe ser mayor o igual al total de Reactivos en el grupo de edad \",$AP$10),\"\")","v":""},{"$f":"IF(AND(B12<>0,OR(AT12=\"\",AU12=\"\",AV12=\"\",AW12=\"\")),\"* No olvide digitar la columna Trans y/o Pueblos Originarios y/o Migrantes (Digite Cero si no tiene). \",\"\")","v":""},{"$f":"IF(B12<   C12,1,0)","v":0},{"$f":"IF(B12<> AR12+AS12,1,0)","v":0},{"$f":"IF(B12<  AT12+AU12,1,0)","v":0},{"$f":"IF(B12<  AV12,1,0)","v":0},{"$f":"IF(B12<  AW12,1,0)","v":0},{"$f":"IF(D12<E12,1,0)","v":0},{"$f":"IF(F12<G12,1,0)","v":0},{"$f":"IF(H12<I12,1,0)","v":0},{"$f":"IF(J12<K12,1,0)","v":0},{"$f":"IF(L12<M12,1,0)","v":0},{"$f":"IF(N12<O12,1,0)","v":0},{"$f":"IF(P12<Q12,1,0)","v":0},{"$f":"IF(R12<S12,1,0)","v":0},{"$f":"IF(T12<U12,1,0)","v":0},{"$f":"IF(V12<W12,1,0)","v":0},{"$f":"IF(X12<Y12,1,0)","v":0},{"$f":"IF(Z12<AA12,1,0)","v":0},{"$f":"IF(AB12<AC12,1,0)","v":0},{"$f":"IF(AD12<AE12,1,0)","v":0},{"$f":"IF(AF12<AG12,1,0)","v":0},{"$f":"IF(AH12<AI12,1,0)","v":0},{"$f":"IF(AJ12<AK12,1,0)","v":0},{"$f":"IF(AL12<AM12,1,0)","v":0},{"$f":"IF(AN12<AO12,1,0)","v":0},{"$f":"IF(AP12<AQ12,1,0)","v":0},{"$f":"IF(AND(B12<>0,OR(AT12=\"\",AU12=\"\",AV12=\"\",AW12=\"\")),1,0)","v":0}]
["GESTANTES SEGUNDO TRIMESTRE EMBARAZO",0,0,null,null,null,null,null,null,null,null,null,null,null,null,null,null,null,null,null,null,null,null,null,null,null,null,null,null,null,null,null,null,null,null,null,null,null,null,null,null,null,null,null,null,null,null,null,null,{"$f":"$CA13&$CB13&$CC13&$CD13&$CE13&$CF13&$CG13&$CH13&$CI13&$CJ13&$CK13&$CL13&$CM13&$CN13&$CO13&$CP13&$CQ13&$CR13&$CS13&$CT13&$CU13&$CV13&$CW13&$CX13&$CY13&$CZ13","v":""},null,null,null,null,null,null,null,null,null,null,null,null,null,null,null,null,null,null,null,null,null,null,null,null,null,null,null,null,{"$f":"IF(B13<C13,\"* El total de Reactivos NO DEBE ser superior al total de Procesados. \",\"\")","v":""},{"$f":"IF(B13<>(AR13+ AS13),\"* La suma de las columnas Sexo DEBE SER IGUAL a los Procesados. \",\"\")","v":""},{"$f":"IF(B13<(AT13+ AU13),\"* La suma de las columna Trans NO DEBE ser superior al total de Procesados. \",\"\")","v":""},{"$f":"IF(B13<AV13,\"* La columna Pueblos Originarios NO DEBE ser superior al total de Procesados. \",\"\")","v":""},{"$f":"IF(B13<AW13,\"* La columna Migrantes NO DEBE ser superior al total de Procesados. \",\"\")","v":""},{"$f":"IF(D13<E13,CONCATENATE(\"* El total de procesados debe ser mayor o igual al total de Reactivos en el grupo de edad \",$D$10),\"\")","v":""},{"$f":"IF(F13<G13,CONCATENATE(\"* El total de procesados debe ser mayor o igual al total de Reactivos en el grupo de edad \",$F$10),\"\")","v":""},{"$f":"IF(H13<I13,CONCATENATE(\"* El total de procesados debe ser mayor o igual al total de Reactivos en el grupo de edad \",$H$10),\"\")","v":""},{"$f":"IF(J13<K13,CONCATENATE(\"* El total de procesados debe ser mayor o igual al total de Reactivos en el grupo de edad \",$J$10),\"\")","v":""},{"$f":"IF(L13<M13,CONCATENATE(\"* El total de procesados debe ser mayor o igual al total de Reactivos en el grupo de edad \",$L$10),\"\")","v":""},{"$f":"IF(N13<O13,CONCATENATE(\"* El total de procesados debe ser mayor o igual al total de Reactivos en el grupo de edad \",$N$10),\"\")","v":""},{"$f":"IF(P13<Q13,CONCATENATE(\"* El total de procesados debe ser mayor o igual al total de Reactivos en el grupo de edad \",$P$10),\"\")","v":""},{"$f":"IF(R13<S13,CONCATENATE(\"* El total de procesados debe ser mayor o igual al total de Reactivos en el grupo de edad \",$R$10),\"\")","v":""},{"$f":"IF(T13<U13,CONCATENATE(\"* El total de procesados debe ser mayor o igual al total de Reactivos en el grupo de edad \",$T$10),\"\")","v":""},{"$f":"IF(V13<W13,CONCATENATE(\"* El total de procesados debe ser mayor o igual al total de Reactivos en el grupo de edad \",$V$10),\"\")","v":""},{"$f":"IF(X13<Y13,CONCATENATE(\"* El total de procesados debe ser mayor o igual al total de Reactivos en el grupo de edad \",$X$10),\"\")","v":""},{"$f":"IF(Z13<AA13,CONCATENATE(\"* El total de procesados debe ser mayor o igual al total de Reactivos en el grupo de edad \",$Z$10),\"\")","v":""},{"$f":"IF(AB13<AC13,CONCATENATE(\"* El total de procesados debe ser mayor o igual al total de Reactivos en el grupo de edad \",$AB$10),\"\")","v":""},{"$f":"IF(AD13<AE13,CONCATENATE(\"* El total de procesados debe ser mayor o igual al total de Reactivos en el grupo de edad \",$AD$10),\"\")","v":""},{"$f":"IF(AF13<AG13,CONCATENATE(\"* El total de procesados debe ser mayor o igual al total de Reactivos en el grupo de edad \",$AF$10),\"\")","v":""},{"$f":"IF(AH13<AI13,CONCATENATE(\"* El total de procesados debe ser mayor o igual al total de Reactivos en el grupo de edad \",$AH$10),\"\")","v":""},{"$f":"IF(AJ13<AK13,CONCATENATE(\"* El total de procesados debe ser mayor o igual al total de Reactivos en el grupo de edad \",$AJ$10),\"\")","v":""},{"$f":"IF(AL13<AM13,CONCATENATE(\"* El total de procesados debe ser mayor o igual al total de Reactivos en el grupo de edad \",$AL$10),\"\")","v":""},{"$f":"IF(AN13<AO13,CONCATENATE(\"* El total de procesados debe ser mayor o igual al total de Reactivos en el grupo de edad \",$AN$10),\"\")","v":""},{"$f":"IF(AP13<AQ13,CONCATENATE(\"* El total de procesados debe ser mayor o igual al total de Reactivos en el grupo de edad \",$AP$10),\"\")","v":""},"",0,0,0,0,0,{"$f":"IF(D13<E13,1,0)","v":0},{"$f":"IF(F13<G13,1,0)","v":0},{"$f":"IF(H13<I13,1,0)","v":0},{"$f":"IF(J13<K13,1,0)","v":0},{"$f":"IF(L13<M13,1,0)","v":0},{"$f":"IF(N13<O13,1,0)","v":0},{"$f":"IF(P13<Q13,1,0)","v":0},{"$f":"IF(R13<S13,1,0)","v":0},{"$f":"IF(T13<U13,1,0)","v":0},{"$f":"IF(V13<W13,1,0)","v":0},{"$f":"IF(X13<Y13,1,0)","v":0},{"$f":"IF(Z13<AA13,1,0)","v":0},{"$f":"IF(AB13<AC13,1,0)","v":0},{"$f":"IF(AD13<AE13,1,0)","v":0},{"$f":"IF(AF13<AG13,1,0)","v":0},{"$f":"IF(AH13<AI13,1,0)","v":0},{"$f":"IF(AJ13<AK13,1,0)","v":0},{"$f":"IF(AL13<AM13,1,0)","v":0},{"$f":"IF(AN13<AO13,1,0)","v":0},{"$f":"IF(AP13<AQ13,1,0)","v":0},{"$f":"IF(AND(B13<>0,OR(AT13=\"\",AU13=\"\",AV13=\"\",AW13=\"\")),1,0)","v":0}]
["GESTANTES TERCER TRIMESTRE EMBARAZO",0,0,null,null,null,null,null,null,null,null,null,null,null,null,null,null,null,null,null,null,null,null,null,null,null,null,null,null,null,null,null,null,null,null,null,null,null,null,null,null,null,null,null,null,null,null,null,null,"",null,null,null,null,null,null,null,null,null,null,null,null,null,null,null,null,null,null,null,null,null,null,null,null,null,null,null,null,"","","","","","","","","","","","","","","","","","","","","","","","","","",0,0,0,0,0,0,0,0,0,0,0,0,0,0,0,0,0,0,0,0,0,0,0,0,0,0]
["GESTANTES TRIMESTRE EMBARAZO IGNORADO",0,0,null,null,null,null,null,null,null,null,null,null,null,null,null,null,null,null,null,null,null,null,null,null,null,null,null,null,null,null,null,null,null,null,null,null,null,null,null,null,null,null,null,null,null,null,null,null,"",null,null,null,null,null,null,null,null,null,null,null,null,null,null,null,null,null,null,null,null,null,null,null,null,null,null,null,null,"","","","","","","","","","","","","","","","","","","","","","","","","","",0,0,0,0,0,0,0,0,0,0,0,0,0,0,0,0,0,0,0,0,0,0,0,0,0,0]
["GESTANTES EN SEGUIMIENTO POR DIAGNÓSTICO SÍFILIS",0,0,null,null,null,null,null,null,null,null,null,null,null,null,null,null,null,null,null,null,null,null,null,null,null,null,null,null,null,null,null,null,null,null,null,null,null,null,null,null,null,null,null,null,null,null,null,null,"",null,null,null,null,null,null,null,null,null,null,null,null,null,null,null,null,null,null,null,null,null,null,null,null,null,null,null,null,"","","","","","","","","","","","","","","","","","","","","","","","","","",0,0,0,0,0,0,0,0,0,0,0,0,0,0,0,0,0,0,0,0,0,0,0,0,0,0]
["PAREJA DE GESTANTE CON SEROLOGÍA REACTIVA",0,0,null,null,null,null,null,null,null,null,null,null,null,null,null,null,null,null,null,null,null,null,null,null,null,null,null,null,null,null,null,null,null,null,null,null,null,null,null,null,null,null,null,null,null,null,null,null,"",null,null,null,null,null,null,null,null,null,null,null,null,null,null,null,null,null,null,null,null,null,null,null,null,null,null,null,null,"","","","","","","","","","","","","","","","","","","","","","","","","","",0,0,0,0,0,0,0,0,0,0,0,0,0,0,0,0,0,0,0,0,0,0,0,0,0,0]
["MUJERES QUE INGRESAN A MATERNIDAD POR PARTO",0,0,null,null,null,null,null,null,null,null,null,null,null,null,null,null,null,null,null,null,null,null,null,null,null,null,null,null,null,null,null,null,null,null,null,null,null,null,null,null,null,null,null,null,null,null,null,null,"",null,null,null,null,null,null,null,null,null,null,null,null,null,null,null,null,null,null,null,null,null,null,null,null,null,null,null,null,"","","","","","","","","","","","","","","","","","","","","","","","","","",0,0,0,0,0,0,0,0,0,0,0,0,0,0,0,0,0,0,0,0,0,0,0,0,0,0]
["MUJERES QUE INGRESAN POR ABORTO",0,0,null,null,null,null,null,null,null,null,null,null,null,null,null,null,null,null,null,null,null,null,null,null,null,null,null,null,null,null,null,null,null,null,null,null,null,null,null,null,null,null,null,null,null,null,null,null,"",null,null,null,null,null,null,null,null,null,null,null,null,null,null,null,null,null,null,null,null,null,null,null,null,null,null,null,null,"","","","","","","","","","","","","","","","","","","","","","","","","","",0,0,0,0,0,0,0,0,0,0,0,0,0,0,0,0,0,0,0,0,0,0,0,0,0,0]
["MUJERES EN CONTROL GINECOLÓGICO",{"$f":"+D20+F20+H20+J20+L20+N20+P20+R20+T20+V20+X20+Z20+AB20+AD20+AF20+AH20+AJ20+AL20+AN20+AP20","v":0},{"$f":"+E20+G20+I20+K20+M20+O20+Q20+S20+U20+W20+Y20+AA20+AC20+AE20+AG20+AI20+AK20+AM20+AO20+AQ20","v":0},null,null,null,null,null,null,null,null,null,null,null,null,null,null,null,null,null,null,null,null,null,null,null,null,null,null,null,null,null,null,null,null,null,null,null,null,null,null,null,null,null,null,null,null,null,null,"",null,null,null,null,null,null,null,null,null,null,null,null,null,null,null,null,null,null,null,null,null,null,null,null,null,null,null,null,"","","","","","","","","","","","","","","","","","","","","","","","","","",0,0,0,0,0,0,0,0,0,0,0,0,0,0,0,0,0,0,0,0,0,0,0,0,0,0]
["RECIÉN NACIDO Y LACTANTE PARA DETECCIÓN DE SÍFILIS CONGÉNITA",{"$f":"+D21+F21+H21","v":0},{"$f":"+E21+G21+I21","v":0},null,null,null,null,null,null,null,null,null,null,null,null,null,null,null,null,null,null,null,null,null,null,null,null,null,null,null,null,null,null,null,null,null,null,null,null,null,null,null,null,null,null,null,null,null,null,"",null,null,null,null,null,null,null,null,null,null,null,null,null,null,null,null,null,null,null,null,null,null,null,null,null,null,null,null,"","","","","","","","","","","","","","","","","","","","","","","","","","",0,0,0,0,0,0,0,0,0,0,0,0,0,0,0,0,0,0,0,0,0,0,0,0,0,0]
["PERSONAS EN CONTROL POR COMERCIO SEXUAL",{"$f":"+P22+R22+T22+V22+X22+Z22+AB22+AD22+AF22+AH22+AJ22+AL22+AN22+AP22","v":0},{"$f":"+Q22+S22+U22+W22+Y22+AA22+AC22+AE22+AG22+AI22+AK22+AM22+AO22+AQ22","v":0},null,null,null,null,null,null,null,null,null,null,null,null,null,null,null,null,null,null,null,null,null,null,null,null,null,null,null,null,null,null,null,null,null,null,null,null,null,null,null,null,null,null,null,null,null,null,"",null,null,null,null,null,null,null,null,null,null,null,null,null,null,null,null,null,null,null,null,null,null,null,null,null,null,null,null,"","","","","","","","","","","","","","","","","","","","","","","","","","",0,0,0,0,0,0,0,0,0,0,0,0,0,0,0,0,0,0,0,0,0,0,0,0,0,0]
["PERSONAS EN CONTROL FECUNDIDAD",{"$f":"+N23+P23+R23+T23+V23+X23+Z23+AB23+AD23+AF23+AH23+AJ23+AL23+AN23+AP23","v":0},{"$f":"+O23+Q23+S23+U23+W23+Y23+AA23+AC23+AE23+AG23+AI23+AK23+AM23+AO23+AQ23","v":0},null,null,null,null,null,null,null,null,null,null,null,null,null,null,null,null,null,null,null,null,null,null,null,null,null,null,null,null,null,null,null,null,null,null,null,null,null,null,null,null,null,null,null,null,null,null,"",null,null,null,null,null,null,null,null,null,null,null,null,null,null,null,null,null,null,null,null,null,null,null,null,null,null,null,null,"","","","","","","","","","","","","","","","","","","","","","","","","","",0,0,0,0,0,0,0,0,0,0,0,0,0,0,0,0,0,0,0,0,0,0,0,0,0,0]
["CONSULTANTES POR ITS",{"$f":"+D24+F24+H24+J24+L24+N24+P24+R24+T24+V24+X24+Z24+AB24+AD24+AF24+AH24+AJ24+AL24+AN24+AP24","v":0},{"$f":"+E24+G24+I24+K24+M24+O24+Q24+S24+U24+W24+Y24+AA24+AC24+AE24+AG24+AI24+AK24+AM24+AO24+AQ24","v":0},null,null,null,null,null,null,null,null,null,null,null,null,null,null,null,null,null,null,null,null,null,null,null,null,null,null,null,null,null,null,null,null,null,null,null,null,null,null,null,null,null,null,null,null,null,null,"",null,null,null,null,null,null,null,null,null,null,null,null,null,null,null,null,null,null,null,null,null,null,null,null,null,null,null,null,"","","","","","","","","","","","","","","","","","","","","","","","","","",0,0,0,0,0,0,0,0,0,0,0,0,0,0,0,0,0,0,0,0,0,0,0,0,0,0]
["PERSONAS EMP/EMPAM ",{"$f":"+P25+R25+T25+V25+X25+Z25+AB25+AD25+AF25+AH25+AJ25+AL25+AN25+AP25","v":0},{"$f":"+Q25+S25+U25+W25+Y25+AA25+AC25+AE25+AG25+AI25+AK25+AM25+AO25+AQ25","v":0},null,null,null,null,null,null,null,null,null,null,null,null,null,null,null,null,null,null,null,null,null,null,null,null,null,null,null,null,null,null,null,null,null,null,null,null,null,null,null,null,null,null,null,null,null,null,"",null,null,null,null,null,null,null,null,null,null,null,null,null,null,null,null,null,null,null,null,null,null,null,null,null,null,null,null,"","","","","","","","","","","","","","","","","","","","","","","","","","",0,0,0,0,0,0,0,0,0,0,0,0,0,0,0,0,0,0,0,0,0,0,0,0,0,0]
["DONANTES DE SANGRE",{"$f":"+P26+R26+T26+V26+X26+Z26+AB26+AD26+AF26+AH26","v":0},{"$f":"+Q26+S26+U26+W26+Y26+AA26+AC26+AE26+AG26+AI26","v":0},null,null,null,null,null,null,null,null,null,null,null,null,null,null,null,null,null,null,null,null,null,null,null,null,null,null,null,null,null,null,null,null,null,null,null,null,null,null,null,null,null,null,null,null,null,null,"",null,null,null,null,null,null,null,null,null,null,null,null,null,null,null,null,null,null,null,null,null,null,null,null,null,null,null,null,"","","","","","","","","","","","","","","","","","","","","","","","","","",0,0,0,0,0,0,0,0,0,0,0,0,0,0,0,0,0,0,0,0,0,0,0,0,0,0]
["DONANTES DE ÓRGANOS Y/O TEJIDOS",{"$f":"+D27+F27+H27+J27+L27+N27+P27+R27+T27+V27+X27+Z27+AB27+AD27+AF27+AH27+AJ27+AL27+AN27+AP27","v":0},0,null,null,null,null,null,null,null,null,null,null,null,null,null,null,null,null,null,null,null,null,null,null,null,null,null,null,null,null,null,null,null,null,null,null,null,null,null,null,null,null,null,null,null,null,null,null,"",null,null,null,null,null,null,null,null,null,null,null,null,null,null,null,null,null,null,null,null,null,null,null,null,null,null,null,null,"","","","","","","","","","","","","","","","","","","","","","","","","","",0,0,0,0,0,0,0,0,0,0,0,0,0,0,0,0,0,0,0,0,0,0,0,0,0,0]
["PACIENTES EN DIÁLISIS",0,0,null,null,null,null,null,null,null,null,null,null,null,null,null,null,null,null,null,null,null,null,null,null,null,null,null,null,null,null,null,null,null,null,null,null,null,null,null,null,null,null,null,null,null,null,null,null,"",null,null,null,null,null,null,null,null,null,null,null,null,null,null,null,null,null,null,null,null,null,null,null,null,null,null,null,null,"","","","","","","","","","","","","","","","","","","","","","","","","","",0,0,0,0,0,0,0,0,0,0,0,0,0,0,0,0,0,0,0,0,0,0,0,0,0,0]
["VÍCTIMA DE VIOLENCIA SEXUAL",0,0,null,null,null,null,null,null,null,null,null,null,null,null,null,null,null,null,null,null,null,null,null,null,null,null,null,null,null,null,null,null,null,null,null,null,null,null,null,null,null,null,null,null,null,null,null,null,"",null,null,null,null,null,null,null,null,null,null,null,null,null,null,null,null,null,null,null,null,null,null,null,null,null,null,null,null,"","","","","","","","","","","","","","","","","","","","","","","","","","",0,0,0,0,0,0,0,0,0,0,0,0,0,0,0,0,0,0,0,0,0,0,0,0,0,0]
["SECCIÓN A.2: EXAMEN VDRL POR GRUPO DE USUARIOS (Uso exclusivo de establecimientos que Compran Servicio)"]
["GRUPO DE PESQUISA","TOTAL",null,"POR EDAD (en meses - años)",null,null,null,null,null,null,null,null,null,null,null,null,null,null,null,null,null,null,null,null,null,null,null,null,null,null,null,null,null,null,null,null,null,null,null,null,null,null,null,"POR SEXO\n(Procesados)",null,"TRANS",null,"Pueblos Originarios","Migrantes"]
[null,null,null,"Menor de 6 meses",null,"6 a 11 meses",null,"12-24 meses",null,"3 a 4",null,"5 a 9",null,"10 - 14",null,"15 - 19",null,"20 - 24",null,"25 a 29",null,"30 a 34",null,"35 a 39",null,"40 a 44",null,"45 a 49",null,"50 a 54",null,"55 a 59",null,"60 a 64",null,"65 a 69",null,"70 a 74",null,"75 a 79",null,"80 y más",null,"Hombres","Mujeres"]
[null,"Procesados","Reactivos","Procesados","Reactivos","Procesados","Reactivos","Procesados","Reactivos","Procesados","Reactivos","Procesados","Reactivos","Procesados","Reactivos","Procesados","Reactivos","Procesados","Reactivos","Procesados","Reactivos","Procesados","Reactivos","Procesados","Reactivos","Procesados","Reactivos","Procesados","Reactivos","Procesados","Reactivos","Procesados","Reactivos","Procesados","Reactivos","Procesados","Reactivos","Procesados","Reactivos","Procesados","Reactivos","Procesados","Reactivos",null,null,"Masculino","Femenino"]
["GESTANTES PRIMER TRIMESTRE EMBARAZO",{"$f":"+N34+P34+R34+T34+V34+X34+Z34+AB34+AD34+AF34+AH34+AJ34+AL34+AN34+AP34","v":0},0,null,null,null,null,null,null,null,null,null,null,null,null,null,null,null,null,null,null,null,null,null,null,null,null,null,null,null,null,null,null,null,null,null,null,null,null,null,null,null,null,null,null,null,null,null,null,{"$f":"$CA34&$CB34&$CC34&$CD34&$CE34&$CF34&$CG34&$CH34&$CI34&$CJ34&$CK34&$CL34&$CM34&$CN34&$CO34&$CP34&$CQ34&$CR34&$CS34&$CT34&$CU34&$CV34&$CW34&$CX34&$CY34&$CZ34","v":""},null,null,null,null,null,null,null,null,null,null,null,null,null,null,null,null,null,null,null,null,null,null,null,null,null,null,null,null,{"$f":"IF(B34<C34,\"* El total de Reactivos NO DEBE ser superior al total de Procesados. \",\"\")","v":""},{"$f":"IF(B34<>(AR34+ AS34),\"* La suma de las columnas Sexo DEBE SER IGUAL a los Procesados. \",\"\")","v":""},{"$f":"IF(B34<(AT34+ AU34),\"* La suma de las columna Trans NO DEBE ser superior al total de Procesados. \",\"\")","v":""},{"$f":"IF(B34<AV34,\"* La columna Pueblos Originarios NO DEBE ser superior al total de Procesados. \",\"\")","v":""},{"$f":"IF(B34<AW34,\"* La columna Migrantes NO DEBE ser superior al total de Procesados. \",\"\")","v":""},{"$f":"IF(D34<E34,CONCATENATE(\"* El total de procesados debe ser mayor o igual al total de Reactivos en el grupo de edad \",$D$32),\"\")","v":""},{"$f":"IF(F34<G34,CONCATENATE(\"* El total de procesados debe ser mayor o igual al total de Reactivos en el grupo de edad \",$F$32),\"\")","v":""},{"$f":"IF(H34<I34,CONCATENATE(\"* El total de procesados debe ser mayor o igual al total de Reactivos en el grupo de edad \",$H$32),\"\")","v":""},{"$f":"IF(J34<K34,CONCATENATE(\"* El total de procesados debe ser mayor o igual al total de Reactivos en el grupo de edad \",$J$32),\"\")","v":""},{"$f":"IF(L34<M34,CONCATENATE(\"* El total de procesados debe ser mayor o igual al total de Reactivos en el grupo de edad \",$L$32),\"\")","v":""},{"$f":"IF(N34<O34,CONCATENATE(\"* El total de procesados debe ser mayor o igual al total de Reactivos en el grupo de edad \",$N$32),\"\")","v":""},{"$f":"IF(P34<Q34,CONCATENATE(\"* El total de procesados debe ser mayor o igual al total de Reactivos en el grupo de edad \",$P$32),\"\")","v":""},{"$f":"IF(R34<S34,CONCATENATE(\"* El total de procesados debe ser mayor o igual al total de Reactivos en el grupo de edad \",$R$32),\"\")","v":""},{"$f":"IF(T34<U34,CONCATENATE(\"* El total de procesados debe ser mayor o igual al total de Reactivos en el grupo de edad \",$T$32),\"\")","v":""},{"$f":"IF(V34<W34,CONCATENATE(\"* El total de procesados debe ser mayor o igual al total de Reactivos en el grupo de edad \",$V$32),\"\")","v":""},{"$f":"IF(X34<Y34,CONCATENATE(\"* El total de procesados debe ser mayor o igual al total de Reactivos en el grupo de edad \",$X$32),\"\")","v":""},{"$f":"IF(Z34<AA34,CONCATENATE(\"* El total de procesados debe ser mayor o igual al total de Reactivos en el grupo de edad \",$Z$32),\"\")","v":""},{"$f":"IF(AB34<AC34,CONCATENATE(\"* El total de procesados debe ser mayor o igual al total de Reactivos en el grupo de edad \",$AB$32),\"\")","v":""},{"$f":"IF(AD34<AE34,CONCATENATE(\"* El total de procesados debe ser mayor o igual al total de Reactivos en el grupo de edad \",$AD$32),\"\")","v":""},{"$f":"IF(AF34<AG34,CONCATENATE(\"* El total de procesados debe ser mayor o igual al total de Reactivos en el grupo de edad \",$AF$32),\"\")","v":""},{"$f":"IF(AH34<AI34,CONCATENATE(\"* El total de procesados debe ser mayor o igual al total de Reactivos en el grupo de edad \",$AH$32),\"\")","v":""},{"$f":"IF(AJ34<AK34,CONCATENATE(\"* El total de procesados debe ser mayor o igual al total de Reactivos en el grupo de edad \",$AJ$32),\"\")","v":""},{"$f":"IF(AL34<AM34,CONCATENATE(\"* El total de procesados debe ser mayor o igual al total de Reactivos en el grupo de edad \",$AL$32),\"\")","v":""},{"$f":"IF(AN34<AO34,CONCATENATE(\"* El total de procesados debe ser mayor o igual al total de Reactivos en el grupo de edad \",$AN$32),\"\")","v":""},{"$f":"IF(AP34<AQ34,CONCATENATE(\"* El total de procesados debe ser mayor o igual al total de Reactivos en el grupo de edad \",$AP$32),\"\")","v":""},{"$f":"IF(AND(B34<>0,OR(AT34=\"\",AU34=\"\",AV34=\"\",AW34=\"\")),\"* No olvide digitar la columna Trans y/o Pueblos Originarios y/o Migrantes (Digite Cero si no tiene). \",\"\")","v":""},{"$f":"IF(B34<   C34,1,0)","v":0},{"$f":"IF(B34<> AR34+AS34,1,0)","v":0},{"$f":"IF(B34<  AT34+AU34,1,0)","v":0},{"$f":"IF(B34<  AV34,1,0)","v":0},{"$f":"IF(B34<  AW34,1,0)","v":0},{"$f":"IF(D34<E34,1,0)","v":0},{"$f":"IF(F34<G34,1,0)","v":0},{"$f":"IF(H34<I34,1,0)","v":0},{"$f":"IF(J34<K34,1,0)","v":0},{"$f":"IF(L34<M34,1,0)","v":0},{"$f":"IF(N34<O34,1,0)","v":0},{"$f":"IF(P34<Q34,1,0)","v":0},{"$f":"IF(R34<S34,1,0)","v":0},{"$f":"IF(T34<U34,1,0)","v":0},{"$f":"IF(V34<W34,1,0)","v":0},{"$f":"IF(X34<Y34,1,0)","v":0},{"$f":"IF(Z34<AA34,1,0)","v":0},{"$f":"IF(AB34<AC34,1,0)","v":0},{"$f":"IF(AD34<AE34,1,0)","v":0},{"$f":"IF(AF34<AG34,1,0)","v":0},{"$f":"IF(AH34<AI34,1,0)","v":0},{"$f":"IF(AJ34<AK34,1,0)","v":0},{"$f":"IF(AL34<AM34,1,0)","v":0},{"$f":"IF(AN34<AO34,1,0)","v":0},{"$f":"IF(AP34<AQ34,1,0)","v":0},{"$f":"IF(AND(B34<>0,OR(AT34=\"\",AU34=\"\",AV34=\"\",AW34=\"\")),1,0)","v":0}]
["GESTANTES SEGUNDO TRIMESTRE EMBARAZO",0,0,null,null,null,null,null,null,null,null,null,null,null,null,null,null,null,null,null,null,null,null,null,null,null,null,null,null,null,null,null,null,null,null,null,null,null,null,null,null,null,null,null,null,null,null,null,null,"",null,null,null,null,null,null,null,null,null,null,null,null,null,null,null,null,null,null,null,null,null,null,null,null,null,null,null,null,"","","","","",{"$f":"IF(D35<E35,CONCATENATE(\"* El total de procesados debe ser mayor o igual al total de Reactivos en el grupo de edad \",$D$32),\"\")","v":""},{"$f":"IF(F35<G35,CONCATENATE(\"* El total de procesados debe ser mayor o igual al total de Reactivos en el grupo de edad \",$F$32),\"\")","v":""},{"$f":"IF(H35<I35,CONCATENATE(\"* El total de procesados debe ser mayor o igual al total de Reactivos en el grupo de edad \",$H$32),\"\")","v":""},{"$f":"IF(J35<K35,CONCATENATE(\"* El total de procesados debe ser mayor o igual al total de Reactivos en el grupo de edad \",$J$32),\"\")","v":""},{"$f":"IF(L35<M35,CONCATENATE(\"* El total de procesados debe ser mayor o igual al total de Reactivos en el grupo de edad \",$L$32),\"\")","v":""},{"$f":"IF(N35<O35,CONCATENATE(\"* El total de procesados debe ser mayor o igual al total de Reactivos en el grupo de edad \",$N$32),\"\")","v":""},{"$f":"IF(P35<Q35,CONCATENATE(\"* El total de procesados debe ser mayor o igual al total de Reactivos en el grupo de edad \",$P$32),\"\")","v":""},{"$f":"IF(R35<S35,CONCATENATE(\"* El total de procesados debe ser mayor o igual al total de Reactivos en el grupo de edad \",$R$32),\"\")","v":""},{"$f":"IF(T35<U35,CONCATENATE(\"* El total de procesados debe ser mayor o igual al total de Reactivos en el grupo de edad \",$T$32),\"\")","v":""},{"$f":"IF(V35<W35,CONCATENATE(\"* El total de procesados debe ser mayor o igual al total de Reactivos en el grupo de edad \",$V$32),\"\")","v":""},{"$f":"IF(X35<Y35,CONCATENATE(\"* El total de procesados debe ser mayor o igual al total de Reactivos en el grupo de edad \",$X$32),\"\")","v":""},{"$f":"IF(Z35<AA35,CONCATENATE(\"* El total de procesados debe ser mayor o igual al total de Reactivos en el grupo de edad \",$Z$32),\"\")","v":""},{"$f":"IF(AB35<AC35,CONCATENATE(\"* El total de procesados debe ser mayor o igual al total de Reactivos en el grupo de edad \",$AB$32),\"\")","v":""},{"$f":"IF(AD35<AE35,CONCATENATE(\"* El total de procesados debe ser mayor o igual al total de Reactivos en el grupo de edad \",$AD$32),\"\")","v":""},{"$f":"IF(AF35<AG35,CONCATENATE(\"* El total de procesados debe ser mayor o igual al total de Reactivos en el grupo de edad \",$AF$32),\"\")","v":""},{"$f":"IF(AH35<AI35,CONCATENATE(\"* El total de procesados debe ser mayor o igual al total de Reactivos en el grupo de edad \",$AH$32),\"\")","v":""},{"$f":"IF(AJ35<AK35,CONCATENATE(\"* El total de procesados debe ser mayor o igual al total de Reactivos en el grupo de edad \",$AJ$32),\"\")","v":""},{"$f":"IF(AL35<AM35,CONCATENATE(\"* El total de procesados debe ser mayor o igual al total de Reactivos en el grupo de edad \",$AL$32),\"\")","v":""},{"$f":"IF(AN35<AO35,CONCATENATE(\"* El total de procesados debe ser mayor o igual al total de Reactivos en el grupo de edad \",$AN$32),\"\")","v":""},{"$f":"IF(AP35<AQ35,CONCATENATE(\"* El total de procesados debe ser mayor o igual al total de Reactivos en el grupo de edad \",$AP$32),\"\")","v":""},{"$f":"IF(AND(B35<>0,OR(AT35=\"\",AU35=\"\",AV35=\"\",AW35=\"\")),\"* No olvide digitar la columna Trans y/o Pueblos Originarios y/o Migrantes (Digite Cero si no tiene). \",\"\")","v":""},{"$f":"IF(B35<   C35,1,0)","v":0},{"$f":"IF(B35<> AR35+AS35,1,0)","v":0},{"$f":"IF(B35<  AT35+AU35,1,0)","v":0},{"$f":"IF(B35<  AV35,1,0)","v":0},{"$f":"IF(B35<  AW35,1,0)","v":0},0,0,0,0,0,0,0,0,0,0,0,0,0,0,0,0,0,0,0,0,0]
["GESTANTES TERCER TRIMESTRE EMBARAZO",0,0,null,null,null,null,null,null,null,null,null,null,null,null,null,null,null,null,null,null,null,null,null,null,null,null,null,null,null,null,null,null,null,null,null,null,null,null,null,null,null,null,null,null,null,null,null,null,"",null,null,null,null,null,null,null,null,null,null,null,null,null,null,null,null,null,null,null,null,null,null,null,null,null,null,null,null,"","","","","","","","","","","","","","","","","","","","","","","","","","",0,0,0,0,0,0,0,0,0,0,0,0,0,0,0,0,0,0,0,0,0,0,0,0,0,0]
["GESTANTES TRIMESTRE EMBARAZO IGNORADO",0,0,null,null,null,null,null,null,null,null,null,null,null,null,null,null,null,null,null,null,null,null,null,null,null,null,null,null,null,null,null,null,null,null,null,null,null,null,null,null,null,null,null,null,null,null,null,null,"",null,null,null,null,null,null,null,null,null,null,null,null,null,null,null,null,null,null,null,null,null,null,null,null,null,null,null,null,"","","","","","","","","","","","","","","","","","","","","","","","","","",0,0,0,0,0,0,0,0,0,0,0,0,0,0,0,0,0,0,0,0,0,0,0,0,0,0]
["GESTANTES EN SEGUIMIENTO POR DIAGNÓSTICO SÍFILIS",0,0,null,null,null,null,null,null,null,null,null,null,null,null,null,null,null,null,null,null,null,null,null,null,null,null,null,null,null,null,null,null,null,null,null,null,null,null,null,null,null,null,null,null,null,null,null,null,"",null,null,null,null,null,null,null,null,null,null,null,null,null,null,null,null,null,null,null,null,null,null,null,null,null,null,null,null,"","","","","","","","","","","","","","","","","","","","","","","","","","",0,0,0,0,0,0,0,0,0,0,0,0,0,0,0,0,0,0,0,0,0,0,0,0,0,0]
["PAREJA DE GESTANTE CON SEROLOGÍA REACTIVA",0,0,null,null,null,null,null,null,null,null,null,null,null,null,null,null,null,null,null,null,null,null,null,null,null,null,null,null,null,null,null,null,null,null,null,null,null,null,null,null,null,null,null,null,null,null,null,null,"",null,null,null,null,null,null,null,null,null,null,null,null,null,null,null,null,null,null,null,null,null,null,null,null,null,null,null,null,"","","","","","","","","","","","","","","","","","","","","","","","","","",0,0,0,0,0,0,0,0,0,0,0,0,0,0,0,0,0,0,0,0,0,0,0,0,0,0]
["MUJERES QUE INGRESAN A MATERNIDAD POR PARTO",0,0,null,null,null,null,null,null,null,null,null,null,null,null,null,null,null,null,null,null,null,null,null,null,null,null,null,null,null,null,null,null,null,null,null,null,null,null,null,null,null,null,null,null,null,null,null,null,"",null,null,null,null,null,null,null,null,null,null,null,null,null,null,null,null,null,null,null,null,null,null,null,null,null,null,null,null,"","","","","","","","","","","","","","","","","","","","","","","","","","",0,0,0,0,0,0,0,0,0,0,0,0,0,0,0,0,0,0,0,0,0,0,0,0,0,0]
["MUJERES QUE INGRESAN POR ABORTO",0,0,null,null,null,null,null,null,null,null,null,null,null,null,null,null,null,null,null,null,null,null,null,null,null,null,null,null,null,null,null,null,null,null,null,null,null,null,null,null,null,null,null,null,null,null,null,null,"",null,null,null,null,null,null,null,null,null,null,null,null,null,null,null,null,null,null,null,null,null,null,null,null,null,null,null,null,"","","","","","","","","","","","","","","","","","","","","","","","","","",0,0,0,0,0,0,0,0,0,0,0,0,0,0,0,0,0,0,0,0,0,0,0,0,0,0]
["MUJERES EN CONTROL GINECOLÓGICO",{"$f":"+D42+F42+H42+J42+L42+N42+P42+R42+T42+V42+X42+Z42+AB42+AD42+AF42+AH42+AJ42+AL42+AN42+AP42","v":0},{"$f":"+E42+G42+I42+K42+M42+O42+Q42+S42+U42+W42+Y42+AA42+AC42+AE42+AG42+AI42+AK42+AM42+AO42+AQ42","v":0},null,null,null,null,null,null,null,null,null,null,null,null,null,null,null,null,null,null,null,null,null,null,null,null,null,null,null,null,null,null,null,null,null,null,null,null,null,null,null,null,null,null,null,null,null,null,"",null,null,null,null,null,null,null,null,null,null,null,null,null,null,null,null,null,null,null,null,null,null,null,null,null,null,null,null,"","","","","","","","","","","","","","","","","","","","","","","","","","",0,0,0,0,0,0,0,0,0,0,0,0,0,0,0,0,0,0,0,0,0,0,0,0,0,0]
["RECIÉN NACIDO Y LACTANTE PARA DETECCIÓN DE SÍFILIS CONGÉNITA",{"$f":"+D43+F43+H43","v":0},{"$f":"+E43+G43+I43","v":0},null,null,null,null,null,null,null,null,null,null,null,null,null,null,null,null,null,null,null,null,null,null,null,null,null,null,null,null,null,null,null,null,null,null,null,null,null,null,null,null,null,null,null,null,null,null,"",null,null,null,null,null,null,null,null,null,null,null,null,null,null,null,null,null,null,null,null,null,null,null,null,null,null,null,null,"","","","","","","","","","","","","","","","","","","","","","","","","","",0,0,0,0,0,0,0,0,0,0,0,0,0,0,0,0,0,0,0,0,0,0,0,0,0,0]
["PERSONAS EN CONTROL POR COMERCIO SEXUAL",{"$f":"+P44+R44+T44+V44+X44+Z44+AB44+AD44+AF44+AH44+AJ44+AL44+AN44+AP44","v":0},{"$f":"+Q44+S44+U44+W44+Y44+AA44+AC44+AE44+AG44+AI44+AK44+AM44+AO44+AQ44","v":0},null,null,null,null,null,null,null,null,null,null,null,null,null,null,null,null,null,null,null,null,null,null,null,null,null,null,null,null,null,null,null,null,null,null,null,null,null,null,null,null,null,null,null,null,null,null,"",null,null,null,null,null,null,null,null,null,null,null,null,null,null,null,null,null,null,null,null,null,null,null,null,null,null,null,null,"","","","","","","","","","","","","","","","","","","","","","","","","","",0,0,0,0,0,0,0,0,0,0,0,0,0,0,0,0,0,0,0,0,0,0,0,0,0,0]
["PERSONAS EN CONTROL FECUNDIDAD",{"$f":"+N45+P45+R45+T45+V45+X45+Z45+AB45+AD45+AF45+AH45+AJ45+AL45+AN45+AP45","v":0},{"$f":"+O45+Q45+S45+U45+W45+Y45+AA45+AC45+AE45+AG45+AI45+AK45+AM45+AO45+AQ45","v":0},null,null,null,null,null,null,null,null,null,null,null,null,null,null,null,null,null,null,null,null,null,null,null,null,null,null,null,null,null,null,null,null,null,null,null,null,null,null,null,null,null,null,null,null,null,null,"",null,null,null,null,null,null,null,null,null,null,null,null,null,null,null,null,null,null,null,null,null,null,null,null,null,null,null,null,"","","","","","","","","","","","","","","","","","","","","","","","","","",0,0,0,0,0,0,0,0,0,0,0,0,0,0,0,0,0,0,0,0,0,0,0,0,0,0]
["CONSULTANTES POR ITS",{"$f":"+D46+F46+H46+J46+L46+N46+P46+R46+T46+V46+X46+Z46+AB46+AD46+AF46+AH46+AJ46+AL46+AN46+AP46","v":0},{"$f":"+E46+G46+I46+K46+M46+O46+Q46+S46+U46+W46+Y46+AA46+AC46+AE46+AG46+AI46+AK46+AM46+AO46+AQ46","v":0},null,null,null,null,null,null,null,null,null,null,null,null,null,null,null,null,null,null,null,null,null,null,null,null,null,null,null,null,null,null,null,null,null,null,null,null,null,null,null,null,null,null,null,null,null,null,"",null,null,null,null,null,null,null,null,null,null,null,null,null,null,null,null,null,null,null,null,null,null,null,null,null,null,null,null,"","","","","","","","","","","","","","","","","","","","","","","","","","",0,0,0,0,0,0,0,0,0,0,0,0,0,0,0,0,0,0,0,0,0,0,0,0,0,0]
["PERSONAS EMP/EMPAM ",{"$f":"+P47+R47+T47+V47+X47+Z47+AB47+AD47+AF47+AH47+AJ47+AL47+AN47+AP47","v":0},{"$f":"+Q47+S47+U47+W47+Y47+AA47+AC47+AE47+AG47+AI47+AK47+AM47+AO47+AQ47","v":0},null,null,null,null,null,null,null,null,null,null,null,null,null,null,null,null,null,null,null,null,null,null,null,null,null,null,null,null,null,null,null,null,null,null,null,null,null,null,null,null,null,null,null,null,null,null,"",null,null,null,null,null,null,null,null,null,null,null,null,null,null,null,null,null,null,null,null,null,null,null,null,null,null,null,null,"","","","","","","","","","","","","","","","","","","","","","","","","","",0,0,0,0,0,0,0,0,0,0,0,0,0,0,0,0,0,0,0,0,0,0,0,0,0,0]
["DONANTES DE SANGRE",{"$f":"+P48+R48+T48+V48+X48+Z48+AB48+AD48+AF48+AH48","v":0},{"$f":"+Q48+S48+U48+W48+Y48+AA48+AC48+AE48+AG48+AI48","v":0},null,null,null,null,null,null,null,null,null,null,null,null,null,null,null,null,null,null,null,null,null,null,null,null,null,null,null,null,null,null,null,null,null,null,null,null,null,null,null,null,null,null,null,null,null,null,"",null,null,null,null,null,null,null,null,null,null,null,null,null,null,null,null,null,null,null,null,null,null,null,null,null,null,null,null,"","","","","","","","","","","","","","","","","","","","","","","","","","",0,0,0,0,0,0,0,0,0,0,0,0,0,0,0,0,0,0,0,0,0,0,0,0,0,0]
["DONANTES DE ÓRGANOS Y/O TEJIDOS",{"$f":"+D49+F49+H49+J49+L49+N49+P49+R49+T49+V49+X49+Z49+AB49+AD49+AF49+AH49+AJ49+AL49+AN49+AP49","v":0},0,null,null,null,null,null,null,null,null,null,null,null,null,null,null,null,null,null,null,null,null,null,null,null,null,null,null,null,null,null,null,null,null,null,null,null,null,null,null,null,null,null,null,null,null,null,null,"",null,null,null,null,null,null,null,null,null,null,null,null,null,null,null,null,null,null,null,null,null,null,null,null,null,null,null,null,"","","","","","","","","","","","","","","","","","","","","","","","","","",0,0,0,0,0,0,0,0,0,0,0,0,0,0,0,0,0,0,0,0,0,0,0,0,0,0]
["PACIENTES EN DIÁLISIS",0,0,null,null,null,null,null,null,null,null,null,null,null,null,null,null,null,null,null,null,null,null,null,null,null,null,null,null,null,null,null,null,null,null,null,null,null,null,null,null,null,null,null,null,null,null,null,null,"",null,null,null,null,null,null,null,null,null,null,null,null,null,null,null,null,null,null,null,null,null,null,null,null,null,null,null,null,"","","","","","","","","","","","","","","","","","","","","","","","","","",0,0,0,0,0,0,0,0,0,0,0,0,0,0,0,0,0,0,0,0,0,0,0,0,0,0]
["VÍCTIMA DE VIOLENCIA SEXUAL",0,0,null,null,null,null,null,null,null,null,null,null,null,null,null,null,null,null,null,null,null,null,null,null,null,null,null,null,null,null,null,null,null,null,null,null,null,null,null,null,null,null,null,null,null,null,null,null,"",null,null,null,null,null,null,null,null,null,null,null,null,null,null,null,null,null,null,null,null,null,null,null,null,null,null,null,null,"","","","","","","","","","","","","","","","","","","","","","","","","","",0,0,0,0,0,0,0,0,0,0,0,0,0,0,0,0,0,0,0,0,0,0,0,0,0,0]
["SECCIÓN A.3: EXAMEN RPR POR GRUPO DE USUARIOS (Uso exclusivo de establecimientos con Laboratorio que procesan)"]
["GRUPO DE PESQUISA","TOTAL",null,"POR EDAD (en meses - años)",null,null,null,null,null,null,null,null,null,null,null,null,null,null,null,null,null,null,null,null,null,null,null,null,null,null,null,null,null,null,null,null,null,null,null,null,null,null,null,"POR SEXO\n(Procesados)",null,"TRANS",null,"Pueblos Originarios","Migrantes"]
[null,null,null,"Menor de 6 meses",null,"6 a 11 meses",null,"12-24 meses",null,"3 a 4",null,"5 a 9",null,"10 - 14",null,"15 - 19",null,"20 - 24",null,"25 a 29",null,"30 a 34",null,"35 a 39",null,"40 a 44",null,"45 a 49",null,"50 a 54",null,"55 a 59",null,"60 a 64",null,"65 a 69",null,"70 a 74",null,"75 a 79",null,"80 y más",null,"Hombres","Mujeres"]
[null,"Procesados","Reactivos","Procesados","Reactivos","Procesados","Reactivos","Procesados","Reactivos","Procesados","Reactivos","Procesados","Reactivos","Procesados","Reactivos","Procesados","Reactivos","Procesados","Reactivos","Procesados","Reactivos","Procesados","Reactivos","Procesados","Reactivos","Procesados","Reactivos","Procesados","Reactivos","Procesados","Reactivos","Procesados","Reactivos","Procesados","Reactivos","Procesados","Reactivos","Procesados","Reactivos","Procesados","Reactivos","Procesados","Reactivos",null,null,"Masculino","Femenino"]
["GESTANTES PRIMER TRIMESTRE EMBARAZO",{"$f":"+N56+P56+R56+T56+V56+X56+Z56+AB56+AD56+AF56+AH56+AJ56+AL56+AN56+AP56","v":0},0,null,null,null,null,null,null,null,null,null,null,null,null,null,null,null,null,null,null,null,null,null,null,null,null,null,null,null,null,null,null,null,null,null,null,null,null,null,null,null,null,null,null,null,null,null,null,{"$f":"$CA56&$CB56&$CC56&$CD56&$CE56&$CF56&$CG56&$CH56&$CI56&$CJ56&$CK56&$CL56&$CM56&$CN56&$CO56&$CP56&$CQ56&$CR56&$CS56&$CT56&$CU56&$CV56&$CW56&$CX56&$CY56&$CZ56","v":""},null,null,null,null,null,null,null,null,null,null,null,null,null,null,null,null,null,null,null,null,null,null,null,null,null,null,null,null,{"$f":"IF(B56<C56,\"* El total de Reactivos NO DEBE ser superior al total de Procesados. \",\"\")","v":""},{"$f":"IF(B56<>(AR56+ AS56),\"* La suma de las columnas Sexo DEBE SER IGUAL a los Procesados. \",\"\")","v":""},{"$f":"IF(B56<(AT56+ AU56),\"* La suma de las columna Trans NO DEBE ser superior al total de Procesados. \",\"\")","v":""},{"$f":"IF(B56<AV56,\"* La columna Pueblos Originarios NO DEBE ser superior al total de Procesados. \",\"\")","v":""},{"$f":"IF(B56<AW56,\"* La columna Migrantes NO DEBE ser superior al total de Procesados. \",\"\")","v":""},{"$f":"IF(D56<E56,CONCATENATE(\"* El total de procesados debe ser mayor o igual al total de Reactivos en el grupo de edad \",$D$54),\"\")","v":""},{"$f":"IF(F56<G56,CONCATENATE(\"* El total de procesados debe ser mayor o igual al total de Reactivos en el grupo de edad \",$F$54),\"\")","v":""},{"$f":"IF(H56<I56,CONCATENATE(\"* El total de procesados debe ser mayor o igual al total de Reactivos en el grupo de edad \",$H$54),\"\")","v":""},{"$f":"IF(J56<K56,CONCATENATE(\"* El total de procesados debe ser mayor o igual al total de Reactivos en el grupo de edad \",$J$54),\"\")","v":""},{"$f":"IF(L56<M56,CONCATENATE(\"* El total de procesados debe ser mayor o igual al total de Reactivos en el grupo de edad \",$L$54),\"\")","v":""},{"$f":"IF(N56<O56,CONCATENATE(\"* El total de procesados debe ser mayor o igual al total de Reactivos en el grupo de edad \",$N$54),\"\")","v":""},{"$f":"IF(P56<Q56,CONCATENATE(\"* El total de procesados debe ser mayor o igual al total de Reactivos en el grupo de edad \",$P$54),\"\")","v":""},{"$f":"IF(R56<S56,CONCATENATE(\"* El total de procesados debe ser mayor o igual al total de Reactivos en el grupo de edad \",$R$54),\"\")","v":""},{"$f":"IF(T56<U56,CONCATENATE(\"* El total de procesados debe ser mayor o igual al total de Reactivos en el grupo de edad \",$T$54),\"\")","v":""},{"$f":"IF(V56<W56,CONCATENATE(\"* El total de procesados debe ser mayor o igual al total de Reactivos en el grupo de edad \",$V$54),\"\")","v":""},{"$f":"IF(X56<Y56,CONCATENATE(\"* El total de procesados debe ser mayor o igual al total de Reactivos en el grupo de edad \",$X$54),\"\")","v":""},{"$f":"IF(Z56<AA56,CONCATENATE(\"* El total de procesados debe ser mayor o igual al total de Reactivos en el grupo de edad \",$Z$54),\"\")","v":""},{"$f":"IF(AB56<AC56,CONCATENATE(\"* El total de procesados debe ser mayor o igual al total de Reactivos en el grupo de edad \",$AB$54),\"\")","v":""},{"$f":"IF(AD56<AE56,CONCATENATE(\"* El total de procesados debe ser mayor o igual al total de Reactivos en el grupo de edad \",$AD$54),\"\")","v":""},{"$f":"IF(AF56<AG56,CONCATENATE(\"* El total de procesados debe ser mayor o igual al total de Reactivos en el grupo de edad \",$AF$54),\"\")","v":""},{"$f":"IF(AH56<AI56,CONCATENATE(\"* El total de procesados debe ser mayor o igual al total de Reactivos en el grupo de edad \",$AH$54),\"\")","v":""},{"$f":"IF(AJ56<AK56,CONCATENATE(\"* El total de procesados debe ser mayor o igual al total de Reactivos en el grupo de edad \",$AJ$54),\"\")","v":""},{"$f":"IF(AL56<AM56,CONCATENATE(\"* El total de procesados debe ser mayor o igual al total de Reactivos en el grupo de edad \",$AL$54),\"\")","v":""},{"$f":"IF(AN56<AO56,CONCATENATE(\"* El total de procesados debe ser mayor o igual al total de Reactivos en el grupo de edad \",$AN$54),\"\")","v":""},{"$f":"IF(AP56<AQ56,CONCATENATE(\"* El total de procesados debe ser mayor o igual al total de Reactivos en el grupo de edad \",$AP$54),\"\")","v":""},{"$f":"IF(AND(B56<>0,OR(AT56=\"\",AU56=\"\",AV56=\"\",AW56=\"\")),\"* No olvide digitar la columna Trans y/o Pueblos Originarios y/o Migrantes (Digite Cero si no tiene). \",\"\")","v":""},{"$f":"IF(B56<   C56,1,0)","v":0},{"$f":"IF(B56<> AR56+AS56,1,0)","v":0},{"$f":"IF(B56<  AT56+AU56,1,0)","v":0},{"$f":"IF(B56<  AV56,1,0)","v":0},{"$f":"IF(B56<  AW56,1,0)","v":0},{"$f":"IF(D56<E56,1,0)","v":0},{"$f":"IF(F56<G56,1,0)","v":0},{"$f":"IF(H56<I56,1,0)","v":0},{"$f":"IF(J56<K56,1,0)","v":0},{"$f":"IF(L56<M56,1,0)","v":0},{"$f":"IF(N56<O56,1,0)","v":0},{"$f":"IF(P56<Q56,1,0)","v":0},{"$f":"IF(R56<S56,1,0)","v":0},{"$f":"IF(T56<U56,1,0)","v":0},{"$f":"IF(V56<W56,1,0)","v":0},{"$f":"IF(X56<Y56,1,0)","v":0},{"$f":"IF(Z56<AA56,1,0)","v":0},{"$f":"IF(AB56<AC56,1,0)","v":0},{"$f":"IF(AD56<AE56,1,0)","v":0},{"$f":"IF(AF56<AG56,1,0)","v":0},{"$f":"IF(AH56<AI56,1,0)","v":0},{"$f":"IF(AJ56<AK56,1,0)","v":0},{"$f":"IF(AL56<AM56,1,0)","v":0},{"$f":"IF(AN56<AO56,1,0)","v":0},{"$f":"IF(AP56<AQ56,1,0)","v":0},{"$f":"IF(AND(B56<>0,OR(AT56=\"\",AU56=\"\",AV56=\"\",AW56=\"\")),1,0)","v":0}]
["GESTANTES SEGUNDO TRIMESTRE EMBARAZO",0,0,null,null,null,null,null,null,null,null,null,null,null,null,null,null,null,null,null,null,null,null,null,null,null,null,null,null,null,null,null,null,null,null,null,null,null,null,null,null,null,null,null,null,null,null,null,null,"",null,null,null,null,null,null,null,null,null,null,null,null,null,null,null,null,null,null,null,null,null,null,null,null,null,null,null,null,"","","","","",{"$f":"IF(D57<E57,CONCATENATE(\"* El total de procesados debe ser mayor o igual al total de Reactivos en el grupo de edad \",$D$54),\"\")","v":""},{"$f":"IF(F57<G57,CONCATENATE(\"* El total de procesados debe ser mayor o igual al total de Reactivos en el grupo de edad \",$F$54),\"\")","v":""},{"$f":"IF(H57<I57,CONCATENATE(\"* El total de procesados debe ser mayor o igual al total de Reactivos en el grupo de edad \",$H$54),\"\")","v":""},{"$f":"IF(J57<K57,CONCATENATE(\"* El total de procesados debe ser mayor o igual al total de Reactivos en el grupo de edad \",$J$54),\"\")","v":""},{"$f":"IF(L57<M57,CONCATENATE(\"* El total de procesados debe ser mayor o igual al total de Reactivos en el grupo de edad \",$L$54),\"\")","v":""},{"$f":"IF(N57<O57,CONCATENATE(\"* El total de procesados debe ser mayor o igual al total de Reactivos en el grupo de edad \",$N$54),\"\")","v":""},{"$f":"IF(P57<Q57,CONCATENATE(\"* El total de procesados debe ser mayor o igual al total de Reactivos en el grupo de edad \",$P$54),\"\")","v":""},{"$f":"IF(R57<S57,CONCATENATE(\"* El total de procesados debe ser mayor o igual al total de Reactivos en el grupo de edad \",$R$54),\"\")","v":""},{"$f":"IF(T57<U57,CONCATENATE(\"* El total de procesados debe ser mayor o igual al total de Reactivos en el grupo de edad \",$T$54),\"\")","v":""},{"$f":"IF(V57<W57,CONCATENATE(\"* El total de procesados debe ser mayor o igual al total de Reactivos en el grupo de edad \",$V$54),\"\")","v":""},{"$f":"IF(X57<Y57,CONCATENATE(\"* El total de procesados debe ser mayor o igual al total de Reactivos en el grupo de edad \",$X$54),\"\")","v":""},{"$f":"IF(Z57<AA57,CONCATENATE(\"* El total de procesados debe ser mayor o igual al total de Reactivos en el grupo de edad \",$Z$54),\"\")","v":""},{"$f":"IF(AB57<AC57,CONCATENATE(\"* El total de procesados debe ser mayor o igual al total de Reactivos en el grupo de edad \",$AB$54),\"\")","v":""},{"$f":"IF(AD57<AE57,CONCATENATE(\"* El total de procesados debe ser mayor o igual al total de Reactivos en el grupo de edad \",$AD$54),\"\")","v":""},{"$f":"IF(AF57<AG57,CONCATENATE(\"* El total de procesados debe ser mayor o igual al total de Reactivos en el grupo de edad \",$AF$54),\"\")","v":""},{"$f":"IF(AH57<AI57,CONCATENATE(\"* El total de procesados debe ser mayor o igual al total de Reactivos en el grupo de edad \",$AH$54),\"\")","v":""},{"$f":"IF(AJ57<AK57,CONCATENATE(\"* El total de procesados debe ser mayor o igual al total de Reactivos en el grupo de edad \",$AJ$54),\"\")","v":""},{"$f":"IF(AL57<AM57,CONCATENATE(\"* El total de procesados debe ser mayor o igual al total de Reactivos en el grupo de edad \",$AL$54),\"\")","v":""},{"$f":"IF(AN57<AO57,CONCATENATE(\"* El total de procesados debe ser mayor o igual al total de Reactivos en el grupo de edad \",$AN$54),\"\")","v":""},{"$f":"IF(AP57<AQ57,CONCATENATE(\"* El total de procesados debe ser mayor o igual al total de Reactivos en el grupo de edad \",$AP$54),\"\")","v":""},"",0,0,0,0,0,0,0,0,0,0,0,0,0,0,0,0,0,0,0,0,0,0,0,0,0,0]
["GESTANTES TERCER TRIMESTRE EMBARAZO",0,0,null,null,null,null,null,null,null,null,null,null,null,null,null,null,null,null,null,null,null,null,null,null,null,null,null,null,null,null,null,null,null,null,null,null,null,null,null,null,null,null,null,null,null,null,null,null,"",null,null,null,null,null,null,null,null,null,null,null,null,null,null,null,null,null,null,null,null,null,null,null,null,null,null,null,null,"","","","","","","","","","","","","","","","","","","","","","","","","","",0,0,0,0,0,0,0,0,0,0,0,0,0,0,0,0,0,0,0,0,0,0,0,0,0,0]
["GESTANTES TRIMESTRE EMBARAZO IGNORADO",0,0,null,null,null,null,null,null,null,null,null,null,null,null,null,null,null,null,null,null,null,null,null,null,null,null,null,null,null,null,null,null,null,null,null,null,null,null,null,null,null,null,null,null,null,null,null,null,"",null,null,null,null,null,null,null,null,null,null,null,null,null,null,null,null,null,null,null,null,null,null,null,null,null,null,null,null,"","","","","","","","","","","","","","","","","","","","","","","","","","",0,0,0,0,0,0,0,0,0,0,0,0,0,0,0,0,0,0,0,0,0,0,0,0,0,0]
["GESTANTES EN SEGUIMIENTO POR DIAGNÓSTICO SÍFILIS",0,0,null,null,null,null,null,null,null,null,null,null,null,null,null,null,null,null,null,null,null,null,null,null,null,null,null,null,null,null,null,null,null,null,null,null,null,null,null,null,null,null,null,null,null,null,null,null,"",null,null,null,null,null,null,null,null,null,null,null,null,null,null,null,null,null,null,null,null,null,null,null,null,null,null,null,null,"","","","","","","","","","","","","","","","","","","","","","","","","","",0,0,0,0,0,0,0,0,0,0,0,0,0,0,0,0,0,0,0,0,0,0,0,0,0,0]
["PAREJA DE GESTANTE CON SEROLOGÍA REACTIVA",0,0,null,null,null,null,null,null,null,null,null,null,null,null,null,null,null,null,null,null,null,null,null,null,null,null,null,null,null,null,null,null,null,null,null,null,null,null,null,null,null,null,null,null,null,null,null,null,"",null,null,null,null,null,null,null,null,null,null,null,null,null,null,null,null,null,null,null,null,null,null,null,null,null,null,null,null,"","","","","","","","","","","","","","","","","","","","","","","","","","",0,0,0,0,0,0,0,0,0,0,0,0,0,0,0,0,0,0,0,0,0,0,0,0,0,0]
["MUJERES QUE INGRESAN A MATERNIDAD POR PARTO",0,0,null,null,null,null,null,null,null,null,null,null,null,null,null,null,null,null,null,null,null,null,null,null,null,null,null,null,null,null,null,null,null,null,null,null,null,null,null,null,null,null,null,null,null,null,null,null,"",null,null,null,null,null,null,null,null,null,null,null,null,null,null,null,null,null,null,null,null,null,null,null,null,null,null,null,null,"","","","","","","","","","","","","","","","","","","","","","","","","","",0,0,0,0,0,0,0,0,0,0,0,0,0,0,0,0,0,0,0,0,0,0,0,0,0,0]
["MUJERES QUE INGRESAN POR ABORTO",0,0,null,null,null,null,null,null,null,null,null,null,null,null,null,null,null,null,null,null,null,null,null,null,null,null,null,null,null,null,null,null,null,null,null,null,null,null,null,null,null,null,null,null,null,null,null,null,"",null,null,null,null,null,null,null,null,null,null,null,null,null,null,null,null,null,null,null,null,null,null,null,null,null,null,null,null,"","","","","","","","","","","","","","","","","","","","","","","","","","",0,0,0,0,0,0,0,0,0,0,0,0,0,0,0,0,0,0,0,0,0,0,0,0,0,0]
["MUJERES EN CONTROL GINECOLÓGICO",{"$f":"+D64+F64+H64+J64+L64+N64+P64+R64+T64+V64+X64+Z64+AB64+AD64+AF64+AH64+AJ64+AL64+AN64+AP64","v":0},{"$f":"+E64+G64+I64+K64+M64+O64+Q64+S64+U64+W64+Y64+AA64+AC64+AE64+AG64+AI64+AK64+AM64+AO64+AQ64","v":0},null,null,null,null,null,null,null,null,null,null,null,null,null,null,null,null,null,null,null,null,null,null,null,null,null,null,null,null,null,null,null,null,null,null,null,null,null,null,null,null,null,null,null,null,null,null,"",null,null,null,null,null,null,null,null,null,null,null,null,null,null,null,null,null,null,null,null,null,null,null,null,null,null,null,null,"","","","","","","","","","","","","","","","","","","","","","","","","","",0,0,0,0,0,0,0,0,0,0,0,0,0,0,0,0,0,0,0,0,0,0,0,0,0,0]
["RECIÉN NACIDO Y LACTANTE PARA DETECCIÓN DE SÍFILIS CONGÉNITA",{"$f":"+D65+F65+H65","v":0},{"$f":"+E65+G65+I65","v":0},null,null,null,null,null,null,null,null,null,null,null,null,null,null,null,null,null,null,null,null,null,null,null,null,null,null,null,null,null,null,null,null,null,null,null,null,null,null,null,null,null,null,null,null,null,null,"",null,null,null,null,null,null,null,null,null,null,null,null,null,null,null,null,null,null,null,null,null,null,null,null,null,null,null,null,"","","","","","","","","","","","","","","","","","","","","","","","","","",0,0,0,0,0,0,0,0,0,0,0,0,0,0,0,0,0,0,0,0,0,0,0,0,0,0]
["PERSONAS EN CONTROL POR COMERCIO SEXUAL",{"$f":"+P66+R66+T66+V66+X66+Z66+AB66+AD66+AF66+AH66+AJ66+AL66+AN66+AP66","v":0},{"$f":"+Q66+S66+U66+W66+Y66+AA66+AC66+AE66+AG66+AI66+AK66+AM66+AO66+AQ66","v":0},null,null,null,null,null,null,null,null,null,null,null,null,null,null,null,null,null,null,null,null,null,null,null,null,null,null,null,null,null,null,null,null,null,null,null,null,null,null,null,null,null,null,null,null,null,null,"",null,null,null,null,null,null,null,null,null,null,null,null,null,null,null,null,null,null,null,null,null,null,null,null,null,null,null,null,"","","","","","","","","","","","","","","","","","","","","","","","","","",0,0,0,0,0,0,0,0,0,0,0,0,0,0,0,0,0,0,0,0,0,0,0,0,0,0]
["PERSONAS EN CONTROL FECUNDIDAD",{"$f":"+N67+P67+R67+T67+V67+X67+Z67+AB67+AD67+AF67+AH67+AJ67+AL67+AN67+AP67","v":0},{"$f":"+O67+Q67+S67+U67+W67+Y67+AA67+AC67+AE67+AG67+AI67+AK67+AM67+AO67+AQ67","v":0},null,null,null,null,null,null,null,null,null,null,null,null,null,null,null,null,null,null,null,null,null,null,null,null,null,null,null,null,null,null,null,null,null,null,null,null,null,null,null,null,null,null,null,null,null,null,"",null,null,null,null,null,null,null,null,null,null,null,null,null,null,null,null,null,null,null,null,null,null,null,null,null,null,null,null,"","","","","","","","","","","","","","","","","","","","","","","","","","",0,0,0,0,0,0,0,0,0,0,0,0,0,0,0,0,0,0,0,0,0,0,0,0,0,0]
["CONSULTANTES POR ITS",{"$f":"+D68+F68+H68+J68+L68+N68+P68+R68+T68+V68+X68+Z68+AB68+AD68+AF68+AH68+AJ68+AL68+AN68+AP68","v":0},{"$f":"+E68+G68+I68+K68+M68+O68+Q68+S68+U68+W68+Y68+AA68+AC68+AE68+AG68+AI68+AK68+AM68+AO68+AQ68","v":0},null,null,null,null,null,null,null,null,null,null,null,null,null,null,null,null,null,null,null,null,null,null,null,null,null,null,null,null,null,null,null,null,null,null,null,null,null,null,null,null,null,null,null,null,null,null,"",null,null,null,null,null,null,null,null,null,null,null,null,null,null,null,null,null,null,null,null,null,null,null,null,null,null,null,null,"","","","","","","","","","","","","","","","","","","","","","","","","","",0,0,0,0,0,0,0,0,0,0,0,0,0,0,0,0,0,0,0,0,0,0,0,0,0,0]
["PERSONAS EMP/EMPAM ",{"$f":"+P69+R69+T69+V69+X69+Z69+AB69+AD69+AF69+AH69+AJ69+AL69+AN69+AP69","v":0},{"$f":"+Q69+S69+U69+W69+Y69+AA69+AC69+AE69+AG69+AI69+AK69+AM69+AO69+AQ69","v":0},null,null,null,null,null,null,null,null,null,null,null,null,null,null,null,null,null,null,null,null,null,null,null,null,null,null,null,null,null,null,null,null,null,null,null,null,null,null,null,null,null,null,null,null,null,null,"",null,null,null,null,null,null,null,null,null,null,null,null,null,null,null,null,null,null,null,null,null,null,null,null,null,null,null,null,"","","","","","","","","","","","","","","","","","","","","","","","","","",0,0,0,0,0,0,0,0,0,0,0,0,0,0,0,0,0,0,0,0,0,0,0,0,0,0]
["DONANTES DE SANGRE",{"$f":"+P70+R70+T70+V70+X70+Z70+AB70+AD70+AF70+AH70","v":0},{"$f":"+Q70+S70+U70+W70+Y70+AA70+AC70+AE70+AG70+AI70","v":0},null,null,null,null,null,null,null,null,null,null,null,null,null,null,null,null,null,null,null,null,null,null,null,null,null,null,null,null,null,null,null,null,null,null,null,null,null,null,null,null,null,null,null,null,null,null,"",null,null,null,null,null,null,null,null,null,null,null,null,null,null,null,null,null,null,null,null,null,null,null,null,null,null,null,null,"","","","","","","","","","","","","","","","","","","","","","","","","","",0,0,0,0,0,0,0,0,0,0,0,0,0,0,0,0,0,0,0,0,0,0,0,0,0,0]
["DONANTES DE ÓRGANOS Y/O TEJIDOS",{"$f":"+D71+F71+H71+J71+L71+N71+P71+R71+T71+V71+X71+Z71+AB71+AD71+AF71+AH71+AJ71+AL71+AN71+AP71","v":0},0,null,null,null,null,null,null,null,null,null,null,null,null,null,null,null,null,null,null,null,null,null,null,null,null,null,null,null,null,null,null,null,null,null,null,null,null,null,null,null,null,null,null,null,null,null,null,"",null,null,null,null,null,null,null,null,null,null,null,null,null,null,null,null,null,null,null,null,null,null,null,null,null,null,null,null,"","","","","","","","","","","","","","","","","","","","","","","","","","",0,0,0,0,0,0,0,0,0,0,0,0,0,0,0,0,0,0,0,0,0,0,0,0,0,0]
["PACIENTES EN DIÁLISIS",0,0,null,null,null,null,null,null,null,null,null,null,null,null,null,null,null,null,null,null,null,null,null,null,null,null,null,null,null,null,null,null,null,null,null,null,null,null,null,null,null,null,null,null,null,null,null,null,"",null,null,null,null,null,null,null,null,null,null,null,null,null,null,null,null,null,null,null,null,null,null,null,null,null,null,null,null,"","","","","","","","","","","","","","","","","","","","","","","","","","",0,0,0,0,0,0,0,0,0,0,0,0,0,0,0,0,0,0,0,0,0,0,0,0,0,0]
["VÍCTIMA DE VIOLENCIA SEXUAL",0,0,null,null,null,null,null,null,null,null,null,null,null,null,null,null,null,null,null,null,null,null,null,null,null,null,null,null,null,null,null,null,null,null,null,null,null,null,null,null,null,null,null,null,null,null,null,null,"",null,null,null,null,null,null,null,null,null,null,null,null,null,null,null,null,null,null,null,null,null,null,null,null,null,null,null,null,"","","","","","","","","","","","","","","","","","","","","","","","","","",0,0,0,0,0,0,0,0,0,0,0,0,0,0,0,0,0,0,0,0,0,0,0,0,0,0]
["SECCIÓN A.4: EXAMEN RPR POR GRUPO DE USUARIOS (Uso exclusivo de establecimientos que Compran Servicio)",null,null,null,null,null,null,null,null,null,null,null,null,null,null,null,null,null,null,null,null,null,null,null,null,null,null,null,null,null,null,null,null,null,null,null,null,null,null,null,null,null,null,"                   "]
["GRUPO DE PESQUISA","TOTAL",null,"POR EDAD (en meses - años)",null,null,null,null,null,null,null,null,null,null,null,null,null,null,null,null,null,null,null,null,null,null,null,null,null,null,null,null,null,null,null,null,null,null,null,null,null,null,null,"POR SEXO\n(Procesados)",null,"TRANS",null,"Pueblos Originarios","Migrantes"]
[null,null,null,"Menor de 6 meses",null,"6 a 11 meses",null,"12-24 meses",null,"3 a 4",null,"5 a 9",null,"10 - 14",null,"15 - 19",null,"20 - 24",null,"25 a 29",null,"30 a 34",null,"35 a 39",null,"40 a 44",null,"45 a 49",null,"50 a 54",null,"55 a 59",null,"60 a 64",null,"65 a 69",null,"70 a 74",null,"75 a 79",null,"80 y más",null,"Hombres","Mujeres"]
[null,"Procesados","Reactivos","Procesados","Reactivos","Procesados","Reactivos","Procesados","Reactivos","Procesados","Reactivos","Procesados","Reactivos","Procesados","Reactivos","Procesados","Reactivos","Procesados","Reactivos","Procesados","Reactivos","Procesados","Reactivos","Procesados","Reactivos","Procesados","Reactivos","Procesados","Reactivos","Procesados","Reactivos","Procesados","Reactivos","Procesados","Reactivos","Procesados","Reactivos","Procesados","Reactivos","Procesados","Reactivos","Procesados","Reactivos",null,null,"Masculino","Femenino"]
["GESTANTES PRIMER TRIMESTRE EMBARAZO",{"$f":"+N78+P78+R78+T78+V78+X78+Z78+AB78+AD78+AF78+AH78+AJ78+AL78+AN78+AP78","v":0},0,null,null,null,null,null,null,null,null,null,null,null,null,null,null,null,null,null,null,null,null,null,null,null,null,null,null,null,null,null,null,null,null,null,null,null,null,null,null,null,null,null,null,null,null,null,null,{"$f":"$CA78&$CB78&$CC78&$CD78&$CE78&$CF78&$CG78&$CH78&$CI78&$CJ78&$CK78&$CL78&$CM78&$CN78&$CO78&$CP78&$CQ78&$CR78&$CS78&$CT78&$CU78&$CV78&$CW78&$CX78&$CY78&$CZ78","v":""},null,null,null,null,null,null,null,null,null,null,null,null,null,null,null,null,null,null,null,null,null,null,null,null,null,null,null,null,{"$f":"IF(B78<C78,\"* El total de Reactivos NO DEBE ser superior al total de Procesados. \",\"\")","v":""},{"$f":"IF(B78<>(AR78+ AS78),\"* La suma de las columnas Sexo DEBE SER IGUAL a los Procesados. \",\"\")","v":""},{"$f":"IF(B78<(AT78+ AU78),\"* La suma de las columna Trans NO DEBE ser superior al total de Procesados. \",\"\")","v":""},{"$f":"IF(B78<AV78,\"* La columna Pueblos Originarios NO DEBE ser superior al total de Procesados. \",\"\")","v":""},{"$f":"IF(B78<AW78,\"* La columna Migrantes NO DEBE ser superior al total de Procesados. \",\"\")","v":""},{"$f":"IF(D78<E78,CONCATENATE(\"* El total de procesados debe ser mayor o igual al total de Reactivos en el grupo de edad \",$D$76),\"\")","v":""},{"$f":"IF(F78<G78,CONCATENATE(\"* El total de procesados debe ser mayor o igual al total de Reactivos en el grupo de edad \",$F$76),\"\")","v":""},{"$f":"IF(H78<I78,CONCATENATE(\"* El total de procesados debe ser mayor o igual al total de Reactivos en el grupo de edad \",$H$76),\"\")","v":""},{"$f":"IF(J78<K78,CONCATENATE(\"* El total de procesados debe ser mayor o igual al total de Reactivos en el grupo de edad \",$J$76),\"\")","v":""},{"$f":"IF(L78<M78,CONCATENATE(\"* El total de procesados debe ser mayor o igual al total de Reactivos en el grupo de edad \",$L$76),\"\")","v":""},{"$f":"IF(N78<O78,CONCATENATE(\"* El total de procesados debe ser mayor o igual al total de Reactivos en el grupo de edad \",$N$76),\"\")","v":""},{"$f":"IF(P78<Q78,CONCATENATE(\"* El total de procesados debe ser mayor o igual al total de Reactivos en el grupo de edad \",$P$76),\"\")","v":""},{"$f":"IF(R78<S78,CONCATENATE(\"* El total de procesados debe ser mayor o igual al total de Reactivos en el grupo de edad \",$R$76),\"\")","v":""},{"$f":"IF(T78<U78,CONCATENATE(\"* El total de procesados debe ser mayor o igual al total de Reactivos en el grupo de edad \",$T$76),\"\")","v":""},{"$f":"IF(V78<W78,CONCATENATE(\"* El total de procesados debe ser mayor o igual al total de Reactivos en el grupo de edad \",$V$76),\"\")","v":""},{"$f":"IF(X78<Y78,CONCATENATE(\"* El total de procesados debe ser mayor o igual al total de Reactivos en el grupo de edad \",$X$76),\"\")","v":""},{"$f":"IF(Z78<AA78,CONCATENATE(\"* El total de procesados debe ser mayor o igual al total de Reactivos en el grupo de edad \",$Z$76),\"\")","v":""},{"$f":"IF(AB78<AC78,CONCATENATE(\"* El total de procesados debe ser mayor o igual al total de Reactivos en el grupo de edad \",$AB$76),\"\")","v":""},{"$f":"IF(AD78<AE78,CONCATENATE(\"* El total de procesados debe ser mayor o igual al total de Reactivos en el grupo de edad \",$AD$76),\"\")","v":""},{"$f":"IF(AF78<AG78,CONCATENATE(\"* El total de procesados debe ser mayor o igual al total de Reactivos en el grupo de edad \",$AF$76),\"\")","v":""},{"$f":"IF(AH78<AI78,CONCATENATE(\"* El total de procesados debe ser mayor o igual al total de Reactivos en el grupo de edad \",$AH$76),\"\")","v":""},{"$f":"IF(AJ78<AK78,CONCATENATE(\"* El total de procesados debe ser mayor o igual al total de Reactivos en el grupo de edad \",$AJ$76),\"\")","v":""},{"$f":"IF(AL78<AM78,CONCATENATE(\"* El total de procesados debe ser mayor o igual al total de Reactivos en el grupo de edad \",$AL$76),\"\")","v":""},{"$f":"IF(AN78<AO78,CONCATENATE(\"* El total de procesados debe ser mayor o igual al total de Reactivos en el grupo de edad \",$AN$76),\"\")","v":""},{"$f":"IF(AP78<AQ78,CONCATENATE(\"* El total de procesados debe ser mayor o igual al total de Reactivos en el grupo de edad \",$AP$76),\"\")","v":""},{"$f":"IF(AND(B78<>0,OR(AT78=\"\",AU78=\"\",AV78=\"\",AW78=\"\")),\"* No olvide digitar la columna Trans y/o Pueblos Originarios y/o Migrantes (Digite Cero si no tiene). \",\"\")","v":""},{"$f":"IF(B78<   C78,1,0)","v":0},{"$f":"IF(B78<> AR78+AS78,1,0)","v":0},{"$f":"IF(B78<  AT78+AU78,1,0)","v":0},{"$f":"IF(B78<  AV78,1,0)","v":0},{"$f":"IF(B78<  AW78,1,0)","v":0},{"$f":"IF(D78<E78,1,0)","v":0},{"$f":"IF(F78<G78,1,0)","v":0},{"$f":"IF(H78<I78,1,0)","v":0},{"$f":"IF(J78<K78,1,0)","v":0},{"$f":"IF(L78<M78,1,0)","v":0},{"$f":"IF(N78<O78,1,0)","v":0},{"$f":"IF(P78<Q78,1,0)","v":0},{"$f":"IF(R78<S78,1,0)","v":0},{"$f":"IF(T78<U78,1,0)","v":0},{"$f":"IF(V78<W78,1,0)","v":0},{"$f":"IF(X78<Y78,1,0)","v":0},{"$f":"IF(Z78<AA78,1,0)","v":0},{"$f":"IF(AB78<AC78,1,0)","v":0},{"$f":"IF(AD78<AE78,1,0)","v":0},{"$f":"IF(AF78<AG78,1,0)","v":0},{"$f":"IF(AH78<AI78,1,0)","v":0},{"$f":"IF(AJ78<AK78,1,0)","v":0},{"$f":"IF(AL78<AM78,1,0)","v":0},{"$f":"IF(AN78<AO78,1,0)","v":0},{"$f":"IF(AP78<AQ78,1,0)","v":0},{"$f":"IF(AND(B78<>0,OR(AT78=\"\",AU78=\"\",AV78=\"\",AW78=\"\")),1,0)","v":0}]
["GESTANTES SEGUNDO TRIMESTRE EMBARAZO",0,0,null,null,null,null,null,null,null,null,null,null,null,null,null,null,null,null,null,null,null,null,null,null,null,null,null,null,null,null,null,null,null,null,null,null,null,null,null,null,null,null,null,null,null,null,null,null,"",null,null,null,null,null,null,null,null,null,null,null,null,null,null,null,null,null,null,null,null,null,null,null,null,null,null,null,null,"","","","","",{"$f":"IF(D79<E79,CONCATENATE(\"* El total de procesados debe ser mayor o igual al total de Reactivos en el grupo de edad \",$D$76),\"\")","v":""},{"$f":"IF(F79<G79,CONCATENATE(\"* El total de procesados debe ser mayor o igual al total de Reactivos en el grupo de edad \",$F$76),\"\")","v":""},{"$f":"IF(H79<I79,CONCATENATE(\"* El total de procesados debe ser mayor o igual al total de Reactivos en el grupo de edad \",$H$76),\"\")","v":""},{"$f":"IF(J79<K79,CONCATENATE(\"* El total de procesados debe ser mayor o igual al total de Reactivos en el grupo de edad \",$J$76),\"\")","v":""},{"$f":"IF(L79<M79,CONCATENATE(\"* El total de procesados debe ser mayor o igual al total de Reactivos en el grupo de edad \",$L$76),\"\")","v":""},{"$f":"IF(N79<O79,CONCATENATE(\"* El total de procesados debe ser mayor o igual al total de Reactivos en el grupo de edad \",$N$76),\"\")","v":""},{"$f":"IF(P79<Q79,CONCATENATE(\"* El total de procesados debe ser mayor o igual al total de Reactivos en el grupo de edad \",$P$76),\"\")","v":""},{"$f":"IF(R79<S79,CONCATENATE(\"* El total de procesados debe ser mayor o igual al total de Reactivos en el grupo de edad \",$R$76),\"\")","v":""},{"$f":"IF(T79<U79,CONCATENATE(\"* El total de procesados debe ser mayor o igual al total de Reactivos en el grupo de edad \",$T$76),\"\")","v":""},{"$f":"IF(V79<W79,CONCATENATE(\"* El total de procesados debe ser mayor o igual al total de Reactivos en el grupo de edad \",$V$76),\"\")","v":""},{"$f":"IF(X79<Y79,CONCATENATE(\"* El total de procesados debe ser mayor o igual al total de Reactivos en el grupo de edad \",$X$76),\"\")","v":""},{"$f":"IF(Z79<AA79,CONCATENATE(\"* El total de procesados debe ser mayor o igual al total de Reactivos en el grupo de edad \",$Z$76),\"\")","v":""},{"$f":"IF(AB79<AC79,CONCATENATE(\"* El total de procesados debe ser mayor o igual al total de Reactivos en el grupo de edad \",$AB$76),\"\")","v":""},{"$f":"IF(AD79<AE79,CONCATENATE(\"* El total de procesados debe ser mayor o igual al total de Reactivos en el grupo de edad \",$AD$76),\"\")","v":""},{"$f":"IF(AF79<AG79,CONCATENATE(\"* El total de procesados debe ser mayor o igual al total de Reactivos en el grupo de edad \",$AF$76),\"\")","v":""},{"$f":"IF(AH79<AI79,CONCATENATE(\"* El total de procesados debe ser mayor o igual al total de Reactivos en el grupo de edad \",$AH$76),\"\")","v":""},{"$f":"IF(AJ79<AK79,CONCATENATE(\"* El total de procesados debe ser mayor o igual al total de Reactivos en el grupo de edad \",$AJ$76),\"\")","v":""},{"$f":"IF(AL79<AM79,CONCATENATE(\"* El total de procesados debe ser mayor o igual al total de Reactivos en el grupo de edad \",$AL$76),\"\")","v":""},{"$f":"IF(AN79<AO79,CONCATENATE(\"* El total de procesados debe ser mayor o igual al total de Reactivos en el grupo de edad \",$AN$76),\"\")","v":""},{"$f":"IF(AP79<AQ79,CONCATENATE(\"* El total de procesados debe ser mayor o igual al total de Reactivos en el grupo de edad \",$AP$76),\"\")","v":""},"",0,0,0,0,0,0,0,0,0,0,0,0,0,0,0,0,0,0,0,0,0,0,0,0,0,0]
["GESTANTES TERCER TRIMESTRE EMBARAZO",0,0,null,null,null,null,null,null,null,null,null,null,null,null,null,null,null,null,null,null,null,null,null,null,null,null,null,null,null,null,null,null,null,null,null,null,null,null,null,null,null,null,null,null,null,null,null,null,"",null,null,null,null,null,null,null,null,null,null,null,null,null,null,null,null,null,null,null,null,null,null,null,null,null,null,null,null,"","","","","","","","","","","","","","","","","","","","","","","","","","",0,0,0,0,0,0,0,0,0,0,0,0,0,0,0,0,0,0,0,0,0,0,0,0,0,0]
["GESTANTES TRIMESTRE EMBARAZO IGNORADO",0,0,null,null,null,null,null,null,null,null,null,null,null,null,null,null,null,null,null,null,null,null,null,null,null,null,null,null,null,null,null,null,null,null,null,null,null,null,null,null,null,null,null,null,null,null,null,null,"",null,null,null,null,null,null,null,null,null,null,null,null,null,null,null,null,null,null,null,null,null,null,null,null,null,null,null,null,"","","","","","","","","","","","","","","","","","","","","","","","","","",0,0,0,0,0,0,0,0,0,0,0,0,0,0,0,0,0,0,0,0,0,0,0,0,0,0]
["GESTANTES EN SEGUIMIENTO POR DIAGNÓSTICO SÍFILIS",0,0,null,null,null,null,null,null,null,null,null,null,null,null,null,null,null,null,null,null,null,null,null,null,null,null,null,null,null,null,null,null,null,null,null,null,null,null,null,null,null,null,null,null,null,null,null,null,"",null,null,null,null,null,null,null,null,null,null,null,null,null,null,null,null,null,null,null,null,null,null,null,null,null,null,null,null,"","","","","","","","","","","","","","","","","","","","","","","","","","",0,0,0,0,0,0,0,0,0,0,0,0,0,0,0,0,0,0,0,0,0,0,0,0,0,0]
["PAREJA DE GESTANTE CON SEROLOGÍA REACTIVA",0,0,null,null,null,null,null,null,null,null,null,null,null,null,null,null,null,null,null,null,null,null,null,null,null,null,null,null,null,null,null,null,null,null,null,null,null,null,null,null,null,null,null,null,null,null,null,null,"",null,null,null,null,null,null,null,null,null,null,null,null,null,null,null,null,null,null,null,null,null,null,null,null,null,null,null,null,"","","","","","","","","","","","","","","","","","","","","","","","","","",0,0,0,0,0,0,0,0,0,0,0,0,0,0,0,0,0,0,0,0,0,0,0,0,0,0]
["MUJERES QUE INGRESAN A MATERNIDAD POR PARTO",0,0,null,null,null,null,null,null,null,null,null,null,null,null,null,null,null,null,null,null,null,null,null,null,null,null,null,null,null,null,null,null,null,null,null,null,null,null,null,null,null,null,null,null,null,null,null,null,"",null,null,null,null,null,null,null,null,null,null,null,null,null,null,null,null,null,null,null,null,null,null,null,null,null,null,null,null,"","","","","","","","","","","","","","","","","","","","","","","","","","",0,0,0,0,0,0,0,0,0,0,0,0,0,0,0,0,0,0,0,0,0,0,0,0,0,0]
["MUJERES QUE INGRESAN POR ABORTO",0,0,null,null,null,null,null,null,null,null,null,null,null,null,null,null,null,null,null,null,null,null,null,null,null,null,null,null,null,null,null,null,null,null,null,null,null,null,null,null,null,null,null,null,null,null,null,null,"",null,null,null,null,null,null,null,null,null,null,null,null,null,null,null,null,null,null,null,null,null,null,null,null,null,null,null,null,"","","","","","","","","","","","","","","","","","","","","","","","","","",0,0,0,0,0,0,0,0,0,0,0,0,0,0,0,0,0,0,0,0,0,0,0,0,0,0]
["MUJERES EN CONTROL GINECOLÓGICO",{"$f":"+D86+F86+H86+J86+L86+N86+P86+R86+T86+V86+X86+Z86+AB86+AD86+AF86+AH86+AJ86+AL86+AN86+AP86","v":0},{"$f":"+E86+G86+I86+K86+M86+O86+Q86+S86+U86+W86+Y86+AA86+AC86+AE86+AG86+AI86+AK86+AM86+AO86+AQ86","v":0},null,null,null,null,null,null,null,null,null,null,null,null,null,null,null,null,null,null,null,null,null,null,null,null,null,null,null,null,null,null,null,null,null,null,null,null,null,null,null,null,null,null,null,null,null,null,"",null,null,null,null,null,null,null,null,null,null,null,null,null,null,null,null,null,null,null,null,null,null,null,null,null,null,null,null,"","","","","","","","","","","","","","","","","","","","","","","","","","",0,0,0,0,0,0,0,0,0,0,0,0,0,0,0,0,0,0,0,0,0,0,0,0,0,0]
["RECIÉN NACIDO Y LACTANTE PARA DETECCIÓN DE SÍFILIS CONGÉNITA",{"$f":"+D87+F87+H87","v":0},{"$f":"+E87+G87+I87","v":0},null,null,null,null,null,null,null,null,null,null,null,null,null,null,null,null,null,null,null,null,null,null,null,null,null,null,null,null,null,null,null,null,null,null,null,null,null,null,null,null,null,null,null,null,null,null,"",null,null,null,null,null,null,null,null,null,null,null,null,null,null,null,null,null,null,null,null,null,null,null,null,null,null,null,null,"","","","","","","","","","","","","","","","","","","","","","","","","","",0,0,0,0,0,0,0,0,0,0,0,0,0,0,0,0,0,0,0,0,0,0,0,0,0,0]
["PERSONAS EN CONTROL POR COMERCIO SEXUAL",{"$f":"+P88+R88+T88+V88+X88+Z88+AB88+AD88+AF88+AH88+AJ88+AL88+AN88+AP88","v":0},{"$f":"+Q88+S88+U88+W88+Y88+AA88+AC88+AE88+AG88+AI88+AK88+AM88+AO88+AQ88","v":0},null,null,null,null,null,null,null,null,null,null,null,null,null,null,null,null,null,null,null,null,null,null,null,null,null,null,null,null,null,null,null,null,null,null,null,null,null,null,null,null,null,null,null,null,null,null,"",null,null,null,null,null,null,null,null,null,null,null,null,null,null,null,null,null,null,null,null,null,null,null,null,null,null,null,null,"","","","","","","","","","","","","","","","","","","","","","","","","","",0,0,0,0,0,0,0,0,0,0,0,0,0,0,0,0,0,0,0,0,0,0,0,0,0,0]
["PERSONAS EN CONTROL FECUNDIDAD",{"$f":"+N89+P89+R89+T89+V89+X89+Z89+AB89+AD89+AF89+AH89+AJ89+AL89+AN89+AP89","v":0},{"$f":"+O89+Q89+S89+U89+W89+Y89+AA89+AC89+AE89+AG89+AI89+AK89+AM89+AO89+AQ89","v":0},null,null,null,null,null,null,null,null,null,null,null,null,null,null,null,null,null,null,null,null,null,null,null,null,null,null,null,null,null,null,null,null,null,null,null,null,null,null,null,null,null,null,null,null,null,null,"",null,null,null,null,null,null,null,null,null,null,null,null,null,null,null,null,null,null,null,null,null,null,null,null,null,null,null,null,"","","","","","","","","","","","","","","","","","","","","","","","","","",0,0,0,0,0,0,0,0,0,0,0,0,0,0,0,0,0,0,0,0,0,0,0,0,0,0]
["CONSULTANTES POR ITS",{"$f":"+D90+F90+H90+J90+L90+N90+P90+R90+T90+V90+X90+Z90+AB90+AD90+AF90+AH90+AJ90+AL90+AN90+AP90","v":0},{"$f":"+E90+G90+I90+K90+M90+O90+Q90+S90+U90+W90+Y90+AA90+AC90+AE90+AG90+AI90+AK90+AM90+AO90+AQ90","v":0},null,null,null,null,null,null,null,null,null,null,null,null,null,null,null,null,null,null,null,null,null,null,null,null,null,null,null,null,null,null,null,null,null,null,null,null,null,null,null,null,null,null,null,null,null,null,"",null,null,null,null,null,null,null,null,null,null,null,null,null,null,null,null,null,null,null,null,null,null,null,null,null,null,null,null,"","","","","","","","","","","","","","","","","","","","","","","","","","",0,0,0,0,0,0,0,0,0,0,0,0,0,0,0,0,0,0,0,0,0,0,0,0,0,0]
["PERSONAS EMP/EMPAM ",{"$f":"+P91+R91+T91+V91+X91+Z91+AB91+AD91+AF91+AH91+AJ91+AL91+AN91+AP91","v":0},{"$f":"+Q91+S91+U91+W91+Y91+AA91+AC91+AE91+AG91+AI91+AK91+AM91+AO91+AQ91","v":0},null,null,null,null,null,null,null,null,null,null,null,null,null,null,null,null,null,null,null,null,null,null,null,null,null,null,null,null,null,null,null,null,null,null,null,null,null,null,null,null,null,null,null,null,null,null,"",null,null,null,null,null,null,null,null,null,null,null,null,null,null,null,null,null,null,null,null,null,null,null,null,null,null,null,null,"","","","","","","","","","","","","","","","","","","","","","","","","","",0,0,0,0,0,0,0,0,0,0,0,0,0,0,0,0,0,0,0,0,0,0,0,0,0,0]
["DONANTES DE SANGRE",{"$f":"+P92+R92+T92+V92+X92+Z92+AB92+AD92+AF92+AH92","v":0},{"$f":"+Q92+S92+U92+W92+Y92+AA92+AC92+AE92+AG92+AI92","v":0},null,null,null,null,null,null,null,null,null,null,null,null,null,null,null,null,null,null,null,null,null,null,null,null,null,null,null,null,null,null,null,null,null,null,null,null,null,null,null,null,null,null,null,null,null,null,"",null,null,null,null,null,null,null,null,null,null,null,null,null,null,null,null,null,null,null,null,null,null,null,null,null,null,null,null,"","","","","","","","","","","","","","","","","","","","","","","","","","",0,0,0,0,0,0,0,0,0,0,0,0,0,0,0,0,0,0,0,0,0,0,0,0,0,0]
["DONANTES DE ÓRGANOS Y/O TEJIDOS",{"$f":"+D93+F93+H93+J93+L93+N93+P93+R93+T93+V93+X93+Z93+AB93+AD93+AF93+AH93+AJ93+AL93+AN93+AP93","v":0},0,null,null,null,null,null,null,null,null,null,null,null,null,null,null,null,null,null,null,null,null,null,null,null,null,null,null,null,null,null,null,null,null,null,null,null,null,null,null,null,null,null,null,null,null,null,null,"",null,null,null,null,null,null,null,null,null,null,null,null,null,null,null,null,null,null,null,null,null,null,null,null,null,null,null,null,"","","","","","","","","","","","","","","","","","","","","","","","","","",0,0,0,0,0,0,0,0,0,0,0,0,0,0,0,0,0,0,0,0,0,0,0,0,0,0]
["PACIENTES EN DIÁLISIS",0,0,null,null,null,null,null,null,null,null,null,null,null,null,null,null,null,null,null,null,null,null,null,null,null,null,null,null,null,null,null,null,null,null,null,null,null,null,null,null,null,null,null,null,null,null,null,null,"",null,null,null,null,null,null,null,null,null,null,null,null,null,null,null,null,null,null,null,null,null,null,null,null,null,null,null,null,"","","","","","","","","","","","","","","","","","","","","","","","","","",0,0,0,0,0,0,0,0,0,0,0,0,0,0,0,0,0,0,0,0,0,0,0,0,0,0]
["VÍCTIMA DE VIOLENCIA SEXUAL",0,0,null,null,null,null,null,null,null,null,null,null,null,null,null,null,null,null,null,null,null,null,null,null,null,null,null,null,null,null,null,null,null,null,null,null,null,null,null,null,null,null,null,null,null,null,null,null,"",null,null,null,null,null,null,null,null,null,null,null,null,null,null,null,null,null,null,null,null,null,null,null,null,null,null,null,null,"","","","","","","","","","","","","","","","","","","","","","","","","","",0,0,0,0,0,0,0,0,0,0,0,0,0,0,0,0,0,0,0,0,0,0,0,0,0,0]
["SECCIÓN A.5: EXAMEN MHA-TP POR GRUPO DE USUARIOS (Uso exclusivo de establecimientos con Laboratorio que procesan)"]
["GRUPO DE PESQUISA","TOTAL",null,"POR EDAD (en meses - años)",null,null,null,null,null,null,null,null,null,null,null,null,null,null,null,null,null,null,null,null,null,null,null,null,null,null,null,null,null,null,null,null,null,null,null,null,null,null,null,"POR SEXO\n(Procesados)",null,"TRANS",null,"Pueblos Originarios","Migrantes"]
[null,null,null,"Menor de 6 meses",null,"6 a 11 meses",null,"12-24 meses",null,"3 a 4",null,"5 a 9",null,"10 - 14",null,"15 - 19",null,"20 - 24",null,"25 a 29",null,"30 a 34",null,"35 a 39",null,"40 a 44",null,"45 a 49",null,"50 a 54",null,"55 a 59",null,"60 a 64",null,"65 a 69",null,"70 a 74",null,"75 a 79",null,"80 y más",null,"Hombres","Mujeres"]
[null,"Procesados","Reactivos","Procesados","Reactivos","Procesados","Reactivos","Procesados","Reactivos","Procesados","Reactivos","Procesados","Reactivos","Procesados","Reactivos","Procesados","Reactivos","Procesados","Reactivos","Procesados","Reactivos","Procesados","Reactivos","Procesados","Reactivos","Procesados","Reactivos","Procesados","Reactivos","Procesados","Reactivos","Procesados","Reactivos","Procesados","Reactivos","Procesados","Reactivos","Procesados","Reactivos","Procesados","Reactivos","Procesados","Reactivos",null,null,"Masculino","Femenino"]
["GESTANTES PRIMER TRIMESTRE EMBARAZO",{"$f":"+N100+P100+R100+T100+V100+X100+Z100+AB100+AD100+AF100+AH100+AJ100+AL100+AN100+AP100","v":0},0,null,null,null,null,null,null,null,null,null,null,null,null,null,null,null,null,null,null,null,null,null,null,null,null,null,null,null,null,null,null,null,null,null,null,null,null,null,null,null,null,null,null,null,null,null,null,{"$f":"$CA100&$CB100&$CC100&$CD100&$CE100&$CF100&$CG100&$CH100&$CI100&$CJ100&$CK100&$CL100&$CM100&$CN100&$CO100&$CP100&$CQ100&$CR100&$CS100&$CT100&$CU100&$CV100&$CW100&$CX100&$CY100&$CZ100","v":""},null,null,null,null,null,null,null,null,null,null,null,null,null,null,null,null,null,null,null,null,null,null,null,null,null,null,null,null,{"$f":"IF(B100<C100,\"* El total de Reactivos NO DEBE ser superior al total de Procesados. \",\"\")","v":""},{"$f":"IF(B100<>(AR100+ AS100),\"* La suma de las columnas Sexo DEBE SER IGUAL a los Procesados. \",\"\")","v":""},{"$f":"IF(B100<(AT100+ AU100),\"* La suma de las columna Trans NO DEBE ser superior al total de Procesados. \",\"\")","v":""},{"$f":"IF(B100<AV100,\"* La columna Pueblos Originarios NO DEBE ser superior al total de Procesados. \",\"\")","v":""},{"$f":"IF(B100<AW100,\"* La columna Migrantes NO DEBE ser superior al total de Procesados. \",\"\")","v":""},{"$f":"IF(D100<E100,CONCATENATE(\"* El total de procesados debe ser mayor o igual al total de Reactivos en el grupo de edad \",$D$98),\"\")","v":""},{"$f":"IF(F100<G100,CONCATENATE(\"* El total de procesados debe ser mayor o igual al total de Reactivos en el grupo de edad \",$F$98),\"\")","v":""},{"$f":"IF(H100<I100,CONCATENATE(\"* El total de procesados debe ser mayor o igual al total de Reactivos en el grupo de edad \",$H$98),\"\")","v":""},{"$f":"IF(J100<K100,CONCATENATE(\"* El total de procesados debe ser mayor o igual al total de Reactivos en el grupo de edad \",$J$98),\"\")","v":""},{"$f":"IF(L100<M100,CONCATENATE(\"* El total de procesados debe ser mayor o igual al total de Reactivos en el grupo de edad \",$L$98),\"\")","v":""},{"$f":"IF(N100<O100,CONCATENATE(\"* El total de procesados debe ser mayor o igual al total de Reactivos en el grupo de edad \",$N$98),\"\")","v":""},{"$f":"IF(P100<Q100,CONCATENATE(\"* El total de procesados debe ser mayor o igual al total de Reactivos en el grupo de edad \",$P$98),\"\")","v":""},{"$f":"IF(R100<S100,CONCATENATE(\"* El total de procesados debe ser mayor o igual al total de Reactivos en el grupo de edad \",$R$98),\"\")","v":""},{"$f":"IF(T100<U100,CONCATENATE(\"* El total de procesados debe ser mayor o igual al total de Reactivos en el grupo de edad \",$T$98),\"\")","v":""},{"$f":"IF(V100<W100,CONCATENATE(\"* El total de procesados debe ser mayor o igual al total de Reactivos en el grupo de edad \",$V$98),\"\")","v":""},{"$f":"IF(X100<Y100,CONCATENATE(\"* El total de procesados debe ser mayor o igual al total de Reactivos en el grupo de edad \",$X$98),\"\")","v":""},{"$f":"IF(Z100<AA100,CONCATENATE(\"* El total de procesados debe ser mayor o igual al total de Reactivos en el grupo de edad \",$Z$98),\"\")","v":""},{"$f":"IF(AB100<AC100,CONCATENATE(\"* El total de procesados debe ser mayor o igual al total de Reactivos en el grupo de edad \",$AB$98),\"\")","v":""},{"$f":"IF(AD100<AE100,CONCATENATE(\"* El total de procesados debe ser mayor o igual al total de Reactivos en el grupo de edad \",$AD$98),\"\")","v":""},{"$f":"IF(AF100<AG100,CONCATENATE(\"* El total de procesados debe ser mayor o igual al total de Reactivos en el grupo de edad \",$AF$98),\"\")","v":""},{"$f":"IF(AH100<AI100,CONCATENATE(\"* El total de procesados debe ser mayor o igual al total de Reactivos en el grupo de edad \",$AH$98),\"\")","v":""},{"$f":"IF(AJ100<AK100,CONCATENATE(\"* El total de procesados debe ser mayor o igual al total de Reactivos en el grupo de edad \",$AJ$98),\"\")","v":""},{"$f":"IF(AL100<AM100,CONCATENATE(\"* El total de procesados debe ser mayor o igual al total de Reactivos en el grupo de edad \",$AL$98),\"\")","v":""},{"$f":"IF(AN100<AO100,CONCATENATE(\"* El total de procesados debe ser mayor o igual al total de Reactivos en el grupo de edad \",$AN$98),\"\")","v":""},{"$f":"IF(AP100<AQ100,CONCATENATE(\"* El total de procesados debe ser mayor o igual al total de Reactivos en el grupo de edad \",$AP$98),\"\")","v":""},{"$f":"IF(AND(B100<>0,OR(AT100=\"\",AU100=\"\",AV100=\"\",AW100=\"\")),\"* No olvide digitar la columna Trans y/o Pueblos Originarios y/o Migrantes (Digite Cero si no tiene). \",\"\")","v":""},{"$f":"IF(B100<   C100,1,0)","v":0},{"$f":"IF(B100<> AR100+AS100,1,0)","v":0},{"$f":"IF(B100<  AT100+AU100,1,0)","v":0},{"$f":"IF(B100<  AV100,1,0)","v":0},{"$f":"IF(B100<  AW100,1,0)","v":0},{"$f":"IF(D100<E100,1,0)","v":0},{"$f":"IF(F100<G100,1,0)","v":0},{"$f":"IF(H100<I100,1,0)","v":0},{"$f":"IF(J100<K100,1,0)","v":0},{"$f":"IF(L100<M100,1,0)","v":0},{"$f":"IF(N100<O100,1,0)","v":0},{"$f":"IF(P100<Q100,1,0)","v":0},{"$f":"IF(R100<S100,1,0)","v":0},{"$f":"IF(T100<U100,1,0)","v":0},{"$f":"IF(V100<W100,1,0)","v":0},{"$f":"IF(X100<Y100,1,0)","v":0},{"$f":"IF(Z100<AA100,1,0)","v":0},{"$f":"IF(AB100<AC100,1,0)","v":0},{"$f":"IF(AD100<AE100,1,0)","v":0},{"$f":"IF(AF100<AG100,1,0)","v":0},{"$f":"IF(AH100<AI100,1,0)","v":0},{"$f":"IF(AJ100<AK100,1,0)","v":0},{"$f":"IF(AL100<AM100,1,0)","v":0},{"$f":"IF(AN100<AO100,1,0)","v":0},{"$f":"IF(AP100<AQ100,1,0)","v":0},{"$f":"IF(AND(B100<>0,OR(AT100=\"\",AU100=\"\",AV100=\"\",AW100=\"\")),1,0)","v":0}]
["GESTANTES SEGUNDO TRIMESTRE EMBARAZO",0,0,null,null,null,null,null,null,null,null,null,null,null,null,null,null,null,null,null,null,null,null,null,null,null,null,null,null,null,null,null,null,null,null,null,null,null,null,null,null,null,null,null,null,null,null,null,null,"",null,null,null,null,null,null,null,null,null,null,null,null,null,null,null,null,null,null,null,null,null,null,null,null,null,null,null,null,"","","","","",{"$f":"IF(D101<E101,CONCATENATE(\"* El total de procesados debe ser mayor o igual al total de Reactivos en el grupo de edad \",$D$98),\"\")","v":""},{"$f":"IF(F101<G101,CONCATENATE(\"* El total de procesados debe ser mayor o igual al total de Reactivos en el grupo de edad \",$F$98),\"\")","v":""},{"$f":"IF(H101<I101,CONCATENATE(\"* El total de procesados debe ser mayor o igual al total de Reactivos en el grupo de edad \",$H$98),\"\")","v":""},{"$f":"IF(J101<K101,CONCATENATE(\"* El total de procesados debe ser mayor o igual al total de Reactivos en el grupo de edad \",$J$98),\"\")","v":""},{"$f":"IF(L101<M101,CONCATENATE(\"* El total de procesados debe ser mayor o igual al total de Reactivos en el grupo de edad \",$L$98),\"\")","v":""},{"$f":"IF(N101<O101,CONCATENATE(\"* El total de procesados debe ser mayor o igual al total de Reactivos en el grupo de edad \",$N$98),\"\")","v":""},{"$f":"IF(P101<Q101,CONCATENATE(\"* El total de procesados debe ser mayor o igual al total de Reactivos en el grupo de edad \",$P$98),\"\")","v":""},{"$f":"IF(R101<S101,CONCATENATE(\"* El total de procesados debe ser mayor o igual al total de Reactivos en el grupo de edad \",$R$98),\"\")","v":""},{"$f":"IF(T101<U101,CONCATENATE(\"* El total de procesados debe ser mayor o igual al total de Reactivos en el grupo de edad \",$T$98),\"\")","v":""},{"$f":"IF(V101<W101,CONCATENATE(\"* El total de procesados debe ser mayor o igual al total de Reactivos en el grupo de edad \",$V$98),\"\")","v":""},{"$f":"IF(X101<Y101,CONCATENATE(\"* El total de procesados debe ser mayor o igual al total de Reactivos en el grupo de edad \",$X$98),\"\")","v":""},{"$f":"IF(Z101<AA101,CONCATENATE(\"* El total de procesados debe ser mayor o igual al total de Reactivos en el grupo de edad \",$Z$98),\"\")","v":""},{"$f":"IF(AB101<AC101,CONCATENATE(\"* El total de procesados debe ser mayor o igual al total de Reactivos en el grupo de edad \",$AB$98),\"\")","v":""},{"$f":"IF(AD101<AE101,CONCATENATE(\"* El total de procesados debe ser mayor o igual al total de Reactivos en el grupo de edad \",$AD$98),\"\")","v":""},{"$f":"IF(AF101<AG101,CONCATENATE(\"* El total de procesados debe ser mayor o igual al total de Reactivos en el grupo de edad \",$AF$98),\"\")","v":""},{"$f":"IF(AH101<AI101,CONCATENATE(\"* El total de procesados debe ser mayor o igual al total de Reactivos en el grupo de edad \",$AH$98),\"\")","v":""},{"$f":"IF(AJ101<AK101,CONCATENATE(\"* El total de procesados debe ser mayor o igual al total de Reactivos en el grupo de edad \",$AJ$98),\"\")","v":""},{"$f":"IF(AL101<AM101,CONCATENATE(\"* El total de procesados debe ser mayor o igual al total de Reactivos en el grupo de edad \",$AL$98),\"\")","v":""},{"$f":"IF(AN101<AO101,CONCATENATE(\"* El total de procesados debe ser mayor o igual al total de Reactivos en el grupo de edad \",$AN$98),\"\")","v":""},{"$f":"IF(AP101<AQ101,CONCATENATE(\"* El total de procesados debe ser mayor o igual al total de Reactivos en el grupo de edad \",$AP$98),\"\")","v":""},"",0,0,0,0,0,0,0,0,0,0,0,0,0,0,0,0,0,0,0,0,0,0,0,0,0,0]
["GESTANTES TERCER TRIMESTRE EMBARAZO",0,0,null,null,null,null,null,null,null,null,null,null,null,null,null,null,null,null,null,null,null,null,null,null,null,null,null,null,null,null,null,null,null,null,null,null,null,null,null,null,null,null,null,null,null,null,null,null,"",null,null,null,null,null,null,null,null,null,null,null,null,null,null,null,null,null,null,null,null,null,null,null,null,null,null,null,null,"","","","","","","","","","","","","","","","","","","","","","","","","","",0,0,0,0,0,0,0,0,0,0,0,0,0,0,0,0,0,0,0,0,0,0,0,0,0,0]
["GESTANTES TRIMESTRE EMBARAZO IGNORADO",0,0,null,null,null,null,null,null,null,null,null,null,null,null,null,null,null,null,null,null,null,null,null,null,null,null,null,null,null,null,null,null,null,null,null,null,null,null,null,null,null,null,null,null,null,null,null,null,"",null,null,null,null,null,null,null,null,null,null,null,null,null,null,null,null,null,null,null,null,null,null,null,null,null,null,null,null,"","","","","","","","","","","","","","","","","","","","","","","","","","",0,0,0,0,0,0,0,0,0,0,0,0,0,0,0,0,0,0,0,0,0,0,0,0,0,0]
["GESTANTES EN SEGUIMIENTO POR DIAGNÓSTICO SÍFILIS",0,0,null,null,null,null,null,null,null,null,null,null,null,null,null,null,null,null,null,null,null,null,null,null,null,null,null,null,null,null,null,null,null,null,null,null,null,null,null,null,null,null,null,null,null,null,null,null,"",null,null,null,null,null,null,null,null,null,null,null,null,null,null,null,null,null,null,null,null,null,null,null,null,null,null,null,null,"","","","","","","","","","","","","","","","","","","","","","","","","","",0,0,0,0,0,0,0,0,0,0,0,0,0,0,0,0,0,0,0,0,0,0,0,0,0,0]
["PAREJA DE GESTANTE CON SEROLOGÍA REACTIVA",0,0,null,null,null,null,null,null,null,null,null,null,null,null,null,null,null,null,null,null,null,null,null,null,null,null,null,null,null,null,null,null,null,null,null,null,null,null,null,null,null,null,null,null,null,null,null,null,"",null,null,null,null,null,null,null,null,null,null,null,null,null,null,null,null,null,null,null,null,null,null,null,null,null,null,null,null,"","","","","","","","","","","","","","","","","","","","","","","","","","",0,0,0,0,0,0,0,0,0,0,0,0,0,0,0,0,0,0,0,0,0,0,0,0,0,0]
["MUJERES QUE INGRESAN A MATERNIDAD POR PARTO",0,0,null,null,null,null,null,null,null,null,null,null,null,null,null,null,null,null,null,null,null,null,null,null,null,null,null,null,null,null,null,null,null,null,null,null,null,null,null,null,null,null,null,null,null,null,null,null,"",null,null,null,null,null,null,null,null,null,null,null,null,null,null,null,null,null,null,null,null,null,null,null,null,null,null,null,null,"","","","","","","","","","","","","","","","","","","","","","","","","","",0,0,0,0,0,0,0,0,0,0,0,0,0,0,0,0,0,0,0,0,0,0,0,0,0,0]
["MUJERES QUE INGRESAN POR ABORTO",0,0,null,null,null,null,null,null,null,null,null,null,null,null,null,null,null,null,null,null,null,null,null,null,null,null,null,null,null,null,null,null,null,null,null,null,null,null,null,null,null,null,null,null,null,null,null,null,"",null,null,null,null,null,null,null,null,null,null,null,null,null,null,null,null,null,null,null,null,null,null,null,null,null,null,null,null,"","","","","","","","","","","","","","","","","","","","","","","","","","",0,0,0,0,0,0,0,0,0,0,0,0,0,0,0,0,0,0,0,0,0,0,0,0,0,0]
["MUJERES EN CONTROL GINECOLÓGICO",{"$f":"+D108+F108+H108+J108+L108+N108+P108+R108+T108+V108+X108+Z108+AB108+AD108+AF108+AH108+AJ108+AL108+AN108+AP108","v":0},{"$f":"+E108+G108+I108+K108+M108+O108+Q108+S108+U108+W108+Y108+AA108+AC108+AE108+AG108+AI108+AK108+AM108+AO108+AQ108","v":0},null,null,null,null,null,null,null,null,null,null,null,null,null,null,null,null,null,null,null,null,null,null,null,null,null,null,null,null,null,null,null,null,null,null,null,null,null,null,null,null,null,null,null,null,null,null,"",null,null,null,null,null,null,null,null,null,null,null,null,null,null,null,null,null,null,null,null,null,null,null,null,null,null,null,null,"","","","","","","","","","","","","","","","","","","","","","","","","","",0,0,0,0,0,0,0,0,0,0,0,0,0,0,0,0,0,0,0,0,0,0,0,0,0,0]
["RECIÉN NACIDO Y LACTANTE PARA DETECCIÓN DE SÍFILIS CONGÉNITA",{"$f":"+D109+F109+H109","v":0},{"$f":"+E109+G109+I109","v":0},null,null,null,null,null,null,null,null,null,null,null,null,null,null,null,null,null,null,null,null,null,null,null,null,null,null,null,null,null,null,null,null,null,null,null,null,null,null,null,null,null,null,null,null,null,null,"",null,null,null,null,null,null,null,null,null,null,null,null,null,null,null,null,null,null,null,null,null,null,null,null,null,null,null,null,"","","","","","","","","","","","","","","","","","","","","","","","","","",0,0,0,0,0,0,0,0,0,0,0,0,0,0,0,0,0,0,0,0,0,0,0,0,0,0]
["PERSONAS EN CONTROL POR COMERCIO SEXUAL",{"$f":"+P110+R110+T110+V110+X110+Z110+AB110+AD110+AF110+AH110+AJ110+AL110+AN110+AP110","v":0},{"$f":"+Q110+S110+U110+W110+Y110+AA110+AC110+AE110+AG110+AI110+AK110+AM110+AO110+AQ110","v":0},null,null,null,null,null,null,null,null,null,null,null,null,null,null,null,null,null,null,null,null,null,null,null,null,null,null,null,null,null,null,null,null,null,null,null,null,null,null,null,null,null,null,null,null,null,null,"",null,null,null,null,null,null,null,null,null,null,null,null,null,null,null,null,null,null,null,null,null,null,null,null,null,null,null,null,"","","","","","","","","","","","","","","","","","","","","","","","","","",0,0,0,0,0,0,0,0,0,0,0,0,0,0,0,0,0,0,0,0,0,0,0,0,0,0]
["PERSONAS EN CONTROL FECUNDIDAD",{"$f":"+N111+P111+R111+T111+V111+X111+Z111+AB111+AD111+AF111+AH111+AJ111+AL111+AN111+AP111","v":0},{"$f":"+O111+Q111+S111+U111+W111+Y111+AA111+AC111+AE111+AG111+AI111+AK111+AM111+AO111+AQ111","v":0},null,null,null,null,null,null,null,null,null,null,null,null,null,null,null,null,null,null,null,null,null,null,null,null,null,null,null,null,null,null,null,null,null,null,null,null,null,null,null,null,null,null,null,null,null,null,"",null,null,null,null,null,null,null,null,null,null,null,null,null,null,null,null,null,null,null,null,null,null,null,null,null,null,null,null,"","","","","","","","","","","","","","","","","","","","","","","","","","",0,0,0,0,0,0,0,0,0,0,0,0,0,0,0,0,0,0,0,0,0,0,0,0,0,0]
["CONSULTANTES POR ITS",{"$f":"+D112+F112+H112+J112+L112+N112+P112+R112+T112+V112+X112+Z112+AB112+AD112+AF112+AH112+AJ112+AL112+AN112+AP112","v":0},{"$f":"+E112+G112+I112+K112+M112+O112+Q112+S112+U112+W112+Y112+AA112+AC112+AE112+AG112+AI112+AK112+AM112+AO112+AQ112","v":0},null,null,null,null,null,null,null,null,null,null,null,null,null,null,null,null,null,null,null,null,null,null,null,null,null,null,null,null,null,null,null,null,null,null,null,null,null,null,null,null,null,null,null,null,null,null,"",null,null,null,null,null,null,null,null,null,null,null,null,null,null,null,null,null,null,null,null,null,null,null,null,null,null,null,null,"","","","","","","","","","","","","","","","","","","","","","","","","","",0,0,0,0,0,0,0,0,0,0,0,0,0,0,0,0,0,0,0,0,0,0,0,0,0,0]
["PERSONAS EMP/EMPAM ",{"$f":"+P113+R113+T113+V113+X113+Z113+AB113+AD113+AF113+AH113+AJ113+AL113+AN113+AP113","v":0},{"$f":"+Q113+S113+U113+W113+Y113+AA113+AC113+AE113+AG113+AI113+AK113+AM113+AO113+AQ113","v":0},null,null,null,null,null,null,null,null,null,null,null,null,null,null,null,null,null,null,null,null,null,null,null,null,null,null,null,null,null,null,null,null,null,null,null,null,null,null,null,null,null,null,null,null,null,null,"",null,null,null,null,null,null,null,null,null,null,null,null,null,null,null,null,null,null,null,null,null,null,null,null,null,null,null,null,"","","","","","","","","","","","","","","","","","","","","","","","","","",0,0,0,0,0,0,0,0,0,0,0,0,0,0,0,0,0,0,0,0,0,0,0,0,0,0]
["DONANTES DE SANGRE",{"$f":"+P114+R114+T114+V114+X114+Z114+AB114+AD114+AF114+AH114","v":0},{"$f":"+Q114+S114+U114+W114+Y114+AA114+AC114+AE114+AG114+AI114","v":0},null,null,null,null,null,null,null,null,null,null,null,null,null,null,null,null,null,null,null,null,null,null,null,null,null,null,null,null,null,null,null,null,null,null,null,null,null,null,null,null,null,null,null,null,null,null,"",null,null,null,null,null,null,null,null,null,null,null,null,null,null,null,null,null,null,null,null,null,null,null,null,null,null,null,null,"","","","","","","","","","","","","","","","","","","","","","","","","","",0,0,0,0,0,0,0,0,0,0,0,0,0,0,0,0,0,0,0,0,0,0,0,0,0,0]
["DONANTES DE ÓRGANOS Y/O TEJIDOS",{"$f":"+D115+F115+H115+J115+L115+N115+P115+R115+T115+V115+X115+Z115+AB115+AD115+AF115+AH115+AJ115+AL115+AN115+AP115","v":0},0,null,null,null,null,null,null,null,null,null,null,null,null,null,null,null,null,null,null,null,null,null,null,null,null,null,null,null,null,null,null,null,null,null,null,null,null,null,null,null,null,null,null,null,null,null,null,"",null,null,null,null,null,null,null,null,null,null,null,null,null,null,null,null,null,null,null,null,null,null,null,null,null,null,null,null,"","","","","","","","","","","","","","","","","","","","","","","","","","",0,0,0,0,0,0,0,0,0,0,0,0,0,0,0,0,0,0,0,0,0,0,0,0,0,0]
["PACIENTES EN DIÁLISIS",0,0,null,null,null,null,null,null,null,null,null,null,null,null,null,null,null,null,null,null,null,null,null,null,null,null,null,null,null,null,null,null,null,null,null,null,null,null,null,null,null,null,null,null,null,null,null,null,"",null,null,null,null,null,null,null,null,null,null,null,null,null,null,null,null,null,null,null,null,null,null,null,null,null,null,null,null,"","","","","","","","","","","","","","","","","","","","","","","","","","",0,0,0,0,0,0,0,0,0,0,0,0,0,0,0,0,0,0,0,0,0,0,0,0,0,0]
["VÍCTIMA DE VIOLENCIA SEXUAL",0,0,null,null,null,null,null,null,null,null,null,null,null,null,null,null,null,null,null,null,null,null,null,null,null,null,null,null,null,null,null,null,null,null,null,null,null,null,null,null,null,null,null,null,null,null,null,null,"",null,null,null,null,null,null,null,null,null,null,null,null,null,null,null,null,null,null,null,null,null,null,null,null,null,null,null,null,"","","","","","","","","","","","","","","","","","","","","","","","","","",0,0,0,0,0,0,0,0,0,0,0,0,0,0,0,0,0,0,0,0,0,0,0,0,0,0]
["SECCIÓN A.6: EXAMEN MHA-TP POR GRUPO DE USUARIOS (Uso exclusivo de establecimientos que Compran Servicio)"]
["GRUPO DE PESQUISA","TOTAL",null,"POR EDAD (en meses - años)",null,null,null,null,null,null,null,null,null,null,null,null,null,null,null,null,null,null,null,null,null,null,null,null,null,null,null,null,null,null,null,null,null,null,null,null,null,null,null,"POR SEXO\n(Procesados)",null,"TRANS",null,"Pueblos Originarios","Migrantes"]
[null,null,null,"Menor de 6 meses",null,"6 a 11 meses",null,"12-24 meses",null,"3 a 4",null,"5 a 9",null,"10 - 14",null,"15 - 19",null,"20 - 24",null,"25 a 29",null,"30 a 34",null,"35 a 39",null,"40 a 44",null,"45 a 49",null,"50 a 54",null,"55 a 59",null,"60 a 64",null,"65 a 69",null,"70 a 74",null,"75 a 79",null,"80 y más",null,"Hombres","Mujeres"]
[null,"Procesados","Reactivos","Procesados","Reactivos","Procesados","Reactivos","Procesados","Reactivos","Procesados","Reactivos","Procesados","Reactivos","Procesados","Reactivos","Procesados","Reactivos","Procesados","Reactivos","Procesados","Reactivos","Procesados","Reactivos","Procesados","Reactivos","Procesados","Reactivos","Procesados","Reactivos","Procesados","Reactivos","Procesados","Reactivos","Procesados","Reactivos","Procesados","Reactivos","Procesados","Reactivos","Procesados","Reactivos","Procesados","Reactivos",null,null,"Masculino","Femenino"]
["GESTANTES PRIMER TRIMESTRE EMBARAZO",{"$f":"+N122+P122+R122+T122+V122+X122+Z122+AB122+AD122+AF122+AH122+AJ122+AL122+AN122+AP122","v":0},0,null,null,null,null,null,null,null,null,null,null,null,null,null,null,null,null,null,null,null,null,null,null,null,null,null,null,null,null,null,null,null,null,null,null,null,null,null,null,null,null,null,null,null,null,null,null,{"$f":"$CA122&$CB122&$CC122&$CD122&$CE122&$CF122&$CG122&$CH122&$CI122&$CJ122&$CK122&$CL122&$CM122&$CN122&$CO122&$CP122&$CQ122&$CR122&$CS122&$CT122&$CU122&$CV122&$CW122&$CX122&$CY122&$CZ122","v":""},null,null,null,null,null,null,null,null,null,null,null,null,null,null,null,null,null,null,null,null,null,null,null,null,null,null,null,null,{"$f":"IF(B122<C122,\"* El total de Reactivos NO DEBE ser superior al total de Procesados. \",\"\")","v":""},{"$f":"IF(B122<>(AR122+ AS122),\"* La suma de las columnas Sexo DEBE SER IGUAL a los Procesados. \",\"\")","v":""},{"$f":"IF(B122<(AT122+ AU122),\"* La suma de las columna Trans NO DEBE ser superior al total de Procesados. \",\"\")","v":""},{"$f":"IF(B122<AV122,\"* La columna Pueblos Originarios NO DEBE ser superior al total de Procesados. \",\"\")","v":""},{"$f":"IF(B122<AW122,\"* La columna Migrantes NO DEBE ser superior al total de Procesados. \",\"\")","v":""},{"$f":"IF(D122<E122,CONCATENATE(\"* El total de procesados debe ser mayor o igual al total de Reactivos en el grupo de edad \",$D$120),\"\")","v":""},{"$f":"IF(F122<G122,CONCATENATE(\"* El total de procesados debe ser mayor o igual al total de Reactivos en el grupo de edad \",$F$120),\"\")","v":""},{"$f":"IF(H122<I122,CONCATENATE(\"* El total de procesados debe ser mayor o igual al total de Reactivos en el grupo de edad \",$H$120),\"\")","v":""},{"$f":"IF(J122<K122,CONCATENATE(\"* El total de procesados debe ser mayor o igual al total de Reactivos en el grupo de edad \",$J$120),\"\")","v":""},{"$f":"IF(L122<M122,CONCATENATE(\"* El total de procesados debe ser mayor o igual al total de Reactivos en el grupo de edad \",$L$120),\"\")","v":""},{"$f":"IF(N122<O122,CONCATENATE(\"* El total de procesados debe ser mayor o igual al total de Reactivos en el grupo de edad \",$N$120),\"\")","v":""},{"$f":"IF(P122<Q122,CONCATENATE(\"* El total de procesados debe ser mayor o igual al total de Reactivos en el grupo de edad \",$P$120),\"\")","v":""},{"$f":"IF(R122<S122,CONCATENATE(\"* El total de procesados debe ser mayor o igual al total de Reactivos en el grupo de edad \",$R$120),\"\")","v":""},{"$f":"IF(T122<U122,CONCATENATE(\"* El total de procesados debe ser mayor o igual al total de Reactivos en el grupo de edad \",$T$120),\"\")","v":""},{"$f":"IF(V122<W122,CONCATENATE(\"* El total de procesados debe ser mayor o igual al total de Reactivos en el grupo de edad \",$V$120),\"\")","v":""},{"$f":"IF(X122<Y122,CONCATENATE(\"* El total de procesados debe ser mayor o igual al total de Reactivos en el grupo de edad \",$X$120),\"\")","v":""},{"$f":"IF(Z122<AA122,CONCATENATE(\"* El total de procesados debe ser mayor o igual al total de Reactivos en el grupo de edad \",$Z$120),\"\")","v":""},{"$f":"IF(AB122<AC122,CONCATENATE(\"* El total de procesados debe ser mayor o igual al total de Reactivos en el grupo de edad \",$AB$120),\"\")","v":""},{"$f":"IF(AD122<AE122,CONCATENATE(\"* El total de procesados debe ser mayor o igual al total de Reactivos en el grupo de edad \",$AD$120),\"\")","v":""},{"$f":"IF(AF122<AG122,CONCATENATE(\"* El total de procesados debe ser mayor o igual al total de Reactivos en el grupo de edad \",$AF$120),\"\")","v":""},{"$f":"IF(AH122<AI122,CONCATENATE(\"* El total de procesados debe ser mayor o igual al total de Reactivos en el grupo de edad \",$AH$120),\"\")","v":""},{"$f":"IF(AJ122<AK122,CONCATENATE(\"* El total de procesados debe ser mayor o igual al total de Reactivos en el grupo de edad \",$AJ$120),\"\")","v":""},{"$f":"IF(AL122<AM122,CONCATENATE(\"* El total de procesados debe ser mayor o igual al total de Reactivos en el grupo de edad \",$AL$120),\"\")","v":""},{"$f":"IF(AN122<AO122,CONCATENATE(\"* El total de procesados debe ser mayor o igual al total de Reactivos en el grupo de edad \",$AN$120),\"\")","v":""},{"$f":"IF(AP122<AQ122,CONCATENATE(\"* El total de procesados debe ser mayor o igual al total de Reactivos en el grupo de edad \",$AP$120),\"\")","v":""},{"$f":"IF(AND(B122<>0,OR(AT122=\"\",AU122=\"\",AV122=\"\",AW122=\"\")),\"* No olvide digitar la columna Trans y/o Pueblos Originarios y/o Migrantes (Digite Cero si no tiene). \",\"\")","v":""},{"$f":"IF(B122<   C122,1,0)","v":0},{"$f":"IF(B122<> AR122+AS122,1,0)","v":0},{"$f":"IF(B122<  AT122+AU122,1,0)","v":0},{"$f":"IF(B122<  AV122,1,0)","v":0},{"$f":"IF(B122<  AW122,1,0)","v":0},{"$f":"IF(D122<E122,1,0)","v":0},{"$f":"IF(F122<G122,1,0)","v":0},{"$f":"IF(H122<I122,1,0)","v":0},{"$f":"IF(J122<K122,1,0)","v":0},{"$f":"IF(L122<M122,1,0)","v":0},{"$f":"IF(N122<O122,1,0)","v":0},{"$f":"IF(P122<Q122,1,0)","v":0},{"$f":"IF(R122<S122,1,0)","v":0},{"$f":"IF(T122<U122,1,0)","v":0},{"$f":"IF(V122<W122,1,0)","v":0},{"$f":"IF(X122<Y122,1,0)","v":0},{"$f":"IF(Z122<AA122,1,0)","v":0},{"$f":"IF(AB122<AC122,1,0)","v":0},{"$f":"IF(AD122<AE122,1,0)","v":0},{"$f":"IF(AF122<AG122,1,0)","v":0},{"$f":"IF(AH122<AI122,1,0)","v":0},{"$f":"IF(AJ122<AK122,1,0)","v":0},{"$f":"IF(AL122<AM122,1,0)","v":0},{"$f":"IF(AN122<AO122,1,0)","v":0},{"$f":"IF(AP122<AQ122,1,0)","v":0},{"$f":"IF(AND(B122<>0,OR(AT122=\"\",AU122=\"\",AV122=\"\",AW122=\"\")),1,0)","v":0}]
["GESTANTES SEGUNDO TRIMESTRE EMBARAZO",0,0,null,null,null,null,null,null,null,null,null,null,null,null,null,null,null,null,null,null,null,null,null,null,null,null,null,null,null,null,null,null,null,null,null,null,null,null,null,null,null,null,null,null,null,null,null,null,"",null,null,null,null,null,null,null,null,null,null,null,null,null,null,null,null,null,null,null,null,null,null,null,null,null,null,null,null,"","","","","",{"$f":"IF(D123<E123,CONCATENATE(\"* El total de procesados debe ser mayor o igual al total de Reactivos en el grupo de edad \",$D$120),\"\")","v":""},{"$f":"IF(F123<G123,CONCATENATE(\"* El total de procesados debe ser mayor o igual al total de Reactivos en el grupo de edad \",$F$120),\"\")","v":""},{"$f":"IF(H123<I123,CONCATENATE(\"* El total de procesados debe ser mayor o igual al total de Reactivos en el grupo de edad \",$H$120),\"\")","v":""},{"$f":"IF(J123<K123,CONCATENATE(\"* El total de procesados debe ser mayor o igual al total de Reactivos en el grupo de edad \",$J$120),\"\")","v":""},{"$f":"IF(L123<M123,CONCATENATE(\"* El total de procesados debe ser mayor o igual al total de Reactivos en el grupo de edad \",$L$120),\"\")","v":""},{"$f":"IF(N123<O123,CONCATENATE(\"* El total de procesados debe ser mayor o igual al total de Reactivos en el grupo de edad \",$N$120),\"\")","v":""},{"$f":"IF(P123<Q123,CONCATENATE(\"* El total de procesados debe ser mayor o igual al total de Reactivos en el grupo de edad \",$P$120),\"\")","v":""},{"$f":"IF(R123<S123,CONCATENATE(\"* El total de procesados debe ser mayor o igual al total de Reactivos en el grupo de edad \",$R$120),\"\")","v":""},{"$f":"IF(T123<U123,CONCATENATE(\"* El total de procesados debe ser mayor o igual al total de Reactivos en el grupo de edad \",$T$120),\"\")","v":""},{"$f":"IF(V123<W123,CONCATENATE(\"* El total de procesados debe ser mayor o igual al total de Reactivos en el grupo de edad \",$V$120),\"\")","v":""},{"$f":"IF(X123<Y123,CONCATENATE(\"* El total de procesados debe ser mayor o igual al total de Reactivos en el grupo de edad \",$X$120),\"\")","v":""},{"$f":"IF(Z123<AA123,CONCATENATE(\"* El total de procesados debe ser mayor o igual al total de Reactivos en el grupo de edad \",$Z$120),\"\")","v":""},{"$f":"IF(AB123<AC123,CONCATENATE(\"* El total de procesados debe ser mayor o igual al total de Reactivos en el grupo de edad \",$AB$120),\"\")","v":""},{"$f":"IF(AD123<AE123,CONCATENATE(\"* El total de procesados debe ser mayor o igual al total de Reactivos en el grupo de edad \",$AD$120),\"\")","v":""},{"$f":"IF(AF123<AG123,CONCATENATE(\"* El total de procesados debe ser mayor o igual al total de Reactivos en el grupo de edad \",$AF$120),\"\")","v":""},{"$f":"IF(AH123<AI123,CONCATENATE(\"* El total de procesados debe ser mayor o igual al total de Reactivos en el grupo de edad \",$AH$120),\"\")","v":""},{"$f":"IF(AJ123<AK123,CONCATENATE(\"* El total de procesados debe ser mayor o igual al total de Reactivos en el grupo de edad \",$AJ$120),\"\")","v":""},{"$f":"IF(AL123<AM123,CONCATENATE(\"* El total de procesados debe ser mayor o igual al total de Reactivos en el grupo de edad \",$AL$120),\"\")","v":""},{"$f":"IF(AN123<AO123,CONCATENATE(\"* El total de procesados debe ser mayor o igual al total de Reactivos en el grupo de edad \",$AN$120),\"\")","v":""},{"$f":"IF(AP123<AQ123,CONCATENATE(\"* El total de procesados debe ser mayor o igual al total de Reactivos en el grupo de edad \",$AP$120),\"\")","v":""},"",0,0,0,0,0,0,0,0,0,0,0,0,0,0,0,0,0,0,0,0,0,0,0,0,0,0]
["GESTANTES TERCER TRIMESTRE EMBARAZO",0,0,null,null,null,null,null,null,null,null,null,null,null,null,null,null,null,null,null,null,null,null,null,null,null,null,null,null,null,null,null,null,null,null,null,null,null,null,null,null,null,null,null,null,null,null,null,null,"",null,null,null,null,null,null,null,null,null,null,null,null,null,null,null,null,null,null,null,null,null,null,null,null,null,null,null,null,"","","","","","","","","","","","","","","","","","","","","","","","","","",0,0,0,0,0,0,0,0,0,0,0,0,0,0,0,0,0,0,0,0,0,0,0,0,0,0]
["GESTANTES TRIMESTRE EMBARAZO IGNORADO",0,0,null,null,null,null,null,null,null,null,null,null,null,null,null,null,null,null,null,null,null,null,null,null,null,null,null,null,null,null,null,null,null,null,null,null,null,null,null,null,null,null,null,null,null,null,null,null,"",null,null,null,null,null,null,null,null,null,null,null,null,null,null,null,null,null,null,null,null,null,null,null,null,null,null,null,null,"","","","","","","","","","","","","","","","","","","","","","","","","","",0,0,0,0,0,0,0,0,0,0,0,0,0,0,0,0,0,0,0,0,0,0,0,0,0,0]
["GESTANTES EN SEGUIMIENTO POR DIAGNÓSTICO SÍFILIS",0,0,null,null,null,null,null,null,null,null,null,null,null,null,null,null,null,null,null,null,null,null,null,null,null,null,null,null,null,null,null,null,null,null,null,null,null,null,null,null,null,null,null,null,null,null,null,null,"",null,null,null,null,null,null,null,null,null,null,null,null,null,null,null,null,null,null,null,null,null,null,null,null,null,null,null,null,"","","","","","","","","","","","","","","","","","","","","","","","","","",0,0,0,0,0,0,0,0,0,0,0,0,0,0,0,0,0,0,0,0,0,0,0,0,0,0]
["PAREJA DE GESTANTE CON SEROLOGÍA REACTIVA",0,0,null,null,null,null,null,null,null,null,null,null,null,null,null,null,null,null,null,null,null,null,null,null,null,null,null,null,null,null,null,null,null,null,null,null,null,null,null,null,null,null,null,null,null,null,null,null,"",null,null,null,null,null,null,null,null,null,null,null,null,null,null,null,null,null,null,null,null,null,null,null,null,null,null,null,null,"","","","","","","","","","","","","","","","","","","","","","","","","","",0,0,0,0,0,0,0,0,0,0,0,0,0,0,0,0,0,0,0,0,0,0,0,0,0,0]
["MUJERES QUE INGRESAN A MATERNIDAD POR PARTO",0,0,null,null,null,null,null,null,null,null,null,null,null,null,null,null,null,null,null,null,null,null,null,null,null,null,null,null,null,null,null,null,null,null,null,null,null,null,null,null,null,null,null,null,null,null,null,null,"",null,null,null,null,null,null,null,null,null,null,null,null,null,null,null,null,null,null,null,null,null,null,null,null,null,null,null,null,"","","","","","","","","","","","","","","","","","","","","","","","","","",0,0,0,0,0,0,0,0,0,0,0,0,0,0,0,0,0,0,0,0,0,0,0,0,0,0]
["MUJERES QUE INGRESAN POR ABORTO",0,0,null,null,null,null,null,null,null,null,null,null,null,null,null,null,null,null,null,null,null,null,null,null,null,null,null,null,null,null,null,null,null,null,null,null,null,null,null,null,null,null,null,null,null,null,null,null,"",null,null,null,null,null,null,null,null,null,null,null,null,null,null,null,null,null,null,null,null,null,null,null,null,null,null,null,null,"","","","","","","","","","","","","","","","","","","","","","","","","","",0,0,0,0,0,0,0,0,0,0,0,0,0,0,0,0,0,0,0,0,0,0,0,0,0,0]
["MUJERES EN CONTROL GINECOLÓGICO",{"$f":"+D130+F130+H130+J130+L130+N130+P130+R130+T130+V130+X130+Z130+AB130+AD130+AF130+AH130+AJ130+AL130+AN130+AP130","v":0},{"$f":"+E130+G130+I130+K130+M130+O130+Q130+S130+U130+W130+Y130+AA130+AC130+AE130+AG130+AI130+AK130+AM130+AO130+AQ130","v":0},null,null,null,null,null,null,null,null,null,null,null,null,null,null,null,null,null,null,null,null,null,null,null,null,null,null,null,null,null,null,null,null,null,null,null,null,null,null,null,null,null,null,null,null,null,null,"",null,null,null,null,null,null,null,null,null,null,null,null,null,null,null,null,null,null,null,null,null,null,null,null,null,null,null,null,"","","","","","","","","","","","","","","","","","","","","","","","","","",0,0,0,0,0,0,0,0,0,0,0,0,0,0,0,0,0,0,0,0,0,0,0,0,0,0]
["RECIÉN NACIDO Y LACTANTE PARA DETECCIÓN DE SÍFILIS CONGÉNITA",{"$f":"+D131+F131+H131","v":0},{"$f":"+E131+G131+I131","v":0},null,null,null,null,null,null,null,null,null,null,null,null,null,null,null,null,null,null,null,null,null,null,null,null,null,null,null,null,null,null,null,null,null,null,null,null,null,null,null,null,null,null,null,null,null,null,"",null,null,null,null,null,null,null,null,null,null,null,null,null,null,null,null,null,null,null,null,null,null,null,null,null,null,null,null,"","","","","","","","","","","","","","","","","","","","","","","","","","",0,0,0,0,0,0,0,0,0,0,0,0,0,0,0,0,0,0,0,0,0,0,0,0,0,0]
["PERSONAS EN CONTROL POR COMERCIO SEXUAL",{"$f":"+P132+R132+T132+V132+X132+Z132+AB132+AD132+AF132+AH132+AJ132+AL132+AN132+AP132","v":0},{"$f":"+Q132+S132+U132+W132+Y132+AA132+AC132+AE132+AG132+AI132+AK132+AM132+AO132+AQ132","v":0},null,null,null,null,null,null,null,null,null,null,null,null,null,null,null,null,null,null,null,null,null,null,null,null,null,null,null,null,null,null,null,null,null,null,null,null,null,null,null,null,null,null,null,null,null,null,"",null,null,null,null,null,null,null,null,null,null,null,null,null,null,null,null,null,null,null,null,null,null,null,null,null,null,null,null,"","","","","","","","","","","","","","","","","","","","","","","","","","",0,0,0,0,0,0,0,0,0,0,0,0,0,0,0,0,0,0,0,0,0,0,0,0,0,0]
["PERSONAS EN CONTROL FECUNDIDAD",{"$f":"+N133+P133+R133+T133+V133+X133+Z133+AB133+AD133+AF133+AH133+AJ133+AL133+AN133+AP133","v":0},{"$f":"+O133+Q133+S133+U133+W133+Y133+AA133+AC133+AE133+AG133+AI133+AK133+AM133+AO133+AQ133","v":0},null,null,null,null,null,null,null,null,null,null,null,null,null,null,null,null,null,null,null,null,null,null,null,null,null,null,null,null,null,null,null,null,null,null,null,null,null,null,null,null,null,null,null,null,null,null,"",null,null,null,null,null,null,null,null,null,null,null,null,null,null,null,null,null,null,null,null,null,null,null,null,null,null,null,null,"","","","","","","","","","","","","","","","","","","","","","","","","","",0,0,0,0,0,0,0,0,0,0,0,0,0,0,0,0,0,0,0,0,0,0,0,0,0,0]
["CONSULTANTES POR ITS",{"$f":"+D134+F134+H134+J134+L134+N134+P134+R134+T134+V134+X134+Z134+AB134+AD134+AF134+AH134+AJ134+AL134+AN134+AP134","v":0},{"$f":"+E134+G134+I134+K134+M134+O134+Q134+S134+U134+W134+Y134+AA134+AC134+AE134+AG134+AI134+AK134+AM134+AO134+AQ134","v":0},null,null,null,null,null,null,null,null,null,null,null,null,null,null,null,null,null,null,null,null,null,null,null,null,null,null,null,null,null,null,null,null,null,null,null,null,null,null,null,null,null,null,null,null,null,null,"",null,null,null,null,null,null,null,null,null,null,null,null,null,null,null,null,null,null,null,null,null,null,null,null,null,null,null,null,"","","","","","","","","","","","","","","","","","","","","","","","","","",0,0,0,0,0,0,0,0,0,0,0,0,0,0,0,0,0,0,0,0,0,0,0,0,0,0]
["PERSONAS EMP/EMPAM ",{"$f":"+P135+R135+T135+V135+X135+Z135+AB135+AD135+AF135+AH135+AJ135+AL135+AN135+AP135","v":0},{"$f":"+Q135+S135+U135+W135+Y135+AA135+AC135+AE135+AG135+AI135+AK135+AM135+AO135+AQ135","v":0},null,null,null,null,null,null,null,null,null,null,null,null,null,null,null,null,null,null,null,null,null,null,null,null,null,null,null,null,null,null,null,null,null,null,null,null,null,null,null,null,null,null,null,null,null,null,"",null,null,null,null,null,null,null,null,null,null,null,null,null,null,null,null,null,null,null,null,null,null,null,null,null,null,null,null,"","","","","","","","","","","","","","","","","","","","","","","","","","",0,0,0,0,0,0,0,0,0,0,0,0,0,0,0,0,0,0,0,0,0,0,0,0,0,0]
["DONANTES DE SANGRE",{"$f":"+P136+R136+T136+V136+X136+Z136+AB136+AD136+AF136+AH136","v":0},{"$f":"+Q136+S136+U136+W136+Y136+AA136+AC136+AE136+AG136+AI136","v":0},null,null,null,null,null,null,null,null,null,null,null,null,null,null,null,null,null,null,null,null,null,null,null,null,null,null,null,null,null,null,null,null,null,null,null,null,null,null,null,null,null,null,null,null,null,null,"",null,null,null,null,null,null,null,null,null,null,null,null,null,null,null,null,null,null,null,null,null,null,null,null,null,null,null,null,"","","","","","","","","","","","","","","","","","","","","","","","","","",0,0,0,0,0,0,0,0,0,0,0,0,0,0,0,0,0,0,0,0,0,0,0,0,0,0]
["DONANTES DE ÓRGANOS Y/O TEJIDOS",{"$f":"+D137+F137+H137+J137+L137+N137+P137+R137+T137+V137+X137+Z137+AB137+AD137+AF137+AH137+AJ137+AL137+AN137+AP137","v":0},0,null,null,null,null,null,null,null,null,null,null,null,null,null,null,null,null,null,null,null,null,null,null,null,null,null,null,null,null,null,null,null,null,null,null,null,null,null,null,null,null,null,null,null,null,null,null,"",null,null,null,null,null,null,null,null,null,null,null,null,null,null,null,null,null,null,null,null,null,null,null,null,null,null,null,null,"","","","","","","","","","","","","","","","","","","","","","","","","","",0,0,0,0,0,0,0,0,0,0,0,0,0,0,0,0,0,0,0,0,0,0,0,0,0,0]
["PACIENTES EN DIÁLISIS",0,0,null,null,null,null,null,null,null,null,null,null,null,null,null,null,null,null,null,null,null,null,null,null,null,null,null,null,null,null,null,null,null,null,null,null,null,null,null,null,null,null,null,null,null,null,null,null,"",null,null,null,null,null,null,null,null,null,null,null,null,null,null,null,null,null,null,null,null,null,null,null,null,null,null,null,null,"","","","","","","","","","","","","","","","","","","","","","","","","","",0,0,0,0,0,0,0,0,0,0,0,0,0,0,0,0,0,0,0,0,0,0,0,0,0,0]
["VÍCTIMA DE VIOLENCIA SEXUAL",0,0,null,null,null,null,null,null,null,null,null,null,null,null,null,null,null,null,null,null,null,null,null,null,null,null,null,null,null,null,null,null,null,null,null,null,null,null,null,null,null,null,null,null,null,null,null,null,"",null,null,null,null,null,null,null,null,null,null,null,null,null,null,null,null,null,null,null,null,null,null,null,null,null,null,null,null,"",{"$f":"IF(B139<>(AR139+ AS139),\"* La suma de las columnas Sexo DEBE SER IGUAL a los Procesados. \",\"\")","v":""},"","","","","","","","","","","","","","","","","","","","","","","","",0,0,0,0,0,0,0,0,0,0,0,0,0,0,0,0,0,0,0,0,0,0,0,0,0,0]
["SECCIÓN B.1: EXÁMENES SEGÚN GRUPOS DE USUARIOS POR CONDICIÓN DE HEPATITIS B, HEPATITIS C, CHAGAS, HTLV 1 Y SIFILIS (Uso exclusivo de establecimientos con Laboratorio que procesan)"]
["GRUPO DE USUARIOS",null,"HEPATITIS  B",null,null,"HEPATITIS  C",null,null,"CHAGAS",null,null,"HTLV1",null,null,"SÍFILIS"]
[null,null,"Procesados","Reactivos","Confirmados","Procesados","Reactivos","Confirmados","Procesados","Reactivos","Confirmados","Procesados","Reactivos","Confirmados","Procesados","Reactivos"]
["USUARIOS",null,null,null,null,null,null,null,null,null,null,null,null,null,null,null,{"$f":"CA143&CB143&CC143&CD143&CE143","v":""},null,null,null,null,null,null,null,null,null,null,null,null,null,null,null,null,null,null,null,null,null,null,null,null,null,null,null,null,null,null,null,null,null,null,null,null,null,null,null,null,null,null,null,null,null,null,null,null,null,null,null,null,null,null,null,null,null,null,null,null,null,{"$f":"IF(C143>=D143,\"\",\"* Los exámenes Reactivos de Hepatitis B NO DEBEN ser mayor a los exámenes Procesados. \")","v":""},{"$f":"IF(F143>=G143,\"\",\"* Los exámenes Reactivos de Hepatitis C NO DEBEN ser mayor a los exámenes Procesados. \")","v":""},{"$f":"IF(I143>=J143,\"\",\"* Los exámenes Reactivos de CHAGAS NO DEBEN ser mayor a los exámenes Procesados. \")","v":""},{"$f":"IF(L143>=M143,\"\",\"* Los exámenes Reactivos de HTLV1 NO DEBEN ser mayor a los exámenes Procesados. \")","v":""},{"$f":"IF(O143>=P143,\"\",\"* Los exámenes Reactivos de SIFILIS NO DEBEN ser mayor a los exámenes Procesados. \")","v":""},null,null,null,null,null,null,null,null,null,null,null,null,null,null,null,null,null,null,null,null,null,{"$f":"IF(C143>=D143,0,1)","v":0},{"$f":"IF(F143>=G143,0,1)","v":0},{"$f":"IF(I143>=J143,0,1)","v":0},{"$f":"IF(L143>=M143,0,1)","v":0},{"$f":"IF(O143>=P143,0,1)","v":0}]
["DONANTES","ALTRUISTA NUEVO",null,null,null,null,null,null,null,null,null,null,null,null,null,null,{"$f":"CA144&CB144&CC144&CD144&CE144","v":""},null,null,null,null,null,null,null,null,null,null,null,null,null,null,null,null,null,null,null,null,null,null,null,null,null,null,null,null,null,null,null,null,null,null,null,null,null,null,null,null,null,null,null,null,null,null,null,null,null,null,null,null,null,null,null,null,null,null,null,null,null,{"$f":"IF(C144>=D144,\"\",\"* Los exámenes Reactivos de Hepatitis B NO DEBEN ser mayor a los exámenes Procesados. \")","v":""},{"$f":"IF(F144>=G144,\"\",\"* Los exámenes Reactivos de Hepatitis C NO DEBEN ser mayor a los exámenes Procesados. \")","v":""},{"$f":"IF(I144>=J144,\"\",\"* Los exámenes Reactivos de CHAGAS NO DEBEN ser mayor a los exámenes Procesados. \")","v":""},{"$f":"IF(L144>=M144,\"\",\"* Los exámenes Reactivos de HTLV1 NO DEBEN ser mayor a los exámenes Procesados. \")","v":""},{"$f":"IF(O144>=P144,\"\",\"* Los exámenes Reactivos de SIFILIS NO DEBEN ser mayor a los exámenes Procesados. \")","v":""},null,null,null,null,null,null,null,null,null,null,null,null,null,null,null,null,null,null,null,null,null,{"$f":"IF(C144>=D144,0,1)","v":0},{"$f":"IF(F144>=G144,0,1)","v":0},{"$f":"IF(I144>=J144,0,1)","v":0},{"$f":"IF(L144>=M144,0,1)","v":0},{"$f":"IF(O144>=P144,0,1)","v":0}]
[null,"ALTRUISTA REPETIDO",null,null,null,null,null,null,null,null,null,null,null,null,null,null,{"$f":"CA145&CB145&CC145&CD145&CE145","v":""},null,null,null,null,null,null,null,null,null,null,null,null,null,null,null,null,null,null,null,null,null,null,null,null,null,null,null,null,null,null,null,null,null,null,null,null,null,null,null,null,null,null,null,null,null,null,null,null,null,null,null,null,null,null,null,null,null,null,null,null,null,{"$f":"IF(C145>=D145,\"\",\"* Los exámenes Reactivos de Hepatitis B NO DEBEN ser mayor a los exámenes Procesados. \")","v":""},{"$f":"IF(F145>=G145,\"\",\"* Los exámenes Reactivos de Hepatitis C NO DEBEN ser mayor a los exámenes Procesados. \")","v":""},{"$f":"IF(I145>=J145,\"\",\"* Los exámenes Reactivos de CHAGAS NO DEBEN ser mayor a los exámenes Procesados. \")","v":""},{"$f":"IF(L145>=M145,\"\",\"* Los exámenes Reactivos de HTLV1 NO DEBEN ser mayor a los exámenes Procesados. \")","v":""},{"$f":"IF(O145>=P145,\"\",\"* Los exámenes Reactivos de SIFILIS NO DEBEN ser mayor a los exámenes Procesados. \")","v":""},null,null,null,null,null,null,null,null,null,null,null,null,null,null,null,null,null,null,null,null,null,{"$f":"IF(C145>=D145,0,1)","v":0},{"$f":"IF(F145>=G145,0,1)","v":0},{"$f":"IF(I145>=J145,0,1)","v":0},{"$f":"IF(L145>=M145,0,1)","v":0},{"$f":"IF(O145>=P145,0,1)","v":0}]
[null,"FAMILIAR O REPOSICIÓN",null,null,null,null,null,null,null,null,null,null,null,null,null,null,{"$f":"CA146&CB146&CC146&CD146&CE146","v":""},null,null,null,null,null,null,null,null,null,null,null,null,null,null,null,null,null,null,null,null,null,null,null,null,null,null,null,null,null,null,null,null,null,null,null,null,null,null,null,null,null,null,null,null,null,null,null,null,null,null,null,null,null,null,null,null,null,null,null,null,null,{"$f":"IF(C146>=D146,\"\",\"* Los exámenes Reactivos de Hepatitis B NO DEBEN ser mayor a los exámenes Procesados. \")","v":""},{"$f":"IF(F146>=G146,\"\",\"* Los exámenes Reactivos de Hepatitis C NO DEBEN ser mayor a los exámenes Procesados. \")","v":""},{"$f":"IF(I146>=J146,\"\",\"* Los exámenes Reactivos de CHAGAS NO DEBEN ser mayor a los exámenes Procesados. \")","v":""},{"$f":"IF(L146>=M146,\"\",\"* Los exámenes Reactivos de HTLV1 NO DEBEN ser mayor a los exámenes Procesados. \")","v":""},{"$f":"IF(O146>=P146,\"\",\"* Los exámenes Reactivos de SIFILIS NO DEBEN ser mayor a los exámenes Procesados. \")","v":""},null,null,null,null,null,null,null,null,null,null,null,null,null,null,null,null,null,null,null,null,null,{"$f":"IF(C146>=D146,0,1)","v":0},{"$f":"IF(F146>=G146,0,1)","v":0},{"$f":"IF(I146>=J146,0,1)","v":0},{"$f":"IF(L146>=M146,0,1)","v":0},{"$f":"IF(O146>=P146,0,1)","v":0}]
["DONANTES DE ÓRGANOS Y/O TEJIDOS",null,null,null,null,null,null,null,null,null,null,null,null,null,null,null,{"$f":"CA147&CB147&CC147&CD147&CE147","v":""},null,null,null,null,null,null,null,null,null,null,null,null,null,null,null,null,null,null,null,null,null,null,null,null,null,null,null,null,null,null,null,null,null,null,null,null,null,null,null,null,null,null,null,null,null,null,null,null,null,null,null,null,null,null,null,null,null,null,null,null,null,{"$f":"IF(C147>=D147,\"\",\"* Los exámenes Reactivos de Hepatitis B NO DEBEN ser mayor a los exámenes Procesados. \")","v":""},{"$f":"IF(F147>=G147,\"\",\"* Los exámenes Reactivos de Hepatitis C NO DEBEN ser mayor a los exámenes Procesados. \")","v":""},{"$f":"IF(I147>=J147,\"\",\"* Los exámenes Reactivos de CHAGAS NO DEBEN ser mayor a los exámenes Procesados. \")","v":""},{"$f":"IF(L147>=M147,\"\",\"* Los exámenes Reactivos de HTLV1 NO DEBEN ser mayor a los exámenes Procesados. \")","v":""},{"$f":"IF(O147>=P147,\"\",\"* Los exámenes Reactivos de SIFILIS NO DEBEN ser mayor a los exámenes Procesados. \")","v":""},null,null,null,null,null,null,null,null,null,null,null,null,null,null,null,null,null,null,null,null,null,{"$f":"IF(C147>=D147,0,1)","v":0},{"$f":"IF(F147>=G147,0,1)","v":0},{"$f":"IF(I147>=J147,0,1)","v":0},{"$f":"IF(L147>=M147,0,1)","v":0},{"$f":"IF(O147>=P147,0,1)","v":0}]
["SECCIÓN B.2: EXÁMENES SEGÚN GRUPOS DE USUARIOS POR CONDICIÓN DE HEPATITIS B, HEPATITIS C, CHAGAS, HTLV 1 Y SIFILIS (Uso exclusivo de establecimientos que Compran Servicio)"]
["GRUPO DE USUARIOS",null,"HEPATITIS  B",null,null,"HEPATITIS  C",null,null,"CHAGAS",null,null,"HTLV1",null,null,"SÍFILIS"]
[null,null,"Procesados","Reactivos","Confirmados","Procesados","Reactivos","Confirmados","Procesados","Reactivos","Confirmados","Procesados","Reactivos","Confirmados","Procesados","Reactivos"]
["USUARIOS",null,null,null,null,null,null,null,null,null,null,null,null,null,null,null,{"$f":"CA151&CB151&CC151&CD151&CE151","v":""},null,null,null,null,null,null,null,null,null,null,null,null,null,null,null,null,null,null,null,null,null,null,null,null,null,null,null,null,null,null,null,null,null,null,null,null,null,null,null,null,null,null,null,null,null,null,null,null,null,null,null,null,null,null,null,null,null,null,null,null,null,{"$f":"IF(C151>=D151,\"\",\"* Los exámenes Reactivos de Hepatitis B NO DEBEN ser mayor a los exámenes Procesados. \")","v":""},{"$f":"IF(F151>=G151,\"\",\"* Los exámenes Reactivos de Hepatitis C NO DEBEN ser mayor a los exámenes Procesados. \")","v":""},{"$f":"IF(I151>=J151,\"\",\"* Los exámenes Reactivos de CHAGAS NO DEBEN ser mayor a los exámenes Procesados. \")","v":""},{"$f":"IF(L151>=M151,\"\",\"* Los exámenes Reactivos de HTLV1 NO DEBEN ser mayor a los exámenes Procesados. \")","v":""},{"$f":"IF(O151>=P151,\"\",\"* Los exámenes Reactivos de SIFILIS NO DEBEN ser mayor a los exámenes Procesados. \")","v":""},null,null,null,null,null,null,null,null,null,null,null,null,null,null,null,null,null,null,null,null,null,{"$f":"IF(C151>=D151,0,1)","v":0},{"$f":"IF(F151>=G151,0,1)","v":0},{"$f":"IF(I151>=J151,0,1)","v":0},{"$f":"IF(L151>=M151,0,1)","v":0},{"$f":"IF(O151>=P151,0,1)","v":0}]
["DONANTES","ALTRUISTA NUEVO",null,null,null,null,null,null,null,null,null,null,null,null,null,null,{"$f":"CA152&CB152&CC152&CD152&CE152","v":""},null,null,null,null,null,null,null,null,null,null,null,null,null,null,null,null,null,null,null,null,null,null,null,null,null,null,null,null,null,null,null,null,null,null,null,null,null,null,null,null,null,null,null,null,null,null,null,null,null,null,null,null,null,null,null,null,null,null,null,null,null,{"$f":"IF(C152>=D152,\"\",\"* Los exámenes Reactivos de Hepatitis B NO DEBEN ser mayor a los exámenes Procesados. \")","v":""},{"$f":"IF(F152>=G152,\"\",\"* Los exámenes Reactivos de Hepatitis C NO DEBEN ser mayor a los exámenes Procesados. \")","v":""},{"$f":"IF(I152>=J152,\"\",\"* Los exámenes Reactivos de CHAGAS NO DEBEN ser mayor a los exámenes Procesados. \")","v":""},{"$f":"IF(L152>=M152,\"\",\"* Los exámenes Reactivos de HTLV1 NO DEBEN ser mayor a los exámenes Procesados. \")","v":""},{"$f":"IF(O152>=P152,\"\",\"* Los exámenes Reactivos de SIFILIS NO DEBEN ser mayor a los exámenes Procesados. \")","v":""},null,null,null,null,null,null,null,null,null,null,null,null,null,null,null,null,null,null,null,null,null,{"$f":"IF(C152>=D152,0,1)","v":0},{"$f":"IF(F152>=G152,0,1)","v":0},{"$f":"IF(I152>=J152,0,1)","v":0},{"$f":"IF(L152>=M152,0,1)","v":0},{"$f":"IF(O152>=P152,0,1)","v":0}]
[null,"ALTRUISTA REPETIDO",null,null,null,null,null,null,null,null,null,null,null,null,null,null,{"$f":"CA153&CB153&CC153&CD153&CE153","v":""},null,null,null,null,null,null,null,null,null,null,null,null,null,null,null,null,null,null,null,null,null,null,null,null,null,null,null,null,null,null,null,null,null,null,null,null,null,null,null,null,null,null,null,null,null,null,null,null,null,null,null,null,null,null,null,null,null,null,null,null,null,{"$f":"IF(C153>=D153,\"\",\"* Los exámenes Reactivos de Hepatitis B NO DEBEN ser mayor a los exámenes Procesados. \")","v":""},{"$f":"IF(F153>=G153,\"\",\"* Los exámenes Reactivos de Hepatitis C NO DEBEN ser mayor a los exámenes Procesados. \")","v":""},{"$f":"IF(I153>=J153,\"\",\"* Los exámenes Reactivos de CHAGAS NO DEBEN ser mayor a los exámenes Procesados. \")","v":""},{"$f":"IF(L153>=M153,\"\",\"* Los exámenes Reactivos de HTLV1 NO DEBEN ser mayor a los exámenes Procesados. \")","v":""},{"$f":"IF(O153>=P153,\"\",\"* Los exámenes Reactivos de SIFILIS NO DEBEN ser mayor a los exámenes Procesados. \")","v":""},null,null,null,null,null,null,null,null,null,null,null,null,null,null,null,null,null,null,null,null,null,{"$f":"IF(C153>=D153,0,1)","v":0},{"$f":"IF(F153>=G153,0,1)","v":0},{"$f":"IF(I153>=J153,0,1)","v":0},{"$f":"IF(L153>=M153,0,1)","v":0},{"$f":"IF(O153>=P153,0,1)","v":0}]
[null,"FAMILIAR O REPOSICIÓN",null,null,null,null,null,null,null,null,null,null,null,null,null,null,{"$f":"CA154&CB154&CC154&CD154&CE154","v":""},null,null,null,null,null,null,null,null,null,null,null,null,null,null,null,null,null,null,null,null,null,null,null,null,null,null,null,null,null,null,null,null,null,null,null,null,null,null,null,null,null,null,null,null,null,null,null,null,null,null,null,null,null,null,null,null,null,null,null,null,null,{"$f":"IF(C154>=D154,\"\",\"* Los exámenes Reactivos de Hepatitis B NO DEBEN ser mayor a los exámenes Procesados. \")","v":""},{"$f":"IF(F154>=G154,\"\",\"* Los exámenes Reactivos de Hepatitis C NO DEBEN ser mayor a los exámenes Procesados. \")","v":""},{"$f":"IF(I154>=J154,\"\",\"* Los exámenes Reactivos de CHAGAS NO DEBEN ser mayor a los exámenes Procesados. \")","v":""},{"$f":"IF(L154>=M154,\"\",\"* Los exámenes Reactivos de HTLV1 NO DEBEN ser mayor a los exámenes Procesados. \")","v":""},{"$f":"IF(O154>=P154,\"\",\"* Los exámenes Reactivos de SIFILIS NO DEBEN ser mayor a los exámenes Procesados. \")","v":""},null,null,null,null,null,null,null,null,null,null,null,null,null,null,null,null,null,null,null,null,null,{"$f":"IF(C154>=D154,0,1)","v":0},{"$f":"IF(F154>=G154,0,1)","v":0},{"$f":"IF(I154>=J154,0,1)","v":0},{"$f":"IF(L154>=M154,0,1)","v":0},{"$f":"IF(O154>=P154,0,1)","v":0}]
["DONANTES DE ÓRGANOS Y/O TEJIDOS ",null,null,null,null,null,null,null,null,null,null,null,null,null,null,null,{"$f":"CA155&CB155&CC155&CD155&CE155","v":""},null,null,null,null,null,null,null,null,null,null,null,null,null,null,null,null,null,null,null,null,null,null,null,null,null,null,null,null,null,null,null,null,null,null,null,null,null,null,null,null,null,null,null,null,null,null,null,null,null,null,null,null,null,null,null,null,null,null,null,null,null,{"$f":"IF(C155>=D155,\"\",\"* Los exámenes Reactivos de Hepatitis B NO DEBEN ser mayor a los exámenes Procesados. \")","v":""},{"$f":"IF(F155>=G155,\"\",\"* Los exámenes Reactivos de Hepatitis C NO DEBEN ser mayor a los exámenes Procesados. \")","v":""},{"$f":"IF(I155>=J155,\"\",\"* Los exámenes Reactivos de CHAGAS NO DEBEN ser mayor a los exámenes Procesados. \")","v":""},{"$f":"IF(L155>=M155,\"\",\"* Los exámenes Reactivos de HTLV1 NO DEBEN ser mayor a los exámenes Procesados. \")","v":""},{"$f":"IF(O155>=P155,\"\",\"* Los exámenes Reactivos de SIFILIS NO DEBEN ser mayor a los exámenes Procesados. \")","v":""},null,null,null,null,null,null,null,null,null,null,null,null,null,null,null,null,null,null,null,null,null,{"$f":"IF(C155>=D155,0,1)","v":0},{"$f":"IF(F155>=G155,0,1)","v":0},{"$f":"IF(I155>=J155,0,1)","v":0},{"$f":"IF(L155>=M155,0,1)","v":0},{"$f":"IF(O155>=P155,0,1)","v":0}]
["SECCIÓN C.1: EXÁMENES  DE  VIH POR GRUPOS DE USUARIOS (Uso exclusivo de establecimientos con Laboratorio que procesan)"]
["GRUPO DE USUARIOS",null,"TOTAL",null,"GRUPO DE EDAD (En años)",null,null,null,null,null,null,null,null,null,null,null,null,null,null,null,null,null,null,null,null,null,null,null,null,null,null,null,null,null,null,null,"POR SEXO",null,null,null,"TRANS",null,null,null,"Pueblos originarios",null,"Migrantes",null,"14-18 años"]
[null,null,null,null,"Menor de 12 meses",null,"12-24 meses",null,"3 a 4 años",null,"5 a 9 años",null,"10 a 14 años",null,"15 a 19 años",null,"20 a 24 años",null,"25 a 29 años",null,"30 a 34 años",null,"35 a 39 años",null,"40 a 44 años",null,"45 a 49 años",null,"50 a 54 años",null,"55 a 59 años",null,"60 a 64 años",null," 65 y más años",null,"Hombres",null,"Mujeres",null,"Femenino",null,"Masculino"]
[null,null,"Procesados","Confirmados positivos por ISP","Procesados","Confirmados positivos por ISP","Procesados","Confirmados positivos por ISP","Procesados","Confirmados positivos por ISP","Procesados","Confirmados positivos por ISP","Procesados","Confirmados positivos por ISP","Procesados","Confirmados positivos por ISP","Procesados","Confirmados positivos por ISP","Procesados","Confirmados positivos por ISP","Procesados","Confirmados positivos por ISP","Procesados","Confirmados positivos por ISP","Procesados","Confirmados positivos por ISP","Procesados","Confirmados positivos por ISP","Procesados","Confirmados positivos por ISP","Procesados","Confirmados positivos por ISP","Procesados","Confirmados positivos por ISP","Procesados","Confirmados positivos por ISP","Procesados","Confirmados positivos por ISP","Procesados","Confirmados positivos por ISP","Procesados","Confirmados positivos por ISP","Procesados","Confirmados positivos por ISP","Procesados","Confirmados positivos por ISP","Procesados","Confirmados positivos por ISP","Procesados","Confirmados positivos por ISP"]
["GESTANTES PRIMER EXAMEN",null,{"$f":"+M160+O160+Q160+S160+U160+W160+Y160+AA160+AC160+AE160","v":0},0,null,null,null,null,null,null,null,null,null,null,null,null,null,null,null,null,null,null,null,null,null,null,null,null,null,null,null,null,null,null,null,null,null,null,null,null,null,null,null,null,null,null,null,null,null,null,{"$f":"$CA160&$CB160&$CC160&$CD160&$CE160&$CF160&$CG160&$CH160&$CI160&$CJ160&$CK160&$CL160&$CM160&$CN160&$CO160&$CP160&$CQ160&$CR160&$CS160&$CT160&$CU160&$CV160&$CW160&$CX160&$CY160&$CZ160","v":""},null,null,null,null,null,null,null,null,null,null,null,null,null,null,null,null,null,null,null,null,null,null,null,null,null,null,null,{"$f":"IF(DA160=1,\" * El total de exámenes confirmados positivos por ISP NO DEBE SUPERAR el total de exámenes procesados. \",\"\")","v":""},{"$f":"IF(DB160=1,\" * La suma de exámenes procesados por sexo DEBE SER IGUAL al total de Procesados. \",\"\")","v":""},{"$f":"IF(DC160=1,\" * La suma de exámenes Confirmados positivos por ISP por sexo DEBE SER IGUAL al total de Procesados. \",\"\")","v":""},{"$f":"IF(DD160=1,\" * La suma de exámenes procesados Trans NO PUEDE Superar al total de Procesados. \",\"\")","v":""},{"$f":"IF(DE160=1,\" * La suma de exámenes confirmados positivos por ISP Trans NO PUEDE Superar al total de Procesados. \",\"\")","v":""},{"$f":"IF(DF160=1,\" * Los exámenes procesados de personas pertenecientes a Pueblos originarios NO PUEDE Superar al total de Procesados. \",\"\")","v":""},{"$f":"IF(DG160=1,\" * Los exámenes confirmados positivos por ISP de personas pertenecientes a Pueblos originarios NO PUEDE Superar al total de Procesados. \",\"\")","v":""},{"$f":"IF(DH160=1,\" * Los exámenes procesados de personas pertenecientes a Pueblos migrantes NO PUEDE Superar al total de Procesados. \",\"\")","v":""},{"$f":"IF(DI160=1,\" * Los exámenes confirmados positivos por ISP de personas pertenecientes a Pueblos Migrantes NO PUEDE Superar al total de Procesados. \",\"\")","v":""},null,null,null,null,null,null,null,null,null,null,null,null,null,{"$f":"IF(DW160=1,\"* No olvide digitar la columna Procesados Trans y/o Pueblos Originarios y/o Migrantes (Digite Cero si no tiene). \",\"\")","v":""},{"$f":"IF(DX160=1,\"* No olvide digitar la columna Confirmados Trans y/o Pueblos Originarios y/o Migrantes (Digite Cero si no tiene). \",\"\")","v":""},null,null,{"$f":"IF(C160<D160,1,0)","v":0},{"$f":"IF(C160<>(AK160+AM160),1,0)","v":0},{"$f":"IF(D160<>(AL160+AN160),1,0)","v":0},{"$f":"IF(C160<(AO160+AQ160),1,0)","v":0},{"$f":"IF(D160<(AP160+AR160),1,0)","v":0},{"$f":"IF($C160<AS160,1,0)","v":0},{"$f":"IF($D160<AT160,1,0)","v":0},{"$f":"IF($C160<AU160,1,0)","v":0},{"$f":"IF($D160<AV160,1,0)","v":0},null,null,null,null,null,null,null,null,null,null,null,null,null,{"$f":"IF(AND(C160<>0,OR(AO160=\"\",AQ160=\"\",AS160=\"\",AU160=\"\")),1,0)","v":0},{"$f":"IF(AND(D160<>0,OR(AP160=\"\",AR160=\"\",AT160=\"\",AV160=\"\")),1,0)","v":0}]
["GESTANTES SEGUNDO EXAMEN",null,0,0,null,null,null,null,null,null,null,null,null,null,null,null,null,null,null,null,null,null,null,null,null,null,null,null,null,null,null,null,null,null,null,null,null,null,null,null,null,null,null,null,null,null,null,null,null,null,"",null,null,null,null,null,null,null,null,null,null,null,null,null,null,null,null,null,null,null,null,null,null,null,null,null,null,null,{"$f":"IF(DA161=1,\" * El total de exámenes confirmados positivos por ISP NO DEBE SUPERAR el total de exámenes procesados. \",\"\")","v":""},{"$f":"IF(DB161=1,\" * La suma de exámenes procesados por sexo DEBE SER IGUAL al total de Procesados. \",\"\")","v":""},{"$f":"IF(DC161=1,\" * La suma de exámenes Confirmados positivos por ISP por sexo DEBE SER IGUAL al total de Procesados. \",\"\")","v":""},{"$f":"IF(DD161=1,\" * La suma de exámenes procesados Trans NO PUEDE Superar al total de Procesados. \",\"\")","v":""},{"$f":"IF(DE161=1,\" * La suma de exámenes confirmados positivos por ISP Trans NO PUEDE Superar al total de Procesados. \",\"\")","v":""},{"$f":"IF(DF161=1,\" * Los exámenes procesados de personas pertenecientes a Pueblos originarios NO PUEDE Superar al total de Procesados. \",\"\")","v":""},{"$f":"IF(DG161=1,\" * Los exámenes confirmados positivos por ISP de personas pertenecientes a Pueblos originarios NO PUEDE Superar al total de Procesados. \",\"\")","v":""},{"$f":"IF(DH161=1,\" * Los exámenes procesados de personas pertenecientes a Pueblos migrantes NO PUEDE Superar al total de Procesados. \",\"\")","v":""},{"$f":"IF(DI161=1,\" * Los exámenes confirmados positivos por ISP de personas pertenecientes a Pueblos Migrantes NO PUEDE Superar al total de Procesados. \",\"\")","v":""},null,null,null,null,null,null,null,null,null,null,null,null,null,{"$f":"IF(DW161=1,\"* No olvide digitar la columna Procesados Trans y/o Pueblos Originarios y/o Migrantes (Digite Cero si no tiene). \",\"\")","v":""},{"$f":"IF(DX161=1,\"* No olvide digitar la columna Confirmados Trans y/o Pueblos Originarios y/o Migrantes (Digite Cero si no tiene). \",\"\")","v":""},null,null,{"$f":"IF(C161<D161,1,0)","v":0},{"$f":"IF(C161<>(AK161+AM161),1,0)","v":0},{"$f":"IF(D161<>(AL161+AN161),1,0)","v":0},{"$f":"IF(C161<(AO161+AQ161),1,0)","v":0},{"$f":"IF(D161<(AP161+AR161),1,0)","v":0},{"$f":"IF($C161<AS161,1,0)","v":0},{"$f":"IF($D161<AT161,1,0)","v":0},{"$f":"IF($C161<AU161,1,0)","v":0},{"$f":"IF($D161<AV161,1,0)","v":0},null,null,null,null,null,null,null,null,null,null,null,null,null,{"$f":"IF(AND(C161<>0,OR(AO161=\"\",AQ161=\"\",AS161=\"\",AU161=\"\")),1,0)","v":0},0]
["MUJER EN TRABAJO DE PRE PARTO O PARTO",null,0,0,null,null,null,null,null,null,null,null,null,null,null,null,null,null,null,null,null,null,null,null,null,null,null,null,null,null,null,null,null,null,null,null,null,null,null,null,null,null,null,null,null,null,null,null,null,null,"",null,null,null,null,null,null,null,null,null,null,null,null,null,null,null,null,null,null,null,null,null,null,null,null,null,null,null,"","","","","","","","","",null,null,null,null,null,null,null,null,null,null,null,null,null,"","",null,null,0,0,0,0,0,0,0,0,0,null,null,null,null,null,null,null,null,null,null,null,null,null,0,0]
["PERSONAS EN CONTROL POR COMERCIO SEXUAL",null,{"$f":"+O163+Q163+S163+U163+W163+Y163+AA163+AC163+AE163+AG163+AI163","v":0},{"$f":"+P163+R163+T163+V163+X163+Z163+AB163+AD163+AF163+AH163+AJ163","v":0},null,null,null,null,null,null,null,null,null,null,null,null,null,null,null,null,null,null,null,null,null,null,null,null,null,null,null,null,null,null,null,null,null,null,null,null,null,null,null,null,null,null,null,null,null,null,"",null,null,null,null,null,null,null,null,null,null,null,null,null,null,null,null,null,null,null,null,null,null,null,null,null,null,null,"","","","","","","","","",null,null,null,null,null,null,null,null,null,null,null,null,null,"","",null,null,0,0,0,0,0,0,0,0,0,null,null,null,null,null,null,null,null,null,null,null,null,null,0,0]
["PACIENTES EN DIÁLISIS",null,{"$f":"+E164+G164+I164+K164+M164+O164+Q164+S164+U164+W164+Y164+AA164+AC164+AE164+AG164+AI164","v":0},{"$f":"+F164+H164+J164+L164+N164+P164+R164+T164+V164+X164+Z164+AB164+AD164+AF164+AH164+AJ164","v":0},null,null,null,null,null,null,null,null,null,null,null,null,null,null,null,null,null,null,null,null,null,null,null,null,null,null,null,null,null,null,null,null,null,null,null,null,null,null,null,null,null,null,null,null,null,null,"",null,null,null,null,null,null,null,null,null,null,null,null,null,null,null,null,null,null,null,null,null,null,null,null,null,null,null,"","","","","","","","","",null,null,null,null,null,null,null,null,null,null,null,null,null,"","",null,null,0,0,0,0,0,0,0,0,0,null,null,null,null,null,null,null,null,null,null,null,null,null,0,0]
["POR CONSULTA ITS",null,{"$f":"+E165+G165+I165+K165+M165+O165+Q165+S165+U165+W165+Y165+AA165+AC165+AE165+AG165+AI165","v":0},{"$f":"+F165+H165+J165+L165+N165+P165+R165+T165+V165+X165+Z165+AB165+AD165+AF165+AH165+AJ165","v":0},null,null,null,null,null,null,null,null,null,null,null,null,null,null,null,null,null,null,null,null,null,null,null,null,null,null,null,null,null,null,null,null,null,null,null,null,null,null,null,null,null,null,null,null,null,null,"",null,null,null,null,null,null,null,null,null,null,null,null,null,null,null,null,null,null,null,null,null,null,null,null,null,null,null,"","","","","","","","","",null,null,null,null,null,null,null,null,null,null,null,null,null,"","",null,null,0,0,0,0,0,0,0,0,0,null,null,null,null,null,null,null,null,null,null,null,null,null,0,0]
["PERSONAS EN CONTROL DE REGULACIÓN FECUNDIDAD, GINECOLOGICO, CLIMATERIO",null,{"$f":"+O166+Q166+S166+U166+W166+Y166+AA166+AC166+AE166+AG166+AI166","v":0},{"$f":"+P166+R166+T166+V166+X166+Z166+AB166+AD166+AF166+AH166+AJ166","v":0},null,null,null,null,null,null,null,null,null,null,null,null,null,null,null,null,null,null,null,null,null,null,null,null,null,null,null,null,null,null,null,null,null,null,null,null,null,null,null,null,null,null,null,null,null,null,"",null,null,null,null,null,null,null,null,null,null,null,null,null,null,null,null,null,null,null,null,null,null,null,null,null,null,null,"","","","","","","","","",null,null,null,null,null,null,null,null,null,null,null,null,null,"","",null,null,0,0,0,0,0,0,0,0,0,null,null,null,null,null,null,null,null,null,null,null,null,null,0,0]
["PERSONAS EMP/EMPAM ",null,{"$f":"+O167+Q167+S167+U167+W167+Y167+AA167+AC167+AE167+AG167+AI167","v":0},{"$f":"+P167+R167+T167+V167+X167+Z167+AB167+AD167+AF167+AH167+AJ167","v":0},null,null,null,null,null,null,null,null,null,null,null,null,null,null,null,null,null,null,null,null,null,null,null,null,null,null,null,null,null,null,null,null,null,null,null,null,null,null,null,null,null,null,null,null,null,null,"",null,null,null,null,null,null,null,null,null,null,null,null,null,null,null,null,null,null,null,null,null,null,null,null,null,null,null,"","","","","","","","","",null,null,null,null,null,null,null,null,null,null,null,null,null,"","",null,null,0,0,0,0,0,0,0,0,0,null,null,null,null,null,null,null,null,null,null,null,null,null,0,0]
["PERSONAS EN CONTROL DE SALUD SEGÚN CICLO VITAL",null,{"$f":"+E168+G168+I168+K168+M168+O168+Q168+S168+U168+W168+Y168+AA168+AC168+AE168+AG168+AI168","v":0},{"$f":"+F168+H168+J168+L168+N168+P168+R168+T168+V168+X168+Z168+AB168+AD168+AF168+AH168+AJ168","v":0},null,null,null,null,null,null,null,null,null,null,null,null,null,null,null,null,null,null,null,null,null,null,null,null,null,null,null,null,null,null,null,null,null,null,null,null,null,null,null,null,null,null,null,null,null,null,"",null,null,null,null,null,null,null,null,null,null,null,null,null,null,null,null,null,null,null,null,null,null,null,null,null,null,null,"","","","","","","","","",null,null,null,null,null,null,null,null,null,null,null,null,null,"","",null,null,0,0,0,0,0,0,0,0,0,null,null,null,null,null,null,null,null,null,null,null,null,null,0,0]
["DONANTES DE SANGRE","ALTRUISTA NUEVO",{"$f":"+O169+Q169+S169+U169+W169+Y169+AA169+AC169+AE169+AG169","v":0},0,null,null,null,null,null,null,null,null,null,null,null,null,null,null,null,null,null,null,null,null,null,null,null,null,null,null,null,null,null,null,null,null,null,null,null,null,null,null,null,null,null,null,null,null,null,null,"",null,null,null,null,null,null,null,null,null,null,null,null,null,null,null,null,null,null,null,null,null,null,null,null,null,null,null,"","","","","","","","","",null,null,null,null,null,null,null,null,null,null,null,null,null,"","",null,null,0,0,0,0,0,0,0,0,0,null,null,null,null,null,null,null,null,null,null,null,null,null,0,0]
[null,"ALTRUISTA REPETIDO",0,0,null,null,null,null,null,null,null,null,null,null,null,null,null,null,null,null,null,null,null,null,null,null,null,null,null,null,null,null,null,null,null,null,null,null,null,null,null,null,null,null,null,null,null,null,null,null,"",null,null,null,null,null,null,null,null,null,null,null,null,null,null,null,null,null,null,null,null,null,null,null,null,null,null,null,"","","","","","","","","",null,null,null,null,null,null,null,null,null,null,null,null,null,"","",null,null,0,0,0,0,0,0,0,0,0,null,null,null,null,null,null,null,null,null,null,null,null,null,0,0]
[null,"FAMILIAR O REPOSICIÓN",0,0,null,null,null,null,null,null,null,null,null,null,null,null,null,null,null,null,null,null,null,null,null,null,null,null,null,null,null,null,null,null,null,null,null,null,null,null,null,null,null,null,null,null,null,null,null,null,"",null,null,null,null,null,null,null,null,null,null,null,null,null,null,null,null,null,null,null,null,null,null,null,null,null,null,null,"","","","","","","","","",null,null,null,null,null,null,null,null,null,null,null,null,null,"","",null,null,0,0,0,0,0,0,0,0,0,null,null,null,null,null,null,null,null,null,null,null,null,null,0,0]
["DONANTES DE ÓRGANOS Y/O TEJIDOS",null,{"$f":"+E172+G172+I172+K172+M172+O172+Q172+S172+U172+W172+Y172+AA172+AC172+AE172+AG172+AI172","v":0},0,null,null,null,null,null,null,null,null,null,null,null,null,null,null,null,null,null,null,null,null,null,null,null,null,null,null,null,null,null,null,null,null,null,null,null,null,null,null,null,null,null,null,null,null,null,null,"",null,null,null,null,null,null,null,null,null,null,null,null,null,null,null,null,null,null,null,null,null,null,null,null,null,null,null,"","","","","","","","","",null,null,null,null,null,null,null,null,null,null,null,null,null,"","",null,null,0,0,0,0,0,0,0,0,0,null,null,null,null,null,null,null,null,null,null,null,null,null,0,0]
["PERSONA EN CONTROL POR TBC",null,0,0,null,null,null,null,null,null,null,null,null,null,null,null,null,null,null,null,null,null,null,null,null,null,null,null,null,null,null,null,null,null,null,null,null,null,null,null,null,null,null,null,null,null,null,null,null,null,"",null,null,null,null,null,null,null,null,null,null,null,null,null,null,null,null,null,null,null,null,null,null,null,null,null,null,null,"","","","","","","","","",null,null,null,null,null,null,null,null,null,null,null,null,null,"","",null,null,0,0,0,0,0,0,0,0,0,null,null,null,null,null,null,null,null,null,null,null,null,null,0,0]
["VÍCTIMA DE VIOLENCIA SEXUAL",null,0,{"$f":"+F174+H174+J174+L174+N174+P174+R174+T174+V174+X174+Z174+AB174+AD174+AF174+AH174+AJ174","v":0},null,null,null,null,null,null,null,null,null,null,null,null,null,null,null,null,null,null,null,null,null,null,null,null,null,null,null,null,null,null,null,null,null,null,null,null,null,null,null,null,null,null,null,null,null,null,"",null,null,null,null,null,null,null,null,null,null,null,null,null,null,null,null,null,null,null,null,null,null,null,null,null,null,null,"","","","","","","","","",null,null,null,null,null,null,null,null,null,null,null,null,null,"","",null,null,0,0,0,0,0,0,0,0,0,null,null,null,null,null,null,null,null,null,null,null,null,null,0,0]
["PAREJA SERODISCORDANTE",null,{"$f":"+O175+Q175+S175+U175+W175+Y175+AA175+AC175+AE175+AG175+AI175","v":0},0,null,null,null,null,null,null,null,null,null,null,null,null,null,null,null,null,null,null,null,null,null,null,null,null,null,null,null,null,null,null,null,null,null,null,null,null,null,null,null,null,null,null,null,null,null,null,"",null,null,null,null,null,null,null,null,null,null,null,null,null,null,null,null,null,null,null,null,null,null,null,null,null,null,null,"","","","","","","","","",null,null,null,null,null,null,null,null,null,null,null,null,null,"","",null,null,0,0,0,0,0,0,0,0,0,null,null,null,null,null,null,null,null,null,null,null,null,null,0,0]
["PAREJA DE GESTANTE VIH POSITIVO",null,0,0,null,null,null,null,null,null,null,null,null,null,null,null,null,null,null,null,null,null,null,null,null,null,null,null,null,null,null,null,null,null,null,null,null,null,null,null,null,null,null,null,null,null,null,null,null,null,"",null,null,null,null,null,null,null,null,null,null,null,null,null,null,null,null,null,null,null,null,null,null,null,null,null,null,null,"","","","","","","","","",null,null,null,null,null,null,null,null,null,null,null,null,null,"","",null,null,0,0,0,0,0,0,0,0,0,null,null,null,null,null,null,null,null,null,null,null,null,null,0,0]
["PERSONAL DE SALUD EXPUESTO A ACCIDENTE CORTOPUNZANTE",null,0,0,null,null,null,null,null,null,null,null,null,null,null,null,null,null,null,null,null,null,null,null,null,null,null,null,null,null,null,null,null,null,null,null,null,null,null,null,null,null,null,null,null,null,null,null,null,null,"",null,null,null,null,null,null,null,null,null,null,null,null,null,null,null,null,null,null,null,null,null,null,null,null,null,null,null,"","","","","","","","","",null,null,null,null,null,null,null,null,null,null,null,null,null,"","",null,null,0,0,0,0,0,0,0,0,0,null,null,null,null,null,null,null,null,null,null,null,null,null,{"$f":"IF(AND(C177<>0,OR(AO177=\"\",AQ177=\"\",AS177=\"\",AU177=\"\")),1,0)","v":0},0]
["PACIENTES FUENTE DE ACCIDENTE CORTOPUNZANTE",null,{"$f":"+E178+G178+I178+K178+M178+O178+Q178+S178+U178+W178+Y178+AA178+AC178+AE178+AG178+AI178","v":0},0,null,null,null,null,null,null,null,null,null,null,null,null,null,null,null,null,null,null,null,null,null,null,null,null,null,null,null,null,null,null,null,null,null,null,null,null,null,null,null,null,null,null,null,null,null,null,"",null,null,null,null,null,null,null,null,null,null,null,null,null,null,null,null,null,null,null,null,null,null,null,null,null,null,null,"","","","","","","","","",null,null,null,null,null,null,null,null,null,null,null,null,null,"","",null,null,0,0,0,0,0,0,0,0,0,null,null,null,null,null,null,null,null,null,null,null,null,null,0,0]
["PERSONA EN CONTROL POR HEPATITIS B",null,0,0,null,null,null,null,null,null,null,null,null,null,null,null,null,null,null,null,null,null,null,null,null,null,null,null,null,null,null,null,null,null,null,null,null,null,null,null,null,null,null,null,null,null,null,null,null,null,"",null,null,null,null,null,null,null,null,null,null,null,null,null,null,null,null,null,null,null,null,null,null,null,null,null,null,null,"","","","","","","","","",null,null,null,null,null,null,null,null,null,null,null,null,null,"","",null,null,0,0,0,0,0,0,0,0,0,null,null,null,null,null,null,null,null,null,null,null,null,null,0,0]
["PERSONA EN CONTROL POR HEPATITIS C",null,0,0,null,null,null,null,null,null,null,null,null,null,null,null,null,null,null,null,null,null,null,null,null,null,null,null,null,null,null,null,null,null,null,null,null,null,null,null,null,null,null,null,null,null,null,null,null,null,"",null,null,null,null,null,null,null,null,null,null,null,null,null,null,null,null,null,null,null,null,null,null,null,null,null,null,null,"","","","","","","","","",null,null,null,null,null,null,null,null,null,null,null,null,null,"","",null,null,0,0,0,0,0,0,0,0,0,null,null,null,null,null,null,null,null,null,null,null,null,null,0,0]
["CONSULTANTES POR MORBILIDAD",null,0,0,null,null,null,null,null,null,null,null,null,null,null,null,null,null,null,null,null,null,null,null,null,null,null,null,null,null,null,null,null,null,null,null,null,null,null,null,null,null,null,null,null,null,null,null,null,null,"",null,null,null,null,null,null,null,null,null,null,null,null,null,null,null,null,null,null,null,null,null,null,null,null,null,null,null,"","","","","","","","","",null,null,null,null,null,null,null,null,null,null,null,null,null,"","",null,null,0,0,0,0,0,0,0,0,0,null,null,null,null,null,null,null,null,null,null,null,null,null,0,0]
["POR CONSULTA ESPONTÁNEA",null,0,0,null,null,null,null,null,null,null,null,null,null,null,null,null,null,null,null,null,null,null,null,null,null,null,null,null,null,null,null,null,null,null,null,null,null,null,null,null,null,null,null,null,null,null,null,null,null,"",null,null,null,null,null,null,null,null,null,null,null,null,null,null,null,null,null,null,null,null,null,null,null,null,null,null,null,"","","","","","","","","",null,null,null,null,null,null,null,null,null,null,null,null,null,"","",null,null,0,0,0,0,0,0,0,0,0,null,null,null,null,null,null,null,null,null,null,null,null,null,0,0]
["SECCIÓN C.2: EXÁMENES  DE  VIH POR GRUPOS DE USUARIOS (Uso exclusivo de establecimientos que Compran Servicio)"]
["GRUPO DE USUARIOS",null,"TOTAL",null,"GRUPO DE EDAD (En años)",null,null,null,null,null,null,null,null,null,null,null,null,null,null,null,null,null,null,null,null,null,null,null,null,null,null,null,null,null,null,null,"POR SEXO",null,null,null,"TRANS",null,null,null,"Pueblos originarios",null,"Migrantes",null,"14-18 años"]
[null,null,null,null,"Menor de 12 meses",null,"12-24 meses",null,"3 a 4 años",null,"5 a 9 años",null,"10 a 14 años",null,"15 a 19 años",null,"20 a 24 años",null,"25 a 29 años",null,"30 a 34 años",null,"35 a 39 años",null,"40 a 44 años",null,"45 a 49 años",null,"50 a 54 años",null,"55 a 59 años",null,"60 a 64 años",null," 65 y más años",null,"Hombres",null,"Mujeres",null,"Femenino",null,"Masculino"]
[null,null,"Procesados","Confirmados positivos por ISP","Procesados","Confirmados positivos por ISP","Procesados","Confirmados positivos por ISP","Procesados","Confirmados positivos por ISP","Procesados","Confirmados positivos por ISP","Procesados","Confirmados positivos por ISP","Procesados","Confirmados positivos por ISP","Procesados","Confirmados positivos por ISP","Procesados","Confirmados positivos por ISP","Procesados","Confirmados positivos por ISP","Procesados","Confirmados positivos por ISP","Procesados","Confirmados positivos por ISP","Procesados","Confirmados positivos por ISP","Procesados","Confirmados positivos por ISP","Procesados","Confirmados positivos por ISP","Procesados","Confirmados positivos por ISP","Procesados","Confirmados positivos por ISP","Procesados","Confirmados positivos por ISP","Procesados","Confirmados positivos por ISP","Procesados","Confirmados positivos por ISP","Procesados","Confirmados positivos por ISP","Procesados","Confirmados positivos por ISP","Procesados","Confirmados positivos por ISP","Procesados","Confirmados positivos por ISP"]
["GESTANTES PRIMER EXAMEN",null,{"$f":"+M187+O187+Q187+S187+U187+W187+Y187+AA187+AC187+AE187","v":0},0,null,null,null,null,null,null,null,null,null,null,null,null,null,null,null,null,null,null,null,null,null,null,null,null,null,null,null,null,null,null,null,null,null,null,null,null,null,null,null,null,null,null,null,null,null,null,{"$f":"$CA187&$CB187&$CC187&$CD187&$CE187&$CF187&$CG187&$CH187&$CI187&$CJ187&$CK187&$CL187&$CM187&$CN187&$CO187&$CP187&$CQ187&$CR187&$CS187&$CT187&$CU187&$CV187&$CW187&$CX187&$CY187&$CZ187","v":""},null,null,null,null,null,null,null,null,null,null,null,null,null,null,null,null,null,null,null,null,null,null,null,null,null,null,null,{"$f":"IF(DA187=1,\" * El total de exámenes confirmados positivos por ISP NO DEBE SUPERAR el total de exámenes procesados. \",\"\")","v":""},{"$f":"IF(DB187=1,\" * La suma de exámenes procesados por sexo DEBE SER IGUAL al total de Procesados. \",\"\")","v":""},{"$f":"IF(DC187=1,\" * La suma de exámenes Confirmados positivos por ISP por sexo DEBE SER IGUAL al total de Procesados. \",\"\")","v":""},{"$f":"IF(DD187=1,\" * La suma de exámenes procesados Trans NO PUEDE Superar al total de Procesados. \",\"\")","v":""},{"$f":"IF(DE187=1,\" * La suma de exámenes confirmados positivos por ISP Trans NO PUEDE Superar al total de Procesados. \",\"\")","v":""},{"$f":"IF(DF187=1,\" * Los exámenes procesados de personas pertenecientes a Pueblos originarios NO PUEDE Superar al total de Procesados. \",\"\")","v":""},{"$f":"IF(DG187=1,\" * Los exámenes confirmados positivos por ISP de personas pertenecientes a Pueblos originarios NO PUEDE Superar al total de Procesados. \",\"\")","v":""},{"$f":"IF(DH187=1,\" * Los exámenes procesados de personas pertenecientes a Pueblos migrantes NO PUEDE Superar al total de Procesados. \",\"\")","v":""},{"$f":"IF(DI187=1,\" * Los exámenes confirmados positivos por ISP de personas pertenecientes a Pueblos Migrantes NO PUEDE Superar al total de Procesados. \",\"\")","v":""},null,null,null,null,null,null,null,null,null,null,null,null,null,{"$f":"IF(DW187=1,\"* No olvide digitar la columna Procesados Trans y/o Pueblos Originarios y/o Migrantes (Digite Cero si no tiene). \",\"\")","v":""},{"$f":"IF(DX187=1,\"* No olvide digitar la columna Confirmados Trans y/o Pueblos Originarios y/o Migrantes (Digite Cero si no tiene). \",\"\")","v":""},null,null,{"$f":"IF(C187<D187,1,0)","v":0},{"$f":"IF(C187<>(AK187+AM187),1,0)","v":0},{"$f":"IF(D187<>(AL187+AN187),1,0)","v":0},{"$f":"IF(C187<(AO187+AQ187),1,0)","v":0},{"$f":"IF(D187<(AP187+AR187),1,0)","v":0},{"$f":"IF($C187<AS187,1,0)","v":0},{"$f":"IF($D187<AT187,1,0)","v":0},{"$f":"IF($C187<AU187,1,0)","v":0},{"$f":"IF($D187<AV187,1,0)","v":0},null,null,null,null,null,null,null,null,null,null,null,null,null,{"$f":"IF(AND(C187<>0,OR(AO187=\"\",AQ187=\"\",AS187=\"\",AU187=\"\")),1,0)","v":0},0]
["GESTANTES SEGUNDO EXAMEN",null,0,0,null,null,null,null,null,null,null,null,null,null,null,null,null,null,null,null,null,null,null,null,null,null,null,null,null,null,null,null,null,null,null,null,null,null,null,null,null,null,null,null,null,null,null,null,null,null,"",null,null,null,null,null,null,null,null,null,null,null,null,null,null,null,null,null,null,null,null,null,null,null,null,null,null,null,{"$f":"IF(DA188=1,\" * El total de exámenes confirmados positivos por ISP NO DEBE SUPERAR el total de exámenes procesados. \",\"\")","v":""},{"$f":"IF(DB188=1,\" * La suma de exámenes procesados por sexo DEBE SER IGUAL al total de Procesados. \",\"\")","v":""},{"$f":"IF(DC188=1,\" * La suma de exámenes Confirmados positivos por ISP por sexo DEBE SER IGUAL al total de Procesados. \",\"\")","v":""},{"$f":"IF(DD188=1,\" * La suma de exámenes procesados Trans NO PUEDE Superar al total de Procesados. \",\"\")","v":""},{"$f":"IF(DE188=1,\" * La suma de exámenes confirmados positivos por ISP Trans NO PUEDE Superar al total de Procesados. \",\"\")","v":""},{"$f":"IF(DF188=1,\" * Los exámenes procesados de personas pertenecientes a Pueblos originarios NO PUEDE Superar al total de Procesados. \",\"\")","v":""},{"$f":"IF(DG188=1,\" * Los exámenes confirmados positivos por ISP de personas pertenecientes a Pueblos originarios NO PUEDE Superar al total de Procesados. \",\"\")","v":""},{"$f":"IF(DH188=1,\" * Los exámenes procesados de personas pertenecientes a Pueblos migrantes NO PUEDE Superar al total de Procesados. \",\"\")","v":""},{"$f":"IF(DI188=1,\" * Los exámenes confirmados positivos por ISP de personas pertenecientes a Pueblos Migrantes NO PUEDE Superar al total de Procesados. \",\"\")","v":""},null,null,null,null,null,null,null,null,null,null,null,null,null,"","",null,null,{"$f":"IF(C188<D188,1,0)","v":0},{"$f":"IF(C188<>(AK188+AM188),1,0)","v":0},{"$f":"IF(D188<>(AL188+AN188),1,0)","v":0},{"$f":"IF(C188<(AO188+AQ188),1,0)","v":0},{"$f":"IF(D188<(AP188+AR188),1,0)","v":0},{"$f":"IF($C188<AS188,1,0)","v":0},{"$f":"IF($D188<AT188,1,0)","v":0},{"$f":"IF($C188<AU188,1,0)","v":0},{"$f":"IF($D188<AV188,1,0)","v":0},null,null,null,null,null,null,null,null,null,null,null,null,null,0,0]
["MUJER EN TRABAJO DE PRE PARTO O PARTO",null,0,0,null,null,null,null,null,null,null,null,null,null,null,null,null,null,null,null,null,null,null,null,null,null,null,null,null,null,null,null,null,null,null,null,null,null,null,null,null,null,null,null,null,null,null,null,null,null,"",null,null,null,null,null,null,null,null,null,null,null,null,null,null,null,null,null,null,null,null,null,null,null,null,null,null,null,"","","","","","","","","",null,null,null,null,null,null,null,null,null,null,null,null,null,"","",null,null,0,0,0,0,0,0,0,0,0,null,null,null,null,null,null,null,null,null,null,null,null,null,0,0]
["PERSONAS EN CONTROL POR COMERCIO SEXUAL",null,{"$f":"+O190+Q190+S190+U190+W190+Y190+AA190+AC190+AE190+AG190+AI190","v":0},{"$f":"+P190+R190+T190+V190+X190+Z190+AB190+AD190+AF190+AH190+AJ190","v":0},null,null,null,null,null,null,null,null,null,null,null,null,null,null,null,null,null,null,null,null,null,null,null,null,null,null,null,null,null,null,null,null,null,null,null,null,null,null,null,null,null,null,null,null,null,null,"",null,null,null,null,null,null,null,null,null,null,null,null,null,null,null,null,null,null,null,null,null,null,null,null,null,null,null,"","","","","","","","","",null,null,null,null,null,null,null,null,null,null,null,null,null,"","",null,null,0,0,0,0,0,0,0,0,0,null,null,null,null,null,null,null,null,null,null,null,null,null,0,0]
["PACIENTES EN DIÁLISIS",null,{"$f":"+E191+G191+I191+K191+M191+O191+Q191+S191+U191+W191+Y191+AA191+AC191+AE191+AG191+AI191","v":0},{"$f":"+F191+H191+J191+L191+N191+P191+R191+T191+V191+X191+Z191+AB191+AD191+AF191+AH191+AJ191","v":0},null,null,null,null,null,null,null,null,null,null,null,null,null,null,null,null,null,null,null,null,null,null,null,null,null,null,null,null,null,null,null,null,null,null,null,null,null,null,null,null,null,null,null,null,null,null,"",null,null,null,null,null,null,null,null,null,null,null,null,null,null,null,null,null,null,null,null,null,null,null,null,null,null,null,"","","","","","","","","",null,null,null,null,null,null,null,null,null,null,null,null,null,"","",null,null,0,0,0,0,0,0,0,0,0,null,null,null,null,null,null,null,null,null,null,null,null,null,0,0]
["POR CONSULTA ITS",null,{"$f":"+E192+G192+I192+K192+M192+O192+Q192+S192+U192+W192+Y192+AA192+AC192+AE192+AG192+AI192","v":0},{"$f":"+F192+H192+J192+L192+N192+P192+R192+T192+V192+X192+Z192+AB192+AD192+AF192+AH192+AJ192","v":0},null,null,null,null,null,null,null,null,null,null,null,null,null,null,null,null,null,null,null,null,null,null,null,null,null,null,null,null,null,null,null,null,null,null,null,null,null,null,null,null,null,null,null,null,null,null,"",null,null,null,null,null,null,null,null,null,null,null,null,null,null,null,null,null,null,null,null,null,null,null,null,null,null,null,"","","","","","","","","",null,null,null,null,null,null,null,null,null,null,null,null,null,"","",null,null,0,0,0,0,0,0,0,0,0,null,null,null,null,null,null,null,null,null,null,null,null,null,0,0]
["PERSONAS EN CONTROL DE REGULACIÓN FECUNDIDAD, GINECOLOGICO, CLIMATERIO",null,{"$f":"+O193+Q193+S193+U193+W193+Y193+AA193+AC193+AE193+AG193+AI193","v":0},{"$f":"+P193+R193+T193+V193+X193+Z193+AB193+AD193+AF193+AH193+AJ193","v":0},null,null,null,null,null,null,null,null,null,null,null,null,null,null,null,null,null,null,null,null,null,null,null,null,null,null,null,null,null,null,null,null,null,null,null,null,null,null,null,null,null,null,null,null,null,null,"",null,null,null,null,null,null,null,null,null,null,null,null,null,null,null,null,null,null,null,null,null,null,null,null,null,null,null,"","","","","","","","","",null,null,null,null,null,null,null,null,null,null,null,null,null,"","",null,null,0,0,0,0,0,0,0,0,0,null,null,null,null,null,null,null,null,null,null,null,null,null,0,0]
["PERSONAS EMP/EMPAM ",null,{"$f":"+O194+Q194+S194+U194+W194+Y194+AA194+AC194+AE194+AG194+AI194","v":0},{"$f":"+P194+R194+T194+V194+X194+Z194+AB194+AD194+AF194+AH194+AJ194","v":0},null,null,null,null,null,null,null,null,null,null,null,null,null,null,null,null,null,null,null,null,null,null,null,null,null,null,null,null,null,null,null,null,null,null,null,null,null,null,null,null,null,null,null,null,null,null,"",null,null,null,null,null,null,null,null,null,null,null,null,null,null,null,null,null,null,null,null,null,null,null,null,null,null,null,"","","","","","","","","",null,null,null,null,null,null,null,null,null,null,null,null,null,"","",null,null,0,0,0,0,0,0,0,0,0,null,null,null,null,null,null,null,null,null,null,null,null,null,0,0]
["PERSONAS EN CONTROL DE SALUD SEGÚN CICLO VITAL",null,{"$f":"+E195+G195+I195+K195+M195+O195+Q195+S195+U195+W195+Y195+AA195+AC195+AE195+AG195+AI195","v":0},{"$f":"+F195+H195+J195+L195+N195+P195+R195+T195+V195+X195+Z195+AB195+AD195+AF195+AH195+AJ195","v":0},null,null,null,null,null,null,null,null,null,null,null,null,null,null,null,null,null,null,null,null,null,null,null,null,null,null,null,null,null,null,null,null,null,null,null,null,null,null,null,null,null,null,null,null,null,null,"",null,null,null,null,null,null,null,null,null,null,null,null,null,null,null,null,null,null,null,null,null,null,null,null,null,null,null,"","","","","","","","","",null,null,null,null,null,null,null,null,null,null,null,null,null,"","",null,null,0,0,0,0,0,0,0,0,0,null,null,null,null,null,null,null,null,null,null,null,null,null,0,0]
["DONANTES DE SANGRE","ALTRUISTA NUEVO",{"$f":"+O196+Q196+S196+U196+W196+Y196+AA196+AC196+AE196+AG196","v":0},0,null,null,null,null,null,null,null,null,null,null,null,null,null,null,null,null,null,null,null,null,null,null,null,null,null,null,null,null,null,null,null,null,null,null,null,null,null,null,null,null,null,null,null,null,null,null,"",null,null,null,null,null,null,null,null,null,null,null,null,null,null,null,null,null,null,null,null,null,null,null,null,null,null,null,"","","","","","","","","",null,null,null,null,null,null,null,null,null,null,null,null,null,"","",null,null,0,0,0,0,0,0,0,0,0,null,null,null,null,null,null,null,null,null,null,null,null,null,0,0]
[null,"ALTRUISTA REPETIDO",0,0,null,null,null,null,null,null,null,null,null,null,null,null,null,null,null,null,null,null,null,null,null,null,null,null,null,null,null,null,null,null,null,null,null,null,null,null,null,null,null,null,null,null,null,null,null,null,"",null,null,null,null,null,null,null,null,null,null,null,null,null,null,null,null,null,null,null,null,null,null,null,null,null,null,null,"","","","","","","","","",null,null,null,null,null,null,null,null,null,null,null,null,null,"","",null,null,0,0,0,0,0,0,0,0,0,null,null,null,null,null,null,null,null,null,null,null,null,null,0,0]
[null,"FAMILIAR O REPOSICIÓN",0,0,null,null,null,null,null,null,null,null,null,null,null,null,null,null,null,null,null,null,null,null,null,null,null,null,null,null,null,null,null,null,null,null,null,null,null,null,null,null,null,null,null,null,null,null,null,null,"",null,null,null,null,null,null,null,null,null,null,null,null,null,null,null,null,null,null,null,null,null,null,null,null,null,null,null,"","","","","","","","","",null,null,null,null,null,null,null,null,null,null,null,null,null,"","",null,null,0,0,0,0,0,0,0,0,0,null,null,null,null,null,null,null,null,null,null,null,null,null,0,0]
["DONANTES DE ÓRGANOS Y/O TEJIDOS",null,{"$f":"+E199+G199+I199+K199+M199+O199+Q199+S199+U199+W199+Y199+AA199+AC199+AE199+AG199+AI199","v":0},0,null,null,null,null,null,null,null,null,null,null,null,null,null,null,null,null,null,null,null,null,null,null,null,null,null,null,null,null,null,null,null,null,null,null,null,null,null,null,null,null,null,null,null,null,null,null,"",null,null,null,null,null,null,null,null,null,null,null,null,null,null,null,null,null,null,null,null,null,null,null,null,null,null,null,"","","","","","","","","",null,null,null,null,null,null,null,null,null,null,null,null,null,"","",null,null,0,0,0,0,0,0,0,0,0,null,null,null,null,null,null,null,null,null,null,null,null,null,0,0]
["PERSONA EN CONTROL POR TBC",null,0,0,null,null,null,null,null,null,null,null,null,null,null,null,null,null,null,null,null,null,null,null,null,null,null,null,null,null,null,null,null,null,null,null,null,null,null,null,null,null,null,null,null,null,null,null,null,null,"",null,null,null,null,null,null,null,null,null,null,null,null,null,null,null,null,null,null,null,null,null,null,null,null,null,null,null,"","","","","","","","","",null,null,null,null,null,null,null,null,null,null,null,null,null,"","",null,null,0,0,0,0,0,0,0,0,0,null,null,null,null,null,null,null,null,null,null,null,null,null,0,0]
["VÍCTIMA DE VIOLENCIA SEXUAL",null,0,0,null,null,null,null,null,null,null,null,null,null,null,null,null,null,null,null,null,null,null,null,null,null,null,null,null,null,null,null,null,null,null,null,null,null,null,null,null,null,null,null,null,null,null,null,null,null,"",null,null,null,null,null,null,null,null,null,null,null,null,null,null,null,null,null,null,null,null,null,null,null,null,null,null,null,"","","","","","","","","",null,null,null,null,null,null,null,null,null,null,null,null,null,"","",null,null,0,0,0,0,0,0,0,0,0,null,null,null,null,null,null,null,null,null,null,null,null,null,0,0]
["PAREJA SERODISCORDANTE",null,{"$f":"+O202+Q202+S202+U202+W202+Y202+AA202+AC202+AE202+AG202+AI202","v":0},{"$f":"+P202+R202+T202+V202+X202+Z202+AB202+AD202+AF202+AH202+AJ202","v":0},null,null,null,null,null,null,null,null,null,null,null,null,null,null,null,null,null,null,null,null,null,null,null,null,null,null,null,null,null,null,null,null,null,null,null,null,null,null,null,null,null,null,null,null,null,null,"",null,null,null,null,null,null,null,null,null,null,null,null,null,null,null,null,null,null,null,null,null,null,null,null,null,null,null,"","","","","","","","","",null,null,null,null,null,null,null,null,null,null,null,null,null,"","",null,null,0,0,0,0,0,0,0,0,0,null,null,null,null,null,null,null,null,null,null,null,null,null,0,0]
["PAREJA DE GESTANTE VIH POSITIVO",null,{"$f":"+O203+Q203+S203+U203+W203+Y203+AA203+AC203+AE203+AG203+AI203","v":0},{"$f":"+P203+R203+T203+V203+X203+Z203+AB203+AD203+AF203+AH203+AJ203","v":0},null,null,null,null,null,null,null,null,null,null,null,null,null,null,null,null,null,null,null,null,null,null,null,null,null,null,null,null,null,null,null,null,null,null,null,null,null,null,null,null,null,null,null,null,null,null,"",null,null,null,null,null,null,null,null,null,null,null,null,null,null,null,null,null,null,null,null,null,null,null,null,null,null,null,"","","","","","","","","",null,null,null,null,null,null,null,null,null,null,null,null,null,"","",null,null,0,0,0,0,0,0,0,0,0,null,null,null,null,null,null,null,null,null,null,null,null,null,{"$f":"IF(AND(C203<>0,OR(AO203=\"\",AQ203=\"\",AS203=\"\",AU203=\"\")),1,0)","v":0},0]
["PERSONAL DE SALUD EXPUESTO A ACCIDENTE CORTOPUNZANTE",null,0,0,null,null,null,null,null,null,null,null,null,null,null,null,null,null,null,null,null,null,null,null,null,null,null,null,null,null,null,null,null,null,null,null,null,null,null,null,null,null,null,null,null,null,null,null,null,null,"",null,null,null,null,null,null,null,null,null,null,null,null,null,null,null,null,null,null,null,null,null,null,null,null,null,null,null,"","","","","","","","","",null,null,null,null,null,null,null,null,null,null,null,null,null,"","",null,null,0,0,0,0,0,0,0,0,0,null,null,null,null,null,null,null,null,null,null,null,null,null,0,0]
["PACIENTES FUENTE DE ACCIDENTE CORTOPUNZANTE",null,{"$f":"+E205+G205+I205+K205+M205+O205+Q205+S205+U205+W205+Y205+AA205+AC205+AE205+AG205+AI205","v":0},0,null,null,null,null,null,null,null,null,null,null,null,null,null,null,null,null,null,null,null,null,null,null,null,null,null,null,null,null,null,null,null,null,null,null,null,null,null,null,null,null,null,null,null,null,null,null,"",null,null,null,null,null,null,null,null,null,null,null,null,null,null,null,null,null,null,null,null,null,null,null,null,null,null,null,"","","","","","","","","",null,null,null,null,null,null,null,null,null,null,null,null,null,"","",null,null,0,0,0,0,0,0,0,0,0,null,null,null,null,null,null,null,null,null,null,null,null,null,0,0]
["PERSONA EN CONTROL POR HEPATITIS B",null,0,0,null,null,null,null,null,null,null,null,null,null,null,null,null,null,null,null,null,null,null,null,null,null,null,null,null,null,null,null,null,null,null,null,null,null,null,null,null,null,null,null,null,null,null,null,null,null,"",null,null,null,null,null,null,null,null,null,null,null,null,null,null,null,null,null,null,null,null,null,null,null,null,null,null,null,"","","","","","","","","",null,null,null,null,null,null,null,null,null,null,null,null,null,"","",null,null,0,0,0,0,0,0,0,0,0,null,null,null,null,null,null,null,null,null,null,null,null,null,0,0]
["PERSONA EN CONTROL POR HEPATITIS C",null,0,0,null,null,null,null,null,null,null,null,null,null,null,null,null,null,null,null,null,null,null,null,null,null,null,null,null,null,null,null,null,null,null,null,null,null,null,null,null,null,null,null,null,null,null,null,null,null,"",null,null,null,null,null,null,null,null,null,null,null,null,null,null,null,null,null,null,null,null,null,null,null,null,null,null,null,"","","","","","","","","",null,null,null,null,null,null,null,null,null,null,null,null,null,"","",null,null,0,0,0,0,0,0,0,0,0,null,null,null,null,null,null,null,null,null,null,null,null,null,0,0]
["CONSULTANTES POR MORBILIDAD",null,0,0,null,null,null,null,null,null,null,null,null,null,null,null,null,null,null,null,null,null,null,null,null,null,null,null,null,null,null,null,null,null,null,null,null,null,null,null,null,null,null,null,null,null,null,null,null,null,"",null,null,null,null,null,null,null,null,null,null,null,null,null,null,null,null,null,null,null,null,null,null,null,null,null,null,null,"","","","","","","","","",null,null,null,null,null,null,null,null,null,null,null,null,null,"","",null,null,0,0,0,0,0,0,0,0,0,null,null,null,null,null,null,null,null,null,null,null,null,null,0,0]
["POR CONSULTA ESPONTÁNEA",null,0,0,null,null,null,null,null,null,null,null,null,null,null,null,null,null,null,null,null,null,null,null,null,null,null,null,null,null,null,null,null,null,null,null,null,null,null,null,null,null,null,null,null,null,null,null,null,null,"",null,null,null,null,null,null,null,null,null,null,null,null,null,null,null,null,null,null,null,null,null,null,null,null,null,null,null,{"$f":"IF(DA209=1,\" * El total de exámenes confirmados positivos por ISP NO DEBE SUPERAR el total de exámenes procesados. \",\"\")","v":""},{"$f":"IF(DB209=1,\" * La suma de exámenes procesados por sexo DEBE SER IGUAL al total de Procesados. \",\"\")","v":""},{"$f":"IF(DC209=1,\" * La suma de exámenes Confirmados positivos por ISP por sexo DEBE SER IGUAL al total de Procesados. \",\"\")","v":""},{"$f":"IF(DD209=1,\" * La suma de exámenes procesados Trans NO PUEDE Superar al total de Procesados. \",\"\")","v":""},{"$f":"IF(DE209=1,\" * La suma de exámenes confirmados positivos por ISP Trans NO PUEDE Superar al total de Procesados. \",\"\")","v":""},{"$f":"IF(DF209=1,\" * Los exámenes procesados de personas pertenecientes a Pueblos originarios NO PUEDE Superar al total de Procesados. \",\"\")","v":""},{"$f":"IF(DG209=1,\" * Los exámenes confirmados positivos por ISP de personas pertenecientes a Pueblos originarios NO PUEDE Superar al total de Procesados. \",\"\")","v":""},{"$f":"IF(DH209=1,\" * Los exámenes procesados de personas pertenecientes a Pueblos migrantes NO PUEDE Superar al total de Procesados. \",\"\")","v":""},{"$f":"IF(DI209=1,\" * Los exámenes confirmados positivos por ISP de personas pertenecientes a Pueblos Migrantes NO PUEDE Superar al total de Procesados. \",\"\")","v":""},null,null,null,null,null,null,null,null,null,null,null,null,null,"","",null,null,0,0,0,0,0,0,0,0,0,null,null,null,null,null,null,null,null,null,null,null,null,null,0,0]
["SECCIÓN D: EXÁMENES DE GONORREA POR GRUPOS DE USUARIOS "]
["GRUPO DE USUARIOS","TOTAL",null,"GRUPO DE EDAD (En años)",null,null,null,null,null,null,null,null,null,null,null,null,null,null,null,null,null,null,null,null,null,null,null,null,null,null,null,null,null,null,null,null,null,"POR SEXO\n(Procesados)",null,"TRANS",null,"Pueblos Originarios","Migrantes"]
[null,null,null,"0 a 4 años",null,"5 a 9 años",null,"10 a 14 años",null,"15 a 19 años",null,"20 a 24 años",null,"25 a 29 años",null,"30 a 34 años",null,"35 a 39 años",null,"40 a 44 años",null,"45 a 49 años",null,"50 a 54 años",null,"55 a 59 años",null,"60 a 64 años",null,"65 a 69 años",null,"70 a 74 años",null,"75 a 79 años",null,"80 y más años",null,"Hombres","Mujeres","Masculino","Femenino"]
[null,"Procesados","Reactivos","Procesados","Reactivos","Procesados","Reactivos","Procesados","Reactivos","Procesados","Reactivos","Procesados","Reactivos","Procesados","Reactivos","Procesados","Reactivos","Procesados","Reactivos","Procesados","Reactivos","Procesados","Reactivos","Procesados","Reactivos","Procesados","Reactivos","Procesados","Reactivos","Procesados","Reactivos","Procesados","Reactivos","Procesados","Reactivos","Procesados","Reactivos"]
["GESTANTES",{"$f":"SUM(D214+F214+H214+J214+L214+N214+P214+R214+T214+V214+X214+Z214+AB214+AD214+AF214+AH214+AJ214)","v":0},{"$f":"SUM(E214+G214+I214+K214+M214+O214+Q214+S214+U214+W214+Y214+AA214+AC214+AE214+AG214+AI214+AK214)","v":0},null,null,null,null,null,null,null,null,null,null,null,null,null,null,null,null,null,null,null,null,null,null,null,null,null,null,null,null,null,null,null,null,null,null,null,null,null,null,null,null,null,null,null,null,null,null,null,null,null,null,null,null,null,null,null,null,null,null,null,null,null,null,null,null,null,null,null,null,null,null,null,null,null,null,null,{"$f":"IF(B214<   C214,\"* El total de Reactivos NO DEBE ser superior al total de Procesados. \",\"\")","v":""},{"$f":"IF(B214<> AL214+ AM214,\"* La suma de las columnas Sexo DEBE SER IGUAL a los Procesados. \",\"\")","v":""},{"$f":"IF(B214<  AN214+ AO214,\"* La suma de las columna Trans NO DEBE ser superior al total de Procesados. \",\"\")","v":""},{"$f":"IF(B214<  AP214,\"* La columna Pueblos Originarios NO DEBE ser superior al total de Procesados. \",\"\")","v":""},{"$f":"IF(B214<  AQ214,\"* La columna Migrantes NO DEBE ser superior al total de Procesados. \",\"\")","v":""},{"$f":"IF(D214<E214,\"* Los exömenes Reactivos de  a_os NO DEBEN ser mayor a los Exömenes Procesados de la misma edad. \",\"\")","v":""},{"$f":"IF(F214<G214,\"* Los exömenes Reactivos de  a_os NO DEBEN ser mayor a los Exömenes Procesados de la misma edad. \",\"\")","v":""},{"$f":"IF(H214<I214,\"* Los exömenes Reactivos de  a_os NO DEBEN ser mayor a los Exömenes Procesados de la misma edad. \",\"\")","v":""},{"$f":"IF(J214<K214,\"* Los exömenes Reactivos de  a_os NO DEBEN ser mayor a los Exömenes Procesados de la misma edad. \",\"\")","v":""},{"$f":"IF(L214<M214,\"* Los exömenes Reactivos de  a_os NO DEBEN ser mayor a los Exömenes Procesados de la misma edad. \",\"\")","v":""},{"$f":"IF(N214<O214,\"* Los exömenes Reactivos de  a_os NO DEBEN ser mayor a los Exömenes Procesados de la misma edad. \",\"\")","v":""},{"$f":"IF(P214<Q214,\"* Los exömenes Reactivos de  a_os NO DEBEN ser mayor a los Exömenes Procesados de la misma edad. \",\"\")","v":""},{"$f":"IF(R214<S214,\"* Los exömenes Reactivos de  a_os NO DEBEN ser mayor a los Exömenes Procesados de la misma edad. \",\"\")","v":""},{"$f":"IF(T214<U214,\"* Los exömenes Reactivos de  a_os NO DEBEN ser mayor a los Exömenes Procesados de la misma edad. \",\"\")","v":""},{"$f":"IF(V214<W214,\"* Los exömenes Reactivos de  a_os NO DEBEN ser mayor a los Exömenes Procesados de la misma edad. \",\"\")","v":""},{"$f":"IF(X214<Y214,\"* Los exömenes Reactivos de  a_os NO DEBEN ser mayor a los Exömenes Procesados de la misma edad. \",\"\")","v":""},{"$f":"IF(Z214<AA214,\"* Los exömenes Reactivos de  a_os NO DEBEN ser mayor a los Exömenes Procesados de la misma edad. \",\"\")","v":""},{"$f":"IF(AB214<AC214,\"* Los exömenes Reactivos de  a_os NO DEBEN ser mayor a los Exömenes Procesados de la misma edad. \",\"\")","v":""},{"$f":"IF(AD214<AE214,\"* Los exömenes Reactivos de  a_os NO DEBEN ser mayor a los Exömenes Procesados de la misma edad. \",\"\")","v":""},{"$f":"IF(AF214<AG214,\"* Los exömenes Reactivos de  a_os NO DEBEN ser mayor a los Exömenes Procesados de la misma edad. \",\"\")","v":""},{"$f":"IF(AH214<AI214,\"* Los exömenes Reactivos de  a_os NO DEBEN ser mayor a los Exömenes Procesados de la misma edad. \",\"\")","v":""},{"$f":"IF(AJ214<AK214,\"* Los exömenes Reactivos de  a_os NO DEBEN ser mayor a los Exömenes Procesados de la misma edad. \",\"\")","v":""},null,null,null,null,{"$f":"IF(B214<   C214,1,0)","v":0},{"$f":"IF(B214<> AL214+AM214,1,0)","v":0},{"$f":"IF(B214<  AN214+AO214,1,0)","v":0},{"$f":"IF(B214<  AP214,1,0)","v":0},{"$f":"IF(B214<  AQ214,1,0)","v":0},{"$f":"IF(D214<E214,1,0)","v":0},{"$f":"IF(F214<G214,1,0)","v":0},{"$f":"IF(H214<I214,1,0)","v":0},{"$f":"IF(J214<K214,1,0)","v":0},{"$f":"IF(L214<M214,1,0)","v":0},{"$f":"IF(N214<O214,1,0)","v":0},{"$f":"IF(P214<Q214,1,0)","v":0},{"$f":"IF(R214<S214,1,0)","v":0},{"$f":"IF(T214<U214,1,0)","v":0},{"$f":"IF(V214<W214,1,0)","v":0},{"$f":"IF(X214<Y214,1,0)","v":0},{"$f":"IF(Z214<AA214,1,0)","v":0},{"$f":"IF(AB214<AC214,1,0)","v":0},{"$f":"IF(AD214<AE214,1,0)","v":0},{"$f":"IF(AF214<AG214,1,0)","v":0},{"$f":"IF(AH214<AI214,1,0)","v":0},{"$f":"IF(AJ214<AK214,1,0)","v":0},null,null,null,0]
["COMERCIO SEXUAL",0,0,null,null,null,null,null,null,null,null,null,null,null,null,null,null,null,null,null,null,null,null,null,null,null,null,null,null,null,null,null,null,null,null,null,null,null,null,null,null,null,null,null,null,null,null,null,null,null,null,null,null,null,null,null,null,null,null,null,null,null,null,null,null,null,null,null,null,null,null,null,null,null,null,null,null,null,{"$f":"IF(B215<   C215,\"* El total de Reactivos NO DEBE ser superior al total de Procesados. \",\"\")","v":""},{"$f":"IF(B215<> AL215+ AM215,\"* La suma de las columnas Sexo DEBE SER IGUAL a los Procesados. \",\"\")","v":""},{"$f":"IF(B215<  AN215+ AO215,\"* La suma de las columna Trans NO DEBE ser superior al total de Procesados. \",\"\")","v":""},{"$f":"IF(B215<  AP215,\"* La columna Pueblos Originarios NO DEBE ser superior al total de Procesados. \",\"\")","v":""},{"$f":"IF(B215<  AQ215,\"* La columna Migrantes NO DEBE ser superior al total de Procesados. \",\"\")","v":""},{"$f":"IF(D215<E215,\"* Los exömenes Reactivos de  a_os NO DEBEN ser mayor a los Exömenes Procesados de la misma edad. \",\"\")","v":""},{"$f":"IF(F215<G215,\"* Los exömenes Reactivos de  a_os NO DEBEN ser mayor a los Exömenes Procesados de la misma edad. \",\"\")","v":""},{"$f":"IF(H215<I215,\"* Los exömenes Reactivos de  a_os NO DEBEN ser mayor a los Exömenes Procesados de la misma edad. \",\"\")","v":""},{"$f":"IF(J215<K215,\"* Los exömenes Reactivos de  a_os NO DEBEN ser mayor a los Exömenes Procesados de la misma edad. \",\"\")","v":""},{"$f":"IF(L215<M215,\"* Los exömenes Reactivos de  a_os NO DEBEN ser mayor a los Exömenes Procesados de la misma edad. \",\"\")","v":""},{"$f":"IF(N215<O215,\"* Los exömenes Reactivos de  a_os NO DEBEN ser mayor a los Exömenes Procesados de la misma edad. \",\"\")","v":""},{"$f":"IF(P215<Q215,\"* Los exömenes Reactivos de  a_os NO DEBEN ser mayor a los Exömenes Procesados de la misma edad. \",\"\")","v":""},{"$f":"IF(R215<S215,\"* Los exömenes Reactivos de  a_os NO DEBEN ser mayor a los Exömenes Procesados de la misma edad. \",\"\")","v":""},{"$f":"IF(T215<U215,\"* Los exömenes Reactivos de  a_os NO DEBEN ser mayor a los Exömenes Procesados de la misma edad. \",\"\")","v":""},{"$f":"IF(V215<W215,\"* Los exömenes Reactivos de  a_os NO DEBEN ser mayor a los Exömenes Procesados de la misma edad. \",\"\")","v":""},{"$f":"IF(X215<Y215,\"* Los exömenes Reactivos de  a_os NO DEBEN ser mayor a los Exömenes Procesados de la misma edad. \",\"\")","v":""},{"$f":"IF(Z215<AA215,\"* Los exömenes Reactivos de  a_os NO DEBEN ser mayor a los Exömenes Procesados de la misma edad. \",\"\")","v":""},{"$f":"IF(AB215<AC215,\"* Los exömenes Reactivos de  a_os NO DEBEN ser mayor a los Exömenes Procesados de la misma edad. \",\"\")","v":""},{"$f":"IF(AD215<AE215,\"* Los exömenes Reactivos de  a_os NO DEBEN ser mayor a los Exömenes Procesados de la misma edad. \",\"\")","v":""},{"$f":"IF(AF215<AG215,\"* Los exömenes Reactivos de  a_os NO DEBEN ser mayor a los Exömenes Procesados de la misma edad. \",\"\")","v":""},{"$f":"IF(AH215<AI215,\"* Los exömenes Reactivos de  a_os NO DEBEN ser mayor a los Exömenes Procesados de la misma edad. \",\"\")","v":""},{"$f":"IF(AJ215<AK215,\"* Los exömenes Reactivos de  a_os NO DEBEN ser mayor a los Exömenes Procesados de la misma edad. \",\"\")","v":""},null,null,null,null,{"$f":"IF(B215<   C215,1,0)","v":0},{"$f":"IF(B215<> AL215+AM215,1,0)","v":0},{"$f":"IF(B215<  AN215+AO215,1,0)","v":0},{"$f":"IF(B215<  AP215,1,0)","v":0},{"$f":"IF(B215<  AQ215,1,0)","v":0},{"$f":"IF(D215<E215,1,0)","v":0},{"$f":"IF(F215<G215,1,0)","v":0},{"$f":"IF(H215<I215,1,0)","v":0},{"$f":"IF(J215<K215,1,0)","v":0},{"$f":"IF(L215<M215,1,0)","v":0},{"$f":"IF(N215<O215,1,0)","v":0},{"$f":"IF(P215<Q215,1,0)","v":0},{"$f":"IF(R215<S215,1,0)","v":0},{"$f":"IF(T215<U215,1,0)","v":0},{"$f":"IF(V215<W215,1,0)","v":0},{"$f":"IF(X215<Y215,1,0)","v":0},{"$f":"IF(Z215<AA215,1,0)","v":0},{"$f":"IF(AB215<AC215,1,0)","v":0},{"$f":"IF(AD215<AE215,1,0)","v":0},{"$f":"IF(AF215<AG215,1,0)","v":0},{"$f":"IF(AH215<AI215,1,0)","v":0},{"$f":"IF(AJ215<AK215,1,0)","v":0},null,null,null,0]
["PERSONAS VIH (+)",0,0,null,null,null,null,null,null,null,null,null,null,null,null,null,null,null,null,null,null,null,null,null,null,null,null,null,null,null,null,null,null,null,null,null,null,null,null,null,null,null,null,null,null,null,null,null,null,null,null,null,null,null,null,null,null,null,null,null,null,null,null,null,null,null,null,null,null,null,null,null,null,null,null,null,null,null,{"$f":"IF(B216<   C216,\"* El total de Reactivos NO DEBE ser superior al total de Procesados. \",\"\")","v":""},{"$f":"IF(B216<> AL216+ AM216,\"* La suma de las columnas Sexo DEBE SER IGUAL a los Procesados. \",\"\")","v":""},{"$f":"IF(B216<  AN216+ AO216,\"* La suma de las columna Trans NO DEBE ser superior al total de Procesados. \",\"\")","v":""},{"$f":"IF(B216<  AP216,\"* La columna Pueblos Originarios NO DEBE ser superior al total de Procesados. \",\"\")","v":""},{"$f":"IF(B216<  AQ216,\"* La columna Migrantes NO DEBE ser superior al total de Procesados. \",\"\")","v":""},{"$f":"IF(D216<E216,\"* Los exámenes Reactivos de 0 a 4 años años NO DEBEN ser mayor a los Exámenes Procesados de la misma edad. \",\"\")","v":""},{"$f":"IF(F216<G216,\"* Los exámenes Reactivos de 5 a 9 años años NO DEBEN ser mayor a los Exámenes Procesados de la misma edad. \",\"\")","v":""},{"$f":"IF(H216<I216,\"* Los exámenes Reactivos de 10 a 14 años años NO DEBEN ser mayor a los Exámenes Procesados de la misma edad. \",\"\")","v":""},{"$f":"IF(J216<K216,\"* Los exámenes Reactivos de 15 a 19 años años NO DEBEN ser mayor a los Exámenes Procesados de la misma edad. \",\"\")","v":""},{"$f":"IF(L216<M216,\"* Los exámenes Reactivos de 20 a 24 años años NO DEBEN ser mayor a los Exámenes Procesados de la misma edad. \",\"\")","v":""},{"$f":"IF(N216<O216,\"* Los exámenes Reactivos de 25 a 29 años años NO DEBEN ser mayor a los Exámenes Procesados de la misma edad. \",\"\")","v":""},{"$f":"IF(P216<Q216,\"* Los exámenes Reactivos de 30 a 34 años años NO DEBEN ser mayor a los Exámenes Procesados de la misma edad. \",\"\")","v":""},{"$f":"IF(R216<S216,\"* Los exámenes Reactivos de 35 a 39 años años NO DEBEN ser mayor a los Exámenes Procesados de la misma edad. \",\"\")","v":""},{"$f":"IF(T216<U216,\"* Los exámenes Reactivos de 40 a 44 años años NO DEBEN ser mayor a los Exámenes Procesados de la misma edad. \",\"\")","v":""},{"$f":"IF(V216<W216,\"* Los exámenes Reactivos de 45 a 49 años años NO DEBEN ser mayor a los Exámenes Procesados de la misma edad. \",\"\")","v":""},{"$f":"IF(X216<Y216,\"* Los exámenes Reactivos de 50 a 54 años años NO DEBEN ser mayor a los Exámenes Procesados de la misma edad. \",\"\")","v":""},{"$f":"IF(Z216<AA216,\"* Los exámenes Reactivos de 55 a 59 años años NO DEBEN ser mayor a los Exámenes Procesados de la misma edad. \",\"\")","v":""},{"$f":"IF(AB216<AC216,\"* Los exámenes Reactivos de 60 a 64 años años NO DEBEN ser mayor a los Exámenes Procesados de la misma edad. \",\"\")","v":""},{"$f":"IF(AD216<AE216,\"* Los exámenes Reactivos de 65 a 69 años años NO DEBEN ser mayor a los Exámenes Procesados de la misma edad. \",\"\")","v":""},{"$f":"IF(AF216<AG216,\"* Los exámenes Reactivos de 70 a 74 años años NO DEBEN ser mayor a los Exámenes Procesados de la misma edad. \",\"\")","v":""},{"$f":"IF(AH216<AI216,\"* Los exámenes Reactivos de 75 a 79 años años NO DEBEN ser mayor a los Exámenes Procesados de la misma edad. \",\"\")","v":""},{"$f":"IF(AJ216<AK216,\"* Los exámenes Reactivos de 80 y más años años NO DEBEN ser mayor a los Exámenes Procesados de la misma edad. \",\"\")","v":""},null,null,null,null,{"$f":"IF(B216<   C216,1,0)","v":0},{"$f":"IF(B216<> AL216+AM216,1,0)","v":0},{"$f":"IF(B216<  AN216+AO216,1,0)","v":0},{"$f":"IF(B216<  AP216,1,0)","v":0},{"$f":"IF(B216<  AQ216,1,0)","v":0},{"$f":"IF(D216<E216,1,0)","v":0},{"$f":"IF(F216<G216,1,0)","v":0},{"$f":"IF(H216<I216,1,0)","v":0},{"$f":"IF(J216<K216,1,0)","v":0},{"$f":"IF(L216<M216,1,0)","v":0},{"$f":"IF(N216<O216,1,0)","v":0},{"$f":"IF(P216<Q216,1,0)","v":0},{"$f":"IF(R216<S216,1,0)","v":0},{"$f":"IF(T216<U216,1,0)","v":0},{"$f":"IF(V216<W216,1,0)","v":0},{"$f":"IF(X216<Y216,1,0)","v":0},{"$f":"IF(Z216<AA216,1,0)","v":0},{"$f":"IF(AB216<AC216,1,0)","v":0},{"$f":"IF(AD216<AE216,1,0)","v":0},{"$f":"IF(AF216<AG216,1,0)","v":0},{"$f":"IF(AH216<AI216,1,0)","v":0},{"$f":"IF(AJ216<AK216,1,0)","v":0},null,null,null,0]
["CONSULTANTE ITS AMBULATORIO (nivel1º y 2º)",0,{"$f":"SUM(E217+G217+I217+K217+M217+O217+Q217+S217+U217+W217+Y217+AA217+AC217+AE217+AG217+AI217+AK217)","v":0},null,null,null,null,null,null,null,null,null,null,null,null,null,null,null,null,null,null,null,null,null,null,null,null,null,null,null,null,null,null,null,null,null,null,null,null,null,null,null,null,null,null,null,null,null,null,null,null,null,null,null,null,null,null,null,null,null,null,null,null,null,null,null,null,null,null,null,null,null,null,null,null,null,null,null,"","","","","","","","","","","","","","","","","","","","","","",null,null,null,null,0,0,0,0,0,0,0,0,0,0,0,0,0,0,0,0,0,0,0,0,0,0,null,null,null,0]
["CONSULTANTE ITS HOSPITALARIO (nivel 3º y urgencia)",0,{"$f":"SUM(E218+G218+I218+K218+M218+O218+Q218+S218+U218+W218+Y218+AA218+AC218+AE218+AG218+AI218+AK218)","v":0},null,null,null,null,null,null,null,null,null,null,null,null,null,null,null,null,null,null,null,null,null,null,null,null,null,null,null,null,null,null,null,null,null,null,null,null,null,null,null,null,null,null,null,null,null,null,null,null,null,null,null,null,null,null,null,null,null,null,null,null,null,null,null,null,null,null,null,null,null,null,null,null,null,null,null,"","","","","","","","","","","","","","","","","","","","","","",null,null,null,null,0,0,0,0,0,0,0,0,0,0,0,0,0,0,0,0,0,0,0,0,0,0,null,null,null,0]
["VICTIMA DE VIOLENCIA SEXUAL",0,0,null,null,null,null,null,null,null,null,null,null,null,null,null,null,null,null,null,null,null,null,null,null,null,null,null,null,null,null,null,null,null,null,null,null,null,null,null,null,null,null,null,null,null,null,null,null,null,null,null,null,null,null,null,null,null,null,null,null,null,null,null,null,null,null,null,null,null,null,null,null,null,null,null,null,null,"","","","","","","","","","","","","","","","","","","","","","",null,null,null,null,0,0,0,0,0,0,0,0,0,0,0,0,0,0,0,0,0,0,0,0,0,0,null,null,null,0]
["OTROS",0,0,null,null,null,null,null,null,null,null,null,null,null,null,null,null,null,null,null,null,null,null,null,null,null,null,null,null,null,null,null,null,null,null,null,null,null,null,null,null,null,null,null,null,null,null,null,null,null,null,null,null,null,null,null,null,null,null,null,null,null,null,null,null,null,null,null,null,null,null,null,null,null,null,null,null,null,"","","","","","","","","","","","","","","","","","","","","","",null,null,null,null,0,0,0,0,0,0,0,0,0,0,0,0,0,0,0,0,0,0,0,0,0,0,null,null,null,0]
["SECCIÓN E: EXÁMENES DE CHLAMYIDIA TRACHOMATIS POR GRUPOS DE USUARIOS "]
["GRUPO DE USUARIOS","TOTAL",null,"GRUPO DE EDAD (En años)",null,null,null,null,null,null,null,null,null,null,null,null,null,null,null,null,null,null,null,null,null,null,null,null,null,null,null,null,null,null,null,null,null,"POR SEXO\n(Procesados)",null,"TRANS",null,"Pueblos Originarios","Migrantes"]
[null,null,null,"0 a 4 años",null,"5 a 9 años",null,"10 a 14 años",null,"15 a 19 años",null,"20 a 24 años",null,"25 a 29 años",null,"30 a 34 años",null,"35 a 39 años",null,"40 a 44 años",null,"45 a 49 años",null,"50 a 54 años",null,"55 a 59 años",null,"60 a 64 años",null,"65 a 69 años",null,"70 a 74 años",null,"75 a 79 años",null,"80 y más años",null,"Hombres","Mujeres","Masculino","Femenino"]
[null,"Procesados","Reactivos","Procesados","Reactivos","Procesados","Reactivos","Procesados","Reactivos","Procesados","Reactivos","Procesados","Reactivos","Procesados","Reactivos","Procesados","Reactivos","Procesados","Reactivos","Procesados","Reactivos","Procesados","Reactivos","Procesados","Reactivos","Procesados","Reactivos","Procesados","Reactivos","Procesados","Reactivos","Procesados","Reactivos","Procesados","Reactivos","Procesados","Reactivos"]
["GESTANTES",{"$f":"SUM(D225+F225+H225+J225+L225+N225+P225+R225+T225+V225+X225+Z225+AB225+AD225+AF225+AH225+AJ225)","v":0},0,null,null,null,null,null,null,null,null,null,null,null,null,null,null,null,null,null,null,null,null,null,null,null,null,null,null,null,null,null,null,null,null,null,null,null,null,null,null,null,null,null,null,null,null,null,null,null,null,null,null,null,null,null,null,null,null,null,null,null,null,null,null,null,null,null,null,null,null,null,null,null,null,null,null,null,{"$f":"IF(B225<   C225,\"* El total de Reactivos NO DEBE ser superior al total de Procesados. \",\"\")","v":""},{"$f":"IF(B225<> AL225+ AM225,\"* La suma de las columnas Sexo DEBE SER IGUAL a los Procesados. \",\"\")","v":""},{"$f":"IF(B225<  AN225+ AO225,\"* La suma de las columna Trans NO DEBE ser superior al total de Procesados. \",\"\")","v":""},{"$f":"IF(B225<  AP225,\"* La columna Pueblos Originarios NO DEBE ser superior al total de Procesados. \",\"\")","v":""},{"$f":"IF(B225<  AQ225,\"* La columna Migrantes NO DEBE ser superior al total de Procesados. \",\"\")","v":""},{"$f":"IF(D225<E225,\"* Los exömenes Reactivos de  a_os NO DEBEN ser mayor a los Exömenes Procesados de la misma edad. \",\"\")","v":""},{"$f":"IF(F225<G225,\"* Los exömenes Reactivos de  a_os NO DEBEN ser mayor a los Exömenes Procesados de la misma edad. \",\"\")","v":""},{"$f":"IF(H225<I225,\"* Los exömenes Reactivos de  a_os NO DEBEN ser mayor a los Exömenes Procesados de la misma edad. \",\"\")","v":""},{"$f":"IF(J225<K225,\"* Los exömenes Reactivos de  a_os NO DEBEN ser mayor a los Exömenes Procesados de la misma edad. \",\"\")","v":""},{"$f":"IF(L225<M225,\"* Los exömenes Reactivos de  a_os NO DEBEN ser mayor a los Exömenes Procesados de la misma edad. \",\"\")","v":""},{"$f":"IF(N225<O225,\"* Los exömenes Reactivos de  a_os NO DEBEN ser mayor a los Exömenes Procesados de la misma edad. \",\"\")","v":""},{"$f":"IF(P225<Q225,\"* Los exömenes Reactivos de  a_os NO DEBEN ser mayor a los Exömenes Procesados de la misma edad. \",\"\")","v":""},{"$f":"IF(R225<S225,\"* Los exömenes Reactivos de  a_os NO DEBEN ser mayor a los Exömenes Procesados de la misma edad. \",\"\")","v":""},{"$f":"IF(T225<U225,\"* Los exömenes Reactivos de  a_os NO DEBEN ser mayor a los Exömenes Procesados de la misma edad. \",\"\")","v":""},{"$f":"IF(V225<W225,\"* Los exömenes Reactivos de  a_os NO DEBEN ser mayor a los Exömenes Procesados de la misma edad. \",\"\")","v":""},{"$f":"IF(X225<Y225,\"* Los exömenes Reactivos de  a_os NO DEBEN ser mayor a los Exömenes Procesados de la misma edad. \",\"\")","v":""},{"$f":"IF(Z225<AA225,\"* Los exömenes Reactivos de  a_os NO DEBEN ser mayor a los Exömenes Procesados de la misma edad. \",\"\")","v":""},{"$f":"IF(AB225<AC225,\"* Los exömenes Reactivos de  a_os NO DEBEN ser mayor a los Exömenes Procesados de la misma edad. \",\"\")","v":""},{"$f":"IF(AD225<AE225,\"* Los exömenes Reactivos de  a_os NO DEBEN ser mayor a los Exömenes Procesados de la misma edad. \",\"\")","v":""},{"$f":"IF(AF225<AG225,\"* Los exömenes Reactivos de  a_os NO DEBEN ser mayor a los Exömenes Procesados de la misma edad. \",\"\")","v":""},{"$f":"IF(AH225<AI225,\"* Los exömenes Reactivos de  a_os NO DEBEN ser mayor a los Exömenes Procesados de la misma edad. \",\"\")","v":""},{"$f":"IF(AJ225<AK225,\"* Los exömenes Reactivos de  a_os NO DEBEN ser mayor a los Exömenes Procesados de la misma edad. \",\"\")","v":""},null,null,null,null,null,null,null,null,null,{"$f":"IF(D225<E225,1,0)","v":0},{"$f":"IF(F225<G225,1,0)","v":0},{"$f":"IF(H225<I225,1,0)","v":0},{"$f":"IF(J225<K225,1,0)","v":0},{"$f":"IF(L225<M225,1,0)","v":0},{"$f":"IF(N225<O225,1,0)","v":0},{"$f":"IF(P225<Q225,1,0)","v":0},{"$f":"IF(R225<S225,1,0)","v":0},{"$f":"IF(T225<U225,1,0)","v":0},{"$f":"IF(V225<W225,1,0)","v":0},{"$f":"IF(X225<Y225,1,0)","v":0},{"$f":"IF(Z225<AA225,1,0)","v":0},{"$f":"IF(AB225<AC225,1,0)","v":0},{"$f":"IF(AD225<AE225,1,0)","v":0},{"$f":"IF(AF225<AG225,1,0)","v":0},{"$f":"IF(AH225<AI225,1,0)","v":0},{"$f":"IF(AJ225<AK225,1,0)","v":0},null,null,null,0]
["COMERCIO SEXUAL",0,0,null,null,null,null,null,null,null,null,null,null,null,null,null,null,null,null,null,null,null,null,null,null,null,null,null,null,null,null,null,null,null,null,null,null,null,null,null,null,null,null,null,null,null,null,null,null,null,null,null,null,null,null,null,null,null,null,null,null,null,null,null,null,null,null,null,null,null,null,null,null,null,null,null,null,null,{"$f":"IF(B226<   C226,\"* El total de Reactivos NO DEBE ser superior al total de Procesados. \",\"\")","v":""},{"$f":"IF(B226<> AL226+ AM226,\"* La suma de las columnas Sexo DEBE SER IGUAL a los Procesados. \",\"\")","v":""},{"$f":"IF(B226<  AN226+ AO226,\"* La suma de las columna Trans NO DEBE ser superior al total de Procesados. \",\"\")","v":""},{"$f":"IF(B226<  AP226,\"* La columna Pueblos Originarios NO DEBE ser superior al total de Procesados. \",\"\")","v":""},{"$f":"IF(B226<  AQ226,\"* La columna Migrantes NO DEBE ser superior al total de Procesados. \",\"\")","v":""},{"$f":"IF(D226<E226,\"* Los exömenes Reactivos de  a_os NO DEBEN ser mayor a los Exömenes Procesados de la misma edad. \",\"\")","v":""},{"$f":"IF(F226<G226,\"* Los exömenes Reactivos de  a_os NO DEBEN ser mayor a los Exömenes Procesados de la misma edad. \",\"\")","v":""},{"$f":"IF(H226<I226,\"* Los exömenes Reactivos de  a_os NO DEBEN ser mayor a los Exömenes Procesados de la misma edad. \",\"\")","v":""},{"$f":"IF(J226<K226,\"* Los exömenes Reactivos de  a_os NO DEBEN ser mayor a los Exömenes Procesados de la misma edad. \",\"\")","v":""},{"$f":"IF(L226<M226,\"* Los exömenes Reactivos de  a_os NO DEBEN ser mayor a los Exömenes Procesados de la misma edad. \",\"\")","v":""},{"$f":"IF(N226<O226,\"* Los exömenes Reactivos de  a_os NO DEBEN ser mayor a los Exömenes Procesados de la misma edad. \",\"\")","v":""},{"$f":"IF(P226<Q226,\"* Los exömenes Reactivos de  a_os NO DEBEN ser mayor a los Exömenes Procesados de la misma edad. \",\"\")","v":""},{"$f":"IF(R226<S226,\"* Los exömenes Reactivos de  a_os NO DEBEN ser mayor a los Exömenes Procesados de la misma edad. \",\"\")","v":""},{"$f":"IF(T226<U226,\"* Los exömenes Reactivos de  a_os NO DEBEN ser mayor a los Exömenes Procesados de la misma edad. \",\"\")","v":""},{"$f":"IF(V226<W226,\"* Los exömenes Reactivos de  a_os NO DEBEN ser mayor a los Exömenes Procesados de la misma edad. \",\"\")","v":""},{"$f":"IF(X226<Y226,\"* Los exömenes Reactivos de  a_os NO DEBEN ser mayor a los Exömenes Procesados de la misma edad. \",\"\")","v":""},{"$f":"IF(Z226<AA226,\"* Los exömenes Reactivos de  a_os NO DEBEN ser mayor a los Exömenes Procesados de la misma edad. \",\"\")","v":""},{"$f":"IF(AB226<AC226,\"* Los exömenes Reactivos de  a_os NO DEBEN ser mayor a los Exömenes Procesados de la misma edad. \",\"\")","v":""},{"$f":"IF(AD226<AE226,\"* Los exömenes Reactivos de  a_os NO DEBEN ser mayor a los Exömenes Procesados de la misma edad. \",\"\")","v":""},{"$f":"IF(AF226<AG226,\"* Los exömenes Reactivos de  a_os NO DEBEN ser mayor a los Exömenes Procesados de la misma edad. \",\"\")","v":""},{"$f":"IF(AH226<AI226,\"* Los exömenes Reactivos de  a_os NO DEBEN ser mayor a los Exömenes Procesados de la misma edad. \",\"\")","v":""},{"$f":"IF(AJ226<AK226,\"* Los exömenes Reactivos de  a_os NO DEBEN ser mayor a los Exömenes Procesados de la misma edad. \",\"\")","v":""},null,null,null,null,null,null,null,null,null,{"$f":"IF(D226<E226,1,0)","v":0},{"$f":"IF(F226<G226,1,0)","v":0},{"$f":"IF(H226<I226,1,0)","v":0},{"$f":"IF(J226<K226,1,0)","v":0},{"$f":"IF(L226<M226,1,0)","v":0},{"$f":"IF(N226<O226,1,0)","v":0},{"$f":"IF(P226<Q226,1,0)","v":0},{"$f":"IF(R226<S226,1,0)","v":0},{"$f":"IF(T226<U226,1,0)","v":0},{"$f":"IF(V226<W226,1,0)","v":0},{"$f":"IF(X226<Y226,1,0)","v":0},{"$f":"IF(Z226<AA226,1,0)","v":0},{"$f":"IF(AB226<AC226,1,0)","v":0},{"$f":"IF(AD226<AE226,1,0)","v":0},{"$f":"IF(AF226<AG226,1,0)","v":0},{"$f":"IF(AH226<AI226,1,0)","v":0},{"$f":"IF(AJ226<AK226,1,0)","v":0},null,null,null,0]
["PERSONAS VIH (+)",0,0,null,null,null,null,null,null,null,null,null,null,null,null,null,null,null,null,null,null,null,null,null,null,null,null,null,null,null,null,null,null,null,null,null,null,null,null,null,null,null,null,null,null,null,null,null,null,null,null,null,null,null,null,null,null,null,null,null,null,null,null,null,null,null,null,null,null,null,null,null,null,null,null,null,null,null,{"$f":"IF(B227<   C227,\"* El total de Reactivos NO DEBE ser superior al total de Procesados. \",\"\")","v":""},{"$f":"IF(B227<> AL227+ AM227,\"* La suma de las columnas Sexo DEBE SER IGUAL a los Procesados. \",\"\")","v":""},{"$f":"IF(B227<  AN227+ AO227,\"* La suma de las columna Trans NO DEBE ser superior al total de Procesados. \",\"\")","v":""},{"$f":"IF(B227<  AP227,\"* La columna Pueblos Originarios NO DEBE ser superior al total de Procesados. \",\"\")","v":""},{"$f":"IF(B227<  AQ227,\"* La columna Migrantes NO DEBE ser superior al total de Procesados. \",\"\")","v":""},{"$f":"IF(D227<E227,\"* Los exámenes Reactivos de 0 a 4 años años NO DEBEN ser mayor a los Exámenes Procesados de la misma edad. \",\"\")","v":""},{"$f":"IF(F227<G227,\"* Los exámenes Reactivos de 5 a 9 años años NO DEBEN ser mayor a los Exámenes Procesados de la misma edad. \",\"\")","v":""},{"$f":"IF(H227<I227,\"* Los exámenes Reactivos de 10 a 14 años años NO DEBEN ser mayor a los Exámenes Procesados de la misma edad. \",\"\")","v":""},{"$f":"IF(J227<K227,\"* Los exámenes Reactivos de 15 a 19 años años NO DEBEN ser mayor a los Exámenes Procesados de la misma edad. \",\"\")","v":""},{"$f":"IF(L227<M227,\"* Los exámenes Reactivos de 20 a 24 años años NO DEBEN ser mayor a los Exámenes Procesados de la misma edad. \",\"\")","v":""},{"$f":"IF(N227<O227,\"* Los exámenes Reactivos de 25 a 29 años años NO DEBEN ser mayor a los Exámenes Procesados de la misma edad. \",\"\")","v":""},{"$f":"IF(P227<Q227,\"* Los exámenes Reactivos de 30 a 34 años años NO DEBEN ser mayor a los Exámenes Procesados de la misma edad. \",\"\")","v":""},{"$f":"IF(R227<S227,\"* Los exámenes Reactivos de 35 a 39 años años NO DEBEN ser mayor a los Exámenes Procesados de la misma edad. \",\"\")","v":""},{"$f":"IF(T227<U227,\"* Los exámenes Reactivos de 40 a 44 años años NO DEBEN ser mayor a los Exámenes Procesados de la misma edad. \",\"\")","v":""},{"$f":"IF(V227<W227,\"* Los exámenes Reactivos de 45 a 49 años años NO DEBEN ser mayor a los Exámenes Procesados de la misma edad. \",\"\")","v":""},{"$f":"IF(X227<Y227,\"* Los exámenes Reactivos de 50 a 54 años años NO DEBEN ser mayor a los Exámenes Procesados de la misma edad. \",\"\")","v":""},{"$f":"IF(Z227<AA227,\"* Los exámenes Reactivos de 55 a 59 años años NO DEBEN ser mayor a los Exámenes Procesados de la misma edad. \",\"\")","v":""},{"$f":"IF(AB227<AC227,\"* Los exámenes Reactivos de 60 a 64 años años NO DEBEN ser mayor a los Exámenes Procesados de la misma edad. \",\"\")","v":""},{"$f":"IF(AD227<AE227,\"* Los exámenes Reactivos de 65 a 69 años años NO DEBEN ser mayor a los Exámenes Procesados de la misma edad. \",\"\")","v":""},{"$f":"IF(AF227<AG227,\"* Los exámenes Reactivos de 70 a 74 años años NO DEBEN ser mayor a los Exámenes Procesados de la misma edad. \",\"\")","v":""},{"$f":"IF(AH227<AI227,\"* Los exámenes Reactivos de 75 a 79 años años NO DEBEN ser mayor a los Exámenes Procesados de la misma edad. \",\"\")","v":""},{"$f":"IF(AJ227<AK227,\"* Los exámenes Reactivos de 80 y más años años NO DEBEN ser mayor a los Exámenes Procesados de la misma edad. \",\"\")","v":""},null,null,null,null,null,null,null,null,null,{"$f":"IF(D227<E227,1,0)","v":0},{"$f":"IF(F227<G227,1,0)","v":0},{"$f":"IF(H227<I227,1,0)","v":0},{"$f":"IF(J227<K227,1,0)","v":0},{"$f":"IF(L227<M227,1,0)","v":0},{"$f":"IF(N227<O227,1,0)","v":0},{"$f":"IF(P227<Q227,1,0)","v":0},{"$f":"IF(R227<S227,1,0)","v":0},{"$f":"IF(T227<U227,1,0)","v":0},{"$f":"IF(V227<W227,1,0)","v":0},{"$f":"IF(X227<Y227,1,0)","v":0},{"$f":"IF(Z227<AA227,1,0)","v":0},{"$f":"IF(AB227<AC227,1,0)","v":0},{"$f":"IF(AD227<AE227,1,0)","v":0},{"$f":"IF(AF227<AG227,1,0)","v":0},{"$f":"IF(AH227<AI227,1,0)","v":0},{"$f":"IF(AJ227<AK227,1,0)","v":0},null,null,null,0]
["CONSULTANTE ITS AMBULATORIO (nivel1º y 2º)",0,0,null,null,null,null,null,null,null,null,null,null,null,null,null,null,null,null,null,null,null,null,null,null,null,null,null,null,null,null,null,null,null,null,null,null,null,null,null,null,null,null,null,null,null,null,null,null,null,null,null,null,null,null,null,null,null,null,null,null,null,null,null,null,null,null,null,null,null,null,null,null,null,null,null,null,null,{"$f":"IF(B228<   C228,\"* El total de Reactivos NO DEBE ser superior al total de Procesados. \",\"\")","v":""},{"$f":"IF(B228<> AL228+ AM228,\"* La suma de las columnas Sexo DEBE SER IGUAL a los Procesados. \",\"\")","v":""},{"$f":"IF(B228<  AN228+ AO228,\"* La suma de las columna Trans NO DEBE ser superior al total de Procesados. \",\"\")","v":""},{"$f":"IF(B228<  AP228,\"* La columna Pueblos Originarios NO DEBE ser superior al total de Procesados. \",\"\")","v":""},{"$f":"IF(B228<  AQ228,\"* La columna Migrantes NO DEBE ser superior al total de Procesados. \",\"\")","v":""},{"$f":"IF(D228<E228,\"* Los exámenes Reactivos de 0 a 4 años años NO DEBEN ser mayor a los Exámenes Procesados de la misma edad. \",\"\")","v":""},{"$f":"IF(F228<G228,\"* Los exámenes Reactivos de 5 a 9 años años NO DEBEN ser mayor a los Exámenes Procesados de la misma edad. \",\"\")","v":""},{"$f":"IF(H228<I228,\"* Los exámenes Reactivos de 10 a 14 años años NO DEBEN ser mayor a los Exámenes Procesados de la misma edad. \",\"\")","v":""},{"$f":"IF(J228<K228,\"* Los exámenes Reactivos de 15 a 19 años años NO DEBEN ser mayor a los Exámenes Procesados de la misma edad. \",\"\")","v":""},{"$f":"IF(L228<M228,\"* Los exámenes Reactivos de 20 a 24 años años NO DEBEN ser mayor a los Exámenes Procesados de la misma edad. \",\"\")","v":""},{"$f":"IF(N228<O228,\"* Los exámenes Reactivos de 25 a 29 años años NO DEBEN ser mayor a los Exámenes Procesados de la misma edad. \",\"\")","v":""},{"$f":"IF(P228<Q228,\"* Los exámenes Reactivos de 30 a 34 años años NO DEBEN ser mayor a los Exámenes Procesados de la misma edad. \",\"\")","v":""},{"$f":"IF(R228<S228,\"* Los exámenes Reactivos de 35 a 39 años años NO DEBEN ser mayor a los Exámenes Procesados de la misma edad. \",\"\")","v":""},{"$f":"IF(T228<U228,\"* Los exámenes Reactivos de 40 a 44 años años NO DEBEN ser mayor a los Exámenes Procesados de la misma edad. \",\"\")","v":""},{"$f":"IF(V228<W228,\"* Los exámenes Reactivos de 45 a 49 años años NO DEBEN ser mayor a los Exámenes Procesados de la misma edad. \",\"\")","v":""},{"$f":"IF(X228<Y228,\"* Los exámenes Reactivos de 50 a 54 años años NO DEBEN ser mayor a los Exámenes Procesados de la misma edad. \",\"\")","v":""},{"$f":"IF(Z228<AA228,\"* Los exámenes Reactivos de 55 a 59 años años NO DEBEN ser mayor a los Exámenes Procesados de la misma edad. \",\"\")","v":""},{"$f":"IF(AB228<AC228,\"* Los exámenes Reactivos de 60 a 64 años años NO DEBEN ser mayor a los Exámenes Procesados de la misma edad. \",\"\")","v":""},{"$f":"IF(AD228<AE228,\"* Los exámenes Reactivos de 65 a 69 años años NO DEBEN ser mayor a los Exámenes Procesados de la misma edad. \",\"\")","v":""},{"$f":"IF(AF228<AG228,\"* Los exámenes Reactivos de 70 a 74 años años NO DEBEN ser mayor a los Exámenes Procesados de la misma edad. \",\"\")","v":""},{"$f":"IF(AH228<AI228,\"* Los exámenes Reactivos de 75 a 79 años años NO DEBEN ser mayor a los Exámenes Procesados de la misma edad. \",\"\")","v":""},{"$f":"IF(AJ228<AK228,\"* Los exámenes Reactivos de 80 y más años años NO DEBEN ser mayor a los Exámenes Procesados de la misma edad. \",\"\")","v":""},null,null,null,null,null,null,null,null,null,{"$f":"IF(D228<E228,1,0)","v":0},{"$f":"IF(F228<G228,1,0)","v":0},{"$f":"IF(H228<I228,1,0)","v":0},{"$f":"IF(J228<K228,1,0)","v":0},{"$f":"IF(L228<M228,1,0)","v":0},{"$f":"IF(N228<O228,1,0)","v":0},{"$f":"IF(P228<Q228,1,0)","v":0},{"$f":"IF(R228<S228,1,0)","v":0},{"$f":"IF(T228<U228,1,0)","v":0},{"$f":"IF(V228<W228,1,0)","v":0},{"$f":"IF(X228<Y228,1,0)","v":0},{"$f":"IF(Z228<AA228,1,0)","v":0},{"$f":"IF(AB228<AC228,1,0)","v":0},{"$f":"IF(AD228<AE228,1,0)","v":0},{"$f":"IF(AF228<AG228,1,0)","v":0},{"$f":"IF(AH228<AI228,1,0)","v":0},{"$f":"IF(AJ228<AK228,1,0)","v":0},null,null,null,0]
["CONSULTANTE ITS HOSPITALARIO (nivel 3º y urgencia)",0,0,null,null,null,null,null,null,null,null,null,null,null,null,null,null,null,null,null,null,null,null,null,null,null,null,null,null,null,null,null,null,null,null,null,null,null,null,null,null,null,null,null,null,null,null,null,null,null,null,null,null,null,null,null,null,null,null,null,null,null,null,null,null,null,null,null,null,null,null,null,null,null,null,null,null,null,{"$f":"IF(B229<   C229,\"* El total de Reactivos NO DEBE ser superior al total de Procesados. \",\"\")","v":""},{"$f":"IF(B229<> AL229+ AM229,\"* La suma de las columnas Sexo DEBE SER IGUAL a los Procesados. \",\"\")","v":""},{"$f":"IF(B229<  AN229+ AO229,\"* La suma de las columna Trans NO DEBE ser superior al total de Procesados. \",\"\")","v":""},{"$f":"IF(B229<  AP229,\"* La columna Pueblos Originarios NO DEBE ser superior al total de Procesados. \",\"\")","v":""},{"$f":"IF(B229<  AQ229,\"* La columna Migrantes NO DEBE ser superior al total de Procesados. \",\"\")","v":""},{"$f":"IF(D229<E229,\"* Los exámenes Reactivos de 0 a 4 años años NO DEBEN ser mayor a los Exámenes Procesados de la misma edad. \",\"\")","v":""},{"$f":"IF(F229<G229,\"* Los exámenes Reactivos de 5 a 9 años años NO DEBEN ser mayor a los Exámenes Procesados de la misma edad. \",\"\")","v":""},{"$f":"IF(H229<I229,\"* Los exámenes Reactivos de 10 a 14 años años NO DEBEN ser mayor a los Exámenes Procesados de la misma edad. \",\"\")","v":""},{"$f":"IF(J229<K229,\"* Los exámenes Reactivos de 15 a 19 años años NO DEBEN ser mayor a los Exámenes Procesados de la misma edad. \",\"\")","v":""},{"$f":"IF(L229<M229,\"* Los exámenes Reactivos de 20 a 24 años años NO DEBEN ser mayor a los Exámenes Procesados de la misma edad. \",\"\")","v":""},{"$f":"IF(N229<O229,\"* Los exámenes Reactivos de 25 a 29 años años NO DEBEN ser mayor a los Exámenes Procesados de la misma edad. \",\"\")","v":""},{"$f":"IF(P229<Q229,\"* Los exámenes Reactivos de 30 a 34 años años NO DEBEN ser mayor a los Exámenes Procesados de la misma edad. \",\"\")","v":""},{"$f":"IF(R229<S229,\"* Los exámenes Reactivos de 35 a 39 años años NO DEBEN ser mayor a los Exámenes Procesados de la misma edad. \",\"\")","v":""},{"$f":"IF(T229<U229,\"* Los exámenes Reactivos de 40 a 44 años años NO DEBEN ser mayor a los Exámenes Procesados de la misma edad. \",\"\")","v":""},{"$f":"IF(V229<W229,\"* Los exámenes Reactivos de 45 a 49 años años NO DEBEN ser mayor a los Exámenes Procesados de la misma edad. \",\"\")","v":""},{"$f":"IF(X229<Y229,\"* Los exámenes Reactivos de 50 a 54 años años NO DEBEN ser mayor a los Exámenes Procesados de la misma edad. \",\"\")","v":""},{"$f":"IF(Z229<AA229,\"* Los exámenes Reactivos de 55 a 59 años años NO DEBEN ser mayor a los Exámenes Procesados de la misma edad. \",\"\")","v":""},{"$f":"IF(AB229<AC229,\"* Los exámenes Reactivos de 60 a 64 años años NO DEBEN ser mayor a los Exámenes Procesados de la misma edad. \",\"\")","v":""},{"$f":"IF(AD229<AE229,\"* Los exámenes Reactivos de 65 a 69 años años NO DEBEN ser mayor a los Exámenes Procesados de la misma edad. \",\"\")","v":""},{"$f":"IF(AF229<AG229,\"* Los exámenes Reactivos de 70 a 74 años años NO DEBEN ser mayor a los Exámenes Procesados de la misma edad. \",\"\")","v":""},{"$f":"IF(AH229<AI229,\"* Los exámenes Reactivos de 75 a 79 años años NO DEBEN ser mayor a los Exámenes Procesados de la misma edad. \",\"\")","v":""},{"$f":"IF(AJ229<AK229,\"* Los exámenes Reactivos de 80 y más años años NO DEBEN ser mayor a los Exámenes Procesados de la misma edad. \",\"\")","v":""},null,null,null,null,null,null,null,null,null,{"$f":"IF(D229<E229,1,0)","v":0},{"$f":"IF(F229<G229,1,0)","v":0},{"$f":"IF(H229<I229,1,0)","v":0},{"$f":"IF(J229<K229,1,0)","v":0},{"$f":"IF(L229<M229,1,0)","v":0},{"$f":"IF(N229<O229,1,0)","v":0},{"$f":"IF(P229<Q229,1,0)","v":0},{"$f":"IF(R229<S229,1,0)","v":0},{"$f":"IF(T229<U229,1,0)","v":0},{"$f":"IF(V229<W229,1,0)","v":0},{"$f":"IF(X229<Y229,1,0)","v":0},{"$f":"IF(Z229<AA229,1,0)","v":0},{"$f":"IF(AB229<AC229,1,0)","v":0},{"$f":"IF(AD229<AE229,1,0)","v":0},{"$f":"IF(AF229<AG229,1,0)","v":0},{"$f":"IF(AH229<AI229,1,0)","v":0},{"$f":"IF(AJ229<AK229,1,0)","v":0},null,null,null,0]
["VICTIMA DE VIOLENCIA SEXUAL",0,0,null,null,null,null,null,null,null,null,null,null,null,null,null,null,null,null,null,null,null,null,null,null,null,null,null,null,null,null,null,null,null,null,null,null,null,null,null,null,null,null,null,null,null,null,null,null,null,null,null,null,null,null,null,null,null,null,null,null,null,null,null,null,null,null,null,null,null,null,null,null,null,null,null,null,null,"","","","","","","","","","","","","","","","","","","","","","",null,null,null,null,null,null,null,null,null,0,0,0,0,0,0,0,0,0,0,0,0,0,0,0,0,0,null,null,null,0]
["OTROS",0,0,null,null,null,null,null,null,null,null,null,null,null,null,null,null,null,null,null,null,null,null,null,null,null,null,null,null,null,null,null,null,null,null,null,null,null,null,null,null,null,null,null,null,null,null,null,null,null,null,null,null,null,null,null,null,null,null,null,null,null,null,null,null,null,null,null,null,null,null,null,null,null,null,null,null,null,"","","","","","","","","","","","","","","","","","","","","","",null,null,null,null,null,null,null,null,null,0,0,0,0,0,0,0,0,0,0,0,0,0,0,0,0,0,null,null,null,0]
["SECCIÓN F: EXÁMENES  DE  VIH POR TECNICA VISUAL/RAPIDA Y GRUPOS DE USUARIOS (Uso exclusivo de establecimientos NO LABORATORIOS)"]
["GRUPOS DE USUARIOS POR INSTANCIA",null,"TOTAL",null,null,null,null,null,null,null,null,null,null,null,null,null,null,null,null,null,null,null,null,null,null,null,null,null,null,null,null,null,null,null,null,null,"POR SEXO",null,null,null,"TRANS",null,null,null,"Pueblos originarios",null,"Migrantes",null,"14-18 años"]
[null,null,null,null,"Menor de 12 meses",null,"12-24 meses",null,"3 a 4 años",null,"5 a 9 años",null,"10 a 14 años",null,"15 a 19 años",null,"20 a 24 años",null,"25 a 29 años",null,"30 a 34 años",null,"35 a 39 años",null,"40 a 44 años",null,"45 a 49 años",null,"50 a 54 años",null,"55 a 59 años",null,"60 a 64 años",null,"65 y Mas años",null,"Hombres",null,"Mujeres",null,"Femenino",null,"Masculino"]
[null,null,"Procesados","Confirmados positivos por ISP","Procesados","Confirmados positivos por ISP","Procesados","Confirmados positivos por ISP","Procesados","Confirmados positivos por ISP","Procesados","Confirmados positivos por ISP","Procesados","Confirmados positivos por ISP","Procesados","Confirmados positivos por ISP","Procesados","Confirmados positivos por ISP","Procesados","Confirmados positivos por ISP","Procesados","Confirmados positivos por ISP","Procesados","Confirmados positivos por ISP","Procesados","Confirmados positivos por ISP","Procesados","Confirmados positivos por ISP","Procesados","Confirmados positivos por ISP","Procesados","Confirmados positivos por ISP","Procesados","Confirmados positivos por ISP","Procesados","Confirmados positivos por ISP","Procesados","Confirmados positivos por ISP","Procesados","Confirmados positivos por ISP","Procesados","Confirmados positivos por ISP","Procesados","Confirmados positivos por ISP","Procesados","Confirmados positivos por ISP","Procesados","Confirmados positivos por ISP","Procesados","Confirmados positivos por ISP"]
["INTERIOR ESTABLECIMIENTO SALUD (INTRAMURO)","GESTANTES PRIMER EXAMEN",{"$f":"+M236+O236+Q236+S236+U236+W236+Y236+AA236+AC236","v":0},0,null,null,null,null,null,null,null,null,null,null,null,null,null,null,null,null,null,null,null,null,null,null,null,null,null,null,null,null,null,null,null,null,null,null,null,null,null,null,null,null,null,null,null,null,null,null,{"$f":"$CA236&$CB236&$CC236&$CD236&$CE236&$CF236&$CG236&$CH236&$CI236&$CJ236&$CK236&$CL236&$CM236&$CN236&$CO236&$CP236&$CQ236&$CR236&$CS236&$CT236&$CU236&$CV236&$CW236&$CX236&$CY236&$CZ236","v":""},null,null,null,null,null,null,null,null,null,null,null,null,null,null,null,null,null,null,null,null,null,null,null,null,null,null,null,{"$f":"IF(DA236=1,\"* El total de Confirmados Positivos por ISP NO DEBE ser mayor que el total de Procesados. \",\"\")","v":""},{"$f":"IF((AK236+AM236)<>C236,\"* El Total de Procesados por sexo DEBE ser igual al Total de Procesados. \",IF((AL236+AN236)<>D236,\"* El Total de Confirmados por sexo DEBE ser igual al Total de Confirmados. \",\"\"))","v":""},{"$f":"IF((AO236+AQ236)>C236,\"* El Total de Procesados Trans NO DEBE ser mayor al Total de Procesados. \",IF((AP236+AR236)>D236,\"* El Total de Confirmados Trans NO DEBE ser mayor al Total de Confirmados. \",\"\"))","v":""},{"$f":"IF(AS236>C236,\"* El Total de Pueblos Originarios Procesados NO DEBE ser mayor al Total de Procesados. \",IF(AT236>D236,\"* El Total de Pueblos Originarios Confirmados NO DEBE ser mayor al Total de Confirmados. \",\"\"))","v":""},{"$f":"IF(AU236>C236,\"* El Total de Migrantes Procesados NO DEBE ser mayor al Total de Procesados. \",IF(AV236>D236,\"* El Total deMigrantes Confirmados NO DEBE ser mayor al Total de Confirmados. \",\"\"))","v":""},{"$f":"IF((M236+O236)<AW236,\"* El Total de Procesados de 14-18 años NO DEBE ser mayor al Total de Procesados registrados en los grupos de edad 10 a 14 y 15 a 19 años. \",IF((N236+P236)<AX236,\"* El Total de Confirmados de 14-18 años NO DEBE ser mayor al Total de Confirmados registrados en los grupos de edad 10 a 14 y 15 a 19 años. \",\"\"))","v":""},{"$f":"IF(DG236=1,CONCATENATE(\"* Los exámenes positivos de \",$E$158,\" NO DEBEN ser mayor a los exámenes procesados de la misma edad. \"),\"\")","v":""},{"$f":"IF(DH236=1,CONCATENATE(\"* Los exámenes positivos de \",$G$158,\" NO DEBEN ser mayor a los exámenes procesados de la misma edad. \"),\"\")","v":""},{"$f":"IF(DI236=1,CONCATENATE(\"* Los exámenes positivos de \",$I$158,\" NO DEBEN ser mayor a los exámenes procesados de la misma edad. \"),\"\")","v":""},{"$f":"IF(DJ236=1,CONCATENATE(\"* Los exámenes positivos de \",$K$158,\" NO DEBEN ser mayor a los exámenes procesados de la misma edad. \"),\"\")","v":""},{"$f":"IF(DK236=1,CONCATENATE(\"* Los exámenes positivos de \",$M$158,\" NO DEBEN ser mayor a los exámenes procesados de la misma edad. \"),\"\")","v":""},{"$f":"IF(DL236=1,CONCATENATE(\"* Los exámenes positivos de \",$O$158,\" NO DEBEN ser mayor a los exámenes procesados de la misma edad. \"),\"\")","v":""},{"$f":"IF(DM236=1,CONCATENATE(\"* Los exámenes positivos de \",$Q$158,\" NO DEBEN ser mayor a los exámenes procesados de la misma edad. \"),\"\")","v":""},{"$f":"IF(DN236=1,CONCATENATE(\"* Los exámenes positivos de \",$S$158,\" NO DEBEN ser mayor a los exámenes procesados de la misma edad. \"),\"\")","v":""},{"$f":"IF(DO236=1,CONCATENATE(\"* Los exámenes positivos de \",$U$158,\" NO DEBEN ser mayor a los exámenes procesados de la misma edad. \"),\"\")","v":""},{"$f":"IF(DP236=1,CONCATENATE(\"* Los exámenes positivos de \",$W$158,\" NO DEBEN ser mayor a los exámenes procesados de la misma edad. \"),\"\")","v":""},{"$f":"IF(DQ236=1,CONCATENATE(\"* Los exámenes positivos de \",$Y$158,\" NO DEBEN ser mayor a los exámenes procesados de la misma edad. \"),\"\")","v":""},{"$f":"IF(DR236=1,CONCATENATE(\"* Los exámenes positivos de \",$AA$158,\" NO DEBEN ser mayor a los exámenes procesados de la misma edad. \"),\"\")","v":""},{"$f":"IF(DS236=1,CONCATENATE(\"* Los exámenes positivos de \",$AC$158,\" NO DEBEN ser mayor a los exámenes procesados de la misma edad. \"),\"\")","v":""},{"$f":"IF(DT236=1,CONCATENATE(\"* Los exámenes positivos de \",$AE$158,\" NO DEBEN ser mayor a los exámenes procesados de la misma edad. \"),\"\")","v":""},{"$f":"IF(DU236=1,CONCATENATE(\"* Los exámenes positivos de \",$AG$158,\" NO DEBEN ser mayor a los exámenes procesados de la misma edad. \"),\"\")","v":""},{"$f":"IF(DV236=1,CONCATENATE(\"* Los exámenes positivos de \",$AI$158,\" NO DEBEN ser mayor a los exámenes procesados de la misma edad. \"),\"\")","v":""},{"$f":"IF(DW236=1,\"* No olvide digitar la columna Procesados Trans y/o Pueblos Originarios y/o Migrantes (Digite Cero si no tiene). \",\"\")","v":""},{"$f":"IF(DX236=1,\"* No olvide digitar la columna Confirmados Trans y/o Pueblos Originarios y/o Migrantes (Digite Cero si no tiene). \",\"\")","v":""},null,null,{"$f":"IF(C236<D236,1,0)","v":0},{"$f":"IF(OR((AK236+AM236)<>C236,(AL236+AN236)<>D236),1,0)","v":0},{"$f":"IF(OR((AO236+AQ236)>C236,(AP236+AR236)>D236),1,0)","v":0},{"$f":"IF(OR(AS236>C236,AT236>D236),1,0)","v":0},{"$f":"IF(OR(AV236>D236,AU236>C236),1,0)","v":0},{"$f":"IF(OR((M236+O236)<AW236,(N236+P236)<AX236),1,0)","v":0},{"$f":"IF(E236<F236,1,0)","v":0},{"$f":"IF(G236<H236,1,0)","v":0},{"$f":"IF(I236<J236,1,0)","v":0},{"$f":"IF(K236<L236,1,0)","v":0},{"$f":"IF(M236<N236,1,0)","v":0},{"$f":"IF(O236<P236,1,0)","v":0},{"$f":"IF(Q236<R236,1,0)","v":0},{"$f":"IF(S236<T236,1,0)","v":0},{"$f":"IF(U236<V236,1,0)","v":0},{"$f":"IF(W236<X236,1,0)","v":0},{"$f":"IF(Y236<Z236,1,0)","v":0},{"$f":"IF(AA236<AB236,1,0)","v":0},{"$f":"IF(AC236<AD236,1,0)","v":0},{"$f":"IF(AE236<AF236,1,0)","v":0},{"$f":"IF(AG236<AH236,1,0)","v":0},{"$f":"IF(AI236<AJ236,1,0)","v":0},{"$f":"IF(AND(C236<>0,OR(AO236=\"\",AQ236=\"\",AS236=\"\",AU236=\"\")),1,0)","v":0},{"$f":"IF(AND(D236<>0,OR(AP236=\"\",AR236=\"\",AT236=\"\",AV236=\"\")),1,0)","v":0}]
[null,"GESTANTES SEGUNDO EXAMEN",0,0,null,null,null,null,null,null,null,null,null,null,null,null,null,null,null,null,null,null,null,null,null,null,null,null,null,null,null,null,null,null,null,null,null,null,null,null,null,null,null,null,null,null,null,null,null,null,"",null,null,null,null,null,null,null,null,null,null,null,null,null,null,null,null,null,null,null,null,null,null,null,null,null,null,null,{"$f":"IF(DA237=1,\"* El total de Confirmados Positivos por ISP NO DEBE ser mayor que el total de Procesados. \",\"\")","v":""},{"$f":"IF((AK237+AM237)<>C237,\"* El Total de Procesados por sexo DEBE ser igual al Total de Procesados. \",IF((AL237+AN237)<>D237,\"* El Total de Confirmados por sexo DEBE ser igual al Total de Confirmados. \",\"\"))","v":""},{"$f":"IF((AO237+AQ237)>C237,\"* El Total de Procesados Trans NO DEBE ser mayor al Total de Procesados. \",IF((AP237+AR237)>D237,\"* El Total de Confirmados Trans NO DEBE ser mayor al Total de Confirmados. \",\"\"))","v":""},{"$f":"IF(AS237>C237,\"* El Total de Pueblos Originarios Procesados NO DEBE ser mayor al Total de Procesados. \",IF(AT237>D237,\"* El Total de Pueblos Originarios Confirmados NO DEBE ser mayor al Total de Confirmados. \",\"\"))","v":""},{"$f":"IF(AU237>C237,\"* El Total de Migrantes Procesados NO DEBE ser mayor al Total de Procesados. \",IF(AV237>D237,\"* El Total deMigrantes Confirmados NO DEBE ser mayor al Total de Confirmados. \",\"\"))","v":""},{"$f":"IF((M237+O237)<AW237,\"* El Total de Procesados de 14-18 años NO DEBE ser mayor al Total de Procesados registrados en los grupos de edad 10 a 14 y 15 a 19 años. \",IF((N237+P237)<AX237,\"* El Total de Confirmados de 14-18 años NO DEBE ser mayor al Total de Confirmados registrados en los grupos de edad 10 a 14 y 15 a 19 años. \",\"\"))","v":""},{"$f":"IF(DG237=1,CONCATENATE(\"* Los exámenes positivos de \",$E$158,\" NO DEBEN ser mayor a los exámenes procesados de la misma edad. \"),\"\")","v":""},{"$f":"IF(DH237=1,CONCATENATE(\"* Los exámenes positivos de \",$G$158,\" NO DEBEN ser mayor a los exámenes procesados de la misma edad. \"),\"\")","v":""},{"$f":"IF(DI237=1,CONCATENATE(\"* Los exámenes positivos de \",$I$158,\" NO DEBEN ser mayor a los exámenes procesados de la misma edad. \"),\"\")","v":""},{"$f":"IF(DJ237=1,CONCATENATE(\"* Los exámenes positivos de \",$K$158,\" NO DEBEN ser mayor a los exámenes procesados de la misma edad. \"),\"\")","v":""},{"$f":"IF(DK237=1,CONCATENATE(\"* Los exámenes positivos de \",$M$158,\" NO DEBEN ser mayor a los exámenes procesados de la misma edad. \"),\"\")","v":""},{"$f":"IF(DL237=1,CONCATENATE(\"* Los exámenes positivos de \",$O$158,\" NO DEBEN ser mayor a los exámenes procesados de la misma edad. \"),\"\")","v":""},{"$f":"IF(DM237=1,CONCATENATE(\"* Los exámenes positivos de \",$Q$158,\" NO DEBEN ser mayor a los exámenes procesados de la misma edad. \"),\"\")","v":""},{"$f":"IF(DN237=1,CONCATENATE(\"* Los exámenes positivos de \",$S$158,\" NO DEBEN ser mayor a los exámenes procesados de la misma edad. \"),\"\")","v":""},{"$f":"IF(DO237=1,CONCATENATE(\"* Los exámenes positivos de \",$U$158,\" NO DEBEN ser mayor a los exámenes procesados de la misma edad. \"),\"\")","v":""},{"$f":"IF(DP237=1,CONCATENATE(\"* Los exámenes positivos de \",$W$158,\" NO DEBEN ser mayor a los exámenes procesados de la misma edad. \"),\"\")","v":""},{"$f":"IF(DQ237=1,CONCATENATE(\"* Los exámenes positivos de \",$Y$158,\" NO DEBEN ser mayor a los exámenes procesados de la misma edad. \"),\"\")","v":""},{"$f":"IF(DR237=1,CONCATENATE(\"* Los exámenes positivos de \",$AA$158,\" NO DEBEN ser mayor a los exámenes procesados de la misma edad. \"),\"\")","v":""},{"$f":"IF(DS237=1,CONCATENATE(\"* Los exámenes positivos de \",$AC$158,\" NO DEBEN ser mayor a los exámenes procesados de la misma edad. \"),\"\")","v":""},{"$f":"IF(DT237=1,CONCATENATE(\"* Los exámenes positivos de \",$AE$158,\" NO DEBEN ser mayor a los exámenes procesados de la misma edad. \"),\"\")","v":""},{"$f":"IF(DU237=1,CONCATENATE(\"* Los exámenes positivos de \",$AG$158,\" NO DEBEN ser mayor a los exámenes procesados de la misma edad. \"),\"\")","v":""},{"$f":"IF(DV237=1,CONCATENATE(\"* Los exámenes positivos de \",$AI$158,\" NO DEBEN ser mayor a los exámenes procesados de la misma edad. \"),\"\")","v":""},{"$f":"IF(DW237=1,\"* No olvide digitar la columna Procesados Trans y/o Pueblos Originarios y/o Migrantes (Digite Cero si no tiene). \",\"\")","v":""},{"$f":"IF(DX237=1,\"* No olvide digitar la columna Confirmados Trans y/o Pueblos Originarios y/o Migrantes (Digite Cero si no tiene). \",\"\")","v":""},null,null,{"$f":"IF(C237<D237,1,0)","v":0},{"$f":"IF(OR((AK237+AM237)<>C237,(AL237+AN237)<>D237),1,0)","v":0},{"$f":"IF(OR((AO237+AQ237)>C237,(AP237+AR237)>D237),1,0)","v":0},{"$f":"IF(OR(AS237>C237,AT237>D237),1,0)","v":0},{"$f":"IF(OR(AV237>D237,AU237>C237),1,0)","v":0},{"$f":"IF(OR((M237+O237)<AW237,(N237+P237)<AX237),1,0)","v":0},{"$f":"IF(E237<F237,1,0)","v":0},{"$f":"IF(G237<H237,1,0)","v":0},{"$f":"IF(I237<J237,1,0)","v":0},{"$f":"IF(K237<L237,1,0)","v":0},{"$f":"IF(M237<N237,1,0)","v":0},{"$f":"IF(O237<P237,1,0)","v":0},{"$f":"IF(Q237<R237,1,0)","v":0},{"$f":"IF(S237<T237,1,0)","v":0},{"$f":"IF(U237<V237,1,0)","v":0},{"$f":"IF(W237<X237,1,0)","v":0},{"$f":"IF(Y237<Z237,1,0)","v":0},{"$f":"IF(AA237<AB237,1,0)","v":0},{"$f":"IF(AC237<AD237,1,0)","v":0},{"$f":"IF(AE237<AF237,1,0)","v":0},{"$f":"IF(AG237<AH237,1,0)","v":0},{"$f":"IF(AI237<AJ237,1,0)","v":0},{"$f":"IF(AND(C237<>0,OR(AO237=\"\",AQ237=\"\",AS237=\"\",AU237=\"\")),1,0)","v":0},0]
[null,"MUJER EN TRABAJO DE PRE PARTO O PARTO",0,0,null,null,null,null,null,null,null,null,null,null,null,null,null,null,null,null,null,null,null,null,null,null,null,null,null,null,null,null,null,null,null,null,null,null,null,null,null,null,null,null,null,null,null,null,null,null,"",null,null,null,null,null,null,null,null,null,null,null,null,null,null,null,null,null,null,null,null,null,null,null,null,null,null,null,"","","","","","","","","","","","","","","","","","","","","","","","",null,null,0,0,0,0,0,0,0,0,0,0,0,0,0,0,0,0,0,0,0,0,0,0,0,0]
[null,"PERSONAS EN CONTROL POR COMERCIO SEXUAL",{"$f":"+O239+Q239+S239+U239+W239+Y239+AA239+AC239+AE239+AG239+AI239","v":0},{"$f":"+P239+R239+T239+V239+X239+Z239+AB239+AD239+AF239+AH239+AJ239","v":0},null,null,null,null,null,null,null,null,null,null,null,null,null,null,null,null,null,null,null,null,null,null,null,null,null,null,null,null,null,null,null,null,null,null,null,null,null,null,null,null,null,null,null,null,null,null,"",null,null,null,null,null,null,null,null,null,null,null,null,null,null,null,null,null,null,null,null,null,null,null,null,null,null,null,"","","","","","","","","","","","","","","","","","","","","","","","",null,null,0,0,0,0,0,0,0,0,0,0,0,0,0,0,0,0,0,0,0,0,0,0,0,0]
[null,"POR CONSULTA ITS",{"$f":"+E240+G240+I240+K240+M240+O240+Q240+S240+U240+W240+Y240+AA240+AC240+AE240+AG240+AI240","v":0},{"$f":"+F240+H240+J240+L240+N240+P240+R240+T240+V240+X240+Z240+AB240+AD240+AF240+AH240+AJ240","v":0},null,null,null,null,null,null,null,null,null,null,null,null,null,null,null,null,null,null,null,null,null,null,null,null,null,null,null,null,null,null,null,null,null,null,null,null,null,null,null,null,null,null,null,null,null,null,"",null,null,null,null,null,null,null,null,null,null,null,null,null,null,null,null,null,null,null,null,null,null,null,null,null,null,null,"","","","","","","","","","","","","","","","","","","","","","","","",null,null,0,0,0,0,0,0,0,0,0,0,0,0,0,0,0,0,0,0,0,0,0,0,0,0]
[null,"PERSONAS EN CONTROL DE REGULACIÓN FECUNDIDAD, GINECOLOGICO, CLIMATERIO",{"$f":"+M241+O241+Q241+S241+U241+W241+Y241+AA241+AC241+AE241+AG241+AI241","v":0},{"$f":"+N241+P241+R241+T241+V241+X241+Z241+AB241+AD241+AF241+AH241+AJ241","v":0},null,null,null,null,null,null,null,null,null,null,null,null,null,null,null,null,null,null,null,null,null,null,null,null,null,null,null,null,null,null,null,null,null,null,null,null,null,null,null,null,null,null,null,null,null,null,"",null,null,null,null,null,null,null,null,null,null,null,null,null,null,null,null,null,null,null,null,null,null,null,null,null,null,null,"","","","","","","","","","","","","","","","","","","","","","","","",null,null,0,0,0,0,0,0,0,0,0,0,0,0,0,0,0,0,0,0,0,0,0,0,0,0]
[null,"PERSONAS EMP/EMPAM ",{"$f":"+O242+Q242+S242+U242+W242+Y242+AA242+AC242+AE242+AG242+AI242","v":0},{"$f":"+P242+R242+T242+V242+X242+Z242+AB242+AD242+AF242+AH242+AJ242","v":0},null,null,null,null,null,null,null,null,null,null,null,null,null,null,null,null,null,null,null,null,null,null,null,null,null,null,null,null,null,null,null,null,null,null,null,null,null,null,null,null,null,null,null,null,null,null,"",null,null,null,null,null,null,null,null,null,null,null,null,null,null,null,null,null,null,null,null,null,null,null,null,null,null,null,"","","","","","","","","","","","","","","","","","","","","","","","",null,null,0,0,0,0,0,0,0,0,0,0,0,0,0,0,0,0,0,0,0,0,0,0,0,0]
[null,"PERSONAS EN CONTROL DE SALUD SEGÚN CICLO VITAL",{"$f":"+E243+G243+I243+K243+M243+O243+Q243+S243+U243+W243+Y243+AA243+AC243+AE243+AG243+AI243","v":0},{"$f":"+F243+H243+J243+L243+N243+P243+R243+T243+V243+X243+Z243+AB243+AD243+AF243+AH243+AJ243","v":0},null,null,null,null,null,null,null,null,null,null,null,null,null,null,null,null,null,null,null,null,null,null,null,null,null,null,null,null,null,null,null,null,null,null,null,null,null,null,null,null,null,null,null,null,null,null,"",null,null,null,null,null,null,null,null,null,null,null,null,null,null,null,null,null,null,null,null,null,null,null,null,null,null,null,"","","","","","","","","","","","","","","","","","","","","","","","",null,null,0,0,0,0,0,0,0,0,0,0,0,0,0,0,0,0,0,0,0,0,0,0,0,0]
[null,"DONANTES DE ÓRGANOS Y/O TEJIDOS",{"$f":"+M244+O244+Q244+S244+U244+W244+Y244+AA244+AC244+AE244+AG244+AI244","v":0},{"$f":"+N244+P244+R244+T244+V244+X244+Z244+AB244+AD244+AF244+AH244+AJ244","v":0},null,null,null,null,null,null,null,null,null,null,null,null,null,null,null,null,null,null,null,null,null,null,null,null,null,null,null,null,null,null,null,null,null,null,null,null,null,null,null,null,null,null,null,null,null,null,"",null,null,null,null,null,null,null,null,null,null,null,null,null,null,null,null,null,null,null,null,null,null,null,null,null,null,null,"","","","","","","","","","","","","","","","","","","","","","","","",null,null,0,0,0,0,0,0,0,0,0,0,0,0,0,0,0,0,0,0,0,0,0,0,0,0]
[null,"PERSONA EN CONTROL POR TBC",{"$f":"+M245+O245+Q245+S245+U245+W245+Y245+AA245+AC245+AE245+AG245+AI245","v":0},{"$f":"+N245+P245+R245+T245+V245+X245+Z245+AB245+AD245+AF245+AH245+AJ245","v":0},null,null,null,null,null,null,null,null,null,null,null,null,null,null,null,null,null,null,null,null,null,null,null,null,null,null,null,null,null,null,null,null,null,null,null,null,null,null,null,null,null,null,null,null,null,null,"",null,null,null,null,null,null,null,null,null,null,null,null,null,null,null,null,null,null,null,null,null,null,null,null,null,null,null,"","","","","","","","","","","","","","","","","","","","","","","","",null,null,0,0,0,0,0,0,0,0,0,0,0,0,0,0,0,0,0,0,0,0,0,0,0,0]
[null,"VÍCTIMA DE VIOLENCIA SEXUAL",{"$f":"+E246+G246+I246+K246+M246+O246+Q246+S246+U246+W246+Y246+AA246+AC246+AE246+AG246+AI246","v":0},{"$f":"+F246+H246+J246+L246+N246+P246+R246+T246+V246+X246+Z246+AB246+AD246+AF246+AH246+AJ246","v":0},null,null,null,null,null,null,null,null,null,null,null,null,null,null,null,null,null,null,null,null,null,null,null,null,null,null,null,null,null,null,null,null,null,null,null,null,null,null,null,null,null,null,null,null,null,null,"",null,null,null,null,null,null,null,null,null,null,null,null,null,null,null,null,null,null,null,null,null,null,null,null,null,null,null,"","","","","","","","","","","","","","","","","","","","","","","","",null,null,0,0,0,0,0,0,0,0,0,0,0,0,0,0,0,0,0,0,0,0,0,0,0,0]
[null,"PAREJA SERODISCORDANTE",{"$f":"+O247+Q247+S247+U247+W247+Y247+AA247+AC247+AE247+AG247+AI247","v":0},{"$f":"+P247+R247+T247+V247+X247+Z247+AB247+AD247+AF247+AH247+AJ247","v":0},null,null,null,null,null,null,null,null,null,null,null,null,null,null,null,null,null,null,null,null,null,null,null,null,null,null,null,null,null,null,null,null,null,null,null,null,null,null,null,null,null,null,null,null,null,null,"",null,null,null,null,null,null,null,null,null,null,null,null,null,null,null,null,null,null,null,null,null,null,null,null,null,null,null,"","","","","","","","","","","","","","","","","","","","","","","","",null,null,0,0,0,0,0,0,0,0,0,0,0,0,0,0,0,0,0,0,0,0,0,0,0,0]
[null,"PAREJA DE GESTANTE VIH POSITIVO",{"$f":"+M248+O248+Q248+S248+U248+W248+Y248+AA248+AC248+AE248+AG248+AI248","v":0},{"$f":"+N248+P248+R248+T248+V248+X248+Z248+AB248+AD248+AF248+AH248+AJ248","v":0},null,null,null,null,null,null,null,null,null,null,null,null,null,null,null,null,null,null,null,null,null,null,null,null,null,null,null,null,null,null,null,null,null,null,null,null,null,null,null,null,null,null,null,null,null,null,"",null,null,null,null,null,null,null,null,null,null,null,null,null,null,null,null,null,null,null,null,null,null,null,null,null,null,null,"","","","","","","","","","","","","","","","","","","","","","","","",null,null,0,0,0,0,0,0,0,0,0,0,0,0,0,0,0,0,0,0,0,0,0,0,0,0]
[null,"PERSONAL DE SALUD EXPUESTO A ACCIDENTE CORTOPUNZANTE",{"$f":"+Q249+S249+U249+W249+Y249+AA249+AC249+AE249+AG249+AI249+O249","v":0},{"$f":"+R249+T249+V249+X249+Z249+AB249+AD249+AF249+AH249+AJ249+P249","v":0},null,null,null,null,null,null,null,null,null,null,null,null,null,null,null,null,null,null,null,null,null,null,null,null,null,null,null,null,null,null,null,null,null,null,null,null,null,null,null,null,null,null,null,null,null,null,"",null,null,null,null,null,null,null,null,null,null,null,null,null,null,null,null,null,null,null,null,null,null,null,null,null,null,null,"","","","","","","","","","","","","","","","","","","","","","","","",null,null,0,0,0,0,0,0,0,0,0,0,0,0,0,0,0,0,0,0,0,0,0,0,0,0]
[null,"PACIENTES FUENTE DE ACCIDENTE CORTOPUNZANTE",{"$f":"+M250+O250+Q250+S250+U250+W250+Y250+AA250+AC250+AE250+AG250+AI250","v":0},0,null,null,null,null,null,null,null,null,null,null,null,null,null,null,null,null,null,null,null,null,null,null,null,null,null,null,null,null,null,null,null,null,null,null,null,null,null,null,null,null,null,null,null,null,null,null,"",null,null,null,null,null,null,null,null,null,null,null,null,null,null,null,null,null,null,null,null,null,null,null,null,null,null,null,"","","","","","","","","","","","","","","","","","","","","","","","",null,null,0,0,0,0,0,0,0,0,0,0,0,0,0,0,0,0,0,0,0,0,0,0,0,0]
[null,"PERSONA EN CONTROL POR HEPATITIS B",0,0,null,null,null,null,null,null,null,null,null,null,null,null,null,null,null,null,null,null,null,null,null,null,null,null,null,null,null,null,null,null,null,null,null,null,null,null,null,null,null,null,null,null,null,null,null,null,"",null,null,null,null,null,null,null,null,null,null,null,null,null,null,null,null,null,null,null,null,null,null,null,null,null,null,null,"","","","","","","","","","","","","","","","","","","","","","","","",null,null,0,0,0,0,0,0,0,0,0,0,0,0,0,0,0,0,0,0,0,0,0,0,0,0]
[null,"PERSONA EN CONTROL POR HEPATITIS C",0,0,null,null,null,null,null,null,null,null,null,null,null,null,null,null,null,null,null,null,null,null,null,null,null,null,null,null,null,null,null,null,null,null,null,null,null,null,null,null,null,null,null,null,null,null,null,null,"",null,null,null,null,null,null,null,null,null,null,null,null,null,null,null,null,null,null,null,null,null,null,null,null,null,null,null,"","","","","","","","","","","","","","","","","","","","","","","","",null,null,0,0,0,0,0,0,0,0,0,0,0,0,0,0,0,0,0,0,0,0,0,0,{"$f":"IF(AND(C252<>0,OR(AO252=\"\",AQ252=\"\",AS252=\"\",AU252=\"\")),1,0)","v":0},0]
[null,"CONSULTANTES POR MORBILIDAD",0,0,null,null,null,null,null,null,null,null,null,null,null,null,null,null,null,null,null,null,null,null,null,null,null,null,null,null,null,null,null,null,null,null,null,null,null,null,null,null,null,null,null,null,null,null,null,null,"",null,null,null,null,null,null,null,null,null,null,null,null,null,null,null,null,null,null,null,null,null,null,null,null,null,null,null,"","","","","","","","","","","","","","","","","","","","","","","","",null,null,0,0,0,0,0,0,0,0,0,0,0,0,0,0,0,0,0,0,0,0,0,0,0,0]
[null,"POR CONSULTA ESPONTÁNEA",35,0,null,null,null,null,null,null,null,null,null,null,7,null,null,null,4,null,6,null,5,null,5,null,2,null,null,null,2,null,1,null,3,null,8,null,27,null,0,null,0,null,0,null,0,null,6,null,"",null,null,null,null,null,null,null,null,null,null,null,null,null,null,null,null,null,null,null,null,null,null,null,null,null,null,null,"","","","","","","","","","","","","","","","","","","","","","","","",null,null,0,0,0,0,0,0,0,0,0,0,0,0,0,0,0,0,0,0,0,0,0,0,0,0]
["EXTERIOR ESTABLECIMIENTO DE SALUD (EXTRAMURO)","CENTROS PENITENCIARIOS",{"$f":"+E255+G255+I255+K255+M255+O255+Q255+S255+U255+W255+Y255+AA255+AC255+AE255+AG255+AI255","v":0},0,null,null,null,null,null,null,null,null,null,null,null,null,null,null,null,null,null,null,null,null,null,null,null,null,null,null,null,null,null,null,null,null,null,null,null,null,null,null,null,null,null,null,null,null,null,null,"",null,null,null,null,null,null,null,null,null,null,null,null,null,null,null,null,null,null,null,null,null,null,null,null,null,null,null,"","","","","","","","","","","","","","","","","","","","","","","","",null,null,0,0,0,0,0,0,0,0,0,0,0,0,0,0,0,0,0,0,0,0,0,0,0,0]
[null,"CENTROS SENAME",0,0,null,null,null,null,null,null,null,null,null,null,null,null,null,null,null,null,null,null,null,null,null,null,null,null,null,null,null,null,null,null,null,null,null,null,null,null,null,null,null,null,null,null,null,null,null,null,"",null,null,null,null,null,null,null,null,null,null,null,null,null,null,null,null,null,null,null,null,null,null,null,null,null,null,null,"","","","","","","","","","","","","","","","","","","","","","","","",null,null,0,0,0,0,0,0,0,0,0,0,0,0,0,0,0,0,0,0,0,0,0,0,0,0]
[null,"CENTROS EDUCACIONALES",0,0,null,null,null,null,null,null,null,null,null,null,null,null,null,null,null,null,null,null,null,null,null,null,null,null,null,null,null,null,null,null,null,null,null,null,null,null,null,null,null,null,null,null,null,null,null,null,"",null,null,null,null,null,null,null,null,null,null,null,null,null,null,null,null,null,null,null,null,null,null,null,null,null,null,null,"","","","","","","","","","","","","","","","","","","","","","","","",null,null,0,0,0,0,0,0,0,0,0,0,0,0,0,0,0,0,0,0,0,0,0,0,0,0]
[null,"OTROS ",0,0,null,null,null,null,null,null,null,null,null,null,null,null,null,null,null,null,null,null,null,null,null,null,null,null,null,null,null,null,null,null,null,null,null,null,null,null,null,null,null,null,null,null,null,null,null,null,"",null,null,null,null,null,null,null,null,null,null,null,null,null,null,null,null,null,null,null,null,null,null,null,null,null,null,null,"","","","","","","","","","","","","","","","","","","","","","","","",null,null,0,0,0,0,0,0,0,0,0,0,0,0,0,0,0,0,0,0,0,0,0,0,0,0]
["SECCIÓN G: SCREENING ENFERMEDAD DE CHAGAS PARA EMABARAZADAS, PUERPERAS Y MUJERES EN EDAD FÉRTIL"]
["CONDICIÓN","TOTAL","GRUPO DE EDAD ",null,null,null,null,null,null,null,null,null,"Pueblos Originarios","Migrantes"]
[null,null,"10 a 14 años","15 a 19 años","20 a 24 años","25 a 29 años","30 a 34 años","35 a 39 años","40 a 44 años","45 a 49 años","50 a 54 años","55 y más años"]
["Gestantes con examen de Chagas solicitado",{"$f":"SUM(C262:L262)","v":10},null,null,3,2,3,2,null,null,null,0,0,1,{"$f":"$CA262&$CB262&$CC262&$CD262&$CE262&$CF262&$CG262&$CH262&$CI262&$CJ262&$CK262&$CL262&$CM262&$CN262&$CO262&$CP262&$CQ262&$CR262&$CS262&$CT262&$CU262&$CV262&$CW262&$CX262&$CY262&$CZ262","v":""},null,null,null,null,null,null,null,null,null,null,null,null,null,null,null,null,null,null,null,null,null,null,null,null,null,null,null,null,null,null,null,null,null,null,null,null,null,null,null,null,null,null,null,null,null,null,null,null,null,null,null,null,null,null,null,null,null,null,null,null,null,null,null,{"$f":"IF(AND($B262<>0,M262=\"\"),\"* No olvide ingresar la columna Pueblos Originarios (Digite CERO si no tiene). \",IF(M262>$B262,\"* El Número de Screenings de Pueblos Originarios no puede superar el Total. \",\"\"))","v":""},{"$f":"IF(AND($B262<>0,N262=\"\"),\"* No olvide ingresar la columna Migrantes (Digite CERO si no tiene). \",IF(N262>$B262,\"* El Número de Screenings de Población Migrante no puede superar el Total. \",\"\"))","v":""},null,null,null,null,null,null,null,null,null,null,null,null,null,null,null,null,null,null,null,null,null,null,null,null,{"$f":"IF(AND($B262<>0,M262=\"\"),1,IF(M262>$B262,1,0))","v":0},{"$f":"IF(AND($B262<>0,N262=\"\"),1,IF(N262>$B262,1,0))","v":0}]
["Gestantes con examen de Chagas informado",{"$f":"SUM(C263:L263)","v":10},null,null,3,2,3,2,null,null,null,0,0,1,"",null,null,null,null,null,null,null,null,null,null,null,null,null,null,null,null,null,null,null,null,null,null,null,null,null,null,null,null,null,null,null,null,null,null,null,null,null,null,null,null,null,null,null,null,null,null,null,null,null,null,null,null,null,null,null,null,null,null,null,null,null,null,null,{"$f":"IF(AND($B263<>0,M263=\"\"),\"* No olvide ingresar la columna Pueblos Originarios (Digite CERO si no tiene). \",IF(M263>$B263,\"* El Número de Screenings de Pueblos Originarios no puede superar el Total. \",\"\"))","v":""},{"$f":"IF(AND($B263<>0,N263=\"\"),\"* No olvide ingresar la columna Migrantes (Digite CERO si no tiene). \",IF(N263>$B263,\"* El Número de Screenings de Población Migrante no puede superar el Total. \",\"\"))","v":""},null,null,null,null,null,null,null,null,null,null,null,null,null,null,null,null,null,null,null,null,null,null,null,null,{"$f":"IF(AND($B263<>0,M263=\"\"),1,IF(M263>$B263,1,0))","v":0},{"$f":"IF(AND($B263<>0,N263=\"\"),1,IF(N263>$B263,1,0))","v":0}]
["Gestantes con examen de Chagas confirmado",0,null,null,null,null,null,null,null,null,null,0,0,0,"",null,null,null,null,null,null,null,null,null,null,null,null,null,null,null,null,null,null,null,null,null,null,null,null,null,null,null,null,null,null,null,null,null,null,null,null,null,null,null,null,null,null,null,null,null,null,null,null,null,null,null,null,null,null,null,null,null,null,null,null,null,null,null,"","",null,null,null,null,null,null,null,null,null,null,null,null,null,null,null,null,null,null,null,null,null,null,null,null,0,0]
["Gestantes que ingresan a maternidad sin examen de enfermedad de Chagas",0,null,null,null,null,null,null,null,null,null,null,null,null,"",null,null,null,null,null,null,null,null,null,null,null,null,null,null,null,null,null,null,null,null,null,null,null,null,null,null,null,null,null,null,null,null,null,null,null,null,null,null,null,null,null,null,null,null,null,null,null,null,null,null,null,null,null,null,null,null,null,null,null,null,null,null,null,"","",null,null,null,null,null,null,null,null,null,null,null,null,null,null,null,null,null,null,null,null,null,null,null,null,0,0]
["Mujeres en Control Preconcepcional",0,0,0,0,0,null,0,0,0,0,0,0,0,"",null,null,null,null,null,null,null,null,null,null,null,null,null,null,null,null,null,null,null,null,null,null,null,null,null,null,null,null,null,null,null,null,null,null,null,null,null,null,null,null,null,null,null,null,null,null,null,null,null,null,null,null,null,null,null,null,null,null,null,null,null,null,null,"","",null,null,null,null,null,null,null,null,null,null,null,null,null,null,null,null,null,null,null,null,null,null,null,null,{"$f":"IF(AND($B266<>0,M266=\"\"),1,IF(M266>$B266,1,0))","v":0},{"$f":"IF(AND($B266<>0,N266=\"\"),1,IF(N266>$B266,1,0))","v":0}]
["SECCIÓN H: DIAGNÓSTICO TRANSMISIÓN VERTICAL MADRE HIJO/A CON ENFERMEDAD DE CHAGAS "]
[" CONDICIÓN","TOTAL","GRUPO DE EDAD",null,null,null,null,null,null,null,null,null,null,null,null,null,null,null,"Pueblos Originarios","Migrantes"]
[null,null,"Menos de 1 mes","1 mes","2 meses","3 meses","4 meses","5 meses","6 meses","7 meses","8 meses","9 meses","10 meses","11 meses","12 meses","13 meses","14 meses","15 meses"]
["Hijos/as de Madre con Enfermedad de Chagas nacidos en el periodo ",{"$f":"SUM(C270:R270)","v":0},null,null,null,null,null,null,null,null,null,null,null,null,null,null,null,null,null,null,{"$f":"$CA270&$CB270&$CC270&$CD270&$CE270&$CF270&$CG270&$CH270&$CI270&$CJ270&$CK270&$CL270&$CM270&$CN270&$CO270&$CP270&$CQ270&$CR270&$CS270&$CT270&$CU270&$CV270&$CW270&$CX270&$CY270&$CZ270","v":""},null,null,null,null,null,null,null,null,null,null,null,null,null,null,null,null,null,null,null,null,null,null,null,null,null,null,null,null,null,null,null,null,null,null,null,null,null,null,null,null,null,null,null,null,null,null,null,null,null,null,null,null,null,null,null,null,null,{"$f":"IF(AND($B270<>0,S270=\"\"),\"* No olvide ingresar la columna Pueblos Originarios (Digite CERO si no tiene). \",IF(S270>$B270,\"* El Número de Hijos de Pueblos Originarios no puede superar el Total. \",\"\"))","v":""},{"$f":"IF(AND($B270<>0,T270=\"\"),\"* No olvide ingresar la columna Migrantes (Digite CERO si no tiene). \",IF(T270>$B270,\"* El Número de Hijos de Migrantes no puede superar el Total. \",\"\"))","v":""},null,null,null,null,null,null,null,null,null,null,null,null,null,null,null,null,null,null,null,null,null,null,null,null,{"$f":"IF(AND($B270<>0,S270=\"\"),1,IF(S270>$B270,1,0))","v":0},{"$f":"IF(AND($B270<>0,T270=\"\"),1,IF(T270>$B270,1,0))","v":0}]
["Hijos/as de Madre con Enfermedad de Chagas con diagnóstico directo realizado",{"$f":"SUM(C271:R271)","v":0},null,null,null,null,null,null,null,null,null,null,null,null,null,null,null,null,null,null,"",null,null,null,null,null,null,null,null,null,null,null,null,null,null,null,null,null,null,null,null,null,null,null,null,null,null,null,null,null,null,null,null,null,null,null,null,null,null,null,null,null,null,null,null,null,null,null,null,null,null,null,null,null,null,null,null,null,{"$f":"IF(AND($B271<>0,S271=\"\"),\"* No olvide ingresar la columna Pueblos Originarios (Digite CERO si no tiene). \",IF(S271>$B271,\"* El Número de Hijos de Pueblos Originarios no puede superar el Total. \",\"\"))","v":""},{"$f":"IF(AND($B271<>0,T271=\"\"),\"* No olvide ingresar la columna Migrantes (Digite CERO si no tiene). \",IF(T271>$B271,\"* El Número de Hijos de Migrantes no puede superar el Total. \",\"\"))","v":""},null,null,null,null,null,null,null,null,null,null,null,null,null,null,null,null,null,null,null,null,null,null,null,null,{"$f":"IF(AND($B271<>0,S271=\"\"),1,IF(S271>$B271,1,0))","v":0},{"$f":"IF(AND($B271<>0,T271=\"\"),1,IF(T271>$B271,1,0))","v":0}]
["Hijos/as de Madre con Enfermedad de Chagas con diagnóstico finalizado e informado (1° muestra) ",0,null,null,null,null,null,null,null,null,null,null,null,null,null,null,null,null,null,null,"",null,null,null,null,null,null,null,null,null,null,null,null,null,null,null,null,null,null,null,null,null,null,null,null,null,null,null,null,null,null,null,null,null,null,null,null,null,null,null,null,null,null,null,null,null,null,null,null,null,null,null,null,null,null,null,null,null,"","",null,null,null,null,null,null,null,null,null,null,null,null,null,null,null,null,null,null,null,null,null,null,null,null,0,0]
["Hijos/as de Madre con Enfermedad de Chagas con diagnóstico finalizado e informado (2° muestra) ",0,null,null,null,null,null,null,null,null,null,null,null,null,null,null,null,null,null,null,"",null,null,null,null,null,null,null,null,null,null,null,null,null,null,null,null,null,null,null,null,null,null,null,null,null,null,null,null,null,null,null,null,null,null,null,null,null,null,null,null,null,null,null,null,null,null,null,null,null,null,null,null,null,null,null,null,null,"","",null,null,null,null,null,null,null,null,null,null,null,null,null,null,null,null,null,null,null,null,null,null,null,null,0,0]
["Hijos/as de Madre con enfermedad de Chagas con diagnóstico finalizado e informado (3° muestra) ",0,null,null,null,null,null,null,null,null,null,null,null,null,null,null,null,null,null,null,"",null,null,null,null,null,null,null,null,null,null,null,null,null,null,null,null,null,null,null,null,null,null,null,null,null,null,null,null,null,null,null,null,null,null,null,null,null,null,null,null,null,null,null,null,null,null,null,null,null,null,null,null,null,null,null,null,null,"","",null,null,null,null,null,null,null,null,null,null,null,null,null,null,null,null,null,null,null,null,null,null,null,null,{"$f":"IF(AND($B274<>0,S274=\"\"),1,IF(S274>$B274,1,0))","v":0},{"$f":"IF(AND($B274<>0,T274=\"\"),1,IF(T274>$B274,1,0))","v":0}]
["SECCION I: TRATAMIENTOS FAMACOLÓGICOS"]
["CONDICIÓN","TOTAL",null,null,"GRUPO DE EDAD Y SEXO"]
[null,null,null,null,"menor 1 ",null,"1-4",null,"5-9",null,"10-14",null,"15 - 19",null,"20 - 24",null,"25 - 29",null,"30 - 34",null,"35 - 39",null,"40 - 44",null,"45 - 49",null,"50 - 54",null,"55-59",null,"60-64",null,"65-69",null,"mayor 70"]
[null,"Ambos sexos","Hombres","Mujeres","menor 1 año",null,"1-4 años",null,"5-9 años",null,"10-14 años",null,"15 - 19 años",null,"20 - 24 años",null,"25 - 29 años",null,"30 - 34 años",null,"35 - 39 años",null,"40 - 44 años",null,"45 - 49 años",null,"50 - 54 años",null,"55-59 años",null,"60-64 años",null,"65-69 años",null,"mayor 70 años"]
[null,null,null,null,"Hombres","Mujeres","Hombres","Mujeres","Hombres","Mujeres","Hombres","Mujeres","Hombres","Mujeres","Hombres","Mujeres","Hombres","Mujeres","Hombres","Mujeres","Hombres","Mujeres","Hombres","Mujeres","Hombres","Mujeres","Hombres","Mujeres","Hombres","Mujeres","Hombres","Mujeres","Hombres","Mujeres","Hombres","Mujeres"]
["Personas con enfermedad de Chagas que ingresan a tratamiento farmacológico en el periodo (nifurtimox)",{"$f":"SUM(C280:D280)","v":0},{"$f":"+E280+G280+I280+K280+M280+O280+Q280+S280+U280+W280+Y280+AA280+AC280+AE280+AG280+AI280","v":0},{"$f":"+F280+H280+J280+L280+N280+P280+R280+T280+V280+X280+Z280+AB280+AD280+AF280+AH280+AJ280","v":0}]
["Personas con enfermedad de Chagas que suspenden o rechazan tratamiento farmacológico en el periodo (nifurtimox)",{"$f":"SUM(C281:D281)","v":0},{"$f":"+E281+G281+I281+K281+M281+O281+Q281+S281+U281+W281+Y281+AA281+AC281+AE281+AG281+AI281","v":0},0]
["Personas con enfermedad de Chagas que finalizan tratamiento farmacológico en el periodo (nifurtimox)",0,0,0]
["Personas con enfermedad de Chagas que ingresan a tratamiento farmacológico en el periodo (benznidazol)",0,0,0]
["Personas con enfermedad de Chagas que suspenden o rechazan tratamiento farmacológico en el periodo (benznidazol)",0,0,0]
["Personas con enfermedad de Chagas que finalizan tratamiento farmacológico en el periodo (benznidazol)",0,0,0]
["SECCION J: DONANTES CONFIRMADOS ENFEMERDAD DE CHAGAS"]
["CONDICIÓN","TOTAL",null,null,"GRUPO DE EDAD y SEXO",null,null,null,null,null,null,null,null,null,null,null,null,null,null,null,null,null,null,null,null,null,null,null,"Pueblos Originarios","Migrantes"]
[null,null,null,null,"18-19 años",null,"20 - 24 años",null,"25 - 29 años",null,"30 - 34 años",null,"35 - 39 años",null,"40 - 44 años",null,"45 - 49 años",null,"50 - 54 años",null,"55-59 años",null,"60-64 años",null,"65-69 años",null,"mayor a 70 años"]
[null,"Ambos sexos","Hombres","Mujeres","Hombres","Mujeres","Hombres","Mujeres","Hombres","Mujeres","Hombres","Mujeres","Hombres","Mujeres","Hombres","Mujeres","Hombres","Mujeres","Hombres","Mujeres","Hombres","Mujeres","Hombres","Mujeres","Hombres","Mujeres","Hombres","Mujeres"]
["Donantes confirmados con enfermedad de Chagas en el periodo",{"$f":"SUM(C290:D290)","v":0},{"$f":"+E290+G290+I290+K290+M290+O290+Q290+S290+U290+W290+Y290+AA290","v":0},{"$f":"+F290+H290+J290+L290+N290+P290+R290+T290+V290+X290+Z290+AB290","v":0},null,null,null,null,null,null,null,null,null,null,null,null,null,null,null,null,null,null,null,null,null,null,null,null,null,null,{"$f":"$CA290&$CB290&$CC290&$CD290&$CE290&$CF290&$CG290&$CH290&$CI290&$CJ290&$CK290&$CL290&$CM290&$CN290&$CO290&$CP290&$CQ290&$CR290&$CS290&$CT290&$CU290&$CV290&$CW290&$CX290&$CY290&$CZ290","v":""},null,null,null,null,null,null,null,null,null,null,null,null,null,null,null,null,null,null,null,null,null,null,null,null,null,null,null,null,null,null,null,null,null,null,null,null,null,null,null,null,null,null,null,null,null,null,null,{"$f":"IF(AND($B290<>0,AC290=\"\"),\"* No olvide ingresar la columna Pueblos Originarios (Digite CERO si no tiene). \",IF(AC290>$B290,\"* El Número de Donantes Confirmados pertenecientes a Pueblos Originarios no puede superar el Total. \",\"\"))","v":""},{"$f":"IF(AND($B290<>0,AD290=\"\"),\"* No olvide ingresar la columna Migrantes (Digite CERO si no tiene). \",IF(AD290>$B290,\"* El Número de Donantes Confirmados pertenecientes a Población Migrante no puede superar el Total. \",\"\"))","v":""},null,null,null,null,null,null,null,null,null,null,null,null,null,null,null,null,null,null,null,null,null,null,null,null,{"$f":"IF(AND($B290<>0,AC290=\"\"),1,IF(AC290>$B290,1,0))","v":0},{"$f":"IF(AND($B290<>0,AD290=\"\"),1,IF(AD290>$B290,1,0))","v":0}]
["Donantes confirmados e  informados de su condición serologica para enfermedad de Chagas",{"$f":"SUM(C291:D291)","v":0},{"$f":"+E291+G291+I291+K291+M291+O291+Q291+S291+U291+W291+Y291+AA291","v":0},{"$f":"+F291+H291+J291+L291+N291+P291+R291+T291+V291+X291+Z291+AB291","v":0},null,null,null,null,null,null,null,null,null,null,null,null,null,null,null,null,null,null,null,null,null,null,null,null,null,null,"",null,null,null,null,null,null,null,null,null,null,null,null,null,null,null,null,null,null,null,null,null,null,null,null,null,null,null,null,null,null,null,null,null,null,null,null,null,null,null,null,null,null,null,null,null,null,null,{"$f":"IF(AND($B291<>0,AC291=\"\"),\"* No olvide ingresar la columna Pueblos Originarios (Digite CERO si no tiene). \",IF(AC291>$B291,\"* El Número de Donantes Confirmados pertenecientes a Pueblos Originarios no puede superar el Total. \",\"\"))","v":""},{"$f":"IF(AND($B291<>0,AD291=\"\"),\"* No olvide ingresar la columna Migrantes (Digite CERO si no tiene). \",IF(AD291>$B291,\"* El Número de Donantes Confirmados pertenecientes a Población Migrante no puede superar el Total. \",\"\"))","v":""},null,null,null,null,null,null,null,null,null,null,null,null,null,null,null,null,null,null,null,null,null,null,null,null,{"$f":"IF(AND($B291<>0,AC291=\"\"),1,IF(AC291>$B291,1,0))","v":0},{"$f":"IF(AND($B291<>0,AD291=\"\"),1,IF(AD291>$B291,1,0))","v":0}]
["SECCIÓN K: SEGUIMIENTO DE CASOS"]
["CONDICIÓN","TOTAL",null,null,"GRUPO DE EDAD y SEXO",null,null,null,null,null,null,null,null,null,null,null,null,null,null,null,null,null,null,null,null,null,null,null,null,null,null,null,null,null,null,null,"Pueblos Originarios","Migrantes"]
[null,null,null,null,"menor 1 año",null,"1-4 años",null,"5-9 años",null,"10-14 años",null,"15 - 19 años",null,"20 - 24 años",null,"25 - 29 años",null,"30 - 34 años",null,"35 - 39 años",null,"40 - 44 años",null,"45 - 49 años",null,"50 - 54 años",null,"55-59 años",null,"60-64 años",null,"65-69 años",null,"mayor 70 años"]
[null,"Ambos sexos","Hombres","Mujeres","Hombres","Mujeres","Hombres","Mujeres","Hombres","Mujeres","Hombres","Mujeres","Hombres","Mujeres","Hombres","Mujeres","Hombres","Mujeres","Hombres","Mujeres","Hombres","Mujeres","Hombres","Mujeres","Hombres","Mujeres","Hombres","Mujeres","Hombres","Mujeres","Hombres","Mujeres","Hombres","Mujeres","Hombres","Mujeres"]
["Control de las personas con Chagas crónico en Atencion Primaria de Salud",{"$f":"SUM(C296:D296)","v":0},{"$f":"+E296+G296+I296+K296+M296+O296+Q296+S296+U296+W296+Y296+AA296+AC296+AE296+AG296+AI296","v":0},{"$f":"+F296+H296+J296+L296+N296+P296+R296+T296+V296+X296+Z296+AB296+AD296+AF296+AH296+AJ296","v":0}]
["Estudio de  contactos familiares de un caso por Infección por T cruzi",{"$f":"SUM(C297:D297)","v":0},{"$f":"+E297+G297+I297+K297+M297+O297+Q297+S297+U297+W297+Y297+AA297+AC297+AE297+AG297+AI297","v":0},0,null,null,null,null,null,null,null,null,null,null,null,null,null,null,null,null,null,null,null,null,null,null,null,null,null,null,null,null,null,null,null,null,null,null,{"$f":"$CA297&$CB297&$CC297&$CD297&$CE297&$CF297&$CG297&$CH297&$CI297&$CJ297&$CK297&$CL297&$CM297&$CN297&$CO297&$CP297&$CQ297&$CR297&$CS297&$CT297&$CU297&$CV297&$CW297&$CX297&$CY297&$CZ297","v":""},null,null,null,null,null,null,null,null,null,null,null,null,null,null,null,null,null,null,null,null,null,null,null,null,null,null,null,null,null,null,null,null,null,null,null,null,null,null,null,{"$f":"IF(AND($B297<>0,AK297=\"\"),\"* No olvide ingresar la columna Pueblos Originarios (Digite CERO si no tiene). \",IF(AK297>$B297,\"* El Número de personas en seguimiento pertenecientes a Pueblos Originarios no puede superar el Total. \",\"\"))","v":""},{"$f":"IF(AND($B297<>0,AL297=\"\"),\"* No olvide ingresar la columna Migrantes (Digite CERO si no tiene). \",IF(AL297>$B297,\"* El Número de personas en seguimiento pertenecientes a Población Migrante no puede superar el Total. \",\"\"))","v":""},null,null,null,null,null,null,null,null,null,null,null,null,null,null,null,null,null,null,null,null,null,null,null,null,{"$f":"IF(AND($B297<>0,AK297=\"\"),1,IF(AK297>$B297,1,0))","v":0},{"$f":"IF(AND($B297<>0,AL297=\"\"),1,IF(AL297>$B297,1,0))","v":0}]
["Casos contactos familiares confirmados por Infección por T cruzi",0,0,{"$f":"+F298+H298+J298+L298+N298+P298+R298+T298+V298+X298+Z298+AB298+AD298+AF298+AH298+AJ298","v":0},null,null,null,null,null,null,null,null,null,null,null,null,null,null,null,null,null,null,null,null,null,null,null,null,null,null,null,null,null,null,null,null,null,null,"",null,null,null,null,null,null,null,null,null,null,null,null,null,null,null,null,null,null,null,null,null,null,null,null,null,null,null,null,null,null,null,null,null,null,null,null,null,null,null,{"$f":"IF(AND($B298<>0,AK298=\"\"),\"* No olvide ingresar la columna Pueblos Originarios (Digite CERO si no tiene). \",IF(AK298>$B298,\"* El Número de personas en seguimiento pertenecientes a Pueblos Originarios no puede superar el Total. \",\"\"))","v":""},{"$f":"IF(AND($B298<>0,AL298=\"\"),\"* No olvide ingresar la columna Migrantes (Digite CERO si no tiene). \",IF(AL298>$B298,\"* El Número de personas en seguimiento pertenecientes a Población Migrante no puede superar el Total. \",\"\"))","v":""},null,null,null,null,null,null,null,null,null,null,null,null,null,null,null,null,null,null,null,null,null,null,null,null,{"$f":"IF(AND($B298<>0,AK298=\"\"),1,IF(AK298>$B298,1,0))","v":0},{"$f":"IF(AND($B298<>0,AL298=\"\"),1,IF(AL298>$B298,1,0))","v":0}]
[]
[]
[]
[]
[]
[]
[]
[]
[]
[{"$f":"SUM(B296:B298,B290:B291,B280:B285,B270:B274,B262:B266,C236:D258,B225:C231,B214:C220,C187:D209,C160:D182,C151:P155,C143:P147,B122:C139,B100:C117,B78:C95,B56:C73,B34:C51,B12:C29)","v":55},{"$f":"SUM(DA12:DZ298)","v":0}]

{"sheet":"A11a","index":11,"n_rows":101,"n_cols":86,"rows_kept":101,"cut":false,"hidden":false,"merged":[[47,0,47,7],[37,11,38,11],[37,12,38,12],[23,0,23,6],[24,0,25,0],[24,1,25,1],[24,2,24,10],[24,11,25,11],[60,12,61,12],[7,0,7,2],[36,0,36,8],[5,2,5,10],[74,0,75,0],[74,1,75,1],[74,2,74,10],[60,1,61,1],[60,2,60,10],[53,0,53,6],[53,7,53,10],[59,0,59,6],[59,7,59,10],[32,0,32,6],[37,1,38,1],[37,2,37,10],[60,0,61,0],[92,0,92,3],[24,12,25,12],[8,0,9,0],[8,1,9,1],[8,2,8,10],[8,11,9,11],[8,12,9,12],[73,0,73,6],[88,0,88,12],[19,7,19,10],[19,0,19,4],[37,0,38,0],[74,11,75,11],[74,12,75,12],[60,11,61,11]]}
["SERVICIO DE SALUD"]
[{"$f":"CONCATENATE(\"COMUNA: \",NOMBRE!B2,\" - \",\"( \",NOMBRE!C2,NOMBRE!D2,NOMBRE!E2,NOMBRE!F2,NOMBRE!G2,\" )\")","v":"COMUNA: CALLE LARGA - ( 05302 )"}]
[{"$f":"CONCATENATE(\"ESTABLECIMIENTO/ESTRATEGIA: \",NOMBRE!B3,\" - \",\"( \",NOMBRE!C3,NOMBRE!D3,NOMBRE!E3,NOMBRE!F3,NOMBRE!G3,NOMBRE!H3,\" )\")","v":"ESTABLECIMIENTO/ESTRATEGIA: DR. JOSE JOAQUIN AGUIRRE CAMPOS - ( 108308 )"}]
[{"$f":"CONCATENATE(\"MES: \",NOMBRE!B6,\" - \",\"( \",NOMBRE!C6,NOMBRE!D6,\" )\")","v":"MES: DICIEMBRE - ( 12 )"}]
[{"$f":"CONCATENATE(\"AÑO: \",NOMBRE!B7)","v":"AÑO: 2022"}]
[null,null,"REM-A11a.  TRANSMISIÓN VERTICAL MATERNO INFANTIL"]
[]
["SECCION A: TRATAMIENTO DE SIFILIS EN GESTANTES"]
[null,"Total","GRUPO DE EDAD (En años)",null,null,null,null,null,null,null,null,"Pueblos Originarios","Migrantes"]
[null,null,"10 a 14 años","15 a 19 años","20 a 24 años","25 a 29 años","30 a 34 años","35 a 39 años","40 a 44 años","45 a 49 años","50 a 54 años"]
["TRATAMIENTO DE SIFILIS EN GESTANTES EN ATENCIÓN PRIMARIA"]
["Gestantes con 1° test no treponémico reactivo en este embarazo con  penicilina administrada en Atención Primaria",{"$f":"SUM(C12:K12)","v":0},null,null,null,null,null,null,null,null,null,null,null,{"$f":"CONCATENATE($CA12,$CB12)","v":""},null,null,null,null,null,null,null,null,null,null,null,null,null,null,null,null,null,null,null,null,null,null,null,null,null,null,null,null,null,null,null,null,null,null,null,null,null,null,null,null,null,null,null,null,null,null,null,null,null,null,null,null,null,null,null,null,null,null,null,null,null,null,null,null,{"$f":"IF(AND($B12<>0,L12=\"\"),\"* No olvide ingresar la columna Pueblos Originarios (Digite CERO si no tiene). \",IF(L12>$B12,\"* El Número de personas en tratamiento pertenecientes a Pueblos Originarios no puede superar el Total. \",\"\"))","v":""},{"$f":"IF(AND($B12<>0,M12=\"\"),\"* No olvide ingresar la columna Migrantes (Digite CERO si no tiene). \",IF(M12>$B12,\"* El Número de personas en tratamiento pertenecientes a Población Migrante no puede superar el Total. \",\"\"))","v":""},null,null,null,null,{"$f":"IF(AND($B12<>0,L12=\"\"),1,IF(L12>$B12,1,0))","v":0},{"$f":"IF(AND($B12<>0,M12=\"\"),1,IF(M12>$B12,1,0))","v":0}]
["Gestantes con 1° test no treponémico reactivo ",{"$f":"SUM(C13:K13)","v":0},null,null,null,null,null,null,null,null,null,null,null,{"$f":"CONCATENATE($CA13,$CB13)","v":""},null,null,null,null,null,null,null,null,null,null,null,null,null,null,null,null,null,null,null,null,null,null,null,null,null,null,null,null,null,null,null,null,null,null,null,null,null,null,null,null,null,null,null,null,null,null,null,null,null,null,null,null,null,null,null,null,null,null,null,null,null,null,null,null,{"$f":"IF(AND($B13<>0,L13=\"\"),\"* No olvide ingresar la columna Pueblos Originarios (Digite CERO si no tiene). \",IF(L13>$B13,\"* El Número de personas en tratamiento pertenecientes a Pueblos Originarios no puede superar el Total. \",\"\"))","v":""},{"$f":"IF(AND($B13<>0,M13=\"\"),\"* No olvide ingresar la columna Migrantes (Digite CERO si no tiene). \",IF(M13>$B13,\"* El Número de personas en tratamiento pertenecientes a Población Migrante no puede superar el Total. \",\"\"))","v":""},null,null,null,null,{"$f":"IF(AND($B13<>0,L13=\"\"),1,IF(L13>$B13,1,0))","v":0},{"$f":"IF(AND($B13<>0,M13=\"\"),1,IF(M13>$B13,1,0))","v":0}]
["TRATAMIENTO DE  SIFILIS EN GESTANTES EN ESPECIALIDADES",null,null,null,null,null,null,null,null,null,null,null,null,null,null,null,null,null,null,null,null,null,null,null,null,null,null,null,null,null,null,null,null,null,null,null,null,null,null,null,null,null,null,null,null,null,null,null,null,null,null,null,null,null,null,null,null,null,null,null,null,null,null,null,null,null,null,null,null,null,null,null,null,null,null,null,null,null,"","",null,null,null,null,0,0]
["Gestantes con 1° test no treponémico reactivo en este embarazo  con penicilina administrada en especialidades",{"$f":"SUM(C15:K15)","v":0},null,null,null,null,null,null,null,null,null,null,null,"",null,null,null,null,null,null,null,null,null,null,null,null,null,null,null,null,null,null,null,null,null,null,null,null,null,null,null,null,null,null,null,null,null,null,null,null,null,null,null,null,null,null,null,null,null,null,null,null,null,null,null,null,null,null,null,null,null,null,null,null,null,null,null,null,"","",null,null,null,null,0,0]
["Gestantes con 1° test no treponémico reactivo en este embarazo",{"$f":"SUM(C16:K16)","v":0},null,null,null,null,null,null,null,null,null,null,null,"",null,null,null,null,null,null,null,null,null,null,null,null,null,null,null,null,null,null,null,null,null,null,null,null,null,null,null,null,null,null,null,null,null,null,null,null,null,null,null,null,null,null,null,null,null,null,null,null,null,null,null,null,null,null,null,null,null,null,null,null,null,null,null,null,"","",null,null,null,null,0,0]
["TRATAMIENTO SIFILIS EN GESTANTES AL MOMENTO DEL PARTO",null,null,null,null,null,null,null,null,null,null,null,null,null,null,null,null,null,null,null,null,null,null,null,null,null,null,null,null,null,null,null,null,null,null,null,null,null,null,null,null,null,null,null,null,null,null,null,null,null,null,null,null,null,null,null,null,null,null,null,null,null,null,null,null,null,null,null,null,null,null,null,null,null,null,null,null,null,"","",null,null,null,null,0,0]
["Gestantes con 1° test no treponemico reactivo en este embarazo con  penicilina administrada al parto",{"$f":"SUM(C18:K18)","v":0},null,null,null,null,null,null,null,null,null,null,null,"",null,null,null,null,null,null,null,null,null,null,null,null,null,null,null,null,null,null,null,null,null,null,null,null,null,null,null,null,null,null,null,null,null,null,null,null,null,null,null,null,null,null,null,null,null,null,null,null,null,null,null,null,null,null,null,null,null,null,null,null,null,null,null,null,"","",null,null,null,null,{"$f":"IF(AND($B18<>0,L18=\"\"),1,IF(L18>$B18,1,0))","v":0},{"$f":"IF(AND($B18<>0,M18=\"\"),1,IF(M18>$B18,1,0))","v":0}]
["Gestantes con 1° test no treponémico reactivo en este embarazo",{"$f":"SUM(C19:K19)","v":0},null,null,null,null,null,null,null,null,null,null,null,"",null,null,null,null,null,null,null,null,null,null,null,null,null,null,null,null,null,null,null,null,null,null,null,null,null,null,null,null,null,null,null,null,null,null,null,null,null,null,null,null,null,null,null,null,null,null,null,null,null,null,null,null,null,null,null,null,null,null,null,null,null,null,null,null,"","",null,null,null,null,{"$f":"IF(AND($B19<>0,L19=\"\"),1,IF(L19>$B19,1,0))","v":0},{"$f":"IF(AND($B19<>0,M19=\"\"),1,IF(M19>$B19,1,0))","v":0}]
["SECCIÓN B: NIÑOS Y NIÑAS EXPUESTOS A LA SIFILIS TRATADOS AL NACER"]
[null,"Total","Pueblos Originarios","Migrantes"]
["Recién nacidos/as expuestos a sífilis (hijos de mujer con serología reactiva para sífilis al parto no tratada o inadecuadamente tratada), que reciben tratamiento para sífilis congénita al nacer",null,null,null,{"$f":"CONCATENATE($CA22,$CB22)","v":""},null,null,null,null,null,null,null,null,null,null,null,null,null,null,null,null,null,null,null,null,null,null,null,null,null,null,null,null,null,null,null,null,null,null,null,null,null,null,null,null,null,null,null,null,null,null,null,null,null,null,null,null,null,null,null,null,null,null,null,null,null,null,null,null,null,null,null,null,null,null,null,null,null,{"$f":"IF(AND($B22<>0,C22=\"\"),\"* No olvide ingresar la columna Pueblos Originarios (Digite CERO si no tiene). \",IF(C22>$B22,\"* El Número de recién nacidos pertenecientes a Pueblos Originarios no puede superar el Total. \",\"\"))","v":""},{"$f":"IF(AND($B22<>0,D22=\"\"),\"* No olvide ingresar la columna Migrantes (Digite CERO si no tiene). \",IF(D22>$B22,\"* El Número de recién nacidos en tratamiento pertenecientes a Población Migrante no puede superar el Total. \",\"\"))","v":""},null,null,null,null,{"$f":"IF(AND($B22<>0,C22=\"\"),1,IF(C22>$B22,1,0))","v":0},{"$f":"IF(AND($B22<>0,D22=\"\"),1,IF(D22>$B22,1,0))","v":0}]
["Recién nacidos/as expuestos a sífilis (hijos de mujer con serología reactiva para sífilis al parto  no tratada o inadecuadamente tratada)",null,null,null,"",null,null,null,null,null,null,null,null,null,null,null,null,null,null,null,null,null,null,null,null,null,null,null,null,null,null,null,null,null,null,null,null,null,null,null,null,null,null,null,null,null,null,null,null,null,null,null,null,null,null,null,null,null,null,null,null,null,null,null,null,null,null,null,null,null,null,null,null,null,null,null,null,null,{"$f":"IF(AND($B23<>0,C23=\"\"),\"* No olvide ingresar la columna Pueblos Originarios (Digite CERO si no tiene). \",IF(C23>$B23,\"* El Número de recién nacidos pertenecientes a Pueblos Originarios no puede superar el Total. \",\"\"))","v":""},{"$f":"IF(AND($B23<>0,D23=\"\"),\"* No olvide ingresar la columna Migrantes (Digite CERO si no tiene). \",IF(D23>$B23,\"* El Número de recién nacidos en tratamiento pertenecientes a Población Migrante no puede superar el Total. \",\"\"))","v":""},null,null,null,null,{"$f":"IF(AND($B23<>0,C23=\"\"),1,IF(C23>$B23,1,0))","v":0},{"$f":"IF(AND($B23<>0,D23=\"\"),1,IF(D23>$B23,1,0))","v":0}]
["SECCIÓN C: ABORTOS Y DEFUNCIONES FETALES ATRIBUIDAS A SIFILIS SEGÚN EDAD GESTACIONAL"]
[null,"Total","GRUPO DE EDAD (En años)",null,null,null,null,null,null,null,null,"Pueblos Originarios","Migrantes"]
[null,null,"10 a 14 años","15 a 19 años","20 a 24 años","25 a 29 años","30 a 34 años","35 a 39 años","40 a 44 años","45 a 49 años","50 a 54 años"]
["Mujeres con serología reactiva para sífilis con aborto menor o igual a 19+6 semanas o menor a 500 grs ",{"$f":"SUM(C27:K27)","v":0},null,null,null,null,null,null,null,null,null,null,null,{"$f":"CONCATENATE($CA27,$CB27)","v":""},null,null,null,null,null,null,null,null,null,null,null,null,null,null,null,null,null,null,null,null,null,null,null,null,null,null,null,null,null,null,null,null,null,null,null,null,null,null,null,null,null,null,null,null,null,null,null,null,null,null,null,null,null,null,null,null,null,null,null,null,null,null,null,null,{"$f":"IF(AND($B27<>0,L27=\"\"),\"* No olvide ingresar la columna Pueblos Originarios (Digite CERO si no tiene). \",IF(L27>$B27,\"* El Número de mujeres pertenecientes a Pueblos Originarios no puede superar el Total. \",\"\"))","v":""},{"$f":"IF(AND($B27<>0,M27=\"\"),\"* No olvide ingresar la columna Migrantes (Digite CERO si no tiene). \",IF(M27>$B27,\"* El Número de mujeres pertenecientes a Población Migrante no puede superar el Total. \",\"\"))","v":""},null,null,null,null,{"$f":"IF(AND($B27<>0,L27=\"\"),1,IF(L27>$B27,1,0))","v":0},{"$f":"IF(AND($B27<>0,M27=\"\"),1,IF(M27>$B27,1,0))","v":0}]
["Mujeres con aborto menor o igual a 19+6 semanas o menor a 500 grs ",0,null,null,null,null,null,null,null,null,null,null,null,"",null,null,null,null,null,null,null,null,null,null,null,null,null,null,null,null,null,null,null,null,null,null,null,null,null,null,null,null,null,null,null,null,null,null,null,null,null,null,null,null,null,null,null,null,null,null,null,null,null,null,null,null,null,null,null,null,null,null,null,null,null,null,null,null,{"$f":"IF(AND($B28<>0,L28=\"\"),\"* No olvide ingresar la columna Pueblos Originarios (Digite CERO si no tiene). \",IF(L28>$B28,\"* El Número de mujeres pertenecientes a Pueblos Originarios no puede superar el Total. \",\"\"))","v":""},{"$f":"IF(AND($B28<>0,M28=\"\"),\"* No olvide ingresar la columna Migrantes (Digite CERO si no tiene). \",IF(M28>$B28,\"* El Número de mujeres pertenecientes a Población Migrante no puede superar el Total. \",\"\"))","v":""},null,null,null,null,{"$f":"IF(AND($B28<>0,L28=\"\"),1,IF(L28>$B28,1,0))","v":0},{"$f":"IF(AND($B28<>0,M28=\"\"),1,IF(M28>$B28,1,0))","v":0}]
["Mujeres con serología reactiva para sífilis con aborto entre las 20 y las 21+6 semanas o mayor a 500 grs ",0,null,null,null,null,null,null,null,null,null,null,null,"",null,null,null,null,null,null,null,null,null,null,null,null,null,null,null,null,null,null,null,null,null,null,null,null,null,null,null,null,null,null,null,null,null,null,null,null,null,null,null,null,null,null,null,null,null,null,null,null,null,null,null,null,null,null,null,null,null,null,null,null,null,null,null,null,"","",null,null,null,null,0,0]
["Mujeres con aborto entre las 20 y las 21+6 semanas o mayor a 500 grs ",0,null,null,null,null,null,null,null,null,null,null,null,"",null,null,null,null,null,null,null,null,null,null,null,null,null,null,null,null,null,null,null,null,null,null,null,null,null,null,null,null,null,null,null,null,null,null,null,null,null,null,null,null,null,null,null,null,null,null,null,null,null,null,null,null,null,null,null,null,null,null,null,null,null,null,null,null,"","",null,null,null,null,0,0]
["Mujeres con serología reactiva para sífilis con mortinato mayor o igual a 22 semanas ",0,null,null,null,null,null,null,null,null,null,null,null,"",null,null,null,null,null,null,null,null,null,null,null,null,null,null,null,null,null,null,null,null,null,null,null,null,null,null,null,null,null,null,null,null,null,null,null,null,null,null,null,null,null,null,null,null,null,null,null,null,null,null,null,null,null,null,null,null,null,null,null,null,null,null,null,null,"","",null,null,null,null,0,0]
["Mujeres con mortinato mayor o igual a 22 semanas ",0,null,null,null,null,null,null,null,null,null,null,null,"",null,null,null,null,null,null,null,null,null,null,null,null,null,null,null,null,null,null,null,null,null,null,null,null,null,null,null,null,null,null,null,null,null,null,null,null,null,null,null,null,null,null,null,null,null,null,null,null,null,null,null,null,null,null,null,null,null,null,null,null,null,null,null,null,{"$f":"IF(AND($B32<>0,L32=\"\"),\"* No olvide ingresar la columna Pueblos Originarios (Digite CERO si no tiene). \",IF(L32>$B32,\"* El Número de mujeres pertenecientes a Pueblos Originarios no puede superar el Total. \",\"\"))","v":""},"",null,null,null,null,0,0]
["SECCION D: APLICACIÓN DE PROFILAXIS OCULAR PARA GONORREA EN RECIEN NACIDOS"]
[null,"Total","Pueblos Originarios","Migrantes"]
["Recién Nacidos  vivos que reciben profilaxis ocular para gonorrea al nacer",null,null,null,{"$f":"CONCATENATE($CA35,$CB35)","v":""},null,null,null,null,null,null,null,null,null,null,null,null,null,null,null,null,null,null,null,null,null,null,null,null,null,null,null,null,null,null,null,null,null,null,null,null,null,null,null,null,null,null,null,null,null,null,null,null,null,null,null,null,null,null,null,null,null,null,null,null,null,null,null,null,null,null,null,null,null,null,null,null,null,{"$f":"IF(AND($B35<>0,C35=\"\"),\"* No olvide ingresar la columna Pueblos Originarios (Digite CERO si no tiene). \",IF(C35>$B35,\"* El Número de recién nacidos pertenecientes a Pueblos Originarios no puede superar el Total. \",\"\"))","v":""},{"$f":"IF(AND($B35<>0,D35=\"\"),\"* No olvide ingresar la columna Migrantes (Digite CERO si no tiene). \",IF(D35>$B35,\"* El Número de recién nacidos en tratamiento pertenecientes a Población Migrante no puede superar el Total. \",\"\"))","v":""},null,null,null,null,{"$f":"IF(AND($B35<>0,C35=\"\"),1,IF(C35>$B35,1,0))","v":0},{"$f":"IF(AND($B35<>0,D35=\"\"),1,IF(D35>$B35,1,0))","v":0}]
["Recién nacidos vivos ",null,null,null,"",null,null,null,null,null,null,null,null,null,null,null,null,null,null,null,null,null,null,null,null,null,null,null,null,null,null,null,null,null,null,null,null,null,null,null,null,null,null,null,null,null,null,null,null,null,null,null,null,null,null,null,null,null,null,null,null,null,null,null,null,null,null,null,null,null,null,null,null,null,null,null,null,null,{"$f":"IF(AND($B36<>0,C36=\"\"),\"* No olvide ingresar la columna Pueblos Originarios (Digite CERO si no tiene). \",IF(C36>$B36,\"* El Número de recién nacidos pertenecientes a Pueblos Originarios no puede superar el Total. \",\"\"))","v":""},{"$f":"IF(AND($B36<>0,D36=\"\"),\"* No olvide ingresar la columna Migrantes (Digite CERO si no tiene). \",IF(D36>$B36,\"* El Número de recién nacidos en tratamiento pertenecientes a Población Migrante no puede superar el Total. \",\"\"))","v":""},null,null,null,null,{"$f":"IF(AND($B36<>0,C36=\"\"),1,IF(C36>$B36,1,0))","v":0},{"$f":"IF(AND($B36<>0,D36=\"\"),1,IF(D36>$B36,1,0))","v":0}]
["SECCIÓN E: MUJERES VIH QUE RECIBE PROTOCOLO PREVENCIÓN TRANSMISIÓN VERTICAL  AL PARTO (PTV)"]
[null,"Total","GRUPO DE EDAD (En años)",null,null,null,null,null,null,null,null,"Pueblos Originarios","Migrantes"]
[null,null,"10 a 14 años","15 a 19 años","20 a 24 años","25 a 29 años","30 a 34 años","35 a 39 años","40 a 44 años","45 a 49 años","50 a 54 años"]
["Mujeres VIH (+) confirmada  por ISP que recibieron protocolo PTV completo al parto",{"$f":"SUM(C40:K40)","v":0},null,null,null,null,null,null,null,null,null,null,null,{"$f":"CONCATENATE($CA40,$CB40)","v":""},null,null,null,null,null,null,null,null,null,null,null,null,null,null,null,null,null,null,null,null,null,null,null,null,null,null,null,null,null,null,null,null,null,null,null,null,null,null,null,null,null,null,null,null,null,null,null,null,null,null,null,null,null,null,null,null,null,null,null,null,null,null,null,null,{"$f":"IF(AND($B40<>0,L40=\"\"),\"* No olvide ingresar la columna Pueblos Originarios (Digite CERO si no tiene). \",IF(L40>$B40,\"* El Número de mujeres pertenecientes a Pueblos Originarios no puede superar el Total. \",\"\"))","v":""},{"$f":"IF(AND($B40<>0,M40=\"\"),\"* No olvide ingresar la columna Migrantes (Digite CERO si no tiene). \",IF(M40>$B40,\"* El Número de mujeres pertenecientes a Población Migrante no puede superar el Total. \",\"\"))","v":""},null,null,null,null,{"$f":"IF(AND($B40<>0,L40=\"\"),1,IF(L40>$B40,1,0))","v":0},{"$f":"IF(AND($B40<>0,M40=\"\"),1,IF(M40>$B40,1,0))","v":0}]
["Mujeres VIH (+) confirmada  por ISP que recibieron protocolo PTV incompleto al parto",{"$f":"SUM(C41:K41)","v":0},null,null,null,null,null,null,null,null,null,null,null,"",null,null,null,null,null,null,null,null,null,null,null,null,null,null,null,null,null,null,null,null,null,null,null,null,null,null,null,null,null,null,null,null,null,null,null,null,null,null,null,null,null,null,null,null,null,null,null,null,null,null,null,null,null,null,null,null,null,null,null,null,null,null,null,null,{"$f":"IF(AND($B41<>0,L41=\"\"),\"* No olvide ingresar la columna Pueblos Originarios (Digite CERO si no tiene). \",IF(L41>$B41,\"* El Número de mujeres pertenecientes a Pueblos Originarios no puede superar el Total. \",\"\"))","v":""},{"$f":"IF(AND($B41<>0,M41=\"\"),\"* No olvide ingresar la columna Migrantes (Digite CERO si no tiene). \",IF(M41>$B41,\"* El Número de mujeres pertenecientes a Población Migrante no puede superar el Total. \",\"\"))","v":""},null,null,null,null,{"$f":"IF(AND($B41<>0,L41=\"\"),1,IF(L41>$B41,1,0))","v":0},{"$f":"IF(AND($B41<>0,M41=\"\"),1,IF(M41>$B41,1,0))","v":0}]
["Mujeres VIH (+) confirmada  por ISP que no recibieron protocolo PTV al parto",0,null,null,null,null,null,null,null,null,null,null,null,"",null,null,null,null,null,null,null,null,null,null,null,null,null,null,null,null,null,null,null,null,null,null,null,null,null,null,null,null,null,null,null,null,null,null,null,null,null,null,null,null,null,null,null,null,null,null,null,null,null,null,null,null,null,null,null,null,null,null,null,null,null,null,null,null,"","",null,null,null,null,0,0]
["Mujeres VIH (+) confirmada por ISP atendidas por parto ",0,null,null,null,null,null,null,null,null,null,null,null,"",null,null,null,null,null,null,null,null,null,null,null,null,null,null,null,null,null,null,null,null,null,null,null,null,null,null,null,null,null,null,null,null,null,null,null,null,null,null,null,null,null,null,null,null,null,null,null,null,null,null,null,null,null,null,null,null,null,null,null,null,null,null,null,null,"","",null,null,null,null,0,0]
["Mujeres con serología VIH (+) no confirmada por ISP que recibieron protocolo PTV completo al parto",0,null,null,null,null,null,null,null,null,null,null,null,"",null,null,null,null,null,null,null,null,null,null,null,null,null,null,null,null,null,null,null,null,null,null,null,null,null,null,null,null,null,null,null,null,null,null,null,null,null,null,null,null,null,null,null,null,null,null,null,null,null,null,null,null,null,null,null,null,null,null,null,null,null,null,null,null,"","",null,null,null,null,0,0]
["Mujeres con serología VIH (+) no confirmada  por ISP que recibieron protocolo PTV incompleto al parto",0,null,null,null,null,null,null,null,null,null,null,null,"",null,null,null,null,null,null,null,null,null,null,null,null,null,null,null,null,null,null,null,null,null,null,null,null,null,null,null,null,null,null,null,null,null,null,null,null,null,null,null,null,null,null,null,null,null,null,null,null,null,null,null,null,null,null,null,null,null,null,null,null,null,null,null,null,"","",null,null,null,null,0,0]
["Mujeres con serología VIH (+) no confirmada  por ISP que No recibieron protocolo PTV al parto",{"$f":"SUM(C46:K46)","v":0},null,null,null,null,null,null,null,null,null,null,null,"",null,null,null,null,null,null,null,null,null,null,null,null,null,null,null,null,null,null,null,null,null,null,null,null,null,null,null,null,null,null,null,null,null,null,null,null,null,null,null,null,null,null,null,null,null,null,null,null,null,null,null,null,null,null,null,null,null,null,null,null,null,null,null,null,"","",null,null,null,null,0,0]
["Mujeres con serología VIH (+) no confirmada por ISP atendidas por parto  ",0,null,null,null,null,null,null,null,null,null,null,null,"",null,null,null,null,null,null,null,null,null,null,null,null,null,null,null,null,null,null,null,null,null,null,null,null,null,null,null,null,null,null,null,null,null,null,null,null,null,null,null,null,null,null,null,null,null,null,null,null,null,null,null,null,null,null,null,null,null,null,null,null,null,null,null,null,"","",null,null,null,null,0,0]
["SECCIÓN F: RECIEN NACIDOS EXPUESTOS AL VIH QUE RECIBE PROTOCOLO DE TRANSMISION VERTICAL"]
[null,"Total","Pueblos Originarios","Migrantes"]
["Recién nacidos vivos hijos de mujer VIH (+) confirmada por ISP que iniciaron profilaxis para VIH durante las primeras 12 hrs de vida ",null,null,null,{"$f":"CONCATENATE($CA50,$CB50)","v":""},null,null,null,null,null,null,null,null,null,null,null,null,null,null,null,null,null,null,null,null,null,null,null,null,null,null,null,null,null,null,null,null,null,null,null,null,null,null,null,null,null,null,null,null,null,null,null,null,null,null,null,null,null,null,null,null,null,null,null,null,null,null,null,null,null,null,null,null,null,null,null,null,null,{"$f":"IF(AND($B50<>0,C50=\"\"),\"* No olvide ingresar la columna Pueblos Originarios (Digite CERO si no tiene). \",IF(C50>$B50,\"* El Número de recién nacidos pertenecientes a Pueblos Originarios no puede superar el Total. \",\"\"))","v":""},{"$f":"IF(AND($B50<>0,D50=\"\"),\"* No olvide ingresar la columna Migrantes (Digite CERO si no tiene). \",IF(D50>$B50,\"* El Número de recién nacidos en tratamiento pertenecientes a Población Migrante no puede superar el Total. \",\"\"))","v":""},null,null,null,null,{"$f":"IF(AND($B50<>0,C50=\"\"),1,IF(C50>$B50,1,0))","v":0},{"$f":"IF(AND($B50<>0,D50=\"\"),1,IF(D50>$B50,1,0))","v":0}]
["Recién nacidos vivos hijos de mujer VIH (+) confirmada por ISP",null,null,null,"",null,null,null,null,null,null,null,null,null,null,null,null,null,null,null,null,null,null,null,null,null,null,null,null,null,null,null,null,null,null,null,null,null,null,null,null,null,null,null,null,null,null,null,null,null,null,null,null,null,null,null,null,null,null,null,null,null,null,null,null,null,null,null,null,null,null,null,null,null,null,null,null,null,{"$f":"IF(AND($B51<>0,C51=\"\"),\"* No olvide ingresar la columna Pueblos Originarios (Digite CERO si no tiene). \",IF(C51>$B51,\"* El Número de recién nacidos pertenecientes a Pueblos Originarios no puede superar el Total. \",\"\"))","v":""},{"$f":"IF(AND($B51<>0,D51=\"\"),\"* No olvide ingresar la columna Migrantes (Digite CERO si no tiene). \",IF(D51>$B51,\"* El Número de recién nacidos en tratamiento pertenecientes a Población Migrante no puede superar el Total. \",\"\"))","v":""},null,null,null,null,{"$f":"IF(AND($B51<>0,C51=\"\"),1,IF(C51>$B51,1,0))","v":0},{"$f":"IF(AND($B51<>0,D51=\"\"),1,IF(D51>$B51,1,0))","v":0}]
["Recién nacidos vivos hijos de mujer con serología VIH (+) no confirmada por ISP que iniciaron profilaxis para VIH durante las primeras 12 hrs de vida ",null,null,null,"",null,null,null,null,null,null,null,null,null,null,null,null,null,null,null,null,null,null,null,null,null,null,null,null,null,null,null,null,null,null,null,null,null,null,null,null,null,null,null,null,null,null,null,null,null,null,null,null,null,null,null,null,null,null,null,null,null,null,null,null,null,null,null,null,null,null,null,null,null,null,null,null,null,"",{"$f":"IF(AND($B52<>0,D52=\"\"),\"* No olvide ingresar la columna Migrantes (Digite CERO si no tiene). \",IF(D52>$B52,\"* El Número de recién nacidos en tratamiento pertenecientes a Población Migrante no puede superar el Total. \",\"\"))","v":""},null,null,null,null,0,0]
["Recién nacidos vivos hijos de mujer con serología VIH (+) no confirmada por ISP",null,null,null,"",null,null,null,null,null,null,null,null,null,null,null,null,null,null,null,null,null,null,null,null,null,null,null,null,null,null,null,null,null,null,null,null,null,null,null,null,null,null,null,null,null,null,null,null,null,null,null,null,null,null,null,null,null,null,null,null,null,null,null,null,null,null,null,null,null,null,null,null,null,null,null,null,null,"",{"$f":"IF(AND($B53<>0,D53=\"\"),\"* No olvide ingresar la columna Migrantes (Digite CERO si no tiene). \",IF(D53>$B53,\"* El Número de recién nacidos en tratamiento pertenecientes a Población Migrante no puede superar el Total. \",\"\"))","v":""},null,null,null,null,0,0]
["SECCÓN G: RECIEN NACIDOS EXPUESTOS AL VIH QUE RECIBEN LECHE MATERNIZADA AL ALTA"]
[null,"Total","Pueblos Originarios","Migrantes"]
["Recién nacidos vivos hijos de mujer VIH (+) confirmada por ISP que recibieron leche maternizada al alta (para ser consumida en su casa)",null,null,null,{"$f":"CONCATENATE($CA56,$CB56)","v":""},null,null,null,null,null,null,null,null,null,null,null,null,null,null,null,null,null,null,null,null,null,null,null,null,null,null,null,null,null,null,null,null,null,null,null,null,null,null,null,null,null,null,null,null,null,null,null,null,null,null,null,null,null,null,null,null,null,null,null,null,null,null,null,null,null,null,null,null,null,null,null,null,null,{"$f":"IF(AND($B56<>0,C56=\"\"),\"* No olvide ingresar la columna Pueblos Originarios (Digite CERO si no tiene). \",IF(C56>$B56,\"* El Número de recién nacidos pertenecientes a Pueblos Originarios no puede superar el Total. \",\"\"))","v":""},{"$f":"IF(AND($B56<>0,D56=\"\"),\"* No olvide ingresar la columna Migrantes (Digite CERO si no tiene). \",IF(D56>$B56,\"* El Número de recién nacidos en tratamiento pertenecientes a Población Migrante no puede superar el Total. \",\"\"))","v":""},null,null,null,null,{"$f":"IF(AND($B56<>0,C56=\"\"),1,IF(C56>$B56,1,0))","v":0},{"$f":"IF(AND($B56<>0,D56=\"\"),1,IF(D56>$B56,1,0))","v":0}]
["Recién nacidos vivos hijos de mujer VIH (+) confirmada por ISP",null,null,null,"",null,null,null,null,null,null,null,null,null,null,null,null,null,null,null,null,null,null,null,null,null,null,null,null,null,null,null,null,null,null,null,null,null,null,null,null,null,null,null,null,null,null,null,null,null,null,null,null,null,null,null,null,null,null,null,null,null,null,null,null,null,null,null,null,null,null,null,null,null,null,null,null,null,"",{"$f":"IF(AND($B57<>0,D57=\"\"),\"* No olvide ingresar la columna Migrantes (Digite CERO si no tiene). \",IF(D57>$B57,\"* El Número de recién nacidos en tratamiento pertenecientes a Población Migrante no puede superar el Total. \",\"\"))","v":""},null,null,null,null,0,0]
["Recien nacidos vivos hijos de mujer con serología VIH (+) no confirmada por el ISP  que recibieron leche maternizada al alta (para ser consumida en su casa)",null,null,null,"",null,null,null,null,null,null,null,null,null,null,null,null,null,null,null,null,null,null,null,null,null,null,null,null,null,null,null,null,null,null,null,null,null,null,null,null,null,null,null,null,null,null,null,null,null,null,null,null,null,null,null,null,null,null,null,null,null,null,null,null,null,null,null,null,null,null,null,null,null,null,null,null,null,"",{"$f":"IF(AND($B58<>0,D58=\"\"),\"* No olvide ingresar la columna Migrantes (Digite CERO si no tiene). \",IF(D58>$B58,\"* El Número de recién nacidos en tratamiento pertenecientes a Población Migrante no puede superar el Total. \",\"\"))","v":""},null,null,null,null,0,0]
["Recien nacidos vivos hijos de mujer con serología VIH (+) no confirmada por el ISP",null,null,null,"",null,null,null,null,null,null,null,null,null,null,null,null,null,null,null,null,null,null,null,null,null,null,null,null,null,null,null,null,null,null,null,null,null,null,null,null,null,null,null,null,null,null,null,null,null,null,null,null,null,null,null,null,null,null,null,null,null,null,null,null,null,null,null,null,null,null,null,null,null,null,null,null,null,"",{"$f":"IF(AND($B59<>0,D59=\"\"),\"* No olvide ingresar la columna Migrantes (Digite CERO si no tiene). \",IF(D59>$B59,\"* El Número de recién nacidos en tratamiento pertenecientes a Población Migrante no puede superar el Total. \",\"\"))","v":""},null,null,null,null,0,0]
["SECCION H: GESTANTES ESTUDIADAS PARA ESTREPTOCOCCUS GRUPO B (EGB) "]
[null,"Total","GRUPO DE EDAD (En años)",null,null,null,null,null,null,null,null,"Pueblos Originarios","Migrantes"]
[null,null,"10 a 14 años","15 a 19 años","20 a 24 años","25 a 29 años","30 a 34 años","35 a 39 años","40 a 44 años","45 a 49 años","50 a 54 años"]
["GESTANTES ESTUDIADAS PARA ESTREPTOCOCCUS GRUPO B (EGB) EN APS",null,null,null,null,null,null,null,null,null,null,null,null,null,null,null,null,null,null,null,null,null,null,null,null,null,null,null,null,null,null,null,null,null,null,null,null,null,null,null,null,null,null,null,null,null,null,null,null,null,null,null,null,null,null,null,null,null,null,null,null,null,null,null,null,null,null,null,null,null,null,null,null,null,null,null,null,null,{"$f":"IF(AND($B63<>0,L63=\"\"),\"* No olvide ingresar la columna Pueblos Originarios (Digite CERO si no tiene). \",IF(L63>$B63,\"* El Número de gestantes pertenecientes a Pueblos Originarios no puede superar el Total. \",\"\"))","v":""},{"$f":"IF(AND($B63<>0,M63=\"\"),\"* No olvide ingresar la columna Migrantes (Digite CERO si no tiene). \",IF(M63>$B63,\"* El Número de gestantes pertenecientes a Población Migrante no puede superar el Total. \",\"\"))","v":""},null,null,null,null,{"$f":"IF(AND($B63<>0,L63=\"\"),1,IF(L63>$B63,1,0))","v":0},{"$f":"IF(AND($B63<>0,M63=\"\"),1,IF(M63>$B63,1,0))","v":0}]
["Gestantes estudiadas para EGB en APS",{"$f":"SUM(C64:K64)","v":10},0,1,2,4,3,0,0,0,0,0,1,{"$f":"CONCATENATE($CA64,$CB64)","v":""},null,null,null,null,null,null,null,null,null,null,null,null,null,null,null,null,null,null,null,null,null,null,null,null,null,null,null,null,null,null,null,null,null,null,null,null,null,null,null,null,null,null,null,null,null,null,null,null,null,null,null,null,null,null,null,null,null,null,null,null,null,null,null,null,{"$f":"IF(AND($B64<>0,L64=\"\"),\"* No olvide ingresar la columna Pueblos Originarios (Digite CERO si no tiene). \",IF(L64>$B64,\"* El Número de gestantes pertenecientes a Pueblos Originarios no puede superar el Total. \",\"\"))","v":""},{"$f":"IF(AND($B64<>0,M64=\"\"),\"* No olvide ingresar la columna Migrantes (Digite CERO si no tiene). \",IF(M64>$B64,\"* El Número de gestantes pertenecientes a Población Migrante no puede superar el Total. \",\"\"))","v":""},null,null,null,null,{"$f":"IF(AND($B64<>0,L64=\"\"),1,IF(L64>$B64,1,0))","v":0},{"$f":"IF(AND($B64<>0,M64=\"\"),1,IF(M64>$B64,1,0))","v":0}]
["Gestantes estudiadas en APS con examen EGB (+) ",{"$f":"SUM(C65:K65)","v":0},0,0,0,0,0,0,0,0,0,0,0,"",null,null,null,null,null,null,null,null,null,null,null,null,null,null,null,null,null,null,null,null,null,null,null,null,null,null,null,null,null,null,null,null,null,null,null,null,null,null,null,null,null,null,null,null,null,null,null,null,null,null,null,null,null,null,null,null,null,null,null,null,null,null,null,null,"","",null,null,null,null,0,0]
["GESTANTES ESTUDIADAS PARA ESTREPTOCOCCUS GRUPO B (EGB) EN ESPECIALIDADES",null,null,null,null,null,null,null,null,null,null,null,null,null,null,null,null,null,null,null,null,null,null,null,null,null,null,null,null,null,null,null,null,null,null,null,null,null,null,null,null,null,null,null,null,null,null,null,null,null,null,null,null,null,null,null,null,null,null,null,null,null,null,null,null,null,null,null,null,null,null,null,null,null,null,null,null,null,"","",null,null,null,null,0,0]
["Gestantes estudiadas para EGB en Especialidades",{"$f":"SUM(C67:K67)","v":0},null,null,null,null,null,null,null,null,null,null,null,"",null,null,null,null,null,null,null,null,null,null,null,null,null,null,null,null,null,null,null,null,null,null,null,null,null,null,null,null,null,null,null,null,null,null,null,null,null,null,null,null,null,null,null,null,null,null,null,null,null,null,null,null,null,null,null,null,null,null,null,null,null,null,null,null,"","",null,null,null,null,0,0]
["Gestantes estudiadas en Especialidades con examen EGB (+) ",{"$f":"SUM(C68:K68)","v":0},null,null,null,null,null,null,null,null,null,null,null,"",null,null,null,null,null,null,null,null,null,null,null,null,null,null,null,null,null,null,null,null,null,null,null,null,null,null,null,null,null,null,null,null,null,null,null,null,null,null,null,null,null,null,null,null,null,null,null,null,null,null,null,null,null,null,null,null,null,null,null,null,null,null,null,null,"","",null,null,null,null,0,0]
["GESTANTES ESTUDIADAS PARA ESTREPTOCOCCUS GRUPO B (EGB) EN NIVEL HOSPITALARIO",null,null,null,null,null,null,null,null,null,null,null,null,null,null,null,null,null,null,null,null,null,null,null,null,null,null,null,null,null,null,null,null,null,null,null,null,null,null,null,null,null,null,null,null,null,null,null,null,null,null,null,null,null,null,null,null,null,null,null,null,null,null,null,null,null,null,null,null,null,null,null,null,null,null,null,null,null,"","",null,null,null,null,0,0]
["Gestantes estudiadas para EGB en nivel hospitalario",{"$f":"SUM(C70:K70)","v":0},null,null,null,null,null,null,null,null,null,null,null,"",null,null,null,null,null,null,null,null,null,null,null,null,null,null,null,null,null,null,null,null,null,null,null,null,null,null,null,null,null,null,null,null,null,null,null,null,null,null,null,null,null,null,null,null,null,null,null,null,null,null,null,null,null,null,null,null,null,null,null,null,null,null,null,null,"","",null,null,null,null,0,0]
["Gestantes estudiadas en nivel hospitalario con examen EGB (+) ",{"$f":"SUM(C71:K71)","v":0},null,null,null,null,null,null,null,null,null,null,null,"",null,null,null,null,null,null,null,null,null,null,null,null,null,null,null,null,null,null,null,null,null,null,null,null,null,null,null,null,null,null,null,null,null,null,null,null,null,null,null,null,null,null,null,null,null,null,null,null,null,null,null,null,null,null,null,null,null,null,null,null,null,null,null,null,"","",null,null,null,null,0,0]
["GESTANTES CON PROFILAXIS PARA ESTREPTOCOCCUS GRUPO B (EGB) AL PARTO",null,null,null,null,null,null,null,null,null,null,null,null,null,null,null,null,null,null,null,null,null,null,null,null,null,null,null,null,null,null,null,null,null,null,null,null,null,null,null,null,null,null,null,null,null,null,null,null,null,null,null,null,null,null,null,null,null,null,null,null,null,null,null,null,null,null,null,null,null,null,null,null,null,null,null,null,null,"","",null,null,null,null,0,0]
["Gestantes con profilaxis para  EGB (+) al parto.",{"$f":"SUM(C73:K73)","v":0},null,null,null,null,null,null,null,null,null,null,null,"",null,null,null,null,null,null,null,null,null,null,null,null,null,null,null,null,null,null,null,null,null,null,null,null,null,null,null,null,null,null,null,null,null,null,null,null,null,null,null,null,null,null,null,null,null,null,null,null,null,null,null,null,null,null,null,null,null,null,null,null,null,null,null,null,"",{"$f":"IF(AND($B73<>0,M73=\"\"),\"* No olvide ingresar la columna Migrantes (Digite CERO si no tiene). \",IF(M73>$B73,\"* El Número de gestantes pertenecientes a Población Migrante no puede superar el Total. \",\"\"))","v":""},null,null,null,null,0,0]
["SECCION I: GESTANTES EVALUADAS PARA HEPATITIS B"]
[null,"Total","GRUPO DE EDAD (En años)",null,null,null,null,null,null,null,null,"Pueblos Originarios","Migrantes"]
[null,null,"10 a 14 años","15 a 19 años","20 a 24 años","25 a 29 años","30 a 34 años","35 a 39 años","40 a 44 años","45 a 49 años","50 a 54 años"]
["GESTANTES EVALUADAS PARA HEPATITIS B EN ATENCIÓN PRIMARIA",null,null,null,null,null,null,null,null,null,null,null,null,null,null,null,null,null,null,null,null,null,null,null,null,null,null,null,null,null,null,null,null,null,null,null,null,null,null,null,null,null,null,null,null,null,null,null,null,null,null,null,null,null,null,null,null,null,null,null,null,null,null,null,null,null,null,null,null,null,null,null,null,null,null,null,null,null,{"$f":"IF(AND($B77<>0,L77=\"\"),\"* No olvide ingresar la columna Pueblos Originarios (Digite CERO si no tiene). \",IF(L77>$B77,\"* El Número de gestantes pertenecientes a Pueblos Originarios no puede superar el Total. \",\"\"))","v":""},{"$f":"IF(AND($B77<>0,M77=\"\"),\"* No olvide ingresar la columna Migrantes (Digite CERO si no tiene). \",IF(M77>$B77,\"* El Número de gestantes pertenecientes a Población Migrante no puede superar el Total. \",\"\"))","v":""},null,null,null,null,{"$f":"IF(AND($B77<>0,L77=\"\"),1,IF(L77>$B77,1,0))","v":0},{"$f":"IF(AND($B77<>0,M77=\"\"),1,IF(M77>$B77,1,0))","v":0}]
["Gestantes con solicitud de estudio serológico para Hepatitis B ",{"$f":"SUM(C78:K78)","v":10},0,0,3,2,3,2,0,0,0,0,1,{"$f":"CONCATENATE($CA78,$CB78)","v":""},null,null,null,null,null,null,null,null,null,null,null,null,null,null,null,null,null,null,null,null,null,null,null,null,null,null,null,null,null,null,null,null,null,null,null,null,null,null,null,null,null,null,null,null,null,null,null,null,null,null,null,null,null,null,null,null,null,null,null,null,null,null,null,null,{"$f":"IF(AND($B78<>0,L78=\"\"),\"* No olvide ingresar la columna Pueblos Originarios (Digite CERO si no tiene). \",IF(L78>$B78,\"* El Número de gestantes pertenecientes a Pueblos Originarios no puede superar el Total. \",\"\"))","v":""},{"$f":"IF(AND($B78<>0,M78=\"\"),\"* No olvide ingresar la columna Migrantes (Digite CERO si no tiene). \",IF(M78>$B78,\"* El Número de gestantes pertenecientes a Población Migrante no puede superar el Total. \",\"\"))","v":""},null,null,null,null,{"$f":"IF(AND($B78<>0,L78=\"\"),1,IF(L78>$B78,1,0))","v":0},{"$f":"IF(AND($B78<>0,M78=\"\"),1,IF(M78>$B78,1,0))","v":0}]
["Gestantes con estudio serológico positivo confirmado para Hepatitis B ",{"$f":"SUM(C79:K79)","v":0},null,null,null,null,null,null,null,null,null,0,0,"",null,null,null,null,null,null,null,null,null,null,null,null,null,null,null,null,null,null,null,null,null,null,null,null,null,null,null,null,null,null,null,null,null,null,null,null,null,null,null,null,null,null,null,null,null,null,null,null,null,null,null,null,null,null,null,null,null,null,null,null,null,null,null,null,"","",null,null,null,null,0,0]
["Gestantes con Hepatitis B positivo derivada con especialista (Gastroenterólogo, hepatólogo u otro) ",{"$f":"SUM(C80:K80)","v":0},0,0,0,0,0,0,0,0,0,0,0,"",null,null,null,null,null,null,null,null,null,null,null,null,null,null,null,null,null,null,null,null,null,null,null,null,null,null,null,null,null,null,null,null,null,null,null,null,null,null,null,null,null,null,null,null,null,null,null,null,null,null,null,null,null,null,null,null,null,null,null,null,null,null,null,null,"","",null,null,null,null,0,0]
["GESTANTES EVALUADAS PARA HEPATITIS B EN ESPECIALIDADES",null,null,null,null,null,null,null,null,null,null,null,null,null,null,null,null,null,null,null,null,null,null,null,null,null,null,null,null,null,null,null,null,null,null,null,null,null,null,null,null,null,null,null,null,null,null,null,null,null,null,null,null,null,null,null,null,null,null,null,null,null,null,null,null,null,null,null,null,null,null,null,null,null,null,null,null,null,"","",null,null,null,null,0,0]
["Gestantes con solicitud de estudio serológico para Hepatitis B ",{"$f":"SUM(C82:K82)","v":0},null,null,null,null,null,null,null,null,null,null,null,"",null,null,null,null,null,null,null,null,null,null,null,null,null,null,null,null,null,null,null,null,null,null,null,null,null,null,null,null,null,null,null,null,null,null,null,null,null,null,null,null,null,null,null,null,null,null,null,null,null,null,null,null,null,null,null,null,null,null,null,null,null,null,null,null,"","",null,null,null,null,0,0]
["Gestantes con estudio serológico positivo confirmado para Hepatitis B ",0,null,null,null,null,null,null,null,null,null,null,null,"",null,null,null,null,null,null,null,null,null,null,null,null,null,null,null,null,null,null,null,null,null,null,null,null,null,null,null,null,null,null,null,null,null,null,null,null,null,null,null,null,null,null,null,null,null,null,null,null,null,null,null,null,null,null,null,null,null,null,null,null,null,null,null,null,"","",null,null,null,null,0,0]
["Gestantes con Hepatitis B positivo derivada con especialista (Gastroenterólogo, hepatólogo u otro) ",0,null,null,null,null,null,null,null,null,null,null,null,"",null,null,null,null,null,null,null,null,null,null,null,null,null,null,null,null,null,null,null,null,null,null,null,null,null,null,null,null,null,null,null,null,null,null,null,null,null,null,null,null,null,null,null,null,null,null,null,null,null,null,null,null,null,null,null,null,null,null,null,null,null,null,null,null,"","",null,null,null,null,0,0]
["GESTANTES EVALUADAS PARA HEPATITIS B EN PARTOS",null,null,null,null,null,null,null,null,null,null,null,null,null,null,null,null,null,null,null,null,null,null,null,null,null,null,null,null,null,null,null,null,null,null,null,null,null,null,null,null,null,null,null,null,null,null,null,null,null,null,null,null,null,null,null,null,null,null,null,null,null,null,null,null,null,null,null,null,null,null,null,null,null,null,null,null,null,"","",null,null,null,null,0,0]
["Gestantes con solicitud de estudio serológico para Hepatitis B ",{"$f":"SUM(C86:K86)","v":0},null,null,null,null,null,null,null,null,null,null,null,"",null,null,null,null,null,null,null,null,null,null,null,null,null,null,null,null,null,null,null,null,null,null,null,null,null,null,null,null,null,null,null,null,null,null,null,null,null,null,null,null,null,null,null,null,null,null,null,null,null,null,null,null,null,null,null,null,null,null,null,null,null,null,null,null,"","",null,null,null,null,0,0]
["Gestantes con estudio serológico positivo confirmado para Hepatitis B ",0,null,null,null,null,null,null,null,null,null,null,null,"",null,null,null,null,null,null,null,null,null,null,null,null,null,null,null,null,null,null,null,null,null,null,null,null,null,null,null,null,null,null,null,null,null,null,null,null,null,null,null,null,null,null,null,null,null,null,null,null,null,null,null,null,null,null,null,null,null,null,null,null,null,null,null,null,"","",null,null,null,null,0,0]
["Gestantes con Hepatitis B positivo derivada con especialista (Gastroenterólogo, hepatólogo u otro) ",0,null,null,null,null,null,null,null,null,null,null,null,"",null,null,null,null,null,null,null,null,null,null,null,null,null,null,null,null,null,null,null,null,null,null,null,null,null,null,null,null,null,null,null,null,null,null,null,null,null,null,null,null,null,null,null,null,null,null,null,null,null,null,null,null,null,null,null,null,null,null,null,null,null,null,null,null,{"$f":"IF(AND($B88<>0,L88=\"\"),\"* No olvide ingresar la columna Pueblos Originarios (Digite CERO si no tiene). \",IF(L88>$B88,\"* El Número de gestantes pertenecientes a Pueblos Originarios no puede superar el Total. \",\"\"))","v":""},{"$f":"IF(AND($B88<>0,M88=\"\"),\"* No olvide ingresar la columna Migrantes (Digite CERO si no tiene). \",IF(M88>$B88,\"* El Número de gestantes pertenecientes a Población Migrante no puede superar el Total. \",\"\"))","v":""},null,null,null,null,0,0]
["SECCION J: PROFILAXIS DE TRANSMISIÓN VERTICAL APLICADA AL RECIEN NACIDO, HIJO DE MADRE HEPATITIS B POSITIVA"]
[null,"Total","Pueblos Originarios","Migrantes"]
["Recién nacidos hijos de madre Hepatitis B positiva, nacidos en el periodo",null,null,null,{"$f":"CONCATENATE($CA91,$CB91)","v":""},null,null,null,null,null,null,null,null,null,null,null,null,null,null,null,null,null,null,null,null,null,null,null,null,null,null,null,null,null,null,null,null,null,null,null,null,null,null,null,null,null,null,null,null,null,null,null,null,null,null,null,null,null,null,null,null,null,null,null,null,null,null,null,null,null,null,null,null,null,null,null,null,null,{"$f":"IF(AND($B91<>0,C91=\"\"),\"* No olvide ingresar la columna Pueblos Originarios (Digite CERO si no tiene). \",IF(C91>$B91,\"* El Número de recién nacidos pertenecientes a Pueblos Originarios no puede superar el Total. \",\"\"))","v":""},{"$f":"IF(AND($B91<>0,D91=\"\"),\"* No olvide ingresar la columna Migrantes (Digite CERO si no tiene). \",IF(D91>$B91,\"* El Número de recién nacidos en tratamiento pertenecientes a Población Migrante no puede superar el Total. \",\"\"))","v":""},null,null,null,null,{"$f":"IF(AND($B91<>0,C91=\"\"),1,IF(C91>$B91,1,0))","v":0},{"$f":"IF(AND($B91<>0,D91=\"\"),1,IF(D91>$B91,1,0))","v":0}]
["Recién nacidos hijos de madre Hepatitis B positiva que recibieron profilaxis completa, según la normativa vigente",null,null,null,"",null,null,null,null,null,null,null,null,null,null,null,null,null,null,null,null,null,null,null,null,null,null,null,null,null,null,null,null,null,null,null,null,null,null,null,null,null,null,null,null,null,null,null,null,null,null,null,null,null,null,null,null,null,null,null,null,null,null,null,null,null,null,null,null,null,null,null,null,null,null,null,null,null,{"$f":"IF(AND($B92<>0,C92=\"\"),\"* No olvide ingresar la columna Pueblos Originarios (Digite CERO si no tiene). \",IF(C92>$B92,\"* El Número de recién nacidos pertenecientes a Pueblos Originarios no puede superar el Total. \",\"\"))","v":""},{"$f":"IF(AND($B92<>0,D92=\"\"),\"* No olvide ingresar la columna Migrantes (Digite CERO si no tiene). \",IF(D92>$B92,\"* El Número de recién nacidos en tratamiento pertenecientes a Población Migrante no puede superar el Total. \",\"\"))","v":""},null,null,null,null,{"$f":"IF(AND($B92<>0,C92=\"\"),1,IF(C92>$B92,1,0))","v":0},{"$f":"IF(AND($B92<>0,D92=\"\"),1,IF(D92>$B92,1,0))","v":0}]
["SECCION K: SEGUIMIENTO DE NIÑOS Y NIÑAS AL AÑO DE VIDA"]
[null,"Total","Pueblos Originarios","Migrantes"]
["Niños/as  hijos de madre Hepatitis B positiva evaluados al año de vida",null,null,null,{"$f":"CONCATENATE($CA95,$CB95)","v":""},null,null,null,null,null,null,null,null,null,null,null,null,null,null,null,null,null,null,null,null,null,null,null,null,null,null,null,null,null,null,null,null,null,null,null,null,null,null,null,null,null,null,null,null,null,null,null,null,null,null,null,null,null,null,null,null,null,null,null,null,null,null,null,null,null,null,null,null,null,null,null,null,null,{"$f":"IF(AND($B95<>0,C95=\"\"),\"* No olvide ingresar la columna Pueblos Originarios (Digite CERO si no tiene). \",IF(C95>$B95,\"* El Número de niños pertenecientes a Pueblos Originarios no puede superar el Total. \",\"\"))","v":""},{"$f":"IF(AND($B95<>0,D95=\"\"),\"* No olvide ingresar la columna Migrantes (Digite CERO si no tiene). \",IF(D95>$B95,\"* El Número de niños en tratamiento pertenecientes a Población Migrante no puede superar el Total. \",\"\"))","v":""},null,null,null,null,{"$f":"IF(AND($B95<>0,C95=\"\"),1,IF(C95>$B95,1,0))","v":0},{"$f":"IF(AND($B95<>0,D95=\"\"),1,IF(D95>$B95,1,0))","v":0}]
["Niños/as  hijos de madre Hepatitis B positiva, evaluados al año de vida, confirmado positivo de transmisión vertical para Hepatitis B",null,null,null,"",null,null,null,null,null,null,null,null,null,null,null,null,null,null,null,null,null,null,null,null,null,null,null,null,null,null,null,null,null,null,null,null,null,null,null,null,null,null,null,null,null,null,null,null,null,null,null,null,null,null,null,null,null,null,null,null,null,null,null,null,null,null,null,null,null,null,null,null,null,null,null,null,null,{"$f":"IF(AND($B96<>0,C96=\"\"),\"* No olvide ingresar la columna Pueblos Originarios (Digite CERO si no tiene). \",IF(C96>$B96,\"* El Número de niños pertenecientes a Pueblos Originarios no puede superar el Total. \",\"\"))","v":""},{"$f":"IF(AND($B96<>0,D96=\"\"),\"* No olvide ingresar la columna Migrantes (Digite CERO si no tiene). \",IF(D96>$B96,\"* El Número de niños en tratamiento pertenecientes a Población Migrante no puede superar el Total. \",\"\"))","v":""},null,null,null,null,{"$f":"IF(AND($B96<>0,C96=\"\"),1,IF(C96>$B96,1,0))","v":0},{"$f":"IF(AND($B96<>0,D96=\"\"),1,IF(D96>$B96,1,0))","v":0}]
[]
[]
[]
[]
[{"$f":"SUM(B11:B19,B22:D23,B27:B32,B35:D36,B40:B47,B50:D53,B56:D59,B63:B73,B77:B88,B91:D92,B95:D96)","v":20},{"$f":"SUM(CG9:CL98)","v":0}]

{"sheet":"A19a","index":12,"n_rows":194,"n_cols":88,"rows_kept":194,"cut":false,"hidden":false,"merged":[[5,0,5,19],[7,0,7,1],[9,0,12,0],[9,1,12,1],[9,2,11,4],[9,5,10,38],[11,21,11,22],[11,37,11,38],[11,25,11,26],[11,27,11,28],[11,29,11,30],[11,31,11,32],[11,33,11,34],[9,42,12,42],[9,43,12,43],[9,44,12,44],[9,45,12,45],[9,39,12,39],[9,40,11,41],[64,0,67,0],[11,35,11,36],[11,13,11,14],[11,15,11,16],[11,17,11,18],[11,23,11,24],[13,0,23,0],[24,0,34,0],[35,0,45,0],[46,0,56,0],[57,0,63,0],[11,5,11,6],[11,7,11,8],[11,9,11,10],[11,11,11,12],[11,19,11,20],[90,43,92,43],[91,5,91,6],[91,7,91,8],[91,9,91,10],[91,11,91,12],[91,35,91,36],[91,23,91,24],[90,5,90,38],[91,31,91,32],[91,33,91,34],[90,39,91,40],[68,0,74,0],[75,0,79,0],[81,0,88,0],[90,0,92,0],[90,42,92,42],[90,2,91,4],[90,41,92,41],[91,13,91,14],[91,15,91,16],[91,17,91,18],[91,19,91,20],[91,21,91,22],[91,37,91,38],[91,27,91,28],[91,29,91,30],[91,25,91,26],[93,0,98,0],[99,0,104,0],[106,0,115,0],[117,0,119,0],[117,2,118,4],[90,1,92,1],[118,29,118,30],[118,19,118,20],[118,15,118,16],[118,17,118,18],[118,25,118,26],[118,21,118,22],[117,5,117,36],[118,5,118,6],[118,7,118,8],[118,9,118,10],[118,31,118,32],[118,33,118,34],[118,11,118,12],[127,0,130,0],[118,13,118,14],[139,0,142,0],[118,35,118,36],[120,0,122,0],[125,0,126,0],[125,1,126,1],[125,2,126,2],[125,3,125,9],[125,10,126,10],[125,11,126,11],[118,23,118,24],[131,0,134,0],[135,0,138,0],[118,27,118,28]]}
["SERVICIO DE SALUD"]
[{"$f":"CONCATENATE(\"COMUNA: \",NOMBRE!B2,\" - \",\"( \",NOMBRE!C2,NOMBRE!D2,NOMBRE!E2,NOMBRE!F2,NOMBRE!G2,\" )\")","v":"COMUNA: CALLE LARGA - ( 05302 )"}]
[{"$f":"CONCATENATE(\"ESTABLECIMIENTO/ESTRATEGIA: \",NOMBRE!B3,\" - \",\"( \",NOMBRE!C3,NOMBRE!D3,NOMBRE!E3,NOMBRE!F3,NOMBRE!G3,NOMBRE!H3,\" )\")","v":"ESTABLECIMIENTO/ESTRATEGIA: DR. JOSE JOAQUIN AGUIRRE CAMPOS - ( 108308 )"}]
[{"$f":"CONCATENATE(\"MES: \",NOMBRE!B6,\" - \",\"( \",NOMBRE!C6,NOMBRE!D6,\" )\")","v":"MES: DICIEMBRE - ( 12 )"}]
[{"$f":"CONCATENATE(\"AÑO: \",NOMBRE!B7)","v":"AÑO: 2022"}]
["REM-19a.   ACTIVIDADES DE PROMOCIÓN Y PREVENCIÓN DE LA SALUD"]
[]
["SECCIÓN A: CONSEJERÍAS"]
["SECCIÓN A.1: CONSEJERÍAS INDIVIDUALES"]
["ACTIVIDADES Y ÁREAS TEMÁTICAS","PROFESIONAL","TOTAL              ",null,null,"GRUPOS DE EDAD (en años)",null,null,null,null,null,null,null,null,null,null,null,null,null,null,null,null,null,null,null,null,null,null,null,null,null,null,null,null,null,null,null,null,null,"Espacios Amigables / adolescentes","TRANS",null,"Pueblos Originarios","Migrantes","14-18 años","Niños, Niñas, Adolescentes y Jóvenes Población SENAME"]
[]
[null,null,null,null,null,"0 - 4",null,"5 - 9",null,"10 - 14",null,"15-19 ",null,"20-24 ",null,"25-29 ",null,"30-34 ",null,"35-39",null,"40-44 ",null,"45-49 ",null,"50-54 ",null,"55-59",null,"60-64 ",null,"65-69 ",null,"70-74 ",null,"75- 79",null,"80 y mas"]
[null,null,"AMBOS SEXOS","HOMBRES","MUJERES","HOMBRES","MUJERES","HOMBRES","MUJERES","HOMBRES","MUJERES","HOMBRES","MUJERES","HOMBRES","MUJERES","HOMBRES","MUJERES","HOMBRES","MUJERES","HOMBRES","MUJERES","HOMBRES","MUJERES","HOMBRES","MUJERES","HOMBRES","MUJERES","HOMBRES","MUJERES","HOMBRES","MUJERES","HOMBRES","MUJERES","HOMBRES","MUJERES","HOMBRES","MUJERES","HOMBRES","MUJERES",null,"Masculino","Femenino"]
["ACTIVIDAD FÍSICA","MÉDICO",{"$f":"SUM(D14+E14)","v":0},{"$f":"+F14+H14+J14+L14+N14+P14+R14+T14+V14+X14+Z14+AB14+AD14+AF14+AH14+AJ14+AL14","v":0},{"$f":"+G14+I14+K14+M14+O14+Q14+S14+U14+W14+Y14+AA14+AC14+AE14+AG14+AI14+AK14+AM14","v":0},0,0,0,0,0,0,0,0,0,0,0,0,0,0,0,0,0,0,0,0,0,0,0,0,0,0,0,0,0,0,0,0,0,0,0,0,0,0,0,null,0,{"$f":"$CA14&$CB14&$CC14&$CD14","v":""},null,null,null,null,null,null,null,null,null,null,null,null,null,null,null,null,null,null,null,null,null,null,null,null,null,null,null,null,null,null,null,{"$f":"IF(CG14=1,\"* No olvide digitar la columna Trans y/o Pueblos Originarios y/o Migrantes y/o Población SENAME (Digite Cero si no tiene). \",\"\")","v":""},{"$f":"IF(CH14=1,\"* El número de Trans y/o Pueblos Originarios y/o Migrantes y/o Población SENAME NO DEBE ser mayor que el Total. \",\"\")","v":""},{"$f":"IF(CI14=1,\"* Las consejerías realizadas en Espacios amigables NO DEBEN ser mayor al Total. \",\"\")","v":""},{"$f":"IF(CJ14=1,\"* La columna 14-18 AÑOS no puede ser mayor al total por grupo edad de 10 a 19 años. \",\"\")","v":""},null,null,{"$f":"IF(AND(C14<>0,OR(AO14=\"\",AP14=\"\",AQ14=\"\",AR14=\"\",AT14=\"\")),1,0)","v":0},{"$f":"IF(OR(C14<(AO14+AP14),C14<AQ14,C14<AR14,C14<AT14),1,0)","v":0},{"$f":"IF(C14<AN14,1,0)","v":0},{"$f":"IF((J14+K14+L14+M14)<AS14,1,0)","v":0}]
[null,"ENFERMERA /O",2,{"$f":"+F15+H15+J15+L15+N15+P15+R15+T15+V15+X15+Z15+AB15+AD15+AF15+AH15+AJ15+AL15","v":0},{"$f":"+G15+I15+K15+M15+O15+Q15+S15+U15+W15+Y15+AA15+AC15+AE15+AG15+AI15+AK15+AM15","v":2},0,0,0,0,0,0,0,0,0,0,0,0,0,2,0,0,0,0,0,0,0,0,0,0,0,0,0,0,0,0,0,0,0,0,0,0,0,0,0,null,0,"",null,null,null,null,null,null,null,null,null,null,null,null,null,null,null,null,null,null,null,null,null,null,null,null,null,null,null,null,null,null,null,"","","","",null,null,0,0,0,0]
[null,"MATRONA /ÓN",0,0,0,0,0,0,0,0,0,0,0,0,0,0,0,0,0,0,0,0,0,0,0,0,0,0,0,0,0,0,0,0,0,0,0,0,0,0,0,0,0,0,null,0,"",null,null,null,null,null,null,null,null,null,null,null,null,null,null,null,null,null,null,null,null,null,null,null,null,null,null,null,null,null,null,null,"","","","",null,null,0,0,0,0]
[null,"NUTRICIONISTA",18,5,13,0,0,0,0,2,8,3,5,0,0,0,0,0,0,0,0,0,0,0,0,0,0,0,0,0,0,0,0,0,0,0,0,0,0,18,0,0,0,0,null,1,"",null,null,null,null,null,null,null,null,null,null,null,null,null,null,null,null,null,null,null,null,null,null,null,null,null,null,null,null,null,null,null,"","","","",null,null,0,0,0,0]
[null,"ASISTENTE SOCIAL",0,0,0,0,0,0,0,0,0,0,0,0,0,0,0,0,0,0,0,0,0,0,0,0,0,0,0,0,0,0,0,0,0,0,0,0,0,0,0,0,0,0,null,0,"",null,null,null,null,null,null,null,null,null,null,null,null,null,null,null,null,null,null,null,null,null,null,null,null,null,null,null,null,null,null,null,"","","","",null,null,0,0,0,0]
[null,"PSICÓLOGO /A",0,0,0,0,0,0,0,0,0,0,0,0,0,0,0,0,0,0,0,0,0,0,0,0,0,0,0,0,0,0,0,0,0,0,0,0,0,0,0,0,0,0,null,0,"",null,null,null,null,null,null,null,null,null,null,null,null,null,null,null,null,null,null,null,null,null,null,null,null,null,null,null,null,null,null,null,"","","","",null,null,0,0,0,0]
[null,"KINESIÓLOGO",0,0,0,0,0,0,0,0,0,0,0,0,0,0,0,0,0,0,0,0,0,0,0,0,0,0,0,0,0,0,0,0,0,0,0,0,0,0,0,0,0,0,null,0,"",null,null,null,null,null,null,null,null,null,null,null,null,null,null,null,null,null,null,null,null,null,null,null,null,null,null,null,null,null,null,null,"","","","",null,null,0,0,0,0]
[null,"TERAPEUTA OCUPACIONAL",0,0,0,0,0,0,0,0,0,0,0,0,0,0,0,0,0,0,0,0,0,0,0,0,0,0,0,0,0,0,0,0,0,0,0,0,0,0,0,0,0,0,null,0,"",null,null,null,null,null,null,null,null,null,null,null,null,null,null,null,null,null,null,null,null,null,null,null,null,null,null,null,null,null,null,null,"","","","",null,null,0,0,0,0]
[null,"OTRO PROFESIONAL",0,0,0,0,0,0,0,0,0,0,0,0,0,0,0,0,0,0,0,0,0,0,0,0,0,0,0,0,0,0,0,0,0,0,0,0,0,0,0,0,0,0,null,0,"",null,null,null,null,null,null,null,null,null,null,null,null,null,null,null,null,null,null,null,null,null,null,null,null,null,null,null,null,null,null,null,"","","","",null,null,0,0,0,0]
[null,"FACILITADOR/A INTERCULTURAL",0,0,0,0,0,0,0,0,0,0,0,0,0,0,0,0,0,0,0,0,0,0,0,0,0,0,0,0,0,0,0,0,0,0,0,0,0,0,0,0,0,0,null,0,"",null,null,null,null,null,null,null,null,null,null,null,null,null,null,null,null,null,null,null,null,null,null,null,null,null,null,null,null,null,null,null,"","","","",null,null,0,0,0,0]
[null,"TÉCNICO PARAMÉDICO",0,0,0,0,0,0,0,0,0,0,0,0,0,0,0,0,0,0,0,0,0,0,0,0,0,0,0,0,0,0,0,0,0,0,0,0,0,0,0,0,0,0,null,0,"",null,null,null,null,null,null,null,null,null,null,null,null,null,null,null,null,null,null,null,null,null,null,null,null,null,null,null,null,null,null,null,"","","","",null,null,0,0,0,0]
["ALIMENTACIÓN SALUDABLE","MÉDICO",0,{"$f":"+F25+H25+J25+L25+N25+P25+R25+T25+V25+X25+Z25+AB25+AD25+AF25+AH25+AJ25+AL25","v":0},{"$f":"+G25+I25+K25+M25+O25+Q25+S25+U25+W25+Y25+AA25+AC25+AE25+AG25+AI25+AK25+AM25","v":0},0,0,0,0,0,0,0,0,0,0,0,0,0,0,0,0,0,0,0,0,0,0,0,0,0,0,0,0,0,0,0,0,0,0,0,0,0,0,0,null,0,"",null,null,null,null,null,null,null,null,null,null,null,null,null,null,null,null,null,null,null,null,null,null,null,null,null,null,null,null,null,null,null,"","","","",null,null,0,0,0,0]
[null,"ENFERMERA /O",51,{"$f":"+F26+H26+J26+L26+N26+P26+R26+T26+V26+X26+Z26+AB26+AD26+AF26+AH26+AJ26+AL26","v":13},{"$f":"+G26+I26+K26+M26+O26+Q26+S26+U26+W26+Y26+AA26+AC26+AE26+AG26+AI26+AK26+AM26","v":38},0,0,0,0,0,0,0,0,1,3,0,3,2,3,1,14,3,5,1,2,1,5,2,3,1,0,1,0,0,0,0,0,0,0,0,0,0,2,0,null,0,"",null,null,null,null,null,null,null,null,null,null,null,null,null,null,null,null,null,null,null,null,null,null,null,null,null,null,null,null,null,null,null,"","","","",null,null,0,0,0,0]
[null,"MATRONA /ÓN",0,0,0,0,0,0,0,0,0,0,0,0,0,0,0,0,0,0,0,0,0,0,0,0,0,0,0,0,0,0,0,0,0,0,0,0,0,0,0,0,0,0,null,0,"",null,null,null,null,null,null,null,null,null,null,null,null,null,null,null,null,null,null,null,null,null,null,null,null,null,null,null,null,null,null,null,"","","","",null,null,0,0,0,0]
[null,"NUTRICIONISTA",19,6,13,0,0,0,0,2,8,3,5,0,0,0,0,0,0,0,0,0,0,0,0,0,0,0,0,0,0,0,0,1,0,0,0,0,0,18,0,0,0,0,null,1,"",null,null,null,null,null,null,null,null,null,null,null,null,null,null,null,null,null,null,null,null,null,null,null,null,null,null,null,null,null,null,null,"","","","",null,null,0,0,0,0]
[null,"ASISTENTE SOCIAL",0,0,0,0,0,0,0,0,0,0,0,0,0,0,0,0,0,0,0,0,0,0,0,0,0,0,0,0,0,0,0,0,0,0,0,0,0,0,0,0,0,0,null,0,"",null,null,null,null,null,null,null,null,null,null,null,null,null,null,null,null,null,null,null,null,null,null,null,null,null,null,null,null,null,null,null,"","","","",null,null,0,0,0,0]
[null,"PSICÓLOGO /A",0,0,0,0,0,0,0,0,0,0,0,0,0,0,0,0,0,0,0,0,0,0,0,0,0,0,0,0,0,0,0,0,0,0,0,0,0,0,0,0,0,0,null,0,"",null,null,null,null,null,null,null,null,null,null,null,null,null,null,null,null,null,null,null,null,null,null,null,null,null,null,null,null,null,null,null,"","","","",null,null,0,0,0,0]
[null,"KINESIÓLOGO",0,0,0,0,0,0,0,0,0,0,0,0,0,0,0,0,0,0,0,0,0,0,0,0,0,0,0,0,0,0,0,0,0,0,0,0,0,0,0,0,0,0,null,0,"",null,null,null,null,null,null,null,null,null,null,null,null,null,null,null,null,null,null,null,null,null,null,null,null,null,null,null,null,null,null,null,"","","","",null,null,0,0,0,0]
[null,"TERAPEUTA OCUPACIONAL",0,0,0,0,0,0,0,0,0,0,0,0,0,0,0,0,0,0,0,0,0,0,0,0,0,0,0,0,0,0,0,0,0,0,0,0,0,0,0,0,0,0,null,0,"",null,null,null,null,null,null,null,null,null,null,null,null,null,null,null,null,null,null,null,null,null,null,null,null,null,null,null,null,null,null,null,"","","","",null,null,0,0,0,0]
[null,"OTRO PROFESIONAL",0,0,0,0,0,0,0,0,0,0,0,0,0,0,0,0,0,0,0,0,0,0,0,0,0,0,0,0,0,0,0,0,0,0,0,0,0,0,0,0,0,0,null,0,"",null,null,null,null,null,null,null,null,null,null,null,null,null,null,null,null,null,null,null,null,null,null,null,null,null,null,null,null,null,null,null,"","","","",null,null,0,0,0,0]
[null,"FACILITADOR/A INTERCULTURAL",0,0,0,0,0,0,0,0,0,0,0,0,0,0,0,0,0,0,0,0,0,0,0,0,0,0,0,0,0,0,0,0,0,0,0,0,0,0,0,0,0,0,null,0,"",null,null,null,null,null,null,null,null,null,null,null,null,null,null,null,null,null,null,null,null,null,null,null,null,null,null,null,null,null,null,null,"","","","",null,null,0,0,0,0]
[null,"TÉCNICO PARAMÉDICO",0,0,0,0,0,0,0,0,0,0,0,0,0,0,0,0,0,0,0,0,0,0,0,0,0,0,0,0,0,0,0,0,0,0,0,0,0,0,0,0,0,0,null,0,"",null,null,null,null,null,null,null,null,null,null,null,null,null,null,null,null,null,null,null,null,null,null,null,null,null,null,null,null,null,null,null,"","","","",null,null,0,0,0,0]
["TABAQUISMO","MÉDICO",0,{"$f":"SUM(H36+J36+L36+N36+P36+R36+T36+V36+X36+Z36+AB36+AD36+AF36+AH36+AJ36+AL36)","v":0},{"$f":"SUM(I36+K36+M36+O36+Q36+S36+U36+W36+Y36+AA36+AC36+AE36+AG36+AI36+AK36+AM36)","v":0},null,null,0,0,0,0,0,0,0,0,0,0,0,0,0,0,0,0,0,0,0,0,0,0,0,0,0,0,0,0,0,0,0,0,0,0,0,0,0,null,0,"",null,null,null,null,null,null,null,null,null,null,null,null,null,null,null,null,null,null,null,null,null,null,null,null,null,null,null,null,null,null,null,"","","","",null,null,0,0,0,0]
[null,"ENFERMERA /O",13,{"$f":"SUM(H37+J37+L37+N37+P37+R37+T37+V37+X37+Z37+AB37+AD37+AF37+AH37+AJ37+AL37)","v":3},10,null,null,0,0,0,0,0,0,0,1,0,2,2,1,0,2,0,2,1,1,0,1,0,0,0,0,0,0,0,0,0,0,0,0,0,0,0,0,0,null,0,"",null,null,null,null,null,null,null,null,null,null,null,null,null,null,null,null,null,null,null,null,null,null,null,null,null,null,null,null,null,null,null,"","","","",null,null,0,0,0,0]
[null,"MATRONA /ÓN",0,0,0,null,null,0,0,0,0,0,0,0,0,0,0,0,0,0,0,0,0,0,0,0,0,0,0,0,0,0,0,0,0,0,0,0,0,0,0,0,0,0,null,0,"",null,null,null,null,null,null,null,null,null,null,null,null,null,null,null,null,null,null,null,null,null,null,null,null,null,null,null,null,null,null,null,"","","","",null,null,0,0,0,0]
[null,"NUTRICIONISTA",1,1,0,null,null,0,0,0,0,1,0,0,0,0,0,0,0,0,0,0,0,0,0,0,0,0,0,0,0,0,0,0,0,0,0,0,0,1,0,0,0,0,null,0,"",null,null,null,null,null,null,null,null,null,null,null,null,null,null,null,null,null,null,null,null,null,null,null,null,null,null,null,null,null,null,null,"","","","",null,null,0,0,0,0]
[null,"ASISTENTE SOCIAL",0,0,0,null,null,0,0,0,0,0,0,0,0,0,0,0,0,0,0,0,0,0,0,0,0,0,0,0,0,0,0,0,0,0,0,0,0,0,0,0,0,0,null,0,"",null,null,null,null,null,null,null,null,null,null,null,null,null,null,null,null,null,null,null,null,null,null,null,null,null,null,null,null,null,null,null,"","","","",null,null,0,0,0,0]
[null,"PSICÓLOGO /A",0,0,0,null,null,0,0,0,0,0,0,0,0,0,0,0,0,0,0,0,0,0,0,0,0,0,0,0,0,0,0,0,0,0,0,0,0,0,0,0,0,0,null,0,"",null,null,null,null,null,null,null,null,null,null,null,null,null,null,null,null,null,null,null,null,null,null,null,null,null,null,null,null,null,null,null,"","","","",null,null,0,0,0,0]
[null,"KINESIÓLOGO",0,0,0,null,null,0,0,0,0,0,0,0,0,0,0,0,0,0,0,0,0,0,0,0,0,0,0,0,0,0,0,0,0,0,0,0,0,0,0,0,0,0,null,0,"",null,null,null,null,null,null,null,null,null,null,null,null,null,null,null,null,null,null,null,null,null,null,null,null,null,null,null,null,null,null,null,"","","","",null,null,0,0,0,0]
[null,"TERAPEUTA OCUPACIONAL",0,0,0,null,null,0,0,0,0,0,0,0,0,0,0,0,0,0,0,0,0,0,0,0,0,0,0,0,0,0,0,0,0,0,0,0,0,0,0,0,0,0,null,0,"",null,null,null,null,null,null,null,null,null,null,null,null,null,null,null,null,null,null,null,null,null,null,null,null,null,null,null,null,null,null,null,"","","","",null,null,0,0,0,0]
[null,"OTRO PROFESIONAL",0,0,0,null,null,0,0,0,0,0,0,0,0,0,0,0,0,0,0,0,0,0,0,0,0,0,0,0,0,0,0,0,0,0,0,0,0,0,0,0,0,0,null,0,"",null,null,null,null,null,null,null,null,null,null,null,null,null,null,null,null,null,null,null,null,null,null,null,null,null,null,null,null,null,null,null,"","","","",null,null,0,0,0,0]
[null,"FACILITADOR/A INTERCULTURAL",0,0,0,null,null,0,0,0,0,0,0,0,0,0,0,0,0,0,0,0,0,0,0,0,0,0,0,0,0,0,0,0,0,0,0,0,0,0,0,0,0,0,null,0,"",null,null,null,null,null,null,null,null,null,null,null,null,null,null,null,null,null,null,null,null,null,null,null,null,null,null,null,null,null,null,null,"","","","",null,null,0,0,0,0]
[null,"TÉCNICO PARAMÉDICO",{"$f":"SUM(D46+E46)","v":0},0,0,null,null,0,0,0,0,0,0,0,0,0,0,0,0,0,0,0,0,0,0,0,0,0,0,0,0,0,0,0,0,0,0,0,0,0,0,0,0,0,null,0,{"$f":"$CA46&$CB46&$CC46&$CD46","v":""},null,null,null,null,null,null,null,null,null,null,null,null,null,null,null,null,null,null,null,null,null,null,null,null,null,null,null,null,null,null,null,{"$f":"IF(CG46=1,\"* No olvide digitar la columna Trans y/o Pueblos Originarios y/o Migrantes y/o Población SENAME (Digite Cero si no tiene). \",\"\")","v":""},{"$f":"IF(CH46=1,\"* El número de Trans y/o Pueblos Originarios y/o Migrantes y/o Población SENAME NO DEBE ser mayor que el Total. \",\"\")","v":""},{"$f":"IF(CI46=1,\"* Las consejerías realizadas en Espacios amigables NO DEBEN ser mayor al Total. \",\"\")","v":""},{"$f":"IF(CJ46=1,\"* La columna 14-18 AÑOS no puede ser mayor al total por grupo edad de 10 a 19 años. \",\"\")","v":""},null,null,{"$f":"IF(AND(C46<>0,OR(AO46=\"\",AP46=\"\",AQ46=\"\",AR46=\"\",AT46=\"\")),1,0)","v":0},{"$f":"IF(OR(C46<(AO46+AP46),C46<AQ46,C46<AR46,C46<AT46),1,0)","v":0},{"$f":"IF(C46<AN46,1,0)","v":0},{"$f":"IF((J46+K46+L46+M46)<AS46,1,0)","v":0}]
["CONSUMO DE DROGAS","MÉDICO",0,0,0,null,null,0,0,0,0,0,0,0,0,0,0,0,0,0,0,0,0,0,0,0,0,0,0,0,0,0,0,0,0,0,0,0,0,0,0,0,0,0,null,0,"",null,null,null,null,null,null,null,null,null,null,null,null,null,null,null,null,null,null,null,null,null,null,null,null,null,null,null,null,null,null,null,"","","","",null,null,0,0,0,0]
[null,"ENFERMERA /O",0,{"$f":"SUM(H48+J48+L48+N48+P48+R48+T48+V48+X48+Z48+AB48+AD48+AF48+AH48+AJ48+AL48)","v":0},0,null,null,0,0,0,0,0,0,0,0,0,0,0,0,0,0,0,0,0,0,0,0,0,0,0,0,0,0,0,0,0,0,0,0,0,0,0,0,0,null,0,"",null,null,null,null,null,null,null,null,null,null,null,null,null,null,null,null,null,null,null,null,null,null,null,null,null,null,null,null,null,null,null,"","","","",null,null,0,0,0,0]
[null,"MATRONA /ÓN",0,0,0,null,null,0,0,0,0,0,0,0,0,0,0,0,0,0,0,0,0,0,0,0,0,0,0,0,0,0,0,0,0,0,0,0,0,0,0,0,0,0,null,0,"",null,null,null,null,null,null,null,null,null,null,null,null,null,null,null,null,null,null,null,null,null,null,null,null,null,null,null,null,null,null,null,"","","","",null,null,0,0,0,0]
[null,"NUTRICIONISTA",0,0,0,null,null,0,0,0,0,0,0,0,0,0,0,0,0,0,0,0,0,0,0,0,0,0,0,0,0,0,0,0,0,0,0,0,0,0,0,0,0,0,null,0,"",null,null,null,null,null,null,null,null,null,null,null,null,null,null,null,null,null,null,null,null,null,null,null,null,null,null,null,null,null,null,null,"","","","",null,null,0,0,0,0]
[null,"ASISTENTE SOCIAL",0,{"$f":"SUM(H51+J51+L51+N51+P51+R51+T51+V51+X51+Z51+AB51+AD51+AF51+AH51+AJ51+AL51)","v":0},0,null,null,0,0,0,0,0,0,0,0,0,0,0,0,0,0,0,0,0,0,0,0,0,0,0,0,0,0,0,0,0,0,0,0,0,0,0,0,0,null,0,"",null,null,null,null,null,null,null,null,null,null,null,null,null,null,null,null,null,null,null,null,null,null,null,null,null,null,null,null,null,null,null,"","","","",null,null,0,0,0,0]
[null,"PSICÓLOGO /A",0,0,0,null,null,0,0,0,0,0,0,0,0,0,0,0,0,0,0,0,0,0,0,0,0,0,0,0,0,0,0,0,0,0,0,0,0,0,0,0,0,0,null,0,"",null,null,null,null,null,null,null,null,null,null,null,null,null,null,null,null,null,null,null,null,null,null,null,null,null,null,null,null,null,null,null,"","","","",null,null,0,0,0,0]
[null,"KINESIÓLOGO",0,{"$f":"SUM(H53+J53+L53+N53+P53+R53+T53+V53+X53+Z53+AB53+AD53+AF53+AH53+AJ53+AL53)","v":0},{"$f":"SUM(I53+K53+M53+O53+Q53+S53+U53+W53+Y53+AA53+AC53+AE53+AG53+AI53+AK53+AM53)","v":0},null,null,0,0,0,0,0,0,0,0,0,0,0,0,0,0,0,0,0,0,0,0,0,0,0,0,0,0,0,0,0,0,0,0,0,0,0,0,0,null,0,"",null,null,null,null,null,null,null,null,null,null,null,null,null,null,null,null,null,null,null,null,null,null,null,null,null,null,null,null,null,null,null,"","","","",null,null,0,0,0,0]
[null,"TERAPEUTA OCUPACIONAL",0,{"$f":"SUM(H54+J54+L54+N54+P54+R54+T54+V54+X54+Z54+AB54+AD54+AF54+AH54+AJ54+AL54)","v":0},0,null,null,0,0,0,0,0,0,0,0,0,0,0,0,0,0,0,0,0,0,0,0,0,0,0,0,0,0,0,0,0,0,0,0,0,0,0,0,0,null,0,"",null,null,null,null,null,null,null,null,null,null,null,null,null,null,null,null,null,null,null,null,null,null,null,null,null,null,null,null,null,null,null,"","","","",null,null,0,0,0,0]
[null,"OTRO PROFESIONAL",0,0,0,null,null,0,0,0,0,0,0,0,0,0,0,0,0,0,0,0,0,0,0,0,0,0,0,0,0,0,0,0,0,0,0,0,0,0,0,0,0,0,null,0,"",null,null,null,null,null,null,null,null,null,null,null,null,null,null,null,null,null,null,null,null,null,null,null,null,null,null,null,null,null,null,null,"","","","",null,null,0,0,0,0]
[null,"FACILITADOR/A INTERCULTURAL",0,0,0,null,null,0,0,0,0,0,0,0,0,0,0,0,0,0,0,0,0,0,0,0,0,0,0,0,0,0,0,0,0,0,0,0,0,0,0,0,0,0,null,0,"",null,null,null,null,null,null,null,null,null,null,null,null,null,null,null,null,null,null,null,null,null,null,null,null,null,null,null,null,null,null,null,"","","","",null,null,0,0,0,0]
[null,"TÉCNICO PARAMÉDICO",0,{"$f":"SUM(H57+J57+L57+N57+P57+R57+T57+V57+X57+Z57+AB57+AD57+AF57+AH57+AJ57+AL57)","v":0},0,null,null,0,0,0,0,0,0,0,0,0,0,0,0,0,0,0,0,0,0,0,0,0,0,0,0,0,0,0,0,0,0,0,0,0,0,0,0,0,null,0,"",null,null,null,null,null,null,null,null,null,null,null,null,null,null,null,null,null,null,null,null,null,null,null,null,null,null,null,null,null,null,null,"","","","",null,null,0,0,0,0]
["SALUD SEXUAL Y REPRODUCTIVA","MÉDICO",0,{"$f":"SUM(J58+L58+N58+P58+R58+T58+V58+X58+Z58+AB58+AD58+AF58+AH58+AJ58+AL58)","v":0},{"$f":"SUM(K58+M58+O58+Q58+S58+U58+W58+Y58+AA58+AC58+AE58+AG58+AI58+AK58+AM58)","v":0},null,null,null,null,0,0,0,0,0,0,0,0,0,0,0,0,0,0,0,0,0,0,0,0,0,0,0,0,0,0,0,0,0,0,0,0,0,0,0,0,0,"",null,null,null,null,null,null,null,null,null,null,null,null,null,null,null,null,null,null,null,null,null,null,null,null,null,null,null,null,null,null,null,"","","","",null,null,0,0,0,0]
[null,"ENFERMERA /O",0,{"$f":"SUM(J59+L59+N59+P59+R59+T59+V59+X59+Z59+AB59+AD59+AF59+AH59+AJ59+AL59)","v":0},0,null,null,null,null,0,0,0,0,0,0,0,0,0,0,0,0,0,0,0,0,0,0,0,0,0,0,0,0,0,0,0,0,0,0,0,0,0,0,0,0,0,"",null,null,null,null,null,null,null,null,null,null,null,null,null,null,null,null,null,null,null,null,null,null,null,null,null,null,null,null,null,null,null,"","","","",null,null,0,0,0,0]
[null,"MATRONA /ÓN",17,{"$f":"SUM(J60+L60+N60+P60+R60+T60+V60+X60+Z60+AB60+AD60+AF60+AH60+AJ60+AL60)","v":1},{"$f":"SUM(K60+M60+O60+Q60+S60+U60+W60+Y60+AA60+AC60+AE60+AG60+AI60+AK60+AM60)","v":16},null,null,null,null,1,3,0,5,0,1,0,1,0,1,0,2,0,1,0,0,0,0,0,1,0,1,0,0,0,0,0,0,0,0,7,0,0,0,0,0,0,"",null,null,null,null,null,null,null,null,null,null,null,null,null,null,null,null,null,null,null,null,null,null,null,null,null,null,null,null,null,null,null,"","","","",null,null,0,0,0,0]
[null,"ASISTENTE SOCIAL",0,0,0,null,null,null,null,0,0,0,0,0,0,0,0,0,0,0,0,0,0,0,0,0,0,0,0,0,0,0,0,0,0,0,0,0,0,0,0,0,0,0,0,0,"",null,null,null,null,null,null,null,null,null,null,null,null,null,null,null,null,null,null,null,null,null,null,null,null,null,null,null,null,null,null,null,"","","","",null,null,0,0,0,0]
[null,"PSICÓLOGO /A",0,0,0,null,null,null,null,0,0,0,0,0,0,0,0,0,0,0,0,0,0,0,0,0,0,0,0,0,0,0,0,0,0,0,0,0,0,0,0,0,0,0,0,0,"",null,null,null,null,null,null,null,null,null,null,null,null,null,null,null,null,null,null,null,null,null,null,null,null,null,null,null,null,null,null,null,"","","","",null,null,0,0,0,0]
[null,"FACILITADOR/A INTERCULTURAL",0,{"$f":"SUM(J63+L63+N63+P63+R63+T63+V63+X63+Z63+AB63+AD63+AF63+AH63+AJ63+AL63)","v":0},{"$f":"SUM(K63+M63+O63+Q63+S63+U63+W63+Y63+AA63+AC63+AE63+AG63+AI63+AK63+AM63)","v":0},null,null,null,null,0,0,0,0,0,0,0,0,0,0,0,0,0,0,0,0,0,0,0,0,0,0,0,0,0,0,0,0,0,0,0,0,0,0,0,0,0,"",null,null,null,null,null,null,null,null,null,null,null,null,null,null,null,null,null,null,null,null,null,null,null,null,null,null,null,null,null,null,null,"","","","",null,null,0,0,0,0]
[null,"OTRO PROFESIONAL",0,0,0,null,null,null,null,0,0,0,0,0,0,0,0,0,0,0,0,0,0,0,0,0,0,0,0,0,0,0,0,0,0,0,0,0,0,0,0,0,0,0,0,0,"",null,null,null,null,null,null,null,null,null,null,null,null,null,null,null,null,null,null,null,null,null,null,null,null,null,null,null,null,null,null,null,"","","","",null,null,0,0,0,0]
["REGULACIÓN DE FERTILIDAD","MÉDICO",0,{"$f":"SUM(J65+L65+N65+P65+R65+T65+V65+X65+Z65+AB65)","v":0},{"$f":"SUM(K65+M65+O65+Q65+S65+U65+W65+Y65+AA65+AC65)","v":0},null,null,null,null,0,0,0,0,0,0,0,0,0,0,0,0,0,0,0,0,0,0,0,0,null,null,null,null,null,null,null,null,null,null,0,0,0,0,0,0,0,"",null,null,null,null,null,null,null,null,null,null,null,null,null,null,null,null,null,null,null,null,null,null,null,null,null,null,null,null,null,null,null,"","","","",null,null,0,0,0,0]
[null,"MATRONA /ÓN",1,{"$f":"SUM(J66+L66+N66+P66+R66+T66+V66+X66+Z66+AB66)","v":0},{"$f":"SUM(K66+M66+O66+Q66+S66+U66+W66+Y66+AA66+AC66)","v":1},null,null,null,null,0,0,0,0,0,0,0,1,0,0,0,0,0,0,0,0,0,0,0,0,null,null,null,null,null,null,null,null,null,null,0,0,0,0,0,0,0,"",null,null,null,null,null,null,null,null,null,null,null,null,null,null,null,null,null,null,null,null,null,null,null,null,null,null,null,null,null,null,null,"","","","",null,null,0,0,0,0]
[null,"FACILITADOR/A INTERCULTURAL",0,0,0,null,null,null,null,0,0,0,0,0,0,0,0,0,0,0,0,0,0,0,0,0,0,0,0,null,null,null,null,null,null,null,null,null,null,0,0,0,0,0,0,0,"",null,null,null,null,null,null,null,null,null,null,null,null,null,null,null,null,null,null,null,null,null,null,null,null,null,null,null,null,null,null,null,"","","","",null,null,0,0,0,0]
[null,"OTRO PROFESIONAL",0,0,0,null,null,null,null,null,null,null,null,null,null,null,null,null,null,null,null,null,null,null,null,null,null,null,null,null,null,null,null,null,null,null,null,null,null,null,null,null,null,null,null,null,"",null,null,null,null,null,null,null,null,null,null,null,null,null,null,null,null,null,null,null,null,null,null,null,null,null,null,null,null,null,null,null,"","","","",null,null,0,0,0,0]
["PREVENCIÓN VIH E INFECCIÓN DE TRANSMISIÓN SEXUAL (ITS)","MÉDICO",0,{"$f":"SUM(J69+L69+N69+P69+R69+T69+V69+X69+Z69+AB69+AD69+AF69+AH69+AJ69+AL69)","v":0},{"$f":"SUM(K69+M69+O69+Q69+S69+U69+W69+Y69+AA69+AC69+AE69+AG69+AI69+AK69+AM69)","v":0},null,null,null,null,0,0,0,0,0,0,0,0,0,0,0,0,0,0,0,0,0,0,0,0,0,0,0,0,0,0,0,0,0,0,0,0,0,0,0,0,0,"",null,null,null,null,null,null,null,null,null,null,null,null,null,null,null,null,null,null,null,null,null,null,null,null,null,null,null,null,null,null,null,"","","","",null,null,0,0,0,0]
[null,"ENFERMERA /O",0,{"$f":"SUM(J70+L70+N70+P70+R70+T70+V70+X70+Z70+AB70+AD70+AF70+AH70+AJ70+AL70)","v":0},0,null,null,null,null,0,0,0,0,0,0,0,0,0,0,0,0,0,0,0,0,0,0,0,0,0,0,0,0,0,0,0,0,0,0,0,0,0,0,0,0,0,"",null,null,null,null,null,null,null,null,null,null,null,null,null,null,null,null,null,null,null,null,null,null,null,null,null,null,null,null,null,null,null,"","","","",null,null,0,0,0,0]
[null,"MATRONA /ÓN",21,4,17,null,null,null,null,1,1,0,3,1,1,0,1,0,4,0,3,0,3,0,0,0,0,0,1,0,0,1,0,1,0,0,0,0,0,4,0,0,2,0,0,0,"",null,null,null,null,null,null,null,null,null,null,null,null,null,null,null,null,null,null,null,null,null,null,null,null,null,null,null,null,null,null,null,"","","","",null,null,0,0,0,0]
[null,"ASISTENTE SOCIAL",0,0,{"$f":"SUM(K72+M72+O72+Q72+S72+U72+W72+Y72+AA72+AC72+AE72+AG72+AI72+AK72+AM72)","v":0},null,null,null,null,0,0,0,0,0,0,0,0,0,0,0,0,0,0,0,0,0,0,0,0,0,0,0,0,0,0,0,0,0,0,0,0,0,0,0,0,0,"",null,null,null,null,null,null,null,null,null,null,null,null,null,null,null,null,null,null,null,null,null,null,null,null,null,null,null,null,null,null,null,"","","","",null,null,0,0,0,0]
[null,"PSICÓLOGO /A",0,0,0,null,null,null,null,0,0,0,0,0,0,0,0,0,0,0,0,0,0,0,0,0,0,0,0,0,0,0,0,0,0,0,0,0,0,0,0,0,0,0,0,0,"",null,null,null,null,null,null,null,null,null,null,null,null,null,null,null,null,null,null,null,null,null,null,null,null,null,null,null,null,null,null,null,"","","","",null,null,0,0,0,0]
[null,"FACILITADOR/A INTERCULTURAL",0,0,0,null,null,null,null,0,0,0,0,0,0,0,0,0,0,0,0,0,0,0,0,0,0,0,0,0,0,0,0,0,0,0,0,0,0,0,0,0,0,0,0,0,"",null,null,null,null,null,null,null,null,null,null,null,null,null,null,null,null,null,null,null,null,null,null,null,null,null,null,null,null,null,null,null,"","","","",null,null,0,0,0,0]
[null,"OTRO PROFESIONAL",0,0,0,null,null,null,null,0,0,0,0,0,0,0,0,0,0,0,0,0,0,0,0,0,0,0,0,0,0,0,0,0,0,0,0,0,0,0,0,0,0,0,0,0,"",null,null,null,null,null,null,null,null,null,null,null,null,null,null,null,null,null,null,null,null,null,null,null,null,null,null,null,null,null,null,null,"","","","",null,null,0,0,0,0]
["PREVENCIÓN DE LA TRANSMISIÓN VERTICAL DEL VIH (EMBARAZADAS)","MÉDICO PRE TEST",{"$f":"SUM(D76+E76)","v":0},null,{"$f":"SUM(K76+M76+O76+Q76+S76+U76+W76+Y76+AA76+AC76)","v":0},null,null,null,null,null,null,null,null,null,null,null,null,null,null,null,null,null,null,null,null,null,null,null,null,null,null,null,null,null,null,null,null,null,null,0,0,0,0,0,0,0,"",null,null,null,null,null,null,null,null,null,null,null,null,null,null,null,null,null,null,null,null,null,null,null,null,null,null,null,null,null,null,null,"","","","",null,null,0,0,0,0]
[null,"MATRONA /ÓN PRE TEST",9,null,{"$f":"SUM(K77+M77+O77+Q77+S77+U77+W77+Y77+AA77+AC77)","v":9},null,null,null,null,null,null,null,null,null,1,null,5,null,1,null,2,null,null,null,null,null,null,null,null,null,null,null,null,null,null,null,null,null,null,0,0,0,0,0,0,0,"",null,null,null,null,null,null,null,null,null,null,null,null,null,null,null,null,null,null,null,null,null,null,null,null,null,null,null,null,null,null,null,"","","","",null,null,0,0,0,0]
[null,"MÉDICO POST TEST",{"$f":"SUM(D78+E78)","v":0},null,0,null,null,null,null,null,null,null,null,null,null,null,null,null,null,null,null,null,null,null,null,null,null,null,null,null,null,null,null,null,null,null,null,null,null,0,0,0,0,0,0,0,{"$f":"$CA78&$CB78&$CC78&$CD78","v":""},null,null,null,null,null,null,null,null,null,null,null,null,null,null,null,null,null,null,null,null,null,null,null,null,null,null,null,null,null,null,null,{"$f":"IF(CG78=1,\"* No olvide digitar la columna Trans y/o Pueblos Originarios y/o Migrantes y/o Población SENAME (Digite Cero si no tiene). \",\"\")","v":""},{"$f":"IF(CH78=1,\"* El número de Trans y/o Pueblos Originarios y/o Migrantes y/o Población SENAME NO DEBE ser mayor que el Total. \",\"\")","v":""},{"$f":"IF(CI78=1,\"* Las consejerías realizadas en Espacios amigables NO DEBEN ser mayor al Total. \",\"\")","v":""},{"$f":"IF(CJ78=1,\"* La columna 14-18 AÑOS no puede ser mayor al total por grupo edad de 10 a 19 años. \",\"\")","v":""},null,null,{"$f":"IF(AND(C78<>0,OR(AO78=\"\",AP78=\"\",AQ78=\"\",AR78=\"\",AT78=\"\")),1,0)","v":0},{"$f":"IF(OR(C78<(AO78+AP78),C78<AQ78,C78<AR78,C78<AT78),1,0)","v":0},{"$f":"IF(C78<AN78,1,0)","v":0},{"$f":"IF((J78+K78+L78+M78)<AS78,1,0)","v":0}]
[null,"MATRONA /ÓN POST TEST",4,null,4,null,null,null,null,null,null,null,null,null,1,null,1,null,2,null,null,null,null,null,null,null,null,null,null,null,null,null,null,null,null,null,null,null,null,0,0,0,0,0,0,0,"",null,null,null,null,null,null,null,null,null,null,null,null,null,null,null,null,null,null,null,null,null,null,null,null,null,null,null,null,null,null,null,"","","","",null,null,0,0,0,0]
[null,"FACILITADOR/A INTERCULTURAL",0,null,0,null,null,null,null,null,null,null,null,null,null,null,null,null,null,null,null,null,null,null,null,null,null,null,null,null,null,null,null,null,null,null,null,null,null,0,0,0,0,0,0,0,"",null,null,null,null,null,null,null,null,null,null,null,null,null,null,null,null,null,null,null,null,null,null,null,null,null,null,null,null,null,null,null,"","","","",null,null,0,0,0,0]
["DESARROLLO INFANTIL INTEGRAL","ENFERMERA /O",1,{"$f":"SUM(F81+H81+J81)","v":0},{"$f":"SUM(G81+I81+K81)","v":1},0,1,0,0,null,null,null,null,null,null,null,null,null,null,null,null,null,null,null,null,null,null,null,null,null,null,null,null,null,null,null,null,null,null,0,0,0,0,0,0,0,"",null,null,null,null,null,null,null,null,null,null,null,null,null,null,null,null,null,null,null,null,null,null,null,null,null,null,null,null,null,null,null,"","","","",null,null,0,0,0,0]
["OTRAS ÁREAS","MÉDICO",0,{"$f":"+F82+H82+J82+L82+N82+P82+R82+T82+V82+X82+Z82+AB82+AD82+AF82+AH82+AJ82+AL82","v":0},{"$f":"+G82+I82+K82+M82+O82+Q82+S82+U82+W82+Y82+AA82+AC82+AE82+AG82+AI82+AK82+AM82","v":0},0,0,0,0,0,0,0,0,0,0,0,0,0,0,0,0,0,0,0,0,0,0,0,0,0,0,0,0,0,0,0,0,0,0,0,0,0,0,0,0,0,"",null,null,null,null,null,null,null,null,null,null,null,null,null,null,null,null,null,null,null,null,null,null,null,null,null,null,null,null,null,null,null,"","","","",null,null,0,0,0,0]
[null,"ENFERMERA /O",1,{"$f":"+F83+H83+J83+L83+N83+P83+R83+T83+V83+X83+Z83+AB83+AD83+AF83+AH83+AJ83+AL83","v":0},1,0,0,0,0,0,0,0,0,0,0,0,0,0,0,0,0,0,0,0,0,0,1,0,0,0,0,0,0,0,0,0,0,0,0,0,0,0,0,0,0,0,"",null,null,null,null,null,null,null,null,null,null,null,null,null,null,null,null,null,null,null,null,null,null,null,null,null,null,null,null,null,null,null,"","","","",null,null,0,0,0,0]
[null,"MATRONA /ÓN",1,0,1,0,0,0,0,0,0,0,1,0,0,0,0,0,0,0,0,0,0,0,0,0,0,0,0,0,0,0,0,0,0,0,0,0,0,1,0,0,0,1,0,0,"",null,null,null,null,null,null,null,null,null,null,null,null,null,null,null,null,null,null,null,null,null,null,null,null,null,null,null,null,null,null,null,"","","","",null,null,0,0,0,0]
[null,"ASISTENTE SOCIAL",0,0,0,0,0,0,0,0,0,0,0,0,0,0,0,0,0,0,0,0,0,0,0,0,0,0,0,0,0,0,0,0,0,0,0,0,0,0,0,0,0,0,0,0,"",null,null,null,null,null,null,null,null,null,null,null,null,null,null,null,null,null,null,null,null,null,null,null,null,null,null,null,null,null,null,null,"","","","",null,null,0,0,0,0]
[null,"PSICÓLOGO /A",0,0,0,0,0,0,0,0,0,0,0,0,0,0,0,0,0,0,0,0,0,0,0,0,0,0,0,0,0,0,0,0,0,0,0,0,0,0,0,0,0,0,0,0,"",null,null,null,null,null,null,null,null,null,null,null,null,null,null,null,null,null,null,null,null,null,null,null,null,null,null,null,null,null,null,null,"","","","",null,null,0,0,0,0]
[null,"TERAPEUTA OCUPACIONAL",0,0,0,0,0,0,0,0,0,0,0,0,0,0,0,0,0,0,0,0,0,0,0,0,0,0,0,0,0,0,0,0,0,0,0,0,0,0,0,0,0,0,0,0,"",null,null,null,null,null,null,null,null,null,null,null,null,null,null,null,null,null,null,null,null,null,null,null,null,null,null,null,null,null,null,null,"","","","",null,null,0,0,0,0]
[null,"FACILITADOR/A INTERCULTURAL",0,0,0,0,0,0,0,0,0,0,0,0,0,0,0,0,0,0,0,0,0,0,0,0,0,0,0,0,0,0,0,0,0,0,0,0,0,0,0,0,0,0,0,0,"",null,null,null,null,null,null,null,null,null,null,null,null,null,null,null,null,null,null,null,null,null,null,null,null,null,null,null,null,null,null,null,"","","","",null,null,0,0,0,0]
[null,"OTRO PROFESIONAL",0,0,0,0,0,0,0,0,0,0,0,0,0,0,0,0,0,0,0,0,0,0,0,0,0,0,0,0,0,0,0,0,0,0,0,0,0,0,0,0,0,0,0,0,"",null,null,null,null,null,null,null,null,null,null,null,null,null,null,null,null,null,null,null,null,null,null,null,null,null,null,null,null,null,null,null,"","","","",null,null,0,0,0,0]
["SECCIÓN A.2: CONSEJERÍAS INDIVIDUALES POR VIH (NO INCLUIDAS EN LA SECCIÓN A.1)"]
["CONSEJERÍAS","ÁREA O NIVEL","TOTAL              ",null,null,"GRUPOS DE EDAD (en años)",null,null,null,null,null,null,null,null,null,null,null,null,null,null,null,null,null,null,null,null,null,null,null,null,null,null,null,null,null,null,null,null,null,"TRANS",null,"Pueblos Originarios","Migrantes","Niños, Niñas, Adolescentes y Jóvenes Población SENAME"]
[null,null,null,null,null,"0 - 4",null,"5 - 9",null,"10 a 14",null,"15 a 19",null,"20 a 24",null,"25 - 29",null,"30 - 34",null,"35 - 39",null,"40 - 44",null,"45 - 49",null,"50 - 54",null,"55 - 59",null,"60 - 64",null,"65 - 69",null,"70 - 74",null,"75 - 79",null,"80 y mas"]
[null,null,"AMBOS SEXOS","HOMBRES","MUJERES","HOMBRES","MUJERES","HOMBRES","MUJERES","HOMBRES","MUJERES","HOMBRES","MUJERES","HOMBRES","MUJERES","HOMBRES","MUJERES","HOMBRES","MUJERES","HOMBRES","MUJERES","HOMBRES","MUJERES","HOMBRES","MUJERES","HOMBRES","MUJERES","HOMBRES","MUJERES","HOMBRES","MUJERES","HOMBRES","MUJERES","HOMBRES","MUJERES","HOMBRES","MUJERES","HOMBRES","MUJERES","Masculino","Femenino"]
["ORIENTACIÓN E INFORMACIÓN PREVIA AL EXAMEN VIH","EN BANCO DE SANGRE  (DONANTES)",{"$f":"SUM(D94+E94)","v":0},{"$f":"+L94+N94+P94+R94+T94+V94+X94+Z94+AB94+AD94","v":0},{"$f":"+M94+O94+Q94+S94+U94+W94+Y94+AA94+AC94+AE94","v":0},null,null,null,null,null,null,null,null,null,null,null,null,null,null,null,null,null,null,null,null,null,null,null,null,null,null,null,null,null,null,null,null,null,null,null,null,null,null,null,{"$f":"$CA94&$CB94&$CC94&$CD94","v":""},null,null,null,null,null,null,null,null,null,null,null,null,null,null,null,null,null,null,null,null,null,null,null,null,null,null,null,null,null,null,null,null,null,{"$f":"IF(CG94=1,\"* No olvide digitar la columna Trans y/o Pueblos Originarios y/o Migrantes y/o Población SENAME (Digite Cero si no tiene). \",\"\")","v":""},{"$f":"IF(CH94=1,\"* El número de Trans y/o Pueblos Originarios y/o Migrantes y/o Población SENAME NO DEBE ser mayor que el Total. \",\"\")","v":""},null,null,null,null,{"$f":"IF(AND(C94<>0,OR(AO94=\"\",AP94=\"\",AQ94=\"\",AR94=\"\",AN94=\"\")),1,0)","v":0},{"$f":"IF(OR(C94<(AN94+AO94),C94<AQ94,C94<AP94,C94<AR94),1,0)","v":0}]
[null,"HOSPITALIZACIÓN",0,{"$f":"SUM(F95+H95+J95+L95+N95+P95+R95+T95+V95+X95+Z95+AB95+AD95+AF95+AH95+AJ95+AL95)","v":0},{"$f":"SUM(G95+I95+K95+M95+O95+Q95+S95+U95+W95+Y95+AA95+AC95+AE95+AG95+AI95+AK95+AM95)","v":0},null,null,null,null,null,null,null,null,null,null,null,null,null,null,null,null,null,null,null,null,null,null,null,null,null,null,null,null,null,null,null,null,null,null,null,null,null,null,null,"",null,null,null,null,null,null,null,null,null,null,null,null,null,null,null,null,null,null,null,null,null,null,null,null,null,null,null,null,null,null,null,null,null,"","",null,null,null,null,0,0]
[null,"EN CDT - CRS",0,0,0,null,null,null,null,null,null,null,null,null,null,null,null,null,null,null,null,null,null,null,null,null,null,null,null,null,null,null,null,null,null,null,null,null,null,null,null,null,null,null,"",null,null,null,null,null,null,null,null,null,null,null,null,null,null,null,null,null,null,null,null,null,null,null,null,null,null,null,null,null,null,null,null,null,"","",null,null,null,null,0,0]
[null,"EN APS",0,0,0,null,null,null,null,null,null,null,null,null,null,null,null,null,null,null,null,null,null,null,null,null,null,null,null,null,null,null,null,null,null,null,null,null,null,null,null,null,null,null,"",null,null,null,null,null,null,null,null,null,null,null,null,null,null,null,null,null,null,null,null,null,null,null,null,null,null,null,null,null,null,null,null,null,"","",null,null,null,null,0,0]
[null,"EN APS - ESPACIOS AMIGABLES",1,{"$f":"+J98+L98+N98","v":0},{"$f":"+K98+M98+O98","v":1},null,null,null,null,0,0,0,1,0,0,null,null,null,null,null,null,null,null,null,null,null,null,null,null,null,null,null,null,null,null,null,null,null,null,0,0,0,0,0,"",null,null,null,null,null,null,null,null,null,null,null,null,null,null,null,null,null,null,null,null,null,null,null,null,null,null,null,null,null,null,null,null,null,"","",null,null,null,null,0,0]
[null,"EN OTRAS INSTANCIAS",0,{"$f":"SUM(F99+H99+J99+L99+N99+P99+R99+T99+V99+X99+Z99+AB99+AD99+AF99+AH99+AJ99+AL99)","v":0},{"$f":"SUM(G99+I99+K99+M99+O99+Q99+S99+U99+W99+Y99+AA99+AC99+AE99+AG99+AI99+AK99+AM99)","v":0},null,null,null,null,null,null,null,null,null,null,null,null,null,null,null,null,null,null,null,null,null,null,null,null,null,null,null,null,null,null,null,null,null,null,null,null,null,null,null,"",null,null,null,null,null,null,null,null,null,null,null,null,null,null,null,null,null,null,null,null,null,null,null,null,null,null,null,null,null,null,null,null,null,"","",null,null,null,null,0,0]
["CONSEJERÍAS POST TEST VIH","EN BANCO DE SANGRE  (DONANTES)",0,{"$f":"+L100+N100+P100+R100+T100+V100+X100+Z100+AB100+AD100","v":0},{"$f":"+M100+O100+Q100+S100+U100+W100+Y100+AA100+AC100+AE100","v":0},null,null,null,null,null,null,null,null,null,null,null,null,null,null,null,null,null,null,null,null,null,null,null,null,null,null,null,null,null,null,null,null,null,null,null,null,null,null,null,"",null,null,null,null,null,null,null,null,null,null,null,null,null,null,null,null,null,null,null,null,null,null,null,null,null,null,null,null,null,null,null,null,null,"","",null,null,null,null,0,0]
[null,"HOSPITALIZACIÓN",0,{"$f":"SUM(F101+H101+J101+L101+N101+P101+R101+T101+V101+X101+Z101+AB101+AD101+AF101+AH101+AJ101+AL101)","v":0},0,null,null,null,null,null,null,null,null,null,null,null,null,null,null,null,null,null,null,null,null,null,null,null,null,null,null,null,null,null,null,null,null,null,null,null,null,null,null,null,"",null,null,null,null,null,null,null,null,null,null,null,null,null,null,null,null,null,null,null,null,null,null,null,null,null,null,null,null,null,null,null,null,null,"","",null,null,null,null,0,0]
[null,"EN CDT - CRS",0,{"$f":"SUM(F102+H102+J102+L102+N102+P102+R102+T102+V102+X102+Z102+AB102+AD102+AF102+AH102+AJ102+AL102)","v":0},0,null,null,null,null,null,null,null,null,null,null,null,null,null,null,null,null,null,null,null,null,null,null,null,null,null,null,null,null,null,null,null,null,null,null,null,null,null,null,null,"",null,null,null,null,null,null,null,null,null,null,null,null,null,null,null,null,null,null,null,null,null,null,null,null,null,null,null,null,null,null,null,null,null,"","",null,null,null,null,0,0]
[null,"EN APS",0,0,0,null,null,null,null,null,null,null,null,null,null,null,null,null,null,null,null,null,null,null,null,null,null,null,null,null,null,null,null,null,null,null,null,null,null,null,null,null,null,null,"",null,null,null,null,null,null,null,null,null,null,null,null,null,null,null,null,null,null,null,null,null,null,null,null,null,null,null,null,null,null,null,null,null,"","",null,null,null,null,0,0]
[null,"EN APS - ESPACIOS AMIGABLES",0,{"$f":"+J104+L104+N104","v":0},{"$f":"+K104+M104+O104","v":0},null,null,null,null,null,null,null,null,null,null,null,null,null,null,null,null,null,null,null,null,null,null,null,null,null,null,null,null,null,null,null,null,null,null,null,null,null,null,null,"",null,null,null,null,null,null,null,null,null,null,null,null,null,null,null,null,null,null,null,null,null,null,null,null,null,null,null,null,null,null,null,null,null,"","",null,null,null,null,0,0]
[null,"EN OTRAS INSTANCIAS",0,{"$f":"SUM(F105+H105+J105+L105+N105+P105+R105+T105+V105+X105+Z105+AB105+AD105+AF105+AH105+AJ105+AL105)","v":0},{"$f":"SUM(G105+I105+K105+M105+O105+Q105+S105+U105+W105+Y105+AA105+AC105+AE105+AG105+AI105+AK105+AM105)","v":0},null,null,null,null,null,null,null,null,null,null,null,null,null,null,null,null,null,null,null,null,null,null,null,null,null,null,null,null,null,null,null,null,null,null,null,null,null,null,null,"",null,null,null,null,null,null,null,null,null,null,null,null,null,null,null,null,null,null,null,null,null,null,null,null,null,null,null,null,null,null,null,null,null,"","",null,null,null,null,0,0]
["SECCIÓN A.3: CONSEJERÍAS FAMILIARES"]
["TEMAS PRIORIDAD","FAMILIA","TOTAL ACTIVIDADES","ESPACIOS AMIGABLES"]
[null,"CON RIESGO PSICOSOCIAL",0,null,{"$f":"$CA108&$CB108&$CC108&$CD108","v":""},null,null,null,null,null,null,null,null,null,null,null,null,null,null,null,null,null,null,null,null,null,null,null,null,null,null,null,null,null,null,null,null,null,null,null,null,null,null,null,null,null,null,null,null,null,null,null,null,null,null,null,null,null,null,null,null,null,null,null,null,null,null,null,null,null,null,null,null,null,null,null,null,null,{"$f":"IF(D108<=C108,\"\",\"* Las consejerías realizadas en Espacios Amigables NO DEBEN ser mayor al Total de Actividades. \")","v":""},null,null,null,null,null,{"$f":"IF(D108<=C108,0,1)","v":0}]
[null,"CON INTEGRANTE DE PATOLOGÍA CRÓNICA",2,null,{"$f":"$CA109&$CB109&$CC109&$CD109","v":""},null,null,null,null,null,null,null,null,null,null,null,null,null,null,null,null,null,null,null,null,null,null,null,null,null,null,null,null,null,null,null,null,null,null,null,null,null,null,null,null,null,null,null,null,null,null,null,null,null,null,null,null,null,null,null,null,null,null,null,null,null,null,null,null,null,null,null,null,null,null,null,null,null,{"$f":"IF(D109<=C109,\"\",\"* Las consejerías realizadas en Espacios Amigables NO DEBEN ser mayor al Total de Actividades. \")","v":""},null,null,null,null,null,{"$f":"IF(D109<=C109,0,1)","v":0}]
[null,"CON INTEGRANTE CON PROBLEMA DE SALUD MENTAL",0,null,{"$f":"$CA110&$CB110&$CC110&$CD110","v":""},null,null,null,null,null,null,null,null,null,null,null,null,null,null,null,null,null,null,null,null,null,null,null,null,null,null,null,null,null,null,null,null,null,null,null,null,null,null,null,null,null,null,null,null,null,null,null,null,null,null,null,null,null,null,null,null,null,null,null,null,null,null,null,null,null,null,null,null,null,null,null,null,null,{"$f":"IF(D110<=C110,\"\",\"* Las consejerías realizadas en Espacios Amigables NO DEBEN ser mayor al Total de Actividades. \")","v":""},null,null,null,null,null,{"$f":"IF(D110<=C110,0,1)","v":0}]
[null,"CON ADULTO MAYOR DEPENDIENTE",0]
[null,"CON ADULTO MAYOR CON DEMENCIA",0]
[null,"CON INTEGRANTE CON ENFERMEDAD TERMINAL",0,null,{"$f":"$CA113&$CB113&$CC113&$CD113","v":""},null,null,null,null,null,null,null,null,null,null,null,null,null,null,null,null,null,null,null,null,null,null,null,null,null,null,null,null,null,null,null,null,null,null,null,null,null,null,null,null,null,null,null,null,null,null,null,null,null,null,null,null,null,null,null,null,null,null,null,null,null,null,null,null,null,null,null,null,null,null,null,null,null,{"$f":"IF(D113<=C113,\"\",\"* Las consejerías realizadas en Espacios Amigables NO DEBEN ser mayor al Total de Actividades. \")","v":""},null,null,null,null,null,{"$f":"IF(D113<=C113,0,1)","v":0}]
[null,"CON INTEGRANTE DEPENDIENTE SEVERO",0,null,{"$f":"$CA114&$CB114&$CC114&$CD114","v":""},null,null,null,null,null,null,null,null,null,null,null,null,null,null,null,null,null,null,null,null,null,null,null,null,null,null,null,null,null,null,null,null,null,null,null,null,null,null,null,null,null,null,null,null,null,null,null,null,null,null,null,null,null,null,null,null,null,null,null,null,null,null,null,null,null,null,null,null,null,null,null,null,null,{"$f":"IF(D114<=C114,\"\",\"* Las consejerías realizadas en Espacios Amigables NO DEBEN ser mayor al Total de Actividades. \")","v":""},null,null,null,null,null,{"$f":"IF(D114<=C114,0,1)","v":0}]
[null,"OTRAS ÁREAS DE INTERVENCIÓN",1,null,{"$f":"$CA115&$CB115&$CC115&$CD115","v":""},null,null,null,null,null,null,null,null,null,null,null,null,null,null,null,null,null,null,null,null,null,null,null,null,null,null,null,null,null,null,null,null,null,null,null,null,null,null,null,null,null,null,null,null,null,null,null,null,null,null,null,null,null,null,null,null,null,null,null,null,null,null,null,null,null,null,null,null,null,null,null,null,null,{"$f":"IF(D115<=C115,\"\",\"* Las consejerías realizadas en Espacios Amigables NO DEBEN ser mayor al Total de Actividades. \")","v":""},null,null,null,null,null,{"$f":"IF(D115<=C115,0,1)","v":0}]
[null,"CON ADOLESCENTE VIH (+)",0,null,{"$f":"$CA116&$CB116&$CC116&$CD116","v":""},null,null,null,null,null,null,null,null,null,null,null,null,null,null,null,null,null,null,null,null,null,null,null,null,null,null,null,null,null,null,null,null,null,null,null,null,null,null,null,null,null,null,null,null,null,null,null,null,null,null,null,null,null,null,null,null,null,null,null,null,null,null,null,null,null,null,null,null,null,null,null,null,null,{"$f":"IF(D116<=C116,\"\",\"* Las consejerías realizadas en Espacios Amigables NO DEBEN ser mayor al Total de Actividades. \")","v":""},null,null,null,null,null,{"$f":"IF(D116<=C116,0,1)","v":0}]
["SECCIÓN A.4: CONSEJERÍAS INDIVIDUALES  CON ENTREGA DE PRESERVATIVOS (INCLUIDAS EN SECCIÓN A.1)"]
["ACTIVIDAD",null,"TOTAL",null,null,"GRUPOS DE EDAD (en años)"]
[null,null,null,null,null,"10 - 14",null,"15-19 ",null,"20-24 ",null,"25-29 ",null,"30-34 ",null,"35-39",null,"40-44 ",null,"45-49 ",null,"50-54 ",null,"55-59",null,"60-64 ",null,"65-69 ",null,"70-74 ",null,"75- 79",null,"80 y mas",null,"14 a 18"]
[null,null,"AMBOS SEXOS","HOMBRES","MUJERES","HOMBRES","MUJERES","HOMBRES","MUJERES","HOMBRES","MUJERES","HOMBRES","MUJERES","HOMBRES","MUJERES","HOMBRES","MUJERES","HOMBRES","MUJERES","HOMBRES","MUJERES","HOMBRES","MUJERES","HOMBRES","MUJERES","HOMBRES","MUJERES","HOMBRES","MUJERES","HOMBRES","MUJERES","HOMBRES","MUJERES","HOMBRES","MUJERES","HOMBRES","MUJERES"]
["CONSEJERÍA CON ENTREGA DE PRESERVATIVOS ","CONDONES MASCULINOS",{"$f":"SUM(D121:E121)","v":0},{"$f":"+F121+H121+J121+L121+N121+P121+R121+T121+V121+X121+Z121+AB121+AD121+AF121+AH121","v":0},0]
[null,"CONDONES FEMENINOS",{"$f":"SUM(D122:E122)","v":0},0,0]
[null,"AMBOS TIPOS DE CONDONES",{"$f":"SUM(D123:E123)","v":0},0,0]
["SECCIÓN B: ACTIVIDADES DE PROMOCIÓN"]
["SECCIÓN B.1: ACTIVIDADES DE PROMOCIÓN SEGÚN ESTRATEGIAS Y CONDICIONANTES ABORDADAS Y NÚMERO DE PARTICIPANTES"]
["ACTIVIDADES","ESTRATEGIA, ESPACIOS  O LÍNEAS DE ACCIÓN ","TOTAL ACTIVIDADES","CONDICIONANTES ABORDADAS",null,null,null,null,null,null,"DETERMINANTES SOCIALES DE LA SALUD ABORDADAS - CHILE CRECE CONTIGO","TOTAL PARTICIPANTES "]
[null,null,null,"Actividad física","Alimentación ","Ambiente libre de humo de tabaco","Factores protectores psicosociales","Factores protectores ambientales","Derechos humanos","Salud sexual y prevención de VIH/SIDA e ITS"]
["EVENTOS  MASIVOS ","COMUNAS, COMUNIDADES.",{"$f":"SUM(D128:J128)","v":0}]
[null,"ESPACIOS AMIGABLES EN APS",0]
[null,"LUGARES DE TRABAJO",0]
[null,"ESTABLECIMIENTOS EDUCACIÓN",0]
["REUNIONES DE PLANIFICACIÓN PARTICIPATIVA","COMUNAS, COMUNIDADES.",0]
[null,"ESPACIOS AMIGABLES EN APS",0]
[null,"LUGARES DE TRABAJO",0]
[null,"ESTABLECIMIENTOS EDUCACIÓN",0]
["\nJORNADAS Y  \nSEMINARIOS","COMUNAS, COMUNIDADES.",0]
[null,"ESPACIOS AMIGABLES EN APS",0]
[null,"LUGARES DE TRABAJO",0]
[null,"ESTABLECIMIENTOS EDUCACIÓN",0]
["EDUCACIÓN GRUPAL ","COMUNAS, COMUNIDADES.",0]
[null,"ESPACIOS AMIGABLES EN APS",0]
[null,"LUGARES DE TRABAJO",0]
[null,"ESTABLECIMIENTOS EDUCACIÓN",0]
["SECCIÓN B.2: TALLERES GRUPALES DE VIDA SANA SEGÚN TIPO, POR ESPACIOS DE ACCIÓN"]
["ESPACIOS DE ACCIÓN","TOTAL  TALLERES","\"AUTOESTIMA Y AUTOCUIDADO\" ","\"MENTE SANA Y CUERPO SANO\"","\"COMUNICACIÓN\"","\"YO ME CUIDO\"","CONTROL DEL TABACO","OTROS TIPO DE TALLERES"]
["COMUNAS, COMUNIDADES"]
["ESPACIOS AMIGABLES EN APS"]
["LUGARES DE TRABAJO"]
["ESTABLECIMIENTOS EDUCACIONALES"]
["SECCIÓN B.3: ACTIVIDADES DE GESTIÓN SEGÚN TIPO, POR ESPACIOS DE ACCIÓN"]
["ESPACIOS DE ACCIÓN","TOTAL ACTIVIDADES","REUNIONES DE GESTIÓN ","REUNIONES  MASIVAS DE GESTIÓN","ACCIONES DE COMUNICACIÓN Y DIFUSIÓN","PREPARACIÓN ACTIVIDADES EDUCATIVAS","ENTREVISTAS","INVESTIGACIÓN Y CAPACITACIÓN DE RRHH"]
["COMUNAS, COMUNIDADES",{"$f":"SUM(C152:H152)","v":5},5,0,0,0,0,0]
["ESPACIOS AMIGABLES EN APS",0,0,0,0,0,0,0]
["LUGARES DE TRABAJO",0,0,0,0,0,0,0]
["ESTABLECIMIENTOS \nEDUCACIONALES",0,0,0,0,0,0,0]
["OFICINA INTERCULTURAL",0,0,0,0,0,0,0]
["OTROS",0,0,0,0,0,0,0]
["SECCIÓN B.4: TALLERES GRUPALES SEGÚN TEMÁTICA Y NUMERO DE PARTICIPANTES EN PROGRAMA ESPACIOS AMIGABLES "]
["ESPACIOS DE ACCIÓN","TOTAL TALLERES","TOTAL PARTICIPANTES","ACTIVIDAD FÍSICA","ALIMENTACIÓN","AMBIENTE LIBRE DE HUMO DEL TABACO","FACTORES PROTECTORES PSICOSOCIALES","PREVENCIÓN CONSUMO DE ALCOHOL Y OTRAS DROGAS","SALUD SEXUAL Y PREVENCIÓN DE VIH/SIDA e ITS","OTROS TIPOS DE TALLERES"]
["ESPACIOS COMUNITARIOS"]
["ESTABLECIMIENTOS EDUCACIONALES"]
["CENTROS DE SALUD"]
[]
[]
[]
[]
[]
[]
[]
[]
[]
[]
[]
[]
[]
[]
[]
[]
[]
[]
[]
[]
[]
[]
[]
[]
[]
[]
[]
[]
[]
[]
[]
[{"$f":"SUM(C14:C89,C94:C105,C128:C143,B146:B149,B152:B157,C108:C115)","v":168},{"$f":"SUM(CG11:CO151)","v":0}]

{"sheet":"A19b","index":13,"n_rows":195,"n_cols":79,"rows_kept":195,"cut":false,"hidden":false,"merged":[[47,0,47,1],[48,0,48,1],[40,0,40,1],[41,0,41,1],[42,0,42,1],[43,0,43,1],[44,0,44,1],[46,0,46,1],[39,0,39,1],[30,0,31,1],[30,2,30,5],[30,6,30,9],[30,10,30,12],[32,0,32,1],[33,0,33,1],[34,0,34,1],[35,0,35,1],[36,0,36,1],[37,0,37,1],[38,0,38,1],[5,0,5,15],[8,0,9,0],[8,1,8,3],[8,4,8,5],[8,6,9,6],[8,7,8,8]]}
["SERVICIO DE SALUD"]
[{"$f":"CONCATENATE(\"COMUNA: \",NOMBRE!B2,\" - \",\"( \",NOMBRE!C2,NOMBRE!D2,NOMBRE!E2,NOMBRE!F2,NOMBRE!G2,\" )\")","v":"COMUNA: CALLE LARGA - ( 05302 )"}]
[{"$f":"CONCATENATE(\"ESTABLECIMIENTO/ESTRATEGIA: \",NOMBRE!B3,\" - \",\"( \",NOMBRE!C3,NOMBRE!D3,NOMBRE!E3,NOMBRE!F3,NOMBRE!G3,NOMBRE!H3,\" )\")","v":"ESTABLECIMIENTO/ESTRATEGIA: DR. JOSE JOAQUIN AGUIRRE CAMPOS - ( 108308 )"}]
[{"$f":"CONCATENATE(\"MES: \",NOMBRE!B6,\" - \",\"( \",NOMBRE!C6,NOMBRE!D6,\" )\")","v":"MES: DICIEMBRE - ( 12 )"}]
[{"$f":"CONCATENATE(\"AÑO: \",NOMBRE!B7)","v":"AÑO: 2022"}]
["REM-19b.   ACTIVIDADES DE PARTICIPACIÓN SOCIAL"]
[]
["SECCIÓN A: ATENCIÓN OFICINAS DE INFORMACIONES (SISTEMA INTEGRAL DE ATENCIÓN A USUARIOS)"]
["TIPO DE ATENCION","Nº DE ATENCIONES EN EL MES",null,null,"RESPUESTAS DEL MES DENTRO DE PLAZOS LEGALES ( 15 DIAS HÁBILES)",null,"RECLAMOS RESPONDIDOS FUERA DE PLAZOS LEGALES","RECLAMOS PENDIENTES"]
[null,"Total","Hombres","Mujeres","Reclamos generados en el mes","Reclamos generados en el mes anterior",null,"Respuestas pendientes dentro del plazo legal","Respuestas pendientes fuera del plazo legal"]
["TOTAL DE RECLAMOS ",{"$f":"SUM(C11+D11)","v":5},{"$f":"SUM(C12:C24)","v":2},3,5,3,0,2,0]
["TRATO",{"$f":"SUM(C12+D12)","v":0}]
["COMPETENCIA TÉCNICA",{"$f":"SUM(C13+D13)","v":3},1,2,3,1,null,1]
["INFRAESTRUCTURA",0]
["TIEMPO DE ESPERA (EN SALA DE ESPERA)",1,1,null,1,null,null,1]
["TIEMPO DE ESPERA, POR CONSULTA ESPECIALIDAD (POR LISTA DE ESPERA)",0]
["TIEMPO DE ESPERA, POR PROCEDIMIENTO (LISTA DE ESPERA)",0]
["TIEMPO DE ESPERA , POR CIRUGÍA (LISTA DE ESPERA)",0]
["INFORMACIÓN",1,null,1,1,2]
["PROCEDIMIENTOS ADMINISTRATIVOS",0]
["PROBIDAD ADMINISTRATIVA",0]
["INCUMPLIMIENTO GARANTÍAS EXPLÍCITAS EN SALUD (GES)",0]
["INCUMPLIMIENTO DE GARANTÍAS LEY RICARTE SOTO",0]
["INCUMPLIMIENTO DE GARANTÍAS FOFAR",0]
["CONSULTAS",82,35,47]
["SUGERENCIAS",3,null,3]
["FELICITACIONES",1,null,1]
["SOLICITUDES",5,null,5]
["SOLICITUDES LEY 20.285 (Ley de Transparencia)",0]
["SECCIÓN B: ACTIVIDADES POR ESTRATEGIA/LÍNEA DE ACCIÓN O ESPACIO / INSTANCIA DE PARTICIPACIÓN SOCIAL"]
["TIPO DE ACTIVIDADES",null,"ESPACIOS/INSTANCIAS ",null,null,null,"ESTRATEGIAS/LÍNEAS DE ACCIÓN",null,null,null,"PARTICIPANTES"]
[null,null,"Consultas Ciudadanas","Consejo de la Sociedad Civil, Consejos consultivos, de desarrollo y comités locales"," Consejos consultivos de Adolescentes y Jóvenes","Mesas: Territoriales, diálogos ciudadanos, mesa salud intercultural","Cuentas públicas participativas","Presupuestos participativos","Estrategias de satisfacción usuaria","Planificación local participativa (Diagnósticos, programación y evaluación)","Total participantes","Total hombres","Total mujeres"]
["ADMINISTRACIÓN Y GESTIÓN",null,null,null,null,null,null,null,null,null,{"$f":"SUM(L33+M33)","v":0}]
["ENTREVISTAS",null,null,null,null,null,null,null,null,8,{"$f":"SUM(L34+M34)","v":202},142,60]
["REUNIONES INTRASECTOR",null,null,null,null,null,null,null,null,null,{"$f":"SUM(L35+M35)","v":0}]
["REUNIONES INTERSECTOR",null,null,8,null,null,null,null,null,null,{"$f":"SUM(L36+M36)","v":150},108,42]
["ACTIVIDADES DE MONITOREO"]
["ASESORÍA TÉCNICA"]
["JORNADAS DE INTERCAMBIO DE EXPERIENCIAS"]
["ACTIVIDADES DE DIFUSIÓN Y COMUNICACIÓN",null,null,null,null,null,1]
["EDUCACIÓN Y CAPACITACIÓN COMUNITARIA",null,null,null,null,null,null,null,null,null,{"$f":"SUM(L41+M41)","v":0}]
["EVENTOS MASIVOS (ASAMBLEAS, CABILDOS, OTROS)",null,null,null,null,null,null,1]
["ACTIVIDADES A PUEBLOS INDÍGENAS",null,null,null,null,null,null,null,null,1,{"$f":"SUM(L43+M43)","v":15},3,12]
["TOTAL DE ACTIVIDADES",null,{"$f":"SUM(C33:C43)","v":0},{"$f":"SUM(D33:D43)","v":8},{"$f":"SUM(E33:E43)","v":0},0,{"$f":"SUM(G33:G42)","v":1},1,0,9,{"$f":"SUM(K33+K34+K35+K36+K39+K40+K41+K43)","v":367},{"$f":"SUM(L33+L34+L35+L36+L41+L43)","v":253},{"$f":"SUM(M33+M34+M35+M36+M41+M43)","v":114}]
["ACTIVIDADES DE PARTICIPACIÓN SOCIAL POR TEC. PARAMÉDICO",null,null,null,null,null,null,null,null,null,{"$f":"SUM(L45+M45)","v":0}]
["SECCIÓN C: REUNIONES DE ADULTO MAYOR"]
["TIPO DE REUNIÓN",null,"TOTAL","CASOS/INSTI-\nTUCIONES"]
["CLÍNICAS ",null,null,null,null,null,null,null,null,null,null,null,null,null,null,null,null,null,null,null,null,null,null,null,null,null,null,null,null,null,null,null,null,null,null,null,null,null,null,null,null,null,null,null,null,null,null,null,null,null,null,null,null,null,null,null,null,null,null,null,null,null,null,null,null,null,null,null,null,null,null,null,null,null,null,null,null,null,{"$f":"IF(D48>C48,\"Casos/Instituciones deben ser menor o iguales al total Reuniones A. Mayor\",\"\")","v":""}]
["CON INSTITUCIONES DE LARGA ESTADÍA"]
[]
[]
[]
[]
[]
[]
[]
[]
[]
[]
[]
[]
[]
[]
[]
[]
[]
[]
[]
[]
[]
[]
[]
[]
[]
[]
[]
[]
[]
[]
[]
[]
[]
[]
[]
[]
[]
[]
[]
[]
[]
[]
[]
[]
[]
[]
[]
[]
[]
[]
[]
[]
[]
[]
[]
[]
[]
[]
[]
[]
[]
[]
[]
[]
[]
[]
[]
[]
[]
[]
[]
[]
[]
[]
[]
[]
[]
[]
[]
[]
[]
[]
[]
[]
[]
[]
[]
[]
[]
[]
[]
[]
[]
[]
[]
[]
[]
[]
[]
[]
[]
[]
[]
[]
[]
[]
[]
[]
[]
[]
[]
[]
[]
[]
[]
[]
[]
[]
[]
[]
[]
[]
[]
[]
[]
[]
[]
[]
[]
[]
[]
[]
[]
[]
[]
[]
[]
[]
[]
[]
[]
[]
[]
[]
[]
[{"$f":"SUM(B11,B25:B29,C44:M44,C48:C49)","v":849},{"$f":"SUM(CG6:CM50)","v":0}]

{"sheet":"A21","index":14,"n_rows":211,"n_cols":90,"rows_kept":211,"cut":false,"hidden":false,"merged":[[8,0,10,0],[8,1,10,1],[64,0,64,4],[25,0,26,1],[31,0,32,0],[25,3,25,4],[25,2,26,2],[8,2,10,2],[27,0,27,1],[28,0,28,1],[29,0,29,1],[30,0,30,1],[33,0,33,1],[8,25,9,27],[8,3,10,3],[8,4,10,4],[25,5,25,10],[8,15,9,19],[8,20,9,24],[8,10,9,14],[8,5,10,5],[8,6,9,9],[72,3,73,4],[89,1,89,6],[72,5,72,8],[73,5,73,6],[73,7,73,8],[88,0,88,6],[89,0,90,0],[66,0,66,1],[67,0,68,0],[69,0,70,0],[72,0,74,0],[72,1,73,2]]}
["SERVICIO DE SALUD"]
[{"$f":"CONCATENATE(\"COMUNA: \",NOMBRE!B2,\" - \",\"( \",NOMBRE!C2,NOMBRE!D2,NOMBRE!E2,NOMBRE!F2,NOMBRE!G2,\" )\")","v":"COMUNA: CALLE LARGA - ( 05302 )"}]
[{"$f":"CONCATENATE(\"ESTABLECIMIENTO/ESTRATEGIA: \",NOMBRE!B3,\" - \",\"( \",NOMBRE!C3,NOMBRE!D3,NOMBRE!E3,NOMBRE!F3,NOMBRE!G3,NOMBRE!H3,\" )\")","v":"ESTABLECIMIENTO/ESTRATEGIA: DR. JOSE JOAQUIN AGUIRRE CAMPOS - ( 108308 )"}]
[{"$f":"CONCATENATE(\"MES: \",NOMBRE!B6,\" - \",\"( \",NOMBRE!C6,NOMBRE!D6,\" )\")","v":"MES: DICIEMBRE - ( 12 )"}]
[{"$f":"CONCATENATE(\"AÑO: \",NOMBRE!B7)","v":"AÑO: 2022"}]
[null,null,null,null,null,"REM-21.   QUIRÓFANOS Y OTROS RECURSOS HOSPITALARIOS"]
[]
["SECCIÓN A:  CAPACIDAD INSTALADA Y UTILIZACIÓN DE LOS QUIRÓFANOS"]
["TIPO DE QUIRÓFANOS","NÙMERO DE QUIRÓFANOS EN DOTACIÓN","PROMEDIO MENSUAL DE QUIRÓFANOS HABILITADOS","PROMEDIO MENSUAL  DE QUIRÓFANOS EN TRABAJO","TOTAL  DE HORAS MENSUALES DE QUIRÓFANOS HABILITADOS (HORARIO HÁBIL)","TOTAL DE HORAS MENSUALES DE QUIRÓFANOS EN TRABAJO","HORAS MENSUALES PROGRAMADAS DE TABLA QUIRÚRGICA DE QUIRÓFANOS EN TRABAJO, HORARIO HABIL",null,null,null,"HORAS MENSUALES OCUPADAS DE QUIRÓFANOS EN TRABAJO HORARIO HÁBIL",null,null,null,null,"HORAS MENSUALES OCUPADAS DE QUIRÓFANOS EN TRABAJO HORARIO INHÁBIL DE LUNES A VIERNES",null,null,null,null,"HORAS MENSUALES OCUPADAS DE QUIRÓFANOS EN TRABAJO HORARIO SÁBADO, DOMINGO Y FESTIVO",null,null,null,null,"TOTAL HORAS MENSUALES OCUPADAS DE QUIRÓFANOS EN TRABAJO, HORARIO HABIL"]
[]
[null,null,null,null,null,null,"Totales","Beneficiarios MAI","Beneficiarios MLE","Otros","Totales","Beneficiarios MAI","Beneficiarios MLE","Otros","De preparación","Totales","Beneficiarios MAI","Beneficiarios MOLE","Otros","De preparación","Totales","Beneficiarios MAI","Beneficiarios MLE","Otros","De preparación","Totales","Cirugía Menor","Otros Procedimientos"]
["TOTAL QUIRÓFANOS",{"$f":"SUM(B13:B16)","v":0},0,0,0,0,0,0,0,0,0,0,0,0,0,0,0,0,0,0,0,0,0,0,0,{"$f":"SUM(Z13:Z16)","v":0},{"$f":"SUM(AA13:AA16)","v":0},{"$f":"SUM(AB13:AB16)","v":0}]
["DE CIRUGÍA ELECTIVA",null,null,null,null,null,{"$f":"SUM(H13:J13)","v":0},null,null,null,{"$f":"SUM(L13:O13)","v":0},null,null,null,null,{"$f":"SUM(Q13:T13)","v":0},null,null,null,null,{"$f":"SUM(V13:Y13)","v":0},null,null,null,null,{"$f":"SUM(AA13:AB13)","v":0}]
["DE URGENCIA",null,null,null,null,null,{"$f":"SUM(H14:J14)","v":0},null,null,null,{"$f":"SUM(L14:O14)","v":0},null,null,null,null,{"$f":"SUM(Q14:T14)","v":0},null,null,null,null,{"$f":"SUM(V14:Y14)","v":0},null,null,null,null,{"$f":"SUM(AA14:AB14)","v":0}]
["OBSTÉTRICO",null,null,null,null,null,{"$f":"SUM(H15:J15)","v":0},null,null,null,{"$f":"SUM(L15:O15)","v":0},null,null,null,null,{"$f":"SUM(Q15:T15)","v":0},null,null,null,null,{"$f":"SUM(V15:Y15)","v":0},null,null,null,null,{"$f":"SUM(AA15:AB15)","v":0}]
["INDIFERENCIADO",null,null,null,null,null,{"$f":"SUM(H16:J16)","v":0},null,null,null,{"$f":"SUM(L16:O16)","v":0},null,null,null,null,{"$f":"SUM(Q16:T16)","v":0},null,null,null,null,{"$f":"SUM(V16:Y16)","v":0},null,null,null,null,{"$f":"SUM(AA16:AB16)","v":0}]
["SECCIÓN B:  PROCEDIMIENTOS COMPLEJOS AMBULATORIOS"]
["COMPONENTES","TOTAL","QUIMIOTERAPIA","HEMODIÁLISIS","CIRUGÍA \nMAYOR\nAMBULATORIA","CORONARIO\nGRAFÍA","OTRAS"]
["RECURSO DISPONIBLE",{"$f":"SUM(C19:G19)","v":0}]
["INGRESOS",{"$f":"SUM(C20:G20)","v":0}]
["PERSONAS ATENDIDAS",{"$f":"SUM(C21:G21)","v":0}]
["DÍAS PERSONAS ATENDIDAS",{"$f":"SUM(C22:G22)","v":0}]
["ALTAS",{"$f":"SUM(C23:G23)","v":0}]
["SECCIÓN C:  HOSPITALIZACIÓN DOMICILIARIA"]
["SECCIÓN C.1:  PERSONAS ATENDIDAS EN EL PROGRAMA"]
["COMPONENTES",null,"TOTAL","EDAD",null,"ORIGEN DE LA DERIVACIÓN"]
[null,null,null,"Menores de 15 años","15 años y más","APS","Urgencia","Hospitalización","Ambulatorio","Ley de Urgencia","UGCC"]
["INGRESOS",null,{"$f":"SUM(D28:E28)","v":0},null,null,null,null,null,null,null,null,{"$f":"CA28","v":""},null,null,null,null,null,null,null,null,null,null,null,null,null,null,null,null,null,null,null,null,null,null,null,null,null,null,null,null,null,null,null,null,null,null,null,null,null,null,null,null,null,null,null,null,null,null,null,null,null,null,null,null,null,null,null,null,null,null,null,null,null,null,null,null,null,null,{"$f":"IF(CG28=1,\" * La Suma de Personas por Origen de Derivación no puede ser Mayor a la suma de Personas por Edad. \",\"\")","v":""},null,null,null,null,null,{"$f":"IF(SUM(F28:K28)>C28,1,0)","v":0}]
["PERSONAS ATENDIDAS",null,0,null,null,null,null,null,null,null,null,{"$f":"CA29","v":""},null,null,null,null,null,null,null,null,null,null,null,null,null,null,null,null,null,null,null,null,null,null,null,null,null,null,null,null,null,null,null,null,null,null,null,null,null,null,null,null,null,null,null,null,null,null,null,null,null,null,null,null,null,null,null,null,null,null,null,null,null,null,null,null,null,null,{"$f":"IF(CG29=1,\" * La Suma de Personas por Origen de Derivación no puede ser Mayor a la suma de Personas por Edad. \",\"\")","v":""},null,null,null,null,null,{"$f":"IF(SUM(F29:K29)>C29,1,0)","v":0}]
["DÍAS PERSONAS ATENDIDAS",null,0,null,null,null,null,null,null,null,null,"",null,null,null,null,null,null,null,null,null,null,null,null,null,null,null,null,null,null,null,null,null,null,null,null,null,null,null,null,null,null,null,null,null,null,null,null,null,null,null,null,null,null,null,null,null,null,null,null,null,null,null,null,null,null,null,null,null,null,null,null,null,null,null,null,null,null,"",null,null,null,null,null,0]
["ALTAS",null,0,null,null,null,null,null,null,null,null,"",null,null,null,null,null,null,null,null,null,null,null,null,null,null,null,null,null,null,null,null,null,null,null,null,null,null,null,null,null,null,null,null,null,null,null,null,null,null,null,null,null,null,null,null,null,null,null,null,null,null,null,null,null,null,null,null,null,null,null,null,null,null,null,null,null,null,"",null,null,null,null,null,0]
["FALLECIDOS","Esperados",0,null,null,null,null,null,null,null,null,"",null,null,null,null,null,null,null,null,null,null,null,null,null,null,null,null,null,null,null,null,null,null,null,null,null,null,null,null,null,null,null,null,null,null,null,null,null,null,null,null,null,null,null,null,null,null,null,null,null,null,null,null,null,null,null,null,null,null,null,null,null,null,null,null,null,null,"",null,null,null,null,null,0]
[null,"No esperados ",0,null,null,null,null,null,null,null,null,"",null,null,null,null,null,null,null,null,null,null,null,null,null,null,null,null,null,null,null,null,null,null,null,null,null,null,null,null,null,null,null,null,null,null,null,null,null,null,null,null,null,null,null,null,null,null,null,null,null,null,null,null,null,null,null,null,null,null,null,null,null,null,null,null,null,null,"",null,null,null,null,null,0]
["REINGRESOS A HOSPITALIZACIÓN TRADICIONAL",null,0,null,null,null,null,null,null,null,null,"",null,null,null,null,null,null,null,null,null,null,null,null,null,null,null,null,null,null,null,null,null,null,null,null,null,null,null,null,null,null,null,null,null,null,null,null,null,null,null,null,null,null,null,null,null,null,null,null,null,null,null,null,null,null,null,null,null,null,null,null,null,null,null,null,null,null,"",null,null,null,null,null,0]
["SECCIÓN C.2:  VISITAS REALIZADAS "]
["COMPONENTE","Total"]
["MÉDICO"]
["ENFERMERA"]
["TÉCNICO PARAMÉDICO"]
["MATRONA"]
["KINESIÓLOGO"]
["PSICÓLOGO"]
["FONOAUDIÓLOGO"]
["TRABAJADOR SOCIAL"]
["TERAPEUTA OCUPACIONAL"]
["SECCIÓN C.3:  CUPOS DISPONIBLES"]
["COMPONENTES","TOTAL","N° de Cupos","N° de cupos CAM INV Adicionales"]
["NÚMERO CUPOS PROGRAMADOS",{"$f":"SUM(C48:D48)","v":0}]
["NÚMERO CUPOS UTILIZADOS",{"$f":"SUM(C49:D49)","v":0}]
["NÚMERO DE CUPOS DISPONIBLES",{"$f":"SUM(C50:D50)","v":0}]
["SECCIÓN C.4: ASISTENCIA VENTILATORIA Y OXÍGENO EN DOMICILIO"]
["TIPO DE ESTRATEGIA","TOTAL","Menor de 20 años","De 20 años y más"]
["Estrategia de Asistencia Ventilatoria Invasiva en Domicilio",{"$f":"SUM(C53:D53)","v":0}]
["Estrategia de Asistencia Ventilatoria no Invasiva en Domicilio",{"$f":"SUM(C54:D54)","v":0}]
["Estrategia Oxígeno Domiciliario para pacientes Crónicos",0]
["SECCIÓN C.5: INGRESOS Y EGRESOS AL PROGRAMA"]
["ACTIVIDAD","Número de ingresos ","Número de egresos ","Número de personas activas","Número de controles médicos"]
["ASISTENCIA VENTILATORIA INVASIVA INFANTIL (AVI)"]
["ASISTENCIA VENTILATORIA INVASIVA DEL ADULTO (AVIA)"]
["ASISTENCIA VENTILATORIA NO INVASIVA INFANTIL (AVNI)"]
["ASISTENCIA VENTILATORIA NO INVASIVA ADULTO (AVNIA)"]
["OXIGENOTERAPIA AMBULATORIO CRÓNICO RESPIRATORIO INFANTIL"]
["OXIGENOTERAPIA AMBULATORIO CRÓNICO RESPIRATORIO ADULTO "]
["TOTAL",{"$f":"SUM(B58:B63)","v":0},{"$f":"SUM(C58:C63)","v":0},{"$f":"SUM(D58:D63)","v":0},{"$f":"SUM(E58:E63)","v":0}]
["SECCIÓN D: APOYO PSICOSOCIAL EN NIÑOS (AS) HOSPITALIZADOS"]
["CONCEPTO","INTERVENCIÓN","TOTAL","Hasta 28 días","29 días hasta menor de 1 año ","1 a 4 años","5 a 9 años","10 a 14 años","15 a 19 años"]
["TOTAL DE EGRESOS (en el período)",null,{"$f":"SUM(D67:I67)","v":0},null,null,null,null,null,null,{"$f":"CA67&CB67&CC67&CD67&CE67&CF67","v":""},null,null,null,null,null,null,null,null,null,null,null,null,null,null,null,null,null,null,null,null,null,null,null,null,null,null,null,null,null,null,null,null,null,null,null,null,null,null,null,null,null,null,null,null,null,null,null,null,null,null,null,null,null,null,null,null,null,null,null,null,null,null,null,null,null,null,null,null,{"$f":"IF(D68+D69>D67,\"* La suma del Total egresados con apoyo psicosocial Hasta 28 días deben ser menor o igual al Total de Egresos de Hasta 28 días. \",\"\")","v":""},{"$f":"IF(E68+E69>E67,\"* La suma del Total egresados con apoyo psicosocial de 29 dias hasta menor de 1 año deben ser menor al Total de Egresos de de 29 dias hasta menor de 1 año. \",\"\")","v":""},{"$f":"IF(F68+F69>F67,\"* La suma del Total egresados con apoyo psicosocial de 1 a 4 años deben ser menor al Total de Egresos de 1 a 4 años. \",\"\")","v":""},{"$f":"IF(G68+G69>G67,\"* La suma del Total egresados con apoyo psicosocial de 9 años deben ser menor o igual al Total de Egresos de de 5 a 9 años. \",\"\")","v":""},{"$f":"IF(H68+H69>H67,\"* La suma del Total egresados con apoyo psicosocial de 10 a 14 años deben ser menor al Total de Egresos de 10 a 14 años. \",\"\")","v":""},{"$f":"IF(I68+I69>I67,\"* La suma del Total egresados con apoyo psicosocial de 15 a 19 años deben ser menor al Total de Egresos de 15 a 19 años. \",\"\")","v":""},{"$f":"IF(D68+D69>D67,1,0)","v":0},0,0,0,0,0]
["EGRESADOS CON APOYO PSICOSOCIAL (en el período)","Intervención Psicosocial",{"$f":"SUM(D68:I68)","v":0},null,null,null,null,null,null,{"$f":"CA68&CB68&CC68&CD68&CE68&CF68","v":""}]
[null,"Estimulación del Desarrollo",{"$f":"SUM(D69:I69)","v":0},null,null,null,null,null,null,{"$f":"CA69&CB69&CC69&CD69&CE69&CF69","v":""}]
["Nº DE ATENCIONES (en el mes)","Intervención Psicosocial",{"$f":"SUM(D70:I70)","v":0},null,null,null,null,null,null,{"$f":"CA70&CB70&CC70&CD70&CE70&CF70","v":""}]
[null,"Estimulación del Desarrollo",{"$f":"SUM(D71:I71)","v":0},null,null,null,null,null,null,{"$f":"CA71&CB71&CC71&CD71&CE71&CF71","v":""}]
["SECCIÓN E: GESTIÓN DE PROCESOS DE PACIENTES QUIRÚRGICOS CON CIRUGÍA ELECTIVA"]
["ESPECIALIDAD","DÍAS DE ESTADA PREQUIRÚRGICOS",null,"PACIENTES INTERVENIDOS",null,"PROGRAMACIÓN DE TABLA QUIRÚRGICA (N° DE PACIENTES)"]
[null,null,null,null,null,"PACIENTES PROGRAMADOS",null,"PACIENTES SUSPENDIDOS"]
[null,"Menores de 15 años","15 años y más","Menores de 15 años","15 años y más","Menores de 15 años","15 años y más","Menores de 15 años","15 años y más"]
["CIRUGÍA GENERAL",null,null,null,null,null,null,null,null,{"$f":"CA76","v":""},null,null,null,null,null,null,null,null,null,null,null,null,null,null,null,null,null,null,null,null,null,null,null,null,null,null,null,null,null,null,null,null,null,null,null,null,null,null,null,null,null,null,null,null,null,null,null,null,null,null,null,null,null,null,null,null,null,null,null,null,null,null,null,null,null,null,null,null,{"$f":"IF(CG76=1,\" * La suma de los Pacientes Intervenidos debe ser mayor o igual a la Suma de Pacientes Programados menos la Suma de Pacientes Suspendidos. \",\"\")","v":""},null,null,null,null,null,{"$f":"IF(((F76+G76)-(H76+I76))>(D76+E76),1,0)","v":0}]
["CIRUGÍA CARDIOVASCULAR",null,null,null,null,null,null,null,null,{"$f":"CA77","v":""},null,null,null,null,null,null,null,null,null,null,null,null,null,null,null,null,null,null,null,null,null,null,null,null,null,null,null,null,null,null,null,null,null,null,null,null,null,null,null,null,null,null,null,null,null,null,null,null,null,null,null,null,null,null,null,null,null,null,null,null,null,null,null,null,null,null,null,null,{"$f":"IF(CG77=1,\" * La suma de los Pacientes Intervenidos debe ser mayor o igual a la Suma de Pacientes Programados menos la Suma de Pacientes Suspendidos. \",\"\")","v":""},null,null,null,null,null,{"$f":"IF(((F77+G77)-(H77+I77))>(D77+E77),1,0)","v":0}]
["CIRUGÍA MÁXILOFACIAL",null,null,null,null,null,null,null,null,"",null,null,null,null,null,null,null,null,null,null,null,null,null,null,null,null,null,null,null,null,null,null,null,null,null,null,null,null,null,null,null,null,null,null,null,null,null,null,null,null,null,null,null,null,null,null,null,null,null,null,null,null,null,null,null,null,null,null,null,null,null,null,null,null,null,null,null,null,"",null,null,null,null,null,0]
["CIRUGÍA TÓRAX",null,null,null,null,null,null,null,null,"",null,null,null,null,null,null,null,null,null,null,null,null,null,null,null,null,null,null,null,null,null,null,null,null,null,null,null,null,null,null,null,null,null,null,null,null,null,null,null,null,null,null,null,null,null,null,null,null,null,null,null,null,null,null,null,null,null,null,null,null,null,null,null,null,null,null,null,null,"",null,null,null,null,null,0]
["TRAUMATOLOGÍA",null,null,null,null,null,null,null,null,"",null,null,null,null,null,null,null,null,null,null,null,null,null,null,null,null,null,null,null,null,null,null,null,null,null,null,null,null,null,null,null,null,null,null,null,null,null,null,null,null,null,null,null,null,null,null,null,null,null,null,null,null,null,null,null,null,null,null,null,null,null,null,null,null,null,null,null,null,"",null,null,null,null,null,0]
["NEUROCIRUGÍA",null,null,null,null,null,null,null,null,"",null,null,null,null,null,null,null,null,null,null,null,null,null,null,null,null,null,null,null,null,null,null,null,null,null,null,null,null,null,null,null,null,null,null,null,null,null,null,null,null,null,null,null,null,null,null,null,null,null,null,null,null,null,null,null,null,null,null,null,null,null,null,null,null,null,null,null,null,"",null,null,null,null,null,0]
["OTORRINOLARINGOLOGÍA",null,null,null,null,null,null,null,null,"",null,null,null,null,null,null,null,null,null,null,null,null,null,null,null,null,null,null,null,null,null,null,null,null,null,null,null,null,null,null,null,null,null,null,null,null,null,null,null,null,null,null,null,null,null,null,null,null,null,null,null,null,null,null,null,null,null,null,null,null,null,null,null,null,null,null,null,null,"",null,null,null,null,null,0]
["OFTALMOLOGÍA",null,null,null,null,null,null,null,null,"",null,null,null,null,null,null,null,null,null,null,null,null,null,null,null,null,null,null,null,null,null,null,null,null,null,null,null,null,null,null,null,null,null,null,null,null,null,null,null,null,null,null,null,null,null,null,null,null,null,null,null,null,null,null,null,null,null,null,null,null,null,null,null,null,null,null,null,null,"",null,null,null,null,null,0]
["OBSTETRICIA Y GINECOLOGÍA",null,null,null,null,null,null,null,null,"",null,null,null,null,null,null,null,null,null,null,null,null,null,null,null,null,null,null,null,null,null,null,null,null,null,null,null,null,null,null,null,null,null,null,null,null,null,null,null,null,null,null,null,null,null,null,null,null,null,null,null,null,null,null,null,null,null,null,null,null,null,null,null,null,null,null,null,null,"",null,null,null,null,null,0]
["GINECOLOGÍA",null,null,null,null,null,null,null,null,"",null,null,null,null,null,null,null,null,null,null,null,null,null,null,null,null,null,null,null,null,null,null,null,null,null,null,null,null,null,null,null,null,null,null,null,null,null,null,null,null,null,null,null,null,null,null,null,null,null,null,null,null,null,null,null,null,null,null,null,null,null,null,null,null,null,null,null,null,"",null,null,null,null,null,0]
["UROLOGÍA",null,null,null,null,null,null,null,null,"",null,null,null,null,null,null,null,null,null,null,null,null,null,null,null,null,null,null,null,null,null,null,null,null,null,null,null,null,null,null,null,null,null,null,null,null,null,null,null,null,null,null,null,null,null,null,null,null,null,null,null,null,null,null,null,null,null,null,null,null,null,null,null,null,null,null,null,null,"",null,null,null,null,null,0]
["RESTO ESPECIALIDADES",null,null,null,null,null,null,null,null,"",null,null,null,null,null,null,null,null,null,null,null,null,null,null,null,null,null,null,null,null,null,null,null,null,null,null,null,null,null,null,null,null,null,null,null,null,null,null,null,null,null,null,null,null,null,null,null,null,null,null,null,null,null,null,null,null,null,null,null,null,null,null,null,null,null,null,null,null,{"$f":"IF(CG87=1,\" * La suma de los Pacientes Intervenidos debe ser mayor o igual a la Suma de Pacientes Programados menos la Suma de Pacientes Suspendidos. \",\"\")","v":""},null,null,null,null,null,0]
["TOTAL",{"$f":"SUM(B76:B87)","v":0},0,0,0,0,0,0,0]
["SECCIÓN F: CAUSAS DE SUSPENSIÓN DE CIRUGÍAS ELECTIVAS"]
["CAUSAS DE SUSPENSIÓN ATRIBUIBLES A:\n","Nº DE PERSONAS"]
[null,"TOTALES","Menores de 15 años","15 años y más","Beneficiarios MAI","Beneficiarios MLE","Otros"]
["PACIENTE",{"$f":"SUM(C92+D92)","v":0},null,null,null,null,null,{"$f":"CA92","v":""},null,null,null,null,null,null,null,null,null,null,null,null,null,null,null,null,null,null,null,null,null,null,null,null,null,null,null,null,null,null,null,null,null,null,null,null,null,null,null,null,null,null,null,null,null,null,null,null,null,null,null,null,null,null,null,null,null,null,null,null,null,null,null,null,null,null,null,null,null,null,{"$f":"IF(CH92=1,\" * La suma de los Beneficiarios MAI, MLE y Otros debe seri igual al Total. \",\"\")","v":""},null,null,null,null,null,null,{"$f":"IF(B92<>(E92+F92+G92),1,0)","v":0}]
["ADMINISTRATIVAS",0,null,null,null,null,null,{"$f":"CA93","v":""},null,null,null,null,null,null,null,null,null,null,null,null,null,null,null,null,null,null,null,null,null,null,null,null,null,null,null,null,null,null,null,null,null,null,null,null,null,null,null,null,null,null,null,null,null,null,null,null,null,null,null,null,null,null,null,null,null,null,null,null,null,null,null,null,null,null,null,null,null,null,{"$f":"IF(CH93=1,\" * La suma de los Beneficiarios MAI, MLE y Otros debe seri igual al Total. \",\"\")","v":""},null,null,null,null,null,null,0]
["UNIDAD DE APOYO CLÍNICO",0,null,null,null,null,null,"",null,null,null,null,null,null,null,null,null,null,null,null,null,null,null,null,null,null,null,null,null,null,null,null,null,null,null,null,null,null,null,null,null,null,null,null,null,null,null,null,null,null,null,null,null,null,null,null,null,null,null,null,null,null,null,null,null,null,null,null,null,null,null,null,null,null,null,null,null,null,"",null,null,null,null,null,null,0]
["EQUIPO QUIRÚRGICO",0,null,null,null,null,null,"",null,null,null,null,null,null,null,null,null,null,null,null,null,null,null,null,null,null,null,null,null,null,null,null,null,null,null,null,null,null,null,null,null,null,null,null,null,null,null,null,null,null,null,null,null,null,null,null,null,null,null,null,null,null,null,null,null,null,null,null,null,null,null,null,null,null,null,null,null,null,"",null,null,null,null,null,null,0]
["INFRAESTRUCTURA",0,null,null,null,null,null,"",null,null,null,null,null,null,null,null,null,null,null,null,null,null,null,null,null,null,null,null,null,null,null,null,null,null,null,null,null,null,null,null,null,null,null,null,null,null,null,null,null,null,null,null,null,null,null,null,null,null,null,null,null,null,null,null,null,null,null,null,null,null,null,null,null,null,null,null,null,null,"",null,null,null,null,null,null,0]
["EMERGENCIAS",0,null,null,null,null,null,"",null,null,null,null,null,null,null,null,null,null,null,null,null,null,null,null,null,null,null,null,null,null,null,null,null,null,null,null,null,null,null,null,null,null,null,null,null,null,null,null,null,null,null,null,null,null,null,null,null,null,null,null,null,null,null,null,null,null,null,null,null,null,null,null,null,null,null,null,null,null,"",null,null,null,null,null,null,0]
["GREMIALES",0,null,null,null,null,null,"",null,null,null,null,null,null,null,null,null,null,null,null,null,null,null,null,null,null,null,null,null,null,null,null,null,null,null,null,null,null,null,null,null,null,null,null,null,null,null,null,null,null,null,null,null,null,null,null,null,null,null,null,null,null,null,null,null,null,null,null,null,null,null,null,null,null,null,null,null,null,"",null,null,null,null,null,null,0]
["TOTAL",{"$f":"SUM(B92:B98)","v":0},0,0,0,0,0,"",null,null,null,null,null,null,null,null,null,null,null,null,null,null,null,null,null,null,null,null,null,null,null,null,null,null,null,null,null,null,null,null,null,null,null,null,null,null,null,null,null,null,null,null,null,null,null,null,null,null,null,null,null,null,null,null,null,null,null,null,null,null,null,null,null,null,null,null,null,null,{"$f":"IF(CG99=1,\" * El total de causas de suspensión debe coincidir con la suma de Suspendidos sección F. \",\"\")","v":""},null,null,null,null,null,{"$f":"IF(B99<>(H88+I88),1,0)","v":0}]
[]
[]
[]
[]
[]
[]
[]
[]
[]
[]
[]
[]
[]
[]
[]
[]
[]
[]
[]
[]
[]
[]
[]
[]
[]
[]
[]
[]
[]
[]
[]
[]
[]
[]
[]
[]
[]
[]
[]
[]
[]
[]
[]
[]
[]
[]
[]
[]
[]
[]
[]
[]
[]
[]
[]
[]
[]
[]
[]
[]
[]
[]
[]
[]
[]
[]
[]
[]
[]
[]
[]
[]
[]
[]
[]
[]
[]
[]
[]
[]
[]
[]
[]
[]
[]
[]
[]
[]
[]
[]
[]
[]
[]
[]
[]
[]
[]
[]
[]
[]
[]
[]
[]
[]
[]
[]
[]
[]
[]
[]
[]
[{"$f":"SUM(B12:O12,B19:B23,B37:B45,C67,B88:I88,B99:G99,C68:C71,B48:B50,C28:C34)","v":0},{"$f":"SUM(CG3:CN115)","v":0}]

{"sheet":"A23","index":15,"n_rows":202,"n_cols":86,"rows_kept":202,"cut":false,"hidden":false,"merged":[[160,29,160,30],[160,31,160,32],[160,33,160,34],[160,35,160,36],[160,17,160,18],[160,19,160,20],[160,21,160,22],[160,23,160,24],[160,25,160,26],[160,27,160,28],[116,0,118,1],[116,2,117,4],[137,0,139,1],[137,2,138,4],[137,5,137,36],[138,5,138,6],[153,0,156,0],[153,1,153,2],[154,1,154,2],[155,1,155,2],[156,1,156,2],[148,0,148,2],[149,0,152,0],[149,1,149,2],[150,1,150,2],[151,1,151,2],[152,1,152,2],[138,25,138,26],[138,27,138,28],[138,29,138,30],[138,31,138,32],[138,33,138,34],[138,35,138,36],[138,7,138,8],[109,5,109,36],[109,2,110,4],[110,5,110,6],[110,7,110,8],[110,9,110,10],[110,11,110,12],[110,13,110,14],[110,31,110,32],[125,37,127,37],[126,5,126,6],[126,7,126,8],[126,9,126,10],[126,11,126,12],[126,13,126,14],[126,15,126,16],[126,35,126,36],[126,29,126,30],[126,31,126,32],[126,33,126,34],[117,31,117,32],[117,33,117,34],[117,35,117,36],[126,17,126,18],[126,19,126,20],[99,0,99,1],[100,0,100,1],[101,0,101,1],[102,0,102,1],[103,0,103,1],[104,0,104,1],[109,0,111,1],[106,0,106,1],[93,0,93,1],[94,0,94,1],[96,0,98,1],[105,0,105,1],[107,0,107,1],[96,2,97,4],[96,5,96,36],[96,37,98,37],[97,5,97,6],[97,7,97,8],[97,9,97,10],[97,11,97,12],[97,25,97,26],[97,27,97,28],[97,29,97,30],[97,31,97,32],[97,33,97,34],[97,35,97,36],[97,13,97,14],[97,15,97,16],[97,17,97,18],[97,19,97,20],[97,21,97,22],[97,23,97,24],[89,10,90,10],[89,11,90,11],[89,12,90,12],[89,13,89,14],[91,0,91,1],[92,0,92,1],[89,3,90,3],[89,4,90,4],[89,5,90,5],[89,6,90,6],[89,7,90,7],[89,8,90,8],[84,0,84,1],[85,0,85,1],[86,0,86,1],[87,0,87,1],[89,0,90,1],[89,2,90,2],[79,31,79,32],[79,33,79,34],[79,35,79,36],[81,0,81,1],[82,0,82,1],[83,0,83,1],[79,19,79,20],[79,21,79,22],[79,23,79,24],[79,25,79,26],[79,27,79,28],[79,29,79,30],[78,0,80,1],[78,2,79,4],[78,5,78,36],[79,5,79,6],[79,7,79,8],[79,9,79,10],[79,11,79,12],[79,13,79,14],[79,15,79,16],[79,17,79,18],[72,31,72,32],[72,33,72,34],[72,35,72,36],[74,0,74,1],[75,0,75,1],[76,0,76,1],[71,38,73,38],[72,5,72,6],[72,7,72,8],[72,9,72,10],[72,11,72,12],[72,13,72,14],[72,15,72,16],[72,17,72,18],[72,19,72,20],[72,21,72,22],[68,0,68,1],[69,0,69,1],[71,0,73,1],[71,2,72,4],[71,5,71,36],[71,37,73,37],[72,23,72,24],[72,25,72,26],[72,27,72,28],[72,29,72,30],[66,0,66,1],[67,0,67,1],[63,37,65,37],[64,5,64,6],[64,7,64,8],[64,9,64,10],[64,11,64,12],[64,13,64,14],[64,15,64,16],[64,17,64,18],[64,19,64,20],[64,21,64,22],[61,0,61,1],[63,0,65,1],[63,2,64,4],[63,5,63,36],[64,23,64,24],[64,25,64,26],[64,27,64,28],[64,29,64,30],[64,31,64,32],[64,33,64,34],[64,35,64,36],[57,37,60,37],[58,5,59,6],[58,7,59,8],[58,9,59,10],[58,11,59,12],[58,13,59,14],[58,15,59,16],[58,17,59,18],[58,19,59,20],[58,21,59,22],[58,31,59,32],[58,33,59,34],[58,35,59,36],[53,0,53,1],[54,0,54,1],[55,0,55,1],[57,0,60,1],[57,2,59,4],[57,5,57,36],[58,23,59,24],[58,25,59,26],[58,27,59,28],[58,29,59,30],[48,0,48,1],[49,0,49,1],[50,0,50,1],[51,0,51,1],[52,0,52,1],[45,27,46,28],[45,29,46,30],[45,31,46,32],[45,33,46,34],[45,15,46,16],[45,17,46,18],[45,19,46,20],[45,21,46,22],[45,23,46,24],[45,25,46,26],[42,0,42,1],[44,0,47,1],[44,2,46,4],[44,5,44,36],[44,37,45,38],[45,5,46,6],[45,7,46,8],[45,9,46,10],[45,11,46,12],[45,13,46,14],[46,38,47,38],[45,35,46,36],[46,37,47,37],[35,0,36,0],[37,0,37,1],[38,0,38,1],[39,0,39,1],[40,0,40,1],[41,0,41,1],[26,29,27,30],[26,31,27,32],[26,33,27,34],[29,0,31,0],[32,0,34,0],[26,17,27,18],[26,19,27,20],[26,21,27,22],[26,23,27,24],[26,25,27,26],[26,27,27,28],[25,0,28,1],[25,2,27,4],[25,5,25,36],[8,38,11,38],[9,5,10,6],[9,7,10,8],[9,9,10,10],[9,11,10,12],[9,31,10,32],[9,33,10,34],[9,35,10,36],[9,13,10,14],[9,15,10,16],[9,17,10,18],[9,19,10,20],[9,21,10,22],[9,23,10,24],[9,25,10,26],[9,27,10,28],[9,29,10,30],[16,0,16,1],[17,0,17,1],[25,37,28,37],[26,5,27,6],[26,7,27,8],[26,9,27,10],[26,11,27,12],[26,13,27,14],[26,15,27,16],[18,0,18,1],[19,0,19,1],[20,0,20,1],[21,0,21,1],[22,0,22,1],[23,0,23,1],[26,35,27,36],[5,0,5,21],[8,0,11,1],[8,2,10,4],[8,5,8,36],[8,37,11,37],[12,0,12,1],[13,0,13,1],[14,0,14,1],[15,0,15,1],[112,0,112,1],[113,0,113,1],[114,0,114,1],[110,23,110,24],[110,25,110,26],[110,27,110,28],[110,29,110,30],[159,0,161,1],[177,28,177,29],[177,30,177,31],[138,13,138,14],[119,0,119,1],[120,0,120,1],[121,0,121,1],[122,0,122,1],[123,0,123,1],[134,0,134,1],[126,21,126,22],[126,23,126,24],[126,25,126,26],[126,27,126,28],[125,0,127,1],[125,2,126,4],[125,5,125,36],[110,15,110,16],[110,17,110,18],[110,19,110,20],[110,21,110,22],[116,5,116,36],[117,5,117,6],[117,25,117,26],[117,27,117,28],[117,29,117,30],[110,33,110,34],[110,35,110,36],[117,7,117,8],[117,9,117,10],[117,11,117,12],[117,13,117,14],[117,15,117,16],[117,17,117,18],[117,19,117,20],[117,21,117,22],[117,23,117,24],[183,0,184,1],[168,0,168,1],[169,0,171,0],[172,0,174,0],[167,0,167,2],[136,0,136,4],[176,0,178,1],[176,2,178,2],[176,3,177,5],[179,0,180,1],[181,0,182,1],[143,0,143,1],[162,0,162,1],[163,0,163,1],[164,0,164,1],[166,0,166,1],[165,0,165,1],[157,0,157,2],[159,2,160,4],[159,5,159,36],[160,5,160,6],[160,7,160,8],[160,9,160,10],[160,11,160,12],[138,11,138,12],[138,15,138,16],[176,6,176,37],[177,6,177,7],[177,8,177,9],[177,10,177,11],[177,12,177,13],[177,14,177,15],[177,16,177,17],[177,18,177,19],[177,20,177,21],[177,22,177,23],[177,24,177,25],[177,26,177,27],[138,17,138,18],[138,19,138,20],[138,21,138,22],[138,23,138,24],[177,32,177,33],[177,34,177,35],[177,36,177,37],[138,9,138,10],[160,13,160,14],[160,15,160,16]]}
["SERVICIO DE SALUD"]
[{"$f":"CONCATENATE(\"COMUNA: \",NOMBRE!B2,\" - \",\"( \",NOMBRE!C2,NOMBRE!D2,NOMBRE!E2,NOMBRE!F2,NOMBRE!G2,\" )\")","v":"COMUNA: CALLE LARGA - ( 05302 )"}]
[{"$f":"CONCATENATE(\"ESTABLECIMIENTO/ESTRATEGIA: \",NOMBRE!B3,\" - \",\"( \",NOMBRE!C3,NOMBRE!D3,NOMBRE!E3,NOMBRE!F3,NOMBRE!G3,NOMBRE!H3,\" )\")","v":"ESTABLECIMIENTO/ESTRATEGIA: DR. JOSE JOAQUIN AGUIRRE CAMPOS - ( 108308 )"}]
[{"$f":"CONCATENATE(\"MES: \",NOMBRE!B6,\" - \",\"( \",NOMBRE!C6,NOMBRE!D6,\" )\")","v":"MES: DICIEMBRE - ( 12 )"}]
[{"$f":"CONCATENATE(\"AÑO: \",NOMBRE!B7)","v":"AÑO: 2022"}]
["REM-23.   SALAS: IRA, ERA Y MIXTAS EN APS"]
[]
["SECCIÓN A: INGRESOS AGUDOS SEGÚN DIAGNOSTICO"]
["DIAGNÓSTICOS",null,"TOTAL",null,null,"POR EDAD",null,null,null,null,null,null,null,null,null,null,null,null,null,null,null,null,null,null,null,null,null,null,null,null,null,null,null,null,null,null,null,"Reingresos","Por Campaña de Invierno"]
[null,null,null,null,null,"Menos \n1 año",null,"1 - 4 \naños",null,"5 - 9 \naños",null,"10 - 14\naños",null,"15 - 19\naños",null,"20 a 24 años\n",null,"25 a 39 años",null,"40 - 44 años",null,"45 - 49 años",null,"50 - 54 años",null,"55 - 59 años",null,"60 - 64 años",null,"65 - 69 años",null,"70 - 74 años",null,"75 - 79 años",null,"80 y mas años"]
[]
[null,null,"Ambos Sexos","Hombres","Mujeres","Hombres","Mujeres","Hombres","Mujeres","Hombres","Mujeres","Hombres","Mujeres","Hombres","Mujeres","Hombres","Mujeres","Hombres","Mujeres","Hombres","Mujeres","Hombres","Mujeres","Hombres","Mujeres","Hombres","Mujeres","Hombres","Mujeres","Hombres","Mujeres","Hombres","Mujeres","Hombres","Mujeres","Hombres","Mujeres"]
["I.R.A. ALTA",null,{"$f":"SUM(D13+E13)","v":4},{"$f":"SUM(F13+H13+J13+L13+N13+P13+R13+T13+V13+X13+Z13+AB13+AD13+AF13+AH13+AJ13)","v":4},{"$f":"SUM(G13+I13+K13+M13+O13+Q13+S13+U13+W13+Y13+AA13+AC13+AE13+AG13+AI13+AK13)","v":0},1,0,3,0,0,0,0,0,0,0,0,0,0,0,0,0,0,0,0,0,0,0,0,0,0,0,0,0,0,0,0,0,0,0]
["INFLUENZA",null,{"$f":"SUM(D14+E14)","v":0},{"$f":"SUM(F14+H14+J14+L14+N14+P14+R14+T14+V14+X14+Z14+AB14+AD14+AF14+AH14+AJ14)","v":0},0,0,0,0,0,0,0,0,0,0,0,0,0,0,0,0,0,0,0,0,0,0,0,0,0,0,0,0,0,0,0,0,0,0,0]
["NEUMONÍA ",null,1,1,0,0,0,0,0,1,0,0,0,0,0,0,0,0,0,0,0,0,0,0,0,0,0,0,0,0,0,0,0,0,0,0,0,0,0]
["COQUELUCHE",null,0,0,0,0,0,0,0,0,0,0,0,0,0,0,0,0,0,0,0,0,0,0,0,0,0,0,0,0,0,0,0,0,0,0,0,0,0]
["BRONQUITIS OBSTRUCTIVA AGUDA",null,6,2,4,0,0,2,2,0,2,0,0,0,0,0,0,0,0,0,0,0,0,0,0,0,0,0,0,0,0,0,0,0,0,0,0,0,0]
["OTRAS IRAS  BAJAS",null,0,0,0,0,0,0,0,0,0,0,0,0,0,0,0,0,0,0,0,0,0,0,0,0,0,0,0,0,0,0,0,0,0,0,0,0,0]
["EXACERBACIÓN SÍNDROME BRONQUIAL OBSTRUCTIVO RECURRENTE (SBOR)",null,1,0,1,0,0,0,1]
["EXACERBACIÓN ASMA",null,1,0,1,null,null,null,null,0,1,0,0,0,0,0,0,0,0,0,0,0,0,0,0,0,0,0,0,0,0,0,0,0,0,0,0,0,0]
["EXACERBACIÓN DE ENFERMEDAD PULMONAR OBSTRUCTIVA CRÓNICA (EPOC)",null,0,0,0]
["EXACERBACIÓN FIBROSIS QUÍSTICA",null,0,0,0]
["EXACERBACIÓN OTRAS RESPIRATORIAS CRÓNICAS",null,0,0,0]
["TOTAL",null,{"$f":"SUM(C13:C23)","v":13},7,6,1,0,5,3,1,3,0,0,0,0,0,0,0,0,0,0,0,0,0,0,0,0,0,0,0,0,0,0,0,0,0,0,0,0]
["SECCIÓN B: INGRESO CRÓNICO SEGÚN DIAGNÓSTICO (SOLO MÉDICO)"]
["DIAGNÓSTICOS",null,"TOTAL",null,null,"POR EDAD",null,null,null,null,null,null,null,null,null,null,null,null,null,null,null,null,null,null,null,null,null,null,null,null,null,null,null,null,null,null,null,"Reingresos"]
[null,null,null,null,null,"Menos \n1 año",null,"1 - 4 \naños",null,"5 - 9 \naños",null,"10 - 14\naños",null,"15 - 19\naños",null,"20 a 24 años\n",null,"25 a 39 años",null,"40 - 44 años",null,"45 - 49 años",null,"50 - 54 años",null,"55 - 59 años",null,"60 - 64 años",null,"65 - 69 años",null,"70 - 74 años",null,"75 - 79 años",null,"80 y mas años"]
[]
[null,null,"Ambos Sexos","Hombres","Mujeres","Hombres","Mujeres","Hombres","Mujeres","Hombres","Mujeres","Hombres","Mujeres","Hombres","Mujeres","Hombres","Mujeres","Hombres","Mujeres","Hombres","Mujeres","Hombres","Mujeres","Hombres","Mujeres","Hombres","Mujeres","Hombres","Mujeres","Hombres","Mujeres","Hombres","Mujeres","Hombres","Mujeres","Hombres","Mujeres"]
["SÍNDROME BRONQUIAL OBSTRUCTIVO RECURRENTE (SBOR)","Leve",{"$f":"SUM(D30+E30)","v":0},{"$f":"SUM(F30+H30)","v":0},0]
[null,"Moderado",0,0,0]
[null,"Severo",0,0,0]
["ASMA BRONQUIAL","Leve",2,{"$f":"SUM(H33+J33+L33+N33+P33+R33+T33+V33+X33+Z33+AB33+AD33+AF33+AH33+AJ33)","v":0},2,null,null,0,0,0,0,0,0,0,0,0,0,0,1,0,0,0,0,0,1,0,0,0,0,0,0,0,0,0,0,0,0,0]
[null,"Moderado",1,0,1,null,null,0,0,0,0,0,0,0,0,0,0,0,0,0,0,0,0,0,1,0,0,0,0,0,0,0,0,0,0,0,0,0]
[null,"Severo",1,0,1,null,null,0,0,0,0,0,0,0,1,0,0,0,0,0,0,0,0,0,0,0,0,0,0,0,0,0,0,0,0,0,0,0]
["ENFERMEDAD PULMONAR OBSTRUCTIVA CRÓNICA (EPOC)","Tipo A",4,{"$f":"SUM(T36+V36+X36+Z36+AB36+AD36+AF36+AH36+AJ36)","v":2},{"$f":"SUM(U36+W36+Y36+AA36+AC36+AE36+AG36+AI36+AK36)","v":2},null,null,null,null,null,null,null,null,null,null,null,null,null,null,0,0,0,0,0,1,0,0,0,0,0,1,0,0,1,0,1,0,0]
[null,"Tipo B",0,{"$f":"SUM(F37+H37+J37+L37+N37+P37+R37+T37+V37+X37+Z37+AB37+AD37+AF37+AH37+AJ37)","v":0},0,null,null,null,null,null,null,null,null,null,null,null,null,null,null,0,0,0,0,0,0,0,0,0,0,0,0,0,0,0,0,0,0,0]
["DISPLASIA BRONCOPULMONAR",null,0,0,0,0,0,0,0,0,0,0,0,0,0,0,0,0,0,0,0,0,0,0,0,0,0,0,0,0,0,0,0,0,0,0,0,0]
["FIBROSIS QUÍSTICA",null,0,0,0,0,0,0,0,0,0,0,0,0,0,0,0,0,0,0,0,0,0,0,0,0,0,0,0,0,0,0,0,0,0,0,0,0]
["OXIGENO DEPENDIENTE",null,2,2,0,0,0,0,0,0,0,0,0,0,0,0,0,0,0,0,0,0,0,0,0,0,0,0,0,0,0,0,0,1,0,1,0,0]
["ASISTENCIA VENTILATORIA NO INVASIVA O INVASIVA ",null,0,0,0,0,0,0,0,0,0,0,0,0,0,0,0,0,0,0,0,0,0,0,0,0,0,0,0,0,0,0,0,0,0,0,0,0]
["OTRAS RESPIRATORIAS CRÓNICAS",null,0,0,0,0,0,0,0,0,0,0,0,0,0,0,0,0,0,0,0,0,0,0,0,0,0,0,0,0,0,0,0,0,0,0,0,0]
["TOTAL",null,{"$f":"SUM(C30:C42)","v":10},4,6,0,0,0,0,0,0,0,0,0,1,0,0,0,1,0,0,0,0,0,3,0,0,0,0,0,1,0,0,2,0,2,0,0]
["SECCION C: EGRESOS"]
["PROGRAMAS",null,"TOTAL",null,null,"POR EDAD",null,null,null,null,null,null,null,null,null,null,null,null,null,null,null,null,null,null,null,null,null,null,null,null,null,null,null,null,null,null,null,"CAUSAL"]
[null,null,null,null,null,"Menos \n1 año",null,"1 - 4 \naños",null,"5 - 9 \naños",null,"10 - 14\naños",null,"15 - 19\naños",null,"20 a 24 años\n",null,"25 a 39 años",null,"40 - 44 años",null,"45 - 49 años",null,"50 - 54 años",null,"55 - 59 años",null,"60 - 64 años",null,"65 - 69 años",null,"70 - 74 años",null,"75 - 79 años",null,"80 y mas años"]
[null,null,null,null,null,null,null,null,null,null,null,null,null,null,null,null,null,null,null,null,null,null,null,null,null,null,null,null,null,null,null,null,null,null,null,null,null,"Abandono","Fallecimiento"]
[null,null,"Ambos Sexos","Hombres","Mujeres","Hombres","Mujeres","Hombres","Mujeres","Hombres","Mujeres","Hombres","Mujeres","Hombres","Mujeres","Hombres","Mujeres","Hombres","Mujeres","Hombres","Mujeres","Hombres","Mujeres","Hombres","Mujeres","Hombres","Mujeres","Hombres","Mujeres","Hombres","Mujeres","Hombres","Mujeres","Hombres","Mujeres","Hombres","Mujeres"]
["SÍNDROME BRONQUIAL OBSTRUCTIVA RECURRENTE (SBOR)",null,{"$f":"SUM(D49+E49)","v":0},{"$f":"SUM(F49+H49)","v":0},{"$f":"SUM(G49+I49)","v":0},null,null,null,null,null,null,null,null,null,null,null,null,null,null,null,null,null,null,null,null,null,null,null,null,null,null,null,null,null,null,null,null,null,null,null,null,null,null,null,null,null,null,null,null,null,null,null,null,null,null,null,null,null,null,null,null,null,null,null,null,null,null,null,null,null,null,null,null,null,null,null,null,null,null,null,null,null,null,null,0]
["ASMA BRONQUIAL",null,0,{"$f":"SUM(H50+J50+L50+N50+P50+R50+T50+V50+X50+Z50+AB50+AD50+AF50+AH50+AJ50)","v":0},{"$f":"SUM(I50+K50+M50+O50+Q50+S50+U50+W50+Y50+AA50+AC50+AE50+AG50+AI50+AK50)","v":0},null,null,null,null,null,null,null,null,null,null,null,null,null,null,null,null,null,null,null,null,null,null,null,null,null,null,null,null,null,null,null,null,null,null,null,null,null,null,null,null,null,null,null,null,null,null,null,null,null,null,null,null,null,null,null,null,null,null,null,null,null,null,null,null,null,null,null,null,null,null,null,null,null,null,null,null,null,null,null,0]
["ENFERMEDAD PULMONAR OBSTRUCTIVA CRÓNICA (EPOC)",null,0,{"$f":"SUM(T51+V51+X51+Z51+AB51+AD51+AF51+AH51+AJ51)","v":0},{"$f":"SUM(U51+W51+Y51+AA51+AC51+AE51+AG51+AI51+AK51)","v":0},null,null,null,null,null,null,null,null,null,null,null,null,null,null,null,null,null,null,null,null,null,null,null,null,null,null,null,null,null,null,null,null,null,null,null,null,null,null,null,null,null,null,null,null,null,null,null,null,null,null,null,null,null,null,null,null,null,null,null,null,null,null,null,null,null,null,null,null,null,null,null,null,null,null,null,null,null,null,null,0]
["DISPLASIA BRONCOPULMONAR",null,0,{"$f":"SUM(F52+H52+J52+L52+N52+P52+R52+T52+V52+X52+Z52+AB52+AD52+AF52+AH52+AJ52)","v":0},0,null,null,null,null,null,null,null,null,null,null,null,null,null,null,null,null,null,null,null,null,null,null,null,null,null,null,null,null,null,null,null,null,null,null,null,null,null,null,null,null,null,null,null,null,null,null,null,null,null,null,null,null,null,null,null,null,null,null,null,null,null,null,null,null,null,null,null,null,null,null,null,null,null,null,null,null,null,null,null,0]
["FIBROSIS QUÍSTICA",null,0,0,0,null,null,null,null,null,null,null,null,null,null,null,null,null,null,null,null,null,null,null,null,null,null,null,null,null,null,null,null,null,null,null,null,null,null,null,null,null,null,null,null,null,null,null,null,null,null,null,null,null,null,null,null,null,null,null,null,null,null,null,null,null,null,null,null,null,null,null,null,null,null,null,null,null,null,null,null,null,null,null,0]
["OXÍGENO DEPENDIENTE",null,0,0,0,null,null,null,null,null,null,null,null,null,null,null,null,null,null,null,null,null,null,null,null,null,null,null,null,null,null,null,null,null,null,null,null,null,null,null,null,null,null,null,null,null,null,null,null,null,null,null,null,null,null,null,null,null,null,null,null,null,null,null,null,null,null,null,null,null,null,null,null,null,null,null,null,null,null,null,null,null,null,null,0]
["ASISTENCIA VENTILATORIA NO INVASIVA O INVASIVA ",null,0,0,0,null,null,null,null,null,null,null,null,null,null,null,null,null,null,null,null,null,null,null,null,null,null,null,null,null,null,null,null,null,null,null,null,null,null,null,null,null,null,null,null,null,null,null,null,null,null,null,null,null,null,null,null,null,null,null,null,null,null,null,null,null,null,null,null,null,null,null,null,null,null,null,null,null,null,null,null,null,null,null,0]
["OTRAS RESPIRATORIAS CRÓNICAS",null,0,0,0,null,null,null,null,null,null,null,null,null,null,null,null,null,null,null,null,null,null,null,null,null,null,null,null,null,null,null,null,null,null,null,null,null,null,null,null,null,null,null,null,null,null,null,null,null,null,null,null,null,null,null,null,null,null,null,null,null,null,null,null,null,null,null,null,null,null,null,null,null,null,null,null,null,null,null,null,null,null,null,0]
["SECCIÓN D: CONSULTAS DE MORBILIDAD POR ENFERMEDADES RESPIRATORIAS EN SALAS IRA, ERA Y MIXTA"]
["PROFESIONAL",null,"TOTAL",null,null,"POR EDAD",null,null,null,null,null,null,null,null,null,null,null,null,null,null,null,null,null,null,null,null,null,null,null,null,null,null,null,null,null,null,null,"Beneficiarios"]
[null,null,null,null,null,"Menos \n1 año",null,"1 - 4 \naños",null,"5 - 9 \naños",null,"10 - 14\naños",null,"15 - 19\naños",null,"20 a 24 años\n",null,"25 a 39 años",null,"40 - 44 años",null,"45 - 49 años",null,"50 - 54 años",null,"55 - 59 años",null,"60 - 64 años",null,"65 - 69 años",null,"70 - 74 años",null,"75 - 79 años",null,"80 y mas años"]
[]
[null,null,"Ambos Sexos","Hombres","Mujeres","Hombres","Mujeres","Hombres","Mujeres","Hombres","Mujeres","Hombres","Mujeres","Hombres","Mujeres","Hombres","Mujeres","Hombres","Mujeres","Hombres","Mujeres","Hombres","Mujeres","Hombres","Mujeres","Hombres","Mujeres","Hombres","Mujeres","Hombres","Mujeres","Hombres","Mujeres","Hombres","Mujeres","Hombres","Mujeres"]
["MÉDICO",null,{"$f":"SUM(D62+E62)","v":1},{"$f":"SUM(F62+H62+J62+L62+N62+P62+R62+T62+V62+X62+Z62+AB62+AD62+AF62+AH62+AJ62)","v":0},{"$f":"SUM(G62+I62+K62+M62+O62+Q62+S62+U62+W62+Y62+AA62+AC62+AE62+AG62+AI62+AK62)","v":1},0,0,0,0,0,0,0,0,0,1,0,0,0,0,0,0,0,0,0,0,0,0,0,0,0,0,0,0,0,0,0,0,1,null,null,null,null,null,null,null,null,null,null,null,null,null,null,null,null,null,null,null,null,null,null,null,null,null,null,null,null,null,null,null,null,null,null,null,null,null,null,null,null,null,null,null,null,null,null,0,0]
["SECCIÓN E: CONTROLES REALIZADOS (CRONICOS)"]
["PROFESIONAL",null,"TOTAL",null,null,"POR EDAD",null,null,null,null,null,null,null,null,null,null,null,null,null,null,null,null,null,null,null,null,null,null,null,null,null,null,null,null,null,null,null,"Beneficiarios"]
[null,null,null,null,null,"Menos \n1 año",null,"1 - 4 \naños",null,"5 - 9 \naños",null,"10 - 14\naños",null,"15 - 19\naños",null,"20 a 24 años\n",null,"25 a 39 años",null,"40 - 44 años",null,"45 - 49 años",null,"50 - 54 años",null,"55 - 59 años",null,"60 - 64 años",null,"65 - 69 años",null,"70 - 74 años",null,"75 - 79 años",null,"80 y mas años"]
[null,null,"Ambos Sexos","Hombres","Mujeres","Hombres","Mujeres","Hombres","Mujeres","Hombres","Mujeres","Hombres","Mujeres","Hombres","Mujeres","Hombres","Mujeres","Hombres","Mujeres","Hombres","Mujeres","Hombres","Mujeres","Hombres","Mujeres","Hombres","Mujeres","Hombres","Mujeres","Hombres","Mujeres","Hombres","Mujeres","Hombres","Mujeres","Hombres","Mujeres"]
["MÉDICO",null,{"$f":"SUM(D67+E67)","v":23},{"$f":"SUM(F67+H67+J67+L67+N67+P67+R67+T67+V67+X67+Z67+AB67+AD67+AF67+AH67+AJ67)","v":9},14,0,0,1,1,1,1,3,0,0,0,0,0,0,1,0,0,0,0,0,3,0,2,0,0,0,1,0,0,2,2,2,3,22,null,null,null,null,null,null,null,null,null,null,null,null,null,null,null,null,null,null,null,null,null,null,null,null,null,null,null,null,null,null,null,null,null,null,null,null,null,null,null,null,null,null,null,null,null,null,0,0]
["ENFERMERA",null,{"$f":"SUM(D68+E68)","v":0},0,0,0,0,0,0,0,0,0,0,0,0,0,0,0,0,0,0,0,0,0,0,0,0,0,0,0,0,0,0,0,0,0,0,0,null,null,null,null,null,null,null,null,null,null,null,null,null,null,null,null,null,null,null,null,null,null,null,null,null,null,null,null,null,null,null,null,null,null,null,null,null,null,null,null,null,null,null,null,null,null,0,0]
["KINESIÓLOGO",null,{"$f":"SUM(D69+E69)","v":30},14,16,0,0,1,4,7,1,2,1,0,1,0,0,0,2,0,0,0,1,0,1,1,2,2,1,0,0,0,0,0,0,1,2,30,null,null,null,null,null,null,null,null,null,null,null,null,null,null,null,null,null,null,null,null,null,null,null,null,null,null,null,null,null,null,null,null,null,null,null,null,null,null,null,null,null,null,null,null,null,null,0,0]
["TOTAL",null,{"$f":"SUM(C67:C69)","v":53},23,30,0,0,2,5,8,2,5,1,0,1,0,0,0,3,0,0,0,1,0,4,1,4,2,1,0,1,0,0,2,2,3,5,52]
["SECCIÓN F: SEGUIMIENTO DE ATENCIONES REALIZADAS EN AGUDOS"]
["PROFESIONAL",null,"TOTAL",null,null,"POR EDAD",null,null,null,null,null,null,null,null,null,null,null,null,null,null,null,null,null,null,null,null,null,null,null,null,null,null,null,null,null,null,null,"Beneficiarios","Por Campaña de Invierno"]
[null,null,null,null,null,"Menos \n1 año",null,"1 - 4 \naños",null,"5 - 9 \naños",null,"10 - 14\naños",null,"15 - 19\naños",null,"20 a 24 años\n",null,"25 a 39 años",null,"40 - 44 años",null,"45 - 49 años",null,"50 - 54 años",null,"55 - 59 años",null,"60 - 64 años",null,"65 - 69 años",null,"70 - 74 años",null,"75 - 79 años",null,"80 y mas años"]
[null,null,"Ambos Sexos","Hombres","Mujeres","Hombres","Mujeres","Hombres","Mujeres","Hombres","Mujeres","Hombres","Mujeres","Hombres","Mujeres","Hombres","Mujeres","Hombres","Mujeres","Hombres","Mujeres","Hombres","Mujeres","Hombres","Mujeres","Hombres","Mujeres","Hombres","Mujeres","Hombres","Mujeres","Hombres","Mujeres","Hombres","Mujeres","Hombres","Mujeres"]
["ENFERMERA",null,{"$f":"SUM(D75+E75)","v":0},{"$f":"SUM(F75+H75+J75+L75+N75+P75+R75+T75+V75+X75+Z75+AB75+AD75+AF75+AH75+AJ75)","v":0},{"$f":"SUM(G75+I75+K75+M75+O75+Q75+S75+U75+W75+Y75+AA75+AC75+AE75+AG75+AI75+AK75)","v":0},0,0,0,0,0,0,0,0,0,0,0,0,0,0,0,0,0,0,0,0,0,0,0,0,0,0,0,0,0,0,0,0,0,null,null,null,null,null,null,null,null,null,null,null,null,null,null,null,null,null,null,null,null,null,null,null,null,null,null,null,null,null,null,null,null,null,null,null,null,null,null,null,null,null,null,null,null,null,null,0,0]
["KINESIÓLOGO",null,{"$f":"SUM(D76+E76)","v":81},{"$f":"SUM(F76+H76+J76+L76+N76+P76+R76+T76+V76+X76+Z76+AB76+AD76+AF76+AH76+AJ76)","v":53},{"$f":"SUM(G76+I76+K76+M76+O76+Q76+S76+U76+W76+Y76+AA76+AC76+AE76+AG76+AI76+AK76)","v":28},15,6,27,9,8,6,0,1,0,0,1,0,0,0,0,0,0,0,0,0,2,0,0,1,0,2,0,1,0,2,0,0,80,null,null,null,null,null,null,null,null,null,null,null,null,null,null,null,null,null,null,null,null,null,null,null,null,null,null,null,null,null,null,null,null,null,null,null,null,null,null,null,null,null,null,null,null,null,null,0,0]
["TOTAL",null,{"$f":"SUM(C75:C76)","v":81},{"$f":"SUM(D75:D76)","v":53},28,{"$f":"SUM(F75:F76)","v":15},6,27,9,8,6,0,1,0,0,1,0,0,0,0,0,0,0,0,0,2,0,0,1,0,2,0,1,0,2,0,0,80,{"$f":"+AM76","v":0}]
["SECCIÓN G: INASISTENTES A CONTROL DE CRÓNICOS"]
["DIAGNÓSTICOS",null,"TOTAL",null,null,"POR EDAD"]
[null,null,null,null,null,"Menos \n1 año",null,"1 - 4 \naños",null,"5 - 9 \naños",null,"10 - 14\naños",null,"15 - 19\naños",null,"20 a 24 años\n",null,"25 a 39 años",null,"40 - 44 años",null,"45 - 49 años",null,"50 - 54 años",null,"55 - 59 años",null,"60 - 64 años",null,"65 - 69 años",null,"70 - 74 años",null,"75 - 79 años",null,"80 y mas años"]
[null,null,"Ambos Sexos","Hombres","Mujeres","Hombres","Mujeres","Hombres","Mujeres","Hombres","Mujeres","Hombres","Mujeres","Hombres","Mujeres","Hombres","Mujeres","Hombres","Mujeres","Hombres","Mujeres","Hombres","Mujeres","Hombres","Mujeres","Hombres","Mujeres","Hombres","Mujeres","Hombres","Mujeres","Hombres","Mujeres","Hombres","Mujeres","Hombres","Mujeres"]
["S.B.O. RECURRENTE",null,{"$f":"SUM(D82+E82)","v":0},{"$f":"SUM(F82+H82)","v":0},{"$f":"SUM(G82+I82)","v":0}]
["DISPLASIA BRONCOPULMONAR",null,0,{"$f":"SUM(F83+H83+J83+L83+N83+P83+R83+T83+V83+X83+Z83+AB83+AD83+AF83+AH83+AJ83)","v":0},{"$f":"SUM(G83+I83+K83+M83+O83+Q83+S83+U83+W83+Y83+AA83+AC83+AE83+AG83+AI83+AK83)","v":0}]
["FIBROSIS QUÍSTICA",null,0,{"$f":"SUM(F84+H84+J84+L84+N84+P84+R84+T84+V84+X84+Z84+AB84+AD84+AF84+AH84+AJ84)","v":0},{"$f":"SUM(G84+I84+K84+M84+O84+Q84+S84+U84+W84+Y84+AA84+AC84+AE84+AG84+AI84+AK84)","v":0}]
["ASMA",null,3,{"$f":"SUM(H85+J85+L85+N85+P85+R85+T85+V85+X85+Z85+AB85+AD85+AF85+AH85+AJ85)","v":1},{"$f":"SUM(I85+K85+M85+O85+Q85+S85+U85+W85+Y85+AA85+AC85+AE85+AG85+AI85+AK85)","v":2},null,null,0,0,0,0,0,0,0,0,0,0,0,0,0,0,0,0,0,0,0,0,0,0,0,0,0,0,0,0,1,2]
["ENFERMEDAD PULMONAR OBSTRUCTIVA CRÓNICA",0,0,{"$f":"SUM(T86+V86+X86+Z86+AB86+AD86+AF86+AH86+AJ86)","v":0},{"$f":"SUM(U86+W86+Y86+AA86+AC86+AE86+AG86+AI86+AK86)","v":0}]
["OTRAS RESPIRATORIAS CRÓNICAS",null,0,{"$f":"SUM(F87+H87+J87+L87+N87+P87+R87+T87+V87+X87+Z87+AB87+AD87+AF87+AH87+AJ87)","v":0},{"$f":"SUM(G87+I87+K87+M87+O87+Q87+S87+U87+W87+Y87+AA87+AC87+AE87+AG87+AI87+AK87)","v":0}]
["TOTAL",null,{"$f":"SUM(C82:C87)","v":3},1,2,0,0,0,0,0,0,0,0,0,0,0,0,0,0,0,0,0,0,0,0,0,0,0,0,0,0,0,0,0,0,1,2]
["SECCIÓN H: INASISTENTES A CITACIÓN AGENDADA"]
["PROFESIONAL",null,"TOTAL","Menor de 20 años","De 20 años y más"]
[]
["MÉDICO",null,{"$f":"SUM(D92+E92)","v":0},0,0]
["KINESIÓLOGO",null,{"$f":"SUM(D93+E93)","v":6},6,0]
["ENFERMERA",null,{"$f":"SUM(D94+E94)","v":0},0,0]
["TOTAL",null,{"$f":"SUM(C92:C94)","v":6},{"$f":"SUM(D92:D94)","v":6},{"$f":"SUM(E92:E94)","v":0}]
["SECCIÓN I: PROCEDIMIENTOS REALIZADOS"]
["PROCEDIMIENTO",null,"TOTAL",null,null,"POR EDAD",null,null,null,null,null,null,null,null,null,null,null,null,null,null,null,null,null,null,null,null,null,null,null,null,null,null,null,null,null,null,null,"MÉDICO"]
[null,null,null,null,null,"Menos \n1 año",null,"1 - 4 \naños",null,"5 - 9 \naños",null,"10 - 14\naños",null,"15 - 19\naños",null,"20 a 24 años\n",null,"25 a 39 años",null,"40 - 44 años",null,"45 - 49 años",null,"50 - 54 años",null,"55 - 59 años",null,"60 - 64 años",null,"65 - 69 años",null,"70 - 74 años",null,"75 - 79 años",null,"80 y mas años"]
[null,null,"Ambos Sexos","Hombres","Mujeres","Hombres","Mujeres","Hombres","Mujeres","Hombres","Mujeres","Hombres","Mujeres","Hombres","Mujeres","Hombres","Mujeres","Hombres","Mujeres","Hombres","Mujeres","Hombres","Mujeres","Hombres","Mujeres","Hombres","Mujeres","Hombres","Mujeres","Hombres","Mujeres","Hombres","Mujeres","Hombres","Mujeres","Hombres","Mujeres"]
["ESPIROMETRÍA BASAL ",null,{"$f":"SUM(D100+E100)","v":5},{"$f":"SUM(J100+L100+N100+P100+R100+T100+V100+X100+Z100+AB100+AD100+AF100+AH100+AJ100)","v":5},0,null,null,null,null,0,0,0,0,0,0,0,0,0,0,0,0,0,0,0,0,2,0,0,0,2,0,0,0,0,0,1,0,0,null,null,null,null,null,null,null,null,null,null,null,null,null,null,null,null,null,null,null,null,null,null,null,null,null,null,null,null,null,null,null,null,null,null,null,null,null,null,null,null,null,null,null,null,null,null,0]
["ESPIROMETRÍA POST BD",null,5,5,0,null,null,null,null,0,0,0,0,0,0,0,0,0,0,0,0,0,0,0,0,2,0,0,0,2,0,0,0,0,0,1,0,0,null,null,null,null,null,null,null,null,null,null,null,null,null,null,null,null,null,null,null,null,null,null,null,null,null,null,null,null,null,null,null,null,null,null,null,null,null,null,null,null,null,null,null,null,null,null,0]
["FLUJOMETRÍA BASAL ",null,0,0,{"$f":"SUM(K102+M102+O102+Q102+S102+U102+W102+Y102+AA102+AC102+AE102+AG102+AI102+AK102)","v":0},null,null,null,null,0,0,0,0,0,0,0,0,0,0,0,0,0,0,0,0,0,0,0,0,0,0,0,0,0,0,0,0,0,null,null,null,null,null,null,null,null,null,null,null,null,null,null,null,null,null,null,null,null,null,null,null,null,null,null,null,null,null,null,null,null,null,null,null,null,null,null,null,null,null,null,null,null,null,null,0]
["FLUJOMETRÍA POST BD",null,0,{"$f":"SUM(J103+L103+N103+P103+R103+T103+V103+X103+Z103+AB103+AD103+AF103+AH103+AJ103)","v":0},0,null,null,null,null,0,0,0,0,0,0,0,0,0,0,0,0,0,0,0,0,0,0,0,0,0,0,0,0,0,0,0,0,0,null,null,null,null,null,null,null,null,null,null,null,null,null,null,null,null,null,null,null,null,null,null,null,null,null,null,null,null,null,null,null,null,null,null,null,null,null,null,null,null,null,null,null,null,null,null,0]
["PIMOMETRÍA",null,0,{"$f":"SUM(J104+L104+N104+P104+R104+T104+V104+X104+Z104+AB104+AD104+AF104+AH104+AJ104)","v":0},0,null,null,null,null,0,0,0,0,0,0,0,0,0,0,0,0,0,0,0,0,0,0,0,0,0,0,0,0,0,0,0,0,0,null,null,null,null,null,null,null,null,null,null,null,null,null,null,null,null,null,null,null,null,null,null,null,null,null,null,null,null,null,null,null,null,null,null,null,null,null,null,null,null,null,null,null,null,null,null,0]
["TEST DE PROVOCACIÓN CON EJERCICIO",null,0,0,0,null,null,null,null,0,0,0,0,0,0,0,0,0,0,0,0,0,0,0,0,0,0,0,0,0,0,0,0,0,0,0,0,0,null,null,null,null,null,null,null,null,null,null,null,null,null,null,null,null,null,null,null,null,null,null,null,null,null,null,null,null,null,null,null,null,null,null,null,null,null,null,null,null,null,null,null,null,null,null,0]
["TEST DE MARCHA 6 MINUTOS",null,0,0,0,null,null,null,null,0,0,0,0,0,0,0,0,0,0,0,0,0,0,0,0,0,0,0,0,0,0,0,0,0,0,0,0,0,null,null,null,null,null,null,null,null,null,null,null,null,null,null,null,null,null,null,null,null,null,null,null,null,null,null,null,null,null,null,null,null,null,null,null,null,null,null,null,null,null,null,null,null,null,null,0]
["SESIONES DE KINESIOTERAPIA RESPIRATORIA",null,69,{"$f":"SUM(F107+H107+J107+L107+N107+P107+R107+T107+V107+X107+Z107+AB107+AD107+AF107+AH107+AJ107)","v":50},{"$f":"SUM(G107+I107+K107+M107+O107+Q107+S107+U107+W107+Y107+AA107+AC107+AE107+AG107+AI107+AK107)","v":19},15,5,26,7,9,6,0,1,0,0,0,0,0,0,0,0,0,0,0,0,0,0,0,0,0,0,0,0,0,0,0,0,0,null,null,null,null,null,null,null,null,null,null,null,null,null,null,null,null,null,null,null,null,null,null,null,null,null,null,null,null,null,null,null,null,null,null,null,null,null,null,null,null,null,null,null,null,null,null,0]
["TOMA DE MUESTRA SECRECIÓN MUCOSA/BRONQUIAL",null,0,{"$f":"SUM(F108+H108+J108+L108+N108+P108+R108+T108+V108+X108+Z108+AB108+AD108+AF108+AH108+AJ108)","v":0},{"$f":"SUM(G108+I108+K108+M108+O108+Q108+S108+U108+W108+Y108+AA108+AC108+AE108+AG108+AI108+AK108)","v":0},null,null,null,null,0,0,0,0,0,0,0,0,0,0,0,0,0,0,0,0,0,0,0,0,0,0,0,0,0,0,0,0,0,null,null,null,null,null,null,null,null,null,null,null,null,null,null,null,null,null,null,null,null,null,null,null,null,null,null,null,null,null,null,null,null,null,null,null,null,null,null,null,null,null,null,null,null,null,null,0]
["SECCIÓN J: DERIVACIÓN DE PACIENTES SEGÚN DESTINO"]
["DESTINO",null,"TOTAL",null,null,"POR EDAD"]
[null,null,null,null,null,"Menos \n1 año",null,"1 - 4 \naños",null,"5 - 9 \naños",null,"10 - 14\naños",null,"15 - 19\naños",null,"20 a 24 años\n",null,"25 a 39 años",null,"40 - 44 años",null,"45 - 49 años",null,"50 - 54 años",null,"55 - 59 años",null,"60 - 64 años",null,"65 - 69 años",null,"70 - 74 años",null,"75 - 79 años",null,"80 y mas años"]
[null,null,"Ambos Sexos","Hombres","Mujeres","Hombres","Mujeres","Hombres","Mujeres","Hombres","Mujeres","Hombres","Mujeres","Hombres","Mujeres","Hombres","Mujeres","Hombres","Mujeres","Hombres","Mujeres","Hombres","Mujeres","Hombres","Mujeres","Hombres","Mujeres","Hombres","Mujeres","Hombres","Mujeres","Hombres","Mujeres","Hombres","Mujeres","Hombres","Mujeres"]
["UNIDAD EMERGENCIA HOSPITALARIA",null,{"$f":"SUM(D113:E113)","v":1},{"$f":"+F113+H113+J113+L113+N113+P113+R113+T113+V113+X113+Z113+AB113+AD113+AF113+AH113+AJ113","v":1},{"$f":"+G113+I113+K113+M113+O113+Q113+S113+U113+W113+Y113+AA113+AC113+AE113+AG113+AI113+AK113","v":0},0,0,0,0,1,0,0,0,0,0,0,0,0,0,0,0,0,0,0,0,0,0,0,0,0,0,0,0,0,0,0,0]
["SAPU, SUR O SAR",null,{"$f":"SUM(D114:E114)","v":0},{"$f":"+F114+H114+J114+L114+N114+P114+R114+T114+V114+X114+Z114+AB114+AD114+AF114+AH114+AJ114","v":0},0,0,0,0,0,0,0,0,0,0,0,0,0,0,0,0,0,0,0,0,0,0,0,0,0,0,0,0,0,0,0,0,0]
["CAE / CDT / CRS",null,{"$f":"SUM(D115:E115)","v":0},0,0,0,0,0,0,0,0,0,0,0,0,0,0,0,0,0,0,0,0,0,0,0,0,0,0,0,0,0,0,0,0,0,0]
["SECCIÓN K: RECEPCIÓN DE PACIENTES SEGÚN ORIGEN"]
["DESTINO",null,"TOTAL",null,null,"POR EDAD"]
[null,null,null,null,null,"Menos \n1 año",null,"1 - 4 \naños",null,"5 - 9 \naños",null,"10 - 14\naños",null,"15 - 19\naños",null,"20 a 24 años\n",null,"25 a 39 años",null,"40 - 44 años",null,"45 - 49 años",null,"50 - 54 años",null,"55 - 59 años",null,"60 - 64 años",null,"65 - 69 años",null,"70 - 74 años",null,"75 - 79 años",null,"80 y mas años"]
[null,null,"Ambos Sexos","Hombres","Mujeres","Hombres","Mujeres","Hombres","Mujeres","Hombres","Mujeres","Hombres","Mujeres","Hombres","Mujeres","Hombres","Mujeres","Hombres","Mujeres","Hombres","Mujeres","Hombres","Mujeres","Hombres","Mujeres","Hombres","Mujeres","Hombres","Mujeres","Hombres","Mujeres","Hombres","Mujeres","Hombres","Mujeres","Hombres","Mujeres"]
["UNIDAD EMERGENCIA HOSPITALARIA",null,{"$f":"SUM(D120+E120)","v":0},{"$f":"+F120+H120+J120+L120+N120+P120+R120+T120+V120+X120+Z120+AB120+AD120+AF120+AH120+AJ120","v":0},{"$f":"+G120+I120+K120+M120+O120+Q120+S120+U120+W120+Y120+AA120+AC120+AE120+AG120+AI120+AK120","v":0},0,0,0,0,0,0,0,0,0,0,0,0,0,0,0,0,0,0,0,0,0,0,0,0,0,0,0,0,0,0,0,0]
["SAPU , SUR O SAR",null,{"$f":"SUM(D121+E121)","v":1},{"$f":"+F121+H121+J121+L121+N121+P121+R121+T121+V121+X121+Z121+AB121+AD121+AF121+AH121+AJ121","v":1},0,0,0,1,0,0,0,0,0,0,0,0,0,0,0,0,0,0,0,0,0,0,0,0,0,0,0,0,0,0,0,0,0]
["CONSULTA DE MORBILIDAD",null,{"$f":"SUM(D122+E122)","v":10},7,3,2,1,3,1,1,1,1,0,0,0,0,0,0,0,0,0,0,0,0,0,0,0,0,0,0,0,0,0,0,0,0,0]
["CAE / CDT / CRS",null,{"$f":"SUM(D123+E123)","v":1},1,0,0,0,0,0,1,0,0,0,0,0,0,0,0,0,0,0,0,0,0,0,0,0,0,0,0,0,0,0,0,0,0,0]
["EXTRASISTEMA",null,{"$f":"SUM(D124+E124)","v":1},1,0,0,0,1,0,0,0,0,0,0,0,0,0,0,0,0,0,0,0,0,0,0,0,0,0,0,0,0,0,0,0,0,0]
["SECCIÓN L: HOSPITALIZACION ABREVIADA / INTERVENCION EN CRISIS RESPIRATORIA"]
["DIAGNÓSTICOS",null,"TOTAL",null,null,"POR EDAD",null,null,null,null,null,null,null,null,null,null,null,null,null,null,null,null,null,null,null,null,null,null,null,null,null,null,null,null,null,null,null,"Por Campaña de Invierno"]
[null,null,null,null,null,"Menos \n1 año",null,"1 - 4 \naños",null,"5 - 9 \naños",null,"10 - 14\naños",null,"15 - 19\naños",null,"20 a 24 años\n",null,"25 a 39 años",null,"40 - 44 años",null,"45 - 49 años",null,"50 - 54 años",null,"55 - 59 años",null,"60 - 64 años",null,"65 - 69 años",null,"70 - 74 años",null,"75 - 79 años",null,"80 y mas años"]
[null,null,"Ambos Sexos","Hombres","Mujeres","Hombres","Mujeres","Hombres","Mujeres","Hombres","Mujeres","Hombres","Mujeres","Hombres","Mujeres","Hombres","Mujeres","Hombres","Mujeres","Hombres","Mujeres","Hombres","Mujeres","Hombres","Mujeres","Hombres","Mujeres","Hombres","Mujeres","Hombres","Mujeres","Hombres","Mujeres","Hombres","Mujeres","Hombres","Mujeres"]
["BRONQUITIS OBSTRUCTIVA",null,{"$f":"SUM(D129+E129)","v":0},{"$f":"SUM(F129+H129+J129+L129+N129+P129+R129+T129+V129+X129+Z129+AB129+AD129+AF129+AH129+AJ129)","v":0},{"$f":"SUM(G129+I129+K129+M129+O129+Q129+S129+U129+W129+Y129+AA129+AC129+AE129+AG129+AI129+AK129)","v":0}]
["REAGUDIZACIÓN DE SBOR",null,0,{"$f":"SUM(F130+H130)","v":0},{"$f":"SUM(G130+I130)","v":0}]
["REAGUDIZACIÓN DE ASMA",null,0,{"$f":"SUM(H131+J131+L131+N131+P131+R131+T131+V131+X131+Z131+AB131+AD131+AF131+AH131+AJ131)","v":0},{"$f":"SUM(I131+K131+M131+O131+Q131+S131+U131+W131+Y131+AA131+AC131+AE131+AG131+AI131+AK131)","v":0}]
["NEUMONÍA",null,0,{"$f":"SUM(F132+H132+J132+L132+N132+P132+R132+T132+V132+X132+Z132+AB132+AD132+AF132+AH132+AJ132)","v":0},{"$f":"SUM(G132+I132+K132+M132+O132+Q132+S132+U132+W132+Y132+AA132+AC132+AE132+AG132+AI132+AK132)","v":0}]
["REAGUDIZACIÓN DE EPOC",null,0,{"$f":"SUM(T133+V133+X133+Z133+AB133+AD133+AF133+AH133+AJ133)","v":0},{"$f":"SUM(U133+W133+Y133+AA133+AC133+AE133+AG133+AI133+AK133)","v":0}]
["OTRAS RESPIRATORIAS",null,0,{"$f":"SUM(F134+H134+J134+L134+N134+P134+R134+T134+V134+X134+Z134+AB134+AD134+AF134+AH134+AJ134)","v":0},{"$f":"SUM(G134+I134+K134+M134+O134+Q134+S134+U134+W134+Y134+AA134+AC134+AE134+AG134+AI134+AK134)","v":0}]
["TOTAL",null,{"$f":"SUM(C129:C134)","v":0},0,0,{"$f":"SUM(F129:F134)","v":0},0,{"$f":"SUM(H129:H134)","v":0},0,0,0,0,0,0,0,0,0,0,0,0,0,0,0,0,0,0,0,0,0,0,0,0,0,0,0,0,0,{"$f":"SUM(AL129:AL134)","v":0}]
["SECCIÓN M: EDUCACIÓN EN SALAS"]
["SECCIÓN M.1: EDUCACION INDIVIDUAL EN SALA"]
["DESTINO",null,"TOTAL",null,null,"POR EDAD"]
[null,null,null,null,null,"Menos \n1 año",null,"1 - 4 \naños",null,"5 - 9 \naños",null,"10 - 14\naños",null,"15 - 19\naños",null,"20 a 24 años\n",null,"25 a 39 años",null,"40 - 44 años",null,"45 - 49 años",null,"50 - 54 años",null,"55 - 59 años",null,"60 - 64 años",null,"65 - 69 años",null,"70 - 74 años",null,"75 - 79 años",null,"80 y mas años"]
[null,null,"Ambos Sexos","Hombres","Mujeres","Hombres","Mujeres","Hombres","Mujeres","Hombres","Mujeres","Hombres","Mujeres","Hombres","Mujeres","Hombres","Mujeres","Hombres","Mujeres","Hombres","Mujeres","Hombres","Mujeres","Hombres","Mujeres","Hombres","Mujeres","Hombres","Mujeres","Hombres","Mujeres","Hombres","Mujeres","Hombres","Mujeres","Hombres","Mujeres"]
["ANTITABACO",null,{"$f":"SUM(D141+E141)","v":8},{"$f":"SUM(F141+H141+J141+L141+N141+P141+R141+T141+V141+X141+Z141+AB141+AD141+AF141+AH141+AJ141)","v":5},{"$f":"SUM(G141+I141+K141+M141+O141+Q141+S141+U141+W141+Y141+AA141+AC141+AE141+AG141+AI141+AK141)","v":3},1,1,3,0,1,2,0,0,0,0,0,0,0,0,0,0,0,0,0,0,0,0,0,0,0,0,0,0,0,0,0,0]
["AUTOCUIDADO SEGÚN PATOLOGÍA",null,0,{"$f":"SUM(F142+H142+J142+L142+N142+P142+R142+T142+V142+X142+Z142+AB142+AD142+AF142+AH142+AJ142)","v":0},{"$f":"SUM(G142+I142+K142+M142+O142+Q142+S142+U142+W142+Y142+AA142+AC142+AE142+AG142+AI142+AK142)","v":0},0,0,0,0,0,0,0,0,0,0,0,0,0,0,0,0,0,0,0,0,0,0,0,0,0,0,0,0,0,0,0,0]
["USO DE TERAPIA INHALATORIA",null,7,5,2,1,1,3,0,1,1,0,0,0,0,0,0,0,0,0,0,0,0,0,0,0,0,0,0,0,0,0,0,0,0,0,0,null,null,null,null,null,null,null,null,null,null,null,null,null,null,null,null,null,null,null,null,null,null,null,null,null,null,null,null,null,null,null,null,null,null,null,null,null,null,null,null,null,null,null,null,null,null,null,0]
["EDUCACION INTEGRAL EN SALUD RESPIRATORIA ",null,20,10,10,1,0,3,0,2,2,0,0,0,1,0,0,0,1,0,0,0,1,0,1,1,1,2,1,0,0,0,0,0,0,1,2,null,null,null,null,null,null,null,null,null,null,null,null,null,null,null,null,null,null,null,null,null,null,null,null,null,null,null,null,null,null,null,null,null,null,null,null,null,null,null,null,null,null,null,null,null,null,null,0]
["ESTILO DE VIDA SALUDABLES",null,3,1,2,0,1,1,0,0,1,0,0,0,0,0,0,0,0,0,0,0,0,0,0,0,0,0,0,0,0,0,0,0,0,0,0,null,null,null,null,null,null,null,null,null,null,null,null,null,null,null,null,null,null,null,null,null,null,null,null,null,null,null,null,null,null,null,null,null,null,null,null,null,null,null,null,null,null,null,null,null,null,null,0]
["OTRAS",null,0,0,0,0,0,0,0,0,0,0,0,0,0,0,0,0,0,0,0,0,0,0,0,0,0,0,0,0,0,0,0,0,0,0,0,null,null,null,null,null,null,null,null,null,null,null,null,null,null,null,null,null,null,null,null,null,null,null,null,null,null,null,null,null,null,null,null,null,null,null,null,null,null,null,null,null,null,null,null,null,null,null,0]
["TOTAL",null,{"$f":"SUM(C141:C146)","v":38},{"$f":"SUM(D141:D146)","v":21},{"$f":"SUM(E141:E146)","v":17},{"$f":"SUM(F141:F146)","v":3},{"$f":"SUM(G141:G146)","v":3},10,0,4,6,0,0,0,1,0,0,0,1,0,0,0,1,0,1,1,1,2,1,0,0,0,0,0,0,1,2,null,null,null,null,null,null,null,null,null,null,null,null,null,null,null,null,null,null,null,null,null,null,null,null,null,null,null,null,null,null,null,null,null,null,null,null,null,null,null,null,null,null,null,null,null,null,null,0]
["SECCIÓN M.2: EDUCACIÓN GRUPAL (AGENDADA Y PROGRAMADA)",null,null,null,null,null,null,null,null,null,null,null,null,null,null,null,null,null,null,null,null,null,null,null,null,null,null,null,null,null,null,null,null,null,null,null,null,null,null,null,null,null,null,null,null,null,null,null,null,null,null,null,null,null,null,null,null,null,null,null,null,null,null,null,null,null,null,null,null,null,null,null,null,null,null,null,null,null,null,null,null,null,null,null,0]
["TEMAS",null,null,"Nº SESIONES","Nº PARTICIPANTES",null,null,null,null,null,null,null,null,null,null,null,null,null,null,null,null,null,null,null,null,null,null,null,null,null,null,null,null,null,null,null,null,null,null,null,null,null,null,null,null,null,null,null,null,null,null,null,null,null,null,null,null,null,null,null,null,null,null,null,null,null,null,null,null,null,null,null,null,null,null,null,"* El número de profesionales NO DEBE ser mayor al N\u008d de sesiones. ",null,null,null,null,null,1,null,0]
["EDUCACION INTEGRAL EN SALUD RESPIRATORIA ","PACIENTES, PADRES O CUIDADORES",null,null,null,null,null,null,null,null,null,null,null,null,null,null,null,null,null,null,null,null,null,null,null,null,null,null,null,null,null,null,null,null,null,null,null,null,null,null,null,null,null,null,null,null,null,null,null,null,null,null,null,null,null,null,null,null,null,null,null,null,null,null,null,null,null,null,null,null,null,null,null,null,null,null,null,null,null,null,null,null,0,null,0]
[null,"SALAS CUNAS Y JARDINES INFANTILES",null,null,null,null,null,null,null,null,null,null,null,null,null,null,null,null,null,null,null,null,null,null,null,null,null,null,null,null,null,null,null,null,null,null,null,null,null,null,null,null,null,null,null,null,null,null,null,null,null,null,null,null,null,null,null,null,null,null,null,null,null,null,null,null,null,null,null,null,null,null,null,null,null,null,null,null,null,null,null,null,0,null,0]
[null,"ESTABLECIMIENTOS EDUCACIONALES",null,null,null,null,null,null,null,null,null,null,null,null,null,null,null,null,null,null,null,null,null,null,null,null,null,null,null,null,null,null,null,null,null,null,null,null,null,null,null,null,null,null,null,null,null,null,null,null,null,null,null,null,null,null,null,null,null,null,null,null,null,null,null,null,null,null,null,null,null,null,null,null,null,null,null,null,null,null,null,null,0]
[null,"INTERSECTOR",null,null,null,null,null,null,null,null,null,null,null,null,null,null,null,null,null,null,null,null,null,null,null,null,null,null,null,null,null,null,null,null,null,null,null,null,null,null,null,null,null,null,null,null,null,null,null,null,null,null,null,null,null,null,null,null,null,null,null,null,null,null,null,null,null,null,null,null,null,null,null,null,null,null,null,null,null,null,null,null,0]
["ANTITABACO","PACIENTES, PADRES O CUIDADORES",null,null,null,null,null,null,null,null,null,null,null,null,null,null,null,null,null,null,null,null,null,null,null,null,null,null,null,null,null,null,null,null,null,null,null,null,null,null,null,null,null,null,null,null,null,null,null,null,null,null,null,null,null,null,null,null,null,null,null,null,null,null,null,null,null,null,null,null,null,null,null,null,null,null,null,null,null,null,null,null,0]
[null,"SALAS CUNAS Y JARDINES INFANTILES",null,null,null,null,null,null,null,null,null,null,null,null,null,null,null,null,null,null,null,null,null,null,null,null,null,null,null,null,null,null,null,null,null,null,null,null,null,null,null,null,null,null,null,null,null,null,null,null,null,null,null,null,null,null,null,null,null,null,null,null,null,null,null,null,null,null,null,null,null,null,null,null,null,null,null,null,null,null,null,null,0]
[null,"ESTABLECIMIENTOS EDUCACIONALES",null,null,null,null,null,null,null,null,null,null,null,null,null,null,null,null,null,null,null,null,null,null,null,null,null,null,null,null,null,null,null,null,null,null,null,null,null,null,null,null,null,null,null,null,null,null,null,null,null,null,null,null,null,null,null,null,null,null,null,null,null,null,null,null,null,null,null,null,null,null,null,null,null,null,null,null,null,null,null,null,0]
[null,"INTERSECTOR",null,null,null,null,null,null,null,null,null,null,null,null,null,null,null,null,null,null,null,null,null,null,null,null,null,null,null,null,null,null,null,null,null,null,null,null,null,null,null,null,null,null,null,null,null,null,null,null,null,null,null,null,null,null,null,null,null,null,null,null,null,null,null,null,null,null,null,null,null,null,null,null,null,null,null,null,null,null,null,null,0]
["TOTAL",null,null,{"$f":"SUM(D150:D157)","v":0},{"$f":"SUM(E150:E157)","v":0}]
["SECCIÓN N: VISITAS DOMICILIARIAS Y SEGUIMIENTO REALIZADOS POR EQUIPO IRA-ERA "]
["CONCEPTOS",null,"TOTAL",null,null,"POR EDAD"]
[null,null,null,null,null,"Menos \n1 año",null,"1 - 4 \naños",null,"5 - 9 \naños",null,"10 - 14\naños",null,"15 - 19\naños",null,"20 a 24 años\n",null,"25 a 39 años",null,"40 - 44 años",null,"45 - 49 años",null,"50 - 54 años",null,"55 - 59 años",null,"60 - 64 años",null,"65 - 69 años",null,"70 - 74 años",null,"75 - 79 años",null,"80 y mas años"]
[null,null,"Ambos Sexos","Hombres","Mujeres","Hombres","Mujeres","Hombres","Mujeres","Hombres","Mujeres","Hombres","Mujeres","Hombres","Mujeres","Hombres","Mujeres","Hombres","Mujeres","Hombres","Mujeres","Hombres","Mujeres","Hombres","Mujeres","Hombres","Mujeres","Hombres","Mujeres","Hombres","Mujeres","Hombres","Mujeres","Hombres","Mujeres","Hombres","Mujeres"]
["HOGAR LIBRE DEL HUMO DEL TABACO",null,{"$f":"SUM(D163:E163)","v":0},{"$f":"+F163+H163+J163+L163+N163+P163+R163+T163+V163+X163+Z163+AB163+AD163+AF163+AH163+AJ163","v":0},{"$f":"+G163+I163+K163+M163+O163+Q163+S163+U163+W163+Y163+AA163+AC163+AE163+AG163+AI163+AK163","v":0},0,0,0,0,0,0,0,0,0,0,0,0,0,0,0,0,0,0,0,0,0,0,0,0,0,0,0,0,0,0,0,0]
["POR MUERTE DE NEUMONÍA EN DOMICILIO",null,{"$f":"SUM(D164:E164)","v":0},{"$f":"+F164+H164+J164+L164+N164+P164+R164+T164+V164+X164+Z164+AB164+AD164+AF164+AH164+AJ164","v":0},0,0,0,0,0,0,0,0,0,0,0,0,0,0,0,0,0,0,0,0,0,0,0,0,0,0,0,0,0,0,0,0,0]
["PROGRAMA OXIGENOTERAPIA AMBULATORIA, AVNI, AVI, AVNIA, AVIA",null,{"$f":"SUM(D165:E165)","v":0},{"$f":"+F165+H165+J165+L165+N165+P165+R165+T165+V165+X165+Z165+AB165+AD165+AF165+AH165+AJ165","v":0},0,0,0,0,0,0,0,0,0,0,0,0,0,0,0,0,0,0,0,0,0,0,0,0,0,0,0,0,0,0,0,0,0]
["SEGUIMIENTO TELEFÓNICO REALIZADO POR KINESIOLOGO SALA",null,{"$f":"SUM(D166:E166)","v":0},{"$f":"+F166+H166+J166+L166+N166+P166+R166+T166+V166+X166+Z166+AB166+AD166+AF166+AH166+AJ166","v":0},0,0,0,0,0,0,0,0,0,0,0,0,0,0,0,0,0,0,0,0,0,0,0,0,0,0,0,0,0,0,0,0,0]
["OTRAS VISITAS",null,2,2,0,0,0,0,0,0,0,0,0,0,0,0,0,0,0,0,0,0,0,0,0,0,0,0,0,0,0,0,0,0,0,2,0]
["SECCIÓN O: REHABILITACION PULMONAR Y ACTIVIDAD FISICA "]
["ACTIVIDADES",null,"Nº ACTIVIDADES"]
["REHABILITACION PULMONAR","SESIONES EDUCATIVAS"]
[null,"SESIONES ACTIVIDAD FISICA"]
[null,"ARTICULACION CONTINUIDAD CON INTERSECTOR"]
["PLANES DE ACTIVIDAD FISICA","DISEÑO PLAN DE TRABAJO"]
[null,"SEGUIMIENTO PRESENCIAL"]
[null,"SEGUIMIENTO TELEFONICO"]
["SECCIÓN P: APLICACIÓN DE ENCUESTA CALIDAD DE VIDA"]
["DIAGNÓSTICO",null,"ENCUESTAS REALIZADAS","TOTAL",null,null,"POR EDAD"]
[null,null,null,null,null,null,"Menos \n1 año",null,"1 - 4 \naños",null,"5 - 9 \naños",null,"10 - 14\naños",null,"15 - 19\naños",null,"20 a 24 años\n",null,"25 a 39 años",null,"40 - 44 años",null,"45 - 49 años",null,"50 - 54 años",null,"55 - 59 años",null,"60 - 64 años",null,"65 - 69 años",null,"70 - 74 años",null,"75 - 79 años",null,"80 y mas años"]
[null,null,null,"Ambos Sexos","Hombres","Mujeres","Hombres","Mujeres","Hombres","Mujeres","Hombres","Mujeres","Hombres","Mujeres","Hombres","Mujeres","Hombres","Mujeres","Hombres","Mujeres","Hombres","Mujeres","Hombres","Mujeres","Hombres","Mujeres","Hombres","Mujeres","Hombres","Mujeres","Hombres","Mujeres","Hombres","Mujeres","Hombres","Mujeres","Hombres","Mujeres"]
["EPOC",null,"INGRESO",{"$f":"SUM(E180:F180)","v":0},{"$f":"SUM(G180+I180+K180+M180+O180+Q180+S180+U180+W180+Y180+AA180+AC180+AE180+AG180+AI180+AK180)","v":0},{"$f":"SUM(H180+J180+L180+N180+P180+R180+T180+V180+X180+Z180+AB180+AD180+AF180+AH180+AJ180+AL180)","v":0}]
[null,null,"REEVALUACIÓN ANUAL",{"$f":"SUM(E181:F181)","v":0},{"$f":"SUM(G181+I181+K181+M181+O181+Q181+S181+U181+W181+Y181+AA181+AC181+AE181+AG181+AI181+AK181)","v":0},{"$f":"SUM(H181+J181+L181+N181+P181+R181+T181+V181+X181+Z181+AB181+AD181+AF181+AH181+AJ181+AL181)","v":0}]
["ASMA",null,"INGRESO",0,{"$f":"SUM(G182+I182+K182+M182+O182+Q182+S182+U182+W182+Y182+AA182+AC182+AE182+AG182+AI182+AK182)","v":0},0]
[null,null,"REEVALUACIÓN ANUAL",0,0,0]
["OTRAS CRÓNICAS",null,"INGRESO",0,0,0]
[null,null,"REEVALUACIÓN ANUAL",0,0,0]
[]
[]
[]
[]
[]
[]
[]
[]
[]
[]
[]
[]
[]
[]
[]
[]
[{"$f":"SUM(C24,C43,C49:C56,C62,C70,C75:C77,C88,C95,C100:C108,C113:C115,C120:C124,C135,C147,D158:E158,C163:C167,C170:C175,D180:D185)","v":381},{"$f":"SUM(CG28:CM165)","v":0}]

{"sheet":"A24","index":16,"n_rows":202,"n_cols":94,"rows_kept":202,"cut":false,"hidden":false,"merged":[[65,0,65,1],[57,0,59,1],[22,19,23,19],[57,2,58,4],[57,5,57,14],[58,5,58,6],[58,7,58,8],[58,9,58,10],[58,11,58,12],[58,13,58,14],[22,18,23,18],[34,10,34,11],[32,0,32,5],[33,0,33,5],[22,1,23,1],[22,12,22,14],[8,23,9,23],[5,0,5,11],[8,0,9,0],[8,1,8,2],[8,7,8,11],[8,12,8,14],[8,22,9,22],[8,3,8,6],[8,15,8,21],[22,2,22,11],[22,17,23,17],[47,0,48,0],[47,2,47,4],[47,1,48,1],[39,1,40,1],[34,1,35,1],[22,15,22,16],[22,0,24,0],[46,5,47,5],[34,0,35,0],[39,0,40,0],[34,2,34,9],[63,0,63,1],[64,0,64,1],[57,15,59,15],[57,16,59,16],[61,0,61,1],[62,0,62,1],[60,0,60,1]]}
["SERVICIO DE SALUD"]
[{"$f":"CONCATENATE(\"COMUNA: \",NOMBRE!B2,\" - \",\"( \",NOMBRE!C2,NOMBRE!D2,NOMBRE!E2,NOMBRE!F2,NOMBRE!G2,\" )\")","v":"COMUNA: CALLE LARGA - ( 05302 )"}]
[{"$f":"CONCATENATE(\"ESTABLECIMIENTO/ESTRATEGIA: \",NOMBRE!B3,\" - \",\"( \",NOMBRE!C3,NOMBRE!D3,NOMBRE!E3,NOMBRE!F3,NOMBRE!G3,NOMBRE!H3,\" )\")","v":"ESTABLECIMIENTO/ESTRATEGIA: DR. JOSE JOAQUIN AGUIRRE CAMPOS - ( 108308 )"}]
[{"$f":"CONCATENATE(\"MES: \",NOMBRE!B6,\" - \",\"( \",NOMBRE!C6,NOMBRE!D6,\" )\")","v":"MES: DICIEMBRE - ( 12 )"}]
[{"$f":"CONCATENATE(\"AÑO: \",NOMBRE!B7)","v":"AÑO: 2022"}]
["REM-A24.   ATENCIÓN EN MATERNIDAD"]
[]
["SECCIÓN A: INFORMACIÓN DE PARTOS Y ABORTOS ATENDIDOS "]
["TÉRMINO \nDEL \nEMBARAZO","PARTOS Y ABORTOS",null,"PARTOS PREMATUROS",null,null,null,"ANESTESIA",null,null,null,null,"ANALGESIA",null,null,"APEGO\nPRECOZ",null,null,null,null,null,null,"Pueblos Originarios","Migrantes"]
[null,"Total **","Beneficiarias\n","Partos prematuros menos de 24 semanas","Partos prematuros de 24 a 28 semanas","Partos prematuros de 29 a 32 semanas","Partos prematuros de 33 a 36 semanas","Total anestesia","Epidural","Raquídea","General","Local","Total analgesia","Analgesia inhalatoria","Medidas analgésicas no farmacológicas ","Contacto mayor a 30 minutos (RN con peso menor o igual a 2.499 grs.) con la madre","Contacto mayor a 30 minutos  (RN con peso de 2.500 grs. o más) con la madre","Contacto mayor a 30 minutos (RN con peso menor o igual a 2.499 grs.) Con el Padre","Contacto mayor a 30 minutos  (RN con peso de 2.500 grs. o más), Con el Padre","Contacto mayor a 30 minutos (RN con peso menor o igual a 2.499 grs.) con acompañante significativo","Contacto mayor a 30 minutos  (RN con peso de 2.500 grs. o más), con  acompañante significativo","Lactancia materna en los primeros  60 minutos de vida  (RN con peso de 2.500 grs. o más)"]
["TOTAL PARTOS",{"$f":"SUM(B12:B15)","v":0},0,0,0,0,0,0,0,0,0,0,0,0,0,0,0,0,0,0,0,{"$f":"SUM(V12:V15)","v":0},0,0]
["NORMAL/VAGINAL",null,null,null,null,null,null,{"$f":"SUM(I12:L12)","v":0},null,null,null,null,{"$f":"SUM(N12:O12)","v":0},null,null,null,null,null,null,null,null,null,null,null,{"$f":"CE12&CF12&CG12&CH12&CI12&CJ12","v":""},null,null,null,null,null,null,null,null,null,null,null,null,null,null,null,null,null,null,null,null,null,null,null,null,null,null,null,null,null,null,null,null,null,null,null,null,null,null,null,null,null,null,null,null,null,null,null,null,null,null,null,null,null,null,null,null,null,{"$f":"IF($B12<$D12,\"* El número de \"&D$10&\" NO DEBE ser mayor que el Total. \",\"\")","v":""},{"$f":"IF($B12<$E12,\"* El número de \"&E$10&\" NO DEBE ser mayor que el Total. \",\"\")","v":""},{"$f":"IF($B12<$F12,\"* El número de \"&F$10&\" NO DEBE ser mayor que el Total. \",\"\")","v":""},{"$f":"IF($B12<$G12,\"* El número de \"&G$10&\" NO DEBE ser mayor que el Total. \",\"\")","v":""},{"$f":"IF(AND($B12<>\"\",$C12=\"\"),\"* No olvide digitar las beneficiarias (Digite Cero si no tiene). \",IF($B12<$C12,\"* El Número de Beneficiarias NO DEBE ser mayor que el Total. \",\"\"))","v":""},{"$f":"IF(AND($B12<>0,OR($W12=\"\",$X12=\"\")),\"* No olvide digitar los campos Pueblo Originario y/o Migrantes (Digite Cero si no tiene). \",IF(OR($B12<$W12,$B12<$X12),\"* Pueblo Originario y/o Migrantes NO DEBEN ser mayor que el Total. \",\"\"))","v":""},{"$f":"IF($B12<$D12,1,0)","v":0},{"$f":"IF($B12<$E12,1,0)","v":0},{"$f":"IF($B12<$F12,1,0)","v":0},{"$f":"IF($B12<$G12,1,0)","v":0},{"$f":"IF(AND($B12<>\"\",$C12=\"\"),1,IF($B12<$C12,1,0))","v":0},{"$f":"IF(AND($B12<>0,OR($W12=\"\",$X12=\"\")),1,IF(OR($B12<$W12,$B12<$X12),1,0))","v":0}]
["DISTÓCICO VAGINAL",null,null,null,null,null,null,{"$f":"SUM(I13:L13)","v":0},null,null,null,null,{"$f":"SUM(N13:O13)","v":0},null,null,null,null,null,null,null,null,null,null,null,"",null,null,null,null,null,null,null,null,null,null,null,null,null,null,null,null,null,null,null,null,null,null,null,null,null,null,null,null,null,null,null,null,null,null,null,null,null,null,null,null,null,null,null,null,null,null,null,null,null,null,null,null,null,null,null,null,null,{"$f":"IF($B13<$D13,\"* El número de \"&D$10&\" NO DEBE ser mayor que el Total. \",\"\")","v":""},{"$f":"IF($B13<$E13,\"* El número de \"&E$10&\" NO DEBE ser mayor que el Total. \",\"\")","v":""},{"$f":"IF($B13<$F13,\"* El número de \"&F$10&\" NO DEBE ser mayor que el Total. \",\"\")","v":""},{"$f":"IF($B13<$G13,\"* El número de \"&G$10&\" NO DEBE ser mayor que el Total. \",\"\")","v":""},{"$f":"IF(AND($B13<>\"\",$C13=\"\"),\"* No olvide digitar las beneficiarias (Digite Cero si no tiene). \",IF($B13<$C13,\"* El Número de Beneficiarias NO DEBE ser mayor que el Total. \",\"\"))","v":""},{"$f":"IF(AND($B13<>0,OR($W13=\"\",$X13=\"\")),\"* No olvide digitar los campos Pueblo Originario y/o Migrantes (Digite Cero si no tiene). \",IF(OR($B13<$W13,$B13<$X13),\"* Pueblo Originario y/o Migrantes NO DEBEN ser mayor que el Total. \",\"\"))","v":""},{"$f":"IF($B13<$D13,1,0)","v":0},{"$f":"IF($B13<$E13,1,0)","v":0},{"$f":"IF($B13<$F13,1,0)","v":0},{"$f":"IF($B13<$G13,1,0)","v":0},{"$f":"IF(AND($B13<>\"\",$C13=\"\"),1,IF($B13<$C13,1,0))","v":0},{"$f":"IF(AND($B13<>0,OR($W13=\"\",$X13=\"\")),1,IF(OR($B13<$W13,$B13<$X13),1,0))","v":0}]
["CESÁREA ELECTIVA",null,null,null,null,null,null,{"$f":"SUM(I14:L14)","v":0},null,null,null,null,{"$f":"SUM(N14:O14)","v":0},null,null,null,null,null,null,null,null,null,null,null,"",null,null,null,null,null,null,null,null,null,null,null,null,null,null,null,null,null,null,null,null,null,null,null,null,null,null,null,null,null,null,null,null,null,null,null,null,null,null,null,null,null,null,null,null,null,null,null,null,null,null,null,null,null,null,null,null,null,{"$f":"IF($B14<$D14,\"* El número de \"&D$10&\" NO DEBE ser mayor que el Total. \",\"\")","v":""},{"$f":"IF($B14<$E14,\"* El número de \"&E$10&\" NO DEBE ser mayor que el Total. \",\"\")","v":""},{"$f":"IF($B14<$F14,\"* El número de \"&F$10&\" NO DEBE ser mayor que el Total. \",\"\")","v":""},{"$f":"IF($B14<$G14,\"* El número de \"&G$10&\" NO DEBE ser mayor que el Total. \",\"\")","v":""},{"$f":"IF(AND($B14<>\"\",$C14=\"\"),\"* No olvide digitar las beneficiarias (Digite Cero si no tiene). \",IF($B14<$C14,\"* El Número de Beneficiarias NO DEBE ser mayor que el Total. \",\"\"))","v":""},{"$f":"IF(AND($B14<>0,OR($W14=\"\",$X14=\"\")),\"* No olvide digitar los campos Pueblo Originario y/o Migrantes (Digite Cero si no tiene). \",IF(OR($B14<$W14,$B14<$X14),\"* Pueblo Originario y/o Migrantes NO DEBEN ser mayor que el Total. \",\"\"))","v":""},{"$f":"IF($B14<$D14,1,0)","v":0},{"$f":"IF($B14<$E14,1,0)","v":0},{"$f":"IF($B14<$F14,1,0)","v":0},{"$f":"IF($B14<$G14,1,0)","v":0},{"$f":"IF(AND($B14<>\"\",$C14=\"\"),1,IF($B14<$C14,1,0))","v":0},{"$f":"IF(AND($B14<>0,OR($W14=\"\",$X14=\"\")),1,IF(OR($B14<$W14,$B14<$X14),1,0))","v":0}]
["CESÁREA URGENCIA",null,null,null,null,null,null,{"$f":"SUM(I15:L15)","v":0},null,null,null,null,{"$f":"SUM(N15:O15)","v":0},null,null,null,null,null,null,null,null,null,null,null,"",null,null,null,null,null,null,null,null,null,null,null,null,null,null,null,null,null,null,null,null,null,null,null,null,null,null,null,null,null,null,null,null,null,null,null,null,null,null,null,null,null,null,null,null,null,null,null,null,null,null,null,null,null,null,null,null,null,{"$f":"IF($B15<$D15,\"* El número de \"&D$10&\" NO DEBE ser mayor que el Total. \",\"\")","v":""},{"$f":"IF($B15<$E15,\"* El número de \"&E$10&\" NO DEBE ser mayor que el Total. \",\"\")","v":""},{"$f":"IF($B15<$F15,\"* El número de \"&F$10&\" NO DEBE ser mayor que el Total. \",\"\")","v":""},{"$f":"IF($B15<$G15,\"* El número de \"&G$10&\" NO DEBE ser mayor que el Total. \",\"\")","v":""},{"$f":"IF(AND($B15<>\"\",$C15=\"\"),\"* No olvide digitar las beneficiarias (Digite Cero si no tiene). \",IF($B15<$C15,\"* El Número de Beneficiarias NO DEBE ser mayor que el Total. \",\"\"))","v":""},{"$f":"IF(AND($B15<>0,OR($W15=\"\",$X15=\"\")),\"* No olvide digitar los campos Pueblo Originario y/o Migrantes (Digite Cero si no tiene). \",IF(OR($B15<$W15,$B15<$X15),\"* Pueblo Originario y/o Migrantes NO DEBEN ser mayor que el Total. \",\"\"))","v":""},{"$f":"IF($B15<$D15,1,0)","v":0},{"$f":"IF($B15<$E15,1,0)","v":0},{"$f":"IF($B15<$F15,1,0)","v":0},{"$f":"IF($B15<$G15,1,0)","v":0},{"$f":"IF(AND($B15<>\"\",$C15=\"\"),1,IF($B15<$C15,1,0))","v":0},{"$f":"IF(AND($B15<>0,OR($W15=\"\",$X15=\"\")),1,IF(OR($B15<$W15,$B15<$X15),1,0))","v":0}]
["ABORTOS",null,null,null,null,null,null,{"$f":"SUM(I16:L16)","v":0},null,null,null,null,{"$f":"SUM(N16:O16)","v":0},null,null,null,null,null,null,null,null,null,null,null,"",null,null,null,null,null,null,null,null,null,null,null,null,null,null,null,null,null,null,null,null,null,null,null,null,null,null,null,null,null,null,null,null,null,null,null,null,null,null,null,null,null,null,null,null,null,null,null,null,null,null,null,null,null,null,null,null,null,null,null,null,null,{"$f":"IF(AND($B16<>\"\",$C16=\"\"),\"* No olvide digitar las beneficiarias (Digite Cero si no tiene). \",IF($B16<$C16,\"* El Número de Beneficiarias NO DEBE ser mayor que el Total. \",\"\"))","v":""},null,null,null,null,null,{"$f":"IF(AND($B16<>\"\",$C16=\"\"),1,IF($B16<$C16,1,0))","v":0}]
["PARTO NORMAL VERTICAL (*)",null,null,null,null,null,null,null,null,null,null,null,null,null,null,null,null,null,null,null,null,null,null,null,""]
["ENTREGA DE PLACENTA A SOLICITUD DE LA MUJER",null,null,null,null,null,null,null,null,null,null,null,null,null,null,null,null,null,null,null,null,null,null,null,"",null,null,null,null,null,null,null,null,null,null,null,null,null,null,null,null,null,null,null,null,null,null,null,null,null,null,null,null,null,null,null,null,null,null,null,null,null,null,null,null,null,null,null,null,null,null,null,null,null,null,null,null,null,null,null,null,null,null,null,null,null,null,{"$f":"IF(AND($B18<>0,OR($W18=\"\",$X18=\"\")),\"* No olvide digitar los campos Pueblo Originario y/o Migrantes (Digite Cero si no tiene). \",IF(OR($B18<$W18,$B18<$X18),\"* Pueblo Originario y/o Migrantes NO DEBEN ser mayor que el Total. \",\"\"))","v":""},null,null,null,null,null,{"$f":"IF(AND($B18<>0,OR($W18=\"\",$X18=\"\")),1,IF(OR($B18<$W18,$B18<$X18),1,0))","v":0}]
["PARTO FUERA ESTABLECIMIENTO DE SALUD",null,null,null,null,null,null,null,null,null,null,null,null,null,null,null,null,null,null,null,null,null,null,null,""]
["EMBARAZO NO CONTROLADO",null,null,null,null,null,null,null,null,null,null,null,null,null,null,null,null,null,null,null,null,null,null,null,""]
["(*) Incluido en Parto Normal","(**) Partos de Término y Pre-Término"]
["SECCIÓN A.1: INTERRUPCIÓN VOLUNTARIA DEL EMBARAZO"]
["CAUSALES","TOTAL      ","Grupos de edad en años",null,null,null,null,null,null,null,null,null,"Abortos",null,null,"Partos ",null,"Beneficiarias","Pueblos Originarios","Migrantes"]
[null,null,"Menor de 14 años","14 a 19 años","20 a 24 años","25 a 29 años","30 a 34 años","35 a 39 años","40 a 44 años","45 a 49 años","50 a 54 años","55 y más años","Hasta 12 semanas y cero días","12 semanas y un día hasta 14 semanas y cero días","de 14 hasta 21 semanas y 6 días","Partos vaginales inducidos","Cesáreas"]
[null,{"$f":"SUM(B26:B28)","v":0},0,0,0,0,0,0,0,0,0,0,0,0,0,{"$f":"SUM(P26:P27)","v":0},{"$f":"SUM(Q26:Q27)","v":0},{"$f":"SUM(R26:R28)","v":0},{"$f":"SUM(S26:S28)","v":0},{"$f":"SUM(T26:T28)","v":0}]
["CAUSAL N° 1: MUJER EMBARAZADA CON RIESGO VITAL ",{"$f":"SUM(C26:L26)","v":0},null,null,null,null,null,null,null,null,null,null,null,null,null,null,null,null,null,null,{"$f":"CB26&CC26&CD26&CE26&CF26&CG26","v":""},null,null,null,null,null,null,null,null,null,null,null,null,null,null,null,null,null,null,null,null,null,null,null,null,null,null,null,null,null,null,null,null,null,null,null,null,null,null,null,null,null,null,null,null,null,null,null,null,null,null,null,null,null,null,null,null,null,null,{"$f":"IF(CH26=1,\"* La suma de los Abortos y Partos DEBE ser igual al Total de IVE realizada según causal. \",\"\")","v":""},{"$f":"IF(CI26=1,\"* No olvide digitar los campos Beneficiarios y/o Pueblo Originario y/o Migrantes (Digite CEROS si no tiene). \",\"\")","v":""},{"$f":"IF(CJ26=1,\"* Beneficiarios y/o Pueblo Originario y/o Migrantes NO DEBEN ser Mayor al Total. \",\"\")","v":""},null,null,null,{"$f":"IF(B26<>(M26+N26+O26+P26+Q26),1,0)","v":0},{"$f":"IF(AND(B26<>0,OR(R26=\"\",S26=\"\",T26=\"\")),1,0)","v":0},{"$f":"IF(OR(B26<R26,B26<S26,B26<T26),1,0)","v":0}]
["CAUSAL N° 2: INVIABILIDAD FETAL DE CARÁCTER LETAL",{"$f":"SUM(C27:L27)","v":0},null,null,null,null,null,null,null,null,null,null,null,null,null,null,null,null,null,null,{"$f":"CB27&CC27&CD27&CE27&CF27&CG27","v":""},null,null,null,null,null,null,null,null,null,null,null,null,null,null,null,null,null,null,null,null,null,null,null,null,null,null,null,null,null,null,null,null,null,null,null,null,null,null,null,null,null,null,null,null,null,null,null,null,null,null,null,null,null,null,null,null,null,null,{"$f":"IF(CH27=1,\"* La suma de los Abortos y Partos DEBE ser igual al Total de IVE realizada según causal. \",\"\")","v":""},{"$f":"IF(CI27=1,\"* No olvide digitar los campos Beneficiarios y/o Pueblo Originario y/o Migrantes (Digite CEROS si no tiene). \",\"\")","v":""},{"$f":"IF(CJ27=1,\"* Beneficiarios y/o Pueblo Originario y/o Migrantes NO DEBEN ser Mayor al Total. \",\"\")","v":""},null,null,null,{"$f":"IF(B27<>(M27+N27+O27+P27+Q27),1,0)","v":0},{"$f":"IF(AND(B27<>0,OR(R27=\"\",S27=\"\",T27=\"\")),1,0)","v":0},{"$f":"IF(OR(B27<R27,B27<S27,B27<T27),1,0)","v":0}]
["CAUSAL N° 3: POR VIOLACIÓN",{"$f":"SUM(C28:L28)","v":0},null,null,null,null,null,null,null,null,null,null,null,null,null,null,null,null,null,null,{"$f":"CB28&CC28&CD28&CE28&CF28&CG28","v":""},null,null,null,null,null,null,null,null,null,null,null,null,null,null,null,null,null,null,null,null,null,null,null,null,null,null,null,null,null,null,null,null,null,null,null,null,null,null,null,null,null,null,null,null,null,null,null,null,null,null,null,null,null,null,null,null,null,null,{"$f":"IF(CH28=1,\"* La suma de los Abortos y Partos DEBE ser igual al Total de IVE realizada según causal. \",\"\")","v":""},{"$f":"IF(CI28=1,\"* No olvide digitar los campos Beneficiarios y/o Pueblo Originario y/o Migrantes (Digite CEROS si no tiene). \",\"\")","v":""},{"$f":"IF(CJ28=1,\"* Beneficiarios y/o Pueblo Originario y/o Migrantes NO DEBEN ser Mayor al Total. \",\"\")","v":""},null,null,null,{"$f":"IF(B28<>(M28+N28+O28+P28+Q28),1,0)","v":0},{"$f":"IF(AND(B28<>0,OR(R28=\"\",S28=\"\",T28=\"\")),1,0)","v":0},{"$f":"IF(OR(B28<R28,B28<S28,B28<T28),1,0)","v":0}]
["SECCIÓN B: ACOMPAÑAMIENTO EN EL PROCESO REPRODUCTIVO"]
["EVENTO","TOTAL","BENEFICIARIAS "," "]
["SOLO EN EL PARTO",null,null,null,null,null,null,null,null,null,null,null,null,null,null,null,null,null,null,null,null,null,null,null,null,null,null,null,null,null,null,null,null,null,null,null,null,null,null,null,null,null,null,null,null,null,null,null,null,null,null,null,null,null,null,null,null,null,null,null,null,null,null,null,null,null,null,null,null,null,null,null,null,null,null,null,null,null,{"$f":"IF(B31=0,\"\",IF(C31=\"\",IF(B31=\"\",\"\",\"* No olvide digitar la columna Beneficiarios. \"),\"\"))","v":""},{"$f":"IF(B31<C31,\"* El número de Beneficiarios NO DEBE ser mayor que el Total. \",\"\")","v":""},{"$f":"IF(B31<C31,\"* El número de Beneficiarios NO DEBE ser mayor que el Total. \",\"\")","v":""},null,null,null,{"$f":"IF(B31=0,\"\",IF(C31=\"\",IF(B23=\"\",\"\",1),0))","v":""},{"$f":"IF(B31<C31,1,0)","v":0},{"$f":"IF(B31<C31,1,0)","v":0}]
["PRE PARTO Y PARTO",null,null,null,null,null,null,null,null,null,null,null,null,null,null,null,null,null,null,null,null,null,null,null,null,null,null,null,null,null,null,null,null,null,null,null,null,null,null,null,null,null,null,null,null,null,null,null,null,null,null,null,null,null,null,null,null,null,null,null,null,null,null,null,null,null,null,null,null,null,null,null,null,null,null,null,null,null,{"$f":"IF(B32=0,\"\",IF(C32=\"\",IF(B32=\"\",\"\",\"* No olvide digitar la columna Beneficiarios. \"),\"\"))","v":""},{"$f":"IF(B32<C32,\"* El número de Beneficiarios NO DEBE ser mayor que el Total. \",\"\")","v":""},{"$f":"IF(B32<C32,\"* El número de Beneficiarios NO DEBE ser mayor que el Total. \",\"\")","v":""}]
["SECCIÓN C: INFORMACIÓN RECIÉN NACIDOS"]
["SECCIÓN C.1: NACIDOS  SEGÚN PESO AL NACER  "]
["TIPO","TOTAL","PESO AL NACER (EN GRAMOS)",null,null,null,null,null,null,null,"PROGRAMA FENILQUETONURIA (PKU) E HIPOTIROIDISMO CONGÉNITO (HC)"]
[null,null,"Menos de 500","500 a 999","1.000 a \n1.499","1.500 a \n1.999","2.000 a \n2.499","2.500 a \n2.999","3.000 a \n3.999","4.000 y \nmás","Primeras Muestras","Muestras Repetidas"]
["NACIDOS VIVOS",{"$f":"SUM(C37:J37)","v":0},null,null,null,null,null,null,null,null,null,null,{"$f":"CB37&CC37","v":""},null,null,null,null,null,null,null,null,null,null,null,null,null,null,null,null,null,null,null,null,null,null,null,null,null,null,null,null,null,null,null,null,null,null,null,null,null,null,null,null,null,null,null,null,null,null,null,null,null,null,null,null,null,null,null,null,null,null,null,null,null,null,null,null,null,null,{"$f":"IF(CH37=1,\"* Los Recién Nacidos de 2.500 y más gramos NO DEBE ser menot al Total de partos con Apego Precoz de RN del mismo peso Sección A. \",\"\")","v":""},{"$f":"IF(CI37=1,\"* Los Recién Nacidos de menor o igual a 2.499 gramos NO DEBE ser menot al Total de partos con Apego Precoz de RN del mismo peso Sección A. \",\"\")","v":""},null,null,null,null,{"$f":"IF(SUM(H37:J37)>=Q11,0,1)","v":0},{"$f":"IF(SUM(C37:G37)>=P11,0,1)","v":0}]
["NACIDOS FALLECIDOS",{"$f":"SUM(C38:J38)","v":0}]
["SECCIÓN C.2: RECIÉN NACIDOS CON MALFORMACIÓN CONGÉNITA"]
["TIPO","TOTAL"]
[null,null," "]
["NACIDOS VIVOS",null,{"$f":"CB42","v":""},null,null,null,null,null,null,null,null,null,null,null,null,null,null,null,null,null,null,null,null,null,null,null,null,null,null,null,null,null,null,null,null,null,null,null,null,null,null,null,null,null,null,null,null,null,null,null,null,null,null,null,null,null,null,null,null,null,null,null,null,null,null,null,null,null,null,null,null,null,null,null,null,null,null,null,null,{"$f":"IF(CH42=1,\"* Total Nacidos Vivos con Malformación Congénita NO DEBE ser MAYOR a Nacidos Vivos según peso al Nacer. \",\"\")","v":""},null,null,null,null,null,{"$f":"IF(B42>B37,1,0)","v":0}]
["NACIDOS FALLECIDOS",null,{"$f":"CB43","v":""},null,null,null,null,null,null,null,null,null,null,null,null,null,null,null,null,null,null,null,null,null,null,null,null,null,null,null,null,null,null,null,null,null,null,null,null,null,null,null,null,null,null,null,null,null,null,null,null,null,null,null,null,null,null,null,null,null,null,null,null,null,null,null,null,null,null,null,null,null,null,null,null,null,null,null,null,{"$f":"IF(CH43=1,\"* Total Nacidos Fallecidos con Malformación Congénita NO DEBE ser MAYOR a Nacidos fallecidos según peso al Nacer. \",\"\")","v":""},null,null,null,null,null,{"$f":"IF(B43>B38,1,0)","v":0}]
["SECCIÓN C.3: APGAR MENOR O IGUAL A 3 AL MINUTO Y APGAR MENOR O IGUAL A 6 A LOS 5 MINUTOS"]
["TIPO","APGAR MENOR O IGUAL A  3 AL MINUTO","APGAR MENOR O IGUAL A 6 A LOS 5  MINUTOS"]
["NACIDOS VIVOS",null,null,null,null,null,null,null,null,null,null,null,""]
["SECCIÓN D: ESTERILIZACIONES SEGÚN SEXO"]
["SEXO","TOTAL      ","EDAD (en años)"]
[null,null,"Menor \nde 20","20 - 34","35 y más "]
["MUJER",{"$f":"SUM(C50:E50)","v":0}]
["HOMBRE",{"$f":"SUM(C51:E51)","v":0}]
["SECCIÓN E: EGRESOS DE MATERNIDAD Y NEONATOLOGÍA, SEGÚN LACTANCIA MATERNA EXCLUSIVA"]
["TIPO DE ALIMENTACIÓN","Maternidad        (Puérperas con RN vivo)","Neonatología","Pueblos Originarios","Migrantes"]
["TOTAL DE EGRESOS",null,null,null,null,{"$f":"CB54&CC54&CD54&CE54&CF54&CG54","v":""},null,null,null,null,null,null,null,null,null,null,null,null,null,null,null,null,null,null,null,null,null,null,null,null,null,null,null,null,null,null,null,null,null,null,null,null,null,null,null,null,null,null,null,null,null,null,null,null,null,null,null,null,null,null,null,null,null,null,null,null,null,null,null,null,null,null,null,null,null,null,null,null,null,null,null,{"$f":"IF(CJ54=1,\"* El Total de Pueblo Originario no puede ser mayor a la suma de Maternidad y Neonatología. \",\"\")","v":""},{"$f":"IF(CK54=1,\"* El Total de Migrantes no puede ser mayor a la suma de Maternidad y Neonatología. \",\"\")","v":""},null,null,null,null,{"$f":"IF(D54>(B54+C54),1,0)","v":0},{"$f":"IF(E54>(C54+B54),1,0)","v":0}]
["EGRESADOS CON LACTANCIA MATERNA EXCLUSIVA ",null,null,null,null,{"$f":"CB55&CC55&CD55&CE55&CF55&CG55","v":""},null,null,null,null,null,null,null,null,null,null,null,null,null,null,null,null,null,null,null,null,null,null,null,null,null,null,null,null,null,null,null,null,null,null,null,null,null,null,null,null,null,null,null,null,null,null,null,null,null,null,null,null,null,null,null,null,null,null,null,null,null,null,null,null,null,null,null,null,null,null,null,null,null,{"$f":"IF(B55>B54,\"* Egresos con LME NO DEBE ser mayor que Total de Egresos Maternidad. \",\"\")","v":""},{"$f":"IF(C55>C54,\"* Egresos con LME NO DEBE ser mayor que Total de Egresos Neonatología. \",\"\")","v":""},{"$f":"IF(CJ55=1,\"* El Total de Pueblo Originario no puede ser mayor a la suma de Maternidad y Neonatología. \",\"\")","v":""},{"$f":"IF(CK55=1,\"* El Total de Migrantes no puede ser mayor a la suma de Maternidad y Neonatología. \",\"\")","v":""},null,null,{"$f":"IF(B55>B54,1,0)","v":0},{"$f":"IF(C55>C54,1,0)","v":0},{"$f":"IF(D55>(B55+C55),1,0)","v":0},{"$f":"IF(E55>(C55+B55),1,0)","v":0}]
["EGRESADOS QUE MANTUVIERON LACTANCIA MATERNA EXCLUSIVA DURANTE LA HOSPITALIZACIÓN Y AL ALTA",null,null,null,null,"",null,null,null,null,null,null,null,null,null,null,null,null,null,null,null,null,null,null,null,null,null,null,null,null,null,null,null,null,null,null,null,null,null,null,null,null,null,null,null,null,null,null,null,null,null,null,null,null,null,null,null,null,null,null,null,null,null,null,null,null,null,null,null,null,null,null,null,null,null,null,null,null,null,{"$f":"IF(B56>B54,\"* Egresos con LME NO DEBE ser mayor que Total de Egresos Maternidad. \",\"\")","v":""},{"$f":"IF(C56>C54,\"* Egresos con LME NO DEBE ser mayor que Total de Egresos Neonatología. \",\"\")","v":""},"","",null,null,{"$f":"IF(B56>B54,1,0)","v":0},{"$f":"IF(C56>C54,1,0)","v":0},0,0]
["SECCIÓN F:  TIPOS DE LACTANCIA EN NIÑOS Y NIÑAS AL EGRESO DE LA HOSPITALIZACIÓN"]
["TIPO DE ALIMENTACIÓN",null,"TOTAL",null,null,"POR RANGO ETARIO",null,null,null,null,null,null,null,null,null,"Pueblos Originarios","Migrantes"]
[null,null,null,null,null," De 0 a 29 días",null,"De 1 mes a 2 meses 29 días",null,"De 3 meses a 5 meses 29 días",null,"De 6 meses a 11 meses 29 días",null,"De 1 año a 2 años"]
[null,null,"Ambos Sexos","Hombres","Mujeres","Hombres","Mujeres","Hombres","Mujeres","Hombres","Mujeres","Hombres","Mujeres","Hombres","Mujeres",null,"Mujeres"]
["LACTANCIA MATERNA EXCLUSIVA",null,{"$f":"SUM(D61+E61)","v":0},{"$f":"SUM(F61+H61+J61+L61)","v":0},{"$f":"SUM(G61+I61+K61+M61)","v":0},null,null,null,null,null,null,null,null,null,null,null,null,null,{"$f":"CB61&CC61","v":""},null,null,null,null,null,null,null,null,null,null,null,null,null,null,null,null,null,null,null,null,null,null,null,null,null,null,null,null,null,null,null,null,null,null,null,null,null,null,null,null,null,null,null,null,null,null,null,null,null,null,null,null,null,null,null,null,null,null,null,null,{"$f":"IF(CH61=1,\"* Recuerde digitar los campos Pueblo Originario y/o Migrantes (Digite Cero si no tiene). \",\"\")","v":""},{"$f":"IF(CI61=1,\"* Pueblo Originario y/o Migrante NO DEBE ser mayor al Total. \",\"\")","v":""},null,null,null,null,{"$f":"IF(AND(C61<>0,OR(P61=\"\",Q61=\"\")),1,0)","v":0},{"$f":"IF(OR(C61<P61,C61<Q61),1,0)","v":0}]
["LACTANCIA MATERNA MAS LACTANCIA ARTIFICIAL",null,0,{"$f":"SUM(F62+H62+J62+L62)","v":0},{"$f":"SUM(G62+I62+K62+M62)","v":0},null,null,null,null,null,null,null,null,null,null,null,null,null,{"$f":"CB62&CC62","v":""},null,null,null,null,null,null,null,null,null,null,null,null,null,null,null,null,null,null,null,null,null,null,null,null,null,null,null,null,null,null,null,null,null,null,null,null,null,null,null,null,null,null,null,null,null,null,null,null,null,null,null,null,null,null,null,null,null,null,null,null,{"$f":"IF(CH62=1,\"* Recuerde digitar los campos Pueblo Originario y/o Migrantes (Digite Cero si no tiene). \",\"\")","v":""},{"$f":"IF(CI62=1,\"* Pueblo Originario y/o Migrante NO DEBE ser mayor al Total. \",\"\")","v":""},null,null,null,null,{"$f":"IF(AND(C62<>0,OR(P62=\"\",Q62=\"\")),1,0)","v":0},{"$f":"IF(OR(C62<P62,C62<Q62),1,0)","v":0}]
["FORMULA LACTEA",null,0,{"$f":"SUM(F63+H63+J63+L63+N63)","v":0},{"$f":"SUM(G63+I63+K63+M63+O63)","v":0},null,null,null,null,null,null,null,null,null,null,null,null,null,{"$f":"CB63&CC63","v":""},null,null,null,null,null,null,null,null,null,null,null,null,null,null,null,null,null,null,null,null,null,null,null,null,null,null,null,null,null,null,null,null,null,null,null,null,null,null,null,null,null,null,null,null,null,null,null,null,null,null,null,null,null,null,null,null,null,null,null,null,{"$f":"IF(CH63=1,\"* Recuerde digitar los campos Pueblo Originario y/o Migrantes (Digite Cero si no tiene). \",\"\")","v":""},{"$f":"IF(CI63=1,\"* Pueblo Originario y/o Migrante NO DEBE ser mayor al Total. \",\"\")","v":""},null,null,null,null,{"$f":"IF(AND(C63<>0,OR(P63=\"\",Q63=\"\")),1,0)","v":0},{"$f":"IF(OR(C63<P63,C63<Q63),1,0)","v":0}]
["LACTANCIA MATERNA EXCLUSIVA CON SÓLIDOS",null,0,{"$f":"SUM(J64+L64+N64)","v":0},{"$f":"SUM(K64+M64+O64)","v":0}]
["LACTANCIA MATERNA/FORMULA LÁCTEA MAS SÓLIDOS",null,0,{"$f":"SUM(J65+L65+N65)","v":0},{"$f":"SUM(K65+M65+O65)","v":0}]
["FORMULA LÁCTEA MAS SÓLIDOS",null,0,0,0,null,null,null,null,null,null,null,null,null,null,null,null,null,{"$f":"CB66&CC66","v":""},null,null,null,null,null,null,null,null,null,null,null,null,null,null,null,null,null,null,null,null,null,null,null,null,null,null,null,null,null,null,null,null,null,null,null,null,null,null,null,null,null,null,null,null,null,null,null,null,null,null,null,null,null,null,null,null,null,null,null,null,{"$f":"IF(CH66=1,\"* Recuerde digitar los campos Pueblo Originario y/o Migrantes (Digite Cero si no tiene). \",\"\")","v":""},{"$f":"IF(CI66=1,\"* Pueblo Originario y/o Migrante NO DEBE ser mayor al Total. \",\"\")","v":""},null,null,null,null,{"$f":"IF(AND(C66<>0,OR(P66=\"\",Q66=\"\")),1,0)","v":0},{"$f":"IF(OR(C66<P66,C66<Q66),1,0)","v":0}]
["SECCIÓN G:  TAMIZAJE AUDITIVO"]
["EVALUACIÓN","Menores de 1 año","Pueblos Originarios","Migrantes"]
["RECIEN NACIDOS CON FACTORES DE RIESGO CON TAMIZAJE AUDITIVO",null,null,null,{"$f":"CB69&CC69","v":""},null,null,null,null,null,null,null,null,null,null,null,null,null,null,null,null,null,null,null,null,null,null,null,null,null,null,null,null,null,null,null,null,null,null,null,null,null,null,null,null,null,null,null,null,null,null,null,null,null,null,null,null,null,null,null,null,null,null,null,null,null,null,null,null,null,null,null,null,null,null,null,null,null,null,{"$f":"IF(CH69=1,\"* Pueblo Originario NO DEBE ser mayor al Total de Menores de 1 año. \",\"\")","v":""},{"$f":"IF(CI69=1,\"*Migrantes NO DEBE ser mayor al Total de Menores de 1 año. \",\"\")","v":""},null,null,null,null,{"$f":"IF(B69<C69,1,0)","v":0},{"$f":"IF(B69<D69,1,0)","v":0}]
["RECIEN NACIDOS CON TAMIZAJE AUDITIVO",null,null,null,{"$f":"CB70&CC70","v":""},null,null,null,null,null,null,null,null,null,null,null,null,null,null,null,null,null,null,null,null,null,null,null,null,null,null,null,null,null,null,null,null,null,null,null,null,null,null,null,null,null,null,null,null,null,null,null,null,null,null,null,null,null,null,null,null,null,null,null,null,null,null,null,null,null,null,null,null,null,null,null,null,null,null,{"$f":"IF(CH70=1,\"* Pueblo Originario NO DEBE ser mayor al Total de Menores de 1 año. \",\"\")","v":""},{"$f":"IF(CI70=1,\"*Migrantes NO DEBE ser mayor al Total de Menores de 1 año. \",\"\")","v":""},null,null,null,null,{"$f":"IF(B70<C70,1,0)","v":0},{"$f":"IF(B70<D70,1,0)","v":0}]
["RECIEN NACIDOS CON TAMIZAJE AUDITIVO ALTERADO (referido)",null,null,null,{"$f":"CB71&CC71","v":""},null,null,null,null,null,null,null,null,null,null,null,null,null,null,null,null,null,null,null,null,null,null,null,null,null,null,null,null,null,null,null,null,null,null,null,null,null,null,null,null,null,null,null,null,null,null,null,null,null,null,null,null,null,null,null,null,null,null,null,null,null,null,null,null,null,null,null,null,null,null,null,null,null,null,"","",null,null,null,null,{"$f":"IF(B71<C71,1,0)","v":0},{"$f":"IF(B71<D71,1,0)","v":0}]
[]
[]
[]
[]
[]
[]
[]
[]
[]
[]
[]
[]
[]
[]
[]
[]
[]
[]
[]
[]
[]
[]
[]
[]
[]
[]
[]
[]
[]
[]
[]
[]
[]
[]
[]
[]
[]
[]
[]
[]
[]
[]
[]
[]
[]
[]
[]
[]
[]
[]
[]
[]
[]
[]
[]
[]
[]
[]
[]
[]
[]
[]
[]
[]
[]
[]
[]
[]
[]
[]
[]
[]
[]
[]
[]
[]
[]
[]
[]
[]
[]
[]
[]
[]
[]
[]
[]
[]
[]
[]
[]
[]
[]
[]
[]
[]
[]
[]
[]
[]
[]
[]
[]
[]
[]
[]
[]
[]
[]
[]
[]
[]
[]
[]
[]
[]
[]
[]
[]
[]
[]
[]
[]
[]
[]
[]
[]
[]
[]
[]
[{"$f":"SUM(B11:X11,B37:B38,C61:C66,B26:B28,B54:B56,B50:B51,B31:B32,B42:B43,B46:C46,B16:B20,B69:D71)","v":0},{"$f":"SUM(CH10:CM71)","v":0}]

{"sheet":"A25","index":17,"n_rows":195,"n_cols":79,"rows_kept":195,"cut":false,"hidden":false,"merged":[[138,3,139,3],[138,4,139,4],[132,0,132,1],[134,0,134,1],[135,0,136,0],[138,0,139,0],[138,1,139,1],[138,2,139,2],[124,3,124,4],[124,5,124,6],[126,0,126,1],[127,0,129,0],[130,0,130,1],[131,0,131,1],[115,0,115,1],[116,0,118,0],[119,0,119,1],[120,0,120,1],[124,0,125,1],[124,2,125,2],[97,0,97,1],[99,0,99,4],[106,0,106,3],[111,3,112,3],[111,4,112,4],[114,0,114,1],[89,0,89,8],[90,0,91,1],[90,2,91,2],[92,0,92,1],[93,0,95,0],[96,0,96,1],[80,0,80,7],[81,0,81,1],[82,0,82,1],[83,0,85,0],[86,0,86,1],[87,0,87,1],[73,0,73,1],[74,0,74,1],[75,0,75,1],[76,0,76,1],[77,0,77,1],[78,0,78,1],[65,0,65,1],[66,0,66,1],[67,0,67,1],[68,0,68,1],[70,0,70,11],[71,0,72,1],[71,2,72,2],[71,3,72,3],[71,4,71,6],[71,7,72,7],[55,0,58,0],[59,0,60,0],[61,0,61,1],[62,0,62,8],[63,0,64,1],[63,2,64,2],[63,3,64,3],[63,4,63,6],[63,7,64,7],[44,0,45,0],[44,1,45,1],[50,0,51,0],[50,1,51,1],[50,2,51,2],[52,0,54,0],[37,1,37,2],[38,1,38,2],[39,0,42,0],[39,1,40,1],[41,1,42,1],[43,0,43,7],[28,0,28,9],[29,0,29,2],[30,0,38,0],[30,1,30,2],[31,1,31,2],[32,1,32,2],[33,1,33,2],[34,1,34,2],[35,1,35,2],[36,1,36,2],[19,24,19,25],[21,0,24,0],[21,1,22,1],[23,1,24,1],[25,0,26,1],[27,0,27,2],[18,6,18,25],[19,6,19,7],[19,8,19,9],[19,10,19,11],[19,12,19,13],[19,14,19,15],[19,16,19,17],[19,18,19,19],[19,20,19,21],[19,22,19,23],[14,0,14,2],[15,0,15,2],[16,0,16,2],[18,0,20,0],[18,1,20,2],[18,3,19,5],[9,18,9,19],[9,20,9,21],[9,22,9,23],[9,24,9,25],[11,0,12,0],[13,0,13,1],[8,0,10,0],[8,1,10,2],[8,3,9,5],[8,6,8,25],[9,6,9,7],[9,8,9,9],[9,10,9,11],[9,12,9,13],[9,14,9,15],[9,16,9,17]]}
["SERVICIO DE SALUD",null,null,null,null,null,null,null,null,null,null,null,null,null,null,null,null,null,null,null,null,null,null,null,null,null,null,null,null,null,null,null,null,null,null,null,null,null,null,null,null,null,null,null,null,null,null,null,null,null,null,null,null,null,null,null,null,null,null,null,null,null,null,null,null,null,null,null,null,null,null,null,null,null,null,null,null,null,"CG5:CN157"]
[{"$f":"CONCATENATE(\"COMUNA: \",NOMBRE!B2,\" - \",\"( \",NOMBRE!C2,NOMBRE!D2,NOMBRE!E2,NOMBRE!F2,NOMBRE!G2,\" )\")","v":"COMUNA: CALLE LARGA - ( 05302 )"}]
[{"$f":"CONCATENATE(\"ESTABLECIMIENTO/ESTRATEGIA: \",NOMBRE!B3,\" - \",\"( \",NOMBRE!C3,NOMBRE!D3,NOMBRE!E3,NOMBRE!F3,NOMBRE!G3,NOMBRE!H3,\" )\")","v":"ESTABLECIMIENTO/ESTRATEGIA: DR. JOSE JOAQUIN AGUIRRE CAMPOS - ( 108308 )"}]
[{"$f":"CONCATENATE(\"MES: \",NOMBRE!B6,\" - \",\"( \",NOMBRE!C6,NOMBRE!D6,\" )\")","v":"MES: DICIEMBRE - ( 12 )"}]
[{"$f":"CONCATENATE(\"AÑO: \",NOMBRE!B7)","v":"AÑO: 2022"}]
[null,null,null,null,null,"REM-25.  SERVICIOS DE SANGRE"]
[]
["SECCIÓN A.1: POBLACIÓN DONANTE (CS-UMT-BS)"]
["DONANTES","DESCRIPCIÓN",null,"TOTAL",null,null,"POR EDAD"]
[null,null,null,null,null,null,"18-19",null,"20-24",null,"25-29",null,"30-34",null,"35-39",null,"40-44",null,"45-49",null,"50-54",null,"55-59",null,"60-64"]
[null,null,null,"Ambos Sexos","Hombres","Mujeres","Hombres","Mujeres","Hombres","Mujeres","Hombres","Mujeres","Hombres","Mujeres","Hombres","Mujeres","Hombres","Mujeres","Hombres","Mujeres","Hombres","Mujeres","Hombres","Mujeres","Hombres","Mujeres"]
["ALTRUISTAS","NUEVOS","Aceptados",{"$f":"SUM(E12+F12)","v":0},{"$f":"SUM(G12+I12+K12+M12+O12+Q12+S12+U12+W12+Y12)","v":0},0]
[null,"REPETIDOS","Aceptados",{"$f":"SUM(E13+F13)","v":0},0,0]
["FAMILIARES O REPOSICIÓN",null,"Aceptados",{"$f":"SUM(E14+F14)","v":0},0,0]
["TOTAL",null,null,{"$f":"SUM(E15+F15)","v":0},0,0,{"$f":"SUM(G12:G14)","v":0},0,0,0,0,0,0,0,0,0,0,0,0,0,0,0,0,0,0,0]
["TOTAL DÍAS ATENCIÓN OTORGADOS"]
["TOTAL COLECTAS MÓVILES REALIZADAS"]
["SECCIÓN A.2:  TIPO DE DONANTES RECHAZADOS"]
["DONANTES","DESCRIPCIÓN",null,"TOTAL",null,null,"POR EDAD"]
[null,null,null,null,null,null,"18-19",null,"20-24",null,"25-29",null,"30-34",null,"35-39",null,"40-44",null,"45-49",null,"50-54",null,"55-59",null,"60-64"]
[null,null,null,"Ambos Sexos","Hombres","Mujeres","Hombres","Mujeres","Hombres","Mujeres","Hombres","Mujeres","Hombres","Mujeres","Hombres","Mujeres","Hombres","Mujeres","Hombres","Mujeres","Hombres","Mujeres","Hombres","Mujeres","Hombres","Mujeres"]
["ALTRUISTAS","NUEVOS","Rechazados Transitorios",{"$f":"SUM(E22+F22)","v":0},{"$f":"SUM(G22+I22+K22+M22+O22+Q22+S22+U22+W22+Y22)","v":0},0]
[null,null,"Rechazados Permanentes",0,0,0]
[null,"REPETIDOS","Rechazados Transitorios",0,0,0]
[null,null,"Rechazados Permanentes",0,0,0]
["FAMILIARES O REPOSICIÓN",null,"Rechazados Transitorios",0,0,0]
[null,null,"Rechazados Permanentes",0,0,0]
["TOTAL",null,null,{"$f":"SUM(D22:D27)","v":0},0,0,0,0,0,0,0,0,0,0,0,0,0,0,0,0,0,0,0,0,0,0]
["SECCIÓN A.3: REACCIONES ADVERSAS A LA DONACIÓN (CS - UMT - BS)"]
["TIPO",null,null,"TOTAL"," ALTRUISTAS","REPOSICIÓN"]
["CON SÍNTOMAS LOCALES","HEMATOMA",null,{"$f":"SUM(E31+F31)","v":0}]
[null,"PUNCIÓN ARTERIAL",null,0]
[null,"SANGRAMIENTO POSTERIOR",null,0]
[null,"IRRITACION DE UN NERVIO",null,0]
[null,"LESIÓN NERVIOSA",null,0]
[null,"LESIÓN DE TENDÓN",null,0]
[null,"BRAZO DOLOROSO",null,0]
[null,"TROMBOFLEBITIS",null,0]
[null,"ALERGIA LOCAL",null,0]
["CON SÍNTOMAS GENERALES","RVV INMEDIATA","Sin Lesión",0]
[null,null,"Con Lesión",0]
[null,"RVV TARDÍA","Sin Lesión",0]
[null,null,"Con Lesión",0]
["SECCIÓN B: INGRESO UNIDADES DE SANGRE A PRODUCIÓN  (CS-BS)"]
["UNIDADES DE SANGRE","TOTAL"]
[]
["APTAS"]
["NO APTAS"]
["TOTAL",{"$f":"SUM(B47+B48)","v":0}]
["SECCIÓN C: PRODUCCIÓN DE COMPONENTES SANGUÍNEOS (CS-BS)"]
["PRODUCCIÓN","DESCRIPCIÓN","TOTAL"]
[]
["GLÓBULOS ROJOS","DESPLAMATIZADOS"]
[null,"LEUCOREDUCIDOS"]
[null,"FILTRADOS"]
["PLAQUETAS","ESTÁNDAR"]
[null,"LEUCORREDUCIDA POOL"]
[null,"LEUCODEPLETADA POOL"]
[null,"AFÉRESIS"]
["PLASMAS","PLASMA FRESCO CONGELADO TERAPÉUTICO"]
[null,"PLASMA USO NO TERAPÉUTICO"]
["CRIOPRECIPITADOS"]
["SECCIÓN C.1: COMPONENTES SANGUÍNEOS ELIMINADOS (CS-BS )"]
["CAUSA",null,"GLOBULOS ROJOS*","PLASMAS*","PLAQUETAS",null,null,"CRIOPRECIPI-TADOS"]
[null,null,null,null,"Estándar","Pool*","Aféresis"]
["CALIFICACIÓN MICROBIOLÓGICA REACTIVA"]
["OBSOLESCENCIA"]
["OTROS"]
["TOTAL",null,{"$f":"SUM(C66:C68)","v":0},0,0,0,0,0]
["* Cualquier tipo"]
["SECCIÓN C.2 .: COMPONENTES SANGUÍNEOS ELIMINADOS O DEVUELTOS AL CENTRO DE SANGRE ( UMT)"]
["CAUSA",null,"GLOBULOS ROJOS*","PLASMAS*","PLAQUETAS",null,null,"CRIOPRECIPI-TADOS"]
[null,null,null,null,"Estándar","Pool*","Aféresis"]
["OBSOLESCENCIA"]
["FALLA POR CADENA DE FRÍO"]
["DEVOLUCIONES POR PRODUCTO POR NO CUMPLIR ESTÁNDAR"]
["DESCONGELAMIENTO SIN USO"]
["OTROS"]
["TOTAL",null,{"$f":"SUM(C74:C78)","v":0},0,0,0,0,0]
["* Cualquier tipo"]
["SECCIÓN C.3 : COMPONENTES SANGUÍNEOS TRANSFORMACIONES (CS-BS-UMT)"]
["COMPONENTES",null,"TOTAL","UNIDADES PEDIÁTRICAS","IRRADIACIÓN","RECONSTITU-CIÓN PARA USO PEDIÁTRICO (RECAMBIO)","REDUCCIÓN VOLUMEN","DESPLASMATI-ZACIÓN"]
["GLOBULOS ROJOS*"]
["PLAQUETAS","ESTÁNDAR"]
[null,"POOL*"]
[null,"AFÉRESIS"]
["PLASMAS*"]
["CRIOPRECIPITADOS"]
["* Cualquier tipo"]
["SECCIÓN C.4: COMPONENTES SANGUÍNEOS DISTRIBUÍBLES (CS)"]
["CAUSA",null,"TOTAL"]
[]
["GLOBULOS ROJOS*"]
["PLAQUETAS","ESTÁNDAR"]
[null,"POOL*"]
[null,"AFÉRESIS"]
["PLASMAS*"]
["CRIOPRECIPITADOS"]
["* Cualquier tipo"]
["SECCIÓN C.5: SATISFACCION STOCK (7 DÍAS) CS"]
["GR","NÚMERO DÍAS BAJO STOCK ÓPTIMO"]
["O +"]
["A +"]
["B +"]
["O ( - )"]
["A ( - )"]
["SECCIÓN C.6: SATISFACCION STOCK CRITICO (3 DÍAS) UMT"]
["GR","NÚMERO DÍAS BAJO STOCK ÓPTIMO"]
["O +"]
["A +"]
["B +"]
["O ( - )"]
["A ( - )"]
["SECCIÓN D: COMPONENTES SANGUINEOS DISTRIBUIDOS (CS) O TRANSFERIDOS (BS Y UMT)"]
["DESCRIPCIÓN",null,"TOTAL","PÚBLICO","PRIVADO**","F.F.A.A."]
["GLOBULOS ROJOS*",null,{"$f":"SUM(D116:F116)","v":0}]
["PLAQUETAS","ESTANDAR",0]
[null,"POOL*",0]
[null,"AFERESIS",0]
["PLASMAS*",null,0]
["CRIOPRECIPITADOS",null,0]
["* Cualquier tipo"]
["**Universitarios, Clínicas Privadas, Otros"]
["SECCIÓN D.1: TRANSFUSIONES (UMT - BS )"]
["TRANSFUSIONES                                                   (Nº DE UNIDADES)",null,"TOTAL","MENORES DE 15 AÑOS",null,"DE 15 Y MAS AÑOS"]
[null,null,null,"Normales ","Irradiados","Normales","Irradiados"]
["GLOBULOS ROJOS*",null,{"$f":"SUM(D127:G127)","v":0}]
["PLAQUETAS","ESTANDAR",0]
[null,"POOL*",0]
[null,"AFERESIS",0]
["PLASMAS*",null,0]
["CRIOPRECIPITADOS",null,0]
["TOTAL",null,0,{"$f":"SUM(D127:D132)","v":0},{"$f":"SUM(E127:E132)","v":0},{"$f":"SUM(F127:F132)","v":0},{"$f":"SUM(G127:G132)","v":0}]
["SECCIÓN E: DEMANDA GLÓBULOS ROJOS PARA TRANSFUSIÓN (UMT-BS)"]
["TIPO",null,"TOTAL"]
["UNIDADES","SOLICITADAS"]
[null,"DESPACHADAS"]
["SECCIÓN F: REACCIONES ADVERSAS POR ACTO* TRANSFUSIONAL  (UMT-BS)"]
["TIPO","TOTAL","GLÓBULOS ROJOS","PLASMAS","PLAQUETAS"]
[]
["RASH ALÉRGICO",{"$f":"SUM(C141:E141)","v":0}]
["ANAFILAXIA",0]
["REACCIÓN FEBRIL NO HEMOLÍTICA",0]
["REACCIÓN HEMOLÍTICA AGUDA POR INCOMPATIBILIDAD ABO",0]
["REACCIÓN HEMOLÍTICA AGUDA POR OTRA CAUSA",0]
["SOBRECARGA CIRCULATORIA",0]
["REACCIÓN HEMOLÍTICA TARDÍA",0]
["SEPTICEMIA",0]
["TRALI",0]
["OTRAS",0]
["* Cada vez que el paciente se transfunde."]
[]
[]
[]
[]
[]
[]
[]
[]
[]
[]
[]
[]
[]
[]
[]
[]
[]
[]
[]
[]
[]
[]
[]
[]
[]
[]
[]
[]
[]
[]
[]
[]
[]
[]
[]
[]
[]
[]
[]
[]
[]
[]
[]
[{"$f":"SUM(D12:D15,D22:D27,D31:D43,B49,C69:H69,C79:H79,C83:H88,C93:C98,C116:C121,C133,B141:B150,C53:C62,B102:B106,B109:B113,D16:D17,C136:C137)","v":0},{"$f":"SUM(CG5:CN157)","v":0}]

{"sheet":"A26","index":18,"n_rows":196,"n_cols":86,"rows_kept":196,"cut":false,"hidden":false,"merged":[[71,0,71,1],[61,0,61,1],[63,0,65,1],[63,2,63,6],[67,0,67,1],[68,0,68,1],[69,0,69,1],[70,0,70,1],[83,0,84,0],[83,1,84,1],[83,2,84,2],[74,0,75,0],[74,1,75,1],[74,2,74,6],[79,0,80,0],[79,1,80,1],[79,2,79,6],[63,7,64,8],[64,2,65,2],[64,3,64,5],[64,6,65,6],[66,0,66,1],[60,0,60,1],[47,0,47,1],[48,0,48,1],[51,0,51,1],[52,0,52,1],[53,0,53,1],[54,0,55,0],[56,0,56,1],[57,0,57,1],[58,0,58,1],[59,0,59,1],[27,0,27,1],[28,0,28,1],[29,0,29,1],[46,0,46,1],[41,0,41,1],[42,0,42,1],[43,0,45,0],[38,0,38,1],[39,0,39,1],[40,0,40,1],[30,0,30,1],[32,0,36,0],[31,0,31,1],[22,0,22,1],[23,0,23,1],[24,0,24,1],[25,0,25,1],[26,0,26,1],[8,0,8,1],[9,0,9,1],[10,0,10,1],[11,0,11,1],[12,0,12,1],[19,0,19,1],[20,0,20,1],[21,0,21,1],[18,0,18,1],[13,0,13,1],[14,0,14,1],[15,0,15,1],[16,0,16,1],[17,0,17,1]]}
["SERVICIO DE SALUD"]
[{"$f":"CONCATENATE(\"COMUNA: \",NOMBRE!B2,\" - \",\"( \",NOMBRE!C2,NOMBRE!D2,NOMBRE!E2,NOMBRE!F2,NOMBRE!G2,\" )\")","v":"COMUNA: CALLE LARGA - ( 05302 )"}]
[{"$f":"CONCATENATE(\"ESTABLECIMIENTO/ESTRATEGIA: \",NOMBRE!B3,\" - \",\"( \",NOMBRE!C3,NOMBRE!D3,NOMBRE!E3,NOMBRE!F3,NOMBRE!G3,NOMBRE!H3,\" )\")","v":"ESTABLECIMIENTO/ESTRATEGIA: DR. JOSE JOAQUIN AGUIRRE CAMPOS - ( 108308 )"}]
[{"$f":"CONCATENATE(\"MES: \",NOMBRE!B6,\" - \",\"( \",NOMBRE!C6,NOMBRE!D6,\" )\")","v":"MES: DICIEMBRE - ( 12 )"}]
[{"$f":"CONCATENATE(\"AÑO: \",NOMBRE!B7)","v":"AÑO: 2022"}]
[null,null,"REM-26.  ACTIVIDADES EN DOMICILIO Y OTROS ESPACIOS"]
[]
["SECCIÓN A: VISITAS DOMICILIARIAS INTEGRALES A FAMILIAS (ESTABLECIMIENTOS APS)"]
["CONCEPTOS",null,"TOTAL","UN PROFESIONAL","DOS O MÁS PROFESIONALES","UN PROFESIONAL Y UN TÉCNICO PARAMÉDICO","TÉCNICO PARAMÉDICO","FACILITADOR/A INTERCULTURAL PUEBLOS ORIGINARIOS","AGENTE COMUNITARIO","PRIMERA VISITA","SEGUNDA VISITA","TERCERA O MÁS VISITAS DE SEGUIMIENTO","PROGRAMA DE ACOMPAÑAMIENTO PSICOSOCIAL EN APS","MIGRANTES","MULTIMORBILIDAD CRÓNICA"]
["FAMILIA CON NIÑO PREMATURO",null,{"$f":"SUM(D10:G10)","v":0},0,0,0,0,0,0,0,0,0,null,null,null,{"$f":"CA10&CB10","v":""},null,null,null,null,null,null,null,null,null,null,null,null,null,null,null,null,null,null,null,null,null,null,null,null,null,null,null,null,null,null,null,null,null,null,null,null,null,null,null,null,null,null,null,null,null,null,null,null,null,null,null,null,null,null,null,null,null,null,null,null,null,null,{"$f":"IF(CG10=1,\"* La suma del número de Primera, Segunda y Tercera o más Visitas de Seguimiento debe coincidir con el Total. \",\"\")","v":""},{"$f":"IF(CH10=1,\"* Programa de Atención Domiciliaria a Personas con Dependencia Severa debe ser MENOR O IGUAL al Total. \",\"\")","v":""},null,null,null,null,{"$f":"IF((K10+J10+L10)<>C10,1,0)","v":0}]
["FAMILIA CON NIÑO RECIÉN NACIDO",null,{"$f":"SUM(D11:G11)","v":0},0,0,0,0,0,0,0,0,0,null,null,null,{"$f":"CA11&CB11","v":""},null,null,null,null,null,null,null,null,null,null,null,null,null,null,null,null,null,null,null,null,null,null,null,null,null,null,null,null,null,null,null,null,null,null,null,null,null,null,null,null,null,null,null,null,null,null,null,null,null,null,null,null,null,null,null,null,null,null,null,null,null,null,{"$f":"IF(CG11=1,\"* La suma del número de Primera, Segunda y Tercera o más Visitas de Seguimiento debe coincidir con el Total. \",\"\")","v":""},"",null,null,null,null,{"$f":"IF((K11+J11+L11)<>C11,1,0)","v":0}]
["FAMILIA CON NIÑO CON DÉFICIT DEL DSM",null,{"$f":"SUM(D12:G12)","v":2},0,2,0,0,0,0,0,2,0,null,null,null,"",null,null,null,null,null,null,null,null,null,null,null,null,null,null,null,null,null,null,null,null,null,null,null,null,null,null,null,null,null,null,null,null,null,null,null,null,null,null,null,null,null,null,null,null,null,null,null,null,null,null,null,null,null,null,null,null,null,null,null,null,null,null,"","",null,null,null,null,0]
["FAMILIA CON NIÑO EN RIESGO VINCULAR AFECTIVO",null,0,0,0,0,0,0,0,0,0,0,null,null,null,"",null,null,null,null,null,null,null,null,null,null,null,null,null,null,null,null,null,null,null,null,null,null,null,null,null,null,null,null,null,null,null,null,null,null,null,null,null,null,null,null,null,null,null,null,null,null,null,null,null,null,null,null,null,null,null,null,null,null,null,null,null,null,"","",null,null,null,null,0]
["FAMILIA CON NIÑO < 7 MESES CON SCORE DE RIESGO MODERADO DE MORIR POR NEUMONÍA",null,0,0,0,0,0,0,0,0,0,0,null,null,null,"",null,null,null,null,null,null,null,null,null,null,null,null,null,null,null,null,null,null,null,null,null,null,null,null,null,null,null,null,null,null,null,null,null,null,null,null,null,null,null,null,null,null,null,null,null,null,null,null,null,null,null,null,null,null,null,null,null,null,null,null,null,null,"","",null,null,null,null,0]
["FAMILIA CON NIÑO < 7 MESES CON SCORE DE RIESGO GRAVE DE MORIR POR NEUMONÍA",null,0,0,0,0,0,0,0,0,0,0,null,null,null,"",null,null,null,null,null,null,null,null,null,null,null,null,null,null,null,null,null,null,null,null,null,null,null,null,null,null,null,null,null,null,null,null,null,null,null,null,null,null,null,null,null,null,null,null,null,null,null,null,null,null,null,null,null,null,null,null,null,null,null,null,null,null,"","",null,null,null,null,0]
["FAMILIA CON NIÑO CON PROBLEMA RESPIRATORIO CRÓNICO O NO CONTROLADO",null,0,0,0,0,0,0,0,0,0,0,null,null,null,"",null,null,null,null,null,null,null,null,null,null,null,null,null,null,null,null,null,null,null,null,null,null,null,null,null,null,null,null,null,null,null,null,null,null,null,null,null,null,null,null,null,null,null,null,null,null,null,null,null,null,null,null,null,null,null,null,null,null,null,null,null,null,"","",null,null,null,null,0]
["FAMILIA CON NIÑO MALNUTRIDO",null,0,0,0,0,0,0,0,0,0,0,null,null,null,"",null,null,null,null,null,null,null,null,null,null,null,null,null,null,null,null,null,null,null,null,null,null,null,null,null,null,null,null,null,null,null,null,null,null,null,null,null,null,null,null,null,null,null,null,null,null,null,null,null,null,null,null,null,null,null,null,null,null,null,null,null,null,"","",null,null,null,null,0]
["FAMILIA CON NIÑO CON RIESGO PSICOSOCIAL (EXCLUYE VINCULAR AFECTIVO)",null,3,3,0,0,0,0,0,1,2,0,null,null,null,"",null,null,null,null,null,null,null,null,null,null,null,null,null,null,null,null,null,null,null,null,null,null,null,null,null,null,null,null,null,null,null,null,null,null,null,null,null,null,null,null,null,null,null,null,null,null,null,null,null,null,null,null,null,null,null,null,null,null,null,null,null,null,"",{"$f":"IF(CH18=1,\"* Programa de Atención Domiciliaria a Personas con Dependencia Severa debe ser MENOR O IGUAL al Total. \",\"\")","v":""},null,null,null,null,0,{"$f":"IF(M18>C18,1,0)","v":0}]
["FAMILIA CON ADOLESCENTE EN RIESGO O PROBLEMA PSICOSOCIAL",null,0,0,0,0,0,0,0,0,0,0,null,null,null,"",null,null,null,null,null,null,null,null,null,null,null,null,null,null,null,null,null,null,null,null,null,null,null,null,null,null,null,null,null,null,null,null,null,null,null,null,null,null,null,null,null,null,null,null,null,null,null,null,null,null,null,null,null,null,null,null,null,null,null,null,null,null,"","",null,null,null,null,0,0]
["FAMILIA CON INTEGRANTE CON PATOLOGÍA CRÓNICA DESCOMPENSADA",null,0,0,0,0,0,0,0,0,0,0,null,null,null,"",null,null,null,null,null,null,null,null,null,null,null,null,null,null,null,null,null,null,null,null,null,null,null,null,null,null,null,null,null,null,null,null,null,null,null,null,null,null,null,null,null,null,null,null,null,null,null,null,null,null,null,null,null,null,null,null,null,null,null,null,null,null,"","",null,null,null,null,0,0]
["FAMILIA CON ADULTO MAYOR DEPENDEDIENTE (EXCLUYE DEPENDIENTE SEVERO)",null,3,3,0,0,0,0,0,1,1,1,null,null,null,"",null,null,null,null,null,null,null,null,null,null,null,null,null,null,null,null,null,null,null,null,null,null,null,null,null,null,null,null,null,null,null,null,null,null,null,null,null,null,null,null,null,null,null,null,null,null,null,null,null,null,null,null,null,null,null,null,null,null,null,null,null,null,"","",null,null,null,null,0]
["FAMILIA CON ADULTO MAYOR EN RIESGO PSICOSOCIAL",null,4,4,0,0,0,0,0,1,2,1,null,null,null,"",null,null,null,null,null,null,null,null,null,null,null,null,null,null,null,null,null,null,null,null,null,null,null,null,null,null,null,null,null,null,null,null,null,null,null,null,null,null,null,null,null,null,null,null,null,null,null,null,null,null,null,null,null,null,null,null,null,null,null,null,null,null,"",{"$f":"IF(CH22=1,\"* Programa de Atención Domiciliaria a Personas con Dependencia Severa debe ser MENOR O IGUAL al Total. \",\"\")","v":""},null,null,null,null,0]
["FAMILIA CON GESTANTE ADOLESCENTE 10 A 14 AÑOS",null,{"$f":"SUM(D23:G23)","v":0},0,0,0,0,0,0,0,0,0,null,null,null,"",null,null,null,null,null,null,null,null,null,null,null,null,null,null,null,null,null,null,null,null,null,null,null,null,null,null,null,null,null,null,null,null,null,null,null,null,null,null,null,null,null,null,null,null,null,null,null,null,null,null,null,null,null,null,null,null,null,null,null,null,null,null,"","",null,null,null,null,0,0]
["FAMILIA CON GESTANTE >20 AÑOS EN RIESGO PSICOSOCIAL",null,0,0,0,0,0,0,0,0,0,0,null,null,null,"",null,null,null,null,null,null,null,null,null,null,null,null,null,null,null,null,null,null,null,null,null,null,null,null,null,null,null,null,null,null,null,null,null,null,null,null,null,null,null,null,null,null,null,null,null,null,null,null,null,null,null,null,null,null,null,null,null,null,null,null,null,null,"","",null,null,null,null,0,0]
["FAMILIA CON GESTANTE ADOLESCENTE EN RIESGO PSICOSOCIAL 15 A 19 AÑOS",null,{"$f":"SUM(D25:G25)","v":0},0,0,0,0,0,0,0,0,0,null,null,null,"",null,null,null,null,null,null,null,null,null,null,null,null,null,null,null,null,null,null,null,null,null,null,null,null,null,null,null,null,null,null,null,null,null,null,null,null,null,null,null,null,null,null,null,null,null,null,null,null,null,null,null,null,null,null,null,null,null,null,null,null,null,null,"","",null,null,null,null,0,0]
["FAMILIA CON ADOLESCENTE CON PROBLEMA RESPIRATORIO CRÓNICO O NO CONTROLADO",null,0,0,0,0,0,0,0,0,0,0,null,null,null,"",null,null,null,null,null,null,null,null,null,null,null,null,null,null,null,null,null,null,null,null,null,null,null,null,null,null,null,null,null,null,null,null,null,null,null,null,null,null,null,null,null,null,null,null,null,null,null,null,null,null,null,null,null,null,null,null,null,null,null,null,null,null,"","",null,null,null,null,0]
["FAMILIA CON ADULTO CON PROBLEMA RESPIRATORIO CRÓNICO O NO CONTROLADO",null,0,0,0,0,0,0,0,0,0,0,null,null,null,"",null,null,null,null,null,null,null,null,null,null,null,null,null,null,null,null,null,null,null,null,null,null,null,null,null,null,null,null,null,null,null,null,null,null,null,null,null,null,null,null,null,null,null,null,null,null,null,null,null,null,null,null,null,null,null,null,null,null,null,null,null,null,"","",null,null,null,null,0]
["FAMILIA CON GESTANTE EN RIESGO BIOMÉDICO",null,0,0,0,0,0,0,0,0,0,0,null,null,null,"",null,null,null,null,null,null,null,null,null,null,null,null,null,null,null,null,null,null,null,null,null,null,null,null,null,null,null,null,null,null,null,null,null,null,null,null,null,null,null,null,null,null,null,null,null,null,null,null,null,null,null,null,null,null,null,null,null,null,null,null,null,null,"","",null,null,null,null,0]
["FAMILIA CON OTRO RIESGO PSICOSOCIAL",null,1,1,0,0,0,0,0,1,0,0,null,null,null,"",null,null,null,null,null,null,null,null,null,null,null,null,null,null,null,null,null,null,null,null,null,null,null,null,null,null,null,null,null,null,null,null,null,null,null,null,null,null,null,null,null,null,null,null,null,null,null,null,null,null,null,null,null,null,null,null,null,null,null,null,null,null,"","",null,null,null,null,0,0]
["FAMILIA CON INTEGRANTE CON PROBLEMA DE SALUD MENTAL",null,4,4,0,0,0,0,0,3,1,0,null,null,null,"",null,null,null,null,null,null,null,null,null,null,null,null,null,null,null,null,null,null,null,null,null,null,null,null,null,null,null,null,null,null,null,null,null,null,null,null,null,null,null,null,null,null,null,null,null,null,null,null,null,null,null,null,null,null,null,null,null,null,null,null,null,null,"","",null,null,null,null,0,0]
["FAMILIA CON NIÑOS/AS DE 5 A 9 AÑOS CON PROBLEMAS Y/O TRASTORNOS DE SALUD MENTAL",null,{"$f":"SUM(D31:G31)","v":0},0,0,0,0,0,0,0,0,0,null,null,null,"",null,null,null,null,null,null,null,null,null,null,null,null,null,null,null,null,null,null,null,null,null,null,null,null,null,null,null,null,null,null,null,null,null,null,null,null,null,null,null,null,null,null,null,null,null,null,null,null,null,null,null,null,null,null,null,null,null,null,null,null,null,null,"","",null,null,null,null,0,0]
["FAMILIA CON INTEGRANTE CON MULTIMORBILIDAD CRONICA (excluye dependencia severa)",null,{"$f":"SUM(D32:G32)","v":14},0,0,0,14,0,0,14,0,0,null,null,null,"",null,null,null,null,null,null,null,null,null,null,null,null,null,null,null,null,null,null,null,null,null,null,null,null,null,null,null,null,null,null,null,null,null,null,null,null,null,null,null,null,null,null,null,null,null,null,null,null,null,null,null,null,null,null,null,null,null,null,null,null,null,null,{"$f":"IF(CG32=1,\"* La suma del número de Primera, Segunda y Tercera o más Visitas de Seguimiento debe coincidir con el Total. \",\"\")","v":""},{"$f":"IF(CH32=1,\"* Programa de Atención Domiciliaria a Personas con Dependencia Severa debe ser MENOR O IGUAL al Total. \",\"\")","v":""},null,null,null,null,{"$f":"IF((K32+J32+L32)<>C32,1,0)","v":0}]
[" A PERSONAS CON DEPENDENCIA SEVERA","FAMILIA CON ADULTO MAYOR CON DEMENCIA",{"$f":"SUM(D33:G33)","v":4},4,0,0,0,0,0,0,1,3,null,null,null,"",null,null,null,null,null,null,null,null,null,null,null,null,null,null,null,null,null,null,null,null,null,null,null,null,null,null,null,null,null,null,null,null,null,null,null,null,null,null,null,null,null,null,null,null,null,null,null,null,null,null,null,null,null,null,null,null,null,null,null,null,null,null,"","",null,null,null,null,0]
[null,"FAMILIA CON INTEGRANTE CON ENFERMEDAD TERMINAL",1,1,0,0,0,0,0,0,0,1,null,null,null,"",null,null,null,null,null,null,null,null,null,null,null,null,null,null,null,null,null,null,null,null,null,null,null,null,null,null,null,null,null,null,null,null,null,null,null,null,null,null,null,null,null,null,null,null,null,null,null,null,null,null,null,null,null,null,null,null,null,null,null,null,null,null,"","",null,null,null,null,0]
[null,"FAMILIA CON INTEGRANTE ALTA HOSPITALIZACIÓN PRECOZ",0,0,0,0,0,0,0,0,0,0,null,null,null,"",null,null,null,null,null,null,null,null,null,null,null,null,null,null,null,null,null,null,null,null,null,null,null,null,null,null,null,null,null,null,null,null,null,null,null,null,null,null,null,null,null,null,null,null,null,null,null,null,null,null,null,null,null,null,null,null,null,null,null,null,null,null,"","",null,null,null,null,0]
[null,"FAMILIA CON INTEGRANTE CON DEPENDENCIA SEVERA (excluye adulto mayor)",{"$f":"SUM(D36:G36)","v":12},9,3,0,0,0,0,0,6,6,null,null,null,"",null,null,null,null,null,null,null,null,null,null,null,null,null,null,null,null,null,null,null,null,null,null,null,null,null,null,null,null,null,null,null,null,null,null,null,null,null,null,null,null,null,null,null,null,null,null,null,null,null,null,null,null,null,null,null,null,null,null,null,null,null,null,"","",null,null,null,null,0]
[null,"FAMILIA CON ADULTO MAYOR DEPENDIENTE SEVERO",{"$f":"SUM(D37:G37)","v":39},37,0,2,null,0,0,0,8,31,null,null,null,"",null,null,null,null,null,null,null,null,null,null,null,null,null,null,null,null,null,null,null,null,null,null,null,null,null,null,null,null,null,null,null,null,null,null,null,null,null,null,null,null,null,null,null,null,null,null,null,null,null,null,null,null,null,null,null,null,null,null,null,null,null,null,"","",null,null,null,null,0]
["SECCIÓN B: OTRAS VISITAS INTEGRALES"]
["CONCEPTOS",null,"TOTAL","UN PROFESIONAL","DOS O MÁS \nPROFESIONALES","UN PROFESIONAL Y \nUN TÉCNICO PARAMÉDICO","TÉCNICO PARAMÉDICO","FACILITADOR/A INTERCULTURAL PUEBLOS ORIGINARIOS","AGENTE COMUNITARIO","MIGRANTES"]
["VISITA EPIDEMIOLÓGICA",null,{"$f":"SUM(D40:F40)","v":0}]
["A LUGAR DE TRABAJO (*)",null,{"$f":"SUM(D41:F41)","v":0}]
["A COLEGIO, SALAS CUNA, JARDÍN INFANTIL (*)",null,0]
["A GRUPO COMUNITARIO",null,0]
["VISITA INTEGRAL DE SALUD MENTAL","A DOMICILIO (NIVEL SECUNDARIO)",0]
[null,"A LUGAR DE TRABAJO",0]
[null,"A ESTABLECIMIENTOS EDUCACIONALES",0]
["EN SECTOR RURAL",null,{"$f":"SUM(D47:G47)","v":0}]
["OTRAS",null,{"$f":"SUM(D48:G48)","v":0}]
["TOTAL",null,{"$f":"SUM(C40:C48)","v":0},{"$f":"SUM(D40:D48)","v":0},0,0,{"$f":"SUM(G47:G48)","v":0},0,0,0]
["(*) Excluye visita integral de salud mental"]
["SECCIÓN C:  VISITAS CON FINES DE TRATAMIENTOS Y/O PROCEDIMIENTOS EN DOMICILIO"]
["CONCEPTOS",null,"TOTAL","PROFESIONAL","TÉCNICO \nPARAMÉDICO","PROGRAMA DE ATENCIÓN DOMICILIARIA A PERSONAS CON DEPENDENCIA SEVERA"]
["A PERSONAS CON DEPENDENCIA LEVE",null,{"$f":"SUM(D53:E53)","v":0},0,0]
["A PERSONAS CON DEPENDENCIA MODERADA",null,0,0,0]
[" A PERSONAS CON DEPENDENCIA SEVERA","ONCOLÓGICOS (Excluye cuidados paliativos)",0,0,0,null,{"$f":"CA55&CB55","v":""},null,null,null,null,null,null,null,null,null,null,null,null,null,null,null,null,null,null,null,null,null,null,null,null,null,null,null,null,null,null,null,null,null,null,null,null,null,null,null,null,null,null,null,null,null,null,null,null,null,null,null,null,null,null,null,null,null,null,null,null,null,null,null,null,null,null,null,null,null,null,null,{"$f":"IF(CG55=1,\"* Programa de Atención domiciliaria apersonas con Dependencia Severa debe ser MENOR O IGUAL al Total.\",\"\")","v":""},{"$f":"IF(CH55=1,\"* Recuerde digitar la Columna Programa de Atención Domiciliaria a Personas con Dependencia Severa (Digite Cero si no tiene). \",\"\")","v":""},null,null,null,null,{"$f":"IF(F55>C55,1,0)","v":0},{"$f":"IF(AND(C55<>0,F55=\"\"),1,0)","v":0}]
[null,"NO ONCOLÓGICOS",13,13,0,10,{"$f":"CA56&CB56","v":""},null,null,null,null,null,null,null,null,null,null,null,null,null,null,null,null,null,null,null,null,null,null,null,null,null,null,null,null,null,null,null,null,null,null,null,null,null,null,null,null,null,null,null,null,null,null,null,null,null,null,null,null,null,null,null,null,null,null,null,null,null,null,null,null,null,null,null,null,null,null,null,{"$f":"IF(CG56=1,\"* Programa de Atención domiciliaria apersonas con Dependencia Severa debe ser MENOR O IGUAL al Total.\",\"\")","v":""},{"$f":"IF(CH56=1,\"* Recuerde digitar la Columna Programa de Atención Domiciliaria a Personas con Dependencia Severa (Digite Cero si no tiene). \",\"\")","v":""},null,null,null,null,{"$f":"IF(F56>C56,1,0)","v":0},{"$f":"IF(AND(C56<>0,F56=\"\"),1,0)","v":0}]
["A PERSONAS EN CUIDADOS PALIATIVOS",null,0,0,0,null,{"$f":"CA57&CB57","v":""},null,null,null,null,null,null,null,null,null,null,null,null,null,null,null,null,null,null,null,null,null,null,null,null,null,null,null,null,null,null,null,null,null,null,null,null,null,null,null,null,null,null,null,null,null,null,null,null,null,null,null,null,null,null,null,null,null,null,null,null,null,null,null,null,null,null,null,null,null,null,null,{"$f":"IF(CG57=1,\"* Programa de Atención domiciliaria apersonas con Dependencia Severa debe ser MENOR O IGUAL al Total.\",\"\")","v":""},{"$f":"IF(CH57=1,\"* Recuerde digitar la Columna Programa de Atención Domiciliaria a Personas con Dependencia Severa (Digite Cero si no tiene). \",\"\")","v":""},null,null,null,null,{"$f":"IF(F57>C57,1,0)","v":0},{"$f":"IF(AND(C57<>0,F57=\"\"),1,0)","v":0}]
["OTROS",null,24,8,16]
["VISITAS  CON OTROS FINES A PERSONAS CON DEPENDENCIA SEVERA",null,2,2,0,1,{"$f":"CA59&CB59","v":""},null,null,null,null,null,null,null,null,null,null,null,null,null,null,null,null,null,null,null,null,null,null,null,null,null,null,null,null,null,null,null,null,null,null,null,null,null,null,null,null,null,null,null,null,null,null,null,null,null,null,null,null,null,null,null,null,null,null,null,null,null,null,null,null,null,null,null,null,null,null,null,{"$f":"IF(CG59=1,\"* Programa de Atención domiciliaria apersonas con Dependencia Severa debe ser MENOR O IGUAL al Total.\",\"\")","v":""},{"$f":"IF(CH59=1,\"* Recuerde digitar la Columna Programa de Atención Domiciliaria a Personas con Dependencia Severa (Digite Cero si no tiene). \",\"\")","v":""},null,null,null,null,{"$f":"IF(F59>C59,1,0)","v":0},{"$f":"IF(AND(C59<>0,F59=\"\"),1,0)","v":0}]
["ATENCIÓN ODONTOLÓGICA EN DOMICILIO",null,{"$f":"D60","v":2},2,null,2,{"$f":"CA60&CB60","v":""},null,null,null,null,null,null,null,null,null,null,null,null,null,null,null,null,null,null,null,null,null,null,null,null,null,null,null,null,null,null,null,null,null,null,null,null,null,null,null,null,null,null,null,null,null,null,null,null,null,null,null,null,null,null,null,null,null,null,null,null,null,null,null,null,null,null,null,null,null,null,null,{"$f":"IF(CG60=1,\"* Programa de Atención domiciliaria apersonas con Dependencia Severa debe ser MENOR O IGUAL al Total.\",\"\")","v":""},{"$f":"IF(CH60=1,\"* Recuerde digitar la Columna Programa de Atención Domiciliaria a Personas con Dependencia Severa (Digite Cero si no tiene). \",\"\")","v":""},null,null,null,null,{"$f":"IF(F60>C60,1,0)","v":0},{"$f":"IF(AND(C60<>0,F60=\"\"),1,0)","v":0}]
["ATENCIÓN  FARMACÉUTICA EN DOMICILIO",null,{"$f":"D61","v":0}]
["ATENCIÓN NUTRICIONAL A PERSONAS CON INDICACIÓN NUTRICIONAL ENTERAL DOMICILIARIA (NED)",null,{"$f":"+F62","v":0},null,null,null,{"$f":"CA62&CB62","v":""},null,null,null,null,null,null,null,null,null,null,null,null,null,null,null,null,null,null,null,null,null,null,null,null,null,null,null,null,null,null,null,null,null,null,null,null,null,null,null,null,null,null,null,null,null,null,null,null,null,null,null,null,null,null,null,null,null,null,null,null,null,null,null,null,null,null,null,null,null,null,null,{"$f":"IF(CG62=1,\"* Programa de Atención domiciliaria apersonas con Dependencia Severa debe ser MENOR O IGUAL al Total.\",\"\")","v":""},{"$f":"IF(CH62=1,\"* Recuerde digitar la Columna Programa de Atención Domiciliaria a Personas con Dependencia Severa (Digite Cero si no tiene). \",\"\")","v":""},null,null,null,null,{"$f":"IF(F62>C62,1,0)","v":0},{"$f":"IF(AND(C62<>0,F62=\"\"),1,0)","v":0}]
["SECCIÓN D: RESCATE DE PACIENTES INASISTENTES"]
["GRUPO ETARIO",null,"RESCATE EN DOMICILIO",null,null,null,null,"RESCATE TELEFÓNICO"]
[null,null,"TOTAL","FUNCIONARIO",null,null,"COMPRA DE SERVICIO (*)"]
[null,null,null,"Técnico paramédico","Administrativo","Otro",null,"Desde el establecimiento","Compra de servicio (*)"]
["MENOR DE 1 AÑO",null,{"$f":"SUM(D67:F67)+H67","v":4},0,0,1,0,3,0]
["1 a 4 AÑOS",null,{"$f":"SUM(D68:F68)+H68","v":7},0,0,0,0,7,0]
["5 a 9 AÑOS",null,0,0,0,0,0,0,0]
["10 a 24 AÑOS",null,1,0,0,0,0,1,0]
["25 a 64 AÑOS",null,6,0,0,0,0,6,0]
["65 Y MÁS",null,0,0,0,0,0,0,0]
["* No incluidas como producción del establecimiento."]
["SECCIÓN E: OTRAS VISITAS PROGRAMA DE ACOMPAÑAMIENTO PSICOSOCIAL EN ATENCIÓN PRIMARIA"]
["GRUPOS","TOTAL VISITAS","NÚMERO DE OTRAS VISITAS SEGÚN RANGO ETARIO"]
[null,null,"0 - 4","5 - 9","10 - 14","15 - 19","20 - 24"]
["ESTABLECIMIENTO EDUCACIONAL",{"$f":"SUM(C77:G77)","v":0}]
["A LUGAR DE TRABAJO",{"$f":"SUM(C78:G78)","v":0}]
["SECCIÓN F: APOYO TELEFÓNICO DEL PROGRAMA DE ACOMPAÑAMIENTO PSICOSOCIAL EN APS"]
["GRUPOS","TOTAL ACCIONES","NÚMERO DE ACCIONES DE ACOMPAÑAMIENTO TELEFÓNICO"]
[null,null,"0 - 4","5 - 9","10 - 14","15 - 19","20 - 24"]
["ACCIONES TELEFÓNICAS REALIZADAS (LLAMADAS O MENSAJERÍA)",{"$f":"SUM(C82:G82)","v":0}]
["SECCIÓN G: VISITA A ESTABLECIMIENTO EDUCACIONAL PROGRAMA DE APOYO A LA SALUD MENTAL INFANTIL (PASMI) EN ATENCIÓN PRIMARIA"]
["CONCEPTO","TOTAL VISITAS\n5 A 9 AÑOS","NÚMERO DE NIÑOS/AS VISITADOS\n5 A 9 AÑOS"]
[]
["ESTABLECIMIENTO EDUCACIONAL"]
[]
[]
[]
[]
[]
[]
[]
[]
[]
[]
[]
[]
[]
[]
[]
[]
[]
[]
[]
[]
[]
[]
[]
[]
[]
[]
[]
[]
[]
[]
[]
[]
[]
[]
[]
[]
[]
[]
[]
[]
[]
[]
[]
[]
[]
[]
[]
[]
[]
[]
[]
[]
[]
[]
[]
[]
[]
[]
[]
[]
[]
[]
[]
[]
[]
[]
[]
[]
[]
[]
[]
[]
[]
[]
[]
[]
[]
[]
[]
[]
[]
[]
[]
[]
[]
[]
[]
[]
[]
[]
[]
[]
[]
[]
[]
[]
[]
[]
[]
[]
[]
[]
[]
[]
[]
[]
[]
[]
[]
[{"$f":"SUM(C10:C37,C49,C53:C62,C67:C72,B77:B78,B82,B86:C86)","v":146},{"$f":"SUM(CG7:CO86)","v":0}]

{"sheet":"A27","index":19,"n_rows":204,"n_cols":88,"rows_kept":204,"cut":false,"hidden":false,"merged":[[136,0,137,0],[136,1,137,1],[111,0,113,1],[114,0,116,1],[121,0,122,0],[121,1,121,8],[126,0,127,0],[131,2,131,12],[136,2,136,5],[136,6,137,6],[136,7,137,7],[126,1,127,1],[126,2,126,12],[104,0,104,2],[106,0,107,2],[106,3,107,3],[106,4,106,9],[106,10,106,11],[108,0,110,1],[100,7,100,20],[100,21,101,21],[131,0,132,0],[131,1,132,1],[100,22,101,22],[102,0,102,2],[103,0,103,2],[96,0,96,2],[97,0,97,2],[98,0,98,2],[100,0,101,2],[100,3,101,3],[100,4,101,4],[100,5,100,6],[90,4,90,5],[91,0,91,2],[91,4,91,5],[92,0,92,2],[94,0,95,2],[94,3,95,3],[94,4,95,4],[84,0,84,2],[85,0,85,2],[86,0,86,2],[87,0,87,2],[89,0,89,2],[89,4,89,5],[82,0,82,2],[83,0,83,2],[68,1,68,2],[69,1,70,1],[71,1,71,2],[72,1,72,2],[73,1,73,2],[74,1,74,2],[90,0,90,2],[61,1,61,2],[62,1,64,1],[65,1,67,1],[43,1,43,2],[44,1,44,2],[45,1,45,2],[47,0,47,2],[48,0,80,0],[48,1,48,2],[49,1,52,1],[53,1,53,2],[54,1,54,2],[55,1,55,2],[75,1,77,1],[78,1,78,2],[79,1,79,2],[80,1,80,2],[10,0,45,0],[10,1,10,2],[11,1,14,1],[15,1,15,2],[58,1,58,2],[56,1,56,2],[60,1,60,2],[8,24,8,26],[8,27,8,29],[8,30,9,30],[16,1,16,2],[17,1,17,2],[18,1,18,2],[34,1,35,1],[36,1,36,2],[37,1,37,2],[24,1,24,2],[26,1,26,2],[27,1,29,1],[30,1,32,1],[33,1,33,2],[23,1,23,2],[59,1,59,2],[57,1,57,2],[5,0,5,14],[8,0,9,2],[8,3,9,3],[8,4,8,8],[8,9,8,23],[40,1,42,1],[19,1,22,1],[25,1,25,2],[38,1,38,2],[39,1,39,2]]}
["SERVICIO DE SALUD"]
[{"$f":"CONCATENATE(\"COMUNA: \",NOMBRE!B2,\" - \",\"( \",NOMBRE!C2,NOMBRE!D2,NOMBRE!E2,NOMBRE!F2,NOMBRE!G2,\" )\")","v":"COMUNA: CALLE LARGA - ( 05302 )"}]
[{"$f":"CONCATENATE(\"ESTABLECIMIENTO/ESTRATEGIA: \",NOMBRE!B3,\" - \",\"( \",NOMBRE!C3,NOMBRE!D3,NOMBRE!E3,NOMBRE!F3,NOMBRE!G3,NOMBRE!H3,\" )\")","v":"ESTABLECIMIENTO/ESTRATEGIA: DR. JOSE JOAQUIN AGUIRRE CAMPOS - ( 108308 )"}]
[{"$f":"CONCATENATE(\"MES: \",NOMBRE!B6,\" - \",\"( \",NOMBRE!C6,NOMBRE!D6,\" )\")","v":"MES: DICIEMBRE - ( 12 )"}]
[{"$f":"CONCATENATE(\"AÑO: \",NOMBRE!B7)","v":"AÑO: 2022"}]
["REM-27.  EDUCACIÓN PARA LA SALUD"]
[]
["SECCIÓN A: PERSONAS QUE INGRESAN A EDUCACIÓN GRUPAL SEGÚN ÁREAS TEMÁTICAS Y EDAD"]
["ÁREAS TEMÁTICAS DE PREVENCIÓN",null,null,"TOTAL","MADRE, PADRE O CUIDADOR DE :",null,null,null,null,"GRUPO DE EDAD (en años)",null,null,null,null,null,null,null,null,null,null,null,null,null,null,"GESTANTES",null,null,"NO GESTANTES",null,null,"FAMILIAS DE RIESGO"]
[null,null,null,null,"Menores de 1 año","Niños 12 a 23 meses","Niños de 2 a 5 años","Niños de 6 a 9 años","10 a 14 años","10 a 14","15 a 19","20 a 24","25 - 29","30 - 34","35 - 39","40 - 44","45 - 49","50 - 54","55 - 59","60 - 64","65 - 69","70 - 74","75 - 79","80 y mas","APS","Nivel Secundario","Nivel Terciario","APS","Nivel Secundario","Nivel Terciario"]
["EDUCACIÓN DE GRUPO","ESTIMULACIÓN DESARROLLO PSICOMOTOR",null,{"$f":"SUM(E11:G11)","v":0},null,null,null,null,null,null,null,null,null,null,null,null,null,null,null,null,null,null,null,null,null,null,null,null,null,null,null,{"$f":"CA11","v":""},null,null,null,null,null,null,null,null,null,null,null,null,null,null,null,null,null,null,null,null,null,null,null,null,null,null,null,null,null,null,null,null,null,null,null,null,null,null,null,null,null,null,null,null,null,null,{"$f":"IF(CG11=1,\"* Total por edad NO DEBE ser menor que la suma de los subgrupos. \",\"\")","v":""},null,null,null,null,null,{"$f":"IF(D11<SUM(Y11:AE11),1,0)","v":0}]
[null,"NUTRICIÓN","RIESGO DE MALNUTRICIÓN POR EXCESO",{"$f":"SUM(E12:X12)","v":0},null,null,null,null,null,null,null,null,null,null,null,null,null,null,null,null,null,null,null,null,null,null,null,null,null,null,null,{"$f":"CA12","v":""},null,null,null,null,null,null,null,null,null,null,null,null,null,null,null,null,null,null,null,null,null,null,null,null,null,null,null,null,null,null,null,null,null,null,null,null,null,null,null,null,null,null,null,null,null,null,{"$f":"IF(CG12=1,\"* Total por edad NO DEBE ser menor que la suma de los subgrupos. \",\"\")","v":""},null,null,null,null,null,{"$f":"IF(D12<SUM(Y12:AE12),1,0)","v":0}]
[null,null,"MALNUTRICIÓN POR EXCESO",{"$f":"SUM(E13:X13)","v":0},null,null,null,null,null,null,null,null,null,null,null,null,null,null,null,null,null,null,null,null,null,null,null,null,null,null,null,"",null,null,null,null,null,null,null,null,null,null,null,null,null,null,null,null,null,null,null,null,null,null,null,null,null,null,null,null,null,null,null,null,null,null,null,null,null,null,null,null,null,null,null,null,null,null,"",null,null,null,null,null,0]
[null,null,"MALNUTRICIÓN DE DÉFICIT",0,null,null,null,null,null,null,null,null,null,null,null,null,null,null,null,null,null,null,null,null,null,null,null,null,null,null,null,"",null,null,null,null,null,null,null,null,null,null,null,null,null,null,null,null,null,null,null,null,null,null,null,null,null,null,null,null,null,null,null,null,null,null,null,null,null,null,null,null,null,null,null,null,null,null,"",null,null,null,null,null,0]
[null,null,"SIN RIESGO DE MALNUTRICIÓN",0,null,null,null,null,null,null,null,null,null,null,null,null,null,null,null,null,null,null,null,null,null,null,null,null,null,null,null,"",null,null,null,null,null,null,null,null,null,null,null,null,null,null,null,null,null,null,null,null,null,null,null,null,null,null,null,null,null,null,null,null,null,null,null,null,null,null,null,null,null,null,null,null,null,null,"",null,null,null,null,null,0]
[null,"PREVENCIÓN DE IRA - ERA",null,0,null,null,null,null,null,null,null,null,null,null,null,null,null,null,null,null,null,null,null,null,null,null,null,null,null,null,null,"",null,null,null,null,null,null,null,null,null,null,null,null,null,null,null,null,null,null,null,null,null,null,null,null,null,null,null,null,null,null,null,null,null,null,null,null,null,null,null,null,null,null,null,null,null,null,"",null,null,null,null,null,0]
[null,"PREVENCIÓN DE ACCIDENTES",null,0,null,null,null,null,null,null,null,null,null,null,null,null,null,null,null,null,null,null,null,null,null,null,null,null,null,null,null,"",null,null,null,null,null,null,null,null,null,null,null,null,null,null,null,null,null,null,null,null,null,null,null,null,null,null,null,null,null,null,null,null,null,null,null,null,null,null,null,null,null,null,null,null,null,null,"",null,null,null,null,null,0]
[null,"SALUD BUCO-DENTAL",null,0,null,null,null,null,null,null,null,null,null,null,null,null,null,null,null,null,null,null,null,null,null,null,null,null,null,null,null,"",null,null,null,null,null,null,null,null,null,null,null,null,null,null,null,null,null,null,null,null,null,null,null,null,null,null,null,null,null,null,null,null,null,null,null,null,null,null,null,null,null,null,null,null,null,null,"",null,null,null,null,null,0]
[null,"PREVENCIÓN VIOLENCIA DE GÉNERO",null,0,null,null,null,null,null,null,null,null,null,null,null,null,null,null,null,null,null,null,null,null,null,null,null,null,null,null,null,"",null,null,null,null,null,null,null,null,null,null,null,null,null,null,null,null,null,null,null,null,null,null,null,null,null,null,null,null,null,null,null,null,null,null,null,null,null,null,null,null,null,null,null,null,null,null,"",null,null,null,null,null,0]
[null,"SALUD SEXUAL Y REPRODUCTIVA","MUJERES",{"$f":"SUM(E20:X20)","v":0},null,null,null,null,null,null,null,null,null,null,null,null,null,null,null,null,null,null,null,null,null,null,null,null,null,null,null,"",null,null,null,null,null,null,null,null,null,null,null,null,null,null,null,null,null,null,null,null,null,null,null,null,null,null,null,null,null,null,null,null,null,null,null,null,null,null,null,null,null,null,null,null,null,null,"",null,null,null,null,null,0]
[null,null,"HOMBRES",{"$f":"SUM(E21:X21)","v":0},null,null,null,null,null,null,null,null,null,null,null,null,null,null,null,null,null,null,null,null,null,null,null,null,null,null,null,"",null,null,null,null,null,null,null,null,null,null,null,null,null,null,null,null,null,null,null,null,null,null,null,null,null,null,null,null,null,null,null,null,null,null,null,null,null,null,null,null,null,null,null,null,null,null,"",null,null,null,null,null,0]
[null,null,"TRANS FEMENINO",{"$f":"SUM(E22:X22)","v":0},null,null,null,null,null,null,null,null,null,null,null,null,null,null,null,null,null,null,null,null,null,null,null,null,null,null,null,"",null,null,null,null,null,null,null,null,null,null,null,null,null,null,null,null,null,null,null,null,null,null,null,null,null,null,null,null,null,null,null,null,null,null,null,null,null,null,null,null,null,null,null,null,null,null,"",null,null,null,null,null,0]
[null,null,"TRANS MASCULINO",{"$f":"SUM(E23:X23)","v":0},null,null,null,null,null,null,null,null,null,null,null,null,null,null,null,null,null,null,null,null,null,null,null,null,null,null,null,"",null,null,null,null,null,null,null,null,null,null,null,null,null,null,null,null,null,null,null,null,null,null,null,null,null,null,null,null,null,null,null,null,null,null,null,null,null,null,null,null,null,null,null,null,null,null,"",null,null,null,null,null,0]
[null,"TALLERES DE CLIMATERIO",null,{"$f":"+E24+F24+G24+H24+I24+Q24+R24+S24+T24","v":0},null,null,null,null,null,null,null,null,null,null,null,null,null,null,null,null,null,null,null,null,null,null,null,null,null,null,null,"",null,null,null,null,null,null,null,null,null,null,null,null,null,null,null,null,null,null,null,null,null,null,null,null,null,null,null,null,null,null,null,null,null,null,null,null,null,null,null,null,null,null,null,null,null,null,"",null,null,null,null,null,0]
[null,"EDUCACIÓN PRENATAL (NUTRICIÓN - LACTANCIA - CRIANZA - AUTOCUIDADO - PREPARACIÓN PARTO Y OTROS)",null,{"$f":"SUM(J25:S25)","v":0},null,null,null,null,null,null,null,null,null,null,null,null,null,null,null,null,null,null,null,null,null,null,null,null,null,null,null,"",null,null,null,null,null,null,null,null,null,null,null,null,null,null,null,null,null,null,null,null,null,null,null,null,null,null,null,null,null,null,null,null,null,null,null,null,null,null,null,null,null,null,null,null,null,null,"",null,null,null,null,null,0]
[null,"VISITA GUIADA A LA MATERNIDAD",null,{"$f":"SUM(J26:S26)","v":0},null,null,null,null,null,null,null,null,null,null,null,null,null,null,null,null,null,null,null,null,null,null,null,null,null,null,null,"",null,null,null,null,null,null,null,null,null,null,null,null,null,null,null,null,null,null,null,null,null,null,null,null,null,null,null,null,null,null,null,null,null,null,null,null,null,null,null,null,null,null,null,null,null,null,"",null,null,null,null,null,0]
[null,"PROMOCIÓN DE SALUD MENTAL",null,{"$f":"SUM(H27:X27)","v":0},null,null,null,null,null,null,null,null,null,null,null,null,null,null,null,null,null,null,null,null,null,null,null,null,null,null,null,"",null,null,null,null,null,null,null,null,null,null,null,null,null,null,null,null,null,null,null,null,null,null,null,null,null,null,null,null,null,null,null,null,null,null,null,null,null,null,null,null,null,null,null,null,null,null,"",null,null,null,null,null,0]
[null,"PROMOCIÓN DEL DESARROLLO INFANTIL TEMPRANO","DEL LENGUAJE",{"$f":"SUM(E28:F28)","v":0},null,null,null,null,null,null,null,null,null,null,null,null,null,null,null,null,null,null,null,null,null,null,null,null,null,null,null,"",null,null,null,null,null,null,null,null,null,null,null,null,null,null,null,null,null,null,null,null,null,null,null,null,null,null,null,null,null,null,null,null,null,null,null,null,null,null,null,null,null,null,null,null,null,null,"",null,null,null,null,null,0]
[null,null,"MOTOR",{"$f":"SUM(E29:G29)","v":0},null,null,null,null,null,null,null,null,null,null,null,null,null,null,null,null,null,null,null,null,null,null,null,null,null,null,null,"",null,null,null,null,null,null,null,null,null,null,null,null,null,null,null,null,null,null,null,null,null,null,null,null,null,null,null,null,null,null,null,null,null,null,null,null,null,null,null,null,null,null,null,null,null,null,"",null,null,null,null,null,0]
[null,null,"OTROS",{"$f":"SUM(E30:G30)","v":0},null,null,null,null,null,null,null,null,null,null,null,null,null,null,null,null,null,null,null,null,null,null,null,null,null,null,null,"",null,null,null,null,null,null,null,null,null,null,null,null,null,null,null,null,null,null,null,null,null,null,null,null,null,null,null,null,null,null,null,null,null,null,null,null,null,null,null,null,null,null,null,null,null,null,"",null,null,null,null,null,0]
[null,"HABILIDADES PARENTALES","NADIE ES PERFECTO",{"$f":"SUM(E31:H31)","v":0},null,null,null,null,null,null,null,null,null,null,null,null,null,null,null,null,null,null,null,null,null,null,null,null,null,null,null,"",null,null,null,null,null,null,null,null,null,null,null,null,null,null,null,null,null,null,null,null,null,null,null,null,null,null,null,null,null,null,null,null,null,null,null,null,null,null,null,null,null,null,null,null,null,null,"",null,null,null,null,null,0]
[null,null,"FAMILIAS FUERTES",{"$f":"SUM(E32:I32)","v":0},null,null,null,null,null,null,null,null,null,null,null,null,null,null,null,null,null,null,null,null,null,null,null,null,null,null,null,"",null,null,null,null,null,null,null,null,null,null,null,null,null,null,null,null,null,null,null,null,null,null,null,null,null,null,null,null,null,null,null,null,null,null,null,null,null,null,null,null,null,null,null,null,null,null,"",null,null,null,null,null,0]
[null,null,"OTROS",{"$f":"SUM(E33:I33)","v":0},null,null,null,null,null,null,null,null,null,null,null,null,null,null,null,null,null,null,null,null,null,null,null,null,null,null,null,"",null,null,null,null,null,null,null,null,null,null,null,null,null,null,null,null,null,null,null,null,null,null,null,null,null,null,null,null,null,null,null,null,null,null,null,null,null,null,null,null,null,null,null,null,null,null,"",null,null,null,null,null,0]
[null,"APOYO MADRE A MADRE",null,{"$f":"SUM(E34:X34)","v":0},null,null,null,null,null,null,null,null,null,null,null,null,null,null,null,null,null,null,null,null,null,null,null,null,null,null,null,"",null,null,null,null,null,null,null,null,null,null,null,null,null,null,null,null,null,null,null,null,null,null,null,null,null,null,null,null,null,null,null,null,null,null,null,null,null,null,null,null,null,null,null,null,null,null,"",null,null,null,null,null,0]
[null,"PREVENCIÓN DE SALUD MENTAL ","PREVENCIÓN SUICIDIO",{"$f":"SUM(E35:X35)","v":0},null,null,null,null,null,null,null,null,null,null,null,null,null,null,null,null,null,null,null,null,null,null,null,null,null,null,null,"",null,null,null,null,null,null,null,null,null,null,null,null,null,null,null,null,null,null,null,null,null,null,null,null,null,null,null,null,null,null,null,null,null,null,null,null,null,null,null,null,null,null,null,null,null,null,"",null,null,null,null,null,0]
[null,null,"PREVENCIÓN TRASTORNO MENTAL",{"$f":"SUM(E36:X36)","v":0},null,null,null,null,null,null,null,null,null,null,null,null,null,null,null,null,null,null,null,null,null,null,null,null,null,null,null,"",null,null,null,null,null,null,null,null,null,null,null,null,null,null,null,null,null,null,null,null,null,null,null,null,null,null,null,null,null,null,null,null,null,null,null,null,null,null,null,null,null,null,null,null,null,null,"",null,null,null,null,null,0]
[null,"PREVENCIÓN ALCOHOL Y DROGAS",null,{"$f":"SUM(E37:X37)","v":0},null,null,null,null,null,null,null,null,null,null,null,null,null,null,null,null,null,null,null,null,null,null,null,null,null,null,null,"",null,null,null,null,null,null,null,null,null,null,null,null,null,null,null,null,null,null,null,null,null,null,null,null,null,null,null,null,null,null,null,null,null,null,null,null,null,null,null,null,null,null,null,null,null,null,"",null,null,null,null,null,0]
[null,"ANTITABÁQUICA (excluye REM 23)",null,{"$f":"SUM(E38:X38)","v":0},null,null,null,null,null,null,null,null,null,null,null,null,null,null,null,null,null,null,null,null,null,null,null,null,null,null,null,"",null,null,null,null,null,null,null,null,null,null,null,null,null,null,null,null,null,null,null,null,null,null,null,null,null,null,null,null,null,null,null,null,null,null,null,null,null,null,null,null,null,null,null,null,null,null,"",null,null,null,null,null,0]
[null,"PREVENCIÓN DE LA TRANSMISIÓN VERTICAL DE VIH-SÍFILIS",null,{"$f":"SUM(J39:S39)","v":0},null,null,null,null,null,null,null,null,null,null,null,null,null,null,null,null,null,null,null,null,null,null,null,null,null,null,null,"",null,null,null,null,null,null,null,null,null,null,null,null,null,null,null,null,null,null,null,null,null,null,null,null,null,null,null,null,null,null,null,null,null,null,null,null,null,null,null,null,null,null,null,null,null,null,"",null,null,null,null,null,0]
[null,"OTRAS ÁREAS TEMÁTICAS",null,{"$f":"SUM(E40:X40)","v":0},null,null,null,null,null,null,null,null,null,null,null,null,null,null,null,null,null,null,null,null,null,null,null,null,null,null,null,"",null,null,null,null,null,null,null,null,null,null,null,null,null,null,null,null,null,null,null,null,null,null,null,null,null,null,null,null,null,null,null,null,null,null,null,null,null,null,null,null,null,null,null,null,null,null,"",null,null,null,null,null,0]
[null,"EDUCACIÓN ESPECIAL EN ADULTO MAYOR","ESTIMULACIÓN DE MEMORIA",{"$f":"SUM(U41:X41)","v":0},null,null,null,null,null,null,null,null,null,null,null,null,null,null,null,null,null,null,null,null,null,null,null,null,null,null,null,"",null,null,null,null,null,null,null,null,null,null,null,null,null,null,null,null,null,null,null,null,null,null,null,null,null,null,null,null,null,null,null,null,null,null,null,null,null,null,null,null,null,null,null,null,null,null,"",null,null,null,null,null,0]
[null,null,"PREVENCIÓN CAÍDAS",{"$f":"SUM(U42:X42)","v":0},null,null,null,null,null,null,null,null,null,null,null,null,null,null,null,null,null,null,null,null,null,null,null,null,null,null,null,"",null,null,null,null,null,null,null,null,null,null,null,null,null,null,null,null,null,null,null,null,null,null,null,null,null,null,null,null,null,null,null,null,null,null,null,null,null,null,null,null,null,null,null,null,null,null,"",null,null,null,null,null,0]
[null,null,"ESTIMULACIÓN DE ACTIVIDAD FÍSICA",{"$f":"SUM(U43:X43)","v":0},null,null,null,null,null,null,null,null,null,null,null,null,null,null,null,null,null,null,null,null,null,null,null,null,null,null,null,"",null,null,null,null,null,null,null,null,null,null,null,null,null,null,null,null,null,null,null,null,null,null,null,null,null,null,null,null,null,null,null,null,null,null,null,null,null,null,null,null,null,null,null,null,null,null,"",null,null,null,null,null,0]
[null,"USO RACIONAL DE MEDICAMENTOS",null,{"$f":"SUM(E44:X44)","v":0},null,null,null,null,null,null,null,null,null,null,null,null,null,null,null,null,null,null,null,null,null,null,null,null,null,null,null,"",null,null,null,null,null,null,null,null,null,null,null,null,null,null,null,null,null,null,null,null,null,null,null,null,null,null,null,null,null,null,null,null,null,null,null,null,null,null,null,null,null,null,null,null,null,null,"",null,null,null,null,null,0]
[null,"RESISTENCIA ANTIMICROBIANOS",null,{"$f":"SUM(E45:X45)","v":0},null,null,null,null,null,null,null,null,null,null,null,null,null,null,null,null,null,null,null,null,null,null,null,null,null,null,null,"",null,null,null,null,null,null,null,null,null,null,null,null,null,null,null,null,null,null,null,null,null,null,null,null,null,null,null,null,null,null,null,null,null,null,null,null,null,null,null,null,null,null,null,null,null,null,"",null,null,null,null,null,0]
[null,"TOTAL",null,{"$f":"SUM(E46:X46)","v":0},{"$f":"SUM(E11:E45)","v":0},{"$f":"SUM(F11:F45)","v":0},0,0,0,0,0,0,0,0,0,0,0,0,0,0,0,0,{"$f":"SUM(W11:W45)","v":0},0,0,0,0,0,0,0,{"$f":"SUM(AE11:AE45)","v":0}]
["SECCIÓN B: ACTIVIDADES DE EDUCACIÓN PARA LA SALUD SEGÚN PERSONAL QUE LAS REALIZA (SESIONES)"]
["ÁREAS TEMÁTICAS DE PREVENCIÓN",null,null,"TOTAL","UN PROFESIONAL","DOS O MÁS PROFESIO- NALES","UN PROFESIONAL Y UN TÉCNICO PARAMÉDICO","TÉCNICO \nPARAMÉ-\nDICO","FACILITADOR/A INTERCULTURAL PUEBLOS ORIGINARIOS"]
["EDUCACIÓN DE GRUPO","ESTIMULACIÓN DESARROLLO PSICOMOTOR",null,{"$f":"SUM(E49:H49)","v":0},null,null,null,null,null,{"$f":"CA49","v":""},null,null,null,null,null,null,null,null,null,null,null,null,null,null,null,null,null,null,null,null,null,null,null,null,null,null,null,null,null,null,null,null,null,null,null,null,null,null,null,null,null,null,null,null,null,null,null,null,null,null,null,null,null,null,null,null,null,null,null,null,null,null,null,null,null,null,null,null,{"$f":"IF(CG49=1,\"* En esta área en Sección A se consignan personas pero falta registrar la Sesión. \",\"\")","v":""},null,null,null,null,null,{"$f":"IF(AND(D49=0,D11<>0),1,0)","v":0}]
[null,"NUTRICIÓN","RIESGO DE MALNUTRICIÓN POR EXCESO",0,null,null,null,null,null,{"$f":"CA50","v":""},null,null,null,null,null,null,null,null,null,null,null,null,null,null,null,null,null,null,null,null,null,null,null,null,null,null,null,null,null,null,null,null,null,null,null,null,null,null,null,null,null,null,null,null,null,null,null,null,null,null,null,null,null,null,null,null,null,null,null,null,null,null,null,null,null,null,null,null,{"$f":"IF(CG50=1,\"* En esta área en Sección A se consignan personas pero falta registrar la Sesión. \",\"\")","v":""},null,null,null,null,null,0]
[null,null,"MALNUTRICIÓN POR EXCESO",0,null,null,null,null,null,"",null,null,null,null,null,null,null,null,null,null,null,null,null,null,null,null,null,null,null,null,null,null,null,null,null,null,null,null,null,null,null,null,null,null,null,null,null,null,null,null,null,null,null,null,null,null,null,null,null,null,null,null,null,null,null,null,null,null,null,null,null,null,null,null,null,null,null,null,"",null,null,null,null,null,0]
[null,null,"MALNUTRICIÓN DE DÉFICIT",0,null,null,null,null,null,"",null,null,null,null,null,null,null,null,null,null,null,null,null,null,null,null,null,null,null,null,null,null,null,null,null,null,null,null,null,null,null,null,null,null,null,null,null,null,null,null,null,null,null,null,null,null,null,null,null,null,null,null,null,null,null,null,null,null,null,null,null,null,null,null,null,null,null,null,"",null,null,null,null,null,0]
[null,null,"SIN RIESGO DE MALNUTRICIÓN",0,null,null,null,null,null,"",null,null,null,null,null,null,null,null,null,null,null,null,null,null,null,null,null,null,null,null,null,null,null,null,null,null,null,null,null,null,null,null,null,null,null,null,null,null,null,null,null,null,null,null,null,null,null,null,null,null,null,null,null,null,null,null,null,null,null,null,null,null,null,null,null,null,null,null,"",null,null,null,null,null,0]
[null,"PREVENCIÓN DE IRA - ERA",null,0,null,null,null,null,null,"",null,null,null,null,null,null,null,null,null,null,null,null,null,null,null,null,null,null,null,null,null,null,null,null,null,null,null,null,null,null,null,null,null,null,null,null,null,null,null,null,null,null,null,null,null,null,null,null,null,null,null,null,null,null,null,null,null,null,null,null,null,null,null,null,null,null,null,null,"",null,null,null,null,null,0]
[null,"PREVENCIÓN DE ACCIDENTES",null,0,null,null,null,null,null,"",null,null,null,null,null,null,null,null,null,null,null,null,null,null,null,null,null,null,null,null,null,null,null,null,null,null,null,null,null,null,null,null,null,null,null,null,null,null,null,null,null,null,null,null,null,null,null,null,null,null,null,null,null,null,null,null,null,null,null,null,null,null,null,null,null,null,null,null,"",null,null,null,null,null,0]
[null,"SALUD BUCO-DENTAL",null,0,null,null,null,null,null,"",null,null,null,null,null,null,null,null,null,null,null,null,null,null,null,null,null,null,null,null,null,null,null,null,null,null,null,null,null,null,null,null,null,null,null,null,null,null,null,null,null,null,null,null,null,null,null,null,null,null,null,null,null,null,null,null,null,null,null,null,null,null,null,null,null,null,null,null,"",null,null,null,null,null,0]
[null,"PREVENCIÓN VIOLENCIA DE GÉNERO",null,0,null,null,null,null,null,"",null,null,null,null,null,null,null,null,null,null,null,null,null,null,null,null,null,null,null,null,null,null,null,null,null,null,null,null,null,null,null,null,null,null,null,null,null,null,null,null,null,null,null,null,null,null,null,null,null,null,null,null,null,null,null,null,null,null,null,null,null,null,null,null,null,null,null,null,"",null,null,null,null,null,0]
[null,"SALUD SEXUAL Y REPRODUCTIVA",null,0,null,null,null,null,null,"",null,null,null,null,null,null,null,null,null,null,null,null,null,null,null,null,null,null,null,null,null,null,null,null,null,null,null,null,null,null,null,null,null,null,null,null,null,null,null,null,null,null,null,null,null,null,null,null,null,null,null,null,null,null,null,null,null,null,null,null,null,null,null,null,null,null,null,null,"",null,null,null,null,null,{"$f":"IF(AND(D58=0,OR(D20<>0,D21<>0,D22<>0,D23<>0)),1,0)","v":0}]
[null,"TALLERES DE CLIMATERIO",null,0,null,null,null,null,null,"",null,null,null,null,null,null,null,null,null,null,null,null,null,null,null,null,null,null,null,null,null,null,null,null,null,null,null,null,null,null,null,null,null,null,null,null,null,null,null,null,null,null,null,null,null,null,null,null,null,null,null,null,null,null,null,null,null,null,null,null,null,null,null,null,null,null,null,null,"",null,null,null,null,null,{"$f":"IF(AND(D59=0,D24<>0),1,0)","v":0}]
[null,"EDUCACIÓN PRENATAL (NUTRICIÓN - LACTANCIA - CRIANZA - AUTOCUIDADO - PREPARACIÓN PARTO Y OTROS)",null,0,null,null,null,null,null,"",null,null,null,null,null,null,null,null,null,null,null,null,null,null,null,null,null,null,null,null,null,null,null,null,null,null,null,null,null,null,null,null,null,null,null,null,null,null,null,null,null,null,null,null,null,null,null,null,null,null,null,null,null,null,null,null,null,null,null,null,null,null,null,null,null,null,null,null,"",null,null,null,null,null,{"$f":"IF(AND(D60=0,D25<>0),1,0)","v":0}]
[null,"VISITA GUIADA A LA MATERNIDAD",null,{"$f":"SUM(E61:H61)","v":0},null,null,null,null,null,"",null,null,null,null,null,null,null,null,null,null,null,null,null,null,null,null,null,null,null,null,null,null,null,null,null,null,null,null,null,null,null,null,null,null,null,null,null,null,null,null,null,null,null,null,null,null,null,null,null,null,null,null,null,null,null,null,null,null,null,null,null,null,null,null,null,null,null,null,"",null,null,null,null,null,{"$f":"IF(AND(D61=0,D26<>0),1,0)","v":0}]
[null,"PROMOCIÓN DE SALUD MENTAL",null,0,null,null,null,null,null,"",null,null,null,null,null,null,null,null,null,null,null,null,null,null,null,null,null,null,null,null,null,null,null,null,null,null,null,null,null,null,null,null,null,null,null,null,null,null,null,null,null,null,null,null,null,null,null,null,null,null,null,null,null,null,null,null,null,null,null,null,null,null,null,null,null,null,null,null,"",null,null,null,null,null,{"$f":"IF(AND(D62=0,D27<>0),1,0)","v":0}]
[null,"PROMOCIÓN DEL DESARROLLO INFANTIL TEMPRANO","DEL LENGUAJE",0,null,null,null,null,null,"",null,null,null,null,null,null,null,null,null,null,null,null,null,null,null,null,null,null,null,null,null,null,null,null,null,null,null,null,null,null,null,null,null,null,null,null,null,null,null,null,null,null,null,null,null,null,null,null,null,null,null,null,null,null,null,null,null,null,null,null,null,null,null,null,null,null,null,null,"",null,null,null,null,null,0]
[null,null,"MOTOR",0,null,null,null,null,null,"",null,null,null,null,null,null,null,null,null,null,null,null,null,null,null,null,null,null,null,null,null,null,null,null,null,null,null,null,null,null,null,null,null,null,null,null,null,null,null,null,null,null,null,null,null,null,null,null,null,null,null,null,null,null,null,null,null,null,null,null,null,null,null,null,null,null,null,null,"",null,null,null,null,null,0]
[null,null,"OTROS",0,null,null,null,null,null,"",null,null,null,null,null,null,null,null,null,null,null,null,null,null,null,null,null,null,null,null,null,null,null,null,null,null,null,null,null,null,null,null,null,null,null,null,null,null,null,null,null,null,null,null,null,null,null,null,null,null,null,null,null,null,null,null,null,null,null,null,null,null,null,null,null,null,null,null,"",null,null,null,null,null,0]
[null,"HABILIDADES PARENTALES","NADIE ES PERFECTO",0,null,null,null,null,null,"",null,null,null,null,null,null,null,null,null,null,null,null,null,null,null,null,null,null,null,null,null,null,null,null,null,null,null,null,null,null,null,null,null,null,null,null,null,null,null,null,null,null,null,null,null,null,null,null,null,null,null,null,null,null,null,null,null,null,null,null,null,null,null,null,null,null,null,null,"",null,null,null,null,null,0]
[null,null,"FAMILIAS FUERTES",0,null,null,null,null,null,"",null,null,null,null,null,null,null,null,null,null,null,null,null,null,null,null,null,null,null,null,null,null,null,null,null,null,null,null,null,null,null,null,null,null,null,null,null,null,null,null,null,null,null,null,null,null,null,null,null,null,null,null,null,null,null,null,null,null,null,null,null,null,null,null,null,null,null,null,"",null,null,null,null,null,0]
[null,null,"OTROS",0,null,null,null,null,null,"",null,null,null,null,null,null,null,null,null,null,null,null,null,null,null,null,null,null,null,null,null,null,null,null,null,null,null,null,null,null,null,null,null,null,null,null,null,null,null,null,null,null,null,null,null,null,null,null,null,null,null,null,null,null,null,null,null,null,null,null,null,null,null,null,null,null,null,null,"",null,null,null,null,null,0]
[null,"APOYO MADRE A MADRE",null,0,null,null,null,null,null,"",null,null,null,null,null,null,null,null,null,null,null,null,null,null,null,null,null,null,null,null,null,null,null,null,null,null,null,null,null,null,null,null,null,null,null,null,null,null,null,null,null,null,null,null,null,null,null,null,null,null,null,null,null,null,null,null,null,null,null,null,null,null,null,null,null,null,null,null,"",null,null,null,null,null,0]
[null,"PREVENCIÓN DE SALUD MENTAL ","PREVENCIÓN SUICIDIO",0,null,null,null,null,null,"",null,null,null,null,null,null,null,null,null,null,null,null,null,null,null,null,null,null,null,null,null,null,null,null,null,null,null,null,null,null,null,null,null,null,null,null,null,null,null,null,null,null,null,null,null,null,null,null,null,null,null,null,null,null,null,null,null,null,null,null,null,null,null,null,null,null,null,null,"",null,null,null,null,null,0]
[null,null,"PREVENCIÓN TRASTORNO MENTAL",0,null,null,null,null,null,"",null,null,null,null,null,null,null,null,null,null,null,null,null,null,null,null,null,null,null,null,null,null,null,null,null,null,null,null,null,null,null,null,null,null,null,null,null,null,null,null,null,null,null,null,null,null,null,null,null,null,null,null,null,null,null,null,null,null,null,null,null,null,null,null,null,null,null,null,"",null,null,null,null,null,0]
[null,"PREVENCIÓN ALCOHOL Y DROGAS",null,0,null,null,null,null,null,"",null,null,null,null,null,null,null,null,null,null,null,null,null,null,null,null,null,null,null,null,null,null,null,null,null,null,null,null,null,null,null,null,null,null,null,null,null,null,null,null,null,null,null,null,null,null,null,null,null,null,null,null,null,null,null,null,null,null,null,null,null,null,null,null,null,null,null,null,"",null,null,null,null,null,0]
[null,"ANTITABÁQUICA (excluye REM 23)",null,0,null,null,null,null,null,"",null,null,null,null,null,null,null,null,null,null,null,null,null,null,null,null,null,null,null,null,null,null,null,null,null,null,null,null,null,null,null,null,null,null,null,null,null,null,null,null,null,null,null,null,null,null,null,null,null,null,null,null,null,null,null,null,null,null,null,null,null,null,null,null,null,null,null,null,"",null,null,null,null,null,0]
[null,"PREVENCIÓN DE LA TRANSMISIÓN VERTICAL DE VIH-SÍFILIS",null,0,null,null,null,null,null,"",null,null,null,null,null,null,null,null,null,null,null,null,null,null,null,null,null,null,null,null,null,null,null,null,null,null,null,null,null,null,null,null,null,null,null,null,null,null,null,null,null,null,null,null,null,null,null,null,null,null,null,null,null,null,null,null,null,null,null,null,null,null,null,null,null,null,null,null,"",null,null,null,null,null,0]
[null,"OTRAS ÁREAS TEMÁTICAS",null,0,null,null,null,null,null,"",null,null,null,null,null,null,null,null,null,null,null,null,null,null,null,null,null,null,null,null,null,null,null,null,null,null,null,null,null,null,null,null,null,null,null,null,null,null,null,null,null,null,null,null,null,null,null,null,null,null,null,null,null,null,null,null,null,null,null,null,null,null,null,null,null,null,null,null,"",null,null,null,null,null,0]
[null,"EDUCACIÓN ESPECIAL EN ADULTO MAYOR","ESTIMULACIÓN DE MEMORIA",0,null,null,null,null,null,"",null,null,null,null,null,null,null,null,null,null,null,null,null,null,null,null,null,null,null,null,null,null,null,null,null,null,null,null,null,null,null,null,null,null,null,null,null,null,null,null,null,null,null,null,null,null,null,null,null,null,null,null,null,null,null,null,null,null,null,null,null,null,null,null,null,null,null,null,"",null,null,null,null,null,0]
[null,null,"PREVENCIÓN CAÍDAS",0,null,null,null,null,null,"",null,null,null,null,null,null,null,null,null,null,null,null,null,null,null,null,null,null,null,null,null,null,null,null,null,null,null,null,null,null,null,null,null,null,null,null,null,null,null,null,null,null,null,null,null,null,null,null,null,null,null,null,null,null,null,null,null,null,null,null,null,null,null,null,null,null,null,null,"",null,null,null,null,null,0]
[null,null,"ESTIMULACIÓN DE ACTIVIDAD FÍSICA",0,null,null,null,null,null,"",null,null,null,null,null,null,null,null,null,null,null,null,null,null,null,null,null,null,null,null,null,null,null,null,null,null,null,null,null,null,null,null,null,null,null,null,null,null,null,null,null,null,null,null,null,null,null,null,null,null,null,null,null,null,null,null,null,null,null,null,null,null,null,null,null,null,null,null,"",null,null,null,null,null,0]
[null,"USO RACIONAL DE MEDICAMENTOS",null,{"$f":"SUM(E79:H79)","v":0},null,null,null,null,null,"",null,null,null,null,null,null,null,null,null,null,null,null,null,null,null,null,null,null,null,null,null,null,null,null,null,null,null,null,null,null,null,null,null,null,null,null,null,null,null,null,null,null,null,null,null,null,null,null,null,null,null,null,null,null,null,null,null,null,null,null,null,null,null,null,null,null,null,null,"",null,null,null,null,null,0]
[null,"RESISTENCIA ANTIMICROBIANOS",null,{"$f":"SUM(E80:H80)","v":0},null,null,null,null,null,"",null,null,null,null,null,null,null,null,null,null,null,null,null,null,null,null,null,null,null,null,null,null,null,null,null,null,null,null,null,null,null,null,null,null,null,null,null,null,null,null,null,null,null,null,null,null,null,null,null,null,null,null,null,null,null,null,null,null,null,null,null,null,null,null,null,null,null,null,"",null,null,null,null,null,0]
[null,"TOTAL",null,{"$f":"SUM(E81:H81)","v":0},{"$f":"SUM(E49:E80)","v":0},{"$f":"SUM(F49:F80)","v":0},{"$f":"SUM(G49:G80)","v":0},{"$f":"SUM(H49:H80)","v":0},{"$f":"SUM(I49:I80)","v":0}]
["SECCIÓN C: ACTIVIDAD FÍSICA GRUPAL PARA PROGRAMA SALUD CARDIOVASCULAR (SESIONES)"]
["GRUPO DE EDAD",null,null,"TOTAL SESIONES","PROFESOR\nEDUCACIÓN FÍSICA","KINESIÓLOGO","OTROS PROFESIONALES","TÉCNICO PARAMÉDICO"]
["10 A 19 AÑOS",null,null,{"$f":"SUM(E84:H84)","v":0},0,0,0,0]
["20 A 24 AÑOS",null,null,{"$f":"SUM(E85:H85)","v":0},0,0,0,0]
["25 A 64 AÑOS",null,null,{"$f":"SUM(E86:H86)","v":51},51,0,0,0]
["65 Y MÁS",null,null,{"$f":"SUM(E87:H87)","v":19},19,0,0,0]
["TOTAL",null,null,{"$f":"SUM(E88:H88)","v":70},{"$f":"SUM(E84:E87)","v":70},{"$f":"SUM(F84:F87)","v":0},{"$f":"SUM(G84:G87)","v":0},{"$f":"SUM(H84:H87)","v":0}]
["SECCIÓN D: EDUCACIÓN GRUPAL A GESTANTES DE ALTO RIESGO OBSTÉTRICO (Nivel Secundario)"]
["TEMAS",null,null,"TOTAL \nSESIONES"]
["AUTOCUIDADO SEGÚN PATOLOGÍA"]
["PREPARACIÓN PARA EL PARTO"]
["TALLER DE EDUCACIÓN PRENATAL"]
["SECCIÓN E: TALLERES PROGRAMA \"MÁS A.M AUTOVALENTES\""]
["TALLER",null,null,"Nº DE SESIONES","Nº DE PARTICIPANTES"]
[]
["ESTIMULACIÓN DE FUNCIONES MOTORAS Y PREVENCIÓN DE CAÍDAS",null,null,62,704]
["ESTIMULACIÓN DE FUNCIONES  COGNITIVA",null,null,43,576]
["AUTOCUIDADO Y ESTILOS DE VIDA SALUDABLE",null,null,28,210]
["SECCIÓN F: TALLERES PROGRAMA ELIGE VIDA SANA"]
["TALLER",null,null,"Nº DE SESIONES","Nº DE PARTICIPAN- TES","MADRE, PADRE O CUIDADOR DE :",null,"POR EDAD",null,null,null,null,null,null,null,null,null,null,null,null,null,"Gestantes","Post Parto"]
[null,null,null,null,null,"Menores de 1 año","Niños 12 a 23 meses","menor de 2 años","2 a 4","5 a 9","10 a 14","15 a 19","20 a 24","25 - 29","30 - 34","35 - 39","40 - 44","45 - 49","50 - 54","55 - 59","60 - 64"]
["CIRCULO DE ACTIVIDAD FÍSICA",null,null,36,{"$f":"+F103+G103+H103+I103+J103+K103+L103+M103+N103+O103+P103+Q103+R103+S103+T103+U103","v":243},null,null,null,null,1,85,65,0,11,5,12,30,8,2,17,7,0,0,{"$f":"CA103&CB103","v":""},null,null,null,null,null,null,null,null,null,null,null,null,null,null,null,null,null,null,null,null,null,null,null,null,null,null,null,null,null,null,null,null,null,null,null,null,null,null,null,null,null,null,null,null,null,null,null,null,null,null,null,null,null,null,{"$f":"IF(CG103=1,\" * No olvide agregar la columna Gestantes y/o Post Parto (Digite Cero si no tiene). \",\"\")","v":""},{"$f":"IF(CH103=1,\" * La suma de Gestantes y Post Parto debe ser menor o igual al total de participantes.\",\"\")","v":""},null,null,null,null,{"$f":"IF(AND(E103<>0,OR(V103=\"\",W103=\"\")),1,0)","v":0},{"$f":"IF((V103+W103)>E103,1,0)","v":0}]
["CIRCULO DE VIDA SANA",null,null,2,{"$f":"+F104+G104+H104+I104+J104+K104+L104+M104+N104+O104+P104+Q104+R104+S104+T104+U104","v":2},null,null,null,null,0,0,2,0,0,0,0,0,0,0,0,0,0,0,{"$f":"CA104&CB104","v":""},null,null,null,null,null,null,null,null,null,null,null,null,null,null,null,null,null,null,null,null,null,null,null,null,null,null,null,null,null,null,null,null,null,null,null,null,null,null,null,null,null,null,null,null,null,null,null,null,null,null,null,null,null,null,{"$f":"IF(CG104=1,\" * No olvide agregar la columna Gestantes y/o Post Parto (Digite Cero si no tiene). \",\"\")","v":""},{"$f":"IF(CH104=1,\" * La suma de Gestantes y Post Parto debe ser menor o igual al total de participantes.\",\"\")","v":""},null,null,null,null,{"$f":"IF(AND(E104<>0,OR(V104=\"\",W104=\"\")),1,0)","v":0},{"$f":"IF((V104+W104)>E104,1,0)","v":0}]
["ACTIVIDADES MASIVAS",null,null,0,{"$f":"+F105+G105+H105+I105+J105+K105+L105+M105+N105+O105+P105+Q105+R105+S105+T105+U105","v":0},null,null,null,null,0,0,0,0,0,0,0,0,0,0,0,0,0,0,{"$f":"CA105&CB105","v":""},null,null,null,null,null,null,null,null,null,null,null,null,null,null,null,null,null,null,null,null,null,null,null,null,null,null,null,null,null,null,null,null,null,null,null,null,null,null,null,null,null,null,null,null,null,null,null,null,null,null,null,null,null,null,{"$f":"IF(CG105=1,\" * No olvide agregar la columna Gestantes y/o Post Parto (Digite Cero si no tiene). \",\"\")","v":""},{"$f":"IF(CH105=1,\" * La suma de Gestantes y Post Parto debe ser menor o igual al total de participantes.\",\"\")","v":""},null,null,null,null,{"$f":"IF(AND(E105<>0,OR(V105=\"\",W105=\"\")),1,0)","v":0},{"$f":"IF((V105+W105)>E105,1,0)","v":0}]
["SECCIÓN G: INTERVENCIONES POR PATRÓN DE CONSUMO DE ALCOHOL, TABACO Y OTRAS DROGAS"]
["TIPO DE INTERVENCIÓN",null,null,"Nº DE INTERVENCIONES","POR EDAD",null,null,null,null,null,"SEXO"]
[null,null,null,null,"10-14 años","15-19 años","20-24 años","25-44 años","45-64 años","65 o más","Hombres","Mujeres"]
["INTERVENCIÓN MÍNIMA\n(BAJO RIESGO)",null," ALCOHOL",{"$f":"SUM(E109:J109)","v":2},0,0,0,0,2,0,1,1,{"$f":"CA109","v":""},null,null,null,null,null,null,null,null,null,null,null,null,null,null,null,null,null,null,null,null,null,null,null,null,null,null,null,null,null,null,null,null,null,null,null,null,null,null,null,null,null,null,null,null,null,null,null,null,null,null,null,null,null,null,null,null,null,null,null,null,null,null,null,null,null,{"$f":"IF(CG109=1,\"* La Suma por edad NO DEBE ser distinto al total por Sexo. \",\"\")","v":""},null,null,null,null,null,{"$f":"IF((K109+L109)<>(E109+F109+G109+H109+I109+J109),1,0)","v":0}]
[null,null," TABACO",{"$f":"SUM(E110:J110)","v":1},0,0,0,1,0,0,0,1,{"$f":"CA110","v":""},null,null,null,null,null,null,null,null,null,null,null,null,null,null,null,null,null,null,null,null,null,null,null,null,null,null,null,null,null,null,null,null,null,null,null,null,null,null,null,null,null,null,null,null,null,null,null,null,null,null,null,null,null,null,null,null,null,null,null,null,null,null,null,null,null,{"$f":"IF(CG110=1,\"* La Suma por edad NO DEBE ser distinto al total por Sexo. \",\"\")","v":""},null,null,null,null,null,{"$f":"IF((K110+L110)<>(E110+F110+G110+H110+I110+J110),1,0)","v":0}]
[null,null," DROGAS",0,0,0,0,0,0,0,0,0,"",null,null,null,null,null,null,null,null,null,null,null,null,null,null,null,null,null,null,null,null,null,null,null,null,null,null,null,null,null,null,null,null,null,null,null,null,null,null,null,null,null,null,null,null,null,null,null,null,null,null,null,null,null,null,null,null,null,null,null,null,null,null,null,null,null,"",null,null,null,null,null,0]
["INTERVENCIÓN BREVE \n(RIESGO)",null," ALCOHOL",1,0,0,0,0,1,0,0,1,"",null,null,null,null,null,null,null,null,null,null,null,null,null,null,null,null,null,null,null,null,null,null,null,null,null,null,null,null,null,null,null,null,null,null,null,null,null,null,null,null,null,null,null,null,null,null,null,null,null,null,null,null,null,null,null,null,null,null,null,null,null,null,null,null,null,"",null,null,null,null,null,0]
[null,null," TABACO",0,0,0,0,0,0,0,0,0,"",null,null,null,null,null,null,null,null,null,null,null,null,null,null,null,null,null,null,null,null,null,null,null,null,null,null,null,null,null,null,null,null,null,null,null,null,null,null,null,null,null,null,null,null,null,null,null,null,null,null,null,null,null,null,null,null,null,null,null,null,null,null,null,null,null,"",null,null,null,null,null,0]
[null,null," DROGAS",0,0,0,0,0,0,0,0,0,"",null,null,null,null,null,null,null,null,null,null,null,null,null,null,null,null,null,null,null,null,null,null,null,null,null,null,null,null,null,null,null,null,null,null,null,null,null,null,null,null,null,null,null,null,null,null,null,null,null,null,null,null,null,null,null,null,null,null,null,null,null,null,null,null,null,"",null,null,null,null,null,0]
["INTERVENCIÓN REFERENCIA ASISTIDA\n(PERJUDICIAL O DEPENDENCIA)",null," ALCOHOL",0,null,null,null,null,null,null,null,null,"",null,null,null,null,null,null,null,null,null,null,null,null,null,null,null,null,null,null,null,null,null,null,null,null,null,null,null,null,null,null,null,null,null,null,null,null,null,null,null,null,null,null,null,null,null,null,null,null,null,null,null,null,null,null,null,null,null,null,null,null,null,null,null,null,null,"",null,null,null,null,null,0]
[null,null," TABACO",{"$f":"SUM(E116:J116)","v":0},null,null,null,null,null,null,null,null,"",null,null,null,null,null,null,null,null,null,null,null,null,null,null,null,null,null,null,null,null,null,null,null,null,null,null,null,null,null,null,null,null,null,null,null,null,null,null,null,null,null,null,null,null,null,null,null,null,null,null,null,null,null,null,null,null,null,null,null,null,null,null,null,null,null,"",null,null,null,null,null,0]
[null,null," DROGAS",0,null,null,null,null,null,null,null,null,"",null,null,null,null,null,null,null,null,null,null,null,null,null,null,null,null,null,null,null,null,null,null,null,null,null,null,null,null,null,null,null,null,null,null,null,null,null,null,null,null,null,null,null,null,null,null,null,null,null,null,null,null,null,null,null,null,null,null,null,null,null,null,null,null,null,"",null,null,null,null,null,{"$f":"IF((K117+L117)<>(E117+F117+G117+H117+I117+J117),1,0)","v":0}]
["SECCIÓN H: PERSONAS QUE INGRESAN A TALLERES PARA PADRES DEL PROGRAMA DE APOYO A LA SALUD MENTAL INFANTIL (PASMI)"]
["CONCEPTO","Total de Padres, Madres o Cuidadores de 5 a 9 años","Total de talleres","Total de sesiones"]
["Taller Nadie es Perfecto (PASMI)"]
["SECCIÓN I: ORGANIZACIONES SOCIALES DE LA RED DEL PROGRAMA MÁS ADULTOS MAYORES AUTOVALENTES"]
["CONCEPTO","POR TIPO DE ORGANIZACIÓN"]
[null,"N° Total de Organizaciones","Clubes de Adultos Mayores","Centros de Madres","Clubes Deportivos","Uniones Comunales de Adultos Mayores","Junta de Vecinos","Organizaciones Informales","Otras organizaciones Formales"]
["Organizaciones ingresadas al programa de estimilación funcional del programa más adultos mayores autovalentes \n",{"$f":"SUM(C124:I124)","v":9},4,0,0,0,0,5,0]
["Organizaciones con lideres comunitarios capcitados por el programa más adultos mayores autovalentes",{"$f":"SUM(C125:I125)","v":3},0,0,0,0,0,3,0]
["SECCIÓN J: SERVICIOS DE LA RED DEL PROGRAMA MÁS ADULTOS MAYORES AUTOVALENTES"]
["CONCEPTO","N° Total de Servicios","POR TIPO DE SERVICIO"]
[null,null,"Unidad Municipal de Personas Mayores ","Unidad Municipal de Atención Social","Unidad Municipal de Deportes","Unidad Municipal Turismo","Unidad Municipal Educación","Biblioteca Municipal","Unidad Cultural Municipal","Otras Unidades Municipales","Escuelas o Colegios","Universidades","Otras Unidades externas al Municipio"]
["Servicios Locales con oferta programatica para personas mayores (total o parcial)",{"$f":"SUM(C129:M129)","v":4},1,0,1,0,0,0,0,1,0,1,0]
["Servicios locales con planes intersectoriales para el fomento del autocuidado y estimulación funcionaldel desarrollo junto al programa mas adultos mayores autovalentes",{"$f":"SUM(C130:M130)","v":4},1,0,1,0,0,0,0,1,0,1,0]
["SECCIÓN K: TALLERES GRUPALES DE LACTANCIA MATERNA"]
["CONCEPTO","N° de Talleres","GRUPO DE EDAD (En años)"]
[null,null,"10 a 14 años","15 a 19 años","20 a 24 años","25 a 29 años","30 a 34 años","35 a 39 años","40 a 44 años","45 a 49 años","50 a 54 años","Pueblos Originarios","Migrantes"]
["Número de Talleres de Lactancia Materna realizada en Maternidades",null,null,null,null,null,null,null,null,null,null,null,null,{"$f":"CA134&CB134&CC134&CD134","v":""},null,null,null,null,null,null,null,null,null,null,null,null,null,null,null,null,null,null,null,null,null,null,null,null,null,null,null,null,null,null,null,null,null,null,null,null,null,null,null,null,null,null,null,null,null,null,null,null,null,null,null,null,null,null,null,null,null,null,null,null,null,null,null,null,{"$f":"IF(CG134=1,\"* No olvide ingresar la columna Pueblos Originarios (Digite cero si no tiene). \",\"\")","v":""},{"$f":"IF(CH134=1,\"* No olvide ingresar la columna Migrantes (Digite cero si no tiene). \",\"\")","v":""},{"$f":"IF(CI134=1,\"* El total de Pueblos Originarios NO DEBE superar la suma por grupo de edad. \",\"\")","v":""},{"$f":"IF(CJ134=1,\"* El total de Migrantes NO DEBE superar la suma por grupo de edad\",\"\")","v":""},null,null,{"$f":"IF(AND(L134=\"\",SUM(C134:K134)<>0),1,0)","v":0},{"$f":"IF(AND(M134=\"\",SUM(C134:K134)<>0),1,0)","v":0},{"$f":"IF(SUM(C134:K134)<L134,1,0)","v":0},{"$f":"IF(SUM(C134:K134)<M134,1,0)","v":0}]
["Número de Participantes de Talleres de Lactancia Materna realizada en Maternidades",null,null,null,null,null,null,null,null,null,null,null,null,{"$f":"CA135&CB135&CC135&CD135","v":""},null,null,null,null,null,null,null,null,null,null,null,null,null,null,null,null,null,null,null,null,null,null,null,null,null,null,null,null,null,null,null,null,null,null,null,null,null,null,null,null,null,null,null,null,null,null,null,null,null,null,null,null,null,null,null,null,null,null,null,null,null,null,null,null,{"$f":"IF(CG135=1,\"* No olvide ingresar la columna Pueblos Originarios (Digite cero si no tiene). \",\"\")","v":""},{"$f":"IF(CH135=1,\"* No olvide ingresar la columna Migrantes (Digite cero si no tiene). \",\"\")","v":""},{"$f":"IF(CI135=1,\"* El total de Pueblos Originarios NO DEBE superar la suma por grupo de edad. \",\"\")","v":""},{"$f":"IF(CJ135=1,\"* El total de Migrantes NO DEBE superar la suma por grupo de edad\",\"\")","v":""},null,null,{"$f":"IF(AND(L135=\"\",SUM(C135:K135)<>0),1,0)","v":0},{"$f":"IF(AND(M135=\"\",SUM(C135:K135)<>0),1,0)","v":0},{"$f":"IF(SUM(C135:K135)<L135,1,0)","v":0},{"$f":"IF(SUM(C135:K135)<M135,1,0)","v":0}]
["SECCIÓN L: TALLERES GRUPALES  DE LACTANCIA MATERNA EN ATENCIÓN PRIMARIA "]
["CONCEPTO","Nº DE TALLERES","POR RANGO ETARIO",null,null,null,"Pueblos Originarios","Migrantes"]
[null,null," De 0 a 29 días","De 1 mes a 2 meses 29 días","De 3 meses a 5 meses 29 días","De 6 meses a 11 meses 29 días"]
["Número de Talleres de Lactancia Materna realziada en Atención Primaria a menores de un año",null,null,null,null,null,null,null,{"$f":"CA139&CB139&CC139&CD139","v":""},null,null,null,null,null,null,null,null,null,null,null,null,null,null,null,null,null,null,null,null,null,null,null,null,null,null,null,null,null,null,null,null,null,null,null,null,null,null,null,null,null,null,null,null,null,null,null,null,null,null,null,null,null,null,null,null,null,null,null,null,null,null,null,null,null,null,null,null,null,{"$f":"IF(CG139=1,\"* No olvide ingresar la columna Pueblos Originarios (Digite cero si no tiene). \",\"\")","v":""},{"$f":"IF(CH139=1,\"* No olvide ingresar la columna Migrantes (Digite cero si no tiene). \",\"\")","v":""},{"$f":"IF(CI139=1,\"* El total de Pueblos Originarios NO DEBE superar la suma por grupo de edad. \",\"\")","v":""},{"$f":"IF(CJ139=1,\"* El total de Migrantes NO DEBE superar la suma por grupo de edad\",\"\")","v":""},null,null,{"$f":"IF(AND(G139=\"\",SUM(C139:F139)<>0),1,0)","v":0},{"$f":"IF(AND(H139=\"\",SUM(C139:F139)<>0),1,0)","v":0},{"$f":"IF(SUM(C139:F139)<G139,1,0)","v":0},{"$f":"IF(SUM(C139:F139)<H139,1,0)","v":0}]
["Número de participantes de Talleres de Lactancia Materna en Atención Primaria a Menores de un año",null,null,null,null,null,null,null,{"$f":"CA140&CB140&CC140&CD140","v":""},null,null,null,null,null,null,null,null,null,null,null,null,null,null,null,null,null,null,null,null,null,null,null,null,null,null,null,null,null,null,null,null,null,null,null,null,null,null,null,null,null,null,null,null,null,null,null,null,null,null,null,null,null,null,null,null,null,null,null,null,null,null,null,null,null,null,null,null,null,{"$f":"IF(CG140=1,\"* No olvide ingresar la columna Pueblos Originarios (Digite cero si no tiene). \",\"\")","v":""},{"$f":"IF(CH140=1,\"* No olvide ingresar la columna Migrantes (Digite cero si no tiene). \",\"\")","v":""},{"$f":"IF(CI140=1,\"* El total de Pueblos Originarios NO DEBE superar la suma por grupo de edad. \",\"\")","v":""},{"$f":"IF(CJ140=1,\"* El total de Migrantes NO DEBE superar la suma por grupo de edad\",\"\")","v":""},null,null,{"$f":"IF(AND(G140=\"\",SUM(C140:F140)<>0),1,0)","v":0},{"$f":"IF(AND(H140=\"\",SUM(C140:F140)<>0),1,0)","v":0},{"$f":"IF(SUM(C140:F140)<G140,1,0)","v":0},{"$f":"IF(SUM(C140:F140)<H140,1,0)","v":0}]
[]
[]
[]
[]
[]
[]
[]
[]
[]
[]
[]
[]
[]
[]
[]
[]
[]
[]
[]
[]
[]
[]
[]
[]
[]
[]
[]
[]
[]
[]
[]
[]
[]
[]
[]
[]
[]
[]
[]
[]
[]
[]
[]
[]
[]
[]
[]
[]
[]
[]
[]
[]
[]
[]
[]
[]
[]
[]
[]
[]
[]
[]
[]
[{"$f":"SUM(D46,D81,D88,D91:D93,D97:E99,D103:E105,D109:L117,B120:D120,B124:B125,B129:B130,B134:M134,B139:H139)","v":2008},{"$f":"SUM(CG8:CO139)","v":0}]

{"sheet":"A28","index":20,"n_rows":400,"n_cols":99,"rows_kept":400,"cut":false,"hidden":false,"merged":[[126,0,127,0],[131,0,132,0],[57,2,57,6],[162,4,162,41],[163,16,163,17],[58,5,59,5],[163,10,163,11],[163,12,163,13],[163,24,163,25],[163,20,163,21],[163,22,163,23],[131,2,131,6],[163,8,163,9],[163,14,163,15],[163,18,163,19],[163,26,163,27],[142,10,142,11],[298,0,299,0],[298,2,298,20],[57,1,59,1],[199,0,201,0],[163,4,163,5],[163,6,163,7],[268,0,269,0],[199,1,200,3],[162,0,164,0],[162,1,163,3],[126,1,127,1],[268,2,268,20],[268,1,269,1],[58,3,59,3],[58,4,59,4],[136,1,137,1],[142,0,143,0],[142,1,143,1],[142,2,142,3],[136,0,137,0],[126,2,126,6],[58,6,59,6],[273,0,274,0],[273,2,273,20],[28,43,29,43],[28,40,28,41],[28,28,28,29],[28,30,28,31],[9,42,9,46],[10,45,11,45],[10,46,11,46],[162,42,162,44],[163,43,163,44],[163,42,164,42],[163,40,163,41],[163,34,163,35],[163,36,163,37],[163,38,163,39],[10,44,11,44],[10,28,10,29],[10,43,11,43],[28,38,28,39],[28,32,28,33],[28,34,28,35],[28,36,28,37],[163,28,163,29],[163,30,163,31],[163,32,163,33],[32,1,32,2],[36,1,36,2],[31,1,31,2],[31,0,51,0],[27,42,27,46],[28,45,29,45],[28,46,29,46],[27,3,29,3],[27,4,27,41],[37,1,37,2],[44,1,44,2],[38,1,38,2],[39,1,39,2],[40,1,40,2],[41,1,41,2],[28,16,28,17],[28,18,28,19],[28,20,28,21],[28,22,28,23],[28,24,28,25],[28,26,28,27],[28,14,28,15],[28,44,29,44],[28,42,29,42],[10,42,11,42],[10,30,10,31],[10,32,10,33],[10,16,10,17],[10,18,10,19],[10,20,10,21],[10,14,10,15],[10,34,10,35],[58,2,59,2],[52,1,52,2],[53,1,53,2],[54,0,54,2],[55,0,55,2],[42,1,42,2],[43,1,43,2],[45,1,45,2],[46,1,46,2],[33,1,33,2],[34,1,34,2],[35,1,35,2],[48,1,48,2],[49,1,49,2],[50,1,50,2],[51,1,51,2],[27,1,29,2],[10,26,10,27],[10,4,10,5],[10,6,10,7],[10,8,10,9],[10,10,10,11],[10,12,10,13],[10,22,10,23],[10,24,10,25],[28,4,28,5],[28,6,28,7],[28,8,28,9],[28,10,28,11],[28,12,28,13],[298,1,299,1],[273,1,274,1],[5,0,5,13],[9,0,11,0],[9,1,10,3],[9,4,9,41],[10,36,10,37],[10,38,10,39],[10,40,10,41],[153,0,158,0],[142,4,142,5],[142,6,142,7],[148,0,152,0],[57,0,59,0],[144,0,147,0],[142,8,142,9],[136,5,137,5],[136,7,136,11],[136,2,136,4],[136,6,137,6],[131,1,132,1],[47,1,47,2],[30,0,30,2],[27,0,29,0],[342,25,342,26],[342,27,342,28],[342,29,342,30],[342,31,342,32],[325,0,327,0],[325,1,327,1],[325,2,326,4],[326,5,326,6],[326,7,326,8],[326,9,326,10],[326,11,326,12],[326,13,326,14],[326,15,326,16],[326,17,326,18],[326,19,326,20],[326,21,326,22],[326,23,326,24],[326,25,326,26],[326,27,326,28],[326,29,326,30],[326,31,326,32],[325,5,325,42],[358,19,358,20],[358,21,358,22],[358,23,358,24],[358,25,358,26],[358,27,358,28],[358,29,358,30],[358,31,358,32],[357,5,357,42],[328,0,331,0],[332,0,335,0],[336,0,339,0],[341,0,343,0],[341,1,343,1],[341,2,342,4],[342,5,342,6],[342,7,342,8],[342,9,342,10],[342,11,342,12],[342,13,342,14],[342,15,342,16],[342,17,342,18],[342,19,342,20],[342,21,342,22],[342,23,342,24],[360,0,363,0],[344,0,347,0],[348,0,351,0],[352,0,355,0],[357,0,359,0],[357,1,359,1],[357,2,358,4],[358,5,358,6],[358,7,358,8],[357,43,359,43],[358,33,358,34],[358,35,358,36],[358,37,358,38],[358,39,358,40],[358,41,358,42],[325,43,327,43],[326,33,326,34],[326,35,326,36],[326,37,326,38],[326,39,326,40],[326,41,326,42],[341,5,341,42],[341,43,343,43],[342,33,342,34],[342,35,342,36],[342,37,342,38],[342,39,342,40],[342,41,342,42],[358,9,358,10],[358,11,358,12],[358,13,358,14],[358,15,358,16],[358,17,358,18]]}
["SERVICIO DE SALUD"]
[{"$f":"CONCATENATE(\"COMUNA: \",NOMBRE!B2,\" - \",\"( \",NOMBRE!C2,NOMBRE!D2,NOMBRE!E2,NOMBRE!F2,NOMBRE!G2,\" )\")","v":"COMUNA: CALLE LARGA - ( 05302 )"}]
[{"$f":"CONCATENATE(\"ESTABLECIMIENTO/ESTRATEGIA: \",NOMBRE!B3,\" - \",\"( \",NOMBRE!C3,NOMBRE!D3,NOMBRE!E3,NOMBRE!F3,NOMBRE!G3,NOMBRE!H3,\" )\")","v":"ESTABLECIMIENTO/ESTRATEGIA: DR. JOSE JOAQUIN AGUIRRE CAMPOS - ( 108308 )"}]
[{"$f":"CONCATENATE(\"MES: \",NOMBRE!B6,\" - \",\"( \",NOMBRE!C6,NOMBRE!D6,\" )\")","v":"MES: DICIEMBRE - ( 12 )"}]
[{"$f":"CONCATENATE(\"AÑO: \",NOMBRE!B7)","v":"AÑO: 2022"}]
["REM-28.  PROGRAMA DE REHABILITACIÓN INTEGRAL"]
[]
["SECCIÓN A:  NIVEL PRIMARIO "]
["SECCIÓN A.1: INGRESOS Y EGRESOS  AL PROGRAMA DE REHABILITACIÓN INTEGRAL"]
["TIPO DE INGRESO","TOTAL",null,null,"POR EDAD (en años)",null,null,null,null,null,null,null,null,null,null,null,null,null,null,null,null,null,null,null,null,null,null,null,null,null,null,null,null,null,null,null,null,null,null,null,null,null,"TIPO DE ESTRATEGIA "]
[null,null,null,null,"< 12 meses",null,"12 a 23 meses",null,"2 - 4",null,"5 - 9",null,"10 - 14",null,"15 - 19 ",null,"20 - 24 ",null,"25-29",null,"30-34",null,"35 - 39",null,"40 - 44",null,"45- 49",null,"50 - 54",null,"55 - 59",null,"60 - 64",null,"65 - 69",null,"70 - 74",null,"75 - 79",null,"80 y mas",null,"Rehabilitación Base Comunitaria (RBC)","Rehabilitación Integral(RI)","Rehabilitación Rural (RR)","Otros","UAPORRINO"]
[null,"Ambos Sexos","Hombres","Mujeres","Hombres","Mujeres","Hombres","Mujeres","Hombres","Mujeres","Hombres","Mujeres","Hombres","Mujeres","Hombres","Mujeres","Hombres","Mujeres","Hombres","Mujeres","Hombres","Mujeres","Hombres","Mujeres","Hombres","Mujeres","Hombres","Mujeres","Hombres","Mujeres","Hombres","Mujeres","Hombres","Mujeres","Hombres","Mujeres","Hombres","Mujeres","Hombres","Mujeres","Hombres","Mujeres"]
["INGRESOS",{"$f":"SUM(C13+D13)","v":30},{"$f":"SUM(E13+G13+I13+K13+M13+O13+Q13+S13+U13+W13+Y13+AA13+AC13+AE13+AG13+AI13+AK13+AM13+AO13)","v":6},{"$f":"SUM(F13+H13+J13+L13+N13+P13+R13+T13+V13+X13+Z13+AB13+AD13+AF13+AH13+AJ13+AL13+AN13+AP13)","v":24},0,0,0,0,0,0,0,0,0,0,0,0,0,0,0,0,0,0,0,1,0,0,0,5,1,0,1,4,0,4,0,4,2,2,1,1,1,3,30,0,0,0,0,{"$f":"CA13","v":""},null,null,null,null,null,null,null,null,null,null,null,null,null,null,null,null,null,null,null,null,null,null,null,null,null,null,null,null,null,null,{"$f":"IF(CG13=1,\"* Total Ingresos debe ser igual a la suma de los Tipos de Estrategia. \",\"\")","v":""},null,null,null,null,null,{"$f":"IF(B13<>(AQ13+AR13+AS13+AT13+AU13),1,0)","v":0}]
["INGRESOS CON PLAN DE TRATAMIENTO INTEGRAL (PTI)",{"$f":"SUM(C14+D14)","v":30},{"$f":"SUM(E14+G14+I14+K14+M14+O14+Q14+S14+U14+W14+Y14+AA14+AC14+AE14+AG14+AI14+AK14+AM14+AO14)","v":6},{"$f":"SUM(F14+H14+J14+L14+N14+P14+R14+T14+V14+X14+Z14+AB14+AD14+AF14+AH14+AJ14+AL14+AN14+AP14)","v":24},0,0,0,0,0,0,0,0,0,0,0,0,0,0,0,0,0,0,0,1,0,0,0,5,1,0,1,4,0,4,0,4,2,2,1,1,1,3,30,0,0,0,0,"",null,null,null,null,null,null,null,null,null,null,null,null,null,null,null,null,null,null,null,null,null,null,null,null,null,null,null,null,null,null,{"$f":"IF(CG14=1,\"* Total Ingresos debe ser igual a la suma de los Tipos de Estrategia. \",\"\")","v":""},null,null,null,null,null,{"$f":"IF(B14<>(AQ14+AR14+AS14+AT14+AU14),1,0)","v":0}]
["INGRESOS CON PLAN DE TRATAMIENTO INTEGRAL (PTI) CON OBJETIVOS PARA EL TRABAJO",0,{"$f":"SUM(Q15+S15+U15+W15+Y15+AA15+AC15+AE15+AG15+AI15+AK15+AM15+AO15)","v":0},{"$f":"SUM(R15+T15+V15+X15+Z15+AB15+AD15+AF15+AH15+AJ15+AL15+AN15+AP15)","v":0},null,null,null,null,null,null,null,null,null,null,null,null,null,null,null,null,null,null,null,null,null,null,null,null,null,null,null,null,null,null,null,null,null,null,null,null,null,null,null,null,null,null,null,"",null,null,null,null,null,null,null,null,null,null,null,null,null,null,null,null,null,null,null,null,null,null,null,null,null,null,null,null,null,null,"",null,null,null,null,null,0]
["INGRESOS  DE USUARIOS CON CUIDADOR ",0,{"$f":"SUM(E16+G16+I16+K16+M16+O16+Q16+S16+U16+W16+Y16+AA16+AC16+AE16+AG16+AI16+AK16+AM16+AO16)","v":0},0,null,null,null,null,null,null,null,null,null,null,null,null,null,null,null,null,null,null,null,null,null,null,null,null,null,null,null,null,null,null,null,null,null,null,null,null,null,null,null,null,null,null,null,"",null,null,null,null,null,null,null,null,null,null,null,null,null,null,null,null,null,null,null,null,null,null,null,null,null,null,null,null,null,null,"",null,null,null,null,null,0]
["INGRESOS ACV REFERIDOS DESDE HOSPITAL",0,0,0,null,null,null,null,null,null,null,null,null,null,null,null,null,null,null,null,null,null,null,null,null,null,null,null,null,null,null,null,null,null,null,null,null,null,null,null,null,null,null,null,null,null,null,"",null,null,null,null,null,null,null,null,null,null,null,null,null,null,null,null,null,null,null,null,null,null,null,null,null,null,null,null,null,null,"",null,null,null,null,null,0]
["INGRESOS  POR AMPUTACIÓN",0,0,0,null,null,null,null,null,null,null,null,null,null,null,null,null,null,null,null,null,null,null,null,null,null,null,null,null,null,null,null,null,null,null,null,null,null,null,null,null,null,null,null,null,null,null,"",null,null,null,null,null,null,null,null,null,null,null,null,null,null,null,null,null,null,null,null,null,null,null,null,null,null,null,null,null,null,"",null,null,null,null,null,0]
["REINGRESO Al PROGRAMA ",0,0,0,null,null,null,null,null,null,null,null,null,null,null,null,null,null,null,null,null,null,null,null,null,null,null,null,null,null,null,null,null,null,null,null,null,null,null,null,null,null,null,null,null,null,null,"",null,null,null,null,null,null,null,null,null,null,null,null,null,null,null,null,null,null,null,null,null,null,null,null,null,null,null,null,null,null,"",null,null,null,null,null,0]
["INGRESOS CON PTI CUIDADOR",0,{"$f":"SUM(O20+Q20+S20+U20+W20+Y20+AA20+AC20+AE20+AG20+AI20+AK20+AM20+AO20)","v":0},{"$f":"SUM(P20+R20+T20+V20+X20+Z20+AB20+AD20+AF20+AH20+AJ20+AL20+AN20+AP20)","v":0},null,null,null,null,null,null,null,null,null,null,null,null,null,null,null,null,null,null,null,null,null,null,null,null,null,null,null,null,null,null,null,null,null,null,null,null,null,null,null,null,null,null,null,"",null,null,null,null,null,null,null,null,null,null,null,null,null,null,null,null,null,null,null,null,null,null,null,null,null,null,null,null,null,null,"",null,null,null,null,null,0]
["EGRESOS",{"$f":"SUM(C21+D21)","v":24},{"$f":"SUM(C22+C23+C24+C25)","v":5},{"$f":"SUM(D22+D23+D24+D25)","v":19},{"$f":"SUM(E22:E25)","v":0},{"$f":"SUM(F22:F25)","v":0},0,0,0,0,0,0,0,0,0,0,0,0,0,0,0,0,0,0,0,0,0,0,0,0,0,1,0,2,3,5,0,5,1,4,1,2,24,0,0,0,0]
["EGRESOS POR ALTA",24,{"$f":"SUM(E22+G22+I22+K22+M22+O22+Q22+S22+U22+W22+Y22+AA22+AC22+AE22+AG22+AI22+AK22+AM22+AO22)","v":5},19,0,0,0,0,0,0,0,0,0,0,0,0,0,0,0,0,0,0,0,0,0,0,0,0,0,0,0,1,0,2,3,5,0,5,1,4,1,2,24,0,0,0,0,{"$f":"CA22","v":""},null,null,null,null,null,null,null,null,null,null,null,null,null,null,null,null,null,null,null,null,null,null,null,null,null,null,null,null,null,null,"",null,null,null,null,null,{"$f":"IF(B22<>(AQ22+AR22+AS22+AT22+AU22),1,0)","v":0}]
["EGRESOS POR ABANDONO",0,0,0,0,0,0,0,0,0,0,0,0,0,0,0,0,0,0,0,0,0,0,0,0,0,0,0,0,0,0,0,0,0,0,0,0,0,0,0,0,0,0,0,0,0,0,{"$f":"CA23","v":""},null,null,null,null,null,null,null,null,null,null,null,null,null,null,null,null,null,null,null,null,null,null,null,null,null,null,null,null,null,null,"",null,null,null,null,null,{"$f":"IF(B23<>(AQ23+AR23+AS23+AT23+AU23),1,0)","v":0}]
["EGRESOS POR FALLECIMIENTO",0,0,0,null,null,null,null,null,null,null,null,null,null,null,null,null,null,null,null,null,null,null,null,null,null,null,null,null,null,null,null,null,null,null,null,null,null,null,null,null,null,null,null,null,null,null,{"$f":"CA24","v":""},null,null,null,null,null,null,null,null,null,null,null,null,null,null,null,null,null,null,null,null,null,null,null,null,null,null,null,null,null,null,"",null,null,null,null,null,{"$f":"IF(B24<>(AQ24+AR24+AS24+AT24+AU24),1,0)","v":0}]
["EGRESOS POR OTRAS CAUSAS",0,0,0,null,null,null,null,null,null,null,null,null,null,null,null,null,null,null,null,null,null,null,null,null,null,null,null,null,null,null,null,null,null,null,null,null,null,null,null,null,null,null,null,null,null,null,{"$f":"CA25","v":""},null,null,null,null,null,null,null,null,null,null,null,null,null,null,null,null,null,null,null,null,null,null,null,null,null,null,null,null,null,null,"",null,null,null,null,null,{"$f":"IF(B25<>(AQ25+AR25+AS25+AT25+AU25),1,0)","v":0}]
["EGRESOS CON PTI CUIDADOR",0,0,0,null,null,null,null,null,null,null,null,null,null,null,null,null,null,null,null,null,null,null,null,null,null,null,null,null,null,null,null,null,null,null,null,null,null,null,null,null,null,null,null,null,null,null,{"$f":"CA26","v":""},null,null,null,null,null,null,null,null,null,null,null,null,null,null,null,null,null,null,null,null,null,null,null,null,null,null,null,null,null,null,"",null,null,null,null,null,{"$f":"IF(B26<>(AQ26+AR26+AS26+AT26+AU26),1,0)","v":0}]
["SECCIÓN A.2: INGRESOS POR CONDICIÓN DE SALUD"]
["CONDICIÓN DE SALUD","CONCEPTO",null,"TOTAL","POR EDAD (en años)",null,null,null,null,null,null,null,null,null,null,null,null,null,null,null,null,null,null,null,null,null,null,null,null,null,null,null,null,null,null,null,null,null,null,null,null,null,"TIPO DE ESTRATEGIA "]
[null,null,null,null,"< 12 meses",null,"12 a 23 meses",null,"2 - 4",null,"5 - 9",null,"10 - 14",null,"15 - 19 ",null,"20 - 24 ",null,"25-29",null,"30-34",null,"35 - 39",null,"40 - 44",null,"45- 49",null,"50 - 54",null,"55 - 59",null,"60 - 64",null,"65 - 69",null,"70 - 74",null,"75 - 79",null,"80 y mas",null,"Rehabilitación Base Comunitaria (RBC)","Rehabilitación Integral(RI)","Rehabilitación Rural (RR)","Otros","UAPORRINO"]
[null,null,null,null,"Hombres","Mujeres","Hombres","Mujeres","Hombres","Mujeres","Hombres","Mujeres","Hombres","Mujeres","Hombres","Mujeres","Hombres","Mujeres","Hombres","Mujeres","Hombres","Mujeres","Hombres","Mujeres","Hombres","Mujeres","Hombres","Mujeres","Hombres","Mujeres","Hombres","Mujeres","Hombres","Mujeres","Hombres","Mujeres","Hombres","Mujeres","Hombres","Mujeres","Hombres","Mujeres"]
["TOTAL INGRESO (N° DE PERSONAS)",null,null,{"$f":"SUM(E31:AP31)","v":30},0,0,0,0,0,0,0,0,0,0,0,0,0,0,0,0,0,0,0,1,0,0,0,5,1,0,1,4,0,4,0,4,2,2,1,1,1,3,30,0,0,0,0,{"$f":"CA31&CB31&CC31&CD31&CE31&CF31&CU31","v":""},null,null,null,null,null,null,null,null,null,null,null,null,null,null,null,null,null,null,null,null,null,null,null,null,null,null,null,null,null,null,{"$f":"IF(CG31=1,\"* Existen patologías que son mayores al Total de Ingresos-Persona. \",\"\")","v":""},{"$f":"IF(CH31=1,\"* EN RBC Existen Patologías que son Mayores a los Ingresos-Personas. \",\"\")","v":""},{"$f":"IF(CI31=1,\"* En RI existen Patologías que son mayores a los Ingresos-Personas. \",\"\")","v":""},{"$f":"IF(CJ31=1,\"* En RR Existen Patologías que son mayores a los Ingresos-Personas. \",\"\")","v":""},{"$f":"IF(CK31=1,\"* En Otros existen patologías que son mayores a los Ingresos-Persona. \",\"\")","v":""},{"$f":"IF(CL31=1,\"* En UAPORRINO existen patologías que son mayores a los Ingresos-personas. \",\"\")","v":""},{"$f":"IF(D31<MAX(D32:D54),1,0)","v":0},{"$f":"IF(AQ31<MAX(AQ32:AQ54),1,0)","v":0},{"$f":"IF(AR31<MAX(AR32:AR54),1,0)","v":0},{"$f":"IF(AS31<MAX(AS32:AS54),1,0)","v":0},{"$f":"IF(AT31<MAX(AT32:AT54),1,0)","v":0},{"$f":"IF(AU31<MAX(AU32:AU54),1,0)","v":0},{"$f":"IF(D31<>B13,1,0)","v":0},null,null,null,null,null,null,null,{"$f":"IF(CM31=1,\"* El número de Ingreso NO DEBE ser distinto al Total de Ingresos de la sección A.1. \",\"\")","v":""}]
["CONDICIÓN FÍSICA","SÍNDROME DOLOROSO DE ORIGEN TRAUMÁTICO",null,1,0,0,0,0,0,0,0,0,0,0,0,0,0,0,0,0,0,0,0,0,0,0,0,0,0,0,0,1,0,0,0,0,0,0,0,0,0,0,1,0,0,0,0,{"$f":"CA32","v":""},null,null,null,null,null,null,null,null,null,null,null,null,null,null,null,null,null,null,null,null,null,null,null,null,null,null,null,null,null,null,{"$f":"IF(CG32=1,\" * El total de Ingresos debe ser igual a la suma de los Tipos de Estrategia. \",\"\")","v":""},null,null,null,null,null,{"$f":"IF((AQ32+AR32+AS32+AT32+AU32)=D32,0,1)","v":0}]
[null,"ARTROSIS LEVE Y MODERADA DE RODILLA Y CADERA",null,8,0,0,0,0,0,0,0,0,0,0,0,0,0,0,0,0,0,0,0,0,0,0,0,0,0,0,0,2,0,1,0,1,1,2,0,1,0,0,8,0,0,0,0,{"$f":"CA33","v":""},null,null,null,null,null,null,null,null,null,null,null,null,null,null,null,null,null,null,null,null,null,null,null,null,null,null,null,null,null,null,{"$f":"IF(CG33=1,\" * El total de Ingresos debe ser igual a la suma de los Tipos de Estrategia. \",\"\")","v":""},null,null,null,null,null,{"$f":"IF((AQ33+AR33+AS33+AT33+AU33)=D33,0,1)","v":0}]
[null,"NEUROLÓGICOS ACCIDENTE CEREBRO VASCULAR (ACV)",null,0,0,0,0,0,0,0,0,0,0,0,0,0,0,0,0,0,0,0,0,0,0,0,0,0,0,0,0,0,0,0,0,0,0,0,0,0,0,0,0,0,0,0,0,"",null,null,null,null,null,null,null,null,null,null,null,null,null,null,null,null,null,null,null,null,null,null,null,null,null,null,null,null,null,null,"",null,null,null,null,null,0]
[null,"NEUROLÓGICOS  TRAUMATISMO ENCÉFALO CRANEANO (TEC)",null,0,0,0,0,0,0,0,0,0,0,0,0,0,0,0,0,0,0,0,0,0,0,0,0,0,0,0,0,0,0,0,0,0,0,0,0,0,0,0,0,0,0,0,0,"",null,null,null,null,null,null,null,null,null,null,null,null,null,null,null,null,null,null,null,null,null,null,null,null,null,null,null,null,null,null,"",null,null,null,null,null,0]
[null,"NEUROLÓGICOS LESIÓN MEDULAR",null,0,0,0,0,0,0,0,0,0,0,0,0,0,0,0,0,0,0,0,0,0,0,0,0,0,0,0,0,0,0,0,0,0,0,0,0,0,0,0,0,0,0,0,0,"",null,null,null,null,null,null,null,null,null,null,null,null,null,null,null,null,null,null,null,null,null,null,null,null,null,null,null,null,null,null,"",null,null,null,null,null,0]
[null,"QUEMADOS (NO GES)",null,0,0,0,0,0,0,0,0,0,0,0,0,0,0,0,0,0,0,0,0,0,0,0,0,0,0,0,0,0,0,0,0,0,0,0,0,0,0,0,0,0,0,0,0,"",null,null,null,null,null,null,null,null,null,null,null,null,null,null,null,null,null,null,null,null,null,null,null,null,null,null,null,null,null,null,"",null,null,null,null,null,0]
[null,"GRAN QUEMADO (GES)",null,0,0,0,0,0,0,0,0,0,0,0,0,0,0,0,0,0,0,0,0,0,0,0,0,0,0,0,0,0,0,0,0,0,0,0,0,0,0,0,0,0,0,0,0,"",null,null,null,null,null,null,null,null,null,null,null,null,null,null,null,null,null,null,null,null,null,null,null,null,null,null,null,null,null,null,"",null,null,null,null,null,0]
[null,"ENFERMEDAD DE PARKINSON",null,1,0,0,0,0,0,0,0,0,0,0,0,0,0,0,0,0,0,0,0,0,0,0,0,0,0,0,0,0,0,0,0,0,0,0,0,0,1,0,1,0,0,0,0,"",null,null,null,null,null,null,null,null,null,null,null,null,null,null,null,null,null,null,null,null,null,null,null,null,null,null,null,null,null,null,"",null,null,null,null,null,0]
[null,"NEUROLÓGICOS DISRAFIA",null,0,0,0,0,0,0,0,0,0,0,0,0,0,0,0,0,0,0,0,0,0,0,0,0,0,0,0,0,0,0,0,0,0,0,0,0,0,0,0,0,0,0,0,0,"",null,null,null,null,null,null,null,null,null,null,null,null,null,null,null,null,null,null,null,null,null,null,null,null,null,null,null,null,null,null,"",null,null,null,null,null,0]
[null,"OTRO DÉFICIT SECUNDARIO CON COMPROMISO NEUROMUSCULAR EN MENOR DE 20 AÑOS CONGÉNITO",null,0,0,0,0,0,0,0,0,0,0,0,0,0,0,0,0,0,0,0,0,0,0,0,0,0,0,0,0,0,0,0,0,0,0,0,0,0,0,0,0,0,0,0,0,"",null,null,null,null,null,null,null,null,null,null,null,null,null,null,null,null,null,null,null,null,null,null,null,null,null,null,null,null,null,null,"",null,null,null,null,null,0]
[null,"OTRO DÉFICIT SECUNDARIO CON COMPROMISO NEUROMUSCULAR EN MENOR DE 20 AÑOS ADQUIRIDO",null,0,0,0,0,0,0,0,0,0,0,0,0,0,0,0,0,0,0,0,0,0,0,0,0,0,0,0,0,0,0,0,0,0,0,0,0,0,0,0,0,0,0,0,0,"",null,null,null,null,null,null,null,null,null,null,null,null,null,null,null,null,null,null,null,null,null,null,null,null,null,null,null,null,null,null,"",null,null,null,null,null,0]
[null,"OTRO DÉFICIT SECUNDARIO CON COMPROMISO NEUROMUSCULAR  EN MAYOR DE 20 AÑOS ",null,1,0,0,0,0,0,0,0,0,0,0,0,0,0,0,0,0,0,0,0,0,0,0,0,0,1,0,0,0,0,0,0,0,0,0,0,0,0,0,1,0,0,0,0,"",null,null,null,null,null,null,null,null,null,null,null,null,null,null,null,null,null,null,null,null,null,null,null,null,null,null,null,null,null,null,"",null,null,null,null,null,0]
[null,"OTROS",null,1,0,0,0,0,0,0,0,0,0,0,0,0,0,0,0,0,0,0,0,0,0,0,0,0,0,0,0,0,0,0,0,0,0,0,1,0,0,0,1,0,0,0,0,"",null,null,null,null,null,null,null,null,null,null,null,null,null,null,null,null,null,null,null,null,null,null,null,null,null,null,null,null,null,null,"",null,null,null,null,null,0]
[null,"DIABETES MELLITUS",null,0,0,0,0,0,0,0,0,0,0,0,0,0,0,0,0,0,0,0,0,0,0,0,0,0,0,0,0,0,0,0,0,0,0,0,0,0,0,0,0,0,0,0,0,"",null,null,null,null,null,null,null,null,null,null,null,null,null,null,null,null,null,null,null,null,null,null,null,null,null,null,null,null,null,null,"",null,null,null,null,null,0]
[null,"AMPUTACIÓN POR DIABETES",null,0,0,0,0,0,0,0,0,0,0,0,0,0,0,0,0,0,0,0,0,0,0,0,0,0,0,0,0,0,0,0,0,0,0,0,0,0,0,0,0,0,0,0,0,"",null,null,null,null,null,null,null,null,null,null,null,null,null,null,null,null,null,null,null,null,null,null,null,null,null,null,null,null,null,null,"",null,null,null,null,null,0]
[null,"AMPUTACIÓN POR OTRAS CAUSAS",null,0,0,0,0,0,0,0,0,0,0,0,0,0,0,0,0,0,0,0,0,0,0,0,0,0,0,0,0,0,0,0,0,0,0,0,0,0,0,0,0,0,0,0,0,"",null,null,null,null,null,null,null,null,null,null,null,null,null,null,null,null,null,null,null,null,null,null,null,null,null,null,null,null,null,null,"",null,null,null,null,null,0]
[null,"ARTROSIS SEVERA DE RODILLA Y CADERA",null,0,0,0,0,0,0,0,0,0,0,0,0,0,0,0,0,0,0,0,0,0,0,0,0,0,0,0,0,0,0,0,0,0,0,0,0,0,0,0,0,0,0,0,0,"",null,null,null,null,null,null,null,null,null,null,null,null,null,null,null,null,null,null,null,null,null,null,null,null,null,null,null,null,null,null,"",null,null,null,null,null,0]
[null,"OTRAS ARTROSIS",null,0,0,0,0,0,0,0,0,0,0,0,0,0,0,0,0,0,0,0,0,0,0,0,0,0,0,0,0,0,0,0,0,0,0,0,0,0,0,0,0,0,0,0,0,"",null,null,null,null,null,null,null,null,null,null,null,null,null,null,null,null,null,null,null,null,null,null,null,null,null,null,null,null,null,null,"",null,null,null,null,null,0]
[null,"REUMATOLÓGICAS",null,1,0,0,0,0,0,0,0,0,0,0,0,0,0,0,0,0,0,0,0,0,0,0,0,0,0,0,0,0,0,1,0,0,0,0,0,0,0,0,1,0,0,0,0,"",null,null,null,null,null,null,null,null,null,null,null,null,null,null,null,null,null,null,null,null,null,null,null,null,null,null,null,null,null,null,"",null,null,null,null,null,0]
[null,"DOLOR LUMBAR",null,7,0,0,0,0,0,0,0,0,0,0,0,0,0,0,0,0,0,0,0,0,0,0,0,3,0,0,0,0,0,1,0,1,1,0,0,0,0,1,7,0,0,0,0,"",null,null,null,null,null,null,null,null,null,null,null,null,null,null,null,null,null,null,null,null,null,null,null,null,null,null,null,null,null,null,"",null,null,null,null,null,0]
[null,"HOMBRO DOLOROSO",null,3,0,0,0,0,0,0,0,0,0,0,0,0,0,0,0,0,0,0,0,0,0,0,0,0,0,0,0,0,0,1,0,1,0,0,0,0,0,1,3,0,0,0,0,"",null,null,null,null,null,null,null,null,null,null,null,null,null,null,null,null,null,null,null,null,null,null,null,null,null,null,null,null,null,null,"",null,null,null,null,null,0]
[null,"CUIDADOS PALIATIVOS",null,0,0,0,0,0,0,0,0,0,0,0,0,0,0,0,0,0,0,0,0,0,0,0,0,0,0,0,0,0,0,0,0,0,0,0,0,0,0,0,0,0,0,0,0,"",null,null,null,null,null,null,null,null,null,null,null,null,null,null,null,null,null,null,null,null,null,null,null,null,null,null,null,null,null,null,"",null,null,null,null,null,0]
[null,"OTROS SÍNDROMES DOLOROSOS NO TRAUMÁTICOS",null,3,0,0,0,0,0,0,0,0,0,0,0,0,0,0,0,0,0,0,0,1,0,0,0,0,0,0,1,1,0,0,0,0,0,0,0,0,0,0,3,0,0,0,0,"",null,null,null,null,null,null,null,null,null,null,null,null,null,null,null,null,null,null,null,null,null,null,null,null,null,null,null,null,null,null,"",null,null,null,null,null,0]
["CONDICIÓN SENSORIAL VISUAL",null,null,0,0,0,0,0,0,0,0,0,0,0,0,0,0,0,0,0,0,0,0,0,0,0,0,0,0,0,0,0,0,0,0,0,0,0,0,0,0,0,0,0,0,0,0,"",null,null,null,null,null,null,null,null,null,null,null,null,null,null,null,null,null,null,null,null,null,null,null,null,null,null,null,null,null,null,"",null,null,null,null,null,0]
["CONDICIÓN SENSORIAL AUDITIVO",null,null,0,0,0,0,0,0,0,0,0,0,0,0,0,0,0,0,0,0,0,0,0,0,0,0,0,0,0,0,0,0,0,0,0,0,0,0,0,0,0,0,0,0,0,0,"",null,null,null,null,null,null,null,null,null,null,null,null,null,null,null,null,null,null,null,null,null,null,null,null,null,null,null,null,null,null,"",null,null,null,null,null,0]
["SECCIÓN A.3: EVALUACIÓN INICIAL"]
["PROFESIONAL","TOTAL      ","TIPO DE ESTRATEGIA "]
[null,null,"Rehabilitación Base Comunitaria (RBC)","Rehabilitación Integral(RI)","Rehabilitación Rural (RR)","UAPORRINO","OTROS"]
[]
["MÉDICO",{"$f":"SUM(C61:G61)","v":0},0,0,0,0,0]
["KINESIÓLOGO",{"$f":"SUM(C62:G62)","v":20},20,0,0,0,0]
["TERAPEUTA OCUPACIONAL",{"$f":"SUM(C63:G63)","v":8},8,0,0,0,0]
["FONOAUDIÓLOGO",{"$f":"SUM(C64:G64)","v":0},0,0,0,0,0]
["PSICÓLOGO/A",{"$f":"SUM(C65:G65)","v":0},0,0,0,0,0]
["TOTAL",{"$f":"SUM(B61:B65)","v":28},28,0,0,0,0]
["SECCIÓN A.4: EVALUACIÓN INTERMEDIA"]
["PROFESIONAL","TOTAL      ","Rehabilitación Base Comunitaria (RBC)","Rehabilitación Integral (RI)","Rehabilitación Rural (RR)","UAPORRINO","Otros"]
["KINESIÓLOGO",{"$f":"SUM(C69:G69)","v":0},0,0,0,0,0]
["TERAPEUTA OCUPACIONAL",{"$f":"SUM(C70:G70)","v":1},1,0,0,0,0]
["FONOAUDIÓLOGO",{"$f":"SUM(C71:G71)","v":0},0,0,0,0,0]
["PSICÓLOGO/A",{"$f":"SUM(C72:G72)","v":0},0,0,0,0,0]
["TOTAL",{"$f":"SUM(B69:B72)","v":1},1,0,0,0,0]
["SECCIÓN A.5: SESIONES DE REHABILITACIÓN"]
["PROFESIONAL","TOTAL      ","Rehabilitación Base Comunitaria (RBC)","Rehabilitación Integral (RI)","Rehabilitación Rural (RR)","UAPORRINO","Otros"]
["KINESIÓLOGO",{"$f":"SUM(C76:G76)","v":116},116,0,0,0,0]
["TERAPEUTA OCUPACIONAL",{"$f":"SUM(C77:G77)","v":6},6,0,0,0,0]
["FONOAUDIÓLOGO",{"$f":"SUM(C78:G78)","v":0},0,0,0,0,0]
["PSICÓLOGO/A",{"$f":"SUM(C79:G79)","v":0},0,0,0,0,0]
["TOTAL",{"$f":"SUM(B76:B79)","v":122},122,0,0,0,0]
["SECCIÓN A.6: PROCEDIMIENTOS Y ACTIVIDADES"]
["TIPO","Total Rehabilitacion Base Comunitaria","Total Rehabilitación Integral","Total Rehabilitacion  Rural ","Otros","UAPORRINO"]
["EVALUACIÓN AYUDAS TÉCNICAS",5,0,0,0,0]
["ENTRENAMIENTO DE AYUDAS TÉCNICAS",0,0,0,0,0]
["FISIOTERAPIA",0,0,0,0,0]
["TRATAMIENTO COMPRESIVO",0,0,0,0,0]
["ENTRENAMIENTO PROTÉSICO",0,0,0,0,0]
["EJERCICIOS TERAPÉUTICOS",0,0,0,0,0]
["TRATAMIENTO (VOZ, HABLA Y/O LENGUAJE)",0,0,0,0,0]
["TRATAMIENTO FUNCIONES MOTORAS ORALES ",0,0,0,0,0]
["ESTIMULACIÓN COGNITIVA",0,0,0,0,0]
["PREVENCIÓN DE DETERIORO DE ÓRGANOS FONO ARTICULATORIOS (OFA)",0,0,0,0,0]
["REHABILITACIÓN DEGLUCIÓN",0,0,0,0,0]
["CONFECCIÓN ÓRTESIS Y/O ADAPTACIONES",0,0,0,0,0]
["HABILITACIÓN Y REHABILITACIÓN EN ACTIVIDADES DE LA VIDA DIARIA (AVD)",0,0,0,0,0]
["HABILITACIÓN Y REHABILITACIÓN EDUCACIONAL",0,0,0,0,0]
["ACTIVIDADES RECREATIVAS",0,0,0,0,0]
["ACTIVIDADES TERAPÉUTICAS",0,0,0,0,0]
["INTEGRACIÓN SENSORIAL",0,0,0,0,0]
["PSICOTERAPIA ",0,0,0,0,0]
["MASOTERAPIA",0,0,0,0,0]
["ADAPTACIÓN DEL HOGAR",0,0,0,0,0]
["ORIENTACIÓN Y MOVILIDAD",0,0,0,0,0]
["ORIENTACIÓN SOCIOLABORAL",0,0,0,0,0]
["ORIENTACIÓN FAMILIAR Y A LA RED DE APOYO PARA EL TRABAJO",0,0,0,0,0]
["GESTIÓN DE LA RED LOCAL PARA EL TRABAJO",0,0,0,0,0]
["REHABILITACIÓN AUDITIVA INDIVIDUAL",0,0,0,0,0]
["REHABILITACIÓN AUDITIVA GRUPAL",0,0,0,0,0]
["TOTAL",{"$f":"SUM(B83:B108)","v":5},{"$f":"SUM(C83:C108)","v":0},{"$f":"SUM(D83:D108)","v":0},{"$f":"SUM(E83:E108)","v":0},{"$f":"SUM(F83:F108)","v":0}]
["SECCIÓN A.7: CONSEJERÍA INDIVIDUAL AGENDADA"]
["PROFESIONAL","Total Rehabilitacion Base Comunitaria","Total Rehabilitación Integral","Total Rehabilitacion  Rural ","Otros","UAPORRINO"]
["KINESIÓLOGO"]
["TERAPEUTA OCUPACIONAL"]
["FONOAUDIÓLOGO"]
["PSICÓLOGO/A"]
["ASISTENTE SOCIAL"]
["TOTAL",{"$f":"SUM(B112:B116)","v":0},{"$f":"SUM(C112:C116)","v":0},{"$f":"SUM(D112:D116)","v":0},{"$f":"SUM(E112:E116)","v":0},{"$f":"SUM(F112:F116)","v":0}]
["SECCIÓN A.8: CONSEJERÍA FAMILIAR AGENDADA"]
["PROFESIONAL","Total Rehabilitacion Base Comunitaria","Total Rehabilitación Integral","Total Rehabilitacion  Rural ","Otros","UAPORRINO"]
["KINESIÓLOGO"]
["TERAPEUTA OCUPACIONAL"]
["FONOAUDIÓLOGO"]
["PSICÓLOGO/A"]
["ASISTENTE SOCIAL"]
["TOTAL",{"$f":"SUM(B120:B124)","v":0},{"$f":"SUM(C120:C124)","v":0},{"$f":"SUM(D120:D124)","v":0},{"$f":"SUM(E120:E124)","v":0},{"$f":"SUM(F120:F124)","v":0}]
["SECCIÓN A.9: VISITAS DOMICILIARIAS INTEGRALES"]
["FAMILIA","TOTAL","TIPO DE ESTRATEGIA "]
[null,null,"Rehabilitación Base Comunitaria (RBC)","Rehabilitación Integral(RI)","Rehabilitación Rural (RR)","Otros","UAPORRINO"]
["VISITA DOMICILIARIA INTEGRAL",{"$f":"SUM(C129:G129)","v":3},3,0,0,0]
["VISITA DE TRATAMIENTO Y/O PROCEDIMIENTO",{"$f":"SUM(C130:G130)","v":0},0,0,0,0]
["SECCIÓN A.10: INTERVENCIONES TERAPÉUTICAS GRUPALES "]
["ÁREA TEMÁTICA DE PREVENCIÓN Y TRATAMIENTO","TOTAL","TIPO DE ESTRATEGIA "]
[null,null,"Rehabilitación Base Comunitaria (RBC)","Rehabilitación Integral(RI)","Rehabilitación Rural (RR)","Otros","UAPORRINO"]
["NÚMERO DE PERSONAS ",{"$f":"SUM(C134:G134)","v":132},132,0,0,0,0]
["NÙMERO DE SESIONES",{"$f":"SUM(C135:G135)","v":38},38,0,0,0,0]
["SECCIÓN A.11: PERSONAS QUE LOGRAN PARTICIPACIÓN EN COMUNIDAD "]
["COMPONENTE (Nº PERSONAS)","TOTAL","LABORAL",null,null,"Educativa","Comunitario","TIPO DE ESTRATEGIA "]
[null,null,"Trabajo con objetivos de habilitación y rehabilitación","Trabajo sin objetivos de habilitación y rehabilitación","Dueña/o de casa",null,null,"Rehabilitación Base Comunitaria (RBC)","Rehabilitación Integral(RI)","Rehabilitación Rural (RR)","Otros","UAPORRINO"]
["CONDICIÓN FÍSICA",{"$f":"SUM(C139:G139)","v":20},0,0,18,0,2,20,0,0,0,0,{"$f":"CA139","v":""},null,null,null,null,null,null,null,null,null,null,null,null,null,null,null,null,null,null,null,null,null,null,null,null,null,null,null,null,null,null,null,null,null,null,null,null,null,null,null,null,null,null,null,null,null,null,null,null,null,null,null,null,null,null,null,null,null,null,null,null,null,null,null,null,null,{"$f":"IF(CG139=1,\"* Total Personas debe ser igual que según Tipo estrategia + Otros + UAPORRINO. \",\"\")","v":""},null,null,null,null,null,{"$f":"IF(B139<>SUM(H139:L139),1,0)","v":0}]
["CONDICIÓN SENSORIAL VISUAL",{"$f":"SUM(C140:G140)","v":0},0,0,0,0,0,0,0,0,0,0,{"$f":"CA140","v":""},null,null,null,null,null,null,null,null,null,null,null,null,null,null,null,null,null,null,null,null,null,null,null,null,null,null,null,null,null,null,null,null,null,null,null,null,null,null,null,null,null,null,null,null,null,null,null,null,null,null,null,null,null,null,null,null,null,null,null,null,null,null,null,null,null,{"$f":"IF(CG140=1,\"* Total Personas debe ser igual que según Tipo estrategia + Otros + UAPORRINO. \",\"\")","v":""},null,null,null,null,null,{"$f":"IF(B140<>SUM(H140:L140),1,0)","v":0}]
["CONDICIÓN SENSORIAL AUDITIVO",{"$f":"SUM(C141:G141)","v":0},0,0,0,0,0,0,0,0,0,0,{"$f":"CA141","v":""},null,null,null,null,null,null,null,null,null,null,null,null,null,null,null,null,null,null,null,null,null,null,null,null,null,null,null,null,null,null,null,null,null,null,null,null,null,null,null,null,null,null,null,null,null,null,null,null,null,null,null,null,null,null,null,null,null,null,null,null,null,null,null,null,null,{"$f":"IF(CG141=1,\"* Total Personas debe ser igual que según Tipo estrategia + Otros + UAPORRINO. \",\"\")","v":""},null,null,null,null,null,{"$f":"IF(B141<>SUM(H141:L141),1,0)","v":0}]
["SECCIÓN A.12: ACTIVIDADES Y PARTICIPACIÓN"]
["MODALIDADES DE INTERVENCIÓN","GRUPO OBJETIVO","TOTALES RBC",null,"TOTALES RI",null,"TOTALES RR",null,"OTROS TOTALES",null,"UAPORRINO"]
[null,null," Actividades ","Participantes "," Actividades ","Participantes "," Actividades ","Participantes "," Actividades ","Participantes ","Actividades","Participantes "]
["DIAGNÓSTICO O PLANIFICACIÓN PARTICIPATIVA ","COMUNAS, COMUNIDADES"]
[null,"ORGANIZACIONES ASOCIADAS A DISCAPACIDAD"]
[null,"ORGANIZACIONES COMUNITARIAS"]
[null,"COMUNIDAD EDUCATIVA"]
["ACTIVIDADES DE PROMOCIÓN DE LA SALUD","COMUNAS, COMUNIDADES."]
[null,"EMPLEADORES Y COMPAÑEROS DE TRABAJO"]
[null,"COMUNIDAD EDUCATIVA"]
[null,"RED DE APOYO"]
[null,"CUIDADORES"]
["ACTIVIDADES PARA FORTALECER LOS CONOCIMIENTOS Y DESTREZAS PERSONALES","PROFESIONALES DE SALUD"]
[null,"EMPLEADORES Y COMPAÑEROS DE TRABAJO"]
[null,"COMUNIDAD EDUCATIVA"]
[null,"MONITORES"]
[null,"RED DE APOYO"]
[null,"CUIDADORES"]
["ASESORÍA A GRUPOS COMUNITARIOS","ORGANIZACIONES COMUNITARIAS"]
["SECCIÓN B: NIVEL HOSPITALARIO"]
["SECCIÓN B.1: INGRESOS Y EGRESOS  AL PROGRAMA DE REHABILITACIÓN INTEGRAL"]
["INGRESOS","TOTAL",null,null,"POR DE EDAD (en años)",null,null,null,null,null,null,null,null,null,null,null,null,null,null,null,null,null,null,null,null,null,null,null,null,null,null,null,null,null,null,null,null,null,null,null,null,null,"TIPO ATENCIÓN"]
[null,null,null,null,"< 12 meses",null,"12 a 23 meses",null,"2 - 4",null,"5 - 9",null,"10 - 14",null,"15 - 19 ",null,"20 - 24 ",null,"25-29",null,"30-34",null,"35 - 39",null,"40 - 44",null,"45- 49",null,"50 - 54",null,"55 - 59",null,"60 - 64",null,"65 - 69",null,"70 - 74",null,"75 - 79",null,"80 y mas",null,"Abierta","CERRADA"]
[null,"Ambos Sexos","Hombres","Mujeres","Hombres","Mujeres","Hombres","Mujeres","Hombres","Mujeres","Hombres","Mujeres","Hombres","Mujeres","Hombres","Mujeres","Hombres","Mujeres","Hombres","Mujeres","Hombres","Mujeres","Hombres","Mujeres","Hombres","Mujeres","Hombres","Mujeres","Hombres","Mujeres","Hombres","Mujeres","Hombres","Mujeres","Hombres","Mujeres","Hombres","Mujeres","Hombres","Mujeres","Hombres","Mujeres",null,"UPC","Cuidados Medios y Básicos"]
["TOTAL INGRESO (N° DE PERSONAS)",{"$f":"SUM(C166+D166)","v":0},{"$f":"SUM(E166+G166+I166+K166+M166+O166+Q166+S166+U166+W166+Y166+AA166+AC166+AE166+AG166+AI166+AK166+AM166+AO166)","v":0},{"$f":"SUM(F166+H166+J166+L166+N166+P166+R166+T166+V166+X166+Z166+AB166+AD166+AF166+AH166+AJ166+AL166+AN166+AP166)","v":0},null,null,null,null,null,null,null,null,null,null,null,null,null,null,null,null,null,null,null,null,null,null,null,null,null,null,null,null,null,null,null,null,null,null,null,null,null,null,null,null,null,{"$f":"CA166","v":""},null,null,null,null,null,null,null,null,null,null,null,null,null,null,null,null,null,null,null,null,null,null,null,null,null,null,null,null,null,null,null,null,{"$f":"IF(CG166=1,\"* El número de Consultas Según tipo de atención NO DEBE ser diferente al Total. \",\"\")","v":""},null,null,null,null,null,{"$f":"IF(B166<>SUM(AQ166:AS166),1,0)","v":0}]
["INGRESOS CON PLAN DE TRATAMIENTO INTEGRAL (PTI)",0,0,0,null,null,null,null,null,null,null,null,null,null,null,null,null,null,null,null,null,null,null,null,null,null,null,null,null,null,null,null,null,null,null,null,null,null,null,null,null,null,null,null,null,"",null,null,null,null,null,null,null,null,null,null,null,null,null,null,null,null,null,null,null,null,null,null,null,null,null,null,null,null,null,null,null,null,"",null,null,null,null,null,0]
["NEUROLÓGICOS TRAUMATISMO ENCÉFALO CRANEANO (TEC)",0,0,0,null,null,null,null,null,null,null,null,null,null,null,null,null,null,null,null,null,null,null,null,null,null,null,null,null,null,null,null,null,null,null,null,null,null,null,null,null,null,null,null,null,"",null,null,null,null,null,null,null,null,null,null,null,null,null,null,null,null,null,null,null,null,null,null,null,null,null,null,null,null,null,null,null,null,"",null,null,null,null,null,0]
["NEUROLÓGICOS LESIÓN MEDULAR ",0,0,0,null,null,null,null,null,null,null,null,null,null,null,null,null,null,null,null,null,null,null,null,null,null,null,null,null,null,null,null,null,null,null,null,null,null,null,null,null,null,null,null,null,"",null,null,null,null,null,null,null,null,null,null,null,null,null,null,null,null,null,null,null,null,null,null,null,null,null,null,null,null,null,null,null,null,"",null,null,null,null,null,0]
["NEUROLÓGICOS ACCIDENTE CEREBRO VASCULAR (ACV)",0,0,0,null,null,null,null,null,null,null,null,null,null,null,null,null,null,null,null,null,null,null,null,null,null,null,null,null,null,null,null,null,null,null,null,null,null,null,null,null,null,null,null,null,"",null,null,null,null,null,null,null,null,null,null,null,null,null,null,null,null,null,null,null,null,null,null,null,null,null,null,null,null,null,null,null,null,"",null,null,null,null,null,0]
["NEUROLÓGICOS DISRAFIA",0,0,0,null,null,null,null,null,null,null,null,null,null,null,null,null,null,null,null,null,null,null,null,null,null,null,null,null,null,null,null,null,null,null,null,null,null,null,null,null,null,null,null,null,"",null,null,null,null,null,null,null,null,null,null,null,null,null,null,null,null,null,null,null,null,null,null,null,null,null,null,null,null,null,null,null,null,"",null,null,null,null,null,0]
["NEUROLÓGICAS TUMORES",0,0,0,null,null,null,null,null,null,null,null,null,null,null,null,null,null,null,null,null,null,null,null,null,null,null,null,null,null,null,null,null,null,null,null,null,null,null,null,null,null,null,null,null,"",null,null,null,null,null,null,null,null,null,null,null,null,null,null,null,null,null,null,null,null,null,null,null,null,null,null,null,null,null,null,null,null,"",null,null,null,null,null,0]
["PARÁLISIS CEREBRAL",0,0,0,null,null,null,null,null,null,null,null,null,null,null,null,null,null,null,null,null,null,null,null,null,null,null,null,null,null,null,null,null,null,null,null,null,null,null,null,null,null,null,null,null,"",null,null,null,null,null,null,null,null,null,null,null,null,null,null,null,null,null,null,null,null,null,null,null,null,null,null,null,null,null,null,null,null,"",null,null,null,null,null,0]
["QUEMADOS (NO GES)",0,0,0,null,null,null,null,null,null,null,null,null,null,null,null,null,null,null,null,null,null,null,null,null,null,null,null,null,null,null,null,null,null,null,null,null,null,null,null,null,null,null,null,null,"",null,null,null,null,null,null,null,null,null,null,null,null,null,null,null,null,null,null,null,null,null,null,null,null,null,null,null,null,null,null,null,null,"",null,null,null,null,null,0]
["GRAN QUEMADO (GES)",0,0,0,null,null,null,null,null,null,null,null,null,null,null,null,null,null,null,null,null,null,null,null,null,null,null,null,null,null,null,null,null,null,null,null,null,null,null,null,null,null,null,null,null,"",null,null,null,null,null,null,null,null,null,null,null,null,null,null,null,null,null,null,null,null,null,null,null,null,null,null,null,null,null,null,null,null,"",null,null,null,null,null,0]
["SENSORIALES AUDITIVOS",{"$f":"SUM(C176+D176)","v":0},0,0,null,null,null,null,null,null,null,null,null,null,null,null,null,null,null,null,null,null,null,null,null,null,null,null,null,null,null,null,null,null,null,null,null,null,null,null,null,null,null,null,null,{"$f":"CA176","v":""},null,null,null,null,null,null,null,null,null,null,null,null,null,null,null,null,null,null,null,null,null,null,null,null,null,null,null,null,null,null,null,null,{"$f":"IF(CG176=1,\"* El número de Consultas Según tipo de atención NO DEBE ser diferente al Total. \",\"\")","v":""},null,null,null,null,null,{"$f":"IF(B176<>SUM(AQ176:AS176),1,0)","v":0}]
["SENSORIALES VISUALES",0,0,0,null,null,null,null,null,null,null,null,null,null,null,null,null,null,null,null,null,null,null,null,null,null,null,null,null,null,null,null,null,null,null,null,null,null,null,null,null,null,null,null,null,"",null,null,null,null,null,null,null,null,null,null,null,null,null,null,null,null,null,null,null,null,null,null,null,null,null,null,null,null,null,null,null,null,"",null,null,null,null,null,0]
["TRAUMATOLÓGICOS",0,0,0,null,null,null,null,null,null,null,null,null,null,null,null,null,null,null,null,null,null,null,null,null,null,null,null,null,null,null,null,null,null,null,null,null,null,null,null,null,null,null,null,null,"",null,null,null,null,null,null,null,null,null,null,null,null,null,null,null,null,null,null,null,null,null,null,null,null,null,null,null,null,null,null,null,null,"",null,null,null,null,null,0]
["AMPUTADOS POR OTRAS CAUSAS",0,0,0,null,null,null,null,null,null,null,null,null,null,null,null,null,null,null,null,null,null,null,null,null,null,null,null,null,null,null,null,null,null,null,null,null,null,null,null,null,null,null,null,null,"",null,null,null,null,null,null,null,null,null,null,null,null,null,null,null,null,null,null,null,null,null,null,null,null,null,null,null,null,null,null,null,null,"",null,null,null,null,null,0]
["AMPUTADOS POR DIABETES",0,0,0,null,null,null,null,null,null,null,null,null,null,null,null,null,null,null,null,null,null,null,null,null,null,null,null,null,null,null,null,null,null,null,null,null,null,null,null,null,null,null,null,null,"",null,null,null,null,null,null,null,null,null,null,null,null,null,null,null,null,null,null,null,null,null,null,null,null,null,null,null,null,null,null,null,null,"",null,null,null,null,null,0]
["ENFERMEDADES DEL CORAZÓN",0,0,0,null,null,null,null,null,null,null,null,null,null,null,null,null,null,null,null,null,null,null,null,null,null,null,null,null,null,null,null,null,null,null,null,null,null,null,null,null,null,null,null,null,"",null,null,null,null,null,null,null,null,null,null,null,null,null,null,null,null,null,null,null,null,null,null,null,null,null,null,null,null,null,null,null,null,"",null,null,null,null,null,0]
["RESPIRATORIO",0,0,0,null,null,null,null,null,null,null,null,null,null,null,null,null,null,null,null,null,null,null,null,null,null,null,null,null,null,null,null,null,null,null,null,null,null,null,null,null,null,null,null,null,"",null,null,null,null,null,null,null,null,null,null,null,null,null,null,null,null,null,null,null,null,null,null,null,null,null,null,null,null,null,null,null,null,"",null,null,null,null,null,0]
["NEUROMUSCULARES AGUDAS",0,0,0,null,null,null,null,null,null,null,null,null,null,null,null,null,null,null,null,null,null,null,null,null,null,null,null,null,null,null,null,null,null,null,null,null,null,null,null,null,null,null,null,null,"",null,null,null,null,null,null,null,null,null,null,null,null,null,null,null,null,null,null,null,null,null,null,null,null,null,null,null,null,null,null,null,null,"",null,null,null,null,null,0]
["NEUROMUSCULARES CRÓNICAS",0,0,0,null,null,null,null,null,null,null,null,null,null,null,null,null,null,null,null,null,null,null,null,null,null,null,null,null,null,null,null,null,null,null,null,null,null,null,null,null,null,null,null,null,"",null,null,null,null,null,null,null,null,null,null,null,null,null,null,null,null,null,null,null,null,null,null,null,null,null,null,null,null,null,null,null,null,"",null,null,null,null,null,0]
["REUMATOLÓGICAS",0,0,0,null,null,null,null,null,null,null,null,null,null,null,null,null,null,null,null,null,null,null,null,null,null,null,null,null,null,null,null,null,null,null,null,null,null,null,null,null,null,null,null,null,"",null,null,null,null,null,null,null,null,null,null,null,null,null,null,null,null,null,null,null,null,null,null,null,null,null,null,null,null,null,null,null,null,"",null,null,null,null,null,0]
["NEUROLÓGICAS ESCLEROSIS LATERAL AMIOTRÓFICA (ELA)",0,0,0,null,null,null,null,null,null,null,null,null,null,null,null,null,null,null,null,null,null,null,null,null,null,null,null,null,null,null,null,null,null,null,null,null,null,null,null,null,null,null,null,null,"",null,null,null,null,null,null,null,null,null,null,null,null,null,null,null,null,null,null,null,null,null,null,null,null,null,null,null,null,null,null,null,null,"",null,null,null,null,null,0]
["RETRASO EN EL DESARROLLO PSICOMOTOR",0,0,0,null,null,null,null,null,null,null,null,null,null,null,null,null,null,null,null,null,null,null,null,null,null,null,null,null,null,null,null,null,null,null,null,null,null,null,null,null,null,null,null,null,"",null,null,null,null,null,null,null,null,null,null,null,null,null,null,null,null,null,null,null,null,null,null,null,null,null,null,null,null,null,null,null,null,"",null,null,null,null,null,0]
["ONCOLÓGICOS ",0,0,0,null,null,null,null,null,null,null,null,null,null,null,null,null,null,null,null,null,null,null,null,null,null,null,null,null,null,null,null,null,null,null,null,null,null,null,null,null,null,null,null,null,"",null,null,null,null,null,null,null,null,null,null,null,null,null,null,null,null,null,null,null,null,null,null,null,null,null,null,null,null,null,null,null,null,"",null,null,null,null,null,0]
["SINDROME DE INMOVILIZACIÓN",0,0,0,null,null,null,null,null,null,null,null,null,null,null,null,null,null,null,null,null,null,null,null,null,null,null,null,null,null,null,null,null,null,null,null,null,null,null,null,null,null,null,null,null,"",null,null,null,null,null,null,null,null,null,null,null,null,null,null,null,null,null,null,null,null,null,null,null,null,null,null,null,null,null,null,null,null,"",null,null,null,null,null,0]
["CUIDADOS PALIATIVOS",0,0,0,null,null,null,null,null,null,null,null,null,null,null,null,null,null,null,null,null,null,null,null,null,null,null,null,null,null,null,null,null,null,null,null,null,null,null,null,null,null,null,null,null,"",null,null,null,null,null,null,null,null,null,null,null,null,null,null,null,null,null,null,null,null,null,null,null,null,null,null,null,null,null,null,null,null,"",null,null,null,null,null,0]
["CIRUGÍA MAYOR ABDOMINAL",{"$f":"SUM(C191+D191)","v":0},0,0,null,null,null,null,null,null,null,null,null,null,null,null,null,null,null,null,null,null,null,null,null,null,null,null,null,null,null,null,null,null,null,null,null,null,null,null,null,null,null,null,null,"",null,null,null,null,null,null,null,null,null,null,null,null,null,null,null,null,null,null,null,null,null,null,null,null,null,null,null,null,null,null,null,null,"",null,null,null,null,null,0]
["OTROS",0,0,0,null,null,null,null,null,null,null,null,null,null,null,null,null,null,null,null,null,null,null,null,null,null,null,null,null,null,null,null,null,null,null,null,null,null,null,null,null,null,null,null,null,"",null,null,null,null,null,null,null,null,null,null,null,null,null,null,null,null,null,null,null,null,null,null,null,null,null,null,null,null,null,null,null,null,"",null,null,null,null,null,0]
["EGRESOS",{"$f":"SUM(B194:B198)","v":0},0,0,{"$f":"SUM(E194:E198)","v":0},0,0,0,0,0,0,0,0,0,0,0,0,0,0,0,0,0,0,0,0,0,0,0,0,0,0,0,0,0,0,0,0,0,0,0,0,0,0,0,0]
["EGRESOS POR ALTA",{"$f":"SUM(C194+D194)","v":0},{"$f":"SUM(E194+G194+I194+K194+M194+O194+Q194+S194+U194+W194+Y194+AA194+AC194+AE194+AG194+AI194+AK194+AM194+AO194)","v":0},0,null,null,null,null,null,null,null,null,null,null,null,null,null,null,null,null,null,null,null,null,null,null,null,null,null,null,null,null,null,null,null,null,null,null,null,null,null,null,null,null,null,"",null,null,null,null,null,null,null,null,null,null,null,null,null,null,null,null,null,null,null,null,null,null,null,null,null,null,null,null,null,null,null,null,{"$f":"IF(CG194=1,\"* El número de Egresos Según tipo de atención NO DEBE ser diferente al Total. \",\"\")","v":""},null,null,null,null,null,{"$f":"IF(B194<>SUM(AQ194:AS194),1,0)","v":0}]
["EGRESOS POR ABANDONO",{"$f":"SUM(C195+D195)","v":0},0,0,null,null,null,null,null,null,null,null,null,null,null,null,null,null,null,null,null,null,null,null,null,null,null,null,null,null,null,null,null,null,null,null,null,null,null,null,null,null,null,null,null,"",null,null,null,null,null,null,null,null,null,null,null,null,null,null,null,null,null,null,null,null,null,null,null,null,null,null,null,null,null,null,null,null,{"$f":"IF(CG195=1,\"* El número de Egresos Según tipo de atención NO DEBE ser diferente al Total. \",\"\")","v":""},null,null,null,null,null,{"$f":"IF(B195<>SUM(AQ195:AS195),1,0)","v":0}]
["EGRESOS POR FALLECIMIENTO",{"$f":"SUM(C196+D196)","v":0},0,0,null,null,null,null,null,null,null,null,null,null,null,null,null,null,null,null,null,null,null,null,null,null,null,null,null,null,null,null,null,null,null,null,null,null,null,null,null,null,null,null,null,"",null,null,null,null,null,null,null,null,null,null,null,null,null,null,null,null,null,null,null,null,null,null,null,null,null,null,null,null,null,null,null,null,{"$f":"IF(CG196=1,\"* El número de Egresos Según tipo de atención NO DEBE ser diferente al Total. \",\"\")","v":""},null,null,null,null,null,{"$f":"IF(B196<>SUM(AQ196:AS196),1,0)","v":0}]
["EGRESOS ACV REFERIDO A APS",{"$f":"SUM(C197+D197)","v":0},0,0,null,null,null,null,null,null,null,null,null,null,null,null,null,null,null,null,null,null,null,null,null,null,null,null,null,null,null,null,null,null,null,null,null,null,null,null,null,null,null,null,null,"",null,null,null,null,null,null,null,null,null,null,null,null,null,null,null,null,null,null,null,null,null,null,null,null,null,null,null,null,null,null,null,null,{"$f":"IF(CG197=1,\"* El número de Egresos Según tipo de atención NO DEBE ser diferente al Total. \",\"\")","v":""},null,null,null,null,null,{"$f":"IF(B197<>SUM(AQ197:AS197),1,0)","v":0}]
["OTROS",{"$f":"SUM(C198+D198)","v":0},0,0,null,null,null,null,null,null,null,null,null,null,null,null,null,null,null,null,null,null,null,null,null,null,null,null,null,null,null,null,null,null,null,null,null,null,null,null,null,null,null,null,null,"",null,null,null,null,null,null,null,null,null,null,null,null,null,null,null,null,null,null,null,null,null,null,null,null,null,null,null,null,null,null,null,null,{"$f":"IF(CG198=1,\"* El número de Egresos Según tipo de atención NO DEBE ser diferente al Total. \",\"\")","v":""},null,null,null,null,null,{"$f":"IF(B198<>SUM(AQ198:AS198),1,0)","v":0}]
["SECCIÓN B.2: EVALUACIÓN INICIAL"]
["PROFESIONAL","TOTAL      "]
[]
[null,"Ambos Sexos","Hombres","Mujeres"]
["KINESIÓLOGO",{"$f":"SUM(C203+D203)","v":0}]
["TERAPEUTA OCUPACIONAL",0]
["FONOAUDIÓLOGO",0]
["PSICÓLOGO/A",0]
["ASISTENTE SOCIAL",0]
["ORTOPROTESISTA",0]
["TOTAL",{"$f":"SUM(B203:B208)","v":0},{"$f":"SUM(C203:C208)","v":0},{"$f":"SUM(D203:D208)","v":0}]
["SECCIÓN B.3: EVALUACIÓN INTERMEDIA"]
["PROFESIONAL","TOTAL      "]
["KINESIÓLOGO"]
["TERAPEUTA OCUPACIONAL"]
["FONOAUDIÓLOGO"]
["PSICÓLOGO/A"]
["ORTOPROTESISTA"]
["TOTAL",{"$f":"SUM(B212:B216)","v":0}]
["SECCIÓN B.4: SESIONES DE REHABILITACIÓN"]
["PROFESIONAL","TOTAL      "]
["KINESIÓLOGO"]
["TERAPEUTA OCUPACIONAL"]
["FONOAUDIÓLOGO"]
["PSICÓLOGO/A"]
["TOTAL",{"$f":"SUM(B220:B223)","v":0}]
["SECCIÓN B.5: DERIVACIONES Y CONTINUIDAD EN LOS CUIDADOS"]
["DERIVACIÓN","TOTAL      "]
["A OTRO HOSPITAL (hospitalizado)"]
["A NIVEL SECUNDARIO (ambulatorio)"]
["A NIVEL PRIMARIO"]
["SECCIÓN B.6: PROCEDIMIENTOS Y ACTIVIDADES"]
["TIPO","TOTAL"]
["EVALUACIÓN AYUDAS TÉCNICAS"]
["ENTRENAMIENTO DE AYUDAS TÉCNICAS"]
["FISIOTERAPIA"]
["TRATAMIENTO COMPRESIVO"]
["ENTRENAMIENTO PROTÉSICO"]
["EDUCACIÓN GRUPAL"]
["EDUCACIÓN FAMILIAR"]
["EJERCICIOS TERAPÉUTICOS"]
["TRATAMIENTO (VOZ, HABLA Y/O LENGUAJE)"]
["TRATAMIENTO FUNCIONES MOTORAS ORALES "]
["ESTIMULACIÓN COGNITIVA"]
["PREVENCIÓN DE DETERIORO DE ÓRGANOS FONO ARTICULATORIOS (OFA)"]
["REHABILITACIÓN  DEGLUCIÓN"]
["CONFECCIÓN ÓRTESIS Y/O ADAPTACIONES"]
["HABILITACIÓN Y REHABILITACIÓN EN ACTIVIDADES DE LA VIDA DIARIA (AVD)"]
["HABILITACIÓN Y REHABILITACIÓN EDUCACIONAL"]
["ACTIVIDADES RECREATIVAS"]
["ACTIVIDADES TERAPÉUTICAS"]
["INTEGRACIÓN SENSORIAL"]
["PSICOTERAPIA "]
["MASOTERAPIA"]
["ADAPTACIÓN DEL HOGAR"]
["ORIENTACIÓN Y MOVILIDAD"]
["ORIENTACIÓN SOCIOLABORAL"]
["ORIENTACIÓN FAMILIAR Y A LA RED DE APOYO PARA EL TRABAJO"]
["GESTIÓN DE LA RED LOCAL PARA EL TRABAJO"]
["TOMA DE MOLDE DE ÓRTESIS Y PRÓTESIS"]
["PRUEBA DE ÓRTESIS Y PRÓTESIS"]
["CONFECCIÓN DE ÓRTESIS Y PRÓTESIS"]
["REPARACIÓN DE ÓRTESIS Y PRÓTESIS"]
["REHABILITACIÓN AUDITIVA INDIVIDUAL"]
["REHABILITACIÓN AUDITIVA GRUPAL"]
["TERAPIA RESPIRATORIA Y FUNCIONAL PULMONAR"]
["EDUCACIÓN INDIVIDUAL"]
["TOTAL",{"$f":"SUM(B232:B265)","v":0}]
["SECCIÓN C: AYUDAS TÉCNICAS DE SALUD, NIVEL APS Y HOSPITALARIO"]
["SECCIÓN C.1: NÚMERO DE PERSONAS QUE RECIBEN AYUDAS TÉCNICAS"]
["AYUDAS TÉCNICAS","TOTAL","POR DE EDAD (en años)"]
[null,null,"< 12 meses","12 a 23 meses","2 - 4","5 - 9","10 - 14","15 - 19 ","20 - 24 ","25-29","30-34","35 - 39","40 - 44","45- 49","50 - 54","55 - 59","60 - 64","65 - 69","70 - 74","75 - 79","80 y mas"]
["Número de personas con Ayuda técnica entregada"]
["NÚMERO DE PERSONAS CON AYUDA TÉCNICA ENTREGADA",{"$f":"SUM(C272:U272)","v":0}]
["SECCIÓN C.2: NÚMERO DE  AYUDAS TÉCNICAS ENTREGADAS POR TIPO"]
["TOTAL DE AYUDAS TÉCNICAS ENTREGADAS","TOTAL ","POR DE EDAD (en años)"]
[null,null,"< 12 meses","12 a 23 meses","2 - 4","5 - 9","10 - 14","15 - 19 ","20 - 24 ","25-29","30-34","35 - 39","40 - 44","45- 49","50 - 54","55 - 59","60 - 64","65 - 69","70 - 74","75 - 79","80 y mas"]
["SILLAS DE RUEDAS ESTÁNDAR",{"$f":"SUM(C276:U276)","v":0}]
["SILLA DE RUEDAS NEUROLÓGICA",0]
["COJÍN ANTI ESCARAS",{"$f":"SUM(C278:U278)","v":0}]
["COLCHÓN ANTI ESCARAS",0]
["BASTONES",0]
["ANDADORES",0]
["CORSÉ",0]
["ORTESIS BAJA TEMPERATURA (palmeta, cock up, digitales entre otras)",0]
["ORTESIS ALTA TEMPERATURA (OTP, canaletas, canaleta con yugo, entre otras)",0]
["SISTEMA COMPRESIVO",0]
["PRÓTESIS EXTREMIDAD INFERIOR",0]
["PRÓTESIS EXTREMIDAD SUPERIOR",0]
["AYUDA TÉCNICA AUDITIVAS AUDÍFONOS",0]
["AYUDA TÉCNICA VISUALES LENTES",0]
["PLANTILLA ORTOPÉDICA",0]
["BOTA O BOTÍN DE DESCARGA",0]
["ZAPATO ORTOPÉDICO",0]
["BAÑO PORTÁTIL",0]
["TECNOLOGÍAS DE LA COMUNICACIÓN AUMENTATIVA Y ALTERNATIVAS",0]
["EQUIPO VENTILADOR MECÁNICO NO INVASIVO",0]
["ASPIRADOR DE SECRECIONES",0]
["OTRAS",0]
["SECCIÓN C.3: AYUDAS TÉCNICAS POR CONDICIÓN DE SALUD"]
["TOTAL AYUDA TÉCNICA POR CONDICIÓN DE SALUD CONDICIÓN DE SALUD","TOTAL","POR DE EDAD (en años)"]
[null,null,"< 12 meses","12 a 23 meses","2 - 4","5 - 9","10 - 14","15 - 19 ","20 - 24 ","25-29","30-34","35 - 39","40 - 44","45- 49","50 - 54","55 - 59","60 - 64","65 - 69","70 - 74","75 - 79","80 y mas"]
["NEUROLÓGICO  TRAUMATISMO ENCÉFALO CRANEANO ",{"$f":"SUM(C301:U301)","v":0}]
["NEUROLÓGICOS DISRAFIA",{"$f":"SUM(C302:U302)","v":0}]
["NEUROLÓGICO LESIÓN MEDULAR",0]
["NEUROLÓGICO ACCIDENTE CEREBRO VASCULAR HEMORRÁGICO",0]
["NEUROLÓGICO ACCIDENTE CEREBRO VASCULAR  ISQUÉMICO",{"$f":"SUM(C305:U305)","v":0}]
["NEUROLÓGICO TUMORES",0]
["NEUROLÓGICO PARÁLISIS CEREBRAL",0]
["NEUROLÓGICO PARKINSON",0]
["NEUROLÓGICO ESCLEROSIS LATERAL AMIOTRÓFICA",0]
["OTROS NEUROLÓGICOS ",0]
["ARTROSIS CADERA/RODILLA GES",0]
["ARTROSIS CADERA/RODILLA NO GES",0]
["OTRAS ARTROSIS  (hombro, columna)",0]
["DIABETES MELLITUS",0]
["AMPUTACIÓN POR DIABETES",0]
["AMPUTACIÓN POR OTRAS CAUSAS",0]
["ONCOLÓGICOS",0]
["CUIDADOS PALIATIVOS",0]
["QUEMADOS (NO GES)",0]
["GRAN QUEMADO (GES)",0]
["SENSORIAL AUDITIVO",0]
["SENSORIAL VISUAL",0]
["OTRAS CONDICIONES DE SALUD",{"$f":"SUM(C323:U323)","v":0}]
["SECCIÓN D: REHABILITACIÓN Y TELESALUD EN NIVEL APS Y HOSPITALARIO"]
["SECCION D.1: ACCIONES DE REHABILITACIÓN Y TELESALUD EN APS"]
["TIPO DE CONTROL","PROFESIONAL","TOTAL",null,null,"NÚMERO DE ACCIONES POR RANGOS DE EDAD",null,null,null,null,null,null,null,null,null,null,null,null,null,null,null,null,null,null,null,null,null,null,null,null,null,null,null,null,null,null,null,null,null,null,null,null,null,"Beneficiarios"]
[null,null,null,null,null,"< 12 meses",null,"12 a 23 meses",null,"2 - 4",null,"5 - 9",null,"10 - 14",null,"15 a 19",null,"20 - 24",null,"25 - 29",null,"30 - 34",null,"35 - 39",null,"40 - 44",null,"45 - 49",null,"50 - 54",null,"55 - 59",null,"60 - 64",null,"65 - 69",null,"70 - 74",null,"75 - 79",null,"80 y mas"]
[null,null,"Ambos Sexos","Hombres","Mujeres","Hombres","Mujeres","Hombres","Mujeres","Hombres","Mujeres","Hombres","Mujeres","Hombres","Mujeres","Hombres","Mujeres","Hombres","Mujeres","Hombres","Mujeres","Hombres","Mujeres","Hombres","Mujeres","Hombres","Mujeres","Hombres","Mujeres","Hombres","Mujeres","Hombres","Mujeres","Hombres","Mujeres","Hombres","Mujeres","Hombres","Mujeres","Hombres","Mujeres","Hombres","Mujeres"]
["Evaluación  intermedia remota\n\n","Médico  ",{"$f":"SUM(D329:E329)","v":0},{"$f":"SUM(F329+H329+J329+L329+N329+P329+R329+T329+V329+X329+Z329+AB329+AD329+AF329+AH329+AJ329+AL329+AN329+AP329)","v":0},{"$f":"SUM(G329+I329+K329+M329+O329+Q329+S329+U329+W329+Y329+AA329+AC329+AE329+AG329+AI329+AK329+AM329+AO329+AQ329)","v":0},null,null,null,null,null,null,null,null,null,null,null,null,null,null,null,null,null,null,null,null,null,null,null,null,null,null,null,null,null,null,null,null,null,null,null,null,null,null,null,{"$f":"CA329","v":""},null,null,null,null,null,null,null,null,null,null,null,null,null,null,null,null,null,null,null,null,null,null,null,null,null,null,null,null,null,null,null,null,null,{"$f":"IF(CG329=1,\"*El Total de Beneficiarios no puede superar el Total por Sexo. \",\"\")","v":""},null,null,null,null,null,{"$f":"IF(AR329>C329,1,0)","v":0}]
[null,"Kinesiólogo",0,{"$f":"SUM(F330+H330+J330+L330+N330+P330+R330+T330+V330+X330+Z330+AB330+AD330+AF330+AH330+AJ330+AL330+AN330+AP330)","v":0},0,null,null,null,null,null,null,null,null,null,null,null,null,null,null,null,null,null,null,null,null,null,null,null,null,null,null,null,null,null,null,null,null,null,null,null,null,null,null,null,{"$f":"CA330","v":""},null,null,null,null,null,null,null,null,null,null,null,null,null,null,null,null,null,null,null,null,null,null,null,null,null,null,null,null,null,null,null,null,null,"",null,null,null,null,null,{"$f":"IF(AR330>C330,1,0)","v":0}]
[null,"Terapeuta Ocupacional",0,0,0,null,null,null,null,null,null,null,null,null,null,null,null,null,null,null,null,null,null,null,null,null,null,null,null,null,null,null,null,null,null,null,null,null,null,null,null,null,null,null,"",null,null,null,null,null,null,null,null,null,null,null,null,null,null,null,null,null,null,null,null,null,null,null,null,null,null,null,null,null,null,null,null,null,"",null,null,null,null,null,0]
[null,"Fonoaudiólogo",0,0,0,null,null,null,null,null,null,null,null,null,null,null,null,null,null,null,null,null,null,null,null,null,null,null,null,null,null,null,null,null,null,null,null,null,null,null,null,null,null,null,"",null,null,null,null,null,null,null,null,null,null,null,null,null,null,null,null,null,null,null,null,null,null,null,null,null,null,null,null,null,null,null,null,null,"",null,null,null,null,null,0]
["Sesión de rehabilitación vía remota (telerehabilitación)","Médico",0,0,0,null,null,null,null,null,null,null,null,null,null,null,null,null,null,null,null,null,null,null,null,null,null,null,null,null,null,null,null,null,null,null,null,null,null,null,null,null,null,null,"",null,null,null,null,null,null,null,null,null,null,null,null,null,null,null,null,null,null,null,null,null,null,null,null,null,null,null,null,null,null,null,null,null,"",null,null,null,null,null,0]
[null,"Kinesiólogo",0,0,0,null,null,null,null,null,null,null,null,null,null,null,null,null,null,null,null,null,null,null,null,null,null,null,null,null,null,null,null,null,null,null,null,null,null,null,null,null,null,null,"",null,null,null,null,null,null,null,null,null,null,null,null,null,null,null,null,null,null,null,null,null,null,null,null,null,null,null,null,null,null,null,null,null,"",null,null,null,null,null,0]
[null,"Terapeuta Ocupacional",0,0,0,null,null,null,null,null,null,null,null,null,null,null,null,null,null,null,null,null,null,null,null,null,null,null,null,null,null,null,null,null,null,null,null,null,null,null,null,null,null,null,"",null,null,null,null,null,null,null,null,null,null,null,null,null,null,null,null,null,null,null,null,null,null,null,null,null,null,null,null,null,null,null,null,null,"",null,null,null,null,null,0]
[null,"Fonoaudiólogo",0,0,0,null,null,null,null,null,null,null,null,null,null,null,null,null,null,null,null,null,null,null,null,null,null,null,null,null,null,null,null,null,null,null,null,null,null,null,null,null,null,null,"",null,null,null,null,null,null,null,null,null,null,null,null,null,null,null,null,null,null,null,null,null,null,null,null,null,null,null,null,null,null,null,null,null,"",null,null,null,null,null,0]
["Educación remota a usuario y/o cuidador","Médico",0,0,0,null,null,null,null,null,null,null,null,null,null,null,null,null,null,null,null,null,null,null,null,null,null,null,null,null,null,null,null,null,null,null,null,null,null,null,null,null,null,null,"",null,null,null,null,null,null,null,null,null,null,null,null,null,null,null,null,null,null,null,null,null,null,null,null,null,null,null,null,null,null,null,null,null,"",null,null,null,null,null,0]
[null,"Kinesiólogo",0,0,0,null,null,null,null,null,null,null,null,null,null,null,null,null,null,null,null,null,null,null,null,null,null,null,null,null,null,null,null,null,null,null,null,null,null,null,null,null,null,null,"",null,null,null,null,null,null,null,null,null,null,null,null,null,null,null,null,null,null,null,null,null,null,null,null,null,null,null,null,null,null,null,null,null,"",null,null,null,null,null,0]
[null,"Terapeuta Ocupacional",0,0,0,null,null,null,null,null,null,null,null,null,null,null,null,null,null,null,null,null,null,null,null,null,null,null,null,null,null,null,null,null,null,null,null,null,null,null,null,null,null,null,"",null,null,null,null,null,null,null,null,null,null,null,null,null,null,null,null,null,null,null,null,null,null,null,null,null,null,null,null,null,null,null,null,null,"",null,null,null,null,null,0]
[null,"Fonoaudiólogo",0,0,0,null,null,null,null,null,null,null,null,null,null,null,null,null,null,null,null,null,null,null,null,null,null,null,null,null,null,null,null,null,null,null,null,null,null,null,null,null,null,null,"",null,null,null,null,null,null,null,null,null,null,null,null,null,null,null,null,null,null,null,null,null,null,null,null,null,null,null,null,null,null,null,null,null,"",null,null,null,null,null,0]
["SECCION D2: ACCIONES DE REHABILITACIÓN Y TELESALUD EN HOSPITAL "]
["TIPO DE CONTROL","PROFESIONAL","TOTAL",null,null,"NÚMERO DE ACCIONES POR RANGOS DE EDAD",null,null,null,null,null,null,null,null,null,null,null,null,null,null,null,null,null,null,null,null,null,null,null,null,null,null,null,null,null,null,null,null,null,null,null,null,null,"Beneficiarios"]
[null,null,null,null,null,"< 12 meses",null,"12 a 23 meses",null,"2 - 4",null,"5 - 9",null,"10 - 14",null,"15 a 19",null,"20 - 24",null,"25 - 29",null,"30 - 34",null,"35 - 39",null,"40 - 44",null,"45 - 49",null,"50 - 54",null,"55 - 59",null,"60 - 64",null,"65 - 69",null,"70 - 74",null,"75 - 79",null,"80 y mas"]
[null,null,"Ambos Sexos","Hombres","Mujeres","Hombres","Mujeres","Hombres","Mujeres","Hombres","Mujeres","Hombres","Mujeres","Hombres","Mujeres","Hombres","Mujeres","Hombres","Mujeres","Hombres","Mujeres","Hombres","Mujeres","Hombres","Mujeres","Hombres","Mujeres","Hombres","Mujeres","Hombres","Mujeres","Hombres","Mujeres","Hombres","Mujeres","Hombres","Mujeres","Hombres","Mujeres","Hombres","Mujeres","Hombres","Mujeres"]
["Evaluación intermedia remota","Médico Fisiatra",{"$f":"SUM(D345:E345)","v":0},{"$f":"SUM(F345+H345+J345+L345+N345+P345+R345+T345+V345+X345+Z345+AB345+AD345+AF345+AH345+AJ345+AL345+AN345+AP345)","v":0},0,null,null,null,null,null,null,null,null,null,null,null,null,null,null,null,null,null,null,null,null,null,null,null,null,null,null,null,null,null,null,null,null,null,null,null,null,null,null,null,{"$f":"CA345","v":""},null,null,null,null,null,null,null,null,null,null,null,null,null,null,null,null,null,null,null,null,null,null,null,null,null,null,null,null,null,null,null,null,null,{"$f":"IF(CG345=1,\"*El Total de Beneficiarios no puede superar el Total por Sexo. \",\"\")","v":""},null,null,null,null,null,{"$f":"IF(AR345>C345,1,0)","v":0}]
[null,"Kinesiólogo",0,{"$f":"SUM(F346+H346+J346+L346+N346+P346+R346+T346+V346+X346+Z346+AB346+AD346+AF346+AH346+AJ346+AL346+AN346+AP346)","v":0},0,null,null,null,null,null,null,null,null,null,null,null,null,null,null,null,null,null,null,null,null,null,null,null,null,null,null,null,null,null,null,null,null,null,null,null,null,null,null,null,"",null,null,null,null,null,null,null,null,null,null,null,null,null,null,null,null,null,null,null,null,null,null,null,null,null,null,null,null,null,null,null,null,null,"",null,null,null,null,null,0]
[null,"Terapeuta Ocupacional",0,0,0,null,null,null,null,null,null,null,null,null,null,null,null,null,null,null,null,null,null,null,null,null,null,null,null,null,null,null,null,null,null,null,null,null,null,null,null,null,null,null,"",null,null,null,null,null,null,null,null,null,null,null,null,null,null,null,null,null,null,null,null,null,null,null,null,null,null,null,null,null,null,null,null,null,"",null,null,null,null,null,0]
[null,"Fonoaudiólogo",0,0,0,null,null,null,null,null,null,null,null,null,null,null,null,null,null,null,null,null,null,null,null,null,null,null,null,null,null,null,null,null,null,null,null,null,null,null,null,null,null,null,"",null,null,null,null,null,null,null,null,null,null,null,null,null,null,null,null,null,null,null,null,null,null,null,null,null,null,null,null,null,null,null,null,null,"",null,null,null,null,null,0]
["Sesión de rehabilitación vía remota (telerehabilitación)","Médico Fisiatra",0,0,0,null,null,null,null,null,null,null,null,null,null,null,null,null,null,null,null,null,null,null,null,null,null,null,null,null,null,null,null,null,null,null,null,null,null,null,null,null,null,null,"",null,null,null,null,null,null,null,null,null,null,null,null,null,null,null,null,null,null,null,null,null,null,null,null,null,null,null,null,null,null,null,null,null,"",null,null,null,null,null,0]
[null,"Kinesiólogo",0,0,0,null,null,null,null,null,null,null,null,null,null,null,null,null,null,null,null,null,null,null,null,null,null,null,null,null,null,null,null,null,null,null,null,null,null,null,null,null,null,null,"",null,null,null,null,null,null,null,null,null,null,null,null,null,null,null,null,null,null,null,null,null,null,null,null,null,null,null,null,null,null,null,null,null,"",null,null,null,null,null,0]
[null,"Terapeuta Ocupacional",0,0,0,null,null,null,null,null,null,null,null,null,null,null,null,null,null,null,null,null,null,null,null,null,null,null,null,null,null,null,null,null,null,null,null,null,null,null,null,null,null,null,"",null,null,null,null,null,null,null,null,null,null,null,null,null,null,null,null,null,null,null,null,null,null,null,null,null,null,null,null,null,null,null,null,null,"",null,null,null,null,null,0]
[null,"Fonoaudiólogo",0,0,0,null,null,null,null,null,null,null,null,null,null,null,null,null,null,null,null,null,null,null,null,null,null,null,null,null,null,null,null,null,null,null,null,null,null,null,null,null,null,null,"",null,null,null,null,null,null,null,null,null,null,null,null,null,null,null,null,null,null,null,null,null,null,null,null,null,null,null,null,null,null,null,null,null,"",null,null,null,null,null,0]
["Educación remota a usuario y/o cuidador","Médico Fisiatra",0,0,0,null,null,null,null,null,null,null,null,null,null,null,null,null,null,null,null,null,null,null,null,null,null,null,null,null,null,null,null,null,null,null,null,null,null,null,null,null,null,null,"",null,null,null,null,null,null,null,null,null,null,null,null,null,null,null,null,null,null,null,null,null,null,null,null,null,null,null,null,null,null,null,null,null,"",null,null,null,null,null,0]
[null,"Kinesiólogo",0,0,0,null,null,null,null,null,null,null,null,null,null,null,null,null,null,null,null,null,null,null,null,null,null,null,null,null,null,null,null,null,null,null,null,null,null,null,null,null,null,null,"",null,null,null,null,null,null,null,null,null,null,null,null,null,null,null,null,null,null,null,null,null,null,null,null,null,null,null,null,null,null,null,null,null,"",null,null,null,null,null,0]
[null,"Terapeuta Ocupacional",0,0,0,null,null,null,null,null,null,null,null,null,null,null,null,null,null,null,null,null,null,null,null,null,null,null,null,null,null,null,null,null,null,null,null,null,null,null,null,null,null,null,"",null,null,null,null,null,null,null,null,null,null,null,null,null,null,null,null,null,null,null,null,null,null,null,null,null,null,null,null,null,null,null,null,null,"",null,null,null,null,null,0]
[null,"Fonoaudiólogo",0,0,0,null,null,null,null,null,null,null,null,null,null,null,null,null,null,null,null,null,null,null,null,null,null,null,null,null,null,null,null,null,null,null,null,null,null,null,null,null,null,null,"",null,null,null,null,null,null,null,null,null,null,null,null,null,null,null,null,null,null,null,null,null,null,null,null,null,null,null,null,null,null,null,null,null,"",null,null,null,null,null,0]
["SECCIÓN E: REHABILITACIÓN DOMICILIARIA EN NIVEL HOSPITALARIO"]
["TIPO DE ACTIVIDAD","PROFESIONAL","TOTAL",null,null,"NÚMERO DE ACCIONES POR RANGOS DE EDAD",null,null,null,null,null,null,null,null,null,null,null,null,null,null,null,null,null,null,null,null,null,null,null,null,null,null,null,null,null,null,null,null,null,null,null,null,null,"Beneficiarios"]
[null,null,null,null,null,"< 12 meses",null,"12 a 23 meses",null,"2 - 4",null,"5 - 9",null,"10 - 14",null,"15 a 19",null,"20 - 24",null,"25 - 29",null,"30 - 34",null,"35 - 39",null,"40 - 44",null,"45 - 49",null,"50 - 54",null,"55 - 59",null,"60 - 64",null,"65 - 69",null,"70 - 74",null,"75 - 79",null,"80 y mas"]
[null,null,"Ambos Sexos","Hombres","Mujeres","Hombres","Mujeres","Hombres","Mujeres","Hombres","Mujeres","Hombres","Mujeres","Hombres","Mujeres","Hombres","Mujeres","Hombres","Mujeres","Hombres","Mujeres","Hombres","Mujeres","Hombres","Mujeres","Hombres","Mujeres","Hombres","Mujeres","Hombres","Mujeres","Hombres","Mujeres","Hombres","Mujeres","Hombres","Mujeres","Hombres","Mujeres","Hombres","Mujeres","Hombres","Mujeres"]
["Rehabilitación domiciliaria ","Médico Fisiatra",{"$f":"SUM(D361:E361)","v":0},{"$f":"SUM(F361+H361+J361+L361+N361+P361+R361+T361+V361+X361+Z361+AB361+AD361+AF361+AH361+AJ361+AL361+AN361+AP361)","v":0},0,null,null,null,null,null,null,null,null,null,null,null,null,null,null,null,null,null,null,null,null,null,null,null,null,null,null,null,null,null,null,null,null,null,null,null,null,null,null,null,{"$f":"CA361","v":""},null,null,null,null,null,null,null,null,null,null,null,null,null,null,null,null,null,null,null,null,null,null,null,null,null,null,null,null,null,null,null,null,null,{"$f":"IF(CG361=1,\"*El Total de Beneficiarios no puede superar el Total por Sexo. \",\"\")","v":""},null,null,null,null,null,{"$f":"IF(AR361>C361,1,0)","v":0}]
[null,"Kinesiólogo",{"$f":"SUM(D362:E362)","v":0},0,0,null,null,null,null,null,null,null,null,null,null,null,null,null,null,null,null,null,null,null,null,null,null,null,null,null,null,null,null,null,null,null,null,null,null,null,null,null,null,null,"",null,null,null,null,null,null,null,null,null,null,null,null,null,null,null,null,null,null,null,null,null,null,null,null,null,null,null,null,null,null,null,null,null,{"$f":"IF(CG362=1,\"*El Total de Beneficiarios no puede superar el Total por Sexo. \",\"\")","v":""},null,null,null,null,null,0]
[null,"Terapeuta Ocupacional",{"$f":"SUM(D363:E363)","v":0},0,0,null,null,null,null,null,null,null,null,null,null,null,null,null,null,null,null,null,null,null,null,null,null,null,null,null,null,null,null,null,null,null,null,null,null,null,null,null,null,null,"",null,null,null,null,null,null,null,null,null,null,null,null,null,null,null,null,null,null,null,null,null,null,null,null,null,null,null,null,null,null,null,null,null,{"$f":"IF(CG363=1,\"*El Total de Beneficiarios no puede superar el Total por Sexo. \",\"\")","v":""},null,null,null,null,null,0]
[null,"Fonoaudiólogo",{"$f":"SUM(D364:E364)","v":0},0,0,null,null,null,null,null,null,null,null,null,null,null,null,null,null,null,null,null,null,null,null,null,null,null,null,null,null,null,null,null,null,null,null,null,null,null,null,null,null,null,"",null,null,null,null,null,null,null,null,null,null,null,null,null,null,null,null,null,null,null,null,null,null,null,null,null,null,null,null,null,null,null,null,null,{"$f":"IF(CG364=1,\"*El Total de Beneficiarios no puede superar el Total por Sexo. \",\"\")","v":""},null,null,null,null,null,0]
[]
[]
[]
[]
[]
[]
[]
[]
[]
[]
[]
[]
[]
[]
[]
[]
[]
[]
[]
[]
[]
[]
[]
[]
[]
[]
[]
[]
[]
[]
[]
[]
[]
[]
[]
[{"$f":"SUM(B13:B26,D31:D56,B61:B65,B69:B72,B76:B79,B109:F109,B117:F117,B125:F125,B129:B130,B134:B135,B139:B141,C145:J160,B166:B198,B203:B208,B217,B224,B227:B229,B266,B272,B275,B300)","v":513},{"$f":"SUM(CG6:CT395)","v":0}]

{"sheet":"A29","index":21,"n_rows":213,"n_cols":83,"rows_kept":213,"cut":false,"hidden":false,"merged":[[95,4,96,5],[82,1,82,2],[79,1,79,2],[89,1,89,2],[90,1,90,2],[91,1,91,2],[92,1,92,2],[93,1,93,2],[95,1,97,1],[80,1,80,2],[88,1,88,2],[95,2,96,3],[30,2,31,2],[66,3,67,3],[68,0,87,0],[84,1,84,2],[85,1,85,2],[86,1,86,2],[72,1,72,2],[74,1,74,2],[73,1,73,2],[75,1,75,2],[87,1,87,2],[68,1,68,2],[76,1,76,2],[77,1,77,2],[88,0,93,0],[5,0,5,19],[8,1,8,3],[8,4,8,5],[8,6,8,7],[8,8,8,9],[8,10,8,11],[8,12,8,13],[8,14,8,15],[8,0,9,0],[30,12,30,14],[32,0,39,0],[43,0,45,0],[40,0,42,0],[30,0,31,1],[30,3,30,11],[101,0,103,0],[49,0,54,0],[46,0,48,0],[101,1,103,1],[55,0,58,0],[59,0,62,0],[78,1,78,2],[69,1,69,2],[70,1,70,2],[71,1,71,2],[83,1,83,2],[81,1,81,2],[66,0,67,0],[66,1,67,2],[63,0,64,0],[95,0,97,0]]}
["SERVICIO DE SALUD"]
[{"$f":"CONCATENATE(\"COMUNA: \",NOMBRE!B2,\" - \",\"( \",NOMBRE!C2,NOMBRE!D2,NOMBRE!E2,NOMBRE!F2,NOMBRE!G2,\" )\")","v":"COMUNA: CALLE LARGA - ( 05302 )"}]
[{"$f":"CONCATENATE(\"ESTABLECIMIENTO/ESTRATEGIA: \",NOMBRE!B3,\" - \",\"( \",NOMBRE!C3,NOMBRE!D3,NOMBRE!E3,NOMBRE!F3,NOMBRE!G3,NOMBRE!H3,\" )\")","v":"ESTABLECIMIENTO/ESTRATEGIA: DR. JOSE JOAQUIN AGUIRRE CAMPOS - ( 108308 )"}]
[{"$f":"CONCATENATE(\"MES: \",NOMBRE!B6,\" - \",\"( \",NOMBRE!C6,NOMBRE!D6,\" )\")","v":"MES: DICIEMBRE - ( 12 )"}]
[{"$f":"CONCATENATE(\"AÑO: \",NOMBRE!B7)","v":"AÑO: 2022"}]
["REM-29.  PROGRAMA DE IMÁGENES DIAGNÓSTICAS Y/O RESOLUTIVIDAD EN ATENCIÓN PRIMARIA"]
[]
["SECCIÓN A: PROGRAMA DE RESOLUTIVIDAD ATENCIÓN PRIMARIA DE SALUD"]
["CONSULTAS","TOTAL",null,null,"<15",null,"15 - 19",null,"20 - 64",null,"65 Y MÁS",null,"TOTAL INTERCONSULTAS GENERADAS EN APS PARA RESOLUCIÓN POR ESPECIALIDAD OFTALMOLOGÍA (UAPO Y CANASTA INTEGRAL)",null,"TOTAL INTERCONSULTAS GENERADAS EN APS PARA RESOLUCIÓN POR ESPECIALIDAD OTORRINOLARINGOLOGÍA (UAPORRINO Y CANASTA INTEGRAL)"]
[null,"Ambos Sexos","Hombres","Mujeres","Hombres","Mujeres","Hombres","Mujeres","Hombres","Mujeres","Hombres","Mujeres","Menos 15 años","15 y más años","Menos 15 años","15 y más años"]
["CONSULTAS MÉDICAS DE ESPECIALIDADES"]
["OFTALMOLOGÍA /UAPO",{"$f":"SUM(C12+D12)","v":0},{"$f":"SUM(E12+G12+I12+K12)","v":0},0]
["OTORRINOLARINGOLOGÍA/UAPORRINO",{"$f":"SUM(C13+D13)","v":0},0,0]
["CANASTA INTEGRAL OFTALMOLOGICA",{"$f":"SUM(C14+D14)","v":0},0,0]
["CANASTA INTEGRAL DE OTORRINOLARINGOLÓGICA",{"$f":"SUM(C15+D15)","v":0},{"$f":"SUM(E15+G15+I15+K15)","v":0},0]
["CANASTA INTEGRAL CLIMATERIO",{"$f":"SUM(C16+D16)","v":0},{"$f":"SUM(E16+G16+I16+K16)","v":0},0]
["CONSULTAS OTROS PROFESIONALES"]
["TECNÓLOGO MÉDICO POR VICIO DE REFRACCIÓN ",{"$f":"SUM(C18+D18)","v":0},{"$f":"SUM(E18+G18+I18+K18)","v":0},0]
["TECNÓLOGO MÉDICO (OFTALMOLOGÍA) OTRAS CONSULTAS ",0,0,0]
["TECNÓLOGO MÉDICO O FONOAUDIÓLOGO POR HIPOACUSIA (UAPORRINO)",0,0,0]
["TECNÓLOGO MÉDICO O FONOAUDIÓLOGO CONSULTAS (UAPORRINO)",0,0,0]
["CONSULTA DE CALIFICACIÓN DE URGENCIA POR TECNÓLOGO MÉDICO (UAPO)",0,0,0]
["TERAPEUTA OCUPACIONAL ",0,0,0]
["INGRESOS Y EGRESOS GLAUCOMA UAPO"]
["INGRESOS GLAUCOMA UAPO",{"$f":"SUM(C25+D25)","v":0},{"$f":"SUM(E25+G25+I25+K25)","v":0},{"$f":"SUM(F25+H25+J25+L25)","v":0}]
["EGRESOS GLAUCOMA UAPO",{"$f":"SUM(C26+D26)","v":0},{"$f":"SUM(E26+G26+I26+K26)","v":0},{"$f":"SUM(F26+H26+J26+L26)","v":0}]
["GLAUCOMA (por médico)"]
["CONTROLES DE GLAUCOMA UAPO",{"$f":"SUM(C28+D28)","v":0},{"$f":"SUM(E28+G28+I28+K28)","v":0},{"$f":"SUM(F28+H28+J28+L28)","v":0}]
["CONSULTA DESCARTE GLAUCOMA",{"$f":"SUM(C29+D29)","v":0},{"$f":"SUM(E29+G29+I29+K29)","v":0},{"$f":"SUM(F29+H29+J29+L29)","v":0}]
["SECCIÓN B: PROCEDIMIENTOS DE IMÁGENES DIAGNOSTICAS Y PROGRAMA DE RESOLUTIVIDAD EN APS  "]
["TIPO DE EXAMEN Y PROCEDIMIENTO DIAGNOSTICO",null,"TOTAL","POR EDAD (EN AÑOS)",null,null,null,null,null,null,null,null,"MODALIDAD"]
[null,null,null,"< 35","35 A 49","50 a 54","55 a 59","60 a 64","65 a 69","70 a 74","75 a 79","80 y más","INSTITUCIONAL","COMPRA AL SISTEMA","COMPRA EXTRASISTEMA"]
["MAMOGRAFÍA","SOLICITADAS",{"$f":"SUM(D33:L33)","v":48},0,6,7,18,10,6,1,0,0]
[null,"INFORMADAS",44,{"$f":"SUM(D35:D39)","v":1},{"$f":"SUM(E35:E39)","v":6},3,21,9,4,0,0,0,0,0,44,{"$f":"CA34&CB34","v":""},null,null,null,null,null,null,null,null,null,null,null,null,null,null,null,null,null,null,null,null,null,null,null,null,null,null,null,null,null,null,null,null,null,null,null,null,null,null,null,null,null,null,null,null,null,null,null,null,null,null,null,null,null,null,null,null,null,null,null,null,null,null,{"$f":"IF(CD34=1,\"* La Suma de Institucional, Compra al Sistema y Compra Extrasistema NO DEBE ser mayor al Total. \",\"\")","v":""},{"$f":"IF(CE34=1,\"* No olvide llenar los valores de modalidad Institucional, Compra al Sistema o Compra Extrasistema (Digite CERO si no tiene).\",\"\")","v":""},null,{"$f":"IF(C34<SUM(M34:O34),1,0)","v":0},{"$f":"IF(AND(C34<>0,OR(M34=\"\",N34=\"\",O34=\"\")),1,0)","v":0}]
[null,"CON BIRADS 0",5,0,1,1,1,0,2,0,0,0]
[null,"CON BIRADS 1 o 2",34,1,5,1,19,6,2,0,0,0]
[null,"CON BIRADS  3",5,0,0,1,1,3,0,0,0,0]
[null,"CON BIRADS  4, 5 o 6",0,0,0,0,0,0,0,0,0,0]
[null,"SIN INFORME BIRADS",0,0,0,0,0,0,0,0,0,0]
[null,"MAGNIFICACIONES",0,0,0,0,0,0,0,0,0,0]
["ECOTOMOGRAFÍA MAMARIA","SOLICITADAS",11,0,2,1,3,3,2,0,0,0]
[null,"INFORMADAS",10,0,1,3,4,2,0,0,0,0,0,0,10,{"$f":"CA42&CB42","v":""},null,null,null,null,null,null,null,null,null,null,null,null,null,null,null,null,null,null,null,null,null,null,null,null,null,null,null,null,null,null,null,null,null,null,null,null,null,null,null,null,null,null,null,null,null,null,null,null,null,null,null,null,null,null,null,null,null,null,null,null,null,null,{"$f":"IF(CD42=1,\"* La Suma de Institucional, Compra al Sistema y Compra Extrasistema NO DEBE ser mayor al Total. \",\"\")","v":""},{"$f":"IF(CE42=1,\"* No olvide llenar los valores de modalidad Institucional, Compra al Sistema o Compra Extrasistema (Digite CERO si no tiene).\",\"\")","v":""},null,{"$f":"IF(C42<SUM(M42:O42),1,0)","v":0},{"$f":"IF(AND(C42<>0,OR(M42=\"\",N42=\"\",O42=\"\")),1,0)","v":0}]
[null,"CON INFORME DE SOSPECHA DE MALIGNIDAD",0,0,0,0,0,0,0,0,0,0]
["ECOTOMOGRAFÍA ABDOMINAL","SOLICITADAS",7,1,3,0,1,1,0,1,0,0]
[null,"INFORMADAS",3,1,1,0,0,0,0,1,0,0,0,0,3,{"$f":"CA45&CB45","v":""},null,null,null,null,null,null,null,null,null,null,null,null,null,null,null,null,null,null,null,null,null,null,null,null,null,null,null,null,null,null,null,null,null,null,null,null,null,null,null,null,null,null,null,null,null,null,null,null,null,null,null,null,null,null,null,null,null,null,null,null,null,null,{"$f":"IF(CD45=1,\"* La Suma de Institucional, Compra al Sistema y Compra Extrasistema NO DEBE ser mayor al Total. \",\"\")","v":""},{"$f":"IF(CE45=1,\"* No olvide llenar los valores de modalidad Institucional, Compra al Sistema o Compra Extrasistema (Digite CERO si no tiene).\",\"\")","v":""},null,{"$f":"IF(C45<SUM(M45:O45),1,0)","v":0},{"$f":"IF(AND(C45<>0,OR(M45=\"\",N45=\"\",O45=\"\")),1,0)","v":0}]
[null,"CON RESULTADO LITIASIS BILIAR",0,0,0,0,0,0,0,0,0,0]
["ECOGRAFÍA TRANSVAGINAL O RECTAL","SOLICITADAS",{"$f":"SUM(D47:L47)","v":0}]
[null,"INFORMADAS",{"$f":"SUM(D48:L48)","v":0}]
[null,"CON INFORME DE SOSPECHA DE PATOLIGÍA MALIGNA",{"$f":"SUM(D49:L49)","v":0}]
["ENDOSCOPIA DIGESTIVA ALTA","SOLICITADAS",0]
[null,"INFORMADAS",0,null,null,null,null,null,null,null,null,null,null,null,null,{"$f":"CA51&CB51","v":""},null,null,null,null,null,null,null,null,null,null,null,null,null,null,null,null,null,null,null,null,null,null,null,null,null,null,null,null,null,null,null,null,null,null,null,null,null,null,null,null,null,null,null,null,null,null,null,null,null,null,null,null,null,null,null,null,null,null,null,null,null,null,{"$f":"IF(CD51=1,\"* La Suma de Institucional, Compra al Sistema y Compra Extrasistema NO DEBE ser mayor al Total. \",\"\")","v":""},{"$f":"IF(CE51=1,\"* No olvide llenar los valores de modalidad Institucional, Compra al Sistema o Compra Extrasistema (Digite CERO si no tiene).\",\"\")","v":""},null,{"$f":"IF(C51<SUM(M51:O51),1,0)","v":0},{"$f":"IF(AND(C51<>0,OR(M51=\"\",N51=\"\",O51=\"\")),1,0)","v":0}]
[null,"TOMA DE BIOPSIA",0]
[null,"CON INFORME DE SOSPECHA DE MALIGNIDAD",0]
[null,"TEST DE UREASA SOLICITADAS",0]
[null,"TEST DE UREASA POSITIVAS (+) H PYLORI",0]
["CIRUGÍA MENOR","SOLICITADAS",9,4,1,0,2,0,0,1,1,0]
[null,"REALIZADAS",0,0,0,0,0,0,0,0,0,0,null,null,null,{"$f":"CA57&CB57","v":""},null,null,null,null,null,null,null,null,null,null,null,null,null,null,null,null,null,null,null,null,null,null,null,null,null,null,null,null,null,null,null,null,null,null,null,null,null,null,null,null,null,null,null,null,null,null,null,null,null,null,null,null,null,null,null,null,null,null,null,null,null,null,{"$f":"IF(CD57=1,\"* La Suma de Institucional, Compra al Sistema y Compra Extrasistema NO DEBE ser mayor al Total. \",\"\")","v":""},{"$f":"IF(CE57=1,\"* No olvide llenar los valores de modalidad Institucional, Compra al Sistema o Compra Extrasistema (Digite CERO si no tiene).\",\"\")","v":""},null,{"$f":"IF(C57<SUM(M57:O57),1,0)","v":0},{"$f":"IF(AND(C57<>0,OR(M57=\"\",N57=\"\",O57=\"\")),1,0)","v":0}]
[null,"BIOPSIAS DE CIRUGÍA MENOR ENVIADAS A ANATOMÍA PATOLÓGICA",0,0,0,0,0,0,null,0,0,0]
[null,"N° BIOPSIAS DE CIRUGÍA MENOR CON INFORME DE SOSPECHA DE MALIGNIDAD",0,0,0,0,0,0,0,0,0,0]
["RADIOGRAFÍA TÓRAX POR SOSPECHA NEUMONÍA Y SOSPECHA DE OTRA PATOLOGÍA RESPIRATORIA CRÓNICA","SOLICITADAS",3]
[null,"REALIZADAS",{"$f":"SUM(D61:L61)","v":0},{"$f":"SUM(D62:D63)","v":0},{"$f":"SUM(E62:E63)","v":0},0,0,0,0,0,0,0,null,null,null,{"$f":"CA61&CB61","v":""},null,null,null,null,null,null,null,null,null,null,null,null,null,null,null,null,null,null,null,null,null,null,null,null,null,null,null,null,null,null,null,null,null,null,null,null,null,null,null,null,null,null,null,null,null,null,null,null,null,null,null,null,null,null,null,null,null,null,null,null,null,null,{"$f":"IF(CD61=1,\"* La Suma de Institucional, Compra al Sistema y Compra Extrasistema NO DEBE ser mayor al Total. \",\"\")","v":""},{"$f":"IF(CE61=1,\"* No olvide llenar los valores de modalidad Institucional, Compra al Sistema o Compra Extrasistema (Digite CERO si no tiene).\",\"\")","v":""},null,{"$f":"IF(C61<SUM(M61:O61),1,0)","v":0},{"$f":"IF(AND(C61<>0,OR(M61=\"\",N61=\"\",O61=\"\")),1,0)","v":0}]
[null,"ANTERO POSTERIOR (FRONTAL)",{"$f":"SUM(D62:L62)","v":0}]
[null,"ANTERO POSTERIOR  Y LATERAL",{"$f":"SUM(D63:L63)","v":0}]
["RADIOGRAFÍA DE CADERAS 3-6 MESES (SCREENING) ","SOLICITADAS",16]
[null,"INFORMADAS",11,null,null,null,null,null,null,null,null,null,0,0,10,{"$f":"CA65&CB65","v":""},null,null,null,null,null,null,null,null,null,null,null,null,null,null,null,null,null,null,null,null,null,null,null,null,null,null,null,null,null,null,null,null,null,null,null,null,null,null,null,null,null,null,null,null,null,null,null,null,null,null,null,null,null,null,null,null,null,null,null,null,null,null,{"$f":"IF(CD65=1,\"* La Suma de Institucional, Compra al Sistema y Compra Extrasistema NO DEBE ser mayor al Total. \",\"\")","v":""},{"$f":"IF(CE65=1,\"* No olvide llenar los valores de modalidad Institucional, Compra al Sistema o Compra Extrasistema (Digite CERO si no tiene).\",\"\")","v":""},null,{"$f":"IF(C65<SUM(M65:O65),1,0)","v":0},{"$f":"IF(AND(C65<>0,OR(M65=\"\",N65=\"\",O65=\"\")),1,0)","v":0}]
["SECCIÓN C: PROCEDIMIENTOS APOYO CLÍNICO Y TERAPÉUTICO"]
["ESPECIALIDAD","PROCEDIMIENTOS",null,"TOTAL"]
[]
["OFTALMOLOGÍA","CUANTIFICACIÓN DE LAGRIMACIÓN (TEST DE SCHIMER), UNO O AMBOS OJOS"]
[null,"CURVA DE TENSIÓN APLANÁTICA (POR CADA DÍA), C/OJO"]
[null,"DISPLOSCOPIA CUANTITATIVA, AMBOS OJOS"]
[null,"EXPLORACIÓN SENSORIOMOTORA: ESTRABISMO, ESTUDIO COMPLETO, AMBOS OJOS"]
[null,"RETINOGRAFÍA, AMBOS OJOS"]
[null,"TONOMETRÍA APLANÁTICA C/OJO"]
[null,"TRATAMIENTO ORTÓPTICO Y/O PLEÓPTICO (POR SESIÓN), AMBOS OJOS"]
[null,"EXPLORACIÓN VITREORRETINAL, AMBOS OJOS (FONDO DE OJO)"]
[null,"CUERPO EXTRAÑO CONJUNTIVAL Y/O CORNEAL"]
[null,"CAMPIMETRÍA COMPUTARIZADA, C/OJO (EN UAPO)"]
[null,"TOMOGRAFIA COHERENTE ÓPTICA, C/OJO"]
[null,"AGUDEZA VISUAL AISLADA CADA OJO"]
[null,"PAQUIMETRÍA"]
[null,"AUTOREFRACTOMIA"]
[null,"LENSOMETRIA"]
[null,"EXTRACCIÓN CUERPO EXTRAÑO OJO (CONJUNTIVAL Y/O CORNEAL)"]
[null,"HEMOGLUCOTEST PREVIO A CONSULTA VICIO DE REFRACCIÓN EN PACIENTE DIABÉTICO"]
[null,"AUTORREFRACCIÓN BAJO CICLOPLEJIA"]
[null,"IRRIGACIÓN DE LA VÍA LAGRIMAL"]
[null,"PRUEBA DE PROVOCACIÓN OSCURIDAD MÁS PRONACIÓN"]
["OTORRINOLARINGOLOGÍA ","AUDIMETRÍAS (REALIZADAS)"]
[null,"IMPEDANCIOMETRÍA"]
[null,"EMISIONES OTOACUSTICAS"]
[null,"CALIBRACION AUDÍFONOS"]
[null,"EXAMEN FUNCIONAL VIII PAR"]
[null,"OTROS PROCEDIMIENTOS (Lavado de Oidos u otros)"]
["SECCIÓN D: ENTREGA DE AYUDAS TÉCNICAS"]
["CONCEPTO","Ambos Sexos","< 65 Años",null,"De 65 años y más"]
[]
[null,null,"Hombres","Mujeres","Hombres","Mujeres"]
["LENTES (Entregados)",{"$f":"+C99+D99+E99+F99","v":0}]
["AUDÍFONOS (Entregados)",{"$f":"+C100+D100+E100+F100","v":0}]
["SECCIÓN E : TIPO DE EXAMEN"]
["EXAMEN","TOTAL"]
[]
[]
["HORMONA FOLICULOESTIMULANTE EN SANGRE"]
["SECCIÓN F: INTERVENCIONES QUIRÚRGICAS MENORES QUE SE REALIZAN EN UAPO"]
["TOTAL INTERVENCIÓNES QUIRÚRGICAS","TOTAL"]
["INTUBACIÓN LAGRIMAL"]
["PLASTÍA DE PUNTOS LAGRIMALES"]
["ABSCESO, VACIAMIENTO Y/O DRENAJE DE"]
["ABSCESO, TRAT. QUIR. PÁRPADO O CEJA"]
["BIOPSIA DE PÁRPADO Y/O ANEXOS (PROC. AUT.)"]
["BLEFARORRAFIA CON BLEFAROTOMÍA POSTERIOR"]
["CANTOPLASTÍA"]
["CHALAZIÓN Y OTROS TUMORES BENIGNOS  "]
["XANTELASMA, TRAT. QUIR."]
["HERIDA O DEHISCENCIA DE SUTURA DE PÁRPADO, REPARACIÓN"]
["SUTURA DE HERIDA O DEHISCENCIA DE LA CONJUNTIVA"]
["PTERIGIÓN Y/O PSEUDOPTERIGIÓN O SU RECIDIVA, EXTIRPACIÓN"]
["EXTIRPACIÓN DE TUMOR BENIGNO DE LA CONJUNTIVA"]
["CRIOTERAPIA Y RECESIÓN CONJUNTIVAL"]
["EXTRACCIÓN QUIR. DE CUERPO EXTRAÑO EN CORNEA Y/O ESCLERA"]
["IRIDOTOMÍA"]
["TRABECULOPLASTÍA O IRIDOPLASTÍA"]
["TOTAL",{"$f":"SUM(B108:B124)","v":0}]
[]
[]
[]
[]
[]
[]
[]
[]
[]
[]
[]
[]
[]
[]
[]
[]
[]
[]
[]
[]
[]
[]
[]
[]
[]
[]
[]
[]
[]
[]
[]
[]
[]
[]
[]
[]
[]
[]
[]
[]
[]
[]
[]
[]
[]
[]
[]
[]
[]
[]
[]
[]
[]
[]
[]
[]
[]
[]
[]
[]
[]
[]
[]
[]
[]
[]
[]
[]
[]
[]
[]
[]
[]
[]
[]
[]
[]
[]
[]
[]
[]
[]
[]
[]
[]
[]
[]
[{"$f":"SUM(B12:B13,B18:B21,B25:B26,B28,C33:C65,D69:D93)","v":206},{"$f":"SUM(CD33:CE65)","v":0}]

{"sheet":"A30","index":22,"n_rows":181,"n_cols":27,"rows_kept":181,"cut":false,"hidden":false,"merged":[[14,23,14,24],[14,25,14,26],[13,0,15,0],[14,18,14,19],[13,16,13,19],[14,16,14,17],[13,23,13,26],[14,1,14,2],[14,3,14,4],[14,5,14,6],[14,7,14,8],[14,9,14,10],[14,11,14,12],[14,13,15,13],[14,14,14,15],[13,1,13,4],[13,5,13,8],[13,9,13,12],[13,13,13,15],[13,20,13,22],[14,20,15,20],[14,21,14,22],[78,0,80,0],[78,1,78,4],[78,5,78,7],[78,8,78,11],[79,1,79,2],[79,3,79,4],[79,6,79,7],[79,8,79,9],[79,10,79,11],[85,0,88,0],[85,1,85,7],[85,8,85,14],[86,1,86,2],[86,3,86,4],[86,5,86,7],[86,8,86,9],[86,10,86,11],[86,12,86,14],[87,1,88,1],[87,2,88,2],[87,3,88,3],[87,4,88,4],[87,5,88,5],[87,6,87,7],[87,8,88,8],[104,0,106,0],[104,1,104,4],[104,5,104,8],[104,9,104,12],[104,13,104,15],[87,9,88,9],[87,10,88,10],[87,11,88,11],[87,12,88,12],[87,13,87,14],[104,16,104,19],[105,1,105,2],[105,3,105,4],[105,5,105,6],[105,7,105,8],[105,9,105,10],[105,11,105,12],[105,14,105,15],[105,16,105,17],[105,18,105,19],[122,8,122,9],[122,10,122,11],[130,0,132,0],[130,1,130,3],[131,2,131,3],[120,0,123,0],[120,1,120,7],[120,8,121,11],[121,1,121,2],[121,3,121,4],[121,5,121,7],[122,1,123,1],[122,2,123,2],[122,3,123,3],[122,4,123,4],[122,6,122,7]]}
["SERVICIO DE SALUD"]
[{"$f":"CONCATENATE(\"COMUNA: \",NOMBRE!B2,\" - \",\"( \",NOMBRE!C2,NOMBRE!D2,NOMBRE!E2,NOMBRE!F2,NOMBRE!G2,\" )\")","v":"COMUNA: CALLE LARGA - ( 05302 )"}]
[{"$f":"CONCATENATE(\"ESTABLECIMIENTO/ESTRATEGIA: \",NOMBRE!B3,\" - \",\"( \",NOMBRE!C3,NOMBRE!D3,NOMBRE!E3,NOMBRE!F3,NOMBRE!G3,NOMBRE!H3,\" )\")","v":"ESTABLECIMIENTO/ESTRATEGIA: DR. JOSE JOAQUIN AGUIRRE CAMPOS - ( 108308 )"}]
[{"$f":"CONCATENATE(\"MES: \",NOMBRE!B6,\" - \",\"( \",NOMBRE!C6,NOMBRE!D6,\" )\")","v":"MES: DICIEMBRE - ( 12 )"}]
[{"$f":"CONCATENATE(\"AÑO: \",NOMBRE!B7)","v":"AÑO: 2022"}]
[null,null,null,null,"REM-30: ATENCIONES POR TELEMEDICINA EN LA RED ASISTENCIAL"]
[]
[]
[]
["SECCIÓN A: TELEMEDICINA DE ESPECIALIDAD "]
[]
[]
[]
["ESPECIALIDADES  ","TELEMEDICINA  MEDICA DE ESPECIALIDAD AMBULATORIA  NUEVA",null,null,null,"TELEMEDICINA MEDICA  DE ESPECIALIDAD AMBULATORIA  CONTROL ",null,null,null,"TOTAL CONSULTAS  MEDICAS AMBULATORIAS DE ESPECIALIDAD REALIZADAS  POR TELEMEDICINA",null,null,null,"MODALIDAD",null,null,"TELEMEDICINA MEDICA DE ESPECIALIDAD REALIZADAS   A PACIENTES HOSPITALIZADOS ",null,null,null,"MODALIDAD",null,null,"CONSULTAS POR TELEMEDICINA SOLICITADAS DESDE APS O NIVEL SECUNDARIO PARA SER RESUELTAS POR OTRO ESTABLECIMIENTO "]
[null,"MENORES DE 15 AÑOS ",null,"15 AÑOS Y MÁS",null,"MENORES DE 15 AÑOS ",null,"15 AÑOS Y MÁS",null,"MENORES DE 15 AÑOS ",null,"15 AÑOS Y MÁS",null,"Institucional","Compra de Servicio",null,"MENORES DE 15 AÑOS ",null,"15 AÑOS Y MÁS",null,"Institucional","Compra de Servicio",null,"MENORES DE 15 AÑOS ",null,"15 AÑOS Y MÁS"]
[null,"Hombres","Mujeres","Hombres","Mujeres","Hombres","Mujeres","Hombres","Mujeres","Hombres","Mujeres","Hombres","Mujeres",null,"Sistema","Extrasistema","Hombres","Mujeres","Hombres","Mujeres",null,"Sistema","Extrasistema","Hombres","Mujeres","Hombres","Mujeres"]
["TOTAL",{"$f":"SUM(B18:B77)","v":0},0,0,0,0,0,0,0,0,0,0,0,0,0,0,0,0,0,0,0,0,0,0,0,0,0]
["PEDIATRÍA",null,null,null,null,null,null,null,null,{"$f":"SUM(B18+F18)","v":0},{"$f":"SUM(C18+G18)","v":0},{"$f":"SUM(D18+H18)","v":0},{"$f":"SUM(E18+I18)","v":0}]
["MEDICINA INTERNA",null,null,null,null,null,null,null,null,0,0,0,0]
["NEONATOLOGÍA",null,null,null,null,null,null,null,null,0,0,0,0]
["ENFERMEDAD RESPIRATORIA PEDIÁTRICA (BRONCOPULMONAR INFANTIL)",null,null,null,null,null,null,null,null,0,0,0,0]
["ENFERMEDAD RESPIRATORIA DE ADULTO (BRONCOPULMONAR)",null,null,null,null,null,null,null,null,0,0,0,0]
["CARDIOLOGÍA PEDIÁTRICA",null,null,null,null,null,null,null,null,0,0,0,0]
["CARDIOLOGÍA ADULTO",null,null,null,null,null,null,null,null,0,0,0,0]
["ENDOCRINOLOGÍA PEDIÁTRICA",null,null,null,null,null,null,null,null,0,0,0,0]
["ENDOCRINOLOGÍA ADULTO",null,null,null,null,null,null,null,null,0,0,0,0]
["GASTROENTEROLOGÍA PEDIÁTRICA",null,null,null,null,null,null,null,null,0,0,0,0]
["GASTROENTEROLOGÍA ADULTO",null,null,null,null,null,null,null,null,0,0,0,0]
["GENÉTICA CLÍNICA",null,null,null,null,null,null,null,null,0,0,0,0]
["HEMATO-ONCOLOGÍA INFANTIL",null,null,null,null,null,null,null,null,0,0,0,0]
["HEMATOLOGÍA ADULTO",null,null,null,null,null,null,null,null,0,0,0,0]
["NEFROLOGÍA PEDIÁTRICA",null,null,null,null,null,null,null,null,0,0,0,0]
["NEFROLOGÍA ADULTO",null,null,null,null,null,null,null,null,0,0,0,0]
["NUTRIÓLOGO PEDIÁTRICO",null,null,null,null,null,null,null,null,0,0,0,0]
["NUTRIÓLOGO ADULTO",null,null,null,null,null,null,null,null,0,0,0,0]
["REUMATOLOGÍA PEDIÁTRICA",null,null,null,null,null,null,null,null,0,0,0,0]
["REUMATOLOGÍA ADULTO",null,null,null,null,null,null,null,null,0,0,0,0]
["DERMATOLOGÍA",null,null,null,null,null,null,null,null,0,0,0,0]
["INFECTOLOGÍA PEDIÁTRICA",null,null,null,null,null,null,null,null,0,0,0,0]
["INFECTOLOGÍA ADULTO",null,null,null,null,null,null,null,null,0,0,0,0]
["INMUNOLOGÍA",null,null,null,null,null,null,null,null,0,0,0,0]
["GERIATRÍA",null,null,null,null,null,null,null,null,0,0,0,0]
["MEDICINA FÍSICA Y REHABILITACIÓN PEDIÁTRICA (FISIATRÍA PEDIÁTRICA)",null,null,null,null,null,null,null,null,0,0,0,0]
["MEDICINA FÍSICA Y REHABILITACIÓN ADULTO (FISIATRÍA ADULTO)",null,null,null,null,null,null,null,null,0,0,0,0]
["NEUROLOGÍA PEDIÁTRICA",null,null,null,null,null,null,null,null,0,0,0,0]
["NEUROLOGÍA ADULTO",null,null,null,null,null,null,null,null,0,0,0,0]
["ONCOLOGÍA MÉDICA",null,null,null,null,null,null,null,null,0,0,0,0]
["PSIQUIATRÍA PEDIÁTRICA Y DE LA ADOLESCENCIA",null,null,null,null,null,null,null,null,0,0,0,0]
["PSIQUIATRÍA ADULTO",null,null,null,null,null,null,null,null,0,0,0,0]
["CIRUGÍA PEDIÁTRICA",null,null,null,null,null,null,null,null,{"$f":"SUM(B50+F50)","v":0},{"$f":"SUM(C50+G50)","v":0},{"$f":"SUM(D50+H50)","v":0},{"$f":"SUM(E50+I50)","v":0}]
["CIRUGÍA GENERAL ADULTO",null,null,null,null,null,null,null,null,0,0,0,0]
["CIRUGÍA DIGESTIVA (ALTA)",null,null,null,null,null,null,null,null,0,0,0,0]
["CIRUGÍA DE CABEZA, CUELLO Y MAXILOFACIAL",null,null,null,null,null,null,null,null,0,0,0,0]
["CIRUGÍA PLÁSTICA Y REPARADORA PEDIÁTRICA",null,null,null,null,null,null,null,null,0,0,0,0]
["CIRUGÍA PLÁSTICA Y REPARADORA ADULTO",null,null,null,null,null,null,null,null,0,0,0,0]
["COLOPROCTOLOGÍA (CIRUGIA DIGESTIVA BAJA)",null,null,null,null,null,null,null,null,0,0,0,0]
["CIRUGÍA TÓRAX",null,null,null,null,null,null,null,null,0,0,0,0]
["CIRUGÍA VASCULAR PERIFÉRICA",null,null,null,null,null,null,null,null,0,0,0,0]
["NEUROCIRUGÍA",null,null,null,null,null,null,null,null,0,0,0,0]
["CIRUGÍA CARDIOVASCULAR",null,null,null,null,null,null,null,null,0,0,0,0]
["ANESTESIOLOGÍA",null,null,null,null,null,null,null,null,0,0,0,0]
["OBSTETRICIA",null,null,null,null,null,null,null,null,0,0,0,0]
["GINECOLOGÍA PEDIÁTRICA Y DE LA ADOLESCENCIA",null,null,null,null,null,null,null,null,0,0,0,0]
["GINECOLOGÍA ADULTO",null,null,null,null,null,null,null,null,0,0,0,0]
["OFTALMOLOGÍA",null,null,null,null,null,null,null,null,0,0,0,0]
["OTORRINOLARINGOLOGÍA",null,null,null,null,null,null,null,null,0,0,0,0]
["TRAUMATOLOGÍA Y ORTOPEDIA PEDIÁTRICA",null,null,null,null,null,null,null,null,0,0,0,0]
["TRAUMATOLOGÍA Y ORTOPEDIA ADULTO",null,null,null,null,null,null,null,null,0,0,0,0]
["UROLOGÍA PEDIÁTRICA",null,null,null,null,null,null,null,null,0,0,0,0]
["UROLOGÍA ADULTO",null,null,null,null,null,null,null,null,0,0,0,0]
["MEDICINA FAMILIAR DEL NIÑO",null,null,null,null,null,null,null,null,0,0,0,0]
["MEDICINA FAMILIAR",null,null,null,null,null,null,null,null,0,0,0,0]
["MEDICINA FAMILIAR ADULTO",null,null,null,null,null,null,null,null,0,0,0,0]
["DIABETOLOGÍA",null,null,null,null,null,null,null,null,0,0,0,0]
["MEDICINA INTENSIVA",null,null,null,null,null,null,null,null,0,0,0,0]
["IMAGENOLOGÍA",null,null,null,null,null,null,null,null,0,0,0,0]
["RADIOTERAPIA ONCOLÓGICA",null,null,null,null,null,null,null,null,0,0,0,0]
["SECCIÓN B : TELEMEDICINA MÉDICA EN ESTABLECIMIENTOS DE ATENCIÓN SECUNDARIA DE URGENCIA "]
["TIPO DE CONSULTA URGENCIA"," TELEMEDICINA MEDICA DE URGENCIA DE UEH DE HOSPITALES DE ALTA Y MEDIANA COMPLEJIDAD",null,null,null,"MODALIDAD",null,null,"CONSULTAS POR TELEMEDICINA SOLICITADAS DESDE APS O NIVEL SECUNDARIO PATRA SER RESUELTAS POR OTRO ESTABLECIMIENTO "]
[null,"MENORES DE 15 AÑOS ",null,"15 AÑOS Y MÁS",null,"Institucional ","Compra de Servicio",null,"MENORES DE 15 AÑOS ",null,"15 AÑOS Y MÁS"]
[null,"Hombres ","Mujeres","Hombres","Mujeres","Establecimiento de la Red","Sistema","Extrasistema","Hombres","Mujeres","Hombres","Mujeres"]
["CONSULTA URGENCIA OTROS"]
["ACCIDENTE CEREBRO VASCULAR (ACV)"]
["QUEMADOS"]
["SECCIÓN C : TELEINFORMES  EN ESTABLECIMIENTOS DE ATENCIÓN PRIMARIA, SECUNDARIA Y TERCIARIA"]
["INFORMES REALIZADOS POR TELEMEDICINA ","ESTABLECIMIENTOS DE NIVEL PRIMARIO DE SALUD",null,null,null,null,null,null,"ESTABLECIMIENTOS DE NIVEL SECUNDARIO Y TERCIARIO"]
[null,"MENORES DE 15 AÑOS ",null,"15 AÑOS Y MÁS",null,"MODALIDAD",null,null,"MENORES DE 15 AÑOS ",null,"15 AÑOS Y MÁS",null,"MODALIDAD"]
[null,"Hombres","Mujeres","Hombres","Mujeres","Institucional","Compra de Servicio",null,"Hombres","Mujeres","Hombres","Mujeres","Institucional","Compra de Servicio"]
[null,null,null,null,null,null,"Sistema","Extrasistema",null,null,null,null,null,"Sistema","Extrasistema"]
["TOTAL EMISIONES DE INFORMES",{"$f":"SUM(B91:B103)","v":0},0,0,0,0,0,0,0,0,0,0,0,0,0]
["N° DE INFORMES ECOGRAFÍAS OBSTETRICA"]
["N° DE INFORMES ELECTROCARDIOGRAMA"]
["N° DE INFORMES ELECTROENCEFALOGRAMA"]
["N° DE INFORMES ESPIROMETRÍAS"]
["N° DE INFORMES FONDO DE OJO"]
["N° DE INFORMES HOLTER DE PRESIÓN ARTERIAL"]
["N° DE INFORMES TEST DE ESFUERZO"]
["N° DE INFORMES RADIOGRAFÍAS SIMPLES"]
["N° DE INFORMES RADIOGRAFÍAS DENTALES"]
["N° DE INFORMES DE TOMOGRAFÍA AXIAL COMPUTARIZADA"]
["N° DE INFORMES DE RESONANCIA MAGNÉTICA NUCLEAR"]
["N° DE INFORMES ECOGRAFÍAS ABDOMINAL"]
["N° DE MAMOGRAFÍAS"]
["SECCIÓN D: CONSULTA DE ESPECIALIDAD ODONTOLÓGICA RESUELTA A TRAVES DE TELEMEDICINA (TELEODONTOLOGÍA)"]
["ESPECIALIDADES ODONTOLÓGICAS","TELEMEDICINA DE ESPECIALIDAD ODONTOLÓGICA AMBULATORIA  NUEVA",null,null,null,"TELEMEDICINA DE ESPECIALIDAD ODONTOLÓGICA AMBULATORIA  CONTROL ",null,null,null,"TOTAL CONSULTAS  AMBULATORIAS DE ESPECIALIDAD ODONTOLÓGICA REALIZADAS  POR TELEMEDICINA",null,null,null,"MODALIDAD",null,null,"SOLICITUD DE CONSULTA DE ESPECIALIDAD ODONTOLÓGICA A TRAVÉS DE TELEMEDICINA "]
[null,"MENORES DE 15 AÑOS ",null,"15 AÑOS Y MÁS",null,"MENORES DE 15 AÑOS ",null,"15 AÑOS Y MÁS",null,"MENORES DE 15 AÑOS ",null,"15 AÑOS Y MÁS",null,"Institucional","Compra de Servicio",null,"MENORES DE 15 AÑOS ",null,"15 AÑOS Y MÁS"]
[null,"Hombres","Mujeres","Hombres","Mujeres","Hombres","Mujeres","Hombres","Mujeres","Hombres","Mujeres","Hombres","Mujeres","Establecimiento de la Red","Sistema","Extrasistema","Hombres","Mujeres","Hombres","Mujeres"]
["TOTAL",{"$f":"SUM(B109:B119)","v":0},0,0,0,0,0,0,0,0,0,0,0,0,0,0,0,{"$f":"SUM(R109:R119)","v":0},0,0]
["CIRUGÍA BUCAL",null,null,null,null,null,null,null,null,{"$f":"SUM(B109+F109)","v":0},{"$f":"SUM(C109+G109)","v":0},{"$f":"SUM(D109+H109)","v":0},{"$f":"SUM(E109+I109)","v":0}]
["CIRUGÍA Y TRAUMATOLOGÍA MAXILOFACIAL",null,null,null,null,null,null,null,null,{"$f":"SUM(B110+F110)","v":0},0,{"$f":"SUM(D110+H110)","v":0},0]
["ENDODONCIA",null,null,null,null,null,null,null,null,0,0,0,0]
["ODONTOPEDIATRÍA",null,null,null,null,null,null,null,null,0,0,0,0]
["ORTODONCIA Y ORTOPEDIA DENTO MAXILOFACIAL",null,null,null,null,null,null,null,null,0,0,0,0]
["PERIODONCIA",null,null,null,null,null,null,null,null,0,0,0,0]
["REHABILITACIÓN: PRÓTESIS FIJA",null,null,null,null,null,null,null,null,0,0,0,0]
["REHABILITACIÓN: PRÓTESIS REMOVIBLE",null,null,null,null,null,null,null,null,0,0,0,0]
["IMPLANTOLOGÍA BUCO MAXILOFACIAL",null,null,null,null,null,null,null,null,0,0,0,0]
["PATOLOGÍA ORAL",null,null,null,null,null,null,null,null,0,0,0,0]
["TRASTORNOS TEMPOROMANDIBULARES Y DOLOR OROFACIAL",null,null,null,null,null,null,null,null,0,0,0,0]
["SECCIÓN E: TELEPROCEDIMIENTOS EN ATENCIÓN SECUNDARIA Y TERCIARIA"]
["TELEPROCEDIMIENTOS","ESTABLECIMIENTOS DE NIVEL SECUNDARIO Y TERCIARIO",null,null,null,null,null,null,"PROCEDIMIENTOS POR TELEMEDICINA SOLICITADOS DESDE  NIVEL SECUNDARIO Y TERCIARIO Y RESUELTOS POR OTRO ESTABLECIMIENTO "]
[null,"MENORES DE 15 AÑOS ",null,"15 AÑOS Y MÁS",null,"MODALIDAD"]
[null,"Hombres","Mujeres","Hombres","Mujeres","Institucional","Compra de Servicio",null,"MENORES DE 15 AÑOS ",null,"15 AÑOS Y MÁS"]
[null,null,null,null,null,"Establecimiento de la Red","Sistema","Extrasistema","Hombres","Mujeres","Hombres","Mujeres"]
["TOTAL",{"$f":"SUM(B126:B129)","v":0},0,0,0,{"$f":"SUM(F126:F129)","v":0},0,0,0,0,0,0]
["ECOCARDIOGRAMA"]
["TROMBOLISIS DE URGENCIA INFARTO CEREBRAL (ACV)"]
["TROMBOLISIS INTRACORONARIA (IAM)"]
["ECOGRAFÍA GINECO-OBSTÉTRICA"]
["SECCIÓN F : TELEMEDICINA ABREVIADA "]
["TIPO DE CONSULTA ","MODALIDAD"]
[null,"Institucional","Compra de Servicio"]
[null,"Establecimiento de la Red","Sistema","Extrasistema"]
["TRATAMIENTO ANTICOAGULANTE ORAL "]
["OTROS"]
[]
[]
[]
[]
[]
[]
[]
[]
[]
[]
[]
[]
[]
[]
[]
[]
[]
[]
[]
[]
[]
[]
[]
[]
[]
[]
[]
[]
[]
[]
[]
[]
[]
[]
[]
[]
[]
[]
[]
[]
[]
[]
[]
[]
[]
[{"$f":"SUM(B17:AA17,B82:L84,B90:O90, B108:T108,B125:L125,B134:D135)","v":0},0]

{"sheet":"A30AR","index":23,"n_rows":100,"n_cols":21,"rows_kept":100,"cut":false,"hidden":false,"merged":[[25,5,25,8],[25,9,25,12],[9,0,9,4],[10,0,12,0],[10,1,10,4],[10,5,10,8],[10,9,10,12],[20,5,20,8],[21,1,21,2],[21,3,21,4],[21,5,21,6],[21,7,21,8],[61,0,63,0],[61,1,61,4],[62,1,62,2],[62,3,62,4],[20,0,22,0],[20,1,20,4],[25,0,27,0],[25,1,25,4],[39,0,41,0],[39,1,39,4],[53,0,55,0],[53,1,53,4],[54,1,54,2],[54,3,54,4],[48,0,50,0],[48,1,48,4],[10,17,10,20],[11,1,11,2],[11,3,11,4],[11,5,11,6],[11,7,11,8],[11,9,11,10],[11,11,11,12],[11,13,11,14],[11,15,11,16],[11,17,11,18],[11,19,11,20],[10,13,10,16],[26,11,26,12],[35,11,35,12],[35,13,35,14],[35,15,35,16],[35,1,35,2],[35,3,35,4],[35,5,35,6],[35,7,35,8],[35,9,35,10],[26,1,26,2],[26,3,26,4],[26,5,26,6],[26,7,26,8],[26,9,26,10],[34,0,36,0],[34,1,34,4],[34,5,34,8],[34,9,34,12],[34,13,34,16],[39,17,39,20],[40,1,40,2],[40,3,40,4],[40,5,40,6],[40,7,40,8],[40,9,40,10],[40,11,40,12],[40,13,40,14],[40,15,40,16],[40,19,40,20],[40,17,40,18],[39,5,39,8],[39,9,39,12],[39,13,39,16],[48,5,48,8],[49,1,49,2],[49,3,49,4],[49,5,49,6],[49,7,49,8]]}
["SERVICIO DE SALUD"]
[{"$f":"CONCATENATE(\"COMUNA: \",NOMBRE!B2,\" - \",\"( \",NOMBRE!C2,NOMBRE!D2,NOMBRE!E2,NOMBRE!F2,NOMBRE!G2,\" )\")","v":"COMUNA: CALLE LARGA - ( 05302 )"}]
[{"$f":"CONCATENATE(\"ESTABLECIMIENTO/ESTRATEGIA: \",NOMBRE!B3,\" - \",\"( \",NOMBRE!C3,NOMBRE!D3,NOMBRE!E3,NOMBRE!F3,NOMBRE!G3,NOMBRE!H3,\" )\")","v":"ESTABLECIMIENTO/ESTRATEGIA: DR. JOSE JOAQUIN AGUIRRE CAMPOS - ( 108308 )"}]
[{"$f":"CONCATENATE(\"MES: \",NOMBRE!B6,\" - \",\"( \",NOMBRE!C6,NOMBRE!D6,\" )\")","v":"MES: DICIEMBRE - ( 12 )"}]
[{"$f":"CONCATENATE(\"AÑO: \",NOMBRE!B7)","v":"AÑO: 2022"}]
[null,null,null,null,"REM-30: ASISTENCIA REMOTA (AR)"]
[]
[]
[]
["SECCION A: TELEMEDICINA  DE ESPECIALIDAD MEDICA  POR HOSPITAL DIGITAL"]
["ESPECIALIDADES  ","TELEMEDICINA  MEDICA DE ESPECIALIDAD AMBULATORIA  NUEVA",null,null,null,"TELEMEDICINA  MEDICA  DE ESPECIALIDAD AMBULATORIA  CONTROL ",null,null,null,"TOTAL ATENCIONES  MEDICAS AMBULATORIAS DE ESPECIALIDAD REALIZADAS  POR HOSPITAL DIGITAL",null,null,null,"TELEMEDICINA DE ESPECIALIDAD MÉDICA REALIZADAS   A PACIENTES HOSPITALIZADOS ",null,null,null,"CONSULTAS POR TELEMEDICINA SOLICITADAS DESDE APS O NIVEL SECUNDARIO PARA SER RESUELTAS POR HOSPITAL DIGITAL"]
[null,"MENORES DE 15 AÑOS ",null,"15 AÑOS Y MÁS",null,"MENORES DE 15 AÑOS ",null,"15 AÑOS Y MÁS",null,"MENORES DE 15 AÑOS ",null,"15 AÑOS Y MÁS",null,"MENORES DE 15 AÑOS ",null,"15 AÑOS Y MÁS",null,"MENORES DE 15 AÑOS ",null,"15 AÑOS Y MÁS"]
[null,"Hombres","Mujeres","Hombres","Mujeres","Hombres","Mujeres","Hombres","Mujeres","Hombres","Mujeres","Hombres","Mujeres","Hombres","Mujeres","Hombres","Mujeres","Hombres","Mujeres","Hombres","Mujeres"]
["TOTAL",{"$f":"SUM(B15+B17+B19)","v":0},{"$f":"SUM(C15+C17+C19)","v":0},{"$f":"SUM(D15:D19)","v":0},{"$f":"SUM(E15:E19)","v":0},{"$f":"SUM(F15+F17+F19)","v":0},{"$f":"SUM(G15+G17+G19)","v":0},{"$f":"SUM(H15:H19)","v":0},{"$f":"SUM(I15:I19)","v":0},{"$f":"SUM(J15+J17+J19)","v":0},{"$f":"SUM(K15+K17+K19)","v":0},{"$f":"SUM(L15:L19)","v":0},{"$f":"SUM(M15:M19)","v":0},{"$f":"SUM(N15+N17+N19)","v":0},{"$f":"SUM(O15+O17+O19)","v":0},{"$f":"SUM(P15:P19)","v":0},0,{"$f":"SUM(R15+R17+R19)","v":0},{"$f":"SUM(S15+S17+S19)","v":0},0,0]
["ENFERMEDADES METABÓLICAS",null,null,null,null,null,null,null,null,{"$f":"SUM(B15+F15)","v":0},{"$f":"SUM(C15+G15)","v":0},{"$f":"SUM(D15+H15)","v":0},{"$f":"SUM(E15+I15)","v":0}]
["NEFROLOGÍA ADULTO",null,null,null,null,null,null,null,null,null,null,{"$f":"SUM(D16+H16)","v":0},0]
["DERMATOLOGÍA",null,null,null,null,null,null,null,null,{"$f":"SUM(B17+F17)","v":0},{"$f":"SUM(C17+G17)","v":0},0,0]
["GERIATRÍA",null,null,null,null,null,null,null,null,null,null,0,0]
["DIABETOLOGÍA",null,null,null,null,null,null,null,null,{"$f":"SUM(B19+F19)","v":0},{"$f":"SUM(C19+G19)","v":0},0,0]
["SECCIÓN B  : TELEMEDICINA MÉDICA EN UEH EN ESTABLECIMIENTOS DE ALTA Y MEDIANA COMPLEJIDAD"]
["TIPO DE CONSULTA URGENCIA"," TELEMEDICINA  URGENCIA EN UEH DE HOSPITALES DE ALTA Y MEDIANA COMPLEJIDAD DE PACIENTES HOSPITALIZADOS",null,null,null,"CONSULTAS POR TELEMEDICINA SOLICITADAS DESDE APS O NIVEL SECUNDARIO PARA SER RESUELTAS POR HOSPITAL DIGITAL"]
[null,"MENORES DE 15 AÑOS ",null,"15 AÑOS Y MÁS",null,"MENORES DE 15 AÑOS ",null,"15 AÑOS Y MÁS"]
[null,"Hombres ","Mujeres","Hombres","Mujeres","Hombres","Mujeres","Hombres","Mujeres"]
["QUEMADOS"]
["SECCIÓN C : TELEINFORMES EN ESTABLECIMIENTOS DE ATENCIÓN PRIMARIA, SECUNDARIA Y TERCIARIA"]
["TELEINFORMES ","ESTABLECIMIENTOS DE NIVEL PRIMARIO DE SALUD",null,null,null,"ESTABLECIMIENTOS DE NIVEL SECUNDARIO Y TERCIARIO",null,null,null,"TELEINFORMES SOLICITADOS DESDE APS, NIVEL SECUNDARIO  O TERCIARIO"]
[null,"MENORES DE 15 AÑOS ",null,"15 AÑOS Y MÁS",null,"MENORES DE 15 AÑOS ",null,"15 AÑOS Y MÁS",null,"MENORES DE 15 AÑOS ",null,"15 AÑOS Y MÁS"]
[null,"Hombres","Mujeres","Hombres","Mujeres","Hombres","Mujeres","Hombres","Mujeres","Hombres","Mujeres","Hombres","Mujeres"]
["TOTAL",{"$f":"SUM(B30:B33)","v":0},{"$f":"SUM(C30:C33)","v":0},{"$f":"SUM(D30:D33)","v":0},0,0,0,0,0,0,0,0,{"$f":"SUM(M30:M33)","v":0}]
["N° DE INFORMES FONDO DE OJO"]
["N° DE INFORMES RADIOGRAFÍAS SIMPLES"]
["N° DE INFORMES DE TOMOGRAFÍA AXIAL COMPUTALIZADA"]
["N° DE MAMOGRAFIAS"]
["SECCION D: TELEMEDICINA EN ESPECIALIDAD ODONTOLOGICA POR HOSPITAL DIGITAL"]
["ESPECIALIDADES ODONTOLOGICAS","TELEMEDICINA DE ESPECIALIDAD ODONTOLÓGICA AMBULATORIA  NUEVA",null,null,null,"TELEMEDICINA CONSULTA DE ESPECIALIDAD ODONTOLÓGICA AMBULATORIA  CONTROL ",null,null,null,"TOTAL ACCIONES AMBULATORIAS DE ESPECIALIDAD ODONTOLÓGICA REALIZADAS  POR TELEMEDICINA",null,null,null,"CONSULTAS POR TELEMEDICINA SOLICITADAS DESDE APS O NIVEL SECUNDARIO PARA SER RESUELTAS POR HOSPITAL DIGITAL"]
[null,"MENORES DE 15 AÑOS ",null,"15 AÑOS Y MÁS",null,"MENORES DE 15 AÑOS ",null,"15 AÑOS Y MÁS",null,"MENORES DE 15 AÑOS ",null,"15 AÑOS Y MÁS",null,"MENORES DE 15 AÑOS ",null,"15 AÑOS Y MÁS"]
[null,"Hombres","Mujeres","Hombres","Mujeres","Hombres","Mujeres","Hombres","Mujeres","Hombres","Mujeres","Hombres","Mujeres","Hombres","Mujeres","Hombres","Mujeres"]
["PATOLOGÍA ORAL",null,null,null,null,null,null,null,null,{"$f":"SUM(B38+F38)","v":0},{"$f":"SUM(C38+G38)","v":0},{"$f":"SUM(D38+H38)","v":0},{"$f":"SUM(E38+I38)","v":0}]
["SECCION E: TELEMEDICINA O TELECONSULTA A OTRO PROFESIONAL DE LA SALUD POR HOSPITAL DIGITAL "]
["TELEASISTENCIA","TELEMEDICINA O TELECONSULTA PROFESIONAL DE SALUD AMBULATORIA  NUEVA",null,null,null,"TELEMEDICINA O TELECONSULTA PROFESIONAL DE SALUD AMBULATORIA  CONTROL ",null,null,null,"TOTAL DE ATENCIONES  A PROFESIONAL DE SALUD REALIZADAS  POR HOSPITAL DIGITAL",null,null,null,"TELEMEDICINA O TELECONSULTA A PROFESIONAL DE SALUD PARA PACIENTES HOSPITALIZADOS ",null,null,null,"CONSULTAS POR TELEMEDICINA SOLICITADAS DESDE APS O NIVEL SECUNDARIO PARA SER RESUELTAS POR HOSPITAL DIGITAL"]
[null,"MENORES DE 15 AÑOS ",null,"15 AÑOS Y MÁS",null,"MENORES DE 15 AÑOS ",null,"15 AÑOS Y MÁS",null,"MENORES DE 15 AÑOS ",null,"15 AÑOS Y MÁS",null,"MENORES DE 15 AÑOS ",null,"15 AÑOS Y MÁS",null,"MENORES DE 15 AÑOS ",null,"15 AÑOS Y MÁS"]
[null,"Hombres","Mujeres","Hombres","Mujeres","Hombres","Mujeres","Hombres","Mujeres","Hombres","Mujeres","Hombres","Mujeres","Hombres","Mujeres","Hombres","Mujeres","Hombres","Mujeres","Hombres","Mujeres"]
["TOTAL",{"$f":"SUM(B44:B47)","v":0},{"$f":"SUM(C44:C47)","v":0},0,0,0,0,0,0,{"$f":"SUM(J44:J47)","v":0},{"$f":"SUM(K44:K47)","v":0},0,0,{"$f":"SUM(N44:N47)","v":0},{"$f":"SUM(O44:O47)","v":0},0,0,{"$f":"SUM(R44:R47)","v":0},{"$f":"SUM(S44:S47)","v":0},{"$f":"SUM(T44:T47)","v":0},{"$f":"SUM(U44:U47)","v":0}]
["CONSULTA ENFERMERIA",null,null,null,null,null,null,null,null,{"$f":"SUM(B44+F44)","v":0},{"$f":"SUM(C44+G44)","v":0},{"$f":"SUM(D44+H44)","v":0},{"$f":"SUM(E44+I44)","v":0}]
["CONSULTA QUIMICO FARMACEUTICO",null,null,null,null,null,null,null,null,{"$f":"SUM(B45+F45)","v":0},{"$f":"SUM(C45+G45)","v":0},0,0]
["CONSULTA PSICOLOGIA",null,null,null,null,null,null,null,null,0,0,0,0]
["CONSULTA NUTRICIONISTA",null,null,null,null,null,null,null,null,0,0,0,0]
["SECCION F: TELEMEDICINA SINCRÓNICA POR HOSPITAL DIGITAL RURAL"]
["TELEMEDICINA","TELEMEDICINA  PROFESIONAL DE SALUD AMBULATORIA  ",null,null,null,"CONSULTAS SINCRÓNICA SOLICITADAS DESDE POSTA RURAL PARA SER RESUELTAS POR HOSPITAL DIGITAL"]
[null,"MENORES DE 15 AÑOS ",null,"15 AÑOS Y MÁS",null,"MENORES DE 15 AÑOS ",null,"15 AÑOS Y MÁS"]
[null,"Hombres","Mujeres","Hombres","Mujeres","Hombres","Mujeres","Hombres","Mujeres"]
["MEDICINA GENERAL"]
["SECCION G: TELEMEDICINA  SINCRÓNICA POR HOSPITAL DIGITAL"]
["TELECONSULTA","ORIENTACIÓN PROFESIONAL DE SALUD AMBULATORIA  "]
[null,"MENORES DE 15 AÑOS ",null,"15 AÑOS Y MÁS"]
[null,"Hombres","Mujeres","Hombres","Mujeres"]
["TOTAL",{"$f":"SUM(B60)","v":0},{"$f":"SUM(C60)","v":0},{"$f":"SUM(D58:D60)","v":0},{"$f":"SUM(E58:E60)","v":0}]
["MEDICINA GENERAL EN ESTABLECIMIENTO PARA PERSONAS MAYORES"]
["MEDICINA GENERAL EN ESTABLECIMIENTO DE GENDARMERÍA"]
["ORIENTACIÓN EN SALUD MENTAL A POBLACIÓN GENERAL "]
["SECCION H: TELECONSULTA SINCRÓNICA POR SALUD RESPONDE"]
["TELECONSULTA","ORIENTACIÓN PROFESIONAL DE SALUD AMBULATORIA  "]
[null,"MENORES DE 15 AÑOS ",null,"15 AÑOS Y MÁS"]
[null,"Hombres","Mujeres","Hombres","Mujeres"]
["TOTAL",{"$f":"SUM(B66:B69)","v":0},{"$f":"SUM(C66:C69)","v":0},0,0]
["ORIENTACION NO CLÍNICA"]
["ORIENTACIÓN PROFESIONAL NO MÉDICA"]
["ORIENTACIÓN MÉDICA"]
["ORIENTACIÓN EN SALUD MENTAL"]
[]
[]
[]
[]
[]
[]
[]
[]
[]
[]
[]
[]
[]
[]
[]
[]
[]
[]
[]
[]
[]
[]
[]
[]
[]
[]
[]
[]
[]
[]
[{"$f":"SUM(B14:U14,B24:I24,B29:M29,B38:Q38,B43:U43,B52:I52,B57:E57,B65:E65)","v":0}]

{"sheet":"A31","index":24,"n_rows":176,"n_cols":87,"rows_kept":176,"cut":false,"hidden":false,"merged":[[81,0,81,1],[82,0,82,1],[83,0,83,1],[84,0,84,1],[85,0,85,1],[72,0,72,1],[73,0,73,1],[75,0,75,1],[76,0,76,1],[74,0,74,1],[77,0,77,1],[78,0,78,1],[79,0,79,1],[69,20,71,20],[67,0,67,1],[69,0,71,1],[69,2,71,2],[69,3,70,5],[69,6,69,13],[69,14,71,14],[70,6,70,7],[70,8,70,9],[70,10,70,11],[70,12,70,13],[69,15,71,15],[69,16,71,16],[69,17,71,17],[69,18,71,18],[69,19,71,19],[65,0,65,1],[31,4,32,4],[31,5,31,31],[49,0,50,1],[49,2,50,2],[49,3,50,3],[49,4,50,4],[49,5,50,5],[49,6,49,32],[31,3,32,3],[51,0,51,1],[52,0,52,1],[53,0,53,1],[10,44,12,44],[54,0,54,1],[60,0,60,1],[16,0,28,0],[29,0,29,1],[31,0,32,0],[31,1,32,1],[11,35,11,36],[31,2,32,2],[13,0,15,0],[10,40,12,40],[10,47,12,47],[10,48,12,48],[11,5,11,6],[11,7,11,8],[11,9,11,10],[11,11,11,12],[11,13,11,14],[11,15,11,16],[11,17,11,18],[11,19,11,20],[10,41,12,41],[10,42,12,42],[10,43,12,43],[11,37,11,38],[10,45,12,45],[10,46,12,46],[6,0,6,19],[10,0,12,1],[10,2,11,4],[10,5,10,38],[10,39,12,39],[11,21,11,22],[11,23,11,24],[11,25,11,26],[11,27,11,28],[11,29,11,30],[11,31,11,32],[11,33,11,34]]}
["SERVICIO DE SALUD"]
[{"$f":"CONCATENATE(\"COMUNA: \",NOMBRE!B2,\" - \",\"( \",NOMBRE!C2,NOMBRE!D2,NOMBRE!E2,NOMBRE!F2,NOMBRE!G2,\" )\")","v":"COMUNA: CALLE LARGA - ( 05302 )"}]
[{"$f":"CONCATENATE(\"ESTABLECIMIENTO/ESTRATEGIA: \",NOMBRE!B3,\" - \",\"( \",NOMBRE!C3,NOMBRE!D3,NOMBRE!E3,NOMBRE!F3,NOMBRE!G3,NOMBRE!H3,\" )\")","v":"ESTABLECIMIENTO/ESTRATEGIA: DR. JOSE JOAQUIN AGUIRRE CAMPOS - ( 108308 )"}]
[{"$f":"CONCATENATE(\"MES: \",NOMBRE!B6,\" - \",\"( \",NOMBRE!C6,NOMBRE!D6,\" )\")","v":"MES: DICIEMBRE - ( 12 )"}]
[{"$f":"CONCATENATE(\"AÑO: \",NOMBRE!B7)","v":"AÑO: 2022"}]
[]
["REM-31.  MEDICINA COMPLEMENTARIA Y PRÁCTICAS DE BIENESTAR DE LA SALUD"]
[]
[]
["SECCIÓN A: TIPOS DE MEDICINA COMPLEMENTARIA Y PRÁCTICAS DE BIENESTAR DE LA SALUD ENTREGADAS EN ATENCIÓN INDIVIDUAL"]
["TIPO DE MEDICINA COMPLEMENTARIA O PRÁCTICA DE BIENESTAR DE LA SALUD",null,"Total",null,null,"POR EDAD ",null,null,null,null,null,null,null,null,null,null,null,null,null,null,null,null,null,null,null,null,null,null,null,null,null,null,null,null,null,null,null,null,null,"Atenciones realizadas durante otras consultas","Beneficiarios","Pueblos Originarios","Migrantes","Niños, Niñas, Adolescentes y Jóvenes población SENAME","Ingresos a Medicina Complementaria","Controles","Pacientes","Familiares / Cuidadores de los pacientes","Funcionarios"]
[null,null,null,null,null," 0  -  4",null," 5  -  9",null," 10 - 14  ",null,"15 a 19",null,"20 - 24",null,"25 - 29",null,"30 - 34",null,"35 - 39",null,"40 - 44",null,"45 - 49",null,"50 - 54",null,"55 - 59",null,"60 - 64",null,"65 - 69",null,"70 - 74",null,"75 - 79",null,"80 y mas"]
[null,null,"Ambos Sexos","Hombres","Mujeres","Hombres","Mujeres","Hombres","Mujeres","Hombres","Mujeres","Hombres","Mujeres","Hombres","Mujeres","Hombres","Mujeres","Hombres","Mujeres","Hombres","Mujeres","Hombres","Mujeres","Hombres","Mujeres","Hombres","Mujeres","Hombres","Mujeres","Hombres","Mujeres","Hombres","Mujeres","Hombres","Mujeres","Hombres","Mujeres","Hombres","Mujeres"]
["Reguladas","Acupuntura",{"$f":"+D14+E14","v":0},{"$f":"+F14+H14+J14+L14+N14+P14+R14+T14+V14+X14+Z14+AB14+AD14+AF14+AH14+AJ14+AL14","v":0},{"$f":"+G14+I14+K14+M14+O14+Q14+S14+U14+W14+Y14+AA14+AC14+AE14+AG14+AI14+AK14+AM14","v":0},0,0,0,0,0,0,0,0,0,0,0,0,0,0,0,0,0,0,0,0,0,0,0,0,0,0,0,0,0,0,0,0,0,0,0,0,0,0,0,0,0,0,0,0,{"$f":"CA14&CB14&CC14","v":""},null,null,null,null,null,null,null,null,null,null,null,null,null,null,null,null,null,null,null,null,null,null,null,null,null,null,null,null,{"$f":"IF(CG14=1,\"* No olvide digitar la columna Beneficiarios y/o Pueblos Originario y/o Migrantes y/o Población SENAME (Digite Cero si no tiene). \",\"\")","v":""},{"$f":"IF(CH14=1,\"* El número de Beneficiarios y/o Pueblos Originarios y/o Migrantes y/o Población SENAME NO DEBE ser mayor que el Total.\",\"\")","v":""},{"$f":"IF(CI14=1,\"* La suma de Pacientes, Familiares/Cuidadores de los pacientes y Funcionarios debe ser mayor o igual al Total. \",\"\")","v":""},null,null,null,{"$f":"IF(AND(C14<>0,OR(AO14=\"\",AP14=\"\",AQ14=\"\",AR14=\"\")),1,0)","v":0},{"$f":"IF(OR(C14<AO14,C14<AP14,C14<AQ14,C14<AR14),1,0)","v":0},{"$f":"IF(C14>(AU14+AV14+AW14),1,0)","v":0}]
[null,"Homeopatía",{"$f":"+D15+E15","v":0},{"$f":"+F15+H15+J15+L15+N15+P15+R15+T15+V15+X15+Z15+AB15+AD15+AF15+AH15+AJ15+AL15","v":0},0,0,0,0,0,0,0,0,0,0,0,0,0,0,0,0,0,0,0,0,0,0,0,0,0,0,0,0,0,0,0,0,0,0,0,0,0,0,0,0,0,0,0,0,0,{"$f":"CA15&CB15&CC15","v":""},null,null,null,null,null,null,null,null,null,null,null,null,null,null,null,null,null,null,null,null,null,null,null,null,null,null,null,null,{"$f":"IF(CG15=1,\"* No olvide digitar la columna Beneficiarios y/o Pueblos Originario y/o Migrantes y/o Población SENAME (Digite Cero si no tiene). \",\"\")","v":""},{"$f":"IF(CH15=1,\"* El número de Beneficiarios y/o Pueblos Originarios y/o Migrantes y/o Población SENAME NO DEBE ser mayor que el Total.\",\"\")","v":""},{"$f":"IF(CI15=1,\"* La suma de Pacientes, Familiares/Cuidadores de los pacientes y Funcionarios debe ser mayor o igual al Total. \",\"\")","v":""},null,null,null,{"$f":"IF(AND(C15<>0,OR(AO15=\"\",AP15=\"\",AQ15=\"\",AR15=\"\")),1,0)","v":0},{"$f":"IF(OR(C15<AO15,C15<AP15,C15<AQ15,C15<AR15),1,0)","v":0},{"$f":"IF(C15>(AU15+AV15+AW15),1,0)","v":0}]
[null,"Naturopatía",0,0,0,0,0,0,0,0,0,0,0,0,0,0,0,0,0,0,0,0,0,0,0,0,0,0,0,0,0,0,0,0,0,0,0,0,0,0,0,0,0,0,0,0,0,0,0,"",null,null,null,null,null,null,null,null,null,null,null,null,null,null,null,null,null,null,null,null,null,null,null,null,null,null,null,null,"","","",null,null,null,0,0,0]
["No reguladas","Apiterapia",0,0,0,0,0,0,0,0,0,0,0,0,0,0,0,0,0,0,0,0,0,0,0,0,0,0,0,0,0,0,0,0,0,0,0,0,0,0,0,0,0,0,0,0,0,0,0,"",null,null,null,null,null,null,null,null,null,null,null,null,null,null,null,null,null,null,null,null,null,null,null,null,null,null,null,null,"","","",null,null,null,0,0,0]
[null,"Aurículoterapia",99,3,96,0,0,0,0,2,1,0,1,0,0,0,0,0,4,0,7,0,9,0,16,0,16,1,16,0,12,0,11,0,1,0,1,0,1,0,99,86,0,0,10,0,99,0,0,"",null,null,null,null,null,null,null,null,null,null,null,null,null,null,null,null,null,null,null,null,null,null,null,null,null,null,null,null,"","","",null,null,null,0,0,0]
[null,"Biomagnetismo",0,{"$f":"+F19+H19+J19+L19+N19+P19+R19+T19+V19+X19+Z19+AB19+AD19+AF19+AH19+AJ19+AL19","v":0},0,0,0,0,0,0,0,0,0,0,0,0,0,0,0,0,0,0,0,0,0,0,0,0,0,0,0,0,0,0,0,0,0,0,0,0,0,0,0,0,0,0,0,0,0,"",null,null,null,null,null,null,null,null,null,null,null,null,null,null,null,null,null,null,null,null,null,null,null,null,null,null,null,null,"","","",null,null,null,0,0,0]
[null,"Fitoterapia ",0,0,0,0,0,0,0,0,0,0,0,0,0,0,0,0,0,0,0,0,0,0,0,0,0,0,0,0,0,0,0,0,0,0,0,0,0,0,0,0,0,0,0,0,0,0,0,"",null,null,null,null,null,null,null,null,null,null,null,null,null,null,null,null,null,null,null,null,null,null,null,null,null,null,null,null,"","","",null,null,null,0,0,0]
[null,"Masoterapia",48,6,42,0,0,0,0,0,0,0,0,0,1,1,1,0,2,0,2,0,0,0,3,3,11,0,5,2,5,0,11,0,1,0,0,0,0,0,48,42,0,0,6,0,48,0,1,"",null,null,null,null,null,null,null,null,null,null,null,null,null,null,null,null,null,null,null,null,null,null,null,null,null,null,null,null,"","","",null,null,null,0,0,0]
[null,"Medicina Antroposófica",0,0,0,0,0,0,0,0,0,0,0,0,0,0,0,0,0,0,0,0,0,0,0,0,0,0,0,0,0,0,0,0,0,0,0,0,0,0,0,0,0,0,0,0,0,0,0,"",null,null,null,null,null,null,null,null,null,null,null,null,null,null,null,null,null,null,null,null,null,null,null,null,null,null,null,null,"","","",null,null,null,0,0,0]
[null,"Quiropraxia",0,0,0,0,0,0,0,0,0,0,0,0,0,0,0,0,0,0,0,0,0,0,0,0,0,0,0,0,0,0,0,0,0,0,0,0,0,0,0,0,0,0,0,0,0,0,0,"",null,null,null,null,null,null,null,null,null,null,null,null,null,null,null,null,null,null,null,null,null,null,null,null,null,null,null,null,"","","",null,null,null,0,0,0]
[null,"Reiki",0,0,0,0,0,0,0,0,0,0,0,0,0,0,0,0,0,0,0,0,0,0,0,0,0,0,0,0,0,0,0,0,0,0,0,0,0,0,0,0,0,0,0,0,0,0,0,"",null,null,null,null,null,null,null,null,null,null,null,null,null,null,null,null,null,null,null,null,null,null,null,null,null,null,null,null,"","","",null,null,null,0,0,0]
[null,"Sanación Pránica ",0,0,0,0,0,0,0,0,0,0,0,0,0,0,0,0,0,0,0,0,0,0,0,0,0,0,0,0,0,0,0,0,0,0,0,0,0,0,0,0,0,0,0,0,0,0,0,"",null,null,null,null,null,null,null,null,null,null,null,null,null,null,null,null,null,null,null,null,null,null,null,null,null,null,null,null,"","","",null,null,null,0,0,0]
[null,"Sintergética",0,0,0,0,0,0,0,0,0,0,0,0,0,0,0,0,0,0,0,0,0,0,0,0,0,0,0,0,0,0,0,0,0,0,0,0,0,0,0,0,0,0,0,0,0,0,0,"",null,null,null,null,null,null,null,null,null,null,null,null,null,null,null,null,null,null,null,null,null,null,null,null,null,null,null,null,"","","",null,null,null,0,0,0]
[null,"Terapia Floral",0,0,0,0,0,0,0,0,0,0,0,0,0,0,0,0,0,0,0,0,0,0,0,0,0,0,0,0,0,0,0,0,0,0,0,0,0,0,0,0,0,0,0,0,0,0,0,"",null,null,null,null,null,null,null,null,null,null,null,null,null,null,null,null,null,null,null,null,null,null,null,null,null,null,null,null,"","","",null,null,null,0,0,0]
[null,"Terapia Neural",0,0,0,0,0,0,0,0,0,0,0,0,0,0,0,0,0,0,0,0,0,0,0,0,0,0,0,0,0,0,0,0,0,0,0,0,0,0,0,0,0,0,0,0,0,0,0,"",null,null,null,null,null,null,null,null,null,null,null,null,null,null,null,null,null,null,null,null,null,null,null,null,null,null,null,null,"","","",null,null,null,0,0,0]
[null,"Otras",0,0,0,0,0,0,0,0,0,0,0,0,0,0,0,0,0,0,0,0,0,0,0,0,0,0,0,0,0,0,0,0,0,0,0,0,0,0,0,0,0,0,0,0,0,0,0,"",null,null,null,null,null,null,null,null,null,null,null,null,null,null,null,null,null,null,null,null,null,null,null,null,null,null,null,null,{"$f":"IF(CG29=1,\"* No olvide digitar la columna Beneficiarios y/o Pueblos Originario y/o Migrantes y/o Población SENAME (Digite Cero si no tiene). \",\"\")","v":""},{"$f":"IF(CH29=1,\"* El número de Beneficiarios y/o Pueblos Originarios y/o Migrantes y/o Población SENAME NO DEBE ser mayor que el Total.\",\"\")","v":""},"",null,null,null,{"$f":"IF(AND(C29<>0,OR(AO29=\"\",AP29=\"\",AQ29=\"\",AR29=\"\")),1,0)","v":0},{"$f":"IF(OR(C29<AO29,C29<AP29,C29<AQ29,C29<AR29),1,0)","v":0},0]
["Total",null,{"$f":"SUM(D30:E30)","v":147},{"$f":"+F30+H30+J30+L30+N30+P30+R30+T30+V30+X30+Z30+AB30+AD30+AF30+AH30+AJ30+AL30","v":9},{"$f":"+G30+I30+K30+M30+O30+Q30+S30+U30+W30+Y30+AA30+AC30+AE30+AG30+AI30+AK30+AM30","v":138},{"$f":"SUM(F14:F29)","v":0},{"$f":"SUM(G14:G29)","v":0},{"$f":"SUM(H14:H29)","v":0},0,2,1,0,1,0,1,1,1,0,6,0,9,0,9,0,19,3,27,1,21,2,17,0,22,0,2,0,1,{"$f":"SUM(AL14:AL29)","v":0},1,0,147,128,0,0,16,0,147,{"$f":"SUM(AV14:AV29)","v":0},1]
["SECCIÓN B: MEDICINA COMPLEMENTARIA Y PRÁCTICAS DE BIENESTAR DE LA SALUD EN ATENCIONES INDIVIDUALES O GRUPALES, SEGÚN PROFESIONAL "]
["PERFIL PROFESIONAL ","Total","Acupuntura","Homeopatía","Naturopatía","No reguladas"]
[null,null,null,null,null,"Apiterapia","Arte terapia","Aurículoterapia","Biodanza","Biomagnetismo","Qi Gong","Fitoterapia","Huertos Medicinales o Alimenticio/ Medicinales","Masoterapia","Medicina Antroposófica","Meditación ","Quiropraxia","Reiki","Sanación Pránica","Sintergética","Sonoterapia","Tai Chi ","Terapia Floral","Terapia Neural","Yoga","Constelaciones Familiares","Circulos de escucha","Musicoterapia","Danzaterapia","Dramaterapia","Otras Individuales","Otras Grupales"]
["Médico",{"$f":"SUM(C34:AF34)","v":0}]
["Odontólogo",{"$f":"SUM(C35:AF35)","v":0}]
["Enfermera (o)",{"$f":"SUM(C36:AF36)","v":0}]
["Matrona (on)",0]
["Psicólogo",0]
["Fonoaudiólogo",0]
["Kinesiólogo",0]
["Farmacéutico",0]
["Paramédico",0]
["Nutricionista",0]
["Tecnólogo Médico",0]
["Asistente Social",0]
["Terapeuta Ocupacional",0]
["Terapeuta Complementario",147,null,null,null,null,null,99,null,null,null,null,null,48]
["Total",{"$f":"SUM(B34:B47)","v":147},{"$f":"SUM(C34:C47)","v":0},{"$f":"SUM(D34:D47)","v":0},0,0,0,99,{"$f":"SUM(I34:I47)","v":0},0,0,0,0,48,0,0,0,0,0,0,0,0,0,0,0,0,0,0,0,0,0,{"$f":"SUM(AF34:AF47)","v":0}]
["SECCIÓN C: ORIGEN DE LA ATENCIÓN CON MEDICINA COMPLEMENTARIA Y PRÁCTICAS DE BIENESTAR DE LA SALUD"]
["ORIGEN DE LA ATENCIÓN",null,"Total","Acupuntura","Homeopatía","Naturopatía","No reguladas"]
[null,null,null,null,null,null,"Apiterapia","Arte terapia","Aurículoterapia","Biodanza","Biomagnetismo","Qi Gong","Fitoterapia","Huertos Medicinales o Alimenticio/Medicinales","Masoterapia","Medicina Antroposófica","Meditación ","Quiropraxia","Reiki","Sanación Pránica","Sintergética","Sonoterapia","Tai Chi ","Terapia Floral","Terapia Neural","Yoga","Constelaciones Familiares","Circulos de escucha","Musicoterapia","Danzaterapia","Dramaterapia","Otras Individuales","Otras Grupales"]
["Consulta Espontánea",null,{"$f":"SUM(D52:AG52)","v":147},null,null,null,null,null,99,null,null,null,null,null,48]
["Derivado desde Morbilidad",null,{"$f":"SUM(D53:AG53)","v":0}]
["Derivado desde Especialidad",null,0]
["Paciente Hospitalizado",null,0]
["Programa Crónicos Cardiovascular",null,0]
["Otros programas de crónicos",null,0]
["Programa de Salud Mental",null,0]
["Programa de Salud Oral",null,0]
["Programa de Salud sexual y reproductiva ",null,0]
["Chile Crece Contigo/Programa Infantil",null,0]
["Programa de Cáncer (QT/RT)",null,0]
["Programa de Dependencia  severa",null,0]
["Programa de Hospitalización Domiciliaria",null,0]
["Programa de Rehabilitación física",null,0]
["Programa de Cuidados Paliativos y Manejo del Dolor",null,0]
["Otros programas",null,0]
["Total",null,{"$f":"SUM(C52:C67)","v":147},{"$f":"SUM(D52:D67)","v":0},{"$f":"SUM(E52:E67)","v":0},{"$f":"SUM(F52:F67)","v":0},0,0,99,0,0,0,0,0,48,0,0,0,0,0,0,0,0,0,0,0,0,0,0,{"$f":"SUM(AD52:AD67)","v":0},0,0,{"$f":"SUM(AG52:AG67)","v":0}]
["SECCIÓN D: TIPOS DE MEDICINA COMPLEMENTARIA Y PRÁCTICAS DE BIENESTAR DE LA SALUD ENTREGADAS EN ATENCION GRUPAL Y COMUNITARIA"]
["TIPO DE  MEDICINA COMPLEMENTARIA O PRÁCTICA DE BIENESTAR DE LA SALUD",null,"Total de sesiones grupales","Nº de participantes",null,null,"PARTICIPANTES POR EDAD ",null,null,null,null,null,null,null,"Pacientes","Familiares / Cuidadores de los pacientes","Funcionarios","Beneficiarios","Pueblos Originarios","Migrantes","Niños, Niñas, Adolescentes y Jóvenes población SENAME"]
[null,null,null,null,null,null,"Menor de 10 años",null,"10-19 años",null,"20-64 años",null,"Mayor de 64 años"]
[null,null,null,"Ambos Sexos","Hombres","Mujeres","Hombres","Mujeres","Hombres","Mujeres","Hombres","Mujeres","Hombres","Mujeres"]
["Arte terapia",null,null,{"$f":"SUM(E73:F73)","v":0},{"$f":"SUM(G73+I73+K73+M73)","v":0},{"$f":"SUM(H73+J73+L73+N73)","v":0},null,null,null,null,null,null,null,null,null,null,null,null,null,null,null,{"$f":"CA73&CC73&CB73","v":""},null,null,null,null,null,null,null,null,null,null,null,null,null,null,null,null,null,null,null,null,null,null,null,null,null,null,null,null,null,null,null,null,null,null,null,null,null,null,null,null,null,null,null,null,null,null,null,null,null,null,null,null,null,null,null,null,{"$f":"IF(CG73=1,\"* No olvide digitar la columna Pacientes y/o Familiares y/o Funcionarios y/o Beneficiarios y/o Pueblos Originario y/o Migrantes y/o Población SENAME (Digite Cero si no tiene). \",\"\")","v":""},{"$f":"IF(CH73=1,\"* El número de Beneficiarios y/o Pueblos Originarios y/o Migrantes y/o Población SENAME NO DEBE ser mayor que el Total. \",\"\")","v":""},{"$f":"IF(CI73=1,\"* La suma de Pacientes, Familiares/Cuidadores de los pacientes y Funcionarios debe ser mayor o igual al Total de Participantes.\",\"\")","v":""},null,null,null,{"$f":"IF(AND(D73<>0,OR(R73=\"\",O73=\"\",P73=\"\",Q73=\"\",R73=\"\",S73=\"\",T73=\"\")),1,0)","v":0},{"$f":"IF(OR(D73<R73,D73<S73,D73<T73),1,0)","v":0},{"$f":"IF(D73>(O73+P73+Q73),1,0)","v":0}]
["Biodanza",null,null,{"$f":"SUM(E74:F74)","v":0},{"$f":"SUM(G74+I74+K74+M74)","v":0},{"$f":"SUM(H74+J74+L74+N74)","v":0},null,null,null,null,null,null,null,null,null,null,null,null,null,null,null,{"$f":"CA74&CC74&CB74","v":""},null,null,null,null,null,null,null,null,null,null,null,null,null,null,null,null,null,null,null,null,null,null,null,null,null,null,null,null,null,null,null,null,null,null,null,null,null,null,null,null,null,null,null,null,null,null,null,null,null,null,null,null,null,null,null,null,{"$f":"IF(CG74=1,\"* No olvide digitar la columna Pacientes y/o Familiares y/o Funcionarios y/o Beneficiarios y/o Pueblos Originario y/o Migrantes y/o Población SENAME (Digite Cero si no tiene). \",\"\")","v":""},{"$f":"IF(CH74=1,\"* El número de Beneficiarios y/o Pueblos Originarios y/o Migrantes y/o Población SENAME NO DEBE ser mayor que el Total. \",\"\")","v":""},{"$f":"IF(CI74=1,\"* La suma de Pacientes, Familiares/Cuidadores de los pacientes y Funcionarios debe ser mayor o igual al Total de Participantes.\",\"\")","v":""},null,null,null,{"$f":"IF(AND(D74<>0,OR(R74=\"\",O74=\"\",P74=\"\",Q74=\"\",R74=\"\",S74=\"\",T74=\"\")),1,0)","v":0},{"$f":"IF(OR(D74<R74,D74<S74,D74<T74),1,0)","v":0},{"$f":"IF(D74>(O74+P74+Q74),1,0)","v":0}]
["Huertos Medicinales o Alimenticio/Medicinales",null,null,0,0,0,null,null,null,null,null,null,null,null,null,null,null,null,null,null,null,"",null,null,null,null,null,null,null,null,null,null,null,null,null,null,null,null,null,null,null,null,null,null,null,null,null,null,null,null,null,null,null,null,null,null,null,null,null,null,null,null,null,null,null,null,null,null,null,null,null,null,null,null,null,null,null,null,{"$f":"IF(CG75=1,\"* No olvide digitar la columna Pacientes y/o Familiares y/o Funcionarios y/o Beneficiarios y/o Pueblos Originario y/o Migrantes y/o Población SENAME (Digite Cero si no tiene). \",\"\")","v":""},{"$f":"IF(CH75=1,\"* El número de Beneficiarios y/o Pueblos Originarios y/o Migrantes y/o Población SENAME NO DEBE ser mayor que el Total. \",\"\")","v":""},"",null,null,null,0,0,0]
["Meditación",null,null,0,0,0,null,null,null,null,null,null,null,null,null,null,null,null,null,null,null,"",null,null,null,null,null,null,null,null,null,null,null,null,null,null,null,null,null,null,null,null,null,null,null,null,null,null,null,null,null,null,null,null,null,null,null,null,null,null,null,null,null,null,null,null,null,null,null,null,null,null,null,null,null,null,null,null,"","","",null,null,null,0,0,0]
["Sonoterapia",null,null,{"$f":"SUM(E77:F77)","v":0},0,0,null,null,null,null,null,null,null,null,null,null,null,null,null,null,null,"",null,null,null,null,null,null,null,null,null,null,null,null,null,null,null,null,null,null,null,null,null,null,null,null,null,null,null,null,null,null,null,null,null,null,null,null,null,null,null,null,null,null,null,null,null,null,null,null,null,null,null,null,null,null,null,null,"","","",null,null,null,0,0,0]
["Tai Chi",null,null,{"$f":"SUM(E78:F78)","v":0},0,0,null,null,null,null,null,null,null,null,null,null,null,null,null,null,null,"",null,null,null,null,null,null,null,null,null,null,null,null,null,null,null,null,null,null,null,null,null,null,null,null,null,null,null,null,null,null,null,null,null,null,null,null,null,null,null,null,null,null,null,null,null,null,null,null,null,null,null,null,null,null,null,null,"","","",null,null,null,0,0,0]
["Yoga",null,null,0,0,0,null,null,null,null,null,null,null,null,null,null,null,null,null,null,null,"",null,null,null,null,null,null,null,null,null,null,null,null,null,null,null,null,null,null,null,null,null,null,null,null,null,null,null,null,null,null,null,null,null,null,null,null,null,null,null,null,null,null,null,null,null,null,null,null,null,null,null,null,null,null,null,null,"","","",null,null,null,0,0,0]
["Constelaciones familiares",null,null,0,0,0,null,null,null,null,null,null,null,null,null,null,null,null,null,null,null,"",null,null,null,null,null,null,null,null,null,null,null,null,null,null,null,null,null,null,null,null,null,null,null,null,null,null,null,null,null,null,null,null,null,null,null,null,null,null,null,null,null,null,null,null,null,null,null,null,null,null,null,null,null,null,null,null,"","","",null,null,null,0,0,0]
["Cìrculos de Escucha",null,null,{"$f":"SUM(E81:F81)","v":0},0,0,null,null,null,null,null,null,null,null,null,null,null,null,null,null,null,"",null,null,null,null,null,null,null,null,null,null,null,null,null,null,null,null,null,null,null,null,null,null,null,null,null,null,null,null,null,null,null,null,null,null,null,null,null,null,null,null,null,null,null,null,null,null,null,null,null,null,null,null,null,null,null,null,"","","",null,null,null,0,0,0]
["Qi Gong",null,null,{"$f":"SUM(E82:F82)","v":0},0,0,null,null,null,null,null,null,null,null,null,null,null,null,null,null,null,"",null,null,null,null,null,null,null,null,null,null,null,null,null,null,null,null,null,null,null,null,null,null,null,null,null,null,null,null,null,null,null,null,null,null,null,null,null,null,null,null,null,null,null,null,null,null,null,null,null,null,null,null,null,null,null,null,"","","",null,null,null,0,0,0]
["Danzaterapia",null,null,0,0,0,null,null,null,null,null,null,null,null,null,null,null,null,null,null,null,"",null,null,null,null,null,null,null,null,null,null,null,null,null,null,null,null,null,null,null,null,null,null,null,null,null,null,null,null,null,null,null,null,null,null,null,null,null,null,null,null,null,null,null,null,null,null,null,null,null,null,null,null,null,null,null,null,"","","",null,null,null,0,0,0]
["Musicoterapia",null,null,0,0,0,null,null,null,null,null,null,null,null,null,null,null,null,null,null,null,"",null,null,null,null,null,null,null,null,null,null,null,null,null,null,null,null,null,null,null,null,null,null,null,null,null,null,null,null,null,null,null,null,null,null,null,null,null,null,null,null,null,null,null,null,null,null,null,null,null,null,null,null,null,null,null,null,"","","",null,null,null,0,0,0]
["Dramaterapia",null,null,0,0,0,null,null,null,null,null,null,null,null,null,null,null,null,null,null,null,"",null,null,null,null,null,null,null,null,null,null,null,null,null,null,null,null,null,null,null,null,null,null,null,null,null,null,null,null,null,null,null,null,null,null,null,null,null,null,null,null,null,null,null,null,null,null,null,null,null,null,null,null,null,null,null,null,"","","",null,null,null,0,0,0]
["Otras",null,null,0,0,0,null,null,null,null,null,null,null,null,null,null,null,null,null,null,null,"",null,null,null,null,null,null,null,null,null,null,null,null,null,null,null,null,null,null,null,null,null,null,null,null,null,null,null,null,null,null,null,null,null,null,null,null,null,null,null,null,null,null,null,null,null,null,null,null,null,null,null,null,null,null,null,null,"","","",null,null,null,0,0,0]
["Total",null,{"$f":"SUM(C73:C86)","v":0},{"$f":"SUM(E87:F87)","v":0},{"$f":"SUM(E73:E86)","v":0},0,{"$f":"SUM(G73:G86)","v":0},0,0,0,0,0,0,0,0,0,0,0,0,0,{"$f":"SUM(U73:U86)","v":0}]
[]
[]
[]
[]
[]
[]
[]
[]
[]
[]
[]
[]
[]
[]
[]
[]
[]
[]
[]
[]
[]
[]
[]
[]
[]
[]
[]
[]
[]
[]
[]
[]
[]
[]
[]
[]
[]
[]
[]
[]
[]
[]
[]
[]
[]
[]
[]
[]
[]
[]
[]
[]
[]
[]
[]
[]
[]
[]
[]
[]
[]
[]
[]
[]
[]
[]
[]
[]
[]
[]
[]
[]
[]
[]
[]
[]
[]
[]
[]
[]
[]
[]
[]
[]
[]
[]
[]
[]
[{"$f":"SUM(C30:AQ30,B34:B48, C52:C68,D73:D87)","v":1304},{"$f":"SUM(CG13:CH69)","v":0}]

{"sheet":"A32","index":25,"n_rows":248,"n_cols":94,"rows_kept":248,"cut":false,"hidden":false,"merged":[[6,1,6,9],[7,1,7,9],[232,19,233,19],[232,20,233,20],[238,0,239,0],[238,1,239,1],[238,2,238,3],[238,4,238,9],[238,10,239,10],[238,11,239,11],[225,10,226,10],[232,0,233,0],[232,1,233,1],[232,2,233,2],[232,3,232,4],[232,5,232,18],[216,0,217,1],[216,2,217,2],[216,3,216,9],[216,10,216,13],[218,0,221,0],[223,0,226,0],[223,1,224,4],[223,5,223,10],[224,5,224,6],[224,7,224,8],[224,9,224,10],[225,1,226,1],[225,2,226,2],[225,3,226,3],[225,4,226,4],[225,5,226,5],[225,6,226,6],[225,7,226,7],[225,8,226,8],[225,9,226,9],[208,0,210,0],[208,1,210,1],[208,2,209,4],[208,5,210,5],[208,6,208,11],[209,6,209,11],[198,10,199,10],[198,11,199,11],[198,12,199,12],[197,0,199,0],[197,1,199,1],[197,2,198,4],[197,5,199,5],[197,6,197,16],[197,17,199,17],[198,6,199,6],[198,7,199,7],[198,8,199,8],[198,9,199,9],[190,0,191,0],[190,1,191,1],[190,2,190,3],[190,4,191,4],[190,5,190,19],[198,16,199,16],[198,13,199,13],[198,14,199,14],[198,15,199,15],[190,20,191,20],[184,28,184,29],[184,30,184,31],[184,32,184,33],[184,34,184,35],[184,36,184,37],[184,38,184,39],[183,42,185,42],[183,4,183,39],[183,40,185,40],[183,41,185,41],[184,20,184,21],[184,22,184,23],[184,24,184,25],[184,26,184,27],[184,4,184,5],[184,6,184,7],[184,8,184,9],[184,10,184,11],[184,12,184,13],[184,14,184,15],[184,16,184,17],[184,18,184,19],[184,93,185,93],[172,0,173,0],[172,1,172,3],[172,4,172,6],[177,0,178,0],[177,1,178,1],[177,2,177,18],[184,79,185,79],[184,80,185,80],[184,81,185,81],[184,90,185,90],[184,91,185,91],[184,92,185,92],[184,78,185,78],[182,4,182,39],[183,43,185,43],[183,0,185,0],[183,1,184,3],[165,78,166,78],[165,90,166,90],[164,0,166,0],[164,1,165,3],[164,4,164,31],[164,32,166,32],[164,33,166,33],[165,4,165,5],[165,6,165,7],[165,8,165,9],[165,22,165,23],[165,24,165,25],[165,26,165,27],[165,28,165,29],[165,30,165,31],[165,10,165,11],[165,12,165,13],[165,14,165,15],[165,16,165,17],[165,18,165,19],[165,20,165,21],[140,0,143,0],[144,0,147,0],[149,0,150,0],[149,1,150,1],[149,2,149,4],[149,5,149,6],[138,15,138,16],[138,17,138,18],[138,19,138,20],[137,0,139,0],[137,1,139,1],[137,2,138,4],[137,5,137,32],[138,5,138,6],[138,7,138,8],[138,9,138,10],[138,11,138,12],[138,13,138,14],[112,0,123,0],[124,0,135,0],[138,78,139,78],[138,27,138,28],[138,29,138,30],[138,31,138,32],[138,21,138,22],[138,23,138,24],[138,25,138,26],[138,90,139,90],[149,78,150,78],[149,86,150,86],[110,27,110,28],[110,29,110,30],[110,31,110,32],[110,33,110,34],[110,35,110,36],[110,37,110,38],[109,40,111,40],[109,41,111,41],[109,42,111,42],[109,39,111,39],[137,33,139,33],[110,5,110,6],[110,7,110,8],[110,9,110,10],[110,11,110,12],[110,13,110,14],[110,15,110,16],[110,17,110,18],[103,20,104,20],[109,0,111,0],[109,1,111,1],[109,2,110,4],[109,5,109,38],[110,19,110,20],[110,21,110,22],[110,23,110,24],[110,25,110,26],[102,0,104,0],[102,1,104,1],[102,2,103,18],[102,19,102,20],[102,21,104,21],[102,22,104,22],[102,23,104,23],[102,24,104,24],[103,19,104,19],[103,89,104,89],[103,90,104,90],[91,0,93,0],[91,1,91,3],[91,4,91,11],[91,12,93,12],[91,13,93,13],[81,20,82,20],[103,78,104,78],[103,79,104,79],[103,80,104,80],[103,81,104,81],[103,82,104,82],[92,1,93,1],[92,2,93,2],[92,3,93,3],[92,4,93,4],[92,5,93,5],[92,6,93,6],[103,86,104,86],[103,87,104,87],[103,88,104,88],[92,7,93,7],[92,90,93,90],[92,91,93,91],[92,92,93,92],[81,0,82,0],[81,1,81,3],[81,4,81,15],[81,16,82,16],[81,17,82,17],[81,18,82,18],[81,19,82,19],[92,83,93,83],[92,84,93,84],[92,86,93,86],[92,87,93,87],[92,88,93,88],[92,89,93,89],[81,87,82,87],[81,88,82,88],[81,89,82,89],[81,90,82,90],[81,91,82,91],[92,9,93,9],[92,10,93,10],[92,11,93,11],[78,0,78,1],[92,78,93,78],[92,79,93,79],[92,80,93,80],[92,81,93,81],[92,82,93,82],[70,0,72,0],[73,0,73,1],[74,0,74,1],[75,0,75,1],[76,0,76,1],[77,0,77,1],[91,14,93,14],[91,15,93,15],[91,16,93,16],[91,17,93,17],[92,8,93,8],[69,0,69,1],[81,79,82,79],[81,80,82,80],[81,81,82,81],[81,82,82,82],[81,83,82,83],[81,86,82,86],[67,29,67,30],[67,31,67,32],[67,33,67,34],[67,35,67,36],[67,37,67,38],[81,78,82,78],[67,17,67,18],[67,19,67,20],[67,21,67,22],[67,23,67,24],[67,25,67,26],[67,27,67,28],[67,5,67,6],[67,7,67,8],[67,9,67,10],[67,11,67,12],[67,13,67,14],[67,15,67,16],[47,86,48,86],[66,0,68,1],[66,2,67,4],[66,5,66,38],[66,39,68,39],[66,40,68,40],[66,41,68,41],[66,42,68,42],[66,43,68,43],[66,44,68,44],[46,0,48,0],[46,1,48,1],[46,2,46,20],[47,2,47,18],[47,19,47,20],[47,78,48,78],[21,86,22,86],[26,0,28,0],[26,1,28,1],[26,2,26,20],[26,21,27,22],[26,23,27,24],[26,25,26,34],[26,35,28,35],[26,36,28,36],[26,78,28,78],[26,79,27,80],[26,81,27,82],[26,89,27,90],[11,79,12,79],[11,86,12,86],[11,87,12,87],[9,0,9,8],[11,0,12,0],[11,1,12,1],[11,2,12,2],[11,3,11,19],[15,0,17,0],[21,0,22,0],[21,1,22,1],[21,2,21,18],[21,19,21,20],[21,78,22,78],[11,20,11,21],[11,22,12,22],[11,78,12,78],[26,86,28,86],[26,87,27,88],[27,2,27,18],[27,19,27,20],[27,25,27,29],[27,30,27,34]]}
["SERVICIO DE SALUD"]
[{"$f":"CONCATENATE(\"COMUNA: \",NOMBRE!B2,\" - \",\"( \",NOMBRE!C2,NOMBRE!D2,NOMBRE!E2,NOMBRE!F2,NOMBRE!G2,\" )\")","v":"COMUNA: CALLE LARGA - ( 05302 )"}]
[{"$f":"CONCATENATE(\"ESTABLECIMIENTO/ESTRATEGIA: \",NOMBRE!B3,\" - \",\"( \",NOMBRE!C3,NOMBRE!D3,NOMBRE!E3,NOMBRE!F3,NOMBRE!G3,NOMBRE!H3,\" )\")","v":"ESTABLECIMIENTO/ESTRATEGIA: DR. JOSE JOAQUIN AGUIRRE CAMPOS - ( 108308 )"}]
[{"$f":"CONCATENATE(\"MES: \",NOMBRE!B6,\" - \",\"( \",NOMBRE!C6,NOMBRE!D6,\" )\")","v":"MES: DICIEMBRE - ( 12 )"}]
[{"$f":"CONCATENATE(\"AÑO: \",NOMBRE!B7)","v":"AÑO: 2022"}]
[]
[null,"REM-32. ACTIVIDADES DE SALUD PRIORIZADAS, CONTEXTO DE EMERGENCIA SANITARIA"]
[null,"   (NO CONTENIDAS EN LOS REGISTROS HABITUALES REM)"]
[]
[]
["SECCIÓN A: SEGUIMIENTO EN ATENCIÓN PRIMARIA DE SALUD POR LLAMADA TELEFÓNICA"]
["PROFESIONAL","ACTIVIDAD","TOTAL","GRUPO DE EDAD (en años)",null,null,null,null,null,null,null,null,null,null,null,null,null,null,null,null," SEXO",null,"NIÑOS, NIÑAS, ADOLESCENTES Y JÓVENES RED SENAME",null,null,null,null,null,null,null,null,null,null,null,null,null,null,null,null,null,null,null,null,null,null,null,null,null,null,null,null,null,null,null,null,null,null,null,null,null,null,null,null,null,null,null,null,null,null,null,null,null,null,null,null,null,null,null,"Hombres y Mujeres Mayor a Total","NNA Sename Mayor a Total",null,null,null,null,null,null,"Hombres y Mujeres Mayor a Total","NNA Sename Mayor a Total"]
[null,null,null,"0 - 4","5 - 9"," 10 - 14","15 a 19","20 - 24","25 - 29","30 - 34","35 - 39","40 - 44","45 - 49","50 - 54","55 - 59","60 - 64","65 - 69","70 - 74","75 - 79","80 y mas","Hombres","Mujeres"]
["Médico",null,{"$f":"SUM(D14:T14)","v":0},null,null,null,null,null,null,null,null,null,null,null,null,null,null,null,null,null,null,null,null,{"$f":"+CA14&CB14","v":""},null,null,null,null,null,null,null,null,null,null,null,null,null,null,null,null,null,null,null,null,null,null,null,null,null,null,null,null,null,null,null,null,null,null,null,null,null,null,null,null,null,null,null,null,null,null,null,null,null,null,null,null,null,null,{"$f":"IF(CI14=1,\" *Los controles según sexo deben ser iguales  al total de Controles. \",\"\")","v":""},{"$f":"IF(CJ14=1,\" *Las Atenciones de NNA SENAME no pueden superar el total de Atenciones entre los 0 Y 24 años.\",\"\")","v":""},null,null,null,null,null,null,{"$f":"IF(U14+V14<>C14,1,0)","v":0},{"$f":"IF(SUM(D14:H14)<W14,1,0)","v":0}]
["Enfermera",null,{"$f":"SUM(D15:T15)","v":0},null,null,null,null,null,null,null,null,null,null,null,null,null,null,null,null,null,null,null,null,"",null,null,null,null,null,null,null,null,null,null,null,null,null,null,null,null,null,null,null,null,null,null,null,null,null,null,null,null,null,null,null,null,null,null,null,null,null,null,null,null,null,null,null,null,null,null,null,null,null,null,null,null,null,null,{"$f":"IF(CI15=1,\" *Los controles según sexo deben ser iguales  al total de Controles. \",\"\")","v":""},{"$f":"IF(CJ15=1,\" *Las Atenciones de NNA SENAME no pueden superar el total de Atenciones entre los 0 Y 24 años.\",\"\")","v":""},null,null,null,null,null,null,0,0]
["Matrona","Gestantes",0,null,null,null,null,null,null,null,null,null,null,null,null,null,null,null,null,null,null,null,null,"",null,null,null,null,null,null,null,null,null,null,null,null,null,null,null,null,null,null,null,null,null,null,null,null,null,null,null,null,null,null,null,null,null,null,null,null,null,null,null,null,null,null,null,null,null,null,null,null,null,null,null,null,null,null,"","",null,null,null,null,null,null,0,0]
[null,"Regulación de Fertilidad",0,null,null,null,null,null,null,null,null,null,null,null,null,null,null,null,null,null,null,null,null,"",null,null,null,null,null,null,null,null,null,null,null,null,null,null,null,null,null,null,null,null,null,null,null,null,null,null,null,null,null,null,null,null,null,null,null,null,null,null,null,null,null,null,null,null,null,null,null,null,null,null,null,null,null,null,"","",null,null,null,null,null,null,0,0]
[null,"Otros",0,null,null,null,null,null,null,null,null,null,null,null,null,null,null,null,null,null,null,null,null,"",null,null,null,null,null,null,null,null,null,null,null,null,null,null,null,null,null,null,null,null,null,null,null,null,null,null,null,null,null,null,null,null,null,null,null,null,null,null,null,null,null,null,null,null,null,null,null,null,null,null,null,null,null,null,"","",null,null,null,null,null,null,0,0]
["Otros Profesionales",null,0,null,null,null,null,null,null,null,null,null,null,null,null,null,null,null,null,null,null,null,null,"",null,null,null,null,null,null,null,null,null,null,null,null,null,null,null,null,null,null,null,null,null,null,null,null,null,null,null,null,null,null,null,null,null,null,null,null,null,null,null,null,null,null,null,null,null,null,null,null,null,null,null,null,null,null,{"$f":"IF(CI19=1,\" *Los controles según sexo deben ser iguales  al total de Controles. \",\"\")","v":""},"",null,null,null,null,null,null,0,0]
["TOTAL ",null,0,{"$f":"SUM(D14:D19)","v":0},{"$f":"SUM(E14:E19)","v":0},0,0,0,0,0,0,0,0,0,0,0,0,0,0,0,{"$f":"+U14+U15+U17+U18+U19","v":0},{"$f":"SUM(V14:V19)","v":0},{"$f":"SUM(W14:W19)","v":0},null,null,null,null,null,null,null,null,null,null,null,null,null,null,null,null,null,null,null,null,null,null,null,null,null,null,null,null,null,null,null,null,null,null,null,null,null,null,null,null,null,null,null,null,null,null,null,null,null,null,null,null,null,null,null,"","",null,null,null,null,null,null,0,0]
["SECCIÓN B: CONSULTA MÉDICA EN ATENCIÓN PRIMARIA DE SALUD POR LLAMADA TELEFÓNICA"]
[null,"TOTAL","GRUPO DE EDAD (en años)",null,null,null,null,null,null,null,null,null,null,null,null,null,null,null,null,"SEXO",null,null,null,null,null,null,null,null,null,null,null,null,null,null,null,null,null,null,null,null,null,null,null,null,null,null,null,null,null,null,null,null,null,null,null,null,null,null,null,null,null,null,null,null,null,null,null,null,null,null,null,null,null,null,null,null,null,null,"Hombres y Mujeres Mayor a Total",null,null,null,null,null,null,null,"Hombres y Mujeres Mayor a Total"]
[null,null,"0 - 4","5 - 9","10 - 14","15 - 19","20 - 24","25 - 29","30 - 34","35 - 39","40 - 44","45 - 49","50 - 54","55 - 59","60 - 64","65 - 69","70 - 74","75 - 79","80 y mas","Hombres","Mujeres"]
["Medicina General",{"$f":"SUM(C24:S24)","v":1},0,0,0,0,0,0,1,0,0,0,0,0,0,0,0,0,0,0,1,{"$f":"IF(B24=SUM(T24:U24),\"\",\"No coincide el total con la desagregacion por Sexo\")","v":""},null,null,null,null,null,null,null,null,null,null,null,null,null,null,null,null,null,null,null,null,null,null,null,null,null,null,null,null,null,null,null,null,null,null,null,null,null,null,null,null,null,null,null,null,null,null,null,null,null,null,null,null,null,null,null,null,{"$f":"IF(CI24=1,\" *Los controles según sexo deben ser iguales  al total de Controles. \",\"\")","v":""},null,null,null,null,null,null,null,{"$f":"IF(U24+T24<>B24,1,0)","v":0}]
["SECCIÓN C: ATENCIONES TELEFONICAS EN CONSULTAS Y CONTROLES"]
["SECCIÓN C1: ATENCIONES REMOTAS MEDICAS EN ESPECIALIDAD"]
["ACTIVIDADES","TOTAL","ATENCIONES REMOTAS DE CONSULTAS TOTALES DE ESPECIALIDAD",null,null,null,null,null,null,null,null,null,null,null,null,null,null,null,null,null,null,"NO CONTESTA",null,"ALTA DE CONSULTA DE ESPECIALIDAD AMBULATORIA",null,"ATENCIONES REMOTAS DE CONSULTAS NUEVAS DE ESPECIALIDAD SEGÚN ORIGEN",null,null,null,null,null,null,null,null,null,"Atención Remota: entrega de los resultados de exámenes o procedimiento (Confección de recetas o lectura de exámenes)","Consultorías resueltas vía remota",null,null,null,null,null,null,null,null,null,null,null,null,null,null,null,null,null,null,null,null,null,null,null,null,null,null,null,null,null,null,null,null,null,null,null,null,null,null,null,null,null,"Hombres y Mujeres Mayor a Total","ATENCIONES TELEFÓNICAS DE CONSULTAS NUEVAS DE ESPECIALIDAD SEGÚN ORIGEN",null,"NUMERO DE ALTAS",null,null,null,null,"Hombres y Mujeres Mayor a Total","ATENCIONES TELEFÓNICAS DE CONSULTAS NUEVAS DE ESPECIALIDAD SEGÚN ORIGEN",null,"NUMERO DE ALTAS"]
[null,null,"GRUPO DE EDAD (en años)",null,null,null,null,null,null,null,null,null,null,null,null,null,null,null,null,"SEXO",null,null,null,null,null,"Menos 15 años",null,null,null,null,"De 15 y más años"]
[null,null,"0 - 4","5 - 9","10 - 14","15 - 19","20 - 24","25 - 29","30 - 34","35 - 39","40 - 44","45 - 49","50 - 54","55 - 59","60 - 64","65 - 69","70 - 74","75 - 79","80 y mas","Hombres","Mujeres","NUEVAS","CONTROLES","Menos \n15 años","15 y más \naños","TOTAL","APS","CAE/CDT/CRS","URGENCIA","HOSPITALIZACIÓN","TOTAL","APS","CAE/CDT/CRS","URGENCIA","HOSPITALIZACIÓN",null,null,null,null,null,null,null,null,null,null,null,null,null,null,null,null,null,null,null,null,null,null,null,null,null,null,null,null,null,null,null,null,null,null,null,null,null,null,null,null,null,null,null,null,"Menos 15 años","De 15 y más años","Menos 15 años","De 15 y más años",null,null,null,null,"Menos 15 años","De 15 y más años","Menos 15 años","De 15 y más años"]
["Pediatría (incluye totalidad de producción de subespecialidades de pediatría )",{"$f":"SUM(C30:S30)","v":0},null,null,null,null,null,null,null,null,null,null,null,null,null,null,null,null,null,null,null,null,null,null,null,{"$f":"SUM(AA30+AB30+AC30+AD30)","v":0},null,null,null,null,{"$f":"SUM(AF30+AG30+AH30+AI30)","v":0},null,null,null,null,null,null,{"$f":"$CA30&CB30&$CC30&$CD30&$CE30","v":""},null,null,null,null,null,null,null,null,null,null,null,null,null,null,null,null,null,null,null,null,null,null,null,null,null,null,null,null,null,null,null,null,null,null,null,null,null,null,null,null,{"$f":"IF(CI30=1,\" *Los controles según sexo deben ser iguales  al total de Controles. \",\"\")","v":""},{"$f":"IF(CJ30=1,\"* El total de atenciones remotas de consultas nuevas según origen de menores de 15 años NO DEBE superar el total de atenciones del grupo indicado. \",\"\")","v":""},{"$f":"IF(CK30=1,\"* El total de atenciones remotas de consultas nuevas según origen de pacientes de 15 y más años NO DEBE superar el total de atenciones del grupo indicado. \",\"\")","v":""},{"$f":"IF(CL30=1,\"* El total de altas de consultas nuevas según origen de menores de 15 años NO DEBE superar el total de atenciones del grupo indicado. \",\"\")","v":""},{"$f":"IF(CM30=1,\"* El total de altas de consultas nuevas según origen de pacientes de 15 y más años NO DEBE superar el total de atenciones del grupo indicado. \",\"\")","v":""},null,null,null,{"$f":"IF(T30+U30<>B30,1,0)","v":0},{"$f":"IF(Z30>SUM($C30:$E30),1,0)","v":0},{"$f":"IF(AE30>SUM($F30:$S30),1,0)","v":0},{"$f":"IF(X30>SUM($C30:$E30),1,0)","v":0},{"$f":"IF(Y30>SUM($F30:$S30),1,0)","v":0}]
["Medicina Interna",0,null,null,null,null,null,null,null,null,null,null,null,null,null,null,null,null,null,null,null,null,null,null,null,{"$f":"SUM(AA31+AB31+AC31+AD31)","v":0},null,null,null,null,{"$f":"SUM(AF31+AG31+AH31+AI31)","v":0},null,null,null,null,null,null,{"$f":"$CA31&CB31&$CC31&$CD31&$CE31","v":""},null,null,null,null,null,null,null,null,null,null,null,null,null,null,null,null,null,null,null,null,null,null,null,null,null,null,null,null,null,null,null,null,null,null,null,null,null,null,null,null,"",{"$f":"IF(CJ31=1,\"* El total de atenciones remotas de consultas nuevas según origen de menores de 15 años NO DEBE superar el total de atenciones del grupo indicado. \",\"\")","v":""},{"$f":"IF(CK31=1,\"* El total de atenciones remotas de consultas nuevas según origen de pacientes de 15 y más años NO DEBE superar el total de atenciones del grupo indicado. \",\"\")","v":""},{"$f":"IF(CL31=1,\"* El total de altas de consultas nuevas según origen de menores de 15 años NO DEBE superar el total de atenciones del grupo indicado. \",\"\")","v":""},{"$f":"IF(CM31=1,\"* El total de altas de consultas nuevas según origen de pacientes de 15 y más años NO DEBE superar el total de atenciones del grupo indicado. \",\"\")","v":""},null,null,null,0,{"$f":"IF(Z31>SUM($C31:$E31),1,0)","v":0},{"$f":"IF(AE31>SUM($F31:$S31),1,0)","v":0},{"$f":"IF(X31>SUM($C31:$E31),1,0)","v":0},{"$f":"IF(Y31>SUM($F31:$S31),1,0)","v":0}]
["Cirugía",0,null,null,null,null,null,null,null,null,null,null,null,null,null,null,null,null,null,null,null,null,null,null,null,0,null,null,null,null,0,null,null,null,null,null,null,"",null,null,null,null,null,null,null,null,null,null,null,null,null,null,null,null,null,null,null,null,null,null,null,null,null,null,null,null,null,null,null,null,null,null,null,null,null,null,null,null,"","","","","",null,null,null,0,0,0,0,0]
["Enfermedad respiratoria de adulto (broncopulmonar)",0,null,null,null,null,null,null,null,null,null,null,null,null,null,null,null,null,null,null,null,null,null,null,null,0,null,null,null,null,0,null,null,null,null,null,null,"",null,null,null,null,null,null,null,null,null,null,null,null,null,null,null,null,null,null,null,null,null,null,null,null,null,null,null,null,null,null,null,null,null,null,null,null,null,null,null,null,"","","","","",null,null,null,0,0,0,0,0]
["Cardiología adulto",0,null,null,null,null,null,null,null,null,null,null,null,null,null,null,null,null,null,null,null,null,null,null,null,0,null,null,null,null,0,null,null,null,null,null,null,"",null,null,null,null,null,null,null,null,null,null,null,null,null,null,null,null,null,null,null,null,null,null,null,null,null,null,null,null,null,null,null,null,null,null,null,null,null,null,null,null,"","","","","",null,null,null,0,0,0,0,0]
["Endocrinología adulto",0,null,null,null,null,null,null,null,null,null,null,null,null,null,null,null,null,null,null,null,null,null,null,null,0,null,null,null,null,0,null,null,null,null,null,null,"",null,null,null,null,null,null,null,null,null,null,null,null,null,null,null,null,null,null,null,null,null,null,null,null,null,null,null,null,null,null,null,null,null,null,null,null,null,null,null,null,"","","","","",null,null,null,0,0,0,0,0]
["Reumatología adulto",0,null,null,null,null,null,null,null,null,null,null,null,null,null,null,null,null,null,null,null,null,null,null,null,{"$f":"SUM(AA36+AB36+AC36+AD36)","v":0},null,null,null,null,{"$f":"SUM(AF36+AG36+AH36+AI36)","v":0},null,null,null,null,null,null,"",null,null,null,null,null,null,null,null,null,null,null,null,null,null,null,null,null,null,null,null,null,null,null,null,null,null,null,null,null,null,null,null,null,null,null,null,null,null,null,null,"","","","","",null,null,null,0,0,0,0,0]
["Infectología adulto",0,null,null,null,null,null,null,null,null,null,null,null,null,null,null,null,null,null,null,null,null,null,null,null,0,null,null,null,null,0,null,null,null,null,null,null,"",null,null,null,null,null,null,null,null,null,null,null,null,null,null,null,null,null,null,null,null,null,null,null,null,null,null,null,null,null,null,null,null,null,null,null,null,null,null,null,null,"","","","","",null,null,null,0,0,0,0,0]
["Diabetología",0,null,null,null,null,null,null,null,null,null,null,null,null,null,null,null,null,null,null,null,null,null,null,null,0,null,null,null,null,0,null,null,null,null,null,null,"",null,null,null,null,null,null,null,null,null,null,null,null,null,null,null,null,null,null,null,null,null,null,null,null,null,null,null,null,null,null,null,null,null,null,null,null,null,null,null,null,"","","","","",null,null,null,0,0,0,0,0]
["Psiquiatría",0,null,null,null,null,null,null,null,null,null,null,null,null,null,null,null,null,null,null,null,null,null,null,null,0,null,null,null,null,0,null,null,null,null,null,null,"",null,null,null,null,null,null,null,null,null,null,null,null,null,null,null,null,null,null,null,null,null,null,null,null,null,null,null,null,null,null,null,null,null,null,null,null,null,null,null,null,"","","","","",null,null,null,0,0,0,0,0]
["Oftalmología",0,null,null,null,null,null,null,null,null,null,null,null,null,null,null,null,null,null,null,null,null,null,null,null,0,null,null,null,null,0,null,null,null,null,null,null,"",null,null,null,null,null,null,null,null,null,null,null,null,null,null,null,null,null,null,null,null,null,null,null,null,null,null,null,null,null,null,null,null,null,null,null,null,null,null,null,null,"","","","","",null,null,null,0,0,0,0,0]
["Otorrinolaringología",0,null,null,null,null,null,null,null,null,null,null,null,null,null,null,null,null,null,null,null,null,null,null,null,0,null,null,null,null,0,null,null,null,null,null,null,"",null,null,null,null,null,null,null,null,null,null,null,null,null,null,null,null,null,null,null,null,null,null,null,null,null,null,null,null,null,null,null,null,null,null,null,null,null,null,null,null,"","","","","",null,null,null,0,0,0,0,0]
["Obstetricia y Ginecología",0,null,null,null,null,null,null,null,null,null,null,null,null,null,null,null,null,null,null,null,null,null,null,null,0,null,null,null,null,0,null,null,null,null,null,null,"",null,null,null,null,null,null,null,null,null,null,null,null,null,null,null,null,null,null,null,null,null,null,null,null,null,null,null,null,null,null,null,null,null,null,null,null,null,null,null,null,"","","","","",null,null,null,0,0,0,0,0]
["Traumatología",0,null,null,null,null,null,null,null,null,null,null,null,null,null,null,null,null,null,null,null,null,null,null,null,0,null,null,null,null,0,null,null,null,null,null,null,"",null,null,null,null,null,null,null,null,null,null,null,null,null,null,null,null,null,null,null,null,null,null,null,null,null,null,null,null,null,null,null,null,null,null,null,null,null,null,null,null,"","","","","",null,null,null,0,0,0,0,0]
["Otras Especialidades Adulto",0,null,null,null,null,null,null,null,null,null,null,null,null,null,null,null,null,null,null,null,null,null,null,null,0,null,null,null,null,0,null,null,null,null,null,null,"",null,null,null,null,null,null,null,null,null,null,null,null,null,null,null,null,null,null,null,null,null,null,null,null,null,null,null,null,null,null,null,null,null,null,null,null,null,null,null,null,"",{"$f":"IF(CJ44=1,\"* El total de atenciones remotas de consultas nuevas según origen de menores de 15 años NO DEBE superar el total de atenciones del grupo indicado. \",\"\")","v":""},{"$f":"IF(CK44=1,\"* El total de atenciones remotas de consultas nuevas según origen de pacientes de 15 y más años NO DEBE superar el total de atenciones del grupo indicado. \",\"\")","v":""},{"$f":"IF(CL44=1,\"* El total de altas de consultas nuevas según origen de menores de 15 años NO DEBE superar el total de atenciones del grupo indicado. \",\"\")","v":""},{"$f":"IF(CM44=1,\"* El total de altas de consultas nuevas según origen de pacientes de 15 y más años NO DEBE superar el total de atenciones del grupo indicado. \",\"\")","v":""},null,null,null,0,0,0,0,0]
["TOTAL",0,{"$f":"SUM(C30:C44)","v":0},0,0,0,0,0,0,0,0,0,0,0,0,0,0,0,0,0,0,0,0,0,0,0,0,0,0,0,0,0,0,0,0,{"$f":"SUM(AJ30:AJ44)","v":0},{"$f":"SUM(AK30:AK44)","v":0}]
["SECCIÓN C2: CONSULTAS Y CONTROLES  DE ESPECIALIDAD RESUELTAS POR VISITAS DOMICILIARIAS"]
["ACTIVIDADES","TOTAL","CONTROLES DE ESPECIALIDAD RESUELTOS POR VISITAS DOMICILIARIAS"]
[null,null,"GRUPO DE EDAD (en años)",null,null,null,null,null,null,null,null,null,null,null,null,null,null,null,null,"SEXO",null,null,null,null,null,null,null,null,null,null,null,null,null,null,null,null,null,null,null,null,null,null,null,null,null,null,null,null,null,null,null,null,null,null,null,null,null,null,null,null,null,null,null,null,null,null,null,null,null,null,null,null,null,null,null,null,null,null,"Hombres y Mujeres Mayor a Total",null,null,null,null,null,null,null,"Hombres y Mujeres Mayor a Total"]
[null,null,"0 - 4","5 - 9","10 - 14","15 - 19","20 - 24","25 - 29","30 - 34","35 - 39","40 - 44","45 - 49","50 - 54","55 - 59","60 - 64","65 - 69","70 - 74","75 - 79","80 y mas","Hombres","Mujeres"]
["Pediatría (incluye totalidad de producción pediatrica de subespecialidades)",{"$f":"SUM(C50:S50)","v":0},null,null,null,null,null,null,null,null,null,null,null,null,null,null,null,null,null,null,null,{"$f":"CA50","v":""},null,null,null,null,null,null,null,null,null,null,null,null,null,null,null,null,null,null,null,null,null,null,null,null,null,null,null,null,null,null,null,null,null,null,null,null,null,null,null,null,null,null,null,null,null,null,null,null,null,null,null,null,null,null,null,null,{"$f":"IF(CI50=1,\" *Los controles según sexo deben ser iguales  al total de Controles. \",\"\")","v":""},null,null,null,null,null,null,null,{"$f":"IF(T50+U50<>B50,1,0)","v":0}]
["Medicina Interna",{"$f":"SUM(C51:S51)","v":0},null,null,null,null,null,null,null,null,null,null,null,null,null,null,null,null,null,null,null,"",null,null,null,null,null,null,null,null,null,null,null,null,null,null,null,null,null,null,null,null,null,null,null,null,null,null,null,null,null,null,null,null,null,null,null,null,null,null,null,null,null,null,null,null,null,null,null,null,null,null,null,null,null,null,null,null,{"$f":"IF(CI51=1,\" *Los controles según sexo deben ser iguales  al total de Controles. \",\"\")","v":""},null,null,null,null,null,null,null,0]
["Cirugía",{"$f":"SUM(C52:S52)","v":0},null,null,null,null,null,null,null,null,null,null,null,null,null,null,null,null,null,null,null,"",null,null,null,null,null,null,null,null,null,null,null,null,null,null,null,null,null,null,null,null,null,null,null,null,null,null,null,null,null,null,null,null,null,null,null,null,null,null,null,null,null,null,null,null,null,null,null,null,null,null,null,null,null,null,null,null,"",null,null,null,null,null,null,null,0]
["Enfermedad respiratoria de adulto (broncopulmonar)",{"$f":"SUM(C53:S53)","v":0},null,null,null,null,null,null,null,null,null,null,null,null,null,null,null,null,null,null,null,"",null,null,null,null,null,null,null,null,null,null,null,null,null,null,null,null,null,null,null,null,null,null,null,null,null,null,null,null,null,null,null,null,null,null,null,null,null,null,null,null,null,null,null,null,null,null,null,null,null,null,null,null,null,null,null,null,"",null,null,null,null,null,null,null,0]
["Cardiología adulto",0,null,null,null,null,null,null,null,null,null,null,null,null,null,null,null,null,null,null,null,"",null,null,null,null,null,null,null,null,null,null,null,null,null,null,null,null,null,null,null,null,null,null,null,null,null,null,null,null,null,null,null,null,null,null,null,null,null,null,null,null,null,null,null,null,null,null,null,null,null,null,null,null,null,null,null,null,"",null,null,null,null,null,null,null,0]
["Endocrinología adulto",0,null,null,null,null,null,null,null,null,null,null,null,null,null,null,null,null,null,null,null,"",null,null,null,null,null,null,null,null,null,null,null,null,null,null,null,null,null,null,null,null,null,null,null,null,null,null,null,null,null,null,null,null,null,null,null,null,null,null,null,null,null,null,null,null,null,null,null,null,null,null,null,null,null,null,null,null,"",null,null,null,null,null,null,null,0]
["Reumatología adulto",0,null,null,null,null,null,null,null,null,null,null,null,null,null,null,null,null,null,null,null,"",null,null,null,null,null,null,null,null,null,null,null,null,null,null,null,null,null,null,null,null,null,null,null,null,null,null,null,null,null,null,null,null,null,null,null,null,null,null,null,null,null,null,null,null,null,null,null,null,null,null,null,null,null,null,null,null,"",null,null,null,null,null,null,null,0]
["Infectología adulto",0,null,null,null,null,null,null,null,null,null,null,null,null,null,null,null,null,null,null,null,"",null,null,null,null,null,null,null,null,null,null,null,null,null,null,null,null,null,null,null,null,null,null,null,null,null,null,null,null,null,null,null,null,null,null,null,null,null,null,null,null,null,null,null,null,null,null,null,null,null,null,null,null,null,null,null,null,"",null,null,null,null,null,null,null,0]
["Diabetología",0,null,null,null,null,null,null,null,null,null,null,null,null,null,null,null,null,null,null,null,"",null,null,null,null,null,null,null,null,null,null,null,null,null,null,null,null,null,null,null,null,null,null,null,null,null,null,null,null,null,null,null,null,null,null,null,null,null,null,null,null,null,null,null,null,null,null,null,null,null,null,null,null,null,null,null,null,"",null,null,null,null,null,null,null,0]
["Psiquiatría",0,null,null,null,null,null,null,null,null,null,null,null,null,null,null,null,null,null,null,null,"",null,null,null,null,null,null,null,null,null,null,null,null,null,null,null,null,null,null,null,null,null,null,null,null,null,null,null,null,null,null,null,null,null,null,null,null,null,null,null,null,null,null,null,null,null,null,null,null,null,null,null,null,null,null,null,null,"",null,null,null,null,null,null,null,0]
["Oftalmología",0,null,null,null,null,null,null,null,null,null,null,null,null,null,null,null,null,null,null,null,"",null,null,null,null,null,null,null,null,null,null,null,null,null,null,null,null,null,null,null,null,null,null,null,null,null,null,null,null,null,null,null,null,null,null,null,null,null,null,null,null,null,null,null,null,null,null,null,null,null,null,null,null,null,null,null,null,"",null,null,null,null,null,null,null,0]
["Otorrinolaringología",0,null,null,null,null,null,null,null,null,null,null,null,null,null,null,null,null,null,null,null,"",null,null,null,null,null,null,null,null,null,null,null,null,null,null,null,null,null,null,null,null,null,null,null,null,null,null,null,null,null,null,null,null,null,null,null,null,null,null,null,null,null,null,null,null,null,null,null,null,null,null,null,null,null,null,null,null,"",null,null,null,null,null,null,null,0]
["Obstetricia y Ginecología",0,null,null,null,null,null,null,null,null,null,null,null,null,null,null,null,null,null,null,null,"",null,null,null,null,null,null,null,null,null,null,null,null,null,null,null,null,null,null,null,null,null,null,null,null,null,null,null,null,null,null,null,null,null,null,null,null,null,null,null,null,null,null,null,null,null,null,null,null,null,null,null,null,null,null,null,null,"",null,null,null,null,null,null,null,0]
["Traumatología",0,null,null,null,null,null,null,null,null,null,null,null,null,null,null,null,null,null,null,null,"",null,null,null,null,null,null,null,null,null,null,null,null,null,null,null,null,null,null,null,null,null,null,null,null,null,null,null,null,null,null,null,null,null,null,null,null,null,null,null,null,null,null,null,null,null,null,null,null,null,null,null,null,null,null,null,null,"",null,null,null,null,null,null,null,0]
["Otras Especialidades Adulto",0,null,null,null,null,null,null,null,null,null,null,null,null,null,null,null,null,null,null,null,"",null,null,null,null,null,null,null,null,null,null,null,null,null,null,null,null,null,null,null,null,null,null,null,null,null,null,null,null,null,null,null,null,null,null,null,null,null,null,null,null,null,null,null,null,null,null,null,null,null,null,null,null,null,null,null,null,"",null,null,null,null,null,null,null,0]
["TOTAL",{"$f":"SUM(C65:S65)","v":0},{"$f":"SUM(C50:C64)","v":0},0,0,0,0,0,0,0,0,0,0,0,0,0,0,0,0,0,0,"",null,null,null,null,null,null,null,null,null,null,null,null,null,null,null,null,null,null,null,null,null,null,null,null,null,null,null,null,null,null,null,null,null,null,null,null,null,null,null,null,null,null,null,null,null,null,null,null,null,null,null,null,null,null,null,null,"",null,null,null,null,null,null,null,0]
["SECCIÓN C.3: ATENCIONES REMOTAS CONSULTAS Y CONTROLES POR OTROS PROFESIONALES EN ESPECIALIDAD (NIVEL SECUNDARIO)"]
["PROFESIONAL",null,"TOTAL ",null,null,"POR EDAD (en años)",null,null,null,null,null,null,null,null,null,null,null,null,null,null,null,null,null,null,null,null,null,null,null,null,null,null,null,null,null,null,null,null,null,"Beneficiarios","Total Controles (incluidos en grupo de edad)","Pueblos Originarios","Migrantes","Atención Remota consulta abreviada PNM : entrega de los resultados de exámenes o procedimiento (Confección de recetas o lectura de exámenes)","Consultorías resueltas vía remota"]
[null,null,null,null,null,"0 - 4",null,"5 - 9",null,"10 - 14",null,"15 - 19",null,"20 - 24",null,"25 - 29",null,"30 - 34",null,"35 - 39",null,"40 - 44",null,"45 - 49",null,"50 - 54",null,"55 - 59",null,"60 - 64",null,"65 - 69",null,"70 - 74",null,"75 - 79",null,"80 y mas"]
[null,null,"Ambos Sexos","Hombres","Mujeres","Hombres","Mujeres","Hombres","Mujeres","Hombres","Mujeres","Hombres","Mujeres","Hombres","Mujeres","Hombres","Mujeres","Hombres","Mujeres","Hombres","Mujeres","Hombres","Mujeres","Hombres","Mujeres","Hombres","Mujeres","Hombres","Mujeres","Hombres","Mujeres","Hombres","Mujeres","Hombres","Mujeres","Hombres","Mujeres","Hombres","Mujeres",null,null,null,null,null,null,null,null,null,null,null,null,null,null,null,null,null,null,null,null,null,null,null,null,null,null,null,null,null,null,null,null,null,null,null,null,null,null,null,"Beneficiarios","Control","Pueblos originarios","Migrantes",null,null,null,null,"Beneficiarios","Control","Pueblos originarios","Migrantes"]
["ENFERMERA",null,{"$f":"SUM(D70+E70)","v":0},{"$f":"SUM(F70+H70+J70+L70+N70+P70+R70+T70+V70+X70+Z70+AB70+AD70+AF70+AH70+AJ70+AL70)","v":0},{"$f":"SUM(G70+I70+K70+M70+O70+Q70+S70+U70+W70+Y70+AA70+AC70+AE70+AG70+AI70+AK70+AM70)","v":0},null,null,null,null,null,null,null,null,null,null,null,null,null,null,null,null,null,null,null,null,null,null,null,null,null,null,null,null,null,null,null,null,null,null,null,null,null,null,null,null,{"$f":"$CA70&$CB70&$CC70&$CD70","v":""},null,null,null,null,null,null,null,null,null,null,null,null,null,null,null,null,null,null,null,null,null,null,null,null,null,null,null,null,null,null,null,null,{"$f":"IF(CI70=1,\" * Los Beneficiarios no pueden ser mayor que el Total, (si no hay beneficiario digite un cero). \",\"\")","v":""},{"$f":"IF(CJ70=1,\" * El total de controles no pueden ser mayor que el Total, (si no hay controles digite un cero). \",\"\")","v":""},{"$f":"IF(CK70=1,\" * La cantidad de Atenciones de pacientes pertenecientes a Pueblos Originarios no pueden ser mayor que el Total, (si no hay atenciones digite un cero). \",\"\")","v":""},{"$f":"IF(CL70=1,\" * La cantidad de Atenciones de pacientes Migrantes no pueden ser mayor que el Total, (si no hay atenciones digite un cero). \",\"\")","v":""},null,null,null,null,{"$f":"IF(OR(AN70>$C70,AND($C70<>0,AN70=\"\")),1,0)","v":0},{"$f":"IF(OR(AO70>$C70,AND($C70<>0,AO70=\"\")),1,0)","v":0},{"$f":"IF(OR(AP70>$C70,AND($C70<>0,AP70=\"\")),1,0)","v":0},0]
["MATRONA","ARO",{"$f":"SUM(D71:E71)","v":0},null,{"$f":"SUM(K71+M71+O71+Q71+S71+U71+W71+Y71+AA71+AC71+AE71+AG71+AI71+AK71+AM71)","v":0},null,null,null,null,null,null,null,null,null,null,null,null,null,null,null,null,null,null,null,null,null,null,null,null,null,null,null,null,null,null,null,null,null,null,null,null,null,null,null,null,{"$f":"$CA71&$CB71&$CC71&$CD71","v":""},null,null,null,null,null,null,null,null,null,null,null,null,null,null,null,null,null,null,null,null,null,null,null,null,null,null,null,null,null,null,null,null,{"$f":"IF(CI71=1,\" * Los Beneficiarios no pueden ser mayor que el Total, (si no hay beneficiario digite un cero). \",\"\")","v":""},{"$f":"IF(CJ71=1,\" * El total de controles no pueden ser mayor que el Total, (si no hay controles digite un cero). \",\"\")","v":""},{"$f":"IF(CK71=1,\" * La cantidad de Atenciones de pacientes pertenecientes a Pueblos Originarios no pueden ser mayor que el Total, (si no hay atenciones digite un cero). \",\"\")","v":""},{"$f":"IF(CL71=1,\" * La cantidad de Atenciones de pacientes Migrantes no pueden ser mayor que el Total, (si no hay atenciones digite un cero). \",\"\")","v":""},null,null,null,null,{"$f":"IF(OR(AN71>$C71,AND($C71<>0,AN71=\"\")),1,0)","v":0},0,0,0]
[null,"GINECOLOGÍA Y OTROS",{"$f":"SUM(D72+E72)","v":0},{"$f":"SUM(F72+H72+J72+L72+N72+P72+R72+T72+V72+X72+Z72+AB72+AD72+AF72+AH72+AJ72+AL72)","v":0},{"$f":"SUM(G72+I72+K72+M72+O72+Q72+S72+U72+W72+Y72+AA72+AC72+AE72+AG72+AI72+AK72+AM72)","v":0},null,null,null,null,null,null,null,null,null,null,null,null,null,null,null,null,null,null,null,null,null,null,null,null,null,null,null,null,null,null,null,null,null,null,null,null,null,null,null,null,"",null,null,null,null,null,null,null,null,null,null,null,null,null,null,null,null,null,null,null,null,null,null,null,null,null,null,null,null,null,null,null,null,"","","","",null,null,null,null,0,0,0,0]
[null,"INFERTILIDAD",{"$f":"SUM(D73+E73)","v":0},{"$f":"SUM(N73+P73+R73+T73+V73+X73+Z73+AB73)","v":0},{"$f":"SUM(O73+Q73+S73+U73+W73+Y73+AA73+AC73)","v":0},null,null,null,null,null,null,null,null,null,null,null,null,null,null,null,null,null,null,null,null,null,null,null,null,null,null,null,null,null,null,null,null,null,null,null,null,null,null,null,null,"",null,null,null,null,null,null,null,null,null,null,null,null,null,null,null,null,null,null,null,null,null,null,null,null,null,null,null,null,null,null,null,null,"","","","",null,null,null,null,0,0,0,0]
["NUTRICIONISTA",null,{"$f":"SUM(D74+E74)","v":0},{"$f":"SUM(F74+H74+J74+L74+N74+P74+R74+T74+V74+X74+Z74+AB74+AD74+AF74+AH74+AJ74+AL74)","v":0},0,null,null,null,null,null,null,null,null,null,null,null,null,null,null,null,null,null,null,null,null,null,null,null,null,null,null,null,null,null,null,null,null,null,null,null,null,null,null,null,null,"",null,null,null,null,null,null,null,null,null,null,null,null,null,null,null,null,null,null,null,null,null,null,null,null,null,null,null,null,null,null,null,null,"","","","",null,null,null,null,0,0,0,0]
["PSICÓLOGO (EXCLUYE SM)",null,0,0,0,null,null,null,null,null,null,null,null,null,null,null,null,null,null,null,null,null,null,null,null,null,null,null,null,null,null,null,null,null,null,null,null,null,null,null,null,null,null,null,null,"",null,null,null,null,null,null,null,null,null,null,null,null,null,null,null,null,null,null,null,null,null,null,null,null,null,null,null,null,null,null,null,null,"","","","",null,null,null,null,0,0,0,0]
["FONOAUDIÓLOGO",null,0,0,0,null,null,null,null,null,null,null,null,null,null,null,null,null,null,null,null,null,null,null,null,null,null,null,null,null,null,null,null,null,null,null,null,null,null,null,null,null,null,null,null,"",null,null,null,null,null,null,null,null,null,null,null,null,null,null,null,null,null,null,null,null,null,null,null,null,null,null,null,null,null,null,null,null,{"$f":"IF(CI76=1,\" * Los Beneficiarios no pueden ser mayor que el Total, (si no hay beneficiario digite un cero). \",\"\")","v":""},{"$f":"IF(CJ76=1,\" * El total de controles no pueden ser mayor que el Total, (si no hay controles digite un cero). \",\"\")","v":""},{"$f":"IF(CK76=1,\" * La cantidad de Atenciones de pacientes pertenecientes a Pueblos Originarios no pueden ser mayor que el Total, (si no hay atenciones digite un cero). \",\"\")","v":""},{"$f":"IF(CL76=1,\" * La cantidad de Atenciones de pacientes Migrantes no pueden ser mayor que el Total, (si no hay atenciones digite un cero). \",\"\")","v":""},null,null,null,null,0,0,0,0]
["TECNÓLOGO MÉDICO",null,0,0,0,null,null,null,null,null,null,null,null,null,null,null,null,null,null,null,null,null,null,null,null,null,null,null,null,null,null,null,null,null,null,null,null,null,null,null,null,null,null,null,null,"",null,null,null,null,null,null,null,null,null,null,null,null,null,null,null,null,null,null,null,null,null,null,null,null,null,null,null,null,null,null,null,null,{"$f":"IF(CI77=1,\" * Los Beneficiarios no pueden ser mayor que el Total, (si no hay beneficiario digite un cero). \",\"\")","v":""},{"$f":"IF(CJ77=1,\" * El total de controles no pueden ser mayor que el Total, (si no hay controles digite un cero). \",\"\")","v":""},{"$f":"IF(CK77=1,\" * La cantidad de Atenciones de pacientes pertenecientes a Pueblos Originarios no pueden ser mayor que el Total, (si no hay atenciones digite un cero). \",\"\")","v":""},{"$f":"IF(CL77=1,\" * La cantidad de Atenciones de pacientes Migrantes no pueden ser mayor que el Total, (si no hay atenciones digite un cero). \",\"\")","v":""},null,null,null,null,0,0,0,0]
["ASISTENTE  SOCIAL",null,0,0,0,null,null,null,null,null,null,null,null,null,null,null,null,null,null,null,null,null,null,null,null,null,null,null,null,null,null,null,null,null,null,null,null,null,null,null,null,null,null,null,null,"",null,null,null,null,null,null,null,null,null,null,null,null,null,null,null,null,null,null,null,null,null,null,null,null,null,null,null,null,null,null,null,null,"","","","",null,null,null,null,{"$f":"IF(OR(AN78>$C78,AND($C78<>0,AN78=\"\")),1,0)","v":0},{"$f":"IF(OR(AO78>$C78,AND($C78<>0,AO78=\"\")),1,0)","v":0},0,0]
["TOTAL",null,{"$f":"SUM(C70:C78)","v":0},0,0,0,0,0,0,0,0,0,0,0,0,0,0,0,0,0,0,0,0,0,0,0,0,0,0,0,0,0,0,0,0,0,0,0,0,0,0,0,0,0,{"$f":"SUM(AS70:AS78)","v":0}]
["SECCIÓN D: ATENCIÓN ODONTOLÓGICA "]
["SECCIÓN D1: ATENCIÓN ODONTOLÓGICA NIVEL PRIMARIO"]
["ACTIVIDADES ","TOTAL",null,null,"SEGÚN GRUPOS DE EDAD O DE RIESGO",null,null,null,null,null,null,null,null,null,null,null,"EMBARAZADAS","60 AÑOS (INCLUÍDO EN GRUPOS DE 20-64 AÑOS)","USUARIOS EN SITUACIÓN DE DISCAPACIDAD ","NIÑOS, NIÑAS, ADOLESCENTES Y JÓVENES RED SENAME","MIGRANTES",null,null,null,null,null,null,null,null,null,null,null,null,null,null,null,null,null,null,null,null,null,null,null,null,null,null,null,null,null,null,null,null,null,null,null,null,null,null,null,null,null,null,null,null,null,null,null,null,null,null,null,null,null,null,null,null,null,"Hombres y Mujeres Mayor a Total","Embarazadas Mayor a Total","60 Años Mayor al Grupo 20-64","Discapacitados Mayor al Total","NNA Sename Mayor a Total","Migrantes Mayor a Total",null,null,"Hombres y Mujeres Mayor a Total","Embarazadas Mayor a Total","60 Años Mayor al Grupo 20-64","Discapacitados Mayor al Total","NNA Sename Mayor a Total","Migrantes Mayor a Total"]
[null,"Ambos Sexos","Hombres","Mujeres","menos de 1\naño","1 \naño","2 \naños","3 \naños","4 \naños","5 \naños","6 \naños","12 \naños","Resto \n<15 años","15-19 \naños","20-64 \naños","65 y \nmás años"]
["Contactabilidad de Pacientes",{"$f":"SUM(E84:P84)","v":0},null,null,null,null,null,null,null,null,null,null,null,null,null,null,null,null,null,null,null,{"$f":"CA84&CB84&CC84&CD84&CE84&CF84","v":""},null,null,null,null,null,null,null,null,null,null,null,null,null,null,null,null,null,null,null,null,null,null,null,null,null,null,null,null,null,null,null,null,null,null,null,null,null,null,null,null,null,null,null,null,null,null,null,null,null,null,null,null,null,null,null,null,{"$f":"IF(CI84=1,\" *Los controles según sexo deben ser iguales  al total de Controles. \",\"\")","v":""},{"$f":"IF(CJ84=1,\" *Las Atenciones de Embarazadas no pueden superar el total de Atenciones de Mujeres. \",\"\")","v":""},{"$f":"IF(CK84=1,\" *Las Atenciones de Personas de 60 Años no pueden superar el total de Atenciones del grupo de edad 20-64 Años. \",\"\")","v":""},{"$f":"IF(CL84=1,\" *Las Atenciones de Discapacitados no pueden superar el total de Atenciones.\",\"\")","v":""},{"$f":"IF(CM84=1,\" *Las Atenciones de NNA SENAME no pueden superar el total de Atenciones, ni considerar el grupo etario 65 y mas años.\",\"\")","v":""},{"$f":"IF(CN84=1,\" *Las Atenciones de Migrantes no pueden superar el total de Atenciones.\",\"\")","v":""},null,null,{"$f":"IF(C84+D84<>B84,1,0)","v":0},{"$f":"IF(Q84>D84,1,0)","v":0},{"$f":"IF(R84>O84,1,0)","v":0},{"$f":"IF(S84>B84,1,0)","v":0},{"$f":"IF(T84>SUM(C84:O84),1,0)","v":0},{"$f":"IF(U84>B84,1,0)","v":0}]
["Seguimiento Clínico Remoto de Pacientes",{"$f":"SUM(E85:P85)","v":0},null,null,null,null,null,null,null,null,null,null,null,null,null,null,null,null,null,null,null,"",null,null,null,null,null,null,null,null,null,null,null,null,null,null,null,null,null,null,null,null,null,null,null,null,null,null,null,null,null,null,null,null,null,null,null,null,null,null,null,null,null,null,null,null,null,null,null,null,null,null,null,null,null,null,null,null,{"$f":"IF(CI85=1,\" *Los controles según sexo deben ser iguales  al total de Controles. \",\"\")","v":""},{"$f":"IF(CJ85=1,\" *Las Atenciones de Embarazadas no pueden superar el total de Atenciones de Mujeres. \",\"\")","v":""},{"$f":"IF(CK85=1,\" *Las Atenciones de Personas de 60 Años no pueden superar el total de Atenciones del grupo de edad 20-64 Años. \",\"\")","v":""},{"$f":"IF(CL85=1,\" *Las Atenciones de Discapacitados no pueden superar el total de Atenciones.\",\"\")","v":""},{"$f":"IF(CM85=1,\" *Las Atenciones de NNA SENAME no pueden superar el total de Atenciones, ni considerar el grupo etario 65 y mas años.\",\"\")","v":""},{"$f":"IF(CN85=1,\" *Las Atenciones de Migrantes no pueden superar el total de Atenciones.\",\"\")","v":""},null,null,0,0,0,0,0,0]
["Educación, Promoción Remota en Salud Bucal",0,null,null,null,null,null,null,null,null,null,null,null,null,null,null,null,null,null,null,null,"",null,null,null,null,null,null,null,null,null,null,null,null,null,null,null,null,null,null,null,null,null,null,null,null,null,null,null,null,null,null,null,null,null,null,null,null,null,null,null,null,null,null,null,null,null,null,null,null,null,null,null,null,null,null,null,null,"","","","","","",null,null,0,0,0,0,0,0]
["Atención Domiciliaria Odontológica",0,null,null,null,null,null,null,null,null,null,null,null,null,null,null,null,null,null,null,null,"",null,null,null,null,null,null,null,null,null,null,null,null,null,null,null,null,null,null,null,null,null,null,null,null,null,null,null,null,null,null,null,null,null,null,null,null,null,null,null,null,null,null,null,null,null,null,null,null,null,null,null,null,null,null,null,null,{"$f":"IF(CI87=1,\" *Los controles según sexo deben ser iguales  al total de Controles. \",\"\")","v":""},{"$f":"IF(CJ87=1,\" *Las Atenciones de Embarazadas no pueden superar el total de Atenciones de Mujeres. \",\"\")","v":""},{"$f":"IF(CK87=1,\" *Las Atenciones de Personas de 60 Años no pueden superar el total de Atenciones del grupo de edad 20-64 Años. \",\"\")","v":""},{"$f":"IF(CL87=1,\" *Las Atenciones de Discapacitados no pueden superar el total de Atenciones.\",\"\")","v":""},{"$f":"IF(CM87=1,\" *Las Atenciones de NNA SENAME no pueden superar el total de Atenciones, ni considerar el grupo etario 65 y mas años.\",\"\")","v":""},{"$f":"IF(CN87=1,\" *Las Atenciones de Migrantes no pueden superar el total de Atenciones.\",\"\")","v":""},null,null,0,0,0,0,0,0]
["Visita Domiciliaria Integral ",0,null,null,null,null,null,null,null,null,null,null,null,null,null,null,null,null,null,null,null,"",null,null,null,null,null,null,null,null,null,null,null,null,null,null,null,null,null,null,null,null,null,null,null,null,null,null,null,null,null,null,null,null,null,null,null,null,null,null,null,null,null,null,null,null,null,null,null,null,null,null,null,null,null,null,null,null,{"$f":"IF(CI88=1,\" *Los controles según sexo deben ser iguales  al total de Controles. \",\"\")","v":""},{"$f":"IF(CJ88=1,\" *Las Atenciones de Embarazadas no pueden superar el total de Atenciones de Mujeres. \",\"\")","v":""},{"$f":"IF(CK88=1,\" *Las Atenciones de Personas de 60 Años no pueden superar el total de Atenciones del grupo de edad 20-64 Años. \",\"\")","v":""},{"$f":"IF(CL88=1,\" *Las Atenciones de Discapacitados no pueden superar el total de Atenciones.\",\"\")","v":""},{"$f":"IF(CM88=1,\" *Las Atenciones de NNA SENAME no pueden superar el total de Atenciones, ni considerar el grupo etario 65 y mas años.\",\"\")","v":""},{"$f":"IF(CN88=1,\" *Las Atenciones de Migrantes no pueden superar el total de Atenciones.\",\"\")","v":""},null,null,0,0,0,0,0,0]
["Pauta CERO Remota",0,null,null,null,null,null,null,null,null,null,null,null,null,null,null,null,null,null,null,null,"",null,null,null,null,null,null,null,null,null,null,null,null,null,null,null,null,null,null,null,null,null,null,null,null,null,null,null,null,null,null,null,null,null,null,null,null,null,null,null,null,null,null,null,null,null,null,null,null,null,null,null,null,null,null,null,null,{"$f":"IF(CI89=1,\" *Los controles según sexo deben ser iguales  al total de Controles. \",\"\")","v":""},{"$f":"IF(CJ89=1,\" *Las Atenciones de Embarazadas no pueden superar el total de Atenciones de Mujeres. \",\"\")","v":""},{"$f":"IF(CK89=1,\" *Las Atenciones de Personas de 60 Años no pueden superar el total de Atenciones del grupo de edad 20-64 Años. \",\"\")","v":""},{"$f":"IF(CL89=1,\" *Las Atenciones de Discapacitados no pueden superar el total de Atenciones.\",\"\")","v":""},{"$f":"IF(CM89=1,\" *Las Atenciones de NNA SENAME no pueden superar el total de Atenciones, ni considerar el grupo etario 65 y mas años.\",\"\")","v":""},{"$f":"IF(CN89=1,\" *Las Atenciones de Migrantes no pueden superar el total de Atenciones.\",\"\")","v":""},null,null,0,0,0,0,0,0]
["TOTAL",{"$f":"SUM(B84:B89)","v":0},0,0,0,0,0,0,0,0,0,0,0,0,0,0,0,0,0,0,0,null,null,null,null,null,null,null,null,null,null,null,null,null,null,null,null,null,null,null,null,null,null,null,null,null,null,null,null,null,null,null,null,null,null,null,null,null,null,null,null,null,null,null,null,null,null,null,null,null,null,null,null,null,null,null,null,null,{"$f":"IF(CI90=1,\" *Los controles según sexo deben ser iguales  al total de Controles. \",\"\")","v":""},{"$f":"IF(CJ90=1,\" *Las Atenciones de Embarazadas no pueden superar el total de Atenciones de Mujeres. \",\"\")","v":""},{"$f":"IF(CK90=1,\" *Las Atenciones de Personas de 60 Años no pueden superar el total de Atenciones del grupo de edad 20-64 Años. \",\"\")","v":""},{"$f":"IF(CL90=1,\" *Las Atenciones de Discapacitados no pueden superar el total de Atenciones.\",\"\")","v":""},{"$f":"IF(CM90=1,\" *Las Atenciones de NNA SENAME no pueden superar el total de Atenciones, ni considerar el grupo etario 65 y mas años.\",\"\")","v":""},{"$f":"IF(CN90=1,\" *Las Atenciones de Migrantes no pueden superar el total de Atenciones.\",\"\")","v":""},null,null,0,0,0,0,0,0]
["SECCIÓN D2: ATENCIÓN ODONTOLÓGICA ESTABLECIMIENTOS HOSPITALARIOS DE BAJA, MEDIANA Y ALTA COMPLEJIDAD"]
["ACTIVIDADES ","TOTAL",null,null,"SEGÚN GRUPOS DE EDAD O DE RIESGO",null,null,null,null,null,null,null,"No Contesta","Embarazadas","Beneficiarios","Usuarios con Discapacidad ","Niños, niñas, adolescentes y jovenes Red SENAME","Migrantes"]
[null,"Ambos Sexos","Hombres","Mujeres","0-5 \naños","6 \naños","12 años","Resto < 15 años","15-19 \naños","20-64 \n años (excluye 60 años)","60 años","65 y \nmás años",null,null,null,null,null,null,null,null,null,null,null,null,null,null,null,null,null,null,null,null,null,null,null,null,null,null,null,null,null,null,null,null,null,null,null,null,null,null,null,null,null,null,null,null,null,null,null,null,null,null,null,null,null,null,null,null,null,null,null,null,null,null,null,null,null,null,"Hombres y Mujeres Mayor a Total","Embarazadas Mayor a Total","Beneficiarios Mayor a Total","60 Años Mayor al Grupo 20-64","Discapacitados Mayor al Total","NNA Sename Mayor a Total","Migrantes Mayor a Total",null,"Hombres y Mujeres Mayor a Total","Embarazadas Mayor a Total","Beneficiarios Mayor a Total","60 Años Mayor al Grupo 20-64","Discapacitados Mayor al Total","NNA Sename Mayor a Total","Migrantes Mayor a Total"]
[null,null,null,null,"0-5 \naños","6 \naños","12 años","Resto < 15 años","15-19 \naños","20-64 \n años (excluye 60 años)","60 años","65 y \nmás años"]
["Contactabilidad de Pacientes",{"$f":"SUM(E95:L95)","v":0},null,null,null,null,null,null,null,null,null,null,null,null,null,null,null,null,{"$f":"CA95&CB95&CC95&CD95&CE95&CF95&CG95","v":""},null,null,null,null,null,null,null,null,null,null,null,null,null,null,null,null,null,null,null,null,null,null,null,null,null,null,null,null,null,null,null,null,null,null,null,null,null,null,null,null,null,null,null,null,null,null,null,null,null,null,null,null,null,null,null,null,null,null,null,{"$f":"IF(CI95=1,\" *Los controles según sexo deben ser iguales  al total de Controles. \",\"\")","v":""},{"$f":"IF(CJ95=1,\" *Las Atenciones de Embarazadas no pueden superar el total de Atenciones de Mujeres. \",\"\")","v":""},{"$f":"IF(CK95=1,\" *Las Atenciones de Beneficiarios no pueden superar el total de Atenciones \",\"\")","v":""},{"$f":"IF(CL95=1,\" *Las Atenciones de Personas de 60 Años no pueden superar el total de Atenciones del grupo de edad 20-64 Años. \",\"\")","v":""},{"$f":"IF(CM95=1,\" *Las Atenciones de Discapacitados no pueden superar el total de Atenciones.\",\"\")","v":""},{"$f":"IF(CN95=1,\" *Las Atenciones de NNA SENAME no pueden superar el total de Atenciones, ni considerar el grupo etario 65 y mas años.\",\"\")","v":""},{"$f":"IF(CO95=1,\" *Las Atenciones de Migrantes no pueden superar el total de Atenciones.\",\"\")","v":""},null,{"$f":"IF(C95+D95<>B95,1,0)","v":0},{"$f":"IF(M95>D95,1,0)","v":0},{"$f":"IF(N95>B95,1,0)","v":0},{"$f":"IF(O95>K95,1,0)","v":0},{"$f":"IF(P95>B95,1,0)","v":0},{"$f":"IF(Q95>SUM(E95:K95),1,0)","v":0},{"$f":"IF(R95>B95,1,0)","v":0}]
["Consulta nueva de especialidad odontológica (Teleconsulta)",0,null,null,null,null,null,null,null,null,null,null,null,null,null,null,null,null,{"$f":"CA96&CB96&CC96&CD96&CE96&CF96&CG96","v":""},null,null,null,null,null,null,null,null,null,null,null,null,null,null,null,null,null,null,null,null,null,null,null,null,null,null,null,null,null,null,null,null,null,null,null,null,null,null,null,null,null,null,null,null,null,null,null,null,null,null,null,null,null,null,null,null,null,null,null,{"$f":"IF(CI96=1,\" *Los controles según sexo deben ser iguales  al total de Controles. \",\"\")","v":""},"","","","",{"$f":"IF(CN96=1,\" *Las Atenciones de NNA SENAME no pueden superar el total de Atenciones, ni considerar el grupo etario 65 y mas años.\",\"\")","v":""},"",null,0,0,0,0,0,0,0]
["Control de especialidad odontológica (Teleconsulta)",0,null,null,null,null,null,null,null,null,null,null,null,null,null,null,null,null,{"$f":"CA97&CB97&CC97&CD97&CE97&CF97&CG97","v":""},null,null,null,null,null,null,null,null,null,null,null,null,null,null,null,null,null,null,null,null,null,null,null,null,null,null,null,null,null,null,null,null,null,null,null,null,null,null,null,null,null,null,null,null,null,null,null,null,null,null,null,null,null,null,null,null,null,null,null,"","","","","","","",null,0,0,0,0,0,0,0]
["Alta de especialidad odontológica (Teleconsulta)",0,null,null,null,null,null,null,null,null,null,null,null,null,null,null,null,null,{"$f":"CA98&CB98&CC98&CD98&CE98&CF98&CG98","v":""},null,null,null,null,null,null,null,null,null,null,null,null,null,null,null,null,null,null,null,null,null,null,null,null,null,null,null,null,null,null,null,null,null,null,null,null,null,null,null,null,null,null,null,null,null,null,null,null,null,null,null,null,null,null,null,null,null,null,null,{"$f":"IF(CI98=1,\" *Los controles según sexo deben ser iguales  al total de Controles. \",\"\")","v":""},{"$f":"IF(CJ98=1,\" *Las Atenciones de Embarazadas no pueden superar el total de Atenciones de Mujeres. \",\"\")","v":""},{"$f":"IF(CK98=1,\" *Las Atenciones de Beneficiarios no pueden superar el total de Atenciones \",\"\")","v":""},{"$f":"IF(CL98=1,\" *Las Atenciones de Personas de 60 Años no pueden superar el total de Atenciones del grupo de edad 20-64 Años. \",\"\")","v":""},{"$f":"IF(CM98=1,\" *Las Atenciones de Discapacitados no pueden superar el total de Atenciones.\",\"\")","v":""},{"$f":"IF(CN98=1,\" *Las Atenciones de NNA SENAME no pueden superar el total de Atenciones, ni considerar el grupo etario 65 y mas años.\",\"\")","v":""},{"$f":"IF(CO98=1,\" *Las Atenciones de Migrantes no pueden superar el total de Atenciones.\",\"\")","v":""},null,0,0,0,0,0,0,0]
["Alta administrativa",0,null,null,null,null,null,null,null,null,null,null,null,null,null,null,null,null,{"$f":"CA99&CB99&CC99&CD99&CE99&CF99&CG99","v":""},null,null,null,null,null,null,null,null,null,null,null,null,null,null,null,null,null,null,null,null,null,null,null,null,null,null,null,null,null,null,null,null,null,null,null,null,null,null,null,null,null,null,null,null,null,null,null,null,null,null,null,null,null,null,null,null,null,null,null,{"$f":"IF(CI99=1,\" *Los controles según sexo deben ser iguales  al total de Controles. \",\"\")","v":""},{"$f":"IF(CJ99=1,\" *Las Atenciones de Embarazadas no pueden superar el total de Atenciones de Mujeres. \",\"\")","v":""},{"$f":"IF(CK99=1,\" *Las Atenciones de Beneficiarios no pueden superar el total de Atenciones \",\"\")","v":""},{"$f":"IF(CL99=1,\" *Las Atenciones de Personas de 60 Años no pueden superar el total de Atenciones del grupo de edad 20-64 Años. \",\"\")","v":""},{"$f":"IF(CM99=1,\" *Las Atenciones de Discapacitados no pueden superar el total de Atenciones.\",\"\")","v":""},{"$f":"IF(CN99=1,\" *Las Atenciones de NNA SENAME no pueden superar el total de Atenciones, ni considerar el grupo etario 65 y mas años.\",\"\")","v":""},{"$f":"IF(CO99=1,\" *Las Atenciones de Migrantes no pueden superar el total de Atenciones.\",\"\")","v":""},null,0,0,0,0,0,0,0]
["TOTAL",{"$f":"SUM(B95:B99)","v":0},0,0,0,0,0,0,0,0,0,0,{"$f":"SUM(M95:M97)","v":0},0,0,0,0,0,null,null,null,null,null,null,null,null,null,null,null,null,null,null,null,null,null,null,null,null,null,null,null,null,null,null,null,null,null,null,null,null,null,null,null,null,null,null,null,null,null,null,null,null,null,null,null,null,null,null,null,null,null,null,null,null,null,null,null,null,"","","","","","","",null,0,0,0,0,0,0,0]
["SECCION E: ACCIONES DE SALUD MENTAL REMOTAS EN CONTEXTO DE EMERGENCIA SANITARIA"]
["SECCIÓN E1: ACCIONES TELEFÓNICAS DE SALUD MENTAL (APS Y ESPECIALIDAD)"]
["GRUPOS","TOTAL ACCIONES","NÚMERO DE ACCIONES TELEFÓNICAS Y DE SEGUIMIENTO POR RANGOS DE EDAD",null,null,null,null,null,null,null,null,null,null,null,null,null,null,null,null,"SEXO",null,"Niños, Niñas, Adolescentes y Jóvenes Población SENAME","Pueblos Originarios","Migrantes","Demencia"]
[null,null,null,null,null,null,null,null,null,null,null,null,null,null,null,null,null,null,null,"Hombres","Mujeres",null,null,null,null,null,null,null,null,null,null,null,null,null,null,null,null,null,null,null,null,null,null,null,null,null,null,null,null,null,null,null,null,null,null,null,null,null,null,null,null,null,null,null,null,null,null,null,null,null,null,null,null,null,null,null,null,null,"Hombres y Mujeres Mayor a Total","NNA Sename Mayor a Total","Pueblos Originarios","Migrantes","Demencia",null,null,null,"Hombres y Mujeres Mayor a Total","NNA Sename Mayor a Total","Pueblos Originarios","Migrantes","Demencia"]
[null,null,"0 - 4","5 - 9","10 - 14","15 - 19","20 - 24","25 - 29","30 - 34","35 - 39","40 - 44","45 - 49","50 - 54","55 - 59","60 - 64","65 - 69","70 - 74","75 - 79","80 y mas"]
["Llamadas Telefónicas",{"$f":"SUM(C106:S106)","v":0},null,null,null,null,null,null,null,null,null,null,null,null,null,null,null,null,null,null,null,null,null,null,null,{"$f":"CA106&CB106&CC106&CD106&CE106&CF106&CG106","v":""},null,null,null,null,null,null,null,null,null,null,null,null,null,null,null,null,null,null,null,null,null,null,null,null,null,null,null,null,null,null,null,null,null,null,null,null,null,null,null,null,null,null,null,null,null,null,null,null,null,null,null,null,{"$f":"IF(CI106=1,\" *Los controles según sexo deben ser iguales  al total de Controles. \",\"\")","v":""},{"$f":"IF(CJ106=1,\" *Las Atenciones de NNA SENAME no pueden superar el total de Atenciones entre los 0 Y 24 años\",\"\")","v":""},{"$f":"IF(CK106=1,\" *Las Acciones de Pueblos Originarios no pueden superar el total de Acciones \",\"\")","v":""},{"$f":"IF(CL106=1,\" *Las Acciones de Migrantes no pueden superar el total de Acciones \",\"\")","v":""},{"$f":"IF(CM106=1,\" *Las Acciones de Personas con Demencia no pueden superar el total de Acciones \",\"\")","v":""},null,null,null,{"$f":"IF(T106+U106<>B106,1,0)","v":0},{"$f":"IF(V106>SUM(C106:G106),1,0)","v":0},{"$f":"IF(W106>$B106,1,0)","v":0},0,0]
["Video llamadas",{"$f":"SUM(C107:S107)","v":0},null,null,null,null,null,null,null,null,null,null,null,null,null,null,null,null,null,null,null,null,null,null,null,{"$f":"CA107&CB107&CC107&CD107&CE107&CF107&CG107","v":""},null,null,null,null,null,null,null,null,null,null,null,null,null,null,null,null,null,null,null,null,null,null,null,null,null,null,null,null,null,null,null,null,null,null,null,null,null,null,null,null,null,null,null,null,null,null,null,null,null,null,null,null,{"$f":"IF(CI107=1,\" *Los controles según sexo deben ser iguales  al total de Controles. \",\"\")","v":""},{"$f":"IF(CJ107=1,\" *Las Atenciones de NNA SENAME no pueden superar el total de Atenciones entre los 0 Y 24 años\",\"\")","v":""},{"$f":"IF(CK107=1,\" *Las Acciones de Pueblos Originarios no pueden superar el total de Acciones \",\"\")","v":""},{"$f":"IF(CL107=1,\" *Las Acciones de Migrantes no pueden superar el total de Acciones \",\"\")","v":""},{"$f":"IF(CM107=1,\" *Las Acciones de Personas con Demencia no pueden superar el total de Acciones \",\"\")","v":""},null,null,null,{"$f":"IF(T107+U107<>B107,1,0)","v":0},{"$f":"IF(V107>SUM(C107:G107),1,0)","v":0},0,0,0]
["Mensajería de Texto",{"$f":"SUM(C108:S108)","v":0},null,null,null,null,null,null,null,null,null,null,null,null,null,null,null,null,null,null,null,null,null,null,null,{"$f":"CA108&CB108&CC108&CD108&CE108&CF108&CG108","v":""},null,null,null,null,null,null,null,null,null,null,null,null,null,null,null,null,null,null,null,null,null,null,null,null,null,null,null,null,null,null,null,null,null,null,null,null,null,null,null,null,null,null,null,null,null,null,null,null,null,null,null,null,"",{"$f":"IF(CJ108=1,\" *Las Atenciones de NNA SENAME no pueden superar el total de Atenciones entre los 0 Y 24 años\",\"\")","v":""},{"$f":"IF(CK108=1,\" *Las Acciones de Pueblos Originarios no pueden superar el total de Acciones \",\"\")","v":""},{"$f":"IF(CL108=1,\" *Las Acciones de Migrantes no pueden superar el total de Acciones \",\"\")","v":""},{"$f":"IF(CM108=1,\" *Las Acciones de Personas con Demencia no pueden superar el total de Acciones \",\"\")","v":""},null,null,null,{"$f":"IF(T108+U108<>B108,1,0)","v":0},{"$f":"IF(V108>SUM(C108:G108),1,0)","v":0},0,0,0]
["SECCIÓN E2: CONTROLES DE SALUD MENTAL REMOTOS (APS Y ESPECIALIDAD)"]
["ACTIVIDADES","PROFESIONAL","TOTAL",null,null,"NÚMERO DE CONTROLES DE SALUD MENTAL REMOTOS POR RANGOS DE EDAD",null,null,null,null,null,null,null,null,null,null,null,null,null,null,null,null,null,null,null,null,null,null,null,null,null,null,null,null,null,null,null,null,null,"Niños, Niñas, Adolescentes y Jóvenes Población SENAME","Pueblos Originarios","Migrantes","Demencia"]
[null,null,null,null,null,"0 - 4",null,"5 - 9",null,"10 - 14",null,"15 - 19",null,"20 - 24",null,"25 - 29",null,"30 - 34",null,"35 - 39",null,"40 - 44",null,"45 - 49",null,"50 - 54",null,"55 - 59",null,"60 - 64",null,"65 - 69",null,"70 - 74",null,"75 - 79",null,"80 y mas"]
[null,null,"Ambos Sexos","Hombres","Mujeres","Hombres","Mujeres","Hombres","Mujeres","Hombres","Mujeres","Hombres","Mujeres","Hombres","Mujeres","Hombres","Mujeres","Hombres","Mujeres","Hombres","Mujeres","Hombres","Mujeres","Hombres","Mujeres","Hombres","Mujeres","Hombres","Mujeres","Hombres","Mujeres","Hombres","Mujeres","Hombres","Mujeres","Hombres","Mujeres","Hombres","Mujeres"]
["CONTROLES DE SALUD MENTAL POR LLAMADAS TELEFONICAS  EN EL CONTEXTO DE PANDEMIA","Médico",{"$f":"SUM(D113:E113)","v":0},{"$f":"SUM(F113+H113+J113+L113+N113+P113+R113+T113+V113+X113+Z113+AB113+AD113+AF113+AH113+AJ113+AL113)","v":0},{"$f":"SUM(G113+I113+K113+M113+O113+Q113+S113+U113+W113+Y113+AA113+AC113+AE113+AG113+AI113+AK113+AM113)","v":0},null,null,null,null,null,null,null,null,null,null,null,null,null,null,null,null,null,null,null,null,null,null,null,null,null,null,null,null,null,null,null,null,null,null,null,null,null,null,{"$f":"+CA113&CB113&CC113&CD113","v":""},null,null,null,null,null,null,null,null,null,null,null,null,null,null,null,null,null,null,null,null,null,null,null,null,null,null,null,null,null,null,null,null,null,null,{"$f":"IF(CJ113=1,\" *Las Acciones de NNA SENAME deben estar en el grupo etareo (hasta los 24 años)\",\"\")","v":""},{"$f":"IF(CK113=1,\" *.Las Acciones de Pueblos Originarios no pueden superar el total de Acciones \",\"\")","v":""},{"$f":"IF(CL113=1,\" *.Las Acciones de Migrantes no pueden superar el total de Acciones \",\"\")","v":""},{"$f":"IF(CM113=1,\" *.Las Acciones de Demencia no pueden superar el total de Acciones \",\"\")","v":""},null,null,null,null,null,{"$f":"IF(SUM(F113:O113)<AN113,1,0)","v":0},{"$f":"IF(AO113>$C113,1,0)","v":0},{"$f":"IF(AP113>$C113,1,0)","v":0},{"$f":"IF(AQ113>$C113,1,0)","v":0}]
[null,"Psicólogo/a",{"$f":"SUM(D114:E114)","v":0},{"$f":"SUM(F114+H114+J114+L114+N114+P114+R114+T114+V114+X114+Z114+AB114+AD114+AF114+AH114+AJ114+AL114)","v":0},{"$f":"SUM(G114+I114+K114+M114+O114+Q114+S114+U114+W114+Y114+AA114+AC114+AE114+AG114+AI114+AK114+AM114)","v":0},null,null,null,null,null,null,null,null,null,null,null,null,null,null,null,null,null,null,null,null,null,null,null,null,null,null,null,null,null,null,null,null,null,null,null,null,null,null,"",null,null,null,null,null,null,null,null,null,null,null,null,null,null,null,null,null,null,null,null,null,null,null,null,null,null,null,null,null,null,null,null,null,null,"","","","",null,null,null,null,null,0,0,0,0]
[null,"Enfermera/o",0,0,0,null,null,null,null,null,null,null,null,null,null,null,null,null,null,null,null,null,null,null,null,null,null,null,null,null,null,null,null,null,null,null,null,null,null,null,null,null,null,"",null,null,null,null,null,null,null,null,null,null,null,null,null,null,null,null,null,null,null,null,null,null,null,null,null,null,null,null,null,null,null,null,null,null,"","","","",null,null,null,null,null,0,0,0,0]
[null,"Matrona/on",0,0,0,null,null,null,null,null,null,null,null,null,null,null,null,null,null,null,null,null,null,null,null,null,null,null,null,null,null,null,null,null,null,null,null,null,null,null,null,null,null,"",null,null,null,null,null,null,null,null,null,null,null,null,null,null,null,null,null,null,null,null,null,null,null,null,null,null,null,null,null,null,null,null,null,null,"","","","",null,null,null,null,null,0,0,0,0]
[null,"Asistente Social",0,0,0,null,null,null,null,null,null,null,null,null,null,null,null,null,null,null,null,null,null,null,null,null,null,null,null,null,null,null,null,null,null,null,null,null,null,null,null,null,null,"",null,null,null,null,null,null,null,null,null,null,null,null,null,null,null,null,null,null,null,null,null,null,null,null,null,null,null,null,null,null,null,null,null,null,"","","","",null,null,null,null,null,0,0,0,0]
[null,"Otros Profesionales",0,0,0,null,null,null,null,null,null,null,null,null,null,null,null,null,null,null,null,null,null,null,null,null,null,null,null,null,null,null,null,null,null,null,null,null,null,null,null,null,null,"",null,null,null,null,null,null,null,null,null,null,null,null,null,null,null,null,null,null,null,null,null,null,null,null,null,null,null,null,null,null,null,null,null,null,"","","","",null,null,null,null,null,0,0,0,0]
[null,"Terapeuta Ocupacional",0,0,0,null,null,null,null,null,null,null,null,null,null,null,null,null,null,null,null,null,null,null,null,null,null,null,null,null,null,null,null,null,null,null,null,null,null,null,null,null,null,"",null,null,null,null,null,null,null,null,null,null,null,null,null,null,null,null,null,null,null,null,null,null,null,null,null,null,null,null,null,null,null,null,null,null,"","","","",null,null,null,null,null,0,0,0,0]
[null,"Técnico Paramédico y en Salud Mental",0,0,0,null,null,null,null,null,null,null,null,null,null,null,null,null,null,null,null,null,null,null,null,null,null,null,null,null,null,null,null,null,null,null,null,null,null,null,null,null,null,"",null,null,null,null,null,null,null,null,null,null,null,null,null,null,null,null,null,null,null,null,null,null,null,null,null,null,null,null,null,null,null,null,null,null,"","","","",null,null,null,null,null,0,0,0,0]
[null,"Gestor Comunitario",0,0,0,null,null,null,null,null,null,null,null,null,null,null,null,null,null,null,null,null,null,null,null,null,null,null,null,null,null,null,null,null,null,null,null,null,null,null,null,null,null,"",null,null,null,null,null,null,null,null,null,null,null,null,null,null,null,null,null,null,null,null,null,null,null,null,null,null,null,null,null,null,null,null,null,null,"","","","",null,null,null,null,null,0,0,0,0]
[null,"Técnico Rehabilitación Alcohol y Drogas",0,0,0,null,null,null,null,null,null,null,null,null,null,null,null,null,null,null,null,null,null,null,null,null,null,null,null,null,null,null,null,null,null,null,null,null,null,null,null,null,null,"",null,null,null,null,null,null,null,null,null,null,null,null,null,null,null,null,null,null,null,null,null,null,null,null,null,null,null,null,null,null,null,null,null,null,"","","","",null,null,null,null,null,0,0,0,0]
[null,"Médico Psiquiatra",0,{"$f":"SUM(F123+H123+J123+L123+N123+P123+R123+T123+V123+X123+Z123+AB123+AD123+AF123+AH123+AJ123+AL123)","v":0},0,null,null,null,null,null,null,null,null,null,null,null,null,null,null,null,null,null,null,null,null,null,null,null,null,null,null,null,null,null,null,null,null,null,null,null,null,null,null,"",null,null,null,null,null,null,null,null,null,null,null,null,null,null,null,null,null,null,null,null,null,null,null,null,null,null,null,null,null,null,null,null,null,null,"","","","",null,null,null,null,null,0,0,0,0]
[null,"TOTAL",{"$f":"SUM(D124:E124)","v":0},{"$f":"SUM(D113:D123)","v":0},{"$f":"SUM(E113:E123)","v":0},{"$f":"SUM(F113:F123)","v":0},{"$f":"SUM(G113:G123)","v":0},{"$f":"SUM(H113:H123)","v":0},{"$f":"SUM(I113:I123)","v":0},0,0,0,0,0,0,0,0,0,0,{"$f":"SUM(T113:T123)","v":0},0,0,0,0,0,0,0,0,0,0,0,0,0,0,0,0,0,0,0,0,0,{"$f":"SUM(AP113:AP123)","v":0},{"$f":"SUM(AQ113:AQ123)","v":0},null,null,null,null,null,null,null,null,null,null,null,null,null,null,null,null,null,null,null,null,null,null,null,null,null,null,null,null,null,null,null,null,null,null,null,"","","","",null,null,null,null,null,0,0,0,0]
["CONTROLES DE SALUD MENTAL POR VIDEO LLAMADAS  EN EL CONTEXTO DE PANDEMIA","Médico",{"$f":"SUM(D125:E125)","v":0},{"$f":"SUM(F125+H125+J125+L125+N125+P125+R125+T125+V125+X125+Z125+AB125+AD125+AF125+AH125+AJ125+AL125)","v":0},{"$f":"SUM(G125+I125+K125+M125+O125+Q125+S125+U125+W125+Y125+AA125+AC125+AE125+AG125+AI125+AK125+AM125)","v":0},null,null,null,null,null,null,null,null,null,null,null,null,null,null,null,null,null,null,null,null,null,null,null,null,null,null,null,null,null,null,null,null,null,null,null,null,null,null,{"$f":"+CA125&CB125&CC125&CD125","v":""},null,null,null,null,null,null,null,null,null,null,null,null,null,null,null,null,null,null,null,null,null,null,null,null,null,null,null,null,null,null,null,null,null,null,"","","","",null,null,null,null,null,0,0,0,0]
[null,"Psicólogo/a",{"$f":"SUM(D126:E126)","v":0},{"$f":"SUM(F126+H126+J126+L126+N126+P126+R126+T126+V126+X126+Z126+AB126+AD126+AF126+AH126+AJ126+AL126)","v":0},{"$f":"SUM(G126+I126+K126+M126+O126+Q126+S126+U126+W126+Y126+AA126+AC126+AE126+AG126+AI126+AK126+AM126)","v":0},null,null,null,null,null,null,null,null,null,null,null,null,null,null,null,null,null,null,null,null,null,null,null,null,null,null,null,null,null,null,null,null,null,null,null,null,null,null,"",null,null,null,null,null,null,null,null,null,null,null,null,null,null,null,null,null,null,null,null,null,null,null,null,null,null,null,null,null,null,null,null,null,null,"","","","",null,null,null,null,null,0,0,0,0]
[null,"Enfermera/o",0,0,0,null,null,null,null,null,null,null,null,null,null,null,null,null,null,null,null,null,null,null,null,null,null,null,null,null,null,null,null,null,null,null,null,null,null,null,null,null,null,"",null,null,null,null,null,null,null,null,null,null,null,null,null,null,null,null,null,null,null,null,null,null,null,null,null,null,null,null,null,null,null,null,null,null,"","","","",null,null,null,null,null,0,0,0,0]
[null,"Matrona/on",0,0,0,null,null,null,null,null,null,null,null,null,null,null,null,null,null,null,null,null,null,null,null,null,null,null,null,null,null,null,null,null,null,null,null,null,null,null,null,null,null,"",null,null,null,null,null,null,null,null,null,null,null,null,null,null,null,null,null,null,null,null,null,null,null,null,null,null,null,null,null,null,null,null,null,null,"","","","",null,null,null,null,null,0,0,0,0]
[null,"Asistente Social",0,0,0,null,null,null,null,null,null,null,null,null,null,null,null,null,null,null,null,null,null,null,null,null,null,null,null,null,null,null,null,null,null,null,null,null,null,null,null,null,null,"",null,null,null,null,null,null,null,null,null,null,null,null,null,null,null,null,null,null,null,null,null,null,null,null,null,null,null,null,null,null,null,null,null,null,"","","","",null,null,null,null,null,0,0,0,0]
[null,"Otros Profesionales",0,0,0,null,null,null,null,null,null,null,null,null,null,null,null,null,null,null,null,null,null,null,null,null,null,null,null,null,null,null,null,null,null,null,null,null,null,null,null,null,null,"",null,null,null,null,null,null,null,null,null,null,null,null,null,null,null,null,null,null,null,null,null,null,null,null,null,null,null,null,null,null,null,null,null,null,"","","","",null,null,null,null,null,0,0,0,0]
[null,"Terapeuta Ocupacional",0,0,0,null,null,null,null,null,null,null,null,null,null,null,null,null,null,null,null,null,null,null,null,null,null,null,null,null,null,null,null,null,null,null,null,null,null,null,null,null,null,"",null,null,null,null,null,null,null,null,null,null,null,null,null,null,null,null,null,null,null,null,null,null,null,null,null,null,null,null,null,null,null,null,null,null,"","","","",null,null,null,null,null,0,0,0,0]
[null,"Técnico Paramédico y en Salud Mental",0,0,0,null,null,null,null,null,null,null,null,null,null,null,null,null,null,null,null,null,null,null,null,null,null,null,null,null,null,null,null,null,null,null,null,null,null,null,null,null,null,"",null,null,null,null,null,null,null,null,null,null,null,null,null,null,null,null,null,null,null,null,null,null,null,null,null,null,null,null,null,null,null,null,null,null,"","","","",null,null,null,null,null,0,0,0,0]
[null,"Gestor Comunitario",0,0,0,null,null,null,null,null,null,null,null,null,null,null,null,null,null,null,null,null,null,null,null,null,null,null,null,null,null,null,null,null,null,null,null,null,null,null,null,null,null,"",null,null,null,null,null,null,null,null,null,null,null,null,null,null,null,null,null,null,null,null,null,null,null,null,null,null,null,null,null,null,null,null,null,null,"","","","",null,null,null,null,null,0,0,0,0]
[null,"Técnico Rehabilitación Alcohol y Drogas",0,0,0,null,null,null,null,null,null,null,null,null,null,null,null,null,null,null,null,null,null,null,null,null,null,null,null,null,null,null,null,null,null,null,null,null,null,null,null,null,null,"",null,null,null,null,null,null,null,null,null,null,null,null,null,null,null,null,null,null,null,null,null,null,null,null,null,null,null,null,null,null,null,null,null,null,"","","","",null,null,null,null,null,0,0,0,0]
[null,"Médico Psiquiatra",{"$f":"SUM(D135:E135)","v":0},{"$f":"SUM(F135+H135+J135+L135+N135+P135+R135+T135+V135+X135+Z135+AB135+AD135+AF135+AH135+AJ135+AL135)","v":0},0,null,null,null,null,null,null,null,null,null,null,null,null,null,null,null,null,null,null,null,null,null,null,null,null,null,null,null,null,null,null,null,null,null,null,null,null,null,null,"",null,null,null,null,null,null,null,null,null,null,null,null,null,null,null,null,null,null,null,null,null,null,null,null,null,null,null,null,null,null,null,null,null,null,"","","","",null,null,null,null,null,0,0,0,0]
[null,"TOTAL",{"$f":"SUM(D136:E136)","v":0},{"$f":"SUM(D125:D135)","v":0},{"$f":"SUM(E125:E135)","v":0},{"$f":"SUM(F125:F135)","v":0},{"$f":"SUM(G125:G135)","v":0},0,0,0,0,0,0,0,0,0,0,0,0,0,0,0,0,0,0,0,0,0,0,0,0,0,0,0,0,0,0,0,0,0,0,0,0,"",null,null,null,null,null,null,null,null,null,null,null,null,null,null,null,null,null,null,null,null,null,null,null,null,null,null,null,null,null,null,null,null,null,null,"","","","",null,null,null,null,null,0,0,0,0]
["SECCION F: ACCIONES DE SEGUIMIENTO TELEFÓNICO EN EL PROGRAMA DE SALUD CARDIOVASCULAR EN APS EN EL CONTEXTO DE EMERGENCIA SANITARIA",null,null,null,null,null,null,null,null,null,null,null,null,null,null,null,null,null,null,null,null,null,null,null,null,null,null,null,null,null,null,null,null,null,null,null,null,null,null,null,null,null,null,{"$f":"+BB123&BC123&BD123&BE123","v":""}]
["TIPO DE CONTROL","PROFESIONAL","TOTAL",null,null,"NÚMERO DE ACCIONES POR RANGOS DE EDAD",null,null,null,null,null,null,null,null,null,null,null,null,null,null,null,null,null,null,null,null,null,null,null,null,null,null,null,"Beneficiarios",null,null,null,null,null,null,null,null,null,""]
[null,null,null,null,null,"15 a 19",null,"20 - 24",null,"25 - 29",null,"30 - 34",null,"35 - 39",null,"40 - 44",null,"45 - 49",null,"50 - 54",null,"55 - 59",null,"60 - 64",null,"65 - 69",null,"70 - 74",null,"75 - 79",null,"80 y mas",null,null,null,null,null,null,null,null,null,null,null,null,null,null,null,null,null,null,null,null,null,null,null,null,null,null,null,null,null,null,null,null,null,null,null,null,null,null,null,null,null,null,null,null,null,null,"Beneficiarios Mayor a Total",null,null,null,null,null,null,null,null,null,null,null,"Beneficiarios Mayor a Total"]
[null,null,"Ambos Sexos","Hombres","Mujeres","Hombres","Mujeres","Hombres","Mujeres","Hombres","Mujeres","Hombres","Mujeres","Hombres","Mujeres","Hombres","Mujeres","Hombres","Mujeres","Hombres","Mujeres","Hombres","Mujeres","Hombres","Mujeres","Hombres","Mujeres","Hombres","Mujeres","Hombres","Mujeres","Hombres","Mujeres"]
["Llamadas telefónicas o Video llamadas","Médico",{"$f":"SUM(D141:E141)","v":0},{"$f":"SUM(F141+H141+J141+L141+N141+P141+R141+T141+V141+X141+Z141+AB141+AD141+AF141)","v":0},{"$f":"SUM(G141+I141+K141+M141+O141+Q141+S141+U141+W141+Y141+AA141+AC141+AE141+AG141)","v":0},null,null,null,null,null,null,null,null,null,null,null,null,null,null,null,null,null,null,null,null,null,null,null,null,null,null,null,null,null,{"$f":"+CA141","v":""},null,null,null,null,null,null,null,null,null,null,null,null,null,null,null,null,null,null,null,null,null,null,null,null,null,null,null,null,null,null,null,null,null,null,null,null,null,null,null,null,null,null,null,{"$f":"IF(CM141=1,\" *Revisar relacion Total y Beneficiarios, Los Beneficiarios no pueden ser mayor que el Total, y si no hay beneficiario digite un cero \",\"\")","v":""},null,null,null,null,null,null,null,null,null,null,null,{"$f":"IF(OR(AH141>$C141,AND(C141<>0,AH141=\"\")),1,0)","v":0}]
[null,"Enfermera/o",0,0,{"$f":"SUM(G142+I142+K142+M142+O142+Q142+S142+U142+W142+Y142+AA142+AC142+AE142+AG142)","v":0},null,null,null,null,null,null,null,null,null,null,null,null,null,null,null,null,null,null,null,null,null,null,null,null,null,null,null,null,null,"",null,null,null,null,null,null,null,null,null,null,null,null,null,null,null,null,null,null,null,null,null,null,null,null,null,null,null,null,null,null,null,null,null,null,null,null,null,null,null,null,null,null,null,{"$f":"IF(CM142=1,\" *Revisar relacion Total y Beneficiarios, Los Beneficiarios no pueden ser mayor que el Total, y si no hay beneficiario digite un cero \",\"\")","v":""},null,null,null,null,null,null,null,null,null,null,null,0]
[null,"Nutricionista",0,{"$f":"SUM(F143+H143+J143+L143+N143+P143+R143+T143+V143+X143+Z143+AB143+AD143+AF143)","v":0},0,null,null,null,null,null,null,null,null,null,null,null,null,null,null,null,null,null,null,null,null,null,null,null,null,null,null,null,null,null,"",null,null,null,null,null,null,null,null,null,null,null,null,null,null,null,null,null,null,null,null,null,null,null,null,null,null,null,null,null,null,null,null,null,null,null,null,null,null,null,null,null,null,null,"",null,null,null,null,null,null,null,null,null,null,null,0]
[null,"Técnico Paramédico",0,0,0,null,null,null,null,null,null,null,null,null,null,null,null,null,null,null,null,null,null,null,null,null,null,null,null,null,null,null,null,null,"",null,null,null,null,null,null,null,null,null,null,null,null,null,null,null,null,null,null,null,null,null,null,null,null,null,null,null,null,null,null,null,null,null,null,null,null,null,null,null,null,null,null,null,"",null,null,null,null,null,null,null,null,null,null,null,0]
["Mensajes de texto","Médico",0,0,0,null,null,null,null,null,null,null,null,null,null,null,null,null,null,null,null,null,null,null,null,null,null,null,null,null,null,null,null,null,"",null,null,null,null,null,null,null,null,null,null,null,null,null,null,null,null,null,null,null,null,null,null,null,null,null,null,null,null,null,null,null,null,null,null,null,null,null,null,null,null,null,null,null,"",null,null,null,null,null,null,null,null,null,null,null,0]
[null,"Enfermera/o",0,0,0,null,null,null,null,null,null,null,null,null,null,null,null,null,null,null,null,null,null,null,null,null,null,null,null,null,null,null,null,null,"",null,null,null,null,null,null,null,null,null,null,null,null,null,null,null,null,null,null,null,null,null,null,null,null,null,null,null,null,null,null,null,null,null,null,null,null,null,null,null,null,null,null,null,"",null,null,null,null,null,null,null,null,null,null,null,0]
[null,"Nutricionista",0,0,0,null,null,null,null,null,null,null,null,null,null,null,null,null,null,null,null,null,null,null,null,null,null,null,null,null,null,null,null,null,"",null,null,null,null,null,null,null,null,null,null,null,null,null,null,null,null,null,null,null,null,null,null,null,null,null,null,null,null,null,null,null,null,null,null,null,null,null,null,null,null,null,null,null,"",null,null,null,null,null,null,null,null,null,null,null,0]
[null,"Técnico Paramédico",0,0,0,null,null,null,null,null,null,null,null,null,null,null,null,null,null,null,null,null,null,null,null,null,null,null,null,null,null,null,null,null,"",null,null,null,null,null,null,null,null,null,null,null,null,null,null,null,null,null,null,null,null,null,null,null,null,null,null,null,null,null,null,null,null,null,null,null,null,null,null,null,null,null,null,null,"",null,null,null,null,null,null,null,null,null,null,null,0]
["SECCIÓN G: HOSPITALIZACIÓN DOMICILIARIA EN APS "]
["COMPONENTES","TOTAL","EDAD",null,null,"SEXO",null,null,null,null,null,null,null,null,null,null,null,null,null,null,null,null,null,null,null,null,null,null,null,null,null,null,null,null,null,null,null,null,null,null,null,null,null,null,null,null,null,null,null,null,null,null,null,null,null,null,null,null,null,null,null,null,null,null,null,null,null,null,null,null,null,null,null,null,null,null,null,null,"Hombres y Mujeres Mayor a Total",null,null,null,null,null,null,null,"Hombres y Mujeres Mayor a Total"]
[null,null,"0-19","20-64","65 Y MAS","HOMBRES","MUJERES"]
["INGRESOS",{"$f":"SUM(C152:E152)","v":0},null,null,null,null,null,{"$f":"+CA152","v":""},null,null,null,null,null,null,null,null,null,null,null,null,null,null,null,null,null,null,null,null,null,null,null,null,null,null,null,null,null,null,null,null,null,null,null,null,null,null,null,null,null,null,null,null,null,null,null,null,null,null,null,null,null,null,null,null,null,null,null,null,null,null,null,null,null,null,null,null,null,null,{"$f":"IF(CI152=1,\" *El total por grupo etario debe ser igual a la desagregacion  según sexo. \",\"\")","v":""},null,null,null,null,null,null,null,{"$f":"IF(F152+G152<>B152,1,0)","v":0}]
["PACIENTES ATENDIDOS",0,null,null,null,null,null,"",null,null,null,null,null,null,null,null,null,null,null,null,null,null,null,null,null,null,null,null,null,null,null,null,null,null,null,null,null,null,null,null,null,null,null,null,null,null,null,null,null,null,null,null,null,null,null,null,null,null,null,null,null,null,null,null,null,null,null,null,null,null,null,null,null,null,null,null,null,null,{"$f":"IF(CI153=1,\" *El total por grupo etario debe ser igual a la desagregacion  según sexo. \",\"\")","v":""},null,null,null,null,null,null,null,0]
["ATENCIONES REALIZADAS POR EQUIPO",0,null,null,null,null,null,"",null,null,null,null,null,null,null,null,null,null,null,null,null,null,null,null,null,null,null,null,null,null,null,null,null,null,null,null,null,null,null,null,null,null,null,null,null,null,null,null,null,null,null,null,null,null,null,null,null,null,null,null,null,null,null,null,null,null,null,null,null,null,null,null,null,null,null,null,null,null,"",null,null,null,null,null,null,null,0]
["DIAS CAMA EFECTIVAMENTE UTILIZADOS",0,null,null,null,null,null,"",null,null,null,null,null,null,null,null,null,null,null,null,null,null,null,null,null,null,null,null,null,null,null,null,null,null,null,null,null,null,null,null,null,null,null,null,null,null,null,null,null,null,null,null,null,null,null,null,null,null,null,null,null,null,null,null,null,null,null,null,null,null,null,null,null,null,null,null,null,null,"",null,null,null,null,null,null,null,0]
["DERIVACION A HOSPITAL POR AGRAVAMIENTO",0,null,null,null,null,null,"",null,null,null,null,null,null,null,null,null,null,null,null,null,null,null,null,null,null,null,null,null,null,null,null,null,null,null,null,null,null,null,null,null,null,null,null,null,null,null,null,null,null,null,null,null,null,null,null,null,null,null,null,null,null,null,null,null,null,null,null,null,null,null,null,null,null,null,null,null,null,"",null,null,null,null,null,null,null,0]
["EGRESOS POR ALTA",0,null,null,null,null,null,"",null,null,null,null,null,null,null,null,null,null,null,null,null,null,null,null,null,null,null,null,null,null,null,null,null,null,null,null,null,null,null,null,null,null,null,null,null,null,null,null,null,null,null,null,null,null,null,null,null,null,null,null,null,null,null,null,null,null,null,null,null,null,null,null,null,null,null,null,null,null,"",null,null,null,null,null,null,null,0]
["FALLECIMIENTOS",0,null,null,null,null,null,"",null,null,null,null,null,null,null,null,null,null,null,null,null,null,null,null,null,null,null,null,null,null,null,null,null,null,null,null,null,null,null,null,null,null,null,null,null,null,null,null,null,null,null,null,null,null,null,null,null,null,null,null,null,null,null,null,null,null,null,null,null,null,null,null,null,null,null,null,null,null,"",null,null,null,null,null,null,null,0]
["SECCIÓN H: ATENCIÓN DOMICILIARIA "]
["ACTIVIDAD","TOTAL"]
["Visita"]
["Procedimiento"]
["Llamada"]
["SECCIÓN I: ACTIVIDADES DE ACOMPAÑAMIENTO REMOTO A PERSONAS MAYORES Y SUS FAMILIAS POR PARTE DEL PROGRAMA MÁS ADULTOS MAYORES AUTOVALENTES"]
["TIPO DE ACTIVIDAD","TOTAL",null,null,"NÚMERO DE ACCIONES POR RANGOS DE EDAD",null,null,null,null,null,null,null,null,null,null,null,null,null,null,null,null,null,null,null,null,null,null,null,null,null,null,null,"GRUPAL","BENFICIARIOS"]
[null,null,null,null,"15 - 19",null,"20 - 24",null,"25 - 29",null,"30 - 34",null,"35 - 39",null,"40 - 44",null,"45 - 49",null,"50 - 54",null,"55 - 59",null,"60 - 64",null,"65 - 69",null,"70 - 74",null,"75 - 79",null,"80 y mas",null,null,null,null,null,null,null,null,null,null,null,null,null,null,null,null,null,null,null,null,null,null,null,null,null,null,null,null,null,null,null,null,null,null,null,null,null,null,null,null,null,null,null,null,null,null,null,"Beneficiarios Mayor a Total",null,null,null,null,null,null,null,null,null,null,null,"Beneficiarios Mayor a Total"]
[null,"Ambos Sexos","Hombres","Mujeres","Hombres","Mujeres","Hombres","Mujeres","Hombres","Mujeres","Hombres","Mujeres","Hombres","Mujeres","Hombres","Mujeres","Hombres","Mujeres","Hombres","Mujeres","Hombres","Mujeres","Hombres","Mujeres","Hombres","Mujeres","Hombres","Mujeres","Hombres","Mujeres","Hombres","Mujeres"]
["Llamadas telefónicas ",{"$f":"SUM(C168:D168)","v":0},{"$f":"+E168+G168+I168+K168+M168+O168+Q168+S168+U168+W168+Y168+AA168+AC168+AE168","v":0},0,null,null,null,null,null,null,null,null,null,null,null,null,null,null,null,null,null,null,null,null,null,null,null,null,null,null,null,null,null,null,{"$f":"+CA168","v":""},null,null,null,null,null,null,null,null,null,null,null,null,null,null,null,null,null,null,null,null,null,null,null,null,null,null,null,null,null,null,null,null,null,null,null,null,null,null,null,null,null,null,null,{"$f":"IF(CM168=1,\" *Revisar relacion Total y Beneficiarios, Los Beneficiarios no pueden ser mayor que el Total, y si no hay beneficiario digite un cero \",\"\")","v":""},null,null,null,null,null,null,null,null,null,null,null,{"$f":"IF(AH168>$B168,1,0)","v":0}]
[" Video llamadas",{"$f":"SUM(C169:D169)","v":0},0,0,null,null,null,null,null,null,null,null,null,null,null,null,null,null,null,null,null,null,null,null,null,null,null,null,null,null,null,null,null,null,{"$f":"+CA169","v":""},null,null,null,null,null,null,null,null,null,null,null,null,null,null,null,null,null,null,null,null,null,null,null,null,null,null,null,null,null,null,null,null,null,null,null,null,null,null,null,null,null,null,null,{"$f":"IF(CM169=1,\" *Revisar relacion Total y Beneficiarios, Los Beneficiarios no pueden ser mayor que el Total, y si no hay beneficiario digite un cero \",\"\")","v":""},null,null,null,null,null,null,null,null,null,null,null,{"$f":"IF(AH169>$B169,1,0)","v":0}]
["Contacto individual  por mensaje en redes sociales",{"$f":"SUM(C170:D170)","v":0},0,0,null,null,null,null,null,null,null,null,null,null,null,null,null,null,null,null,null,null,null,null,null,null,null,null,null,null,null,null,null,null,{"$f":"+CA170","v":""},null,null,null,null,null,null,null,null,null,null,null,null,null,null,null,null,null,null,null,null,null,null,null,null,null,null,null,null,null,null,null,null,null,null,null,null,null,null,null,null,null,null,null,"",null,null,null,null,null,null,null,null,null,null,null,{"$f":"IF(AH170>$B170,1,0)","v":0}]
["Contacto grupal por mensaje en redes sociales "]
["SECCIÓN J: ATENCIÓN REMOTA ADOLESCENTE"]
[" CONTROL DE SALUD INTEGRAL","10 A 14 AÑOS",null,null,"15 A 19 AÑOS"]
[null,"Ambos Sexos","Hombres","Mujeres","Ambos Sexos","Hombres","Mujeres"]
["Epuipo de espacio Amigable",{"$f":"SUM(C175:D175)","v":0},null,null,{"$f":"SUM(F175:G175)","v":0}]
["Otro Equipo de Salud",{"$f":"SUM(C176:D176)","v":0},null,null,{"$f":"SUM(F176:G176)","v":0}]
["SECCION K: ACCIONES REMOTAS DE MEDICINAS COMPLEMENTARIAS Y PRACTICAS DE BIENESTAR EN SALUD "]
["GRUPO OBJETIVO","TOTAL ","NÚMERO DE ACCIONES TELEFÓNICAS Y DE SEGUIMIENTO POR RANGOS DE EDAD"]
[null,null,"0 - 4","5 - 9","10 - 14","15 - 19","20 - 24","25 - 29","30 - 34","35 - 39","40 - 44","45 - 49","50 - 54","55 - 59","60 - 64","65 - 69","70 - 74","75 - 79","80 y mas"]
["Pacientes",{"$f":"SUM(C180:S180)","v":0}]
["Familiares/Cuidadores de los pacientes ",{"$f":"SUM(C181:S181)","v":0}]
["Funcionarios",{"$f":"SUM(C182:S182)","v":0}]
["SECCIÓN L: ATENCIONES DE SEGUIMIENTO NUTRICIONAL VÍA REMOTA"]
["TIPO DE ATENCIÓN","TOTAL      ",null,null,"POR DE EDAD (en años)",null,null,null,null,null,null,null,null,null,null,null,null,null,null,null,null,null,null,null,null,null,null,null,null,null,null,null,null,null,null,null,null,null,null,null,"Beneficiarios","Pueblos Originarios","Migrantes","Niños, Niñas, Adolescentes y Jóvenes Población SENAME"]
[null,null,null,null,"Menor \nde 1 año","1 a 4","1 a 4 años",null,"5 a 9 años",null,"10 a 14 años",null,"15 a 19 años",null,"20 a 24 años",null,"25 - 29 años",null,"30 - 34 años",null,"35 - 39 años",null,"40 - 44 años",null,"45 - 49 años",null,"50 - 54 años",null,"55 - 59 años",null,"60 - 64 años",null,"65 - 69 años",null,"70 - 74 años",null,"75 - 79 años",null,"80 y mas",null,null,null,null,null,null,null,null,null,null,null,null,null,null,null,null,null,null,null,null,null,null,null,null,null,null,null,null,null,null,null,null,null,null,null,null,null,null,null,"Beneficiarios Mayor a Total","Pueblos Originarios","Migrantes","NNA Sename Mayor a Total",null,null,null,null,null,null,null,null,"Beneficiarios Mayor a Total","Pueblos Originarios","Migrantes","NNA Sename Mayor a Total"]
[null,"Ambos Sexos","Hombres","Mujeres","Hombres","Mujeres","Hombres","Mujeres","Hombres","Mujeres","Hombres","Mujeres","Hombres","Mujeres","Hombres","Mujeres","Hombres","Mujeres","Hombres","Mujeres","Hombres","Mujeres","Hombres","Mujeres","Hombres","Mujeres","Hombres","Mujeres","Hombres","Mujeres","Hombres","Mujeres","Hombres","Mujeres","Hombres","Mujeres","Hombres","Mujeres","Hombres","Mujeres"]
["Otras Consultas",{"$f":"SUM(C187:D187)","v":0},{"$f":"+E187+G187+I187+K187+M187+O187+Q187+S187+U187+W187+Y187+AA187+AC187+AE187+AG187+AI187+AK187+AM187","v":0},0,null,null,null,null,null,null,null,null,null,null,null,null,null,null,null,null,null,null,null,null,null,null,null,null,null,null,null,null,null,null,null,null,null,null,null,null,null,null,null,null,{"$f":"+CA187&CB187&CC187&CD187","v":""},null,null,null,null,null,null,null,null,null,null,null,null,null,null,null,null,null,null,null,null,null,null,null,null,null,null,null,null,null,null,null,null,null,{"$f":"IF(CM187=1,\" *Revisar relacion Total y Beneficiarios, Los Beneficiarios no pueden ser mayor que el Total, y si no hay beneficiario digite un cero \",\"\")","v":""},{"$f":"IF(CN187=1,\" *.Las Acciones de Pueblos Originarios no pueden superar el total de Acciones \",\"\")","v":""},{"$f":"IF(CO187=1,\" *.Las Acciones de Migrantes no pueden superar el total de Acciones \",\"\")","v":""},{"$f":"IF(CP187=1,\"*Las Atenciones de NNA SENAME no pueden superar el total de Atenciones entre los 0 Y 24 años.\",\"\")","v":""},null,null,null,null,null,null,null,null,{"$f":"IF(AO187>$B187,1,0)","v":0},0,0,{"$f":"IF(AR187>SUM($E187:$P187),1,0)","v":0}]
["Malnutrición por Exceso",{"$f":"SUM(C188:D188)","v":0},0,0,null,null,null,null,null,null,null,null,null,null,null,null,null,null,null,null,null,null,null,null,null,null,null,null,null,null,null,null,null,null,null,null,null,null,null,null,null,null,null,null,{"$f":"+CA188&CB188&CC188&CD188","v":""},null,null,null,null,null,null,null,null,null,null,null,null,null,null,null,null,null,null,null,null,null,null,null,null,null,null,null,null,null,null,null,null,null,{"$f":"IF(CM188=1,\" *Revisar relacion Total y Beneficiarios, Los Beneficiarios no pueden ser mayor que el Total, y si no hay beneficiario digite un cero \",\"\")","v":""},{"$f":"IF(CN188=1,\" *.Las Acciones de Pueblos Originarios no pueden superar el total de Acciones \",\"\")","v":""},{"$f":"IF(CO188=1,\" *.Las Acciones de Migrantes no pueden superar el total de Acciones \",\"\")","v":""},{"$f":"IF(CP188=1,\"*Las Atenciones de NNA SENAME no pueden superar el total de Atenciones entre los 0 Y 24 años.\",\"\")","v":""},null,null,null,null,null,null,null,null,0,0,0,{"$f":"IF(AR188>SUM($E188:$P188),1,0)","v":0}]
["Malnutrición por Déficit",{"$f":"SUM(C189:D189)","v":0},0,0,null,null,null,null,null,null,null,null,null,null,null,null,null,null,null,null,null,null,null,null,null,null,null,null,null,null,null,null,null,null,null,null,null,null,null,null,null,null,null,null,{"$f":"+CA189&CB189&CC189&CD189","v":""},null,null,null,null,null,null,null,null,null,null,null,null,null,null,null,null,null,null,null,null,null,null,null,null,null,null,null,null,null,null,null,null,null,"","","","",null,null,null,null,null,null,null,null,0,0,0,{"$f":"IF(AR189>SUM($E189:$P189),1,0)","v":0}]
["SECCIÓN M: SEGUIMIENTO DE SALUD INFANTIL EN CONTEXTO DE EMERGENCIA SANITARIA "]
["PROFESIONALES","TOTAL ACCIONES","ACCIONES",null,"TOTAL USUARIOS","GRUPOS DE EDAD (en meses - años) ",null,null,null,null,null,null,null,null,null,null,null,null,null,null,"Acompañamiento del Padre"]
[null,null,"LLAMADAS TELEFÓNICAS","VIDEO\nLLAMADAS",null,"1 mes","2 meses","3 meses","4 meses","5 meses","6 meses","7 a 11 meses","12 a 17 meses","18 a 23 meses","24 a 35 meses","36 a 41 meses","42 a 47 meses","48 a 59 meses","60 a 71 meses","6 a 9 años 11 meses",null,null,null,null,null,null,null,null,null,null,null,null,null,null,null,null,null,null,null,null,null,null,null,null,null,null,null,null,null,null,null,null,null,null,null,null,null,null,null,null,null,null,null,null,null,null,null,null,null,null,null,null,null,null,null,null,null,null,"NANEAS",null,null,null,null,null,null,null,"NANEAS"]
["Enfermera/o",{"$f":"SUM(C193:D193)","v":0},null,null,{"$f":"+F193+G193+H193+I193+K193+L193+M193+N193+O193+P193+Q193+R193+S193+T193","v":0},null,null,null,null,null,null,null,null,null,null,null,null,null,null,null,null,{"$f":"$CA193","v":""},null,null,null,null,null,null,null,null,null,null,null,null,null,null,null,null,null,null,null,null,null,null,null,null,null,null,null,null,null,null,null,null,null,null,null,null,null,null,null,null,null,null,null,null,null,null,null,null,null,null,null,null,null,null,null,null,{"$f":"IF(CI193=1,\"* El valor en NANEAS no puede superar el total de Atenciones. \",\"\")","v":""},null,null,null,null,null,null,null,{"$f":"IF(U193>$B193,1,0)","v":0}]
["Médico/a",{"$f":"SUM(C194:D194)","v":0},null,null,{"$f":"+F194+G194+H194+I194+K194+L194+M194+N194+O194+P194+Q194+R194+S194+T194","v":0},null,null,null,null,null,null,null,null,null,null,null,null,null,null,null,null,{"$f":"$CA194","v":""},null,null,null,null,null,null,null,null,null,null,null,null,null,null,null,null,null,null,null,null,null,null,null,null,null,null,null,null,null,null,null,null,null,null,null,null,null,null,null,null,null,null,null,null,null,null,null,null,null,null,null,null,null,null,null,null,{"$f":"IF(CI194=1,\"* El valor en NANEAS no puede superar el total de Atenciones. \",\"\")","v":""},null,null,null,null,null,null,null,{"$f":"IF(U194>$B194,1,0)","v":0}]
["Nutricionista",{"$f":"SUM(C195:D195)","v":0},null,null,{"$f":"SUM(F195:T195)","v":0},null,null,null,null,null,null,null,null,null,null,null,null,null,null,null,null,"",null,null,null,null,null,null,null,null,null,null,null,null,null,null,null,null,null,null,null,null,null,null,null,null,null,null,null,null,null,null,null,null,null,null,null,null,null,null,null,null,null,null,null,null,null,null,null,null,null,null,null,null,null,null,null,null,"",null,null,null,null,null,null,null,0]
["Otro/a",{"$f":"SUM(C196:D196)","v":0},null,null,{"$f":"+F196+G196+H196+I196+K196+L196+M196+N196+O196+P196+Q196+R196+S196+T196","v":0},null,null,null,null,null,null,null,null,null,null,null,null,null,null,null,null,"",null,null,null,null,null,null,null,null,null,null,null,null,null,null,null,null,null,null,null,null,null,null,null,null,null,null,null,null,null,null,null,null,null,null,null,null,null,null,null,null,null,null,null,null,null,null,null,null,null,null,null,null,null,null,null,null,"",null,null,null,null,null,null,null,0]
["SECCIÓN N: ACCIONES REMOTAS DE SEGUIMIENTO EN RIESGO PSICOSOCIAL PARA GESTANTES, NIÑOS Y NIÑAS  DE 0 A 9 AÑOS EN CONTEXTO DE EMERGENCIA SANITARIA"]
["PROFESIONALES","TOTAL ACCIONES","ACCIONES",null,null,"TOTAL USUARIOS","GRUPOS DE EDAD (en meses - años)",null,null,null,null,null,null,null,null,null,null,"NANEAS"]
[null,null,null,null,null,null,"Gestantes","Menor de 7 meses","7 a 11 meses","12 a 17 meses","18 a 23 meses","24 a 35 meses","36 a 41 meses","42 a 47 meses","48 a 59 meses","60 a 71 meses","6 a 9 años 11 meses"]
[null,null,"Llamadas Telefónicas","Video Llamadas","Mensajería de Texto",null,null,null,null,null,null,null,null,null,null,null,null,null,null,null,null,null,null,null,null,null,null,null,null,null,null,null,null,null,null,null,null,null,null,null,null,null,null,null,null,null,null,null,null,null,null,null,null,null,null,null,null,null,null,null,null,null,null,null,null,null,null,null,null,null,null,null,null,null,null,null,null,null,"NANEAS",null,null,null,null,null,null,null,"NANEAS"]
["Matrona/on",{"$f":"SUM(C201:E201)","v":0},null,null,null,{"$f":"SUM(G201:Q201)","v":0},null,null,null,null,null,null,null,null,null,null,null,null,{"$f":"$CA201","v":""},null,null,null,null,null,null,null,null,null,null,null,null,null,null,null,null,null,null,null,null,null,null,null,null,null,null,null,null,null,null,null,null,null,null,null,null,null,null,null,null,null,null,null,null,null,null,null,null,null,null,null,null,null,null,null,null,null,null,null,{"$f":"IF(CI201=1,\"* El valor en NANEAS no puede superar el total de Atenciones. \",\"\")","v":""},null,null,null,null,null,null,null,{"$f":"IF(R201>$B201,1,0)","v":0}]
["Enfermera/o",0,null,null,null,{"$f":"SUM(G202:Q202)","v":0},null,null,null,null,null,null,null,null,null,null,null,null,"",null,null,null,null,null,null,null,null,null,null,null,null,null,null,null,null,null,null,null,null,null,null,null,null,null,null,null,null,null,null,null,null,null,null,null,null,null,null,null,null,null,null,null,null,null,null,null,null,null,null,null,null,null,null,null,null,null,null,null,{"$f":"IF(CI202=1,\"* El valor en NANEAS no puede superar el total de Atenciones. \",\"\")","v":""},null,null,null,null,null,null,null,{"$f":"IF(R202>$B202,1,0)","v":0}]
["Trabajador/a Social",0,null,null,null,0,null,null,null,null,null,null,null,null,null,null,null,null,"",null,null,null,null,null,null,null,null,null,null,null,null,null,null,null,null,null,null,null,null,null,null,null,null,null,null,null,null,null,null,null,null,null,null,null,null,null,null,null,null,null,null,null,null,null,null,null,null,null,null,null,null,null,null,null,null,null,null,null,"",null,null,null,null,null,null,null,0]
["Psicologo/a",0,null,null,null,0,null,null,null,null,null,null,null,null,null,null,null,null,"",null,null,null,null,null,null,null,null,null,null,null,null,null,null,null,null,null,null,null,null,null,null,null,null,null,null,null,null,null,null,null,null,null,null,null,null,null,null,null,null,null,null,null,null,null,null,null,null,null,null,null,null,null,null,null,null,null,null,null,"",null,null,null,null,null,null,null,0]
["Educadora de Parvulos",0,null,null,null,0,null,null,null,null,null,null,null,null,null,null,null,null,"",null,null,null,null,null,null,null,null,null,null,null,null,null,null,null,null,null,null,null,null,null,null,null,null,null,null,null,null,null,null,null,null,null,null,null,null,null,null,null,null,null,null,null,null,null,null,null,null,null,null,null,null,null,null,null,null,null,null,null,"",null,null,null,null,null,null,null,0]
["Nutricionista",0,null,null,null,0,null,null,null,null,null,null,null,null,null,null,null,null,"",null,null,null,null,null,null,null,null,null,null,null,null,null,null,null,null,null,null,null,null,null,null,null,null,null,null,null,null,null,null,null,null,null,null,null,null,null,null,null,null,null,null,null,null,null,null,null,null,null,null,null,null,null,null,null,null,null,null,null,{"$f":"IF(CI206=1,\"* El valor en NANEAS no puede superar el total de Atenciones. \",\"\")","v":""},null,null,null,null,null,null,null,{"$f":"IF(R206>$B206,1,0)","v":0}]
["Otros/a",0,null,null,null,0,null,null,null,null,null,null,null,null,null,null,null,null,"",null,null,null,null,null,null,null,null,null,null,null,null,null,null,null,null,null,null,null,null,null,null,null,null,null,null,null,null,null,null,null,null,null,null,null,null,null,null,null,null,null,null,null,null,null,null,null,null,null,null,null,null,null,null,null,null,null,null,null,"",null,null,null,null,null,null,null,0]
["SECCION O: ATENCIONES REMOTAS EN MODALIDADES DE APOYO AL DESARROLLO INFANTIL (MADIS) EN APS"]
["ACTIVIDAD","Total Acciones","TIPO DE ACCION PARA GENERAR ATENCIONES",null,null,"TOTAL USUARIOS","GRUPOS DE EDAD (en meses - años)"]
[null,null,null,null,null,null,"NÚMERO DE ACCIONES DE ATENCIONES POR RANGOS DE EDAD"]
[null,null,"Telefónico","Video Llamadas","Mensajería",null,"Menor de 7 meses","7-11 MESES","12- 17 MESES","18-23 MESES","24-47 MESES","48-59 MESES"]
["Intervenciones de seguimiento efectivas",{"$f":"SUM(C212:D212)","v":0},null,null,null,{"$f":"SUM(G212:L212)","v":0}]
["Intervenciones de otro tipo",{"$f":"SUM(C213:E213)","v":0},null,null,null,{"$f":"SUM(G213:L213)","v":0}]
["Contacto con familia fallidos",{"$f":"SUM(C214:E214)","v":0},null,null,null,{"$f":"SUM(G214:L214)","v":0}]
["Última sesión Termino de Tratramiento",{"$f":"SUM(C215:D215)","v":0},null,null,null,{"$f":"SUM(G215:L215)","v":0}]
["SECCIÓN P:  EDUCACIÓN GRUPAL REMOTA SEGÚN ÁREAS TEMÁTICAS Y EDAD"]
["ÁREAS TEMÁTICAS DE PROMOCIÓN Y PREVENCIÓN",null,"Total Acciones","TIPO DE ACCION PARA GENERAR ATENCIONES",null,null,null,null,null,null,"MADRE, PADRE O CUIDADOR DE:"]
[null,null,null,"Telefónico","Video llamada grupal","Seminario-Radio","Plataforma Digital","Total Usuarios","Gestantes","Acompañante de gestante","Menores de 12 meses","Niños de 12 a 23 meses","Niños de 2 a 5 años","Niños de 5 a 9 años"]
["HABILIDADES PARENTALES","Nadie es Perfecto Remoto A",{"$f":"SUM(E219+G219)","v":0},null,null,null,null,{"$f":"+K219+L219+M219","v":0}]
[null,"Nadie es Perfecto Remoto B",{"$f":"SUM(D220+E220+G220)","v":0},null,null,null,null,{"$f":"SUM(I220:M220)","v":0}]
[null,"Nadie es Perfecto Seminario",{"$f":"+F221+G221","v":0},null,null,null,null,{"$f":"SUM(I221:M221)","v":0}]
[null,"Nadie es perfecto PASMI",{"$f":"SUM(D222:G222)","v":0},null,null,null,null,{"$f":"+N222","v":0}]
["SECCIÓN Q: DESPACHO DE RECETAS DE SALUD SEXUAL Y REPRODUCTIVA"]
["TIPO DE RECETA","RECETAS DESPACHADAS",null,null,null,"Grupos de edad"]
[null,null,null,null,null,"< 19 años",null,"20 a 64 años",null,"65 y más"]
[null,"Despacho total","Despacho Extraordianrio","En Establecimientos de Salud","En Domicilio","Hombre","Mujer","Hombre","Mujer","Hombre","Mujer"]
[]
["Método de Regulación de fertilidad",327,108,327,0,0,74,0,253,0,0]
["Terapia Hormonal de la menopausia",51,41,51,0,0,0,0,48,0,3]
["Otros",0,0,0,0,0,0,0,0,0,0]
["TOTAL",{"$f":"SUM(B228:B230)","v":378},{"$f":"SUM(C228:C230)","v":149},378,0,0,74,0,301,0,3]
["SECCIÓN R: ACTIVIDADES PROGRAMA ELIGE VIDA SANA POR LLAMADA TELEFÓNICA "]
["ACTIVIDAD","Nº de Mensajes","Nº de Participantes","Madre, Padre o Cuidador de",null,"N° de Participantes de Edad",null,null,null,null,null,null,null,null,null,null,null,null,null,"Gestantes","Post Parto"]
[null,null,null,"Menores de 1 año","Niños 12 a 23 meses","menor de 2 años","2 a 4 años","5 a 9 años","10 a 14 años","15 a 19 años","20-24 años","25 - 29 años","30 - 34 años","35 - 39 años","40 - 44 años","45 - 49 años","50 - 54 años","55 - 59 años","60 - 64 años"]
["Información de actividades físicas enviadas por teléfono",null,{"$f":"SUM(D235:S235)","v":0}]
["Información de Nutrición enviada por teléfono",null,{"$f":"SUM(D236:S236)","v":0}]
["Información por Psicologos enviada por teléfono",null,{"$f":"SUM(D237:S237)","v":0}]
["SECCIÓN S: ACTIVIDADES PROGRAMA ELIGE VIDA SANA POR REDES SOCIALES"]
["TALLER","N° de Archivos Multimedia","Madres, Padre o Cuidador de ",null,"N° de Archivos Multimedia por Edad",null,null,null,null,null,"Gestantes","Post Parto"]
[null,null,"Menores de 1 año","Niños 12 a 23 meses","menor de 2 años","2 a 4 años","5 a 9 años","10 a 14 años","15 a 19 años","20-64 años"]
["Videos de Actividad Física subido a las Redes Sociales",{"$f":"SUM(C241:J241)","v":0}]
["Videos de Vida Sana subido a las Redes Sociales",{"$f":"SUM(C242:J242)","v":0}]
[]
[]
[]
[]
["Datos",{"$f":"SUM(D14:W19,C24:U24,C30:Y44,AA30:AD44,AF30:AK44,C50:U64,F70:AS78,C84:U89,C95:R99,C106:Y108,F113:AQ123,F125:AQ135,F141:AH148,C152:G158,B161:B163,E168:AH170,AG171,C175:D176,F175:G176,C180:S182,E187:AR189,C193:D196,F193:U196,C201:E207,G201:R207,C212:E215,G212:L215,D219:G222,I219:N222,B228:K230,B235:B237,D235:U237,C241:L242)","v":1285}]
["Errores",{"$f":"SUM(CI1:CZ228)","v":0}]

{"sheet":"Contro","index":26,"n_rows":34,"n_cols":24,"rows_kept":34,"cut":false,"hidden":false,"merged":[]}
[null,null,"NUMERO DE ERRORES  SEGÚN:"]
[null,null,"A.- DIFERENCIAS ENTRE TOTAL Y BENEFICIARIO "]
[null,null,"B.- ENTRE TOTAL Y DESGLOSE SEGÚN SEXO"]
[null,null,"C.- ENTRE EVALUACIONES Y RESULTADOS, INGRESOS A PROGRAMAS Y APLICACIÓN DE INSTRUMENTOS, ETC."]
[null,null,{"$f":"CONCATENATE(\"ESTABLECIMIENTO/ESTRATEGIA: \",NOMBRE!$B$3,\" - \",\"( \",NOMBRE!$C$3,NOMBRE!$D$3,NOMBRE!$E$3,NOMBRE!$F$3,NOMBRE!$G$3,NOMBRE!$H$3,NOMBRE!$I$3,\" )\")","v":"ESTABLECIMIENTO/ESTRATEGIA: DR. JOSE JOAQUIN AGUIRRE CAMPOS - ( 108308 )"}]
[null,null,"REM","Nº ERRORES","JUSTIFICAR ERRORES (indicar)","REM\nSIN DATOS","CAUSAL","OTRA CAUSAL (indicar)"]
[null,null,"HOJA NOMBRE",{"$f":"NOMBRE!AG7","v":0},null,null,null,null,null,null,null,null,null,null,null,null,null,null,null,null,null,null,null,"Licencia médica"]
[null,null,"REMA01",{"$f":"'A01'!B193","v":1},null,{"$f":"IF('A01'!A$193>0,\"\",\"SIN DATOS\")","v":""},null,null,null,null,null,null,null,null,null,null,null,null,null,null,null,null,null,"Feriado Legal"]
[null,null,"REMA02",{"$f":"+'A02'!B195","v":0},null,{"$f":"IF('A02'!A$195>0,\"\",\"SIN DATOS\")","v":""},null,null,null,null,null,null,null,null,null,null,null,null,null,null,null,null,null,"No hubo profesional"]
[null,null,"REMA03",{"$f":"+'A03'!B256","v":0},null,{"$f":"IF('A03'!A256>0,\"\",\"SIN DATOS\")","v":""},null,null,null,null,null,null,null,null,null,null,null,null,null,null,null,null,null,"No corresponde REM"]
[null,null,"REMA04",{"$f":"+'A04'!B206","v":0},null,{"$f":"IF('A04'!A206>0,\"\",\"SIN DATOS\")","v":""},null,null,null,null,null,null,null,null,null,null,null,null,null,null,null,null,null,"Otra causa justificada"]
[null,null,"REMA05",{"$f":"+'A05'!B352","v":0},null,{"$f":"IF('A05'!A352>0,\"\",\"SIN DATOS\")","v":""}]
[null,null,"REMA06",{"$f":"+'A06'!B176","v":0},null,{"$f":"IF('A06'!A176>0,\"\",\"SIN DATOS\")","v":""}]
[null,null,"REMA07",{"$f":"+'A07'!B195","v":0},null,{"$f":"IF('A07'!A195>0,\"\",\"SIN DATOS\")","v":""}]
[null,null,"REMA08",{"$f":"'A08'!B200","v":0},null,{"$f":"IF('A08'!A200>0,\"\",\"SIN DATOS\")","v":"SIN DATOS"},"No corresponde REM"]
[null,null,"REMA09",{"$f":"'A09'!B378","v":0},null,{"$f":"IF('A09'!A378>0,\"\",\"SIN DATOS\")","v":""}]
[null,null,"REMA11",{"$f":"'A11'!B308","v":0},null,{"$f":"IF('A11'!A308>0,\"\",\"SIN DATOS\")","v":""}]
[null,null,"REMA11-a",{"$f":"A11a!B101","v":0},null,{"$f":"IF(A11a!A101>0,\"\",\"SIN DATOS\")","v":""}]
[null,null,"REMA19-a",{"$f":"A19a!B194","v":0},null,{"$f":"IF(A19a!A194>0,\"\",\"SIN DATOS\")","v":""}]
[null,null,"REMA19-b",{"$f":"A19b!B195","v":0},null,{"$f":"IF(A19b!A195>0,\"\",\"SIN DATOS\")","v":""}]
[null,null,"REMA21",{"$f":"'A21'!B211","v":0},null,{"$f":"IF('A21'!A211>0,\"\",\"SIN DATOS\")","v":"SIN DATOS"},"No corresponde REM"]
[null,null,"REMA23",{"$f":"'A23'!B202","v":0},null,{"$f":"IF('A23'!A202>0,\"\",\"SIN DATOS\")","v":""}]
[null,null,"REMA24",{"$f":"+'A24'!B202","v":0},null,{"$f":"IF('A24'!A202>0,\"\",\"SIN DATOS\")","v":"SIN DATOS"},"No corresponde REM"]
[null,null,"REMA25",{"$f":"+'A25'!B195","v":0},null,{"$f":"IF('A25'!A195>0,\"\",\"SIN DATOS\")","v":"SIN DATOS"},"No corresponde REM"]
[null,null,"REMA26",{"$f":"+'A26'!B196","v":0},null,{"$f":"IF('A26'!A196>0,\"\",\"SIN DATOS\")","v":""}]
[null,null,"REMA27",{"$f":"+'A27'!B204","v":0},null,{"$f":"IF('A27'!A$204>0,\"\",\"SIN DATOS\")","v":""}]
[null,null,"REMA28",{"$f":"+'A28'!B400","v":0},null,{"$f":"IF('A28'!A400>0,\"\",\"SIN DATOS\")","v":""}]
[null,null,"REMA29",{"$f":"+'A29'!B213","v":0},null,{"$f":"IF('A29'!A$213>0,\"\",\"SIN DATOS\")","v":""}]
[null,null,"REMA30",{"$f":"'A30'!B181","v":0},null,{"$f":"IF('A30'!A181>0,\"\",\"SIN DATOS\")","v":"SIN DATOS"},"No corresponde REM"]
[null,null,"REMA30-AR",null,null,{"$f":"IF(A30AR!A100>0,\"\",\"SIN DATOS\")","v":"SIN DATOS"},"No corresponde REM"]
[null,null,"REMA31",{"$f":"+'A31'!B176","v":0},null,{"$f":"IF('A31'!A$176>0,\"\",\"SIN DATOS\")","v":""}]
[null,null,"REMA32",{"$f":"+'A32'!B248","v":0},null,{"$f":"IF('A32'!B247>0,\"\",\"SIN DATOS\")","v":""}]
[]
[null,null,"TOTAL",{"$f":"SUM(D7:D31)","v":1}]

{"sheet":"MACROS","index":27,"n_rows":10,"n_cols":2,"rows_kept":10,"cut":false,"hidden":false,"merged":[[0,0,0,13],[6,1,7,7]]}
["Hoja de Macros y Utilidades"]
[]
[{"$f":"CONCATENATE(\"ESTABLECIMIENTO/ESTRATEGIA: \",NOMBRE!B3,\" - \",\"( \",NOMBRE!C3,NOMBRE!D3,NOMBRE!E3,NOMBRE!F3,NOMBRE!G3,NOMBRE!H3,\" )\")","v":"ESTABLECIMIENTO/ESTRATEGIA: DR. JOSE JOAQUIN AGUIRRE CAMPOS - ( 108308 )"}]
[]
[null,"CREA UNA COPIA  DEL ARCHIVO  (TRANFORMA HOJAS A VALORES)"]
[]
[null,{"$f":"IF(Contro!D34>0,\"ANTES DE EJECUTAR SUS MACROS REVISE LA HOJA CONTROL, EXISTEN ERRORES\",\"\")","v":"ANTES DE EJECUTAR SUS MACROS REVISE LA HOJA CONTROL, EXISTEN ERRORES"}]
[]
[]
[null,"Contraseña para copia del archivo :DEIS"]