{"text_format":"1","workbook":"xlsx","n_sheets":14,"sheets":["Menu","Percapita","Resumen_Poblacion","Balance_Horas","Configuracion","Infantil","Adolescente","Adulto","Persona_Mayor","E.Transversales","MAISF","TELESALUD","GESTION_FARMACEUTICA","COMGES_2.1"],"not_rendered":{"charts":0,"images":41,"macros":1,"external_links":0,"defined_names":4,"comments":7,"pivot_tables":0},"unopened":[],"bounds":{"document_bytes":16777216,"sheet_cells":100000,"rows_first":2000,"rows_last":500,"rows_between":2000,"halvings":0,"cell_chars":16384,"cell_head_chars":4096},"cells_cut":0,"cells_raw":0,"read":"whole","date_system":"1900"}

{"sheet":"Menu","index":0,"n_rows":2,"n_cols":20,"rows_kept":2,"cut":false,"hidden":false,"merged":[[1,7,3,12],[1,17,1,18],[1,19,1,20]]}
[]
[null,null,null,null,null,null,null,null,null,null,null,null,null,null,null,null,null,"Elaborado por:",null,"Rodolfo Reyes Lucero "]

{"sheet":"Percapita","index":1,"n_rows":14598,"n_cols":14,"rows_kept":4500,"cut":true,"hidden":false,"merged":[[4,13,4,15],[5,13,6,15],[3,0,8,1],[3,2,8,3],[5,6,5,8],[6,6,6,8],[7,6,7,8],[3,5,3,9]],"bounds":{"rows_first":2000,"rows_last":500,"rows_between":2000,"halvings":0}}
[]
[]
[]
[null,null,null,null,null,"POBLACIÓN INSCRITA VALIDADA CORTE: SEPTIEMBRE 2023"]
[null,null,null,null,null,null,null,null,null,null,null,null,null,"Total Población"]
[null,null,null,null,null,"Establecimiento","DEPARTAMENTO DE SALUD MUNICIPAL",null,null,null,null,null,null,{"$f":"COUNTA(Tabla1[NOMBRE COMPLETO])","v":14588}]
[null,null,null,null,null,"Comuna","CALLE LARGA"]
[null,null,null,null,null,"Fecha de Corte","2023-09-30"]
[]
[null,null,null,null,null,"RUN","NOMBRE COMPLETO","FECHA_NACIMIENTO","EDAD AÑOS","EDAD MESES","GENERO","TRAMO","FECHA_CORTE"]
[null,null,null,null,null,"11389743-0","CLAUDIA MARCELA CARVAJAL HERRERA","1969-09-19",54,0,"F","B","2023-09-30"]
[null,null,null,null,null,"13420105-3","VÍCTOR ADRIÁN BENNETT OLIVARES","1978-06-25",45,3,"M","D","2023-09-30"]
[null,null,null,null,null,"18679758-2","GABRIELA ANDREA CARVAJAL SÁNCHEZ","1993-12-15",29,9,"F","B","2023-09-30"]
[null,null,null,null,null,"10079828-K","CRISTIAN EDUARDO HERRERA VICENCIO","1967-12-31",55,8,"M","D","2023-09-30"]
[null,null,null,null,null,"20133413-6","NAYARETH ELAINE SOTO HERRERA","1999-07-11",24,2,"F","C","2023-09-30"]
[null,null,null,null,null,"23893102-9","MARTÍN FACUNDO PONCE CONTADOR","2012-03-10",11,6,"M","B","2023-09-30"]
[null,null,null,null,null,"25848460-6","ISABELLA SOFÍA DÍAZ URTUBIA","2017-07-25",6,2,"F","C","2023-09-30"]
[null,null,null,null,null,"15061868-1","OSVALDO FRANCISCO REYES FIGUEROA","1983-01-20",40,8,"M","D","2023-09-30"]
[null,null,null,null,null,"10877671-4","DELFÍN SEGUNDO LOBOS REYES","1966-04-13",57,5,"M","B","2023-09-30"]
[null,null,null,null,null,"18680562-3","SEBASTIÁN NICOLÁS HENRÍQUEZ RAMOS","1994-07-01",29,2,"M","D","2023-09-30"]
[null,null,null,null,null,"21216418-6","CATALINA ANTONIA CASTRO URBINA","2003-01-11",20,8,"F","B","2023-09-30"]
[null,null,null,null,null,"27793383-7","TOMAS ALFONSO BERNAL FELIU","2022-05-04",1,4,"M","B","2023-09-30"]
[null,null,null,null,null,"16306562-2","ELVIS ALEJANDRO SOTO ARACENA","1986-08-16",37,1,"M","D","2023-09-30"]
[null,null,null,null,null,"23393111-K","JOSEPHA NICOLE PAREDES PALACIOS","2010-08-03",13,1,"F","B","2023-09-30"]
[null,null,null,null,null,"9788466-8","MARCO ANTONIO ORTEGA MUÑOZ","1963-03-28",60,6,"M","C","2023-09-30"]
[null,null,null,null,null,"9698933-4","HUGO DESIDERIO GORMAZ SOTO","1964-09-13",59,0,"M","B","2023-09-30"]
[null,null,null,null,null,"19887679-8","ODALYS BERENICE SANHUEZA POZO","1998-04-26",25,5,"F","B","2023-09-30"]
[null,null,null,null,null,"15555665-K","CHRISTIAN RODRIGO GUTIÉRREZ OYARCE","1983-11-13",39,10,"M","C","2023-09-30"]
[null,null,null,null,null,"13982711-2","MAGDALENA DE LAS NIE GALLARDO GONZÁLEZ","1981-06-01",42,3,"F","C","2023-09-30"]
[null,null,null,null,null,"23946965-5","CAMILA ISABEL JARA MARTÍNEZ","2012-05-11",11,4,"F","C","2023-09-30"]
[null,null,null,null,null,"23099544-3","JOSÉ TOMÁS TRIGO GALDAMES","2009-08-12",14,1,"M","A","2023-09-30"]
[null,null,null,null,null,"15742469-6","RICARDO ALEXIS MONTENEGRO TAPIA","1983-11-08",39,10,"M","X","2023-09-30"]
[null,null,null,null,null,"22054904-6","FRANCISCO IGNACIO HERRERA JORQUERA","2006-02-18",17,7,"M","A","2023-09-30"]
[null,null,null,null,null,"22301444-5","ADINA SOFÍA MAUREIRA QUEZADA","2007-01-01",16,8,"F","A","2023-09-30"]
[null,null,null,null,null,"16026556-6","NATALIE CAROLINA NÚÑEZ RAMÍREZ","1984-12-09",38,9,"F","B","2023-09-30"]
[null,null,null,null,null,"8792655-9","MARÍA TERESA PÁEZ CABALLERO","1971-12-12",51,9,"F","B","2023-09-30"]
[null,null,null,null,null,"12718632-4","LUIS ARNALDO VILLARROEL SALINAS","1975-11-03",47,10,"M","D","2023-09-30"]
[null,null,null,null,null,"21525822-K","FABIAN ANTONIO MENESES GUERRA","2004-03-11",19,6,"M","B","2023-09-30"]
[null,null,null,null,null,"8004513-1","CARMEN CECILIA MORA MORALES","1958-07-18",65,2,"F","D","2023-09-30"]
[null,null,null,null,null,"12950111-1","VIVIANA DEL CARMEN BRIONES LAZCANO","1976-06-05",47,3,"F","D","2023-09-30"]
[null,null,null,null,null,"20753856-6","JEISON PASCUAL GORMAZ GALLARDO","2001-08-17",22,1,"M","B","2023-09-30"]
[null,null,null,null,null,"19887087-0","JAVIERA KARINA GONZÁLEZ LÓPEZ","1997-11-30",25,10,"F","B","2023-09-30"]
[null,null,null,null,null,"27501816-3","LYAH POLETT HERRERA HERNANDEZ","2021-03-30",2,6,"F","A","2023-09-30"]
[null,null,null,null,null,"15156271-K","GONZALO ELÍAS ALFRED CASTILLO QUEZADA","1982-01-29",41,8,"M","D","2023-09-30"]
[null,null,null,null,null,"22090081-9","KAHOMI YARAY HERRERA RÍOS","2006-04-03",17,5,"F","A","2023-09-30"]
[null,null,null,null,null,"20399642-K","CATALINA ALEJANDRA CUBILLOS TORRES","2000-06-29",23,3,"F","B","2023-09-30"]
[null,null,null,null,null,"6512243-K","HÉCTOR HERNÁN DÍAZ MANDIOLA","1952-04-04",71,5,"M","B","2023-09-30"]
[null,null,null,null,null,"8320436-2","GRINELDA DE MERCEDES ROJAS AGUILERA","1958-12-01",64,9,"F","D","2023-09-30"]
[null,null,null,null,null,"26836793-4","ELIÁN ALONSO MUÑOZ CHAPARRO","2019-05-16",4,4,"M","C","2023-09-30"]
[null,null,null,null,null,"17818460-1","VÍCTOR DAVID GALLARDO RODRÍGUEZ","1991-03-23",32,6,"M","B","2023-09-30"]
[null,null,null,null,null,"27411285-9","JULIETTA SABRINA POBLETE SANCHEZ","2020-11-28",2,10,"F","A","2023-09-30"]
[null,null,null,null,null,"9370677-3","MARÍA TERESA ARANCIBIA COLLAO","1963-05-20",60,4,"F","B","2023-09-30"]
[null,null,null,null,null,"12721221-K","JOHANA CATERIN FUENTES OLIVARES","1975-03-09",48,6,"F","D","2023-09-30"]
[null,null,null,null,null,"22922230-9","MARÍA CONSTANZA DEL PILAR LAZCANO PULGAR","2009-01-15",14,8,"F","C","2023-09-30"]
[null,null,null,null,null,"12950714-4","CARMEN GLORIA VALENZUELA MARTÍNEZ","1976-03-28",47,6,"F","C","2023-09-30"]
[null,null,null,null,null,"15352809-8","PABLO ARIEL GALAZ SALAZAR","1982-11-19",40,10,"M","C","2023-09-30"]
[null,null,null,null,null,"24404071-3","MAITHEEMILIA C RCAMO ARRIOLA","2012-09-23",11,0,"F","X","2023-09-30"]
[null,null,null,null,null,"20408864-0","CARLA TERESA CASTRO BASTÍAS","2000-10-18",22,11,"F","C","2023-09-30"]
[null,null,null,null,null,"24982499-2","BENJAMIN ALEJANDRO LAZCANO VENEGAS","2015-05-13",8,4,"M","D","2023-09-30"]
[null,null,null,null,null,"12950213-4","LUIS EDUARDO HERRERA SÁNCHEZ","1976-06-29",47,3,"M","B","2023-09-30"]
[null,null,null,null,null,"18974090-5","KATHERINE ARACELY RAMÍREZ IBACETA","1995-09-07",28,0,"F","B","2023-09-30"]
[null,null,null,null,null,"13870107-7","CRISTIAN RICARDO GUERRA CORTÉS","1980-07-01",43,2,"M","C","2023-09-30"]
[null,null,null,null,null,"27206997-2","DALYA AMELIA ARANDA ARANDA","2020-02-02",3,7,"F","A","2023-09-30"]
[null,null,null,null,null,"10710121-7","MARGARITA DE LAS MERCEDES MORA VILLARROEL","1967-08-11",56,1,"F","C","2023-09-30"]
[null,null,null,null,null,"6166249-9","MARIO EUGENIO SILVA FARÍAS","1949-05-30",74,4,"M","B","2023-09-30"]
[null,null,null,null,null,"19888156-2","SOLEDAD DAMARIS MARTÍNEZ VALENZUELA","1998-08-19",25,1,"F","B","2023-09-30"]
[null,null,null,null,null,"15061770-7","EVELYN ANDREA NAVARRETE GUERRA","1982-12-28",40,9,"F","D","2023-09-30"]
[null,null,null,null,null,"16467505-K","MABEL JOCELYN ROJAS CHÁVEZ","1986-10-21",36,11,"F","B","2023-09-30"]
[null,null,null,null,null,"14418699-0","ISABEL DEL CARMEN PALACIOS PUEYES","1974-01-02",49,8,"F","B","2023-09-30"]
[null,null,null,null,null,"12948517-5","SANDRA LERICZA GONZÁLEZ GONZÁLEZ","1975-12-04",47,9,"F","D","2023-09-30"]
[null,null,null,null,null,"18970682-0","JAVIERA ANDREA VERGARA ARAYA","1996-03-28",27,6,"F","A","2023-09-30"]
[null,null,null,null,null,"23705892-5","JOSSEFA EMILIA ANAHI PÉREZ PÉREZ","2011-07-29",12,2,"F","A","2023-09-30"]
[null,null,null,null,null,"22248738-2","PEDRO MAXIMILIANO ROMERO JIMÉNEZ","2006-10-30",16,11,"M","B","2023-09-30"]
[null,null,null,null,null,"25780756-8","EMILIANO AARON MELO MÉNDEZ","2017-05-22",6,4,"M","D","2023-09-30"]
[null,null,null,null,null,"9394954-4","HERNÁN DEL CARMEN TAPIA ESPINOZA","1962-11-11",60,10,"M","C","2023-09-30"]
[null,null,null,null,null,"19131209-0","ÍTALO KERIM MALDINI ROSALES","1996-02-11",27,7,"M","B","2023-09-30"]
[null,null,null,null,null,"21042609-4","ROMINA JAVIERA GARCÍA COLLAO","2002-06-14",21,3,"F","A","2023-09-30"]
[null,null,null,null,null,"10216099-1","JORGE RAIMUNDO ULLOA ALVARADO","1964-03-27",59,6,"M","C","2023-09-30"]
[null,null,null,null,null,"9552553-9","ALDO LEOPOLDO AVALLAI ESPINOZA","1965-08-01",58,1,"M","D","2023-09-30"]
[null,null,null,null,null,"8496510-3","CARLOS RAÚL VILLARROEL ROJAS","1962-10-27",60,11,"M","B","2023-09-30"]
[null,null,null,null,null,"9085757-6","HAYDÉE DEL CARMEN PORRAS SALINAS","1963-02-19",60,7,"F","D","2023-09-30"]
[null,null,null,null,null,"17692527-2","VÍCTOR HERNÁN ARAVENA LEAL","1991-04-23",32,5,"M","B","2023-09-30"]
[null,null,null,null,null,"7646531-2","LEONARDO ISAÍAS ONEL HUERTA","1956-12-06",66,9,"M","B","2023-09-30"]
[null,null,null,null,null,"4003278-9","HUGO DEL TRÁNSITO PUELLES JOPIA","1940-08-10",83,1,"M","C","2023-09-30"]
[null,null,null,null,null,"9171379-9","FABIOLA DEL TRÁNSITO SAAVEDRA SAAVEDRA","1964-07-08",59,2,"F","B","2023-09-30"]
[null,null,null,null,null,"24004560-5","ROSARIO IGNACIA DIAZ CELIS","2012-07-09",11,2,"F","X","2023-09-30"]
[null,null,null,null,null,"19887859-6","YANIRA STEFANY VALDÉS AHUMADA","1998-05-31",25,3,"F","B","2023-09-30"]
[null,null,null,null,null,"23418552-7","ANTONELLA BELÉN CORNEJO MÁRQUEZ","2010-09-07",13,0,"F","A","2023-09-30"]
[null,null,null,null,null,"17606101-4","CRISTIAN ARMANDO MAUNA SILVA","1981-05-11",42,4,"M","D","2023-09-30"]
[null,null,null,null,null,"25387196-2","ESTEBAN LEÓN GONZÁLEZ ASTUDILLO","2016-05-25",7,4,"M","B","2023-09-30"]
[null,null,null,null,null,"5356905-6","EVA DEL CARMEN BERRÍOS CARVACHO","1952-08-21",71,1,"F","B","2023-09-30"]
[null,null,null,null,null,"41119760-3","LUIS RAMON TORRES YBAÑEZ","1983-10-04",39,11,"M","C","2023-09-30"]
[null,null,null,null,null,"25327876-5","DASTAN EMILIANO REYES DELGADO","2016-03-20",7,6,"M","C","2023-09-30"]
[null,null,null,null,null,"26937758-5","RENATTA SOFIA QUIROZ CARRASCO","2019-07-24",4,2,"F","B","2023-09-30"]
[null,null,null,null,null,"16551326-6","JONATHAN ANDRÉS PÉREZ JIMÉNEZ","1987-10-04",35,11,"M","D","2023-09-30"]
[null,null,null,null,null,"23899773-9","DILAN ANTONIO IGNACI IBACETA PÉREZ","2012-03-14",11,6,"M","B","2023-09-30"]
[null,null,null,null,null,"17850084-8","KATHERINE ABIGAIL FIGUEROA MANZO","1991-04-23",32,5,"F","D","2023-09-30"]
[null,null,null,null,null,"10030085-0","YEICE DEL CARMEN MUÑOZ SEPÚLVEDA","1967-09-30",56,0,"F","C","2023-09-30"]
[null,null,null,null,null,"25475024-7","TRINIDAD ANTONIA COVARRUBIAS REYES","2016-08-11",7,1,"F","D","2023-09-30"]
[null,null,null,null,null,"10743801-7","NUBIA INÉS CASTILLO POBLETE","1970-03-17",53,6,"F","C","2023-09-30"]
[null,null,null,null,null,"20984151-7","CELINA SUSANA ARGENT ALDANA CORTÉS","2001-12-11",21,9,"F","A","2023-09-30"]
[null,null,null,null,null,"4212406-0","LAURA DEL ROSARIO ROJAS PIZARRO","1943-10-04",79,11,"F","D","2023-09-30"]
[null,null,null,null,null,"19887179-6","VALENTINA ESPERANZA AVALLAI ZAMORA","1997-12-22",25,9,"F","B","2023-09-30"]
[null,null,null,null,null,"25905653-5","ÁNGEL ALONSO ORTIZ IBACETA","2017-08-26",6,1,"M","A","2023-09-30"]
[null,null,null,null,null,"22676045-8","ALISSON BELÉN BARAHONA GONZÁLEZ","2008-03-04",15,6,"F","C","2023-09-30"]
[null,null,null,null,null,"19268135-9","ERIK ANDRÉS GUERRA BERGEL","1996-04-12",27,5,"M","D","2023-09-30"]
[null,null,null,null,null,"22024020-7","LLAHYN SACHEN AGUILAR SEPÚLVEDA","2006-01-12",17,8,"F","A","2023-09-30"]
[null,null,null,null,null,"6777064-1","GLADIS DEL CARMEN LILLO ROCO","1948-11-29",74,10,"F","B","2023-09-30"]
[null,null,null,null,null,"12579397-5","SANDRA MARGARITA SEGOVIA COCIO","1970-08-27",53,1,"F","A","2023-09-30"]
[null,null,null,null,null,"22187190-1","RAFAEL ANGEL GALDAMES IBACETA","2006-08-10",17,1,"M","A","2023-09-30"]
[null,null,null,null,null,"15819130-K","MIGUEL ANGEL FUENTES TAPIA","1984-10-31",38,10,"M","C","2023-09-30"]
[null,null,null,null,null,"49986716-6","YHOMILY JESUS CRUZ REYES","2010-03-11",13,6,"M","X","2023-09-30"]
[null,null,null,null,null,"26836028-K","AIDAN GABRIEL AYALA SÁNCHEZ","2019-05-16",4,4,"M","A","2023-09-30"]
[null,null,null,null,null,"13538945-5","CYNTHIA GISELLA CORTÉS SILVA","1979-01-05",44,8,"F","B","2023-09-30"]
[null,null,null,null,null,"22389363-5","ESTEFANÍA ELENA SÁNCHEZ SÁNCHEZ","2007-05-04",16,4,"F","A","2023-09-30"]
[null,null,null,null,null,"26326170-4","NAOMI PASCAL QUIROZ AYALA","2018-06-17",5,3,"F","A","2023-09-30"]
[null,null,null,null,null,"20754332-2","IGNACIO ANDRÉS ARCOS MUÑOZ","2001-12-16",21,9,"M","D","2023-09-30"]
[null,null,null,null,null,"26902460-7","CATALINA ANTONIA AYALA LUCERO","2019-06-30",4,3,"F","D","2023-09-30"]
[null,null,null,null,null,"24736326-2","HÉCTOR EMILIO BAEZ ASTARGO","2014-09-08",9,0,"M","B","2023-09-30"]
[null,null,null,null,null,"4451725-6","EVA DEL TRÁNSITO FERRER MOYA","1942-03-13",81,6,"F","B","2023-09-30"]
[null,null,null,null,null,"17163724-4","HÉCTOR EUGENIO OSORIO GUTIÉRREZ","1988-12-18",34,9,"M","D","2023-09-30"]
[null,null,null,null,null,"9916019-5","GLADYS ANGELINE OLIVARES CAMPILLAY","1964-07-18",59,2,"F","B","2023-09-30"]
[null,null,null,null,null,"5306522-8","ALFREDO DEL TRÁNSITO PEREIRA ROCO","1945-08-15",78,1,"M","B","2023-09-30"]
[null,null,null,null,null,"10083366-2","MAURICIO ARIEL ROJAS IBACETA","1968-01-02",55,8,"M","B","2023-09-30"]
[null,null,null,null,null,"19888417-0","CLAUDIA FERNANDA LUCERO SANCHEZ","1998-10-08",24,11,"F","A","2023-09-30"]
[null,null,null,null,null,"8073110-8","PEDRO ANTONIO SILVA CRUZ","1957-05-15",66,4,"M","C","2023-09-30"]
[null,null,null,null,null,"17164412-7","CAMILA FERNANDA ONEL VIGUERA","1989-05-16",34,4,"F","C","2023-09-30"]
[null,null,null,null,null,"22881443-1","CRISTIAN MAXIMILIANO BARRERA VARAS","2008-11-21",14,10,"M","D","2023-09-30"]
[null,null,null,null,null,"25138726-5","SOFIA JOSEFA GUERRERO GUZMAN","2015-10-30",7,11,"F","C","2023-09-30"]
[null,null,null,null,null,"18385462-3","BÁRBARA PAMELA ALFARO URTUBIA","1993-05-03",30,4,"F","B","2023-09-30"]
[null,null,null,null,null,"6706908-0","MARTA VERÓNICA CÁDIZ ARAYA","1954-12-11",68,9,"F","A","2023-09-30"]
[null,null,null,null,null,"9676086-8","VICENTE DEL CARMEN ABARCA SAPIAIN","1966-10-06",56,11,"M","C","2023-09-30"]
[null,null,null,null,null,"7247329-9","JUAN CARLOS MONTENEGRO VILLARROEL","1953-11-23",69,10,"M","B","2023-09-30"]
[null,null,null,null,null,"7102033-9","TERESA DEL CARMEN SILVA NIEMEYER","1955-04-26",68,5,"F","B","2023-09-30"]
[null,null,null,null,null,"5097253-4","RAMÓN JESÚS ABARCA SALINAS","1943-08-19",80,1,"M","B","2023-09-30"]
[null,null,null,null,null,"6729186-7","NORA ELENA MUÑOZ RETAMAL","1953-01-07",70,8,"F","B","2023-09-30"]
[null,null,null,null,null,"24701052-1","JULIA MARÍA MEDINA ALIAGA","2014-07-31",9,1,"F","A","2023-09-30"]
[null,null,null,null,null,"18552165-6","GONZALO VICENTE SEREY FARFÁN","1993-04-29",30,5,"M","A","2023-09-30"]
[null,null,null,null,null,"10584833-1","HÉCTOR PATRICIO SILVA NILO","1967-02-21",56,7,"M","C","2023-09-30"]
[null,null,null,null,null,"12950011-5","YASMÍN ADRIANA HERRERA HERRERA","1976-04-27",47,5,"F","B","2023-09-30"]
[null,null,null,null,null,"7527464-5","FRANCISCO OMAR VILLARROEL CELEDÓN","1956-12-28",66,9,"M","B","2023-09-30"]
[null,null,null,null,null,"16550183-7","NICOLLETT YAMIBE PÁEZ AVALLAI","1986-12-15",36,9,"F","B","2023-09-30"]
[null,null,null,null,null,"19411935-6","JUAN GABRIEL NÚÑEZ MEZA","1996-09-23",27,0,"M","D","2023-09-30"]
[null,null,null,null,null,"16550158-6","LEONIDAS ALBERTO OLGUÍN COSSIO","1986-12-13",36,9,"M","D","2023-09-30"]
[null,null,null,null,null,"13185467-6","PILAR ALEJANDRA OSORIO GALDÁMEZ","1977-06-02",46,3,"F","D","2023-09-30"]
[null,null,null,null,null,"5218963-2","ESPERANZA DE LAS MER CAMPOS CARVAJAL","1938-05-12",85,4,"F","B","2023-09-30"]
[null,null,null,null,null,"13363104-6","TERESA ANGÉLICA LÓPEZ DÍAZ","1978-09-19",45,0,"F","C","2023-09-30"]
[null,null,null,null,null,"5552998-1","RURI GABRIEL PULGAR CAMUS","1946-08-10",77,1,"M","C","2023-09-30"]
[null,null,null,null,null,"16324315-6","CAROLINA ANTONIA AROS MADARIAGA","1986-03-14",37,6,"F","C","2023-09-30"]
[null,null,null,null,null,"16852783-7","VERÓNICA TERESA GONZÁLEZ GALDÁMEZ","1988-10-26",34,11,"F","B","2023-09-30"]
[null,null,null,null,null,"24324395-5","MARIANA ALICIA ESPINOZA FLORES","2013-07-03",10,2,"F","D","2023-09-30"]
[null,null,null,null,null,"19268595-8","ISABEL IGNACIA CAMILO AVALLAI","1996-08-11",27,1,"F","B","2023-09-30"]
[null,null,null,null,null,"21606957-9","MARÍA FERNANDA TRIVIK HERRERA","2004-05-01",19,4,"F","B","2023-09-30"]
[null,null,null,null,null,"9751912-9","ANDREA PAZ ORTIZ CORTÉS","1974-07-19",49,2,"F","D","2023-09-30"]
[null,null,null,null,null,"26404583-5","MOHAMMED OGENAOGIE ALASA  ","1993-11-27",29,10,"M","D","2023-09-30"]
[null,null,null,null,null,"13982637-K","ANDREA YOLANDA REINOSO CASTRO","1980-09-28",43,0,"F","D","2023-09-30"]
[null,null,null,null,null,"12770351-5","CRISTIAN ANTONIO ZEPEDA PÉREZ","1974-12-28",48,9,"M","B","2023-09-30"]
[null,null,null,null,null,"6421560-4","MIGUEL ORLANDO GALLARDO GUTIÉRREZ","1949-08-23",74,1,"M","B","2023-09-30"]
[null,null,null,null,null,"9591638-4","ERMELINDA DEL CARMEN ROMERO GONZÁLEZ","1961-09-02",62,0,"F","A","2023-09-30"]
[null,null,null,null,null,"13938836-4","MARIO ALBERTO CALQUÍN ITURRA","1980-04-16",43,5,"M","D","2023-09-30"]
[null,null,null,null,null,"23305664-2","ESTEBAN MANUEL ARANCIBIA ALCAYAGA","2010-04-23",13,5,"M","A","2023-09-30"]
[null,null,null,null,null,"18973577-4","ANGIEL DE JESÚS GORMAZ SÁNCHEZ","1995-05-04",28,4,"F","B","2023-09-30"]
[null,null,null,null,null,"11194346-K","GUILLERMINA ETELVINA IBACETA CALDERÓN","1967-09-02",56,0,"F","A","2023-09-30"]
[null,null,null,null,null,"10005775-1","JUAN CARLOS CONTRERAS FARÍAS","1964-08-23",59,1,"M","B","2023-09-30"]
[null,null,null,null,null,"19581992-0","CRISTIAN MATÍAS SEPÚLVEDA TORO","1997-05-08",26,4,"M","B","2023-09-30"]
[null,null,null,null,null,"11731164-3","VERÓNICA SABINA TAPIA LEAL","1971-07-06",52,2,"F","B","2023-09-30"]
[null,null,null,null,null,"21888059-2","ANTONIA SINAI PORRAS VARAS","2005-07-15",18,2,"F","A","2023-09-30"]
[null,null,null,null,null,"5062580-K","BILDO DE JESÚS AGUILERA CORTÉS","1942-06-15",81,3,"M","B","2023-09-30"]
[null,null,null,null,null,"11194197-1","VÍCTOR MANUEL HERRERA ZAMORA","1967-02-26",56,7,"M","B","2023-09-30"]
[null,null,null,null,null,"24719071-6","MÁXIMO VICENTE LILLO GARCÍA","2014-08-17",9,1,"M","X","2023-09-30"]
[null,null,null,null,null,"10222895-2","GENARO LUIS GALLARDO MOLINA","1967-06-12",56,3,"M","D","2023-09-30"]
[null,null,null,null,null,"20753890-6","DENISE CAMILA JELDES JIMÉNEZ","2001-08-26",22,1,"F","C","2023-09-30"]
[null,null,null,null,null,"25033415-K","TABATA LUCY KATALINA BRICEÑO CARRASCO","2015-07-05",8,2,"F","A","2023-09-30"]
[null,null,null,null,null,"24807824-3","MATEO GABRIEL BARAHONA VIDELA","2014-11-24",8,10,"M","B","2023-09-30"]
[null,null,null,null,null,"4036249-5","HUGO ALEJANDRO ESTRELLA ALFARO","1943-03-17",80,6,"M","B","2023-09-30"]
[null,null,null,null,null,"12129412-5","MARÍA TERESA SOTO HERRERA","1968-06-27",55,3,"F","A","2023-09-30"]
[null,null,null,null,null,"21267122-3","CONSTANZA FERNANDA ZUÑIGA HENRIQUEZ","2003-03-22",20,6,"F","B","2023-09-30"]
[null,null,null,null,null,"18979884-9","YONATHAN ISMAEL LLAUQUÉN CID","1992-12-08",30,9,"M","X","2023-09-30"]
[null,null,null,null,null,"25200955-8","GUSTAVO ALONSO BUSTOS URBINA","2015-11-21",7,10,"M","C","2023-09-30"]
[null,null,null,null,null,"23893547-4","DYLAN GABRIEL BALMACEDA TAPIA","2012-03-08",11,6,"M","B","2023-09-30"]
[null,null,null,null,null,"18385220-5","BIANCA SOLEDAD GÓMEZ ARAVENA","1993-02-04",30,7,"F","D","2023-09-30"]
[null,null,null,null,null,"13444685-4","CLAUDIA ANDREA LUCERO MEZA","1978-03-30",45,6,"F","B","2023-09-30"]
[null,null,null,null,null,"18628679-0","PATRICIO ROGELIO WLADIMIR GUZMÁN OROSCO","1994-04-12",29,5,"M","D","2023-09-30"]
[null,null,null,null,null,"21736901-0","MARÍA CAMILA PANGUE TORRES","2004-12-05",18,9,"F","C","2023-09-30"]
[null,null,null,null,null,"27540481-0","SERGEANT ENOCH ALTAIR STEERS BARROS","2021-05-19",2,4,"M","B","2023-09-30"]
[null,null,null,null,null,"18385996-K","NICOL DEL PILAR ROSENDE BARRERA","1993-08-27",30,1,"F","D","2023-09-30"]
[null,null,null,null,null,"7994126-3","ZOILA VIGARI GUERRERO MUÑOZ","1956-03-17",67,6,"F","C","2023-09-30"]
[null,null,null,null,null,"9551571-1","OLGA ROSA DUBO SIBULCA","1962-03-09",61,6,"F","D","2023-09-30"]
[null,null,null,null,null,"13827804-2","VÍCTOR MIGUEL OLGUÍN CAMPOS","1980-10-01",42,11,"M","D","2023-09-30"]
[null,null,null,null,null,"28217944-K","LIA DANIELA BARRA CASTRO","2023-08-09",0,1,"F","A","2023-09-30"]
[null,null,null,null,null,"18450639-4","CÉSAR ANTONIO LEÓN ALBORNOZ","1993-12-22",29,9,"M","D","2023-09-30"]
[null,null,null,null,null,"10080920-6","TERESA DE JESÚS VILLARROEL LEIVA","1965-10-04",57,11,"F","D","2023-09-30"]
[null,null,null,null,null,"7650385-0","MARÍA EUGENIA HERRERA MONTANO","1959-01-07",64,8,"F","B","2023-09-30"]
[null,null,null,null,null,"8836606-9","LEONOR INÉS MURA CARVAJAL","1959-02-25",64,7,"F","C","2023-09-30"]
[null,null,null,null,null,"22817868-3","KATHALINA IGNACIA QUIJANES MENDOZA","2008-09-11",15,0,"F","D","2023-09-30"]
[null,null,null,null,null,"6260482-4","PEDRO JUAN MORA CARVAJAL","1948-05-14",75,4,"M","B","2023-09-30"]
[null,null,null,null,null,"27598807-3","ALINA JULIETT VALERIA SEGOVIA URBINA","2021-08-13",2,1,"F","A","2023-09-30"]
[null,null,null,null,null,"17972465-0","CAMILA ESTEFANÍA NAVARRO ANTRIS","1991-12-12",31,9,"F","C","2023-09-30"]
[null,null,null,null,null,"23116811-7","LUZ ESPERANZA ÁVILA FIGUEROA","2009-09-05",14,0,"F","A","2023-09-30"]
[null,null,null,null,null,"7246926-7","GLADYS DE LAS MERCED MORA CARVAJAL","1956-09-12",67,0,"F","C","2023-09-30"]
[null,null,null,null,null,"21960078-K","JOAQUIN VICENTE TRIVIÑO COLLAO","2005-10-21",17,11,"M","B","2023-09-30"]
[null,null,null,null,null,"20133720-8","MOISÉS ALEJANDRO ABARCA ARANCIBIA","1999-09-29",24,0,"M","B","2023-09-30"]
[null,null,null,null,null,"8517269-7","ZILPA AURORA AYALA MARCHANT","1955-09-23",68,0,"F","C","2023-09-30"]
[null,null,null,null,null,"22076872-4","VALERIA ANTONIA GONZALEZ PUEYES","2006-03-17",17,6,"F","D","2023-09-30"]
[null,null,null,null,null,"18973750-5","MACARENA SUSANA VÁSQUEZ VÁSQUEZ","1995-06-18",28,3,"F","B","2023-09-30"]
[null,null,null,null,null,"18972709-7","ROMINA ALEJANDRA CRUZ MAZURETT","1994-10-04",28,11,"F","C","2023-09-30"]
[null,null,null,null,null,"16702272-3","MARCELA DEL CARMEN PORRAS LILLO","1987-11-14",35,10,"F","B","2023-09-30"]
[null,null,null,null,null,"25863578-7","FELIPE SEBASTIÁN GONZÁLEZ HERRERA","2017-08-07",6,1,"M","A","2023-09-30"]
[null,null,null,null,null,"17069062-1","JUAN CARLOS GARAY GARAY","1987-09-07",36,0,"M","D","2023-09-30"]
[null,null,null,null,null,"16305568-6","KATERINE DEL ROSARIO CONTADOR MACAYA","1985-12-15",37,9,"F","B","2023-09-30"]
[null,null,null,null,null,"27463030-2","ALISON ELENA MUÑOZ ARANCIBIA","2021-02-04",2,7,"F","D","2023-09-30"]
[null,null,null,null,null,"41171801-8","GEIDER SAHIR OCHOA GARCIA","2021-09-04",2,0,"M","A","2023-09-30"]
[null,null,null,null,null,"9316169-6","SILVANO MANUEL ARAYA RODRÍGUEZ","1963-02-01",60,7,"M","D","2023-09-30"]
[null,null,null,null,null,"25394972-4","CRISTIAN  NICOLAS DOMINGUEZ MENDOZA","1991-05-22",32,4,"M","D","2023-09-30"]
[null,null,null,null,null,"25872828-9","BENJAMÍN JEREMÍAS COFRÉ MAMANI","2017-08-15",6,1,"M","A","2023-09-30"]
[null,null,null,null,null,"7094383-2","CARLOS JULIO QUIROZ CASTILLO","1955-01-18",68,8,"M","C","2023-09-30"]
[null,null,null,null,null,"22846395-7","PEDRO LEÓN PRIETO TAPIA","2008-10-14",14,11,"M","A","2023-09-30"]
[null,null,null,null,null,"5701895-K","ELBA DEL CARMEN MELIHUECHUN LEUTÚN","1943-08-30",80,1,"F","B","2023-09-30"]
[null,null,null,null,null,"22403476-8","ANGEL ALEJANDRO CASTRO BARRIENTOS","2007-05-22",16,4,"M","A","2023-09-30"]
[null,null,null,null,null,"19267459-K","ASHLY MARCELA RAMÍREZ CABEZAS","1995-08-07",28,1,"F","B","2023-09-30"]
[null,null,null,null,null,"13614428-6","NANCY DEL CARMEN AGUILERA PARDO","1979-09-23",44,0,"F","A","2023-09-30"]
[null,null,null,null,null,"23343638-0","RODRIGO OCTAVIO SAYES AHUMADA","2010-06-03",13,3,"M","A","2023-09-30"]
[null,null,null,null,null,"3477931-7","ALICIA DEL CARMEN FIGUEROA AVENDAÑO","1934-10-13",88,11,"F","B","2023-09-30"]
[null,null,null,null,null,"8602545-0","LEONARDO HUGO CARVACHO PORRAS","1958-07-01",65,2,"M","A","2023-09-30"]
[null,null,null,null,null,"15742436-K","ERWIN ALEJANDRO SUÁREZ CORTEZ","1983-12-13",39,9,"M","C","2023-09-30"]
[null,null,null,null,null,"24141272-5","MIGUEL ANGEL CAMUS MENESES","2012-12-13",10,9,"M","D","2023-09-30"]
[null,null,null,null,null,"9312925-3","PAULO FRANCISCO GUZMÁN LAZCANO","1964-06-29",59,3,"M","D","2023-09-30"]
[null,null,null,null,null,"26115188-K","GISELLE PASCAL QUEZADA ARRIAGADA","2018-02-07",5,7,"F","A","2023-09-30"]
[null,null,null,null,null,"24054644-2","RENATO MATIAN MOYANO VEGA","2012-09-04",11,0,"M","B","2023-09-30"]
[null,null,null,null,null,"12350796-7","INGRID FABIOLA GORMAZ GAETE","1972-12-20",50,9,"F","D","2023-09-30"]
[null,null,null,null,null,"23370747-3","TOMÁS ALONSO LOBOS OSSES","2010-07-06",13,2,"M","B","2023-09-30"]
[null,null,null,null,null,"21572770-K","LUISA BELÉN SANTOS SALAZAR","2004-05-06",19,4,"F","B","2023-09-30"]
[null,null,null,null,null,"19888515-0","GIOVANNY IGNACIO URTUBIA CAMPOS","1998-11-06",24,10,"M","B","2023-09-30"]
[null,null,null,null,null,"25759680-K","AYLÉN ANTONELLA MANQUEL SIERRA","2017-05-10",6,4,"F","D","2023-09-30"]
[null,null,null,null,null,"18114104-2","LUIS GABRIEL ITURBURUA VALENZUELA","1992-08-15",31,1,"M","X","2023-09-30"]
[null,null,null,null,null,"15819183-0","LUCY DE LAS NIEVES PINTO MORA","1984-08-16",39,1,"F","C","2023-09-30"]
[null,null,null,null,null,"5185385-7","MARGARITA DEL CARMEN SAAVEDRA QUINTEROS","1942-08-12",81,1,"F","C","2023-09-30"]
[null,null,null,null,null,"22445137-7","SOFIA VICTORIA DEL C GALLARDO MARAMBIO","2007-07-10",16,2,"F","A","2023-09-30"]
[null,null,null,null,null,"7667976-2","JAIME ANTONIO LOBOS LÓPEZ","1961-01-02",62,8,"M","B","2023-09-30"]
[null,null,null,null,null,"26445865-K","HELIANNYS YUSNAIBER OLIVARES OLIVARES","1991-04-20",32,5,"F","A","2023-09-30"]
[null,null,null,null,null,"15092732-3","CAROLINA ARSENIA MARTÍNEZ MESÍAS","1983-06-14",40,3,"F","C","2023-09-30"]
[null,null,null,null,null,"18972983-9","CRISTIAN ANDRÉS SILVA SILVA","1994-12-14",28,9,"M","D","2023-09-30"]
[null,null,null,null,null,"28215690-3","GASPAR NICOLAS TORREJON BRIONES","2023-08-10",0,1,"M","C","2023-09-30"]
[null,null,null,null,null,"5289589-8","TERESA OLEGARIA VIGUERA MARTÍNEZ","1938-07-03",85,2,"F","B","2023-09-30"]
[null,null,null,null,null,"13539552-8","LUIS WILLIAMS GUERRA URZÚA","1979-10-13",43,11,"M","B","2023-09-30"]
[null,null,null,null,null,"23427292-6","MATÍAS IGNACIO QUIÑINAO SALINAS","2010-09-18",13,0,"M","B","2023-09-30"]
[null,null,null,null,null,"12025854-0","MARÍA JOSÉ SEGURA FIGUEROA","1981-10-15",41,11,"F","B","2023-09-30"]
[null,null,null,null,null,"6633468-6","CRUZ DEL CARMEN OLGUÍN SALINAS","1951-08-17",72,1,"F","B","2023-09-30"]
[null,null,null,null,null,"13185478-1","MARCELO ALEJANDRO CASTILLO CASTILLO","1977-05-29",46,4,"M","C","2023-09-30"]
[null,null,null,null,null,"8327972-9","LILIANA TAPIA CALDERÓN","1960-05-10",63,4,"F","B","2023-09-30"]
[null,null,null,null,null,"27303736-5","KAYN EMILIANO VILLEGAS SEPULVEDA","2020-06-20",3,3,"M","B","2023-09-30"]
[null,null,null,null,null,"22541244-8","VICENTE TOMÁS PONCE MORALES","2007-10-29",15,11,"M","D","2023-09-30"]
[null,null,null,null,null,"8725793-2","ANA MARÍA PONCE VILLEGAS","1963-08-04",60,1,"F","A","2023-09-30"]
[null,null,null,null,null,"23676937-2","OSCAR ALEJANDRO CORTES CORTÉS","2011-06-22",12,3,"M","A","2023-09-30"]
[null,null,null,null,null,"15678404-4","VÍCTOR MANUEL BRAVO LINARES","1983-08-11",40,1,"M","B","2023-09-30"]
[null,null,null,null,null,"12579287-1","ADRIANA DEL CARMEN SEGOVIA COCIO","1974-11-20",48,10,"F","B","2023-09-30"]
[null,null,null,null,null,"25952721-K","ZAYRA MELEK CRUZ SALAS","2017-10-17",5,11,"F","A","2023-09-30"]
[null,null,null,null,null,"23481140-1","BENJAMÍN NICOLÁS VARGAS SALAS","2010-11-15",12,10,"M","D","2023-09-30"]
[null,null,null,null,null,"20133229-K","LUIS FELIPE SÁNCHEZ DE LA HOZ","1999-05-29",24,4,"M","C","2023-09-30"]
[null,null,null,null,null,"15061762-6","JAVIER ALEJANDRO ALFARO VARAS","1982-12-23",40,9,"M","C","2023-09-30"]
[null,null,null,null,null,"13331005-3","CAROLINA DEL PILAR TORO AHUMADA","1978-08-01",45,1,"F","D","2023-09-30"]
[null,null,null,null,null,"8326519-1","JOSÉ RUMILDO OSORIO GORMAZ","1961-05-22",62,4,"M","D","2023-09-30"]
[null,null,null,null,null,"9131777-K","MANUEL ANTONIO MALLEA ESPINOSA","1963-06-13",60,3,"M","D","2023-09-30"]
[null,null,null,null,null,"12050914-4","ANA VALERIA MIRANDA SÁNCHEZ","1976-09-19",47,0,"F","B","2023-09-30"]
[null,null,null,null,null,"6583687-4","MARÍA FLAMINIA TRAILLANCA RUPAYÁN","1947-09-08",76,0,"F","B","2023-09-30"]
[null,null,null,null,null,"21557015-0","YULIANA ANAÍS OSORIO MÉNDEZ","2004-04-19",19,5,"F","B","2023-09-30"]
[null,null,null,null,null,"15060223-8","SONY CRISTHOFER HERRERA MUÑOZ","1988-06-04",35,3,"M","B","2023-09-30"]
[null,null,null,null,null,"10571444-0","ROSA DE LAS NIEVES MANDIOLA VÉLIZ","1967-05-28",56,4,"F","B","2023-09-30"]
[null,null,null,null,null,"16333926-9","MARCELO LEANDRO FUENTES GARAY","1986-08-24",37,1,"M","C","2023-09-30"]
[null,null,null,null,null,"25812129-5","AGUSTINA BELÉN AVENDAÑO PANTOJA","2017-06-24",6,3,"F","D","2023-09-30"]
[null,null,null,null,null,"11944991-K","EUGENIO DEL ROSARIO GUERRA ARAYA","1972-03-23",51,6,"M","B","2023-09-30"]
[null,null,null,null,null,"11313298-1","ERIKA GEMA ZAMORA PALAVECINO","1968-06-04",55,3,"F","C","2023-09-30"]
[null,null,null,null,null,"6998907-1","JUAN BENJAMÍN GALLARDO JIMÉNEZ","1952-09-25",71,0,"M","B","2023-09-30"]
[null,null,null,null,null,"10585960-0","LEONARDO ORLANDO AGUIRRE URTUBIA","1973-05-17",50,4,"M","B","2023-09-30"]
[null,null,null,null,null,"5027662-7","JORGE FRANCISCO SALAS OSORIO","1945-08-07",78,1,"M","B","2023-09-30"]
[null,null,null,null,null,"11313529-8","CARMEN ROSA HUERTA SALINAS","1968-09-27",55,0,"F","D","2023-09-30"]
[null,null,null,null,null,"24681250-0","SEBASTIÁN ANTONIO BURGOS ALARCÓN","2014-07-11",9,2,"M","D","2023-09-30"]
[null,null,null,null,null,"18002518-9","NATALIA BEATRIZ CRUZ PALACIOS","1991-12-20",31,9,"F","D","2023-09-30"]
[null,null,null,null,null,"25005788-1","JUAN CRISTÓBAL SALINAS PEREIRA","2015-06-05",8,3,"M","B","2023-09-30"]
[null,null,null,null,null,"13185580-K","PATRICIO EUGENIO AYALA RÍOS","1977-06-01",46,3,"M","D","2023-09-30"]
[null,null,null,null,null,"10418071-K","KEYLA PRISCILLA DE LOURDES ALFARO MURA","1978-01-16",45,8,"F","C","2023-09-30"]
[null,null,null,null,null,"8522029-2","MANUEL BERNARDO RODRÍGUEZ CABEZAS","1960-02-05",63,7,"M","B","2023-09-30"]
[null,null,null,null,null,"8041091-3","LUIS ALBERTO VICTORIANO RODRÍGUEZ","1959-04-06",64,5,"M","D","2023-09-30"]
[null,null,null,null,null,"21150163-4","JAVIERA ANDREA CASTRO MIRANDA","2002-10-09",20,11,"F","B","2023-09-30"]
[null,null,null,null,null,"8449666-9","IVÁN FERNANDO GONZÁLEZ VEGA","1959-10-24",63,11,"M","C","2023-09-30"]
[null,null,null,null,null,"27822208-K","CATALINA VICTORIA MORENO VERA","2022-06-14",1,3,"F","B","2023-09-30"]
[null,null,null,null,null,"8397858-9","GRACIELA DE LAS MERC JARA VÉLIZ","1961-06-24",62,3,"F","B","2023-09-30"]
[null,null,null,null,null,"16851197-3","MARY ANN SOTO JIMÉNEZ","1987-11-24",35,10,"F","C","2023-09-30"]
[null,null,null,null,null,"18679692-6","HIARA-FRANCESCA NAVARRO OROZCO","1993-11-29",29,10,"F","C","2023-09-30"]
[null,null,null,null,null,"25006784-4","AMELIA ALICIA ISABELLA CORTES LEMUS","2015-06-05",8,3,"F","A","2023-09-30"]
[null,null,null,null,null,"15062059-7","ANGÉLICA MACARENA GUERRA VICENCIO","1982-02-27",41,7,"F","A","2023-09-30"]
[null,null,null,null,null,"24131654-8","CARLA JULIETA ORÓSTICA LAZCANO","2012-11-28",10,10,"F","D","2023-09-30"]
[null,null,null,null,null,"12718629-4","ORIANA ESTHER SÁNCHEZ LIBERÓN","1975-10-16",47,11,"F","A","2023-09-30"]
[null,null,null,null,null,"13982218-8","RODOLFO ANDRÉS RUIZ-ABURTO CRUZ","1980-12-07",42,9,"M","B","2023-09-30"]
[null,null,null,null,null,"11455379-4","ELIANA DE LAS MERCED AHUMADA CASTRO","1969-07-13",54,2,"F","C","2023-09-30"]
[null,null,null,null,null,"17818037-1","ANA KAREN MARTÍNEZ SEGURA","1990-09-02",33,0,"F","A","2023-09-30"]
[null,null,null,null,null,"15061255-1","DANIEL JESÚS ONEL SILVA","1982-08-13",41,1,"M","D","2023-09-30"]
[null,null,null,null,null,"10229291-K","RAMÓN IVÁN CASTRO TORO","1971-08-14",52,1,"M","B","2023-09-30"]
[null,null,null,null,null,"22933812-9","MIA ANTONELLA ORTIZ IBACETA","2009-01-26",14,8,"F","A","2023-09-30"]
[null,null,null,null,null,"27294962-K","MATIAS DECKARD OYARZO MATUS","2020-06-07",3,3,"M","B","2023-09-30"]
[null,null,null,null,null,"19268095-6","MARÍA JOSÉ CERDA MARTÍNEZ","1996-03-29",27,6,"F","D","2023-09-30"]
[null,null,null,null,null,"15554732-4","HERNÁN ANTONIO CORREA LARENAS","1983-03-16",40,6,"M","X","2023-09-30"]
[null,null,null,null,null,"16550262-0","KATHERINE DEL ROSARI CHAPARRO DONOSO","1987-01-08",36,8,"F","A","2023-09-30"]
[null,null,null,null,null,"17791035-K","ALEJANDRA NICOLLE RODRÍGUEZ TORRES","1991-02-01",32,7,"F","A","2023-09-30"]
[null,null,null,null,null,"23745607-6","JAVIERA CAMILA ESPINOZA WALTERS","2011-09-13",12,0,"F","B","2023-09-30"]
[null,null,null,null,null,"21976243-7","GONZALO AGUSTIN VARGAS BAEZ","2005-11-12",17,10,"M","A","2023-09-30"]
[null,null,null,null,null,"10193486-1","SARA ELENA DÍAZ DÍAZ","1975-01-10",48,8,"F","B","2023-09-30"]
[null,null,null,null,null,"23484807-0","EMILIA BELÉN RODRÍGUEZ CORTEZ","2010-11-17",12,10,"F","D","2023-09-30"]
[null,null,null,null,null,"21993893-4","NAYARET DEL CARMEN CASTRO OTÁROLA","2005-12-04",17,9,"F","A","2023-09-30"]
[null,null,null,null,null,"23750479-8","JOHAN ALEXIS VILLARROEL OSANDÓN","2011-09-20",12,0,"M","A","2023-09-30"]
[null,null,null,null,null,"22807719-4","ANAHIS ISIDORA PEREIRA CARRASCO","2008-08-31",15,0,"F","A","2023-09-30"]
[null,null,null,null,null,"18680257-8","JULIO ENRIQUE PINO GUERRERO","1994-04-22",29,5,"M","D","2023-09-30"]
[null,null,null,null,null,"14178678-4","CLAUDIO LEONARDO SILVA REYES","1981-11-10",41,10,"M","B","2023-09-30"]
[null,null,null,null,null,"23150697-7","JESÚS URIEL LILLO YÁÑEZ","2009-10-17",13,11,"M","A","2023-09-30"]
[null,null,null,null,null,"17301085-0","KARLA VALERIA BASAES CANTILLANA","1990-01-24",33,8,"F","D","2023-09-30"]
[null,null,null,null,null,"9756591-0","ROGELIO MANUEL AMIGO FERNANDINI","1965-04-25",58,5,"M","B","2023-09-30"]
[null,null,null,null,null,"6097084-K","MIRIAM DEL CARMEN JARA CÁDIZ","1950-05-06",73,4,"F","B","2023-09-30"]
[null,null,null,null,null,"10369809-K","CECILIA DEL PILAR PULGAR FIGUEROA","1968-01-11",55,8,"F","B","2023-09-30"]
[null,null,null,null,null,"14615826-9","ALEJANDRO ALFONSO URBINA SALINAS","1981-09-22",42,0,"M","D","2023-09-30"]
[null,null,null,null,null,"7035138-2","LUIS DIONISIO RODRIGUEZ OLMEDO","1952-10-09",70,11,"M","C","2023-09-30"]
[null,null,null,null,null,"9418761-3","RAFAEL BERNARDO OLIVARES MORA","1965-08-20",58,1,"M","D","2023-09-30"]
[null,null,null,null,null,"8749082-3","EDUARDO FRANCISCO CARVAJAL QUIROGA","1961-10-30",61,11,"M","D","2023-09-30"]
[null,null,null,null,null,"20754137-0","MATÍAS ALEJANDRO FIGUEROA MONTENEGRO","2001-10-31",21,10,"M","C","2023-09-30"]
[null,null,null,null,null,"9173776-0","ALEX RUBILIO DEL TRÁ VALDÉS MONTENEGRO","1962-06-02",61,3,"M","D","2023-09-30"]
[null,null,null,null,null,"49907305-4","YESMARI ALICIA ECHENAGUCIA ROMERO","1982-05-03",41,4,"F","B","2023-09-30"]
[null,null,null,null,null,"16851722-K","JUAN JOSÉ BARRERA ROMERO","1988-03-22",35,6,"M","D","2023-09-30"]
[null,null,null,null,null,"9510196-8","MARIO RAMÓN OTÁROLA AHUMADA","1963-09-05",60,0,"M","B","2023-09-30"]
[null,null,null,null,null,"6780903-3","FÉLIX ANTONIO LEVANCINI MORALES","1955-09-10",68,0,"M","B","2023-09-30"]
[null,null,null,null,null,"23044902-3","FLORENCIA ANTONIA VALLEJOS MORENO","2009-06-09",14,3,"F","C","2023-09-30"]
[null,null,null,null,null,"5887064-1","EDITH ROSA ROLDÁN CARVAJAL","1948-12-18",74,9,"F","B","2023-09-30"]
[null,null,null,null,null,"16852616-4","CÉSAR ANDRÉS SEPÚLVEDA TAPIA","1988-10-11",34,11,"M","D","2023-09-30"]
[null,null,null,null,null,"19268421-8","CONSTANZA JACQUELINE CARRASCO ZAPATA","1996-05-16",27,4,"F","B","2023-09-30"]
[null,null,null,null,null,"7345976-1","GARY GASTÓN RUBIO ZAMORA","1957-10-01",65,11,"M","B","2023-09-30"]
[null,null,null,null,null,"14639098-6","NEMESIO VARGAS VILLARROEL","1936-11-28",86,10,"M","B","2023-09-30"]
[null,null,null,null,null,"23225694-K","MAGDALENA IRENÉ ARCOS RÍOS","2010-01-16",13,8,"F","A","2023-09-30"]
[null,null,null,null,null,"10824095-4","RENÉ OSVALDO GORMAZ VILLARROEL","1966-11-18",56,10,"M","B","2023-09-30"]
[null,null,null,null,null,"2976569-3","RAQUEL ALICIA CASTRO SERRANO","1926-06-26",97,3,"F","B","2023-09-30"]
[null,null,null,null,null,"4018911-4","SARA CRECENSIA CARRASCO RIVAS","1940-05-27",83,4,"F","B","2023-09-30"]
[null,null,null,null,null,"48080271-3","DIEGO JAVIER GARRIDO BENTEO","1989-12-28",33,9,"M","X","2023-09-30"]
[null,null,null,null,null,"7852452-9","JOSÉ EDUARDO ESCUDERO ESPÍNOLA","1961-10-13",61,11,"M","C","2023-09-30"]
[null,null,null,null,null,"12718543-3","SERGIO LORENZO GUERRA MARTÍNEZ","1971-11-14",51,10,"M","B","2023-09-30"]
[null,null,null,null,null,"16306324-7","KATHERINE VALESKA AHUMADA HERRERA","1986-06-05",37,3,"F","C","2023-09-30"]
[null,null,null,null,null,"15060971-2","LEYLA ESTEPHANI MARTÍNEZ CÉSPEDES","1982-06-07",41,3,"F","B","2023-09-30"]
[null,null,null,null,null,"25304623-6","THOMAS IGNACIO HERRERA PUEBLA","2016-03-01",7,6,"M","A","2023-09-30"]
[null,null,null,null,null,"19582234-4","MARIO ANDRÉS PINTO MORA","1997-07-24",26,2,"M","B","2023-09-30"]
[null,null,null,null,null,"18113664-2","MARCIA FERNANDA DONOSO QUIROZ","1992-04-28",31,5,"F","C","2023-09-30"]
[null,null,null,null,null,"25851117-4","MATILDA ELOÍSA VILLALOBOS HERRERA","2017-07-28",6,2,"F","A","2023-09-30"]
[null,null,null,null,null,"5753044-8","BORIS PATRICIO VARGAS GALLARDO","1946-12-15",76,9,"M","B","2023-09-30"]
[null,null,null,null,null,"17819153-5","GENESIS BELÉN DONOSO MARTÍNEZ","1991-09-15",32,0,"F","B","2023-09-30"]
[null,null,null,null,null,"21315759-0","ARACELY ESTEFANIA QUIROZ AGUSTO","2003-06-09",20,3,"F","B","2023-09-30"]
[null,null,null,null,null,"16852597-4","ANGEL IGNACIO URBINA MASMAN","1988-10-13",34,11,"M","A","2023-09-30"]
[null,null,null,null,null,"27860966-9","MAYTE JULIETH GONZALEZ CASANOVA","2022-07-18",1,2,"F","X","2023-09-30"]
[null,null,null,null,null,"9760871-7","MARCOS ENRIQUE HERRERA COLLANTE","1965-05-13",58,4,"M","D","2023-09-30"]
[null,null,null,null,null,"22690622-3","VICENTE JAVIER ALLENDES GONZÁLEZ","2008-04-07",15,5,"M","D","2023-09-30"]
[null,null,null,null,null,"19268292-4","IGNACIO LORENZO SEGOVIA VILLARROEL","1996-04-18",27,5,"M","D","2023-09-30"]
[null,null,null,null,null,"9687636-K","INGRID ISABEL ARANCIBIA TRAILLANCA","1969-02-13",54,7,"F","B","2023-09-30"]
[null,null,null,null,null,"5114447-3","ROSA INÉS GUAJARDO RODRÍGUEZ","1942-07-17",81,2,"F","B","2023-09-30"]
[null,null,null,null,null,"10295780-6","OSVALDO ALBERTO CORDERO URBINA","1966-04-20",57,5,"M","C","2023-09-30"]
[null,null,null,null,null,"15061155-5","ELENA VALESKA IBACETA TOBAR","1982-05-28",41,4,"F","B","2023-09-30"]
[null,null,null,null,null,"9555909-3","GLADYS DEL CARMEN CORREA VILLARROEL","1962-07-19",61,2,"F","D","2023-09-30"]
[null,null,null,null,null,"19214650-K","ISABELLA PAOLA FACUSE BOTTO","2001-03-08",22,6,"F","B","2023-09-30"]
[null,null,null,null,null,"22638599-1","CAROL DEL PILAR SALINAS BERRÍOS","2008-02-08",15,7,"F","A","2023-09-30"]
[null,null,null,null,null,"6295117-6","SOFÍA DEL ROSARIO ONEL HUERTA","1949-01-16",74,8,"F","B","2023-09-30"]
[null,null,null,null,null,"11194365-6","GERARDO ALEX HERRERA CONTRERAS","1967-09-24",56,0,"M","C","2023-09-30"]
[null,null,null,null,null,"6760855-0","UBERLINDA ESTER ARÉVALO GUERRA","1945-02-12",78,7,"F","B","2023-09-30"]
[null,null,null,null,null,"7951052-1","AUGUSTO FERNANDO ARENAS VARGAS","1957-01-01",66,8,"M","D","2023-09-30"]
[null,null,null,null,null,"12241731-K","ROSA PALMIRA PINTO PINDAVE","1972-12-07",50,9,"F","A","2023-09-30"]
[null,null,null,null,null,"14084315-6","JUAN CARLOS TRIVIÑO FUENTES","1975-04-10",48,5,"M","D","2023-09-30"]
[null,null,null,null,null,"16851536-7","VÍCTOR ALFONSO VILLARROEL LAZCANO","1988-02-02",35,7,"M","C","2023-09-30"]
[null,null,null,null,null,"20132942-6","ANYELINA FERNANDA REYES REINOSO","1999-03-27",24,6,"F","C","2023-09-30"]
[null,null,null,null,null,"9419050-9","MARCELINA DEL ROSARI SANDOVAL SÁNCHEZ","1964-04-26",59,5,"F","B","2023-09-30"]
[null,null,null,null,null,"25416044-K","RAFAELA ELISA FARÍAS RÍOS","2016-06-16",7,3,"F","A","2023-09-30"]
[null,null,null,null,null,"23690853-4","MÁXIMO RAÚL SOTO ABARCA","2011-07-07",12,2,"M","C","2023-09-30"]
[null,null,null,null,null,"13601121-9","MARGARETT ANDREA ORTEGA CHICO","1979-01-02",44,8,"F","B","2023-09-30"]
[null,null,null,null,null,"12578727-4","PATRICIA ALEJANDRA HERRERA SÁNCHEZ","1974-01-26",49,8,"F","C","2023-09-30"]
[null,null,null,null,null,"13982710-4","LEONARDO ANTONIO RAMÍREZ CORDERO","1981-05-26",42,4,"M","D","2023-09-30"]
[null,null,null,null,null,"18973351-8","PAULA BELÉN GUERRA OSSANDÓN","1995-02-21",28,7,"F","X","2023-09-30"]
[null,null,null,null,null,"9436696-8","ELIANA DEL CARMEN CORREA LEIVA","1962-08-08",61,1,"F","B","2023-09-30"]
[null,null,null,null,null,"18036983-K","CAMILO OSVALDO GUTIÉRREZ CABRERA","1992-05-17",31,4,"M","D","2023-09-30"]
[null,null,null,null,null,"22943417-9","ELOIZA ALVES DA SILVA","1998-06-22",25,3,"F","A","2023-09-30"]
[null,null,null,null,null,"25759427-0","VALENTINA BELÉN BAEZA VARGAS","2017-05-08",6,4,"F","B","2023-09-30"]
[null,null,null,null,null,"20407796-7","STACY CATALINA SALAZAR ARAYA","1999-12-30",23,9,"F","B","2023-09-30"]
[null,null,null,null,null,"6542637-4","OSCAR GUILLERMO MELÉNDEZ JARA","1954-01-28",69,8,"M","D","2023-09-30"]
[null,null,null,null,null,"23276135-0","HELLEN CONSTANZA VILLANUEVA PONCE","2010-03-19",13,6,"F","A","2023-09-30"]
[null,null,null,null,null,"7605502-5","VÍCTOR MANUEL GUERRERO OYANEDEL","1960-12-28",62,9,"M","C","2023-09-30"]
[null,null,null,null,null,"10863548-7","ESTER DE LAS MARIAS MOYANO ALLENDE","1970-03-06",53,6,"F","B","2023-09-30"]
[null,null,null,null,null,"21327619-0","CHRYSHNA ALEXSANDRA OSORIO GONZALEZ","2003-06-27",20,3,"F","C","2023-09-30"]
[null,null,null,null,null,"10026839-6","PATRICIO JULIO ARAVENA ARAYA","1966-07-17",57,2,"M","D","2023-09-30"]
[null,null,null,null,null,"15060852-K","BLANCA ALICIA SALINAS MUÑOZ","1982-05-07",41,4,"F","C","2023-09-30"]
[null,null,null,null,null,"5359030-6","MANUEL JESÚS SILVA MUÑOZ","1944-03-22",79,6,"M","B","2023-09-30"]
[null,null,null,null,null,"9440367-7","CARLOS DANIEL PARRA MUÑOZ","1964-01-19",59,8,"M","B","2023-09-30"]
[null,null,null,null,null,"10427821-3","JOSELYN ILIANA WALTERS CANALES","1971-03-27",52,6,"F","B","2023-09-30"]
[null,null,null,null,null,"22943395-4","LUCELIA APARECIDA ALVES DA SILVA","1978-11-26",44,10,"F","A","2023-09-30"]
[null,null,null,null,null,"19268868-K","CAMILA ALEJANDRA ARAYA ROBLES","1996-09-23",27,0,"F","B","2023-09-30"]
[null,null,null,null,null,"13827613-9","FRANCISCA ELENA GALDAMES CÁCERES","1980-02-02",43,7,"F","B","2023-09-30"]
[null,null,null,null,null,"27092617-7","MATÍAS FELIPE LEÓN AVALLAI","2019-11-20",3,10,"M","A","2023-09-30"]
[null,null,null,null,null,"13752765-0","PATRICIO ARMANDO JAIME RUBIO","1980-07-10",43,2,"M","D","2023-09-30"]
[null,null,null,null,null,"18113670-7","WILLIAM ANTONIO SOTO DÍAZ","1992-04-30",31,5,"M","B","2023-09-30"]
[null,null,null,null,null,"6211922-5","DILEMA DEL CARMEN CONTRERAS COROSEO","1944-07-22",79,2,"F","B","2023-09-30"]
[null,null,null,null,null,"9118957-7","JOSÉ FERNANDO PEÑA PÁEZ","1964-01-26",59,8,"M","D","2023-09-30"]
[null,null,null,null,null,"10876584-4","ANDREA DE LA CRUZ EL CORTÍNEZ CARILAO","1962-03-27",61,6,"F","D","2023-09-30"]
[null,null,null,null,null,"9170592-3","ISABEL ANGÉLICA REYES ALFARO","1963-10-14",59,11,"F","B","2023-09-30"]
[null,null,null,null,null,"18679858-9","FRANCO ARIEL CORTÉS ESPINOZA","1994-01-10",29,8,"M","X","2023-09-30"]
[null,null,null,null,null,"14154279-6","MARICEL ANDREA VIVANCO MORA","1980-05-09",43,4,"F","B","2023-09-30"]
[null,null,null,null,null,"22541523-4","SUSY ALISON MARTÍNEZ HERRERA","2007-10-26",15,11,"F","D","2023-09-30"]
[null,null,null,null,null,"9141654-9","GLORIA MALLY DUBO SIBULCA","1964-10-16",58,11,"F","D","2023-09-30"]
[null,null,null,null,null,"24492997-4","AMAROS RODRIGO ERAZO POBLETE","2013-12-26",9,9,"M","A","2023-09-30"]
[null,null,null,null,null,"15061563-1","PAMELA ELISA ALFARO BUCAREY","1982-10-24",40,11,"F","C","2023-09-30"]
[null,null,null,null,null,"4546312-5","FÉLIX DAGOBERTO GARRIDO PEÑA","1940-06-10",83,3,"M","B","2023-09-30"]
[null,null,null,null,null,"17468301-8","FRANCISCO ANTONIO HERRERA REYES","1989-11-17",33,10,"M","D","2023-09-30"]
[null,null,null,null,null,"24379699-7","MADELINNE ARLETTE CORTEZ LAZCANO","2013-09-24",10,0,"F","A","2023-09-30"]
[null,null,null,null,null,"18853901-7","WALTER ARTURO TAPIA OLIVARES","1994-11-13",28,10,"M","D","2023-09-30"]
[null,null,null,null,null,"15784973-5","CRISTIAN ALEXIS ROJAS GALLARDO","1984-02-17",39,7,"M","D","2023-09-30"]
[null,null,null,null,null,"15061573-9","JUAN CARLOS HERRERA ABARCA","1982-11-04",40,10,"M","D","2023-09-30"]
[null,null,null,null,null,"23833652-K","AGUSTINA IGNACIA VILLARROEL RIVEROS","2011-12-30",11,9,"F","C","2023-09-30"]
[null,null,null,null,null,"11361014-K","ANGÉLICA DEL ROSARIO DONOSO LIZANA","1969-11-14",53,10,"F","A","2023-09-30"]
[null,null,null,null,null,"12115074-3","FRANCISCO JAVIER VALENZUELA DEL PINO","1981-12-03",41,9,"M","C","2023-09-30"]
[null,null,null,null,null,"25108031-3","ISABELLA LEONOR ESPINOZA QUIROZ","2015-09-07",8,0,"F","A","2023-09-30"]
[null,null,null,null,null,"9735337-9","LUIS ALBERTO ZAMORA OSORIO","1963-04-23",60,5,"M","B","2023-09-30"]
[null,null,null,null,null,"15555168-2","KARENINA ROXANY FONCEA PÉREZ","1983-07-07",40,2,"F","D","2023-09-30"]
[null,null,null,null,null,"22508330-4","JAVIERA EILYN CABEZAS TRIVIÑO","2007-09-25",16,0,"F","B","2023-09-30"]
[null,null,null,null,null,"23438729-4","AMPARO HUENCHUR SUARDO","2010-10-03",12,11,"F","B","2023-09-30"]
[null,null,null,null,null,"13982092-4","YASNA MABEL RÍOS CARVAJAL","1981-06-12",42,3,"F","B","2023-09-30"]
[null,null,null,null,null,"13752820-7","ARIEL ANTONIO GUERRERO GÓMEZ","1980-11-11",42,10,"M","C","2023-09-30"]
[null,null,null,null,null,"25522255-4","EMILIA PASCAL SALAZAR AHUMADA","2016-09-26",7,0,"F","D","2023-09-30"]
[null,null,null,null,null,"21811406-7","JAVIERA DEL SOLAR FARIAS","2005-04-06",18,5,"F","B","2023-09-30"]
[null,null,null,null,null,"22291418-3","NICOLE ANTONELLA CISTERNA GONZÁLEZ","2006-12-21",16,9,"F","A","2023-09-30"]
[null,null,null,null,null,"27609671-0","HELENA ISABEL GÓMEZ DÍAZ","2021-09-03",2,0,"F","B","2023-09-30"]
[null,null,null,null,null,"6912556-5","EDITH MYLADE FLORES DUBO","1952-04-29",71,5,"F","B","2023-09-30"]
[null,null,null,null,null,"16726464-6","DANIEL IGNACIO JARA QUEVEDO","1987-12-03",35,9,"M","D","2023-09-30"]
[null,null,null,null,null,"18384774-0","ROSA DEL CARMEN VALENZUELA FARÍAS","1992-12-01",30,9,"F","D","2023-09-30"]
[null,null,null,null,null,"19130149-8","JAVIERA ANDREA QUEZADA ZAPATA","1995-07-15",28,2,"F","B","2023-09-30"]
[null,null,null,null,null,"15819122-9","GONZALO ANDRÉS CARRERA GARCÍA","1984-11-02",38,10,"M","D","2023-09-30"]
[null,null,null,null,null,"5708936-9","PEDRO JOSÉ GALLARDO CARVAJAL","1948-06-17",75,3,"M","B","2023-09-30"]
[null,null,null,null,null,"16550496-8","VÍCTOR MARCELO RÍOS SANTELICES","1987-03-05",36,6,"M","B","2023-09-30"]
[null,null,null,null,null,"9736029-4","ISABEL DEL CARMEN JARA LÓPEZ","1966-03-19",57,6,"F","B","2023-09-30"]
[null,null,null,null,null,"15742640-0","NAYARETTE VALERIA HERRERA MONTENEGRO","1983-12-04",39,9,"F","B","2023-09-30"]
[null,null,null,null,null,"16550133-0","HORTENSIA DEL CARMEN CELEDÓN CRUZ","1986-11-28",36,10,"F","B","2023-09-30"]
[null,null,null,null,null,"24322762-3","RENATA ANTONIA LEAL ARREDONDO","2013-07-02",10,2,"F","B","2023-09-30"]
[null,null,null,null,null,"23137566-K","VALENTINA PAZ RAMOS COFRÉ","2009-10-02",13,11,"F","B","2023-09-30"]
[null,null,null,null,null,"24211919-3","MARTINA ALEXANDRA GUERRA RIVERA","2013-03-06",10,6,"F","A","2023-09-30"]
[null,null,null,null,null,"10210735-7","MARCO ANTONIO CASTRO GUTIÉRREZ","1964-05-20",59,4,"M","A","2023-09-30"]
[null,null,null,null,null,"23965479-7","ELISA ZLATNA RODRÍGUEZ GÁLVEZ","2012-09-12",11,0,"F","X","2023-09-30"]
[null,null,null,null,null,"5961846-6","HÉCTOR LEONIDAS MARTÍNEZ REINOSO","1947-04-12",76,5,"M","B","2023-09-30"]
[null,null,null,null,null,"21436764-5","ALISON ANDREA FIGUEROA ARANCIBIA","2003-11-05",19,10,"F","D","2023-09-30"]
[null,null,null,null,null,"6769437-6","HERNÁN FERNANDO MARDONES MARTÍNEZ","1959-11-23",63,10,"M","B","2023-09-30"]
[null,null,null,null,null,"15062079-1","RAÚL ALEXIS BARRERA CORTÉS","1982-04-20",41,5,"M","D","2023-09-30"]
[null,null,null,null,null,"9013955-K","EDGAR ALFONSO NANJARI BARRERA","1964-08-01",59,1,"M","D","2023-09-30"]
[null,null,null,null,null,"7589555-0","SIGISFREDO ARNOLFO FUENTES KETTERER","1957-11-10",65,10,"M","B","2023-09-30"]
[null,null,null,null,null,"15099628-7","CAROLINA ALEJANDRA BLANCO CALDERÓN","1982-01-17",41,8,"F","D","2023-09-30"]
[null,null,null,null,null,"18679870-8","OMAR IGNACIO GUERRA ALFARO","1994-01-08",29,8,"M","D","2023-09-30"]
[null,null,null,null,null,"7983436-K","RUTH BERENICE LEAL FIGUEROA","1962-09-28",61,0,"F","C","2023-09-30"]
[null,null,null,null,null,"8169840-6","ROSA AMELIA SEGURA DÍAZ","1959-01-07",64,8,"F","B","2023-09-30"]
[null,null,null,null,null,"23336320-0","EVOLETT IGNACIA UBILLA OLIVA","2010-05-30",13,4,"F","C","2023-09-30"]
[null,null,null,null,null,"22279285-1","AILIN BELÉN JARA JARA","2006-12-03",16,9,"F","A","2023-09-30"]
[null,null,null,null,null,"18564292-5","KATHERINE ANDREA HENRÍQUEZ MUÑOZ","1993-06-28",30,3,"F","B","2023-09-30"]
[null,null,null,null,null,"11092354-6","JUAN CARLOS SOTO SOTO","1966-09-23",57,0,"M","B","2023-09-30"]
[null,null,null,null,null,"11988295-8","SERGIO VICTORINO YÉVENES MELLA","1972-11-17",50,10,"M","X","2023-09-30"]
[null,null,null,null,null,"11313185-3","GLORIA ISABEL ARANCIBIA CERÓN","1968-01-22",55,8,"F","B","2023-09-30"]
[null,null,null,null,null,"4450942-3","OSCAR SEGUNDO ARENAS MÉNDEZ","1927-12-17",95,9,"M","B","2023-09-30"]
[null,null,null,null,null,"7328065-6","MOISÉS SEGUNDO PULGAR CUEVAS","1955-10-06",67,11,"M","C","2023-09-30"]
[null,null,null,null,null,"7602836-2","EMMA BERNARDITA MUÑOZ MONTENEGRO","1951-01-12",72,8,"F","B","2023-09-30"]
[null,null,null,null,null,"21195257-1","PALOMA ESTRELLA BRAVO ROJAS","2002-12-17",20,9,"F","A","2023-09-30"]
[null,null,null,null,null,"7569164-5","JORGE DEL CARMEN LÓPEZ ARAVENA","1955-04-22",68,5,"M","C","2023-09-30"]
[null,null,null,null,null,"22808090-K","SKARLETT DEL CARMEN HERRERA VARGAS","2008-08-30",15,1,"F","C","2023-09-30"]
[null,null,null,null,null,"16872488-8","CARLOS ENRIQUE FAÚNDEZ FLORES","1988-10-21",34,11,"M","B","2023-09-30"]
[null,null,null,null,null,"25586126-3","JOSEFA ANNAIS SANHUEZA ÁLVAREZ","2016-11-28",6,10,"F","D","2023-09-30"]
[null,null,null,null,null,"20403027-8","CATALINA IGNACIA PEREIRA MELLADO","2000-04-14",23,5,"F","B","2023-09-30"]
[null,null,null,null,null,"21627929-8","PATRICIA ALEJANDRA ASTARGO ORTIZAGA","2004-07-22",19,2,"F","C","2023-09-30"]
[null,null,null,null,null,"8213305-4","ELVIRA DE LAS NIEVES CALDERÓN GONZÁLEZ","1956-04-05",67,5,"F","B","2023-09-30"]
[null,null,null,null,null,"8804071-6","RAMÓN ARTURO BASTIÁN URTUBIA","1962-08-21",61,1,"M","B","2023-09-30"]
[null,null,null,null,null,"16306341-7","PABLO RENÁN CARVACHO MORALES","1986-01-13",37,8,"M","D","2023-09-30"]
[null,null,null,null,null,"22552618-4","LEXI KATRINA DONOSO OSSANDÓN","2007-11-14",15,10,"F","A","2023-09-30"]
[null,null,null,null,null,"10562125-6","CECILIA DE LAS NIEVES HERRERA VIDELA","1960-03-30",63,6,"F","B","2023-09-30"]
[null,null,null,null,null,"13364436-9","NELITA DEL CARMEN ARRIOLA ACEVEDO","1976-10-28",46,11,"F","B","2023-09-30"]
[null,null,null,null,null,"24780223-1","MYA ISABEL BONILLA RINCON","2014-10-25",8,11,"F","B","2023-09-30"]
[null,null,null,null,null,"7561066-1","JULIA ZULEMA GAETE PULGAR","1953-04-04",70,5,"F","B","2023-09-30"]
[null,null,null,null,null,"1526390-3","MARÍA LUISA GÓMEZ MÉNDEZ","1920-08-19",103,1,"F","A","2023-09-30"]
[null,null,null,null,null,"22516535-1","SIHARA BELÉN PULGAR ORMAZÁBAL","2007-09-28",16,0,"F","A","2023-09-30"]
[null,null,null,null,null,"11385963-6","LORENA DEL CARMEN GORMAZ GAETE","1969-05-27",54,4,"F","B","2023-09-30"]
[null,null,null,null,null,"11945034-9","MARCELO FABIÁN LOBOS LÓPEZ","1972-10-09",50,11,"M","B","2023-09-30"]
[null,null,null,null,null,"27217306-0","GABRIEL MANUEL GALDAMEZ TORRES","2020-02-25",3,7,"M","B","2023-09-30"]
[null,null,null,null,null,"24757797-1","VERONICA SOPHIA MENDEZ RINCON","2010-11-10",12,10,"F","B","2023-09-30"]
[null,null,null,null,null,"19582451-7","VALENTINA BELÉN SANTIBÁÑEZ ARCOS","1997-09-13",26,0,"F","D","2023-09-30"]
[null,null,null,null,null,"15752368-6","MICHAEL EDUARDO CASTRO TRONCOSO","1984-03-26",39,6,"M","D","2023-09-30"]
[null,null,null,null,null,"11944918-9","LUIS ABNER OYANEDEL MILANCA","1972-11-20",50,10,"M","C","2023-09-30"]
[null,null,null,null,null,"5004006-2","CARLOS SEGUNDO VILLARROEL GONZÁLEZ","1939-10-22",83,11,"M","B","2023-09-30"]
[null,null,null,null,null,"12312391-3","ALEJANDRA FABIOLA PIZARRO GALLARDO","1973-05-11",50,4,"F","C","2023-09-30"]
[null,null,null,null,null,"23151330-2","ANGIE ANAÍS LÓPEZ ROJAS","2009-10-19",13,11,"F","A","2023-09-30"]
[null,null,null,null,null,"6634317-0","UBALDO DAVID VILLALOBOS PONCE","1953-08-07",70,1,"M","C","2023-09-30"]
[null,null,null,null,null,"17468759-5","AMADA NATALY LECAROS POBLETE","1989-10-11",33,11,"F","B","2023-09-30"]
[null,null,null,null,null,"15047752-2","MARCOS JAVAN BARRAZA AGÜERO","1984-06-13",39,3,"M","B","2023-09-30"]
[null,null,null,null,null,"16702551-K","ROMINA ESCARLET YÁÑEZ CÁDIZ","1987-11-18",35,10,"F","D","2023-09-30"]
[null,null,null,null,null,"16387523-3","LÍA MILAGROS PORRAS ROLDÁN","1987-01-19",36,8,"F","B","2023-09-30"]
[null,null,null,null,null,"11214532-K","AÍDA MARISOL UMANZOR PAREDES","1967-11-03",55,10,"F","C","2023-09-30"]
[null,null,null,null,null,"23308073-K","FLORENCIA JAVIERA SILVA BARRANTES","2010-04-26",13,5,"F","B","2023-09-30"]
[null,null,null,null,null,"20753736-5","CÉSAR ANTONIO VEGA JORQUERA","2001-07-17",22,2,"M","B","2023-09-30"]
[null,null,null,null,null,"17341870-1","SCARLET HOMAIRA LEYTON CAMPUSANO","1990-06-29",33,3,"F","D","2023-09-30"]
[null,null,null,null,null,"17158971-1","VÍCTOR ANTONIO SANHUEZA ZAMBRANO","1989-06-06",34,3,"M","D","2023-09-30"]
[null,null,null,null,null,"16550656-1","SUSANA ESTER AGUILERA ELGUETA","1987-04-21",36,5,"F","D","2023-09-30"]
[null,null,null,null,null,"8362014-5","JOSÉ AARON SÁNCHEZ SILVA","1957-08-02",66,1,"M","B","2023-09-30"]
[null,null,null,null,null,"19582662-5","YERKO BAYO MORA BAEZ","1997-10-25",25,11,"M","B","2023-09-30"]
[null,null,null,null,null,"16852222-3","DENNISSE JUDITH DE LOS ANGELES ARAVENA SUAZO","1988-05-29",35,4,"F","D","2023-09-30"]
[null,null,null,null,null,"16573616-8","NATALIA BELÉN OSANDÓN CASTILLO","1987-01-06",36,8,"F","B","2023-09-30"]
[null,null,null,null,null,"9264050-7","ANA MARÍA MURA ARAYA","1964-05-08",59,4,"F","B","2023-09-30"]
[null,null,null,null,null,"20132763-6","VALENTINA ANDREA GUZMÁN VALENZUELA","1999-02-10",24,7,"F","B","2023-09-30"]
[null,null,null,null,null,"13629758-9","CARLOS BENJAMÍN COFRÉ CUEVAS","1979-07-04",44,2,"M","D","2023-09-30"]
[null,null,null,null,null,"22268622-9","AGUSTÍN ALONSO JARA MARTÍNEZ","2006-11-18",16,10,"M","B","2023-09-30"]
[null,null,null,null,null,"13982642-6","DANIEL ADIN ARCOS VALENZUELA","1981-02-19",42,7,"M","C","2023-09-30"]
[null,null,null,null,null,"19888438-3","JUAN ALEXIS TRIVIÑO VERGARA","1998-09-25",25,0,"M","B","2023-09-30"]
[null,null,null,null,null,"15818496-6","EVELYN ANDREA TORO GUERRERO","1984-02-04",39,7,"F","B","2023-09-30"]
[null,null,null,null,null,"19581914-9","VÍCTOR MANUEL RAMOS ZÚÑIGA","1997-01-13",26,8,"M","A","2023-09-30"]
[null,null,null,null,null,"41480162-5","ZAREK XIMENA SANCHEZ FLORES","2011-03-29",12,6,"F","A","2023-09-30"]
[null,null,null,null,null,"16306545-2","BORIS ANTONIO TAPIA ALTAMIRANO","1986-06-17",37,3,"M","D","2023-09-30"]
[null,null,null,null,null,"19041221-0","FRANCISCA CAROLINA VÁSQUEZ TORRES","1995-07-22",28,2,"F","B","2023-09-30"]
[null,null,null,null,null,"21009439-3","JOSSET IVANNIA VERGARA PEREIRA","2002-05-03",21,4,"F","C","2023-09-30"]
[null,null,null,null,null,"24277545-7","MATÍAS IGNACIO NORMAN VALENZUELA","2013-05-14",10,4,"M","D","2023-09-30"]
[null,null,null,null,null,"17818730-9","FRANCISCO JAVIER GUTIÉRREZ IBACETA","1991-06-09",32,3,"M","D","2023-09-30"]
[null,null,null,null,null,"11126356-6","ANA MARÍA GÓMEZ RIQUELME","1967-06-23",56,3,"F","D","2023-09-30"]
[null,null,null,null,null,"22433289-0","MARIA FERNANDA BARRERA SALINAS","2007-07-02",16,2,"F","A","2023-09-30"]
[null,null,null,null,null,"27267767-0","AMANDA BELEN LEIVA VARGAS","2020-04-29",3,5,"F","D","2023-09-30"]
[null,null,null,null,null,"19267668-1","BÁRBARA ANTONIETA SANTOS SOTO","1995-12-21",27,9,"F","B","2023-09-30"]
[null,null,null,null,null,"21724153-7","FELIPE IGNACIO GORMAZ VILCHES","2004-12-07",18,9,"M","B","2023-09-30"]
[null,null,null,null,null,"24109012-4","DAMARYS EDITH SELLAN HERRERA","2012-11-08",10,10,"F","D","2023-09-30"]
[null,null,null,null,null,"41111148-2","ZONIA MEJIA OSPINA","1987-12-14",35,9,"F","A","2023-09-30"]
[null,null,null,null,null,"13752786-3","BÁRBARA DEL CARMEN ALFARO VILLARROEL","1980-09-08",43,0,"F","C","2023-09-30"]
[null,null,null,null,null,"12950115-4","ROSA ELENA GUERRA QUIROGA","1976-04-12",47,5,"F","A","2023-09-30"]
[null,null,null,null,null,"7233612-7","OLGA MERY VIGUERA BERRÍOS","1925-04-05",98,5,"F","B","2023-09-30"]
[null,null,null,null,null,"10842729-9","RAIMUNDO PABLO PÁEZ ALEGRÍA","1966-06-29",57,3,"M","C","2023-09-30"]
[null,null,null,null,null,"9682638-9","MARÍA ANGÉLICA CORDERO URBINA","1964-06-05",59,3,"F","C","2023-09-30"]
[null,null,null,null,null,"13455646-3","JUAN CARLOS SOTO MORA","1977-11-18",45,10,"M","B","2023-09-30"]
[null,null,null,null,null,"27012595-6","MARIA NAZARETH GUEDEZ GONZALEZ","1998-08-12",25,1,"F","C","2023-09-30"]
[null,null,null,null,null,"22307152-K","PABLO ALBERTO BARRERA VEGA","2007-01-10",16,8,"M","B","2023-09-30"]
[null,null,null,null,null,"14433266-0","HUGO PATRICIO SAAVEDRA VIVAR","1962-08-21",61,1,"M","A","2023-09-30"]
[null,null,null,null,null,"17163890-9","VANESSA MARISOL SEGURA AHUMADA","1989-01-23",34,8,"F","D","2023-09-30"]
[null,null,null,null,null,"13876323-4","JUAN LUIS SAN FRANCISCO ÁVALOS","1980-11-18",42,10,"M","D","2023-09-30"]
[null,null,null,null,null,"10223930-K","JUANA DEL CARMEN COSSIO SILVA","1965-06-12",58,3,"F","B","2023-09-30"]
[null,null,null,null,null,"17170394-8","FERNANDA MARIBEL BUSTOS VARGAS","1989-11-28",33,10,"F","C","2023-09-30"]
[null,null,null,null,null,"20408063-1","GONZALO PATRICIO GUZMÁN LÓPEZ","2000-03-14",23,6,"M","C","2023-09-30"]
[null,null,null,null,null,"15818574-1","LINDA CAROL RODRÍGUEZ PORRAS","1984-05-23",39,4,"F","D","2023-09-30"]
[null,null,null,null,null,"12950352-1","ANA YANETT MARTÍNEZ VEGA","1976-07-18",47,2,"F","A","2023-09-30"]
[null,null,null,null,null,"16851306-2","JOSÉ FELIPE BUSTAMANTE SEPÚLVEDA","1987-11-16",35,10,"M","D","2023-09-30"]
[null,null,null,null,null,"13982677-9","ELIZABETH DE LAS MER VILLARROEL SOTO","1979-11-29",43,10,"F","B","2023-09-30"]
[null,null,null,null,null,"19581248-9","PAULA MACARENA SÁNCHEZ QUIROZ","1996-11-04",26,10,"F","B","2023-09-30"]
[null,null,null,null,null,"22190029-4","GONZALO ANDRES SANCHEZ LOPEZ","2006-08-21",17,1,"M","A","2023-09-30"]
[null,null,null,null,null,"23506989-K","ROSITA VALENTINA OJEDA CIFUENTES","2010-12-20",12,9,"F","D","2023-09-30"]
[null,null,null,null,null,"25024001-5","ANTONIA BELÉN PEREIRA SALINAS","2015-06-24",8,3,"F","B","2023-09-30"]
[null,null,null,null,null,"19268035-2","ANGEL ENRIQUE LUCERO ORTIZ","1996-03-13",27,6,"M","D","2023-09-30"]
[null,null,null,null,null,"21484058-8","ANTONIA MONSERRAT PIZARRO VILLARROEL","2004-01-09",19,8,"F","B","2023-09-30"]
[null,null,null,null,null,"10534524-0","ROSA INÉS ESPINOZA ARANCIBIA","1965-08-02",58,1,"F","X","2023-09-30"]
[null,null,null,null,null,"16885067-0","CLAUDIA ANDREA GONZÁLEZ PINO","1988-10-26",34,11,"F","C","2023-09-30"]
[null,null,null,null,null,"21748682-3","LUIS FERNANDO QUIROZ AGUSTO","2005-01-03",18,8,"M","B","2023-09-30"]
[null,null,null,null,null,"27068270-7","JUAN ANTONIO PEÑAFIEL QUINTERO","1993-02-07",30,7,"M","C","2023-09-30"]
[null,null,null,null,null,"12229218-5","GERARDO ALBERTO VEGA ÁVALOS","1972-05-09",51,4,"M","D","2023-09-30"]
[null,null,null,null,null,"25423241-6","EMILIA YASMIN GUERRA ZURA","2016-06-27",7,3,"F","C","2023-09-30"]
[null,null,null,null,null,"8389324-9","RUBÉN ALVAN HONORES ROJO","1958-03-16",65,6,"M","B","2023-09-30"]
[null,null,null,null,null,"8254303-1","MAURO AQUILES ROBLES OLIVARES","1966-08-01",57,1,"M","C","2023-09-30"]
[null,null,null,null,null,"23760254-4","ROCÍO AMANDA PONCE MORALES","2011-09-22",12,0,"F","D","2023-09-30"]
[null,null,null,null,null,"10974743-2","HÉCTOR HARRY REINOSO HENRÍQUEZ","1971-02-09",52,7,"M","B","2023-09-30"]
[null,null,null,null,null,"21611606-2","MARTÍN FELIPE CAMPOS PÉREZ","2004-07-03",19,2,"M","A","2023-09-30"]
[null,null,null,null,null,"15064985-4","MARÍA SOLEDAD ROJAS GAETE","1983-03-28",40,6,"F","D","2023-09-30"]
[null,null,null,null,null,"20804232-7","RUBÉN ELÍAS MORALES LEÓN","2001-07-14",22,2,"M","B","2023-09-30"]
[null,null,null,null,null,"25503882-6","MIA VICTORIA CHELÉN CHELÉN","2016-09-06",7,0,"F","C","2023-09-30"]
[null,null,null,null,null,"21249032-6","TATIANA MACARENA MUÑOZ ZAMORANO","2003-02-27",20,7,"F","B","2023-09-30"]
[null,null,null,null,null,"13363615-3","JACQUELINE ANDREA GUAJARDO MALLEA","1978-01-06",45,8,"F","C","2023-09-30"]
[null,null,null,null,null,"26523818-1","NEYSER ALESSANDRO PURIHUAMAN MELENDEZ","2007-03-08",16,6,"M","A","2023-09-30"]
[null,null,null,null,null,"18384910-7","SEBASTIÁN ISAÍAS HERRERA OVALLE","1993-01-08",30,8,"M","D","2023-09-30"]
[null,null,null,null,null,"20754203-2","MAYKOL LIZANDRO SOTO DÍAZ","2001-11-16",21,10,"M","B","2023-09-30"]
[null,null,null,null,null,"20754190-7","KRISNA ISIDORA ORTEGA RODRÍGUEZ","2001-11-11",21,10,"F","C","2023-09-30"]
[null,null,null,null,null,"11945049-7","JUAN MIGUEL JARA LÓPEZ","1972-12-21",50,9,"M","B","2023-09-30"]
[null,null,null,null,null,"10025484-0","CARLOS ANTONIO ARAYA MEZA","1967-02-21",56,7,"M","D","2023-09-30"]
[null,null,null,null,null,"18385659-6","CLAUDIO HERNÁN ABARCA GAMBOA","1993-07-01",30,2,"M","B","2023-09-30"]
[null,null,null,null,null,"5444914-3","RUFINA DEL CARMEN OLIVARES ROJAS","1949-12-22",73,9,"F","B","2023-09-30"]
[null,null,null,null,null,"28161104-6","VIOLETA CONSTANZA DA SILVA ORELLANA","2023-06-01",0,3,"F","D","2023-09-30"]
[null,null,null,null,null,"18113594-8","DANIEL JESÚS ALFARO BECERRA","1992-04-18",31,5,"M","D","2023-09-30"]
[null,null,null,null,null,"9756693-3","MARÍA ALEJANDRA AMIGO FERNANDINI","1966-05-24",57,4,"F","B","2023-09-30"]
[null,null,null,null,null,"17818511-K","MARIANA TERESA FIGUEROA GALDÁMEZ","1991-04-05",32,5,"F","A","2023-09-30"]
[null,null,null,null,null,"6177759-8","MARGARITA DEL CARMEN LAVADO SEPÚLVEDA","1949-10-27",73,11,"F","B","2023-09-30"]
[null,null,null,null,null,"24811957-8","FRANCISCA ISIDORA LOPEZ CARRASCO","2014-11-29",8,10,"F","A","2023-09-30"]
[null,null,null,null,null,"18113398-8","JULIO CÉSAR ROMERO ROMERO","1992-02-05",31,7,"M","D","2023-09-30"]
[null,null,null,null,null,"12950715-2","MARISOL DEL CARMEN URBINA RODRÍGUEZ","1976-03-03",47,6,"F","C","2023-09-30"]
[null,null,null,null,null,"27932761-6","ERICK DELGADO CACERES","2022-09-18",1,0,"M","B","2023-09-30"]
[null,null,null,null,null,"17175907-2","FELIPE HERNÁN MORALES QUINTREQUEO","1989-06-01",34,3,"M","D","2023-09-30"]
[null,null,null,null,null,"12350840-8","ROSA MARÍA GONZÁLEZ ASTORGA","1973-06-16",50,3,"F","D","2023-09-30"]
[null,null,null,null,null,"15555578-5","KAREN CRISTINA OYANEDEL OYANEDEL","1983-09-28",40,0,"F","C","2023-09-30"]
[null,null,null,null,null,"23481792-2","VICENTE IGNACIO HERRERA RÍOS","2010-11-15",12,10,"M","A","2023-09-30"]
[null,null,null,null,null,"10245891-5","CLAUDIO ALEJANDRO FLORES ARANCIBIA","1969-10-09",53,11,"M","C","2023-09-30"]
[null,null,null,null,null,"13539746-6","LEONARDO ENRIQUE BUSTOS JARA","1979-05-02",44,4,"M","B","2023-09-30"]
[null,null,null,null,null,"25010942-3","MADELYNE FRANCISCA URBINA SALINAS","2015-06-10",8,3,"F","A","2023-09-30"]
[null,null,null,null,null,"11386050-2","RODRIGO LEONARDO PEREIRA MARTÍNEZ","1969-06-27",54,3,"M","B","2023-09-30"]
[null,null,null,null,null,"16852297-5","FABIOLA BETSABÉ REINOSO SAAVEDRA","1988-08-10",35,1,"F","D","2023-09-30"]
[null,null,null,null,null,"15438441-3","FELIPE IGNACIO SÁNCHEZ SÁNCHEZ","1982-01-20",41,8,"M","C","2023-09-30"]
[null,null,null,null,null,"22768205-1","ANTONELLA PASKAL SILVA MANZANO","2008-07-12",15,2,"F","B","2023-09-30"]
[null,null,null,null,null,"27453036-7","FERNANDA BELEN GUERRA GORMAZ","2021-01-18",2,8,"F","A","2023-09-30"]
[null,null,null,null,null,"4530288-1","FRANCISCO JAVIER JUA LEYTON VERDEJO","1940-10-31",82,10,"M","B","2023-09-30"]
[null,null,null,null,null,"23847722-0","ANDRÉS MISAEL ORTIZ ROJAS","2012-01-06",11,8,"M","C","2023-09-30"]
[null,null,null,null,null,"22180575-5","ANAYS DANIELA VARGAS MUÑOZ","2006-08-05",17,1,"F","A","2023-09-30"]
[null,null,null,null,null,"17469006-5","MARÍA JOSÉ ARAYA HERRERA","1990-03-29",33,6,"F","C","2023-09-30"]
[null,null,null,null,null,"26895924-6","JAVIERA ISIDORA LAZCANO TAPIA","2019-06-30",4,3,"F","D","2023-09-30"]
[null,null,null,null,null,"5417336-9","JOSÉ MANUEL VILLARROEL ARANCIBIA","1946-09-18",77,0,"M","B","2023-09-30"]
[null,null,null,null,null,"26523369-4","MATILDA PASCUALA HERRERA CÁRCAMO","2018-10-18",4,11,"F","B","2023-09-30"]
[null,null,null,null,null,"4864913-0","GILDA DE LAS NIEVES GUERRA MONASTERIO","1944-07-28",79,2,"F","B","2023-09-30"]
[null,null,null,null,null,"15189978-1","MARIANNE VALESKA FLORES SANDOVAL","1984-08-16",39,1,"F","B","2023-09-30"]
[null,null,null,null,null,"12317552-2","JORGE ANTONIO ALEGRÍA SEPÚLVEDA","1972-04-22",51,5,"M","D","2023-09-30"]
[null,null,null,null,null,"17163693-0","PRISCILA ANDREA HERRERA ORTEGA","1988-12-03",34,9,"F","A","2023-09-30"]
[null,null,null,null,null,"21129778-6","VÍCTOR ANDRÉS BUGUEÑO ARIAS","2002-09-06",21,0,"M","B","2023-09-30"]
[null,null,null,null,null,"10493655-5","ROSA INÉS JARA INOSTROZA","1965-01-21",58,8,"F","B","2023-09-30"]
[null,null,null,null,null,"6181027-7","RUTH SABINA GUERRA GUZMÁN","1950-06-07",73,3,"F","B","2023-09-30"]
[null,null,null,null,null,"23544312-0","FRANCESCA ANTONELLA AGUILERA LÓPEZ","2011-01-27",12,8,"F","D","2023-09-30"]
[null,null,null,null,null,"4572063-2","RAMÓN HERNÁN CAMUS VILLARROEL","1942-07-26",81,2,"M","B","2023-09-30"]
[null,null,null,null,null,"13331129-7","ANITA MARÍA OYARZÚN SAAVEDRA","1978-12-04",44,9,"F","D","2023-09-30"]
[null,null,null,null,null,"8259161-3","AURORA DEL ROSARIO MONTENEGRO CASTRO","1955-08-23",68,1,"F","C","2023-09-30"]
[null,null,null,null,null,"17163934-4","MARCELA NICOLE ESCAMILLA MARTÍNEZ","1989-01-31",34,7,"F","B","2023-09-30"]
[null,null,null,null,null,"16551069-0","DIANA CAROLINA HERRERA AHUMADA","1987-07-30",36,2,"F","B","2023-09-30"]
[null,null,null,null,null,"12576205-0","MIRIAN CRISTINA ALCAYAGA ARAYA","1973-11-08",49,10,"F","A","2023-09-30"]
[null,null,null,null,null,"24065616-7","MIGUEL ANGEL PARRA GUAJARDO","2012-09-12",11,0,"M","A","2023-09-30"]
[null,null,null,null,null,"8646964-2","JAIME ANTONIO LEÓN CORTÉS","1960-01-10",63,8,"M","B","2023-09-30"]
[null,null,null,null,null,"8250562-8","BERTA DEL CARMEN SUAZO GALDAMES","1959-04-27",64,5,"F","B","2023-09-30"]
[null,null,null,null,null,"12950695-4","VÍCTOR ANTONIO MARTÍNEZ PEREIRA","1976-01-14",47,8,"M","D","2023-09-30"]
[null,null,null,null,null,"22714568-4","MELINA SOFÍA PEREIRA KAEMLING","2008-05-05",15,4,"F","D","2023-09-30"]
[null,null,null,null,null,"25491502-5","RAFAEL ULISES CARTAGENA SALINAS","2016-08-30",7,1,"M","B","2023-09-30"]
[null,null,null,null,null,"12834500-0","IRENE ELENA LEÓN HUARITA","1975-05-12",48,4,"F","A","2023-09-30"]
[null,null,null,null,null,"27535495-3","SOFIA ISIDORA GUERRA BUSTOS","2021-05-16",2,4,"F","D","2023-09-30"]
[null,null,null,null,null,"7527961-2","JUANA EUDOCIA LARA MATURANA","1957-01-06",66,8,"F","B","2023-09-30"]
[null,null,null,null,null,"25944884-0","JOSEFA PAZ BARRAZA AVALLAI","2017-10-11",5,11,"F","C","2023-09-30"]
[null,null,null,null,null,"11430597-9","ADRIANA CRISTINA ROJAS ESTRADA","1969-10-04",53,11,"F","D","2023-09-30"]
[null,null,null,null,null,"16852684-9","MARGARITA ANDREA RODRÍGUEZ CALDERÓN","1988-10-23",34,11,"F","B","2023-09-30"]
[null,null,null,null,null,"23418941-7","JULIETA ANTONIA BERRÍOS OYARCE","2010-09-03",13,0,"F","A","2023-09-30"]
[null,null,null,null,null,"4089576-0","EDDIE JAIME SANTOS SANTOS","1940-09-23",83,0,"M","B","2023-09-30"]
[null,null,null,null,null,"9754897-8","ELIANDRO ERNESTO AHUMADA SALDÍVAR","1965-11-07",57,10,"M","A","2023-09-30"]
[null,null,null,null,null,"17165048-8","TAMARA CLAUDINA MENDOZA GAETE","1989-09-26",34,0,"F","B","2023-09-30"]
[null,null,null,null,null,"16719384-6","OSCAR MAURICIO BAHAMONDES CORTÉS","1988-03-13",35,6,"M","D","2023-09-30"]
[null,null,null,null,null,"8625834-K","EDMUNDO DE LA CRUZ DELGADO HIDALGO","1960-02-15",63,7,"M","D","2023-09-30"]
[null,null,null,null,null,"19136006-0","GUILLERMO JOAQUÍN ÁLAMOS MENESES","1995-08-30",28,1,"M","X","2023-09-30"]
[null,null,null,null,null,"19297298-1","JOSÉ ARIEL MUÑOZ MORALES","1996-03-27",27,6,"M","B","2023-09-30"]
[null,null,null,null,null,"10643756-4","MARGARITA DEL CARMEN BERRÍOS JARA","1969-06-09",54,3,"F","B","2023-09-30"]
[null,null,null,null,null,"16306325-5","WILLIAM ALEJANDRO MOYANO GUERRA","1986-03-17",37,6,"M","D","2023-09-30"]
[null,null,null,null,null,"9060007-9","MAGALY GIOCONDA FERNÁNDEZ GUTIÉRREZ","1961-10-16",61,11,"F","B","2023-09-30"]
[null,null,null,null,null,"25018761-0","MAXIMILIANO ALONSO IBACETA HERRERA","2015-06-20",8,3,"M","B","2023-09-30"]
[null,null,null,null,null,"10400353-2","AMADORA DEL CARMEN ROMERO SIERRA","1965-11-11",57,10,"F","B","2023-09-30"]
[null,null,null,null,null,"15818866-K","GABRIELA AMANDA LEIVA CELEDÓN","1984-09-03",39,0,"F","D","2023-09-30"]
[null,null,null,null,null,"21921860-5","ESTEBAN ALEXIS JARA VIDELA","2005-09-02",18,0,"M","C","2023-09-30"]
[null,null,null,null,null,"23393314-7","EDSON JESÚS ALAYO FAVREAU","2010-08-10",13,1,"M","A","2023-09-30"]
[null,null,null,null,null,"18973927-3","LESLYE ALEXSANDRA CORDERO LOBOS","1995-07-25",28,2,"F","B","2023-09-30"]
[null,null,null,null,null,"16966855-8","KAREN DEL PILAR ROA BELLO","1988-05-11",35,4,"F","A","2023-09-30"]
[null,null,null,null,null,"23357446-5","CARLOS ANDRÉS IBACETA BARRÍA","2010-06-26",13,3,"M","D","2023-09-30"]
[null,null,null,null,null,"19267970-2","MARCELO ANTONIO MELLA LOBOS","1996-02-21",27,7,"M","X","2023-09-30"]
[null,null,null,null,null,"16306719-6","EDISON FABIÁN AYALA ROSALES","1986-09-30",37,0,"M","C","2023-09-30"]
[null,null,null,null,null,"15067218-K","CLAUDIA ANDREA MORALES FIGUEROA","1982-11-17",40,10,"F","D","2023-09-30"]
[null,null,null,null,null,"23514580-4","ANTONIA IGNACIA RÍOS VARGAS","2010-12-31",12,8,"F","A","2023-09-30"]
[null,null,null,null,null,"21271772-K","JADEEN NATALY GALLARDO GALLARDO","2003-03-12",20,6,"F","A","2023-09-30"]
[null,null,null,null,null,"18386021-6","FRANCISCA STEPHANIA CARVAJAL CHANDÍA","1993-09-22",30,0,"F","C","2023-09-30"]
[null,null,null,null,null,"8183009-6","ALFREDO ALEJANDRO ARANCIBIA OYANEDEL","1959-05-05",64,4,"M","B","2023-09-30"]
[null,null,null,null,null,"6601196-8","JULIA DE LAS MERCEDE REBOLLEDO SOTO","1949-06-19",74,3,"F","B","2023-09-30"]
[null,null,null,null,null,"21350005-8","CESAR SEGUNDO GORMAZ GALLARDO","2003-07-27",20,2,"M","A","2023-09-30"]
[null,null,null,null,null,"22915846-5","GASPAR EMILIANO LÓPEZ ARELLANO","2008-12-30",14,9,"M","D","2023-09-30"]
[null,null,null,null,null,"7563546-K","TERESA VERÓNICA RODRÍGUEZ HUMERES","1954-07-09",69,2,"F","B","2023-09-30"]
[null,null,null,null,null,"21040263-2","MARCO FAVIO TORO MARTÍNEZ","2002-06-10",21,3,"M","B","2023-09-30"]
[null,null,null,null,null,"7689573-2","CARMEN GLADYS MARÍN JARA","1953-02-01",70,7,"F","D","2023-09-30"]
[null,null,null,null,null,"7027152-4","JORGE RENÉ VILLARROEL MONTENEGRO","1952-06-01",71,3,"M","B","2023-09-30"]
[null,null,null,null,null,"27826802-0","DAYARVIS CAROLINA MONTERO VERA","1995-07-18",28,2,"F","B","2023-09-30"]
[null,null,null,null,null,"24357679-2","FLORENCIA ISABELLA LIBERÓN CLAVIERE","2013-07-31",10,1,"F","D","2023-09-30"]
[null,null,null,null,null,"17469567-9","GRACE MANUELLA STEPH MOLINA DÍAZ","1990-09-06",33,0,"F","A","2023-09-30"]
[null,null,null,null,null,"12950346-7","CATHERINE FABIOLA PONCE PONCE","1976-06-16",47,3,"F","D","2023-09-30"]
[null,null,null,null,null,"18973907-9","JOSÉ DANIEL GAETE SAAVEDRA","1995-07-12",28,2,"M","B","2023-09-30"]
[null,null,null,null,null,"48104550-9","MORENABELEN RODRIGUEZ 0","2006-01-15",17,8,"F","X","2023-09-30"]
[null,null,null,null,null,"10461361-6","CARMEN GLORIA PUEBLA COLLAO","1974-02-15",49,7,"F","B","2023-09-30"]
[null,null,null,null,null,"6460437-6","MARTA LILA ARAYA RODRÍGUEZ","1951-05-20",72,4,"F","B","2023-09-30"]
[null,null,null,null,null,"21164323-4","GABRIELA ESPERANZA GALDAMES VIDELA","2002-11-12",20,10,"F","B","2023-09-30"]
[null,null,null,null,null,"4827767-5","BERNARDITA MAGDALENA RODRÍGUEZ CÁRDENAS","1943-12-12",79,9,"F","B","2023-09-30"]
[null,null,null,null,null,"9710057-8","EDELMIRA DEL TRÁNSIT CÁRCAMO CARVAJAL","1961-06-11",62,3,"F","B","2023-09-30"]
[null,null,null,null,null,"15061623-9","VICTORIA ORIANA HERRERA HERRERA","1982-11-23",40,10,"F","B","2023-09-30"]
[null,null,null,null,null,"18679793-0","NIBALDO ANDRÉS LEÓN SÁNCHEZ","1993-12-14",29,9,"M","B","2023-09-30"]
[null,null,null,null,null,"15061680-8","EDUARDO HUMBERTO SÁNCHEZ URBINA","1982-11-19",40,10,"M","C","2023-09-30"]
[null,null,null,null,null,"18113991-9","KATHERINE MARIANA MUÑOZ AGUILAR","1992-07-28",31,2,"F","B","2023-09-30"]
[null,null,null,null,null,"24128841-2","REBECA MARIA RAMIREZ PINTO","2012-11-30",10,10,"F","A","2023-09-30"]
[null,null,null,null,null,"3865548-5","ADRIANA LEONOR LIRA JELDES","1938-06-03",85,3,"F","B","2023-09-30"]
[null,null,null,null,null,"4328509-2","MARÍA TERESA GONZÁLEZ OYARZO","18-06-1896",{"$error":"#VALUE!"},{"$error":"#VALUE!"},"F","X","2023-09-30"]
[null,null,null,null,null,"26825893-0","AGUSTÍN ANTONIO NAVEA LEIVA","2019-05-11",4,4,"M","A","2023-09-30"]
[null,null,null,null,null,"15062085-6","AVIERES ENRIQUE REINOSO MURA","1982-07-30",41,2,"M","D","2023-09-30"]
[null,null,null,null,null,"24844750-8","GABRIELA ALEJANDRA CARVALLO NUÑEZ","2015-01-03",8,8,"F","A","2023-09-30"]
[null,null,null,null,null,"19582024-4","GERALDINE DE JESÚS CAICEO OLEA","1997-06-07",26,3,"F","B","2023-09-30"]
[null,null,null,null,null,"27738384-5","ISIDORA FERNANDA FUENTES BERRÍOS","2022-03-10",1,6,"F","B","2023-09-30"]
[null,null,null,null,null,"11313320-1","ERIKA DEL CARMEN OLMEDO GUEVARA","1968-06-15",55,3,"F","C","2023-09-30"]
[null,null,null,null,null,"27549697-9","DENISE VICTORIA TAPIA GONZALEZ","2021-06-04",2,3,"F","C","2023-09-30"]
[null,null,null,null,null,"21460329-2","KIMBERLIN ANAÍS MANZANO SAAVEDRA","2003-12-02",19,9,"F","C","2023-09-30"]
[null,null,null,null,null,"9992182-K","VIOLETA DE LAS MERCEDES HUETE YÉVENES","1965-07-24",58,2,"F","D","2023-09-30"]
[null,null,null,null,null,"13540289-3","ANGIE BÁRBARA SALDAÑO OLIVARES","1979-01-27",44,8,"F","B","2023-09-30"]
[null,null,null,null,null,"25812942-3","MÍA IGNACIA SAAVEDRA ZAMORA","2017-05-25",6,4,"F","A","2023-09-30"]
[null,null,null,null,null,"7722222-7","FIDEL FRANCISCO PEREIRA MARTÍNEZ","1956-11-11",66,10,"M","C","2023-09-30"]
[null,null,null,null,null,"21967582-8","FRANCISCA FERNANDA PEÑA ROBLES","2005-10-27",17,11,"F","X","2023-09-30"]
[null,null,null,null,null,"23681444-0","MÁXIMO ROBERTO MONTENEGRO RIVERA","2011-07-03",12,2,"M","D","2023-09-30"]
[null,null,null,null,null,"21596084-6","JAVIER IGANCIO CELEDON CUEVAS","2004-06-05",19,3,"M","B","2023-09-30"]
[null,null,null,null,null,"4086070-3","GUILLERMO AHUMADA ","1939-03-20",84,6,"M","B","2023-09-30"]
[null,null,null,null,null,"8241390-1","MARISOL DE LAS MERCE LAZCANO SOTO","1966-07-26",57,2,"F","A","2023-09-30"]
[null,null,null,null,null,"6130943-8","JORGE LUIS MURA HERRERA","1947-09-17",76,0,"M","B","2023-09-30"]
[null,null,null,null,null,"18716891-0","FRANCO ALEXIS TORO CASANOVA","1994-01-19",29,8,"M","D","2023-09-30"]
[null,null,null,null,null,"25883808-4","MATÍAS ALONSO DURÁN ORTEGA","2017-08-22",6,1,"M","C","2023-09-30"]
[null,null,null,null,null,"22827472-0","CRISTÓBAL IGNACIO REINOSO ARAYA","2008-09-27",15,0,"M","A","2023-09-30"]
[null,null,null,null,null,"23497481-5","ANTHONELLA ANELYS REINOSO POBLETE","2010-12-10",12,9,"F","A","2023-09-30"]
[null,null,null,null,null,"24985087-K","GASPAR ALFONSO ANGULO DÍAZ","2015-05-12",8,4,"M","A","2023-09-30"]
[null,null,null,null,null,"12370797-4","TATIANA DE LAS MERCE ORMAZÁBAL NAVARRO","1973-05-24",50,4,"F","B","2023-09-30"]
[null,null,null,null,null,"21531277-1","LESLIE ISABEL VERDEJO GONZÁLEZ","2004-03-11",19,6,"F","B","2023-09-30"]
[null,null,null,null,null,"14170615-2","JOHANNA ELIZABETH HORTA GONZÁLEZ","1980-12-19",42,9,"F","B","2023-09-30"]
[null,null,null,null,null,"7567594-1","MARÍA VIRGINIA PATRICIA CÉSPED CÉSPED","1955-08-25",68,1,"F","A","2023-09-30"]
[null,null,null,null,null,"23617780-7","LEONARDO AMARO MOLINA HERRERA","2011-04-09",12,5,"M","A","2023-09-30"]
[null,null,null,null,null,"19581686-7","PATRICIA NAYARET HIDALGO OTÁROLA","1997-03-07",26,6,"F","X","2023-09-30"]
[null,null,null,null,null,"13827982-0","MARITZA ANDREA CRUZ LÓPEZ","1980-10-24",42,11,"F","B","2023-09-30"]
[null,null,null,null,null,"9180901-K","MARÍA GLORIA PULGAR ARAYA","1963-06-24",60,3,"F","A","2023-09-30"]
[null,null,null,null,null,"17188519-1","STEFFANY FRANCISCA BRAVO MUÑOZ","1989-01-15",34,8,"F","X","2023-09-30"]
[null,null,null,null,null,"6234578-0","NELSON ENRIQUE VENEGAS SALGADO","1952-06-05",71,3,"M","B","2023-09-30"]
[null,null,null,null,null,"5848987-5","EDUARDO ALBINO OLGUÍN MARTÍNEZ","1947-03-01",76,6,"M","C","2023-09-30"]
[null,null,null,null,null,"20408473-4","NICOL IGNACIA CAMUS CÁCERES","2000-06-30",23,3,"F","B","2023-09-30"]
[null,null,null,null,null,"27454889-4","JORGELINA MACARENA MASIERO ","1983-08-30",40,1,"F","C","2023-09-30"]
[null,null,null,null,null,"4905775-K","JULIO RICARDO PALACIOS GAMBOA","1944-12-25",78,9,"M","D","2023-09-30"]
[null,null,null,null,null,"11944985-5","MARTA LORENA QUIROZ ESPÍNDOLA","1971-07-27",52,2,"F","X","2023-09-30"]
[null,null,null,null,null,"23272411-0","EMILIO BARAHONA GUERRA","2010-03-14",13,6,"M","D","2023-09-30"]
[null,null,null,null,null,"23373920-0","ITHAN JACOB MARTÍNEZ DÍAZ","2010-07-16",13,2,"M","A","2023-09-30"]
[null,null,null,null,null,"25588610-K","AGUSTÍN ETIHER ESPARZA CATALÁN","2016-10-24",6,11,"M","B","2023-09-30"]
[null,null,null,null,null,"14511098-K","PABLO EDUARDO CAMUS SUÁREZ","1974-10-13",48,11,"M","A","2023-09-30"]
[null,null,null,null,null,"16962542-5","KEREN YEMINA VILLARROEL RÍOS","1988-11-18",34,10,"F","D","2023-09-30"]
[null,null,null,null,null,"17953738-9","ROCÍO BELÉN CABEZAS VERGARA","1992-03-06",31,6,"F","B","2023-09-30"]
[null,null,null,null,null,"18135570-0","CLAUDIO ANDRÉS MUÑOZ ARÉVALO","1992-08-07",31,1,"M","A","2023-09-30"]
[null,null,null,null,null,"8794195-7","IVÁN JULIO MORENO MUÑOZ","1963-12-13",59,9,"M","D","2023-09-30"]
[null,null,null,null,null,"9189755-5","OFELIA ANGÉLICA MUÑOZ ORTEGA","1964-01-04",59,8,"F","D","2023-09-30"]
[null,null,null,null,null,"17410274-0","MARGARITA FRANCISCA OPAZO BAHAMONDES","1989-11-16",33,10,"F","D","2023-09-30"]
[null,null,null,null,null,"6891278-4","NORA CLODOMIRA ARENAS SAGREDO","1946-01-23",77,8,"F","B","2023-09-30"]
[null,null,null,null,null,"8499829-K","DIONISIA DEL CARMEN RODRÍGUEZ HUMERES","1961-05-16",62,4,"F","C","2023-09-30"]
[null,null,null,null,null,"18114095-K","JAIME ALEJANDRO PEREIRA VALENZUELA","1992-07-28",31,2,"M","C","2023-09-30"]
[null,null,null,null,null,"16280074-4","ÁLVARO ANTONIO LORCA MORA","1986-06-04",37,3,"M","D","2023-09-30"]
[null,null,null,null,null,"15060979-8","ALEX FERNANDO PEÑA ASTORGA","1982-06-12",41,3,"M","D","2023-09-30"]
[null,null,null,null,null,"24834763-5","EMILIAANTONIA GÀMEZ C CERES","2014-12-20",8,9,"F","D","2023-09-30"]
[null,null,null,null,null,"18380937-7","GONZALO FRANCISCO SILVA BARRAZA","1993-02-18",30,7,"M","C","2023-09-30"]
[null,null,null,null,null,"6201805-4","MIGUEL HERNÁN CAMUS TORREALBA","1948-11-07",74,10,"M","C","2023-09-30"]
[null,null,null,null,null,"19887569-4","CASANDRA JAVIERA SÁNCHEZ VILLARROEL","1998-04-10",25,5,"F","C","2023-09-30"]
[null,null,null,null,null,"26310459-5","EDUARDO ANDRES LIRA MORALES","2018-06-07",5,3,"M","B","2023-09-30"]
[null,null,null,null,null,"23920272-1","MARTINA BELÉN FREDES SEGURA","2012-04-09",11,5,"F","D","2023-09-30"]
[null,null,null,null,null,"23838884-8","CONSTANZA BELÉN LÓPEZ RODRÍGUEZ","2012-01-09",11,8,"F","D","2023-09-30"]
[null,null,null,null,null,"3916400-0","CECILIA DE LAS MERCE BAEZA MARTÍNEZ","1939-08-25",84,1,"F","B","2023-09-30"]
[null,null,null,null,null,"13366193-K","JESSICA VIVIANA MORENO POBLETE","1975-09-29",48,0,"F","B","2023-09-30"]
[null,null,null,null,null,"23411887-0","JOSÉ LUIS ENRIQUE MATELUNA ZAMORA","2010-08-29",13,1,"M","A","2023-09-30"]
[null,null,null,null,null,"26749463-0","JOSEFA BELÉN ORELLANA ESPÍNOLA","2019-03-15",4,6,"F","A","2023-09-30"]
[null,null,null,null,null,"4243980-0","LUCILA PFENG PFENG","1937-03-24",86,6,"F","B","2023-09-30"]
[null,null,null,null,null,"11386315-3","ROSA ESTER ESCUDERO ESPÍNOLA","1969-10-25",53,11,"F","B","2023-09-30"]
[null,null,null,null,null,"19267416-6","LICRALLEN HUARA PÉREZ ALFARO","1995-10-26",27,11,"F","B","2023-09-30"]
[null,null,null,null,null,"27720355-3","EMILY CARLITA MARCHANT BAIGORRIA","2022-02-12",1,7,"F","A","2023-09-30"]
[null,null,null,null,null,"16550002-4","VÍCTOR ALFONSO GAETE AHUMADA","1986-11-14",36,10,"M","D","2023-09-30"]
[null,null,null,null,null,"12578863-7","SOLANGE ANDREA SALINAS OLIVOS","1974-06-07",49,3,"F","X","2023-09-30"]
[null,null,null,null,null,"17759539-K","YOHNNI PATRICIO TORRES CAMPOS","1991-05-14",32,4,"M","B","2023-09-30"]
[null,null,null,null,null,"7491551-5","RUBÉN DARÍO MARTÍNEZ GAETE","1954-12-01",68,9,"M","C","2023-09-30"]
[null,null,null,null,null,"8879873-2","SERGIO ANDRÉS ARANCIBIA MARTÍNEZ","1961-12-07",61,9,"M","B","2023-09-30"]
[null,null,null,null,null,"10397624-3","PAOLA MARGARITA GALLARDO LEIVA","1968-02-22",55,7,"F","C","2023-09-30"]
[null,null,null,null,null,"21412470-K","BENJAMIN IGNACIO RAMIREZ ZULUAGA","2003-10-12",19,11,"M","B","2023-09-30"]
[null,null,null,null,null,"10676416-6","MARÍA JACQUELINE ROMERO HERRERA","1968-11-09",54,10,"F","B","2023-09-30"]
[null,null,null,null,null,"14012139-8","CAROLINA BEATRIZ SOTO PINTO","1981-06-20",42,3,"F","A","2023-09-30"]
[null,null,null,null,null,"22932843-3","FELIPE GUILLERMO ARMANDO JARA CALDERÓN","2009-01-27",14,8,"M","B","2023-09-30"]
[null,null,null,null,null,"17181768-4","JUAN CARLOS PACHECO PLAZA","1988-12-27",34,9,"M","C","2023-09-30"]
[null,null,null,null,null,"19867389-7","CAMILA IVANIA CUBILLOS TORRES","1999-01-18",24,8,"F","B","2023-09-30"]
[null,null,null,null,null,"6768773-6","GERMÁN ESTEBAN HURTUBIA CHÁVEZ","1952-01-20",71,8,"M","B","2023-09-30"]
[null,null,null,null,null,"15818976-3","JUAN GUILLERMO ARAVENA URBINA","1984-09-20",39,0,"M","D","2023-09-30"]
[null,null,null,null,null,"28204477-3","ALVARO ANTONIO RUIZ BUELVAS","2023-07-29",0,2,"M","B","2023-09-30"]
[null,null,null,null,null,"25072204-4","SOFIA BELEN TAPIA ALFARO","2015-08-11",8,1,"F","A","2023-09-30"]
[null,null,null,null,null,"8146320-4","MARGARITA AMALIA DE OLIVARES MONTENEGRO","1955-04-15",68,5,"F","C","2023-09-30"]
[null,null,null,null,null,"19268574-5","MARISEL ARACELY JAIME JAIME","1996-08-04",27,1,"F","A","2023-09-30"]
[null,null,null,null,null,"20408169-7","BASTIÁN PATRICIO MARCHANT ROSENDE","2000-04-06",23,5,"M","C","2023-09-30"]
[null,null,null,null,null,"16550447-K","ROSA ELISABET HENRÍQUEZ FERNÁNDEZ","1987-02-24",36,7,"F","C","2023-09-30"]
[null,null,null,null,null,"15061639-5","SOLEDAD HAYDÉE ROBLES MESÍAS","1982-11-25",40,10,"F","A","2023-09-30"]
[null,null,null,null,null,"9753773-9","ROBINSON PATRICIO HERRERA VILLANUEVA","1965-09-03",58,0,"M","X","2023-09-30"]
[null,null,null,null,null,"17817881-4","MARÍA TERESA RODRÍGUEZ GONZÁLEZ","1990-10-25",32,11,"F","D","2023-09-30"]
[null,null,null,null,null,"18680097-4","EMILY NAYARETH AGUIRRE AHUMADA","1994-03-13",29,6,"F","B","2023-09-30"]
[null,null,null,null,null,"21857022-4","JORGE ALEJANDRO VILLANUEVA LEPE","2005-06-09",18,3,"F","A","2023-09-30"]
[null,null,null,null,null,"1430108-9","HUMBERTO HERRERA ","1911-08-31",112,0,"M","B","2023-09-30"]
[null,null,null,null,null,"24174525-2","JAVIERA AYLEEN ESPERANZA GÓMEZ CORDERO","2013-01-21",10,8,"F","A","2023-09-30"]
[null,null,null,null,null,"27589084-7","CONSTANZA ISABELA RAMÍREZ LARENAS","2021-08-01",2,1,"F","A","2023-09-30"]
[null,null,null,null,null,"11384605-4","EMA ALBERTIDA MONTENEGRO CORTÉS","1969-08-05",54,1,"F","B","2023-09-30"]
[null,null,null,null,null,"8266813-6","NELLY ASCENCIÓN MUÑOZ TRIVIÑO","1958-02-24",65,7,"F","B","2023-09-30"]
[null,null,null,null,null,"10229720-2","EUGENIO ALBERTO DE S BENAVIDES PEÑA","1969-03-31",54,5,"M","D","2023-09-30"]
[null,null,null,null,null,"10298680-6","FABIOLA DEL CARMEN FARÍAS OLIVOS","1973-08-06",50,1,"F","C","2023-09-30"]
[null,null,null,null,null,"20543863-7","IGNACIO ALEJANDRO LAGUNAS VÉLIZ","2001-01-10",22,8,"M","B","2023-09-30"]
[null,null,null,null,null,"25354587-9","JOAQUIN ALEXANDER CAMPOS MIRANDA","2016-04-07",7,5,"M","A","2023-09-30"]
[null,null,null,null,null,"26151109-6","PÍA FIORELLA GONZÁLEZ LAZO","2018-03-02",5,6,"F","B","2023-09-30"]
[null,null,null,null,null,"17164922-6","MARYORIE SAIDA PINTO HIDALGO","1989-09-16",34,0,"F","A","2023-09-30"]
[null,null,null,null,null,"10657722-6","SANDRA DEL CARMEN LEÓN OSORIO","1969-10-15",53,11,"F","B","2023-09-30"]
[null,null,null,null,null,"9583225-3","JUAN MANUEL ZÚÑIGA CARRERA","1962-02-17",61,7,"M","C","2023-09-30"]
[null,null,null,null,null,"19141663-5","DANIELA CAMILA CASTILLO PLAZA","1995-05-18",28,4,"F","A","2023-09-30"]
[null,null,null,null,null,"8699203-5","SILVIA DEL CARMEN VERGARA VALLADARES","1959-01-15",64,8,"F","B","2023-09-30"]
[null,null,null,null,null,"8375607-1","GLADYS EUGENIA DEL ROSARIO GÓMEZ IBARRA","1964-08-13",59,1,"F","D","2023-09-30"]
[null,null,null,null,null,"7602841-9","ANTONIETA DE LAS MER ARAVENA HERRERA","1954-02-08",69,7,"F","B","2023-09-30"]
[null,null,null,null,null,"12353477-8","ALEJANDRA DEL CARMEN BARRA VICENCIO","1972-11-13",50,10,"F","A","2023-09-30"]
[null,null,null,null,null,"20133245-1","NICOLÁS ANTONIO ARAVENA CAMPUSANO","1999-06-07",24,3,"M","A","2023-09-30"]
[null,null,null,null,null,"22188978-9","MAXIMILIANO ALEJANDR ORTIZ VÉLIZ","2006-08-18",17,1,"M","A","2023-09-30"]
[null,null,null,null,null,"26656307-8","JULIETA PASCAL CASTRO REINOSO","2019-01-12",4,8,"F","B","2023-09-30"]
[null,null,null,null,null,"27566002-7","JOSEFINA SAVATINI MASIERO","2012-12-08",10,9,"F","C","2023-09-30"]
[null,null,null,null,null,"9866936-1","NOELIA ORFELINA CASTILLO FLORES","1962-09-23",61,0,"F","B","2023-09-30"]
[null,null,null,null,null,"8396634-3","DANIEL DEL TRÁNSITO CISTERNAS ESTAY","1961-08-21",62,1,"M","C","2023-09-30"]
[null,null,null,null,null,"22905349-3","JAVIER ALONSO LILLO VIDAL","2008-12-26",14,9,"M","C","2023-09-30"]
[null,null,null,null,null,"9716099-6","GABRIEL SEGUNDO OLIVARES MONTENEGRO","1965-04-06",58,5,"M","X","2023-09-30"]
[null,null,null,null,null,"12718619-7","SILVIA LORETO LOBOS CONTRERAS","1975-09-20",48,0,"F","B","2023-09-30"]
[null,null,null,null,null,"24236810-K","BELÉN IGNACIA DELGADO DELGADO","2013-04-01",10,5,"F","A","2023-09-30"]
[null,null,null,null,null,"12949955-9","PAOLA ANDREA CASTAÑEDA GONZÁLEZ","1976-03-25",47,6,"F","B","2023-09-30"]
[null,null,null,null,null,"19267838-2","ANÍBAL FABIÁN CABRERA CASTILLO","1995-12-07",27,9,"M","C","2023-09-30"]
[null,null,null,null,null,"22417975-8","AMALIA VALENTINA QUINTEROS GÓMEZ","2007-05-28",16,4,"F","B","2023-09-30"]
[null,null,null,null,null,"8073118-3","HERMINIA DEL CARMEN GONZÁLEZ MARTÍNEZ","1953-03-06",70,6,"F","B","2023-09-30"]
[null,null,null,null,null,"25089226-8","ALEXANDER MATEO SOTO ESPINOLA","2015-08-24",8,1,"M","A","2023-09-30"]
[null,null,null,null,null,"27148476-3","LEÓN ISAAC ZÚÑIGA HERRERA","2020-01-03",3,8,"M","C","2023-09-30"]
[null,null,null,null,null,"7667979-7","PATRICIO RAMÓN LOBOS LÓPEZ","1959-04-27",64,5,"M","B","2023-09-30"]
[null,null,null,null,null,"17164253-1","LUCÍA DANIELA MÉNDEZ LAZCANO","1989-04-04",34,5,"F","C","2023-09-30"]
[null,null,null,null,null,"10181391-6","MARISOL LILIANA TORRES MENA","1967-08-03",56,1,"F","A","2023-09-30"]
[null,null,null,null,null,"10700556-0","VÍCTOR HERIBERTO GONZÁLEZ SEPÚLVEDA","1968-12-30",54,9,"M","B","2023-09-30"]
[null,null,null,null,null,"8733493-7","MARCOS ANTONIO FAÚNDEZ NAVEA","1965-09-18",58,0,"M","C","2023-09-30"]
[null,null,null,null,null,"22617084-7","ANA ESPERANZA ESCOBAR TORRES","2008-01-20",15,8,"F","D","2023-09-30"]
[null,null,null,null,null,"13185443-9","ROSA MARÍA SALINAS SALINAS","1977-02-07",46,7,"F","C","2023-09-30"]
[null,null,null,null,null,"6874838-0","MITZA ANDREA TELLO SATO","1956-09-29",67,0,"F","D","2023-09-30"]
[null,null,null,null,null,"16852629-6","BÁRBARA NICOL VILLALÓN PULGAR","1988-09-19",35,0,"F","B","2023-09-30"]
[null,null,null,null,null,"20408032-1","DUBAN ALEXIS MARTÍNEZ OSORIO","2000-03-06",23,6,"M","D","2023-09-30"]
[null,null,null,null,null,"19888698-K","FABIO ALEXANDRO ALVARADO VARGAS","1998-12-23",24,9,"M","B","2023-09-30"]
[null,null,null,null,null,"15742662-1","PAMELA ISABEL OSORIO TORO","1984-01-03",39,8,"F","D","2023-09-30"]
[null,null,null,null,null,"3208627-6","MARÍA ELIANA SÁNCHEZ PAVEZ","1933-06-03",90,3,"F","B","2023-09-30"]
[null,null,null,null,null,"23988850-K","AURORA HUENCHUR SUARDO","2012-06-20",11,3,"F","B","2023-09-30"]
[null,null,null,null,null,"22711659-5","CATALINA BEATRIZ AHUMADA PORRAS","2008-05-02",15,4,"F","B","2023-09-30"]
[null,null,null,null,null,"9373962-0","JIMENA ZENOBIA GÓMEZ MARTÍNEZ","1958-04-01",65,5,"F","B","2023-09-30"]
[null,null,null,null,null,"11423649-7","GUILLERMO ANTONIO SOTO VARGAS","1969-06-25",54,3,"M","C","2023-09-30"]
[null,null,null,null,null,"13982731-7","MÓNICA DEL CARMEN CABRERA CASTILLO","1981-10-15",41,11,"F","D","2023-09-30"]
[null,null,null,null,null,"14279718-6","MARGARITA ALEJANDRA SALINAS MUÑOZ","1973-10-23",49,11,"F","A","2023-09-30"]
[null,null,null,null,null,"6414186-4","JOSÉ ROBERTO CASTRO GUTIÉRREZ","1951-08-28",72,1,"M","B","2023-09-30"]
[null,null,null,null,null,"14671449-8","RENE AUGUSTO CHAI  A PERCCA","1972-05-05",51,4,"M","A","2023-09-30"]
[null,null,null,null,null,"3962933-K","JORGE GONZÁLEZ LIRA","1939-08-18",84,1,"M","B","2023-09-30"]
[null,null,null,null,null,"8144046-8","LUISA LIDIA CAMUS TORREALBA","1957-11-09",65,10,"F","B","2023-09-30"]
[null,null,null,null,null,"17164655-3","JOSELIN LORENA AHUMADA REYES","1989-07-13",34,2,"F","A","2023-09-30"]
[null,null,null,null,null,"26654077-9","FACUNDO BENJAMIN ARANCIBIA SANTOS","2019-01-11",4,8,"M","B","2023-09-30"]
[null,null,null,null,null,"24836477-7","BENJAMIN ESTEBAN SUAREZ ALFARO","2014-12-17",8,9,"M","C","2023-09-30"]
[null,null,null,null,null,"18114082-8","GABRIELA DE JESÚS OLIVARES BRITO","1992-08-08",31,1,"F","A","2023-09-30"]
[null,null,null,null,null,"22615454-K","JOSÉ ALEJANDRO SOTO ABARCA","2008-01-16",15,8,"M","C","2023-09-30"]
[null,null,null,null,null,"10702066-7","CARLOS MANUEL ARAYA VERDUGO","1968-12-01",54,9,"M","B","2023-09-30"]
[null,null,null,null,null,"5251395-2","LUIS ALEJANDRO JIMÉNEZ ESPINOZA","1944-05-17",79,4,"M","B","2023-09-30"]
[null,null,null,null,null,"24530675-K","AÍDA ISABELLA SANDOVAL ARANCIBIA","2014-02-06",9,7,"F","B","2023-09-30"]
[null,null,null,null,null,"19887069-2","ALDO FRANCO ALBERTO LEIVA","1997-12-08",25,9,"M","A","2023-09-30"]
[null,null,null,null,null,"7881146-3","EUGENIO DEL CARMEN SALINAS SALINAS","1957-07-01",66,2,"M","C","2023-09-30"]
[null,null,null,null,null,"13752751-0","JIMENA ANDREA GARCÍA GUERRERO","1980-05-09",43,4,"F","B","2023-09-30"]
[null,null,null,null,null,"4960895-0","JUANA EUGENIA SILVA PACHECO","1940-10-08",82,11,"F","B","2023-09-30"]
[null,null,null,null,null,"22787106-7","SEBASTIÁN BENJAMÍN ALEJANDRO MUÑOZ HERNÁNDEZ","2008-08-04",15,1,"M","A","2023-09-30"]
[null,null,null,null,null,"22914139-2","ALONSO RAFAEL ZULOAGA AHUMADA","2009-01-05",14,8,"M","D","2023-09-30"]
[null,null,null,null,null,"16852678-4","ISBANIA MASSIEL MALDINI TORO","1988-10-11",34,11,"F","C","2023-09-30"]
[null,null,null,null,null,"6279780-0","ROGELIO CEFERINO CORTÉS GONZÁLEZ","1949-07-17",74,2,"M","D","2023-09-30"]
[null,null,null,null,null,"16851313-5","CATHERINE MARCELA TEJEIRO TEJEIRO","1987-11-25",35,10,"F","B","2023-09-30"]
[null,null,null,null,null,"8264436-9","CAMILO HORTENCIO COLLAO TAPIA","1955-10-26",67,11,"M","D","2023-09-30"]
[null,null,null,null,null,"10240218-9","MARISOL IRENE TORO ROJAS","1962-10-24",60,11,"F","B","2023-09-30"]
[null,null,null,null,null,"19268196-0","ISAÍAS SALOMÓN PALOMINOS SÁEZ","1996-03-31",27,5,"M","C","2023-09-30"]
[null,null,null,null,null,"24481869-2","AURORA ISIDORA LEIVA PULGAR","2013-12-06",9,9,"F","D","2023-09-30"]
[null,null,null,null,null,"19214855-3","JUAN PABLO ABARCA GALINDO","2001-05-05",22,4,"M","D","2023-09-30"]
[null,null,null,null,null,"23233009-0","KIARA AIRA CAROLAIN LECAROS MUÑOZ","2010-01-23",13,8,"F","A","2023-09-30"]
[null,null,null,null,null,"24637360-4","GIULIANA ISABELLA AGUILERA LÓPEZ","2014-05-28",9,4,"F","D","2023-09-30"]
[null,null,null,null,null,"23586311-1","DALIA GABRIELLE QUINTANILLA GLASINOVICH","2011-03-14",12,6,"F","B","2023-09-30"]
[null,null,null,null,null,"22243284-7","FERNANDA CATALINA ROMBADO PORRAS","2006-10-23",16,11,"F","B","2023-09-30"]
[null,null,null,null,null,"7864462-1","MANUEL ANTONIO ARENAS ORELLANA","1957-08-18",66,1,"M","C","2023-09-30"]
[null,null,null,null,null,"26077797-1","MADELINE MARCELA VARGAS URZÚA","2018-01-14",5,8,"F","A","2023-09-30"]
[null,null,null,null,null,"22366443-1","JUAN CRISTÓBAL CORTÉS IBACETA","2007-04-03",16,5,"M","B","2023-09-30"]
[null,null,null,null,null,"7955279-8","ELISA DEL CARMEN DÍAZ SEPÚLVEDA","1960-07-24",63,2,"F","D","2023-09-30"]
[null,null,null,null,null,"13804481-5","IVÁN LORENZO TAPIA REYES","1980-07-22",43,2,"M","B","2023-09-30"]
[null,null,null,null,null,"10333633-3","ALEJANDRO HUMBERTO ACOSTA PATRONI","1970-08-20",53,1,"M","D","2023-09-30"]
[null,null,null,null,null,"19235979-1","IVÁN ERICK OPAZO ABALLAY","1996-05-31",27,3,"M","B","2023-09-30"]
[null,null,null,null,null,"17819222-1","ROMINA NATALIA ARACENA CARVAJAL","1991-09-30",32,0,"F","B","2023-09-30"]
[null,null,null,null,null,"13752248-9","JOSÉ FERNANDO ESPINOZA ROMERO","1980-08-22",43,1,"M","A","2023-09-30"]
[null,null,null,null,null,"17638206-6","MARCELA BEATRIZ LEVÍN CURINAO","1990-12-04",32,9,"F","B","2023-09-30"]
[null,null,null,null,null,"11385941-5","ELENA DEL ROSARIO GALDÁMEZ ULLOA","1969-05-02",54,4,"F","A","2023-09-30"]
[null,null,null,null,null,"5059140-9","LUIS ALBERTO SÁNCHEZ CALDERÓN","1943-04-04",80,5,"M","B","2023-09-30"]
[null,null,null,null,null,"17469635-7","ANA GABRIELA HERNÁNDEZ JIMÉNEZ","1990-10-01",32,11,"F","B","2023-09-30"]
[null,null,null,null,null,"23184134-2","JOSÉ SALVADOR MARIHUAN RIQUELME","1996-06-06",27,3,"M","C","2023-09-30"]
[null,null,null,null,null,"7320071-7","DANIEL SEGUNDO ROJAS MARCO","1956-02-29",67,7,"M","B","2023-09-30"]
[null,null,null,null,null,"17468600-9","MAKARENA TRINIDAD CANABES ARANCIBIA","1990-01-13",33,8,"F","B","2023-09-30"]
[null,null,null,null,null,"24087186-6","RODOLFO MANUEL MEMBRIVE ","1973-02-26",50,7,"M","C","2023-09-30"]
[null,null,null,null,null,"21187948-3","MELISA OLGA ELIANA PEREZ TAPIA","2002-12-05",20,9,"F","D","2023-09-30"]
[null,null,null,null,null,"11731158-9","CARMEN GLORIA PINEDA CARVAJAL","1971-05-25",52,4,"F","D","2023-09-30"]
[null,null,null,null,null,"24898063-K","ELIAN EDUARDO CORTEZ LECAROS","2015-02-11",8,7,"M","C","2023-09-30"]
[null,null,null,null,null,"23114388-2","MATÍAS ALEXIS CORTÉS CARVALLO","2009-09-02",14,0,"M","C","2023-09-30"]
[null,null,null,null,null,"8486121-9","PAOLA LENA AGUIRRE HERRERA","1974-01-08",49,8,"F","C","2023-09-30"]
[null,null,null,null,null,"21796032-0","RODRIGO ALEJANDRO BLANCO ARELLANO","2005-02-24",18,7,"M","D","2023-09-30"]
[null,null,null,null,null,"26891329-7","MATEO ISMAEL LÓPEZ OSORIO","2019-06-26",4,3,"M","D","2023-09-30"]
[null,null,null,null,null,"24637233-0","SERGIO DANIELLS IGNACIO FÁBREGA BAEZA","2014-05-31",9,3,"M","X","2023-09-30"]
[null,null,null,null,null,"22608636-6","TOMÁS IGNACIO CANALES YÉVENES","2007-12-27",15,9,"M","D","2023-09-30"]
[null,null,null,null,null,"7734156-0","IVO IVÁN SOTO ABARCA","1955-03-25",68,6,"M","C","2023-09-30"]
[null,null,null,null,null,"13185343-2","PABLO ANTONIO BUSTOS HERRERA","1977-07-25",46,2,"M","C","2023-09-30"]
[null,null,null,null,null,"7705435-9","TEODOLINDA DEL TRÁNSITO LÓPEZ ARANCIBIA","1959-03-15",64,6,"F","B","2023-09-30"]
[null,null,null,null,null,"20408955-8","CAMILA BELÉN REYES HURTADO","2000-08-20",23,1,"F","B","2023-09-30"]
[null,null,null,null,null,"24719579-3","DANIELA RIVERA ARANDA","2008-06-19",15,3,"F","C","2023-09-30"]
[null,null,null,null,null,"19581541-0","DAVID BERNARDO BASULTO ESPINOZA","1997-01-12",26,8,"M","D","2023-09-30"]
[null,null,null,null,null,"17818541-1","CINTHIA PAMELA TAPIA CALDERÓN","1991-04-06",32,5,"F","D","2023-09-30"]
[null,null,null,null,null,"16027639-8","DAMARYS PAMELA ESPEJO URBINA","1985-10-04",37,11,"F","A","2023-09-30"]
[null,null,null,null,null,"16550402-K","ANDREA DAYANA MURA MIRANDA","1987-02-05",36,7,"F","B","2023-09-30"]
[null,null,null,null,null,"12050369-3","CLAUDIA ANDREA OYARZÚN GUZMÁN","1981-11-23",41,10,"F","B","2023-09-30"]
[null,null,null,null,null,"17469244-0","JOSÉ LUIS ONEL SILVA","1990-06-20",33,3,"M","C","2023-09-30"]
[null,null,null,null,null,"9064964-7","MARGARITA EMA ARANEDA FUENTES","1959-12-18",63,9,"F","C","2023-09-30"]
[null,null,null,null,null,"13185515-K","TERESA DEL CARMEN PULGAR VICENCIO","1977-10-09",45,11,"F","D","2023-09-30"]
[null,null,null,null,null,"20980661-4","YESENIA NOEMÍ ROJAS CIFUENTES","2002-02-16",21,7,"F","B","2023-09-30"]
[null,null,null,null,null,"13982740-6","RODRIGO ALONSO ZULOAGA MUÑOZ","1981-10-30",41,11,"M","D","2023-09-30"]
[null,null,null,null,null,"18259612-4","RENÉ DEL TRÁNSITO SALGADO INFANTE","1990-05-02",33,4,"M","D","2023-09-30"]
[null,null,null,null,null,"24535679-K","FACUNDO TOMÁS CAMPOS HERRERA","2014-02-11",9,7,"M","C","2023-09-30"]
[null,null,null,null,null,"11517970-5","LUIS ALBERTO OSORIO MANDIOLA","1970-09-16",53,0,"M","B","2023-09-30"]
[null,null,null,null,null,"18384936-0","ISAAC BERNABÉ CAMPOS MARTÍNEZ","1992-12-23",30,9,"M","C","2023-09-30"]
[null,null,null,null,null,"10352792-9","LUIS GUILLERMO URIBE CORTEZ","1965-03-14",58,6,"M","C","2023-09-30"]
[null,null,null,null,null,"4219031-4","MARÍA CONSTANZA TOMASSINI OLIVARES","1942-07-03",81,2,"F","C","2023-09-30"]
[null,null,null,null,null,"17800990-7","CAMILA FERNANDA DUGLAS BASTIÁN","1991-09-17",32,0,"F","C","2023-09-30"]
[null,null,null,null,null,"26785068-2","OSCAR GERARDO HIDALGO MUÑOZ","2019-04-04",4,5,"M","A","2023-09-30"]
[null,null,null,null,null,"16551074-7","CRISTIAN EDUARDO JUAN VILLEGAS","1987-08-03",36,1,"M","D","2023-09-30"]
[null,null,null,null,null,"7943652-6","GLORIA DEL CARMEN DE LA PAZ BRITO","1955-01-07",68,8,"F","B","2023-09-30"]
[null,null,null,null,null,"27072551-1","FREDDY CHAURE CRUZ","1978-10-30",44,11,"M","B","2023-09-30"]
[null,null,null,null,null,"13633708-4","RONALD ANTONIO ROJAS AGUILERA","1979-12-21",43,9,"M","D","2023-09-30"]
[null,null,null,null,null,"7505285-5","ISABEL DE LAS MERCED CASTILLO SOTO","1947-01-25",76,8,"F","B","2023-09-30"]
[null,null,null,null,null,"21933083-9","MAURA ANDREA MARTINA MORA TAPIA","2005-09-05",18,0,"F","B","2023-09-30"]
[null,null,null,null,null,"28150038-4","ANNELIZ HELLEN CUADROS PLAZA","2023-05-20",0,4,"F","B","2023-09-30"]
[null,null,null,null,null,"21569783-5","SIMÓN BENJAMÍN BUSTOS BARRAZA","2000-04-27",23,5,"M","B","2023-09-30"]
[null,null,null,null,null,"15061825-8","ANGGE ALEXSANDRA SÁNCHEZ OSORIO","1982-12-25",40,9,"F","D","2023-09-30"]
[null,null,null,null,null,"16851227-9","DANIELA ANDREA PÉREZ QUIROZ","1987-11-25",35,10,"F","A","2023-09-30"]
[null,null,null,null,null,"6616782-8","ANTONIO ENRIQUE JORQUERA PALACIOS","1955-04-11",68,5,"M","B","2023-09-30"]
[null,null,null,null,null,"20993687-9","SEBASTIÁN ARIEL FIGUEROA RÍOS","2002-03-22",21,6,"M","X","2023-09-30"]
[null,null,null,null,null,"8370630-9","DIEGO ANTONIO DELGADO BOTARRO","1963-10-31",59,10,"M","D","2023-09-30"]
[null,null,null,null,null,"14098958-4","MAYRA ALEJANDRA PIÑONES CORTÉS","1981-03-06",42,6,"F","B","2023-09-30"]
[null,null,null,null,null,"20132568-4","LUIS ROGELIO JUAN OROZCO","1998-12-30",24,9,"M","D","2023-09-30"]
[null,null,null,null,null,"26192816-7","ALEXANDER MAXIMILIANO MARTINEZ BAEZA","2018-03-26",5,6,"M","A","2023-09-30"]
[null,null,null,null,null,"24130319-5","ALIZEÉ JAVIERA GONZÁLEZ GALLARDO","2012-11-30",10,10,"F","A","2023-09-30"]
[null,null,null,null,null,"14462519-6","JAIME EDWARDS MALLEA SALINAS","1974-04-27",49,5,"M","B","2023-09-30"]
[null,null,null,null,null,"7652569-2","SERGIO OSVALDO PALMA MONTIEL","1956-11-17",66,10,"M","D","2023-09-30"]
[null,null,null,null,null,"19887691-7","FELIPE ANDRÉS MANRÍQUEZ OSSES","1998-04-13",25,5,"M","D","2023-09-30"]
[null,null,null,null,null,"17818555-1","ANGÉLICA MARLENE SÁNCHEZ VÁSQUEZ","1991-04-24",32,5,"F","B","2023-09-30"]
[null,null,null,null,null,"20407909-9","JAVIER ALONSO LEIVA ACEVEDO","2000-02-02",23,7,"M","B","2023-09-30"]
[null,null,null,null,null,"13539815-2","CRISTIAN JAVIER LEIVA LAZCANO","1979-11-15",43,10,"M","D","2023-09-30"]
[null,null,null,null,null,"41071548-1","JOSE SAVERIO ROJAS .","1965-10-30",57,11,"M","X","2023-09-30"]
[null,null,null,null,null,"23909666-2","KARLA ALEJANDRA TOLEDO AVENDAÑO","2012-03-26",11,6,"F","D","2023-09-30"]
[null,null,null,null,null,"10717816-3","VIRGINIA ROSA ARACENA CORTEZ","1970-01-19",53,8,"F","B","2023-09-30"]
[null,null,null,null,null,"15818263-7","WILLIAMS WILSON GUÍÑEZ VILLARROEL","1984-03-09",39,6,"M","A","2023-09-30"]
[null,null,null,null,null,"15935549-7","YURIXZA IVÓN RAMOS VARGAS","1984-09-17",39,0,"F","B","2023-09-30"]
[null,null,null,null,null,"19267341-0","CONSTANZA BELÉN GÓMEZ LÓPEZ","1995-10-10",27,11,"F","D","2023-09-30"]
[null,null,null,null,null,"22217788-K","BASTIÁN EMMANUEL DE LA VEGA MÁRQUEZ","2006-09-29",17,0,"M","A","2023-09-30"]
[null,null,null,null,null,"33107716-K","JULIO MANUEL MONTILLA GONZALEZ","1972-04-06",51,5,"M","C","2023-09-30"]
[null,null,null,null,null,"11517966-7","EVANGELINA MARGARITA GALLARDO LEIVA","1970-08-02",53,1,"F","A","2023-09-30"]
[null,null,null,null,null,"13984595-1","CAROLE JASNA DROGUETT BARRAZA","1981-08-09",42,1,"F","C","2023-09-30"]
[null,null,null,null,null,"13827978-2","JUAN PATRICIO PADILLA GALLARDO","1980-11-23",42,10,"M","B","2023-09-30"]
[null,null,null,null,null,"16701844-0","MARCELINO WENCESLAO SALAZAR TRONCOSO","1987-08-24",36,1,"M","D","2023-09-30"]
[null,null,null,null,null,"7329455-K","SERGIO ANTONIO ESPINOZA CUEVAS","1957-05-28",66,4,"M","B","2023-09-30"]
[null,null,null,null,null,"15609092-1","JAIME ENRIQUE LATIN DUARTE","1984-08-22",39,1,"M","D","2023-09-30"]
[null,null,null,null,null,"13621152-8","ROSA AMELIA CONCHA REYES","1970-03-26",53,6,"F","B","2023-09-30"]
[null,null,null,null,null,"9010454-3","JACQUELINE MARÍA PONCE OLIVARES","1970-02-08",53,7,"F","B","2023-09-30"]
[null,null,null,null,null,"16518699-0","NATALIA ELIZABETH CASTRO CABRERA","1986-12-17",36,9,"F","C","2023-09-30"]
[null,null,null,null,null,"23128013-8","AARON ISRAEL LEIVA VALENZUELA","2009-09-21",14,0,"M","A","2023-09-30"]
[null,null,null,null,null,"10162938-4","FERNANDO ESTEBAN SEVERINO ZUMAETA","1966-09-21",57,0,"M","C","2023-09-30"]
[null,null,null,null,null,"22074815-4","ARACELI MAGDALENA CHAMORRO AYALA","2006-03-15",17,6,"F","B","2023-09-30"]
[null,null,null,null,null,"12950849-3","DANIELA ANDREA GORMAZ VARGAS","1976-12-01",46,9,"F","B","2023-09-30"]
[null,null,null,null,null,"6182956-3","DOMINGO CRISTÓBAL PÉREZ RIQUELME","1949-07-24",74,2,"M","B","2023-09-30"]
[null,null,null,null,null,"19582389-8","BENJAMÍN IGNACIO PONCE PONCE","1997-06-19",26,3,"M","C","2023-09-30"]
[null,null,null,null,null,"17165021-6","YESENIA CONSTANZA QUIROZ CARVAJAL","1989-09-08",34,0,"F","B","2023-09-30"]
[null,null,null,null,null,"15554911-4","CAROLINE ANDREA SALINAS URRUTIA","1983-05-03",40,4,"F","D","2023-09-30"]
[null,null,null,null,null,"44201398-5","ELIZABETH COROMOTO MEJIAS GUEDEZ","1988-11-01",34,10,"F","X","2023-09-30"]
[null,null,null,null,null,"21581509-9","DAIANA GISEL BUSTOS JEREZ","1993-12-07",29,9,"F","C","2023-09-30"]
[null,null,null,null,null,"21918431-K","IGNACIO ALEXANDER LAGOS TRONCOSO","2005-08-13",18,1,"M","X","2023-09-30"]
[null,null,null,null,null,"13364332-K","MIGUEL ANGEL GUERRA MARTÍNEZ","1978-05-13",45,4,"M","C","2023-09-30"]
[null,null,null,null,null,"16852293-2","RICHARD FELIPE PETER GÓMEZ OLMEDO","1988-07-21",35,2,"M","D","2023-09-30"]
[null,null,null,null,null,"16550458-5","LUIS ALBERTO ESPINOZA ARAVENA","1987-03-05",36,6,"M","B","2023-09-30"]
[null,null,null,null,null,"14113130-3","ALEJANDRA DEL CARMEN RAMOS GUENY","1979-12-17",43,9,"F","D","2023-09-30"]
[null,null,null,null,null,"13360183-K","CEFERINO ALBERTO PINTO PINTO","1978-02-28",45,7,"M","D","2023-09-30"]
[null,null,null,null,null,"10443972-1","JOSÉ GUILLERMO RAMÍREZ FLORES","1965-09-03",58,0,"M","A","2023-09-30"]
[null,null,null,null,null,"12950733-0","GLORIA DEL CARMEN GORMAZ CORTÉS","1976-06-18",47,3,"F","A","2023-09-30"]
[null,null,null,null,null,"18679740-K","DAVID AQUILES AYALA ÁVILA","1993-12-15",29,9,"M","B","2023-09-30"]
[null,null,null,null,null,"18385347-3","CHRISTOFER EDGARDO OLIVARES HURTADO","1993-03-11",30,6,"M","D","2023-09-30"]
[null,null,null,null,null,"19582199-2","STEPHANIE SOLEDAD IBACETA VÁSQUEZ","1997-07-22",26,2,"F","X","2023-09-30"]
[null,null,null,null,null,"11385793-5","MARÍA SOLEDAD PÁEZ ALEGRÍA","1968-11-20",54,10,"F","D","2023-09-30"]
[null,null,null,null,null,"11517973-K","HORTENCIA LEONOR LIRA SALINAS","1970-09-19",53,0,"F","B","2023-09-30"]
[null,null,null,null,null,"6825952-5","ALBERTO SEGUNDO JARA CASTRO","1952-10-07",70,11,"M","B","2023-09-30"]
[null,null,null,null,null,"13331023-1","JOSÉ LUIS SOTO ROJAS","1978-09-09",45,0,"M","C","2023-09-30"]
[null,null,null,null,null,"8992274-7","ANTONIA DE LAS NIEVE CAMPOS SERRANO","1937-11-20",85,10,"F","B","2023-09-30"]
[null,null,null,null,null,"9395003-8","VERÓNICA YOLANDA VILLARROEL BRAVO","1964-01-12",59,8,"F","B","2023-09-30"]
[null,null,null,null,null,"8940287-5","ANA MARÍA MURA OLMEDO","1963-06-29",60,3,"F","A","2023-09-30"]
[null,null,null,null,null,"4858416-0","NELLY ROSA FUENTES PEÑA","1941-01-15",82,8,"F","B","2023-09-30"]
[null,null,null,null,null,"10066339-2","MARGARITA DEL CARMEN VENEGAS CANTWELL","1967-01-03",56,8,"F","B","2023-09-30"]
[null,null,null,null,null,"17971755-7","YERCO ESTEBAN ARANCIBIA MONTENEGRO","1991-11-25",31,10,"M","B","2023-09-30"]
[null,null,null,null,null,"18119511-8","LEANDRO ALEXIS RÍOS MORENO","1992-05-08",31,4,"M","B","2023-09-30"]
[null,null,null,null,null,"6127027-2","ANA CRISTINA CARVACHO CARVACHO","1950-07-24",73,2,"F","B","2023-09-30"]
[null,null,null,null,null,"14451671-0","MARIO ALFREDO CANALES BERNAL","1976-01-19",47,8,"M","B","2023-09-30"]
[null,null,null,null,null,"25314903-5","ALISSON PALOMA RAMIREZ ZULOAGA","2016-03-11",7,6,"F","D","2023-09-30"]
[null,null,null,null,null,"20094129-2","HÉCTOR ALFONSO MARÍN AGUSTO","1999-06-11",24,3,"M","C","2023-09-30"]
[null,null,null,null,null,"22256574-K","MARTIN ALEJANDRO DURAN BUSTOS","2006-11-03",16,10,"M","A","2023-09-30"]
[null,null,null,null,null,"5067362-6","RAÚL ALFONSO GALDÁMEZ CALDERÓN","1943-08-14",80,1,"M","D","2023-09-30"]
[null,null,null,null,null,"9220238-0","BENITO HERNÁN ARAVENA HERRERA","1961-12-16",61,9,"M","B","2023-09-30"]
[null,null,null,null,null,"7064047-3","LUIS ARCADIO BRIONES GUERRERO","1952-09-28",71,0,"M","C","2023-09-30"]
[null,null,null,null,null,"16305880-4","YESENIA SOLEDAD LÓPEZ JELDES","1986-01-14",37,8,"F","B","2023-09-30"]
[null,null,null,null,null,"10186706-4","DANY DEL CARMEN JIMÉNEZ CANIBILO","1972-09-08",51,0,"F","D","2023-09-30"]
[null,null,null,null,null,"5490894-6","JUANA DE LAS MERCEDE ROLDÁN CASTRO","1943-02-28",80,7,"F","B","2023-09-30"]
[null,null,null,null,null,"22869815-6","GLADYS ELIZABETH RODRIGUEZ MAYORGA","1980-01-08",43,8,"F","A","2023-09-30"]
[null,null,null,null,null,"16777702-3","BETZABÉ ALEJANDRA ARCOS CORTEZ","1988-04-20",35,5,"F","D","2023-09-30"]
[null,null,null,null,null,"21787097-6","SOFÍA VALENTINA CASTRO VILLEGAS","2005-03-02",18,6,"F","D","2023-09-30"]
[null,null,null,null,null,"41053888-1","JOSE MARIA REAÑO CHAVEZ","2005-05-13",18,4,"M","X","2023-09-30"]
[null,null,null,null,null,"8370388-1","GREGORIA DEL CARMEN MONTOYA MORALES","1959-01-25",64,8,"F","B","2023-09-30"]
[null,null,null,null,null,"18839704-2","CAMILA FERNANDA POBLETE GUTIÉRREZ","1994-05-31",29,3,"F","B","2023-09-30"]
[null,null,null,null,null,"16851982-6","TANIA VICTORIA PÉREZ PULGAR","1988-05-27",35,4,"F","A","2023-09-30"]
[null,null,null,null,null,"25404616-7","RUBEN DARIO COLLANTES BEDOYA","1983-10-30",39,11,"M","C","2023-09-30"]
[null,null,null,null,null,"8380507-2","ALICIA DEL CARMEN DÍAZ FERNÁNDEZ","1960-01-07",63,8,"F","C","2023-09-30"]
[null,null,null,null,null,"16551160-3","MAURICIO ANTONIO GUERRA OSORIO","1987-08-24",36,1,"M","D","2023-09-30"]
[null,null,null,null,null,"24940206-0","ASHLY PASCAL DELGADO JAIME","2015-03-25",8,6,"F","C","2023-09-30"]
[null,null,null,null,null,"15555189-5","MACARENA GIOVANA SALINAS CABRERA","1983-07-20",40,2,"F","B","2023-09-30"]
[null,null,null,null,null,"25537100-2","DAMIÁN IGNACIO ESPÍNOLA IBACETA","2016-10-13",6,11,"M","D","2023-09-30"]
[null,null,null,null,null,"23259770-4","PABLO ALONSO LAGOS CARRASCO","2010-02-28",13,7,"M","D","2023-09-30"]
[null,null,null,null,null,"18156914-K","LAUTARO RIGOBERTO NA BRIONES SUÁREZ","1988-06-10",35,3,"M","D","2023-09-30"]
[null,null,null,null,null,"23483676-5","ÁMBAR ISIDORA DÍAZ FLORES","2010-11-15",12,10,"F","D","2023-09-30"]
[null,null,null,null,null,"21172303-3","AGUSTIN VICTORINO VALDES MATURANA","2003-05-16",20,4,"M","X","2023-09-30"]
[null,null,null,null,null,"10471367-K","ALEXIS FRANCISCO MUÑOZ FUICA","1981-10-16",41,11,"M","D","2023-09-30"]
[null,null,null,null,null,"19482248-0","NATALIA BELÉN CASTILLO AEDO","1996-09-15",27,0,"F","A","2023-09-30"]
[null,null,null,null,null,"26529744-7","IGNACIO ALEJO CARNUCCIO MATURANO","2002-08-21",21,1,"M","A","2023-09-30"]
[null,null,null,null,null,"12822129-8","MARÍA TERESA ESTAY VARGAS","1974-12-23",48,9,"F","B","2023-09-30"]
[null,null,null,null,null,"19888343-3","CONSTANZA MACARENA ARAYA OYARZÚN","1998-09-27",25,0,"F","X","2023-09-30"]
[null,null,null,null,null,"19902368-3","CONSTANZA MACARENA SUÁREZ HERNÁNDEZ","1998-03-30",25,6,"F","C","2023-09-30"]
[null,null,null,null,null,"18114070-4","MATÍAS ALEJANDRO PORRAS VARAS","1992-08-07",31,1,"M","D","2023-09-30"]
[null,null,null,null,null,"23243279-9","CAMILA ISIDORA CAMPOS SÁNCHEZ","2010-01-26",13,8,"F","A","2023-09-30"]
[null,null,null,null,null,"27953116-7","MAIVIS BIANCA LEÓN VERA","2022-10-12",0,11,"F","A","2023-09-30"]
[null,null,null,null,null,"22389311-2","BASTIAN ALEXANDER DELGADO LEON","2007-05-03",16,4,"M","C","2023-09-30"]
[null,null,null,null,null,"23257099-7","BASTIÁN IGNACIO GONZÁLEZ CIFUENTES","2010-02-24",13,7,"M","C","2023-09-30"]
[null,null,null,null,null,"13539574-9","PEDRO JUAN ANTONIO HUIRCALAF ZÚÑIGA","1979-10-21",43,11,"M","B","2023-09-30"]
[null,null,null,null,null,"20132708-3","CONSTANZA ANDREA AHUMADA REYES","1999-01-27",24,8,"F","B","2023-09-30"]
[null,null,null,null,null,"21280897-0","JAVIER PATRICIO GONZÁLEZ AGUIRRE","2003-04-10",20,5,"M","A","2023-09-30"]
[null,null,null,null,null,"21546309-5","RONALD ENZO MARTINEZ SALINAS","2004-05-03",19,4,"M","B","2023-09-30"]
[null,null,null,null,null,"15730594-8","RICARDO ANDRÉS WILLIAMS MEZA","1984-02-17",39,7,"M","C","2023-09-30"]
[null,null,null,null,null,"10192659-1","WILSON ALEJANDRO CASTILLO CASTILLO","1970-12-07",52,9,"M","X","2023-09-30"]
[null,null,null,null,null,"18385530-1","JESÚS FRANCISCO IBACETA ARANEDA","1993-06-03",30,3,"M","C","2023-09-30"]
[null,null,null,null,null,"25050336-9","DENZEL VALENTÍN MANZANO MONTENEGRO","2015-07-23",8,2,"M","A","2023-09-30"]
[null,null,null,null,null,"10085395-7","MYRIAM DE LAS NIEVES FERNÁNDEZ VERGARA","1963-01-24",60,8,"F","B","2023-09-30"]
[null,null,null,null,null,"12080133-3","RODRIGO ALFONSO MANDIOLA ARENAS","1975-04-10",48,5,"M","C","2023-09-30"]
[null,null,null,null,null,"16119503-0","JOCELIN MARIELA ITURRA MEDINA","1985-05-21",38,4,"F","X","2023-09-30"]
[null,null,null,null,null,"6995455-3","JUAN FERNANDO VILLARROEL VILLARROEL","1954-04-01",69,5,"M","B","2023-09-30"]
[null,null,null,null,null,"27109991-6","JOSE GREGORIO URBANO GONZALEZ","2001-03-08",22,6,"M","D","2023-09-30"]
[null,null,null,null,null,"19887570-8","CAMILA POLETT MALLEA CRUZ","1998-03-23",25,6,"F","B","2023-09-30"]
[null,null,null,null,null,"20133235-4","CONSTANZA ALEXSA SANHUEZA ÁLVAREZ","1999-06-06",24,3,"F","C","2023-09-30"]
[null,null,null,null,null,"10440656-4","MARCO ANTONIO ROSALES GONZÁLEZ","1965-10-12",57,11,"M","D","2023-09-30"]
[null,null,null,null,null,"18384968-9","EMERSON JAVIER RIVERA ZAMORA","1993-01-17",30,8,"M","D","2023-09-30"]
[null,null,null,null,null,"8505939-4","HUGO HUMBERTO COVARRUBIAS ARÉVALO","1967-01-07",56,8,"M","D","2023-09-30"]
[null,null,null,null,null,"20986107-0","GENOVEVA SORAYA ANOICA BAÑADOS CAMUS","2002-02-06",21,7,"F","C","2023-09-30"]
[null,null,null,null,null,"11755736-7","PATRICIA JIMENA VÁSQUEZ CARVAJAL","1971-10-13",51,11,"F","B","2023-09-30"]
[null,null,null,null,null,"17163738-4","BÁRBARA SONIA CAICEO MARTÍNEZ","1988-12-09",34,9,"F","B","2023-09-30"]
[null,null,null,null,null,"7864756-6","EDITH DE LAS NIEVES ZAMORA ARAYA","1957-07-28",66,2,"F","A","2023-09-30"]
[null,null,null,null,null,"17163943-3","ANDREA PAZ ARANCIBIA VIVEROS","1989-01-04",34,8,"F","B","2023-09-30"]
[null,null,null,null,null,"15192440-9","LEYDI VANESSA MEZA GONZÁLEZ","1983-04-24",40,5,"F","C","2023-09-30"]
[null,null,null,null,null,"12950491-9","DANIELA IVONNE VARGAS HENRÍQUEZ","1976-10-04",46,11,"F","B","2023-09-30"]
[null,null,null,null,null,"22677790-3","CATALINA IGNACIA GARRIDO CAMPOS","2008-03-25",15,6,"F","B","2023-09-30"]
[null,null,null,null,null,"6043260-0","MIRTA GRACIELA FERNÁNDEZ TOBARES","1955-12-09",67,9,"F","B","2023-09-30"]
[null,null,null,null,null,"8526767-1","ROSAMEL ROBERTO QUIROZ ALFARO","1959-06-09",64,3,"M","B","2023-09-30"]
[null,null,null,null,null,"25378534-9","THOMAS ALFREDO CISTERNAS HERRERA","2016-05-12",7,4,"M","A","2023-09-30"]
[null,null,null,null,null,"6990816-0","LEOPOLDO ENRIQUE SALINAS CARO","1953-01-18",70,8,"M","A","2023-09-30"]
[null,null,null,null,null,"25828061-K","ISMAEL IGNACIO VILLARROEL PALACIOS","2017-07-06",6,2,"M","A","2023-09-30"]
[null,null,null,null,null,"25924488-9","AGUSTINA PASCALLE RORE GARCÍA","2017-09-15",6,0,"F","A","2023-09-30"]
[null,null,null,null,null,"18114223-5","ANGELA LIDIA POBLETE POBLETE","1992-09-20",31,0,"F","C","2023-09-30"]
[null,null,null,null,null,"16851237-6","TAMARA VALESKA SOTO RIVERA","1987-11-17",35,10,"F","A","2023-09-30"]
[null,null,null,null,null,"24156663-3","SCARLETH ANTONELA DELGADO LEÓN","2013-01-03",10,8,"F","C","2023-09-30"]
[null,null,null,null,null,"24421810-5","MELISA ISABEL MARTÍNEZ ANDRADE","2013-10-17",9,11,"F","B","2023-09-30"]
[null,null,null,null,null,"9859994-0","JACQUELINE DEL TRÁNSITO LECAROS JARA","1964-01-09",59,8,"F","D","2023-09-30"]
[null,null,null,null,null,"23754149-9","JOSÉ MANUEL DAZA PÉREZ","2011-09-24",12,0,"M","B","2023-09-30"]
[null,null,null,null,null,"15818519-9","INGRID DEL CARMEN FARÍAS JARA","1984-06-06",39,3,"F","B","2023-09-30"]
[null,null,null,null,null,"5612085-8","ALICIA DEL CARMEN BEIZA VÁSQUEZ","1941-02-27",82,7,"F","B","2023-09-30"]
[null,null,null,null,null,"17304921-8","CLAUDIO ENRIQUE LOYOLA ORELLANA","1989-09-27",34,0,"M","C","2023-09-30"]
[null,null,null,null,null,"10242535-9","MARCELO ANTONIO MELLA JARA","1968-06-17",55,3,"M","B","2023-09-30"]
[null,null,null,null,null,"20754304-7","CONSTANZA NICOL HERNÁNDEZ VARGAS","2001-12-03",21,9,"F","X","2023-09-30"]
[null,null,null,null,null,"6656916-0","AMELIA DE LA ASUNCIÓN HERRERA CAMPOS","1950-12-02",72,9,"F","B","2023-09-30"]
[null,null,null,null,null,"23845336-4","BENJAMÍN IGNACIO PÁEZ SERRANO","2012-01-14",11,8,"M","D","2023-09-30"]
[null,null,null,null,null,"11730421-3","JAIME ENRIQUE VARGAS ARAVENA","1971-01-19",52,8,"M","B","2023-09-30"]
[null,null,null,null,null,"20089356-5","AYLIN ALEXANDRA ASTUDILLO MALDONADO","1999-02-26",24,7,"F","B","2023-09-30"]
[null,null,null,null,null,"16187678-K","PAULINA ANDREA GIULIANO ANACONA","1985-07-29",38,2,"F","C","2023-09-30"]
[null,null,null,null,null,"25593695-6","JUAN PABLO FERRARA DUARTE","2004-09-05",19,0,"M","A","2023-09-30"]
[null,null,null,null,null,"8870764-8","PEDRO ANTONIO CASTILLO RAMÍREZ","1960-10-12",62,11,"M","B","2023-09-30"]
[null,null,null,null,null,"13828082-9","JAVIER ANDRÉS SALINAS CAICEO","1973-04-28",50,5,"M","X","2023-09-30"]
[null,null,null,null,null,"5232860-8","CARMEN MERCEDES LÓPEZ CARRASCO","1943-10-13",79,11,"F","X","2023-09-30"]
[null,null,null,null,null,"13633702-5","MERIBA FRANCISCA DURÁN FUENTES","1978-11-02",44,10,"F","B","2023-09-30"]
[null,null,null,null,null,"14143045-9","TEXIA CINTHIA CORTÉS AGUILERA","1981-11-08",41,10,"F","X","2023-09-30"]
[null,null,null,null,null,"17468972-5","NATALIA FRANCHESCA VITALI ARAVENA","1990-02-19",33,7,"F","B","2023-09-30"]
[null,null,null,null,null,"28178997-K","VICTORIA IGNACIA HUERTA ALLENDE","2023-06-23",0,3,"F","B","2023-09-30"]
[null,null,null,null,null,"17163868-2","CINDY SABRINA TAPIA LEMUS","1989-01-14",34,8,"F","D","2023-09-30"]
[null,null,null,null,null,"20408049-6","DANIELA FRANCISCA BARRA SEPÚLVEDA","2000-03-10",23,6,"F","B","2023-09-30"]
[null,null,null,null,null,"21531462-6","FERNANDA MATILDE ANDRADE PÉREZ","2004-03-13",19,6,"F","C","2023-09-30"]
[null,null,null,null,null,"6936417-9","EDITH DE LAS NIEVES URIBE CALDERÓN","1953-03-01",70,6,"F","B","2023-09-30"]
[null,null,null,null,null,"16196092-6","INGRID HAYDÉE BARRIENTOS CARRASCO","1986-07-08",37,2,"F","A","2023-09-30"]
[null,null,null,null,null,"8594505-K","MODESTO RAFAEL JORQUERA MATURANA","1957-06-15",66,3,"M","B","2023-09-30"]
[null,null,null,null,null,"16305732-8","LEONARDO ALEJANDRO BERRÍOS SEPÚLVEDA","1986-01-12",37,8,"M","B","2023-09-30"]
[null,null,null,null,null,"15819088-5","MANUEL RICARDO LÓPEZ CERDA","1984-10-16",38,11,"M","B","2023-09-30"]
[null,null,null,null,null,"9870290-3","EDITH DEL CARMEN AHUMADA REYES","1966-05-07",57,4,"F","B","2023-09-30"]
[null,null,null,null,null,"7724953-2","YOLANDA DEL CARMEN BANDA VEAS","1955-05-04",68,4,"F","B","2023-09-30"]
[null,null,null,null,null,"17469477-K","JORGE EDUARDO NÚÑEZ RAMÍREZ","1990-08-22",33,1,"M","D","2023-09-30"]
[null,null,null,null,null,"6125656-3","ANA VERÓNICA SANDOVAL JORQUERA","1947-06-10",76,3,"F","B","2023-09-30"]
[null,null,null,null,null,"12950243-6","ROBERTO CARLOS ALFARO COLARTE","1976-07-31",47,1,"M","C","2023-09-30"]
[null,null,null,null,null,"8573669-8","HUGO FERNANDO ORTIZ CARVAJAL","1963-08-15",60,1,"M","D","2023-09-30"]
[null,null,null,null,null,"7057378-4","CARMEN ROSA PEREIRA MARTÍNEZ","1954-05-27",69,4,"F","B","2023-09-30"]
[null,null,null,null,null,"13363623-4","BRÍGIDA ANDREA CÁRCAMO CÁRCAMO","1978-01-09",45,8,"F","D","2023-09-30"]
[null,null,null,null,null,"22341953-4","JEAN MARCO URBINA CAROCA","2007-01-14",16,8,"M","A","2023-09-30"]
[null,null,null,null,null,"25797934-2","ANTONELLA BELÉN GONZÁLEZ SANTIBÁÑEZ","2017-06-09",6,3,"F","D","2023-09-30"]
[null,null,null,null,null,"16550258-2","CLAUDIO ANDRÉS OTÁROLA URTUBIA","1986-12-09",36,9,"M","X","2023-09-30"]
[null,null,null,null,null,"17819154-3","SAÚL ANTONIO FARÍAS JARA","1991-09-20",32,0,"M","D","2023-09-30"]
[null,null,null,null,null,"20240517-7","NICOLÁS ALEJANDRO AROS CLAVIJO","1999-08-10",24,1,"M","X","2023-09-30"]
[null,null,null,null,null,"7878475-K","NANCY ELIANA ABALLAY OYANEDEL","1954-10-29",68,11,"F","B","2023-09-30"]
[null,null,null,null,null,"18414151-5","GENNESIS RUMANET CARRASCO MONTERO","1991-08-29",32,1,"F","B","2023-09-30"]
[null,null,null,null,null,"27263146-8","JULIETA ISABELLA SANCHEZ RIOS","2020-04-21",3,5,"F","D","2023-09-30"]
[null,null,null,null,null,"25501158-8","MAICKEL AMARO HERNANDEZ TAUCAN","2016-09-07",7,0,"M","B","2023-09-30"]
[null,null,null,null,null,"19887831-6","FRANCISCA JAVIERA TAPIA OLGUÍN","1998-01-03",25,8,"F","B","2023-09-30"]
[null,null,null,null,null,"13751429-K","FERNANDO ANDRÉS URBINA PÉREZ","1979-07-02",44,2,"M","D","2023-09-30"]
[null,null,null,null,null,"9823161-7","HUMBERTO RAMÓN MENDOZA GONZÁLEZ","1964-03-12",59,6,"M","A","2023-09-30"]
[null,null,null,null,null,"8912112-4","JOSÉ LUIS SILVA CRUZ","1961-03-04",62,6,"M","C","2023-09-30"]
[null,null,null,null,null,"18680555-0","LORETTO ALEXSANDRA AYALA TROQUIAN","1994-07-09",29,2,"F","C","2023-09-30"]
[null,null,null,null,null,"26519025-1","ELEIDYS DEL VALLE ZERPA FILGUEIRA","1990-03-01",33,6,"F","B","2023-09-30"]
[null,null,null,null,null,"26588546-2","SKEICHA MAX MARCELIN LOUISSAINT","2018-11-24",4,10,"F","B","2023-09-30"]
[null,null,null,null,null,"11944928-6","JOHANNA SOLANGE FLORES TEJEDA","1972-12-01",50,9,"F","C","2023-09-30"]
[null,null,null,null,null,"24608761-K","MARIANA PAZ MONTOYA CARVACHO","2014-04-30",9,5,"F","X","2023-09-30"]
[null,null,null,null,null,"4110518-6","JULIO CÉSAR VERGARA BERRÍOS","1937-01-19",86,8,"M","B","2023-09-30"]
[null,null,null,null,null,"26074912-9","DUNIEL RODRIGUEZ GONZALEZ","1986-01-04",37,8,"M","D","2023-09-30"]
[null,null,null,null,null,"13952500-0","ISABEL DEL TRÁNSITO JELDRES BAEZA","1980-05-04",43,4,"F","B","2023-09-30"]
[null,null,null,null,null,"4258735-4","JOSÉ HUMBERTO CLAVIJO URZÚA","1943-03-05",80,6,"M","B","2023-09-30"]
[null,null,null,null,null,"16822473-7","FRANCIA GERMANIA CANALES SEPÚLVEDA","1987-08-28",36,1,"F","D","2023-09-30"]
[null,null,null,null,null,"23854113-1","CRISTÓBAL ANDRÉS BRAVO SEGURA","2012-01-24",11,8,"M","D","2023-09-30"]
[null,null,null,null,null,"17164078-4","ALEJANDRO PATRICIO NÚÑEZ GALLARDO","1988-12-26",34,9,"M","D","2023-09-30"]
[null,null,null,null,null,"8292933-9","MARÍA MAGDALENA CÁRCAMO LEÓN","1955-04-28",68,5,"F","C","2023-09-30"]
[null,null,null,null,null,"10785287-5","MANUEL JESÚS AYALA CASTRO","1967-07-31",56,1,"M","C","2023-09-30"]
[null,null,null,null,null,"3377885-6","CLOTILDE DEL CARMEN LEÓN IBACETA","1934-10-04",88,11,"F","D","2023-09-30"]
[null,null,null,null,null,"23106860-0","MARTINA URQUIJO MARTÍNEZ","2009-08-27",14,1,"F","X","2023-09-30"]
[null,null,null,null,null,"23384242-7","NICOLÁS ALONSO BARRERA ASTARGO","2010-07-29",13,2,"M","D","2023-09-30"]
[null,null,null,null,null,"25755809-6","AMANDA PASCALE CASTILLO ALFARO","2017-05-03",6,4,"F","A","2023-09-30"]
[null,null,null,null,null,"15996107-9","JUAN PABLO VALDÉS VALDÉS","1985-10-25",37,11,"M","C","2023-09-30"]
[null,null,null,null,null,"25387831-2","BRUNO ALONSO AVILA CARRASCO","2016-05-24",7,4,"M","A","2023-09-30"]
[null,null,null,null,null,"17818421-0","ANÍBAL CRISTÓBAL SOTO ROJAS","1991-03-15",32,6,"M","B","2023-09-30"]
[null,null,null,null,null,"7788658-3","SERGIO ENRIQUE ASTORGA HIDALGO","1963-04-10",60,5,"M","X","2023-09-30"]
[null,null,null,null,null,"12950787-K","PAOLA ANDREA LIRA SALINAS","1976-11-24",46,10,"F","A","2023-09-30"]
[null,null,null,null,null,"10560720-2","ALTAMIRO DE JESÚS MUÑOZ PIÑA","1965-07-16",58,2,"M","B","2023-09-30"]
[null,null,null,null,null,"9271443-8","LEONTINA DE LAS MERC CHAPARRO CÁRCAMO","1963-03-07",60,6,"F","B","2023-09-30"]
[null,null,null,null,null,"24832253-5","SEBASTIÁN ALBERTO HERRERA HERRERA","2014-12-15",8,9,"M","C","2023-09-30"]
[null,null,null,null,null,"25138284-0","REBECA IGNACIA OSANDON ROCO","2015-10-28",7,11,"F","X","2023-09-30"]
[null,null,null,null,null,"23214722-9","TOMÁS ANTONIO SANTOS LOBOS","2009-12-28",13,9,"M","A","2023-09-30"]
[null,null,null,null,null,"22771975-3","JOSEFA CATALINA DEL ARAYA CRISÓSTOMO","2008-07-16",15,2,"F","C","2023-09-30"]
[null,null,null,null,null,"17163601-9","DIEGO ISMAEL TAPIA MANZANO","1988-11-13",34,10,"M","D","2023-09-30"]
[null,null,null,null,null,"24565501-0","DAMIAN NAHIR PEREZ TEJERIA","1997-10-14",25,11,"M","C","2023-09-30"]
[null,null,null,null,null,"16852518-4","TERESA DE LAS MERCEDES MIRANDA MIRANDA","1988-09-25",35,0,"F","A","2023-09-30"]
[null,null,null,null,null,"24895732-8","VALENTINA MACARENA VILLARROEL ESPINOZA","2015-02-05",8,7,"F","D","2023-09-30"]
[null,null,null,null,null,"28105664-6","MARIANO ANDRÉS GORMAS CATALÁN","2023-03-24",0,6,"M","B","2023-09-30"]
[null,null,null,null,null,"26648863-7","FERNANDA ANTONIA GALLARDO AHUMADA","2019-01-08",4,8,"F","D","2023-09-30"]
[null,null,null,null,null,"24256095-7","ESTEFANÍA ROCÍO ALEJANDRINA LAVADO DURAN","1992-06-06",31,3,"F","A","2023-09-30"]
[null,null,null,null,null,"10200582-1","ISABEL XIMENA FERRER IBACACHE","1968-07-08",55,2,"F","C","2023-09-30"]
[null,null,null,null,null,"6781542-4","ANA MARÍA PÁEZ BELMAR","1947-10-17",75,11,"F","B","2023-09-30"]
[null,null,null,null,null,"16852603-2","POLET ESTEFANÍA HERNÁNDEZ ZAMORA","1988-09-20",35,0,"F","C","2023-09-30"]
[null,null,null,null,null,"6844840-9","ELENA DE LAS MERCEDE ARENAS VARGAS","1951-10-17",71,11,"F","B","2023-09-30"]
[null,null,null,null,null,"16852275-4","LUIS ALEJANDRO LEÓN ALBORNOZ","1988-01-26",35,8,"M","C","2023-09-30"]
[null,null,null,null,null,"22596092-5","MELANYE AYLINE DA SILVA DA SILVA","2007-12-10",15,9,"F","A","2023-09-30"]
[null,null,null,null,null,"12950326-2","PEDRO EMILIO CAMUS LEIVA","1976-08-15",47,1,"M","B","2023-09-30"]
[null,null,null,null,null,"24058154-K","THOMAS ANDRÉS MONTOYA GARRIDO","2012-09-07",11,0,"M","A","2023-09-30"]
[null,null,null,null,null,"16027613-4","NATALIA DENIS PÁEZ ÓRDENES","1985-10-06",37,11,"F","B","2023-09-30"]
[null,null,null,null,null,"10709855-0","LUIS BAUDILIO JARA CONTRERAS","1968-12-02",54,9,"M","D","2023-09-30"]
[null,null,null,null,null,"27410786-3","MAXIMILIANO ANDRES HERRERA CONTRERAS","2020-12-01",2,9,"M","D","2023-09-30"]
[null,null,null,null,null,"26492579-7","JULIO CESAR MONTILLA ALTUVE","1992-12-28",30,9,"M","A","2023-09-30"]
[null,null,null,null,null,"10183834-K","JOSÉ ELÍAS GALDÁMEZ ULLOA","1970-09-24",53,0,"M","D","2023-09-30"]
[null,null,null,null,null,"13356598-1","PRISCILLA ANDREA TORO LABRA","1977-08-28",46,1,"F","B","2023-09-30"]
[null,null,null,null,null,"18380521-5","TERESA FERNANDA GUERRA TAPIA","1993-01-18",30,8,"F","B","2023-09-30"]
[null,null,null,null,null,"23586291-3","TRINIDAD FRANCISCA GONZÁLEZ MALLEA","2011-03-15",12,6,"F","A","2023-09-30"]
[null,null,null,null,null,"5606574-1","CLEMENTINA DE LAS NI CAICEO GALLARDO","1941-11-25",81,10,"F","B","2023-09-30"]
[null,null,null,null,null,"22252996-4","BERNABÉ ANTONIO VITERBO URIBE PUENTES","2006-11-05",16,10,"M","B","2023-09-30"]
[null,null,null,null,null,"7260304-4","MARÍA TERESA FARÍAS ASTORGA","1953-09-20",70,0,"F","B","2023-09-30"]
[null,null,null,null,null,"8583110-0","MIGUEL DEL TRÁNSITO OROZCO NANJARI","1960-06-09",63,3,"M","B","2023-09-30"]
[null,null,null,null,null,"22501162-1","SEBASTIÁN ROBERTO PALACIOS TRIVIÑO","2005-11-09",17,10,"M","D","2023-09-30"]
[null,null,null,null,null,"18973909-5","CAMILA DEL CARMEN JOFRÉ SILVA","1995-05-12",28,4,"F","B","2023-09-30"]
[null,null,null,null,null,"25804917-9","ADONIS IGNACIO GUERRA GORMAZ","2017-06-14",6,3,"M","B","2023-09-30"]
[null,null,null,null,null,"19888311-5","MARIANA GABRIELA BAEZ VILCHES","1998-09-27",25,0,"F","B","2023-09-30"]
[null,null,null,null,null,"13827268-0","JUAN DANIEL VILCHES ROJAS","1980-03-12",43,6,"M","C","2023-09-30"]
[null,null,null,null,null,"18680731-6","CARLOS DAVID TAPIA MANZANO","1994-08-15",29,1,"M","D","2023-09-30"]
[null,null,null,null,null,"9370547-5","EDUVIGIS DEL CARMEN CAMPO VARGAS","1963-05-08",60,4,"F","A","2023-09-30"]
[null,null,null,null,null,"10285456-K","NILFA DEL ROSARIO CAMPUSANO BUGUEÑO","1971-01-15",52,8,"F","C","2023-09-30"]
[null,null,null,null,null,"25313307-4","JONATAN SEMIR CRUZ REYES","2016-03-11",7,6,"M","A","2023-09-30"]
[null,null,null,null,null,"17164633-2","OSCAR ORLANDO ARACENA GAJARDO","1989-07-09",34,2,"M","C","2023-09-30"]
[null,null,null,null,null,"25308057-4","SOFIA ALEXANDRA SALDAÑA LOPEZ","2016-03-04",7,6,"F","A","2023-09-30"]
[null,null,null,null,null,"13364626-4","JOSÉ FRANCISCO FIGUEROA FIGUEROA","1973-10-15",49,11,"M","C","2023-09-30"]
[null,null,null,null,null,"16026964-2","DANIELA ROSA GALLARDO RODRÍGUEZ","1985-03-28",38,6,"F","A","2023-09-30"]
[null,null,null,null,null,"11313357-0","VERÓNICA VIVIANA URBINA BAEZA","1968-07-13",55,2,"F","A","2023-09-30"]
[null,null,null,null,null,"24396227-7","SOFÍA BELÉN GÓMEZ VILLARROEL","2013-09-06",10,0,"F","B","2023-09-30"]
[null,null,null,null,null,"16851885-4","MARÍA FRANCISCA FREDES HERRERA","1988-04-25",35,5,"F","D","2023-09-30"]
[null,null,null,null,null,"19268705-5","FRANCISCA ANDREA TRIVIÑO RIVERA","1996-09-01",27,0,"F","B","2023-09-30"]
[null,null,null,null,null,"24629196-9","MARTÍN ALONSO URBINA MENESES","2014-05-18",9,4,"M","B","2023-09-30"]
[null,null,null,null,null,"16306348-4","JONATHAN DANILO VARGAS PONCE","1986-05-15",37,4,"M","D","2023-09-30"]
[null,null,null,null,null,"20998749-K","MARISOL ANAÍS SALINAS AYALA","2002-04-07",21,5,"F","B","2023-09-30"]
[null,null,null,null,null,"8599066-7","FRANCISCA DEL CARMEN CASTILLO CASTRO","1959-09-23",64,0,"F","D","2023-09-30"]
[null,null,null,null,null,"25012073-7","MATEO ANDRÉS LAZCANO ABARCA","2015-06-09",8,3,"M","D","2023-09-30"]
[null,null,null,null,null,"33176819-7","CARLOS JAIMES BOADA","1991-07-07",32,2,"M","X","2023-09-30"]
[null,null,null,null,null,"13827474-8","CRISTIAN DEL CARMEN VILLARROEL FERRER","1980-06-05",43,3,"M","D","2023-09-30"]
[null,null,null,null,null,"20754232-6","BENJAMÍN IGNACIO HERRERA ROSENDE","2001-11-20",21,10,"M","D","2023-09-30"]
[null,null,null,null,null,"21706448-1","VALENTINA ANDREA ARAVENA CAMPUSANO","2004-11-12",18,10,"F","A","2023-09-30"]
[null,null,null,null,null,"4912739-1","JUAN FRANCISCO GUERRA CALDERÓN","1940-03-10",83,6,"M","B","2023-09-30"]
[null,null,null,null,null,"9693361-4","MARÍA TERESA CONTRERAS JARA","1965-11-23",57,10,"F","D","2023-09-30"]
[null,null,null,null,null,"23150316-1","ALONSO BENJAMÍN SALINAS CASTRO","2009-10-14",13,11,"M","C","2023-09-30"]
[null,null,null,null,null,"7942726-8","LUIS GUILLERMO CASTRO LÓPEZ","1957-12-24",65,9,"M","B","2023-09-30"]
[null,null,null,null,null,"5211948-0","JOSÉ LUIS CAMUS AGUILERA","1943-06-05",80,3,"M","B","2023-09-30"]
[null,null,null,null,null,"15978994-2","VÍCTOR ENRIQUE YÉVENES BELTRÁN","1987-03-11",36,6,"M","D","2023-09-30"]
[null,null,null,null,null,"4399044-6","LIDIA VILLARROEL MURA","1941-03-16",82,6,"F","B","2023-09-30"]
[null,null,null,null,null,"27283556-K","GASPAR ALEXANDRE MARTINEZ MARTINEZ","2020-05-25",3,4,"M","C","2023-09-30"]
[null,null,null,null,null,"25468276-4","PASCUAL ALEJANDRO GODOY ZUÑIGA","2016-08-07",7,1,"M","C","2023-09-30"]
[null,null,null,null,null,"21219174-4","DILAN ADONIS CASTILLO SANTOS","2003-01-16",20,8,"M","B","2023-09-30"]
[null,null,null,null,null,"15061327-2","TERESITA DE LAS NIEV ORTIZAGA FERNÁNDEZ","1982-08-26",41,1,"F","C","2023-09-30"]
[null,null,null,null,null,"17164312-0","MIGUEL ANTONIO OROZCO MALDONADO","1989-04-24",34,5,"M","X","2023-09-30"]
[null,null,null,null,null,"15060846-5","CELSA MARGARITA ARAYA MORA","1982-04-01",41,5,"F","C","2023-09-30"]
[null,null,null,null,null,"13982663-9","PILAR ANDREA ZURA CASTILLO","1981-04-05",42,5,"F","A","2023-09-30"]
[null,null,null,null,null,"24596677-6","ISIDORA ANAÍS CAMUS MUÑOZ","2014-04-15",9,5,"F","D","2023-09-30"]
[null,null,null,null,null,"11386311-0","YASNA ISABEL MARTÍNEZ CÉSPEDES","1969-09-18",54,0,"F","C","2023-09-30"]
[null,null,null,null,null,"17163928-K","FRANCISCO JAVIER PRADO OSORIO","1989-02-02",34,7,"M","C","2023-09-30"]
[null,null,null,null,null,"9103982-6","GABRIEL TIBERIO ABARCA LIRA","1965-04-02",58,5,"M","D","2023-09-30"]
[null,null,null,null,null,"4444077-6","HUMBERTO AVELINO GORMAZ SÁNCHEZ","1942-10-17",80,11,"M","B","2023-09-30"]
[null,null,null,null,null,"17253803-7","DIEGO MARTÍN VALENZUELA CAICEO","1989-10-03",33,11,"M","B","2023-09-30"]
[null,null,null,null,null,"19888378-6","MATÍAS ALEJANDRO DÍAZ VICENCIO","1998-10-08",24,11,"M","B","2023-09-30"]
[null,null,null,null,null,"16084372-1","KATHERINE STEPHANIE CIFUENTES ROJAS","1985-07-27",38,2,"F","C","2023-09-30"]
[null,null,null,null,null,"23934911-0","DANNA ANTONELLA MARÍN NÚÑEZ","2012-04-27",11,5,"F","B","2023-09-30"]
[null,null,null,null,null,"25920739-8","GLORIA CAROLINA MONTOYA MOLINA","1983-02-20",40,7,"M","C","2023-09-30"]
[null,null,null,null,null,"16637185-6","RODRIGO ERIK ROJAS SALINAS","1987-03-22",36,6,"M","C","2023-09-30"]
[null,null,null,null,null,"5515779-0","JUANA DEL CARMEN FERNANDINI HUMERES","1942-09-02",81,0,"F","B","2023-09-30"]
[null,null,null,null,null,"16027231-7","CRISTIAN RODOLFO VARGAS LOBOS","1985-05-10",38,4,"M","B","2023-09-30"]
[null,null,null,null,null,"7562135-3","JORGE MAURICIO ARENAS VARGAS","1954-01-25",69,8,"M","D","2023-09-30"]
[null,null,null,null,null,"16990685-8","JULIO IGNACIO VILLARROEL MAUNA","1988-09-13",35,0,"M","D","2023-09-30"]
[null,null,null,null,null,"16852601-6","DAVID IGNACIO LEMUS PONCE","1988-06-13",35,3,"M","B","2023-09-30"]
[null,null,null,null,null,"13363947-0","RAFAEL BERNARDINO SÁNCHEZ SÁNCHEZ","1978-04-02",45,5,"M","D","2023-09-30"]
[null,null,null,null,null,"16550351-1","JONATHAN ANDRÉS CHAPARRO URTUBIA","1987-01-17",36,8,"M","B","2023-09-30"]
[null,null,null,null,null,"12738144-5","MIGUEL ANGEL SÁNCHEZ JAQUE","1974-12-02",48,9,"M","D","2023-09-30"]
[null,null,null,null,null,"12050371-5","PAOLA ALEJANDRA OYARZÚN GUZMÁN","1977-05-03",46,4,"F","D","2023-09-30"]
[null,null,null,null,null,"19268898-1","MELANIE GABRIELA AYALA ARAVENA","1996-10-09",26,11,"F","D","2023-09-30"]
[null,null,null,null,null,"11602316-4","MARCELINA BEATRIZ MARIHUÉN JORQUERA","1970-09-08",53,0,"F","A","2023-09-30"]
[null,null,null,null,null,"8247010-7","RAÚL LEONEL DÍAZ SANDOVAL","1963-08-10",60,1,"M","D","2023-09-30"]
[null,null,null,null,null,"5905400-7","MARÍA ADRIANA COLLAO ARCE","1944-05-14",79,4,"F","B","2023-09-30"]
[null,null,null,null,null,"23987522-K","AGUSTINA BELÉN ANDRADE GONZÁLEZ","2012-06-19",11,3,"F","A","2023-09-30"]
[null,null,null,null,null,"21499459-3","JESÚS IBRHAIM VALERO AGUILAR","2004-01-29",19,8,"M","A","2023-09-30"]
[null,null,null,null,null,"27312250-8","MAXIMO LEON ANDRE VEGA CANTILLANA","2020-07-13",3,2,"M","B","2023-09-30"]
[null,null,null,null,null,"27189112-1","JAVIERA ANTONIA CARVAJAL DONOSO","2020-02-02",3,7,"F","C","2023-09-30"]
[null,null,null,null,null,"27092983-4","VICENTE ANDRES LOPEZ RODRIGUEZ","2019-11-22",3,10,"M","D","2023-09-30"]
[null,null,null,null,null,"17101013-6","CAMILA ALEJANDRA TRONCOSO SÁNCHEZ","1988-12-29",34,9,"F","A","2023-09-30"]
[null,null,null,null,null,"15818475-3","TERESA DEL CARMEN MANRÍQUEZ CASTILLO","1984-05-21",39,4,"F","D","2023-09-30"]
[null,null,null,null,null,"10006790-0","JUANA MARÍA FERNÁNDEZ ROA","1965-07-21",58,2,"F","C","2023-09-30"]
[null,null,null,null,null,"27383076-6","LIAM ANTONIO SUAREZ VELASQUEZ","2020-10-27",2,11,"M","B","2023-09-30"]
[null,null,null,null,null,"21613591-1","MINNA ANNAYS GONZÁLEZ SILVA","2004-06-29",19,3,"F","B","2023-09-30"]
[null,null,null,null,null,"15061914-9","VANESSA ALEJANDRA CASTRO OSORIO","1983-01-06",40,8,"F","D","2023-09-30"]
[null,null,null,null,null,"23127022-1","JOEL ALEJANDRO MAYORGA ","1984-11-01",38,10,"M","D","2023-09-30"]
[null,null,null,null,null,"3700060-4","RIGOBERTO ALFREDO VARAS FIGUEROA","1938-03-10",85,6,"M","B","2023-09-30"]
[null,null,null,null,null,"24009905-5","DANTE IGNACIO BAZÁEZ VILLARROEL","2012-07-11",11,2,"M","D","2023-09-30"]
[null,null,null,null,null,"13982024-K","OSCAR ALEJANDRO VÉLEZ PEÑA","1981-05-14",42,4,"M","C","2023-09-30"]
[null,null,null,null,null,"7868309-0","WILLIAM BERNARDO ASTUDILLO CASTILLO","1957-07-17",66,2,"M","B","2023-09-30"]
[null,null,null,null,null,"20133007-6","DARLIN IHOMARA IBACETA SANTELICES","1999-04-17",24,5,"F","D","2023-09-30"]
[null,null,null,null,null,"14081292-7","DANIEL ORLANDO AGURTO URRA","1981-02-23",42,7,"M","C","2023-09-30"]
[null,null,null,null,null,"7044400-3","ESTER ARIAS QUINTANA","1952-09-05",71,0,"F","D","2023-09-30"]
[null,null,null,null,null,"13858204-3","PATRICIA NATALIA RÍOS ROJAS","1980-10-26",42,11,"F","B","2023-09-30"]
[null,null,null,null,null,"13752767-7","VÍCTOR ALEJANDRO GUERRERO AYALA","1980-07-23",43,2,"M","D","2023-09-30"]
[null,null,null,null,null,"21057109-4","EVELYN NATALIA TELLO BENAVIDES","2002-10-08",20,11,"F","A","2023-09-30"]
[null,null,null,null,null,"8458746-K","PABLO CÉSAR FIGUEROA SALDÍVAR","1974-03-02",49,6,"M","C","2023-09-30"]
[null,null,null,null,null,"11168191-0","EDUARDO MAURICIO JIMÉNEZ SÁNCHEZ","1967-07-11",56,2,"M","D","2023-09-30"]
[null,null,null,null,null,"15544502-5","SILVIA DEYSI SOTO GARAY","1984-02-16",39,7,"F","B","2023-09-30"]
[null,null,null,null,null,"18973118-3","MARYORI BELÉN SALINAS TAPIA","1994-12-29",28,9,"F","B","2023-09-30"]
[null,null,null,null,null,"21448597-4","JAVIER ALEXANDER CAICEO CARVAJAL","2003-11-20",19,10,"M","A","2023-09-30"]
[null,null,null,null,null,"27455821-0","VALENTIN HERNAN VARGAS VILLALON","2021-01-18",2,8,"M","B","2023-09-30"]
[null,null,null,null,null,"26096842-4","ABEL TORRES MENDOZA","1969-08-14",54,1,"M","B","2023-09-30"]
[null,null,null,null,null,"9088594-4","MARCELINO RUBÉN VARGAS MONTENEGRO","1965-07-06",58,2,"M","C","2023-09-30"]
[null,null,null,null,null,"6764648-7","ANA MARÍA SALINAS VÁSQUEZ","1946-04-14",77,5,"F","B","2023-09-30"]
[null,null,null,null,null,"11945009-8","LUISA FABIOLA REYES COLLAO","1972-05-30",51,4,"F","D","2023-09-30"]
[null,null,null,null,null,"8170503-8","MARÍA VIVIANA ESPÍNOLA OLGUÍN","1961-08-23",62,1,"F","B","2023-09-30"]
[null,null,null,null,null,"17818858-5","KATHERINE ISABEL OLIVA ARAYA","1991-06-22",32,3,"F","X","2023-09-30"]
[null,null,null,null,null,"18679940-2","CAROLINA ALEJANDRA NÚÑEZ DUREAUX","1993-11-11",29,10,"F","A","2023-09-30"]
[null,null,null,null,null,"19888195-3","DANIELA IGNACIA TAPIA OLIVARES","1998-08-31",25,0,"F","C","2023-09-30"]
[null,null,null,null,null,"19131273-2","FREDY ISRAEL OVALLE CASTILLO","1996-02-20",27,7,"M","B","2023-09-30"]
[null,null,null,null,null,"21885588-1","GABRIEL ANTONIO ROSALES TAUCAN","2005-06-28",18,3,"M","B","2023-09-30"]
[null,null,null,null,null,"22237612-2","CATALINA BELÉN BRIONES BERRÍOS","2006-10-18",16,11,"F","D","2023-09-30"]
[null,null,null,null,null,"19887064-1","BENJAMÍN IGNACIO JARA LÓPEZ","1997-11-30",25,10,"M","D","2023-09-30"]
[null,null,null,null,null,"4890130-1","MANUEL LINDOR RAMOS CARRASCO","1942-10-17",80,11,"M","B","2023-09-30"]
[null,null,null,null,null,"8789564-5","ORFILIA TERESA LEIVA MORALES","1961-08-11",62,1,"F","C","2023-09-30"]
[null,null,null,null,null,"10039909-1","MIGUEL EDUARDO TAPIA HERRERA","1964-02-26",59,7,"M","B","2023-09-30"]
[null,null,null,null,null,"22026637-0","BENJAMIN ALEXANDER URZÚA PARRA","2006-01-20",17,8,"M","A","2023-09-30"]
[null,null,null,null,null,"8822045-5","ERIKA LUISA GORMAZ SOTO","1960-11-04",62,10,"F","B","2023-09-30"]
[null,null,null,null,null,"19582258-1","GENESIS ISAMAR CONTRERAS MOYANO","1997-07-27",26,2,"F","D","2023-09-30"]
[null,null,null,null,null,"13752708-1","PAOLA DE LAS MERCEDE ARANCIBIA VILLARROEL","1979-12-02",43,9,"F","C","2023-09-30"]
[null,null,null,null,null,"9172608-4","MARÍA JAVIERA VALENZUELA CORTÉS","1965-12-27",57,9,"F","B","2023-09-30"]
[null,null,null,null,null,"7886516-4","YOLANDA DEL CARMEN URBINA JOFRÉ","1954-06-20",69,3,"F","B","2023-09-30"]
[null,null,null,null,null,"6414187-2","JUAN MANUEL CASTRO GUTIERREZ","1949-11-18",73,10,"M","C","2023-09-30"]
[null,null,null,null,null,"21568433-4","MARÍA JOSÉ MONSERRAT VILLARROEL VILLARROEL","2004-04-22",19,5,"F","B","2023-09-30"]
[null,null,null,null,null,"18972870-0","GISSELLE ANDREA ROSALES HERRERA","1994-11-12",28,10,"F","A","2023-09-30"]
[null,null,null,null,null,"24951832-8","JULIAN ALONSO VIDELA PINO","2015-04-01",8,5,"M","A","2023-09-30"]
[null,null,null,null,null,"25111683-0","BAIRON ALEXANDER ZAMORA HERRERA","2015-09-07",8,0,"M","A","2023-09-30"]
[null,null,null,null,null,"10603723-K","MÓNICA MARCELA OLGUÍN GONZÁLEZ","1970-07-19",53,2,"F","A","2023-09-30"]
[null,null,null,null,null,"12817826-0","ALEJANDRO ANTONIO ORTIZ IBACETA","1975-10-06",47,11,"M","C","2023-09-30"]
[null,null,null,null,null,"21618962-0","EMANUEL ERASMO ALESSANDER SÁNCHEZ VALENZUELA","2004-07-17",19,2,"M","B","2023-09-30"]
[null,null,null,null,null,"18384883-6","BARINIA DEL PILAR MAULÉN GONZÁLEZ","1992-12-30",30,9,"F","B","2023-09-30"]
[null,null,null,null,null,"5238987-9","GLORIA DE LAS MERCED MONTENEGRO LORCA","1944-05-13",79,4,"F","B","2023-09-30"]
[null,null,null,null,null,"17473927-7","DARLING CAROLINA DÍAZ ARAOS","1990-03-10",33,6,"F","B","2023-09-30"]
[null,null,null,null,null,"15760371-K","JUAN IGNACIO IBACACHE BALLESTEROS","1984-03-10",39,6,"M","C","2023-09-30"]
[null,null,null,null,null,"4241133-7","HAYDÉE ETELVINA SALINAS AGUIRRE","1940-07-31",83,1,"F","B","2023-09-30"]
[null,null,null,null,null,"4098817-3","RUTH DE LAS MERCEDES NEIRA ","1939-08-01",84,1,"F","B","2023-09-30"]
[null,null,null,null,null,"10489430-5","RAYEN SORAYA BUCAREY ÁVILA","1966-07-31",57,1,"F","A","2023-09-30"]
[null,null,null,null,null,"18679607-1","VERÓNICA ANDREA GONZÁLEZ ESPÍNOLA","1993-11-11",29,10,"F","D","2023-09-30"]
[null,null,null,null,null,"23258212-K","AGUSTIN ANDRES SANDOVAL SANCHEZ","2010-02-24",13,7,"M","X","2023-09-30"]
[null,null,null,null,null,"8820651-7","MARÍA ANGÉLICA MANZO GATICA","1959-05-06",64,4,"F","C","2023-09-30"]
[null,null,null,null,null,"15093017-0","JUAN IGNACIO JIMÉNEZ SALAS","1983-08-08",40,1,"M","B","2023-09-30"]
[null,null,null,null,null,"18443833-K","LUCIANO ANDRÉS HERNÁNDEZ PALMA","1993-06-20",30,3,"M","B","2023-09-30"]
[null,null,null,null,null,"6313612-3","RUBÉN DARÍO VILLARROEL MURA","1949-12-01",73,9,"M","B","2023-09-30"]
[null,null,null,null,null,"41271361-3","PODDYURA JETSY ZABALA HERNANDEZ","1982-05-23",41,4,"F","A","2023-09-30"]
[null,null,null,null,null,"11313354-6","AURORA DE LAS MERCED ONEL DONOSO","1968-07-15",55,2,"F","C","2023-09-30"]
[null,null,null,null,null,"16026558-2","NIDIA ELENA ARRIOLA MUÑOZ","1984-08-03",39,1,"F","A","2023-09-30"]
[null,null,null,null,null,"16360197-4","NICOLÁS ADOLFO ORTEGA SALINAS","1986-11-05",36,10,"M","X","2023-09-30"]
[null,null,null,null,null,"21987893-1","MAXIMILIANO JESUS CONTRERAS REINOSO","2005-11-28",17,10,"M","D","2023-09-30"]
[null,null,null,null,null,"17469273-4","SILVIO PATRICIO QUINTEROS GELDRES","1990-07-08",33,2,"M","D","2023-09-30"]
[null,null,null,null,null,"16798218-2","JOSELYN DIANA ARREDONDO MONTENEGRO","1988-01-11",35,8,"F","A","2023-09-30"]
[null,null,null,null,null,"26770588-7","MAX LEÓN LEAL VALDERRAMA","2019-03-30",4,6,"M","B","2023-09-30"]
[null,null,null,null,null,"11944516-7","MARÍA VALERIA SOTO MARTÍNEZ","1972-06-17",51,3,"F","B","2023-09-30"]
[null,null,null,null,null,"18973930-3","FRANCISCO ANDRÉS REYES FIGUEROA","1995-07-20",28,2,"M","D","2023-09-30"]
[null,null,null,null,null,"10164717-K","CARMEN GLORIA CAICEO INOSTROZA","1968-06-29",55,3,"F","A","2023-09-30"]
[null,null,null,null,null,"23415164-9","SOFÍA BELÉN RODRIGUEZ PÉREZ","2010-09-02",13,0,"F","B","2023-09-30"]
[null,null,null,null,null,"7725597-4","JUAN FRANCISCO URBINA JOFRÉ","1956-11-04",66,10,"M","B","2023-09-30"]
[null,null,null,null,null,"7869657-5","VERÓNICA DEL CARMEN OSORIO SALINAS","1957-07-10",66,2,"F","B","2023-09-30"]
[null,null,null,null,null,"6711844-8","SABINO ENRIQUE LÓPEZ ARANCIBIA","1950-10-27",72,11,"M","B","2023-09-30"]
[null,null,null,null,null,"16550963-3","CARLOS FABIÁN NAVARRO JELDES","1987-07-13",36,2,"M","C","2023-09-30"]
[null,null,null,null,null,"17164708-8","MACARENA SOLANGE VIDELA SILVA","1989-07-25",34,2,"F","D","2023-09-30"]
[null,null,null,null,null,"10182595-7","NANCY DEL CARMEN GARAY CÁRDENAS","1972-01-29",51,8,"F","B","2023-09-30"]
[null,null,null,null,null,"24491028-9","MAXIMILIANO NICOLÁS URREA CRUZ","2013-12-23",9,9,"M","A","2023-09-30"]
[null,null,null,null,null,"24904810-0","FERNANDA ISIDORA ARRIOLA VALDÉS","2015-02-18",8,7,"F","A","2023-09-30"]
[null,null,null,null,null,"23533566-2","JAVIERA BELÉN ABARCA ARANCIBIA","2011-01-14",12,8,"F","A","2023-09-30"]
[null,null,null,null,null,"13539799-7","ARTURO ENRIQUE LIBERÓN MUÑOZ","1979-10-20",43,11,"M","D","2023-09-30"]
[null,null,null,null,null,"16026673-2","JOSÉ OSVALDO CARVAJAL VILLEGAS","1985-01-02",38,8,"M","B","2023-09-30"]
[null,null,null,null,null,"9363297-4","MIGUEL ANGEL LIRA SALINAS","1965-07-08",58,2,"M","D","2023-09-30"]
[null,null,null,null,null,"28053232-0","JAVIERA CONSTANZA SEPÚLVEDA CONTRERAS","2023-01-27",0,8,"F","D","2023-09-30"]
[null,null,null,null,null,"27270023-0","MARIANO ALEXIS RIVERA ONEL","2020-05-04",3,4,"M","C","2023-09-30"]
[null,null,null,null,null,"24900036-1","VALENTINA PAZ GUTIERREZ FERREIRA","2015-02-14",8,7,"F","A","2023-09-30"]
[null,null,null,null,null,"18679731-0","PAOLO ANTONIO PALOMINOS SÁEZ","1993-12-13",29,9,"M","D","2023-09-30"]
[null,null,null,null,null,"24617071-1","PABLO ANDRÉS SANHUEZA CONTRERAS","2014-05-11",9,4,"M","B","2023-09-30"]
[null,null,null,null,null,"19443298-4","FRANCISCA BELÉN SEPÚLVEDA MERCADO","1997-04-04",26,5,"F","A","2023-09-30"]
[null,null,null,null,null,"7506486-1","JORGE HERNÁN URBINA AHUMADA","1954-04-19",69,5,"M","B","2023-09-30"]
[null,null,null,null,null,"4999193-2","SILVERIO ANDRADE PÉREZ","1941-06-19",82,3,"M","B","2023-09-30"]
[null,null,null,null,null,"22923313-0","AMÉRICO MAXIMILIANO RAMÍREZ ALBORNOZ","2009-01-15",14,8,"M","C","2023-09-30"]
[null,null,null,null,null,"7488586-1","TERESA GUMERCINDA PULGAR AGUILERA","1957-10-27",65,11,"F","B","2023-09-30"]
[null,null,null,null,null,"18679573-3","JAZMÍN MACARENA TAPIA ROMERO","1993-10-28",29,11,"F","C","2023-09-30"]
[null,null,null,null,null,"21619511-6","SOFIA CARVACHO GARATE","2004-07-19",19,2,"F","D","2023-09-30"]
[null,null,null,null,null,"4304057-K","GEORGINA EMILIA HERRERA ROJAS","1937-09-23",86,0,"F","B","2023-09-30"]
[null,null,null,null,null,"15060710-8","DANNY PATRICIO HERRERA HERRERA","1982-02-13",41,7,"M","D","2023-09-30"]
[null,null,null,null,null,"21602505-9","CATALINA BELEN GÓMEZ TABILO","2004-06-23",19,3,"F","B","2023-09-30"]
[null,null,null,null,null,"20983334-4","ALONDRA JENNIFFER IBACETA PORMA","2002-03-01",21,6,"F","X","2023-09-30"]
[null,null,null,null,null,"8728501-4","MARÍA BENITA OSORIO BERRÍOS","1959-12-12",63,9,"F","B","2023-09-30"]
[null,null,null,null,null,"25033260-2","JOSEFA TRINIDAD HERRERA HERRERA","2015-07-01",8,2,"F","B","2023-09-30"]
[null,null,null,null,null,"8831819-6","GLORIA DEL CARMEN MALLEA VILLARROEL","1959-06-15",64,3,"F","B","2023-09-30"]
[null,null,null,null,null,"18972719-4","JOHAN ALEJANDRO BARRERA RODRÍGUEZ","1994-10-06",28,11,"M","D","2023-09-30"]
[null,null,null,null,null,"10648710-3","AURISTELA FLOR MIRANDA CORREA","1967-06-19",56,3,"F","C","2023-09-30"]
[null,null,null,null,null,"22540175-6","CONSTANZA DANIELA VILLEGAS BRIONES","2007-11-01",15,10,"F","C","2023-09-30"]
[null,null,null,null,null,"11517964-0","VIVIANA GUMERCINDA PORRAS HERRERA","1970-03-08",53,6,"F","B","2023-09-30"]
[null,null,null,null,null,"8173634-0","ANGEL RENÉ MARTÍNEZ GAETE","1958-08-11",65,1,"M","C","2023-09-30"]
[null,null,null,null,null,"20408429-7","KATHERIN CARLA TORRES PONCE","2000-06-25",23,3,"F","C","2023-09-30"]
[null,null,null,null,null,"5349851-5","GLADI LUCÍA VERGARA BERRÍOS","1939-05-23",84,4,"F","B","2023-09-30"]
[null,null,null,null,null,"13185218-5","ANA ADRIANA FLORES ARANCIBIA","1977-10-20",45,11,"F","B","2023-09-30"]
[null,null,null,null,null,"24058807-2","IVANA POULETT MUÑOZ CHAPARRO","2012-09-06",11,0,"F","C","2023-09-30"]
[null,null,null,null,null,"14580198-2","PAOLA ALEJANDRA URBINA LOBOS","1980-01-25",43,8,"F","B","2023-09-30"]
[null,null,null,null,null,"22093740-2","JOSE TOMAS PÉREZ SALDAÑO","2006-04-09",17,5,"M","B","2023-09-30"]
[null,null,null,null,null,"41132893-7","JAZBLLEIDYS NURIETH ARIAS REDONDO","2010-06-12",13,3,"F","A","2023-09-30"]
[null,null,null,null,null,"5802116-4","YOLANDA NAVARRO VARGAS","1940-04-02",83,5,"F","X","2023-09-30"]
[null,null,null,null,null,"8278573-6","SONIA DEL ROSARIO CARVAJAL GALLARDO","1956-09-12",67,0,"F","B","2023-09-30"]
[null,null,null,null,null,"25313634-0","MARTÍN ANDRÉS GONZÁLEZ MOYANO","2016-03-10",7,6,"M","D","2023-09-30"]
[null,null,null,null,null,"13981876-8","ELENA SOLEDAD PONCE RAMÍREZ","1981-03-31",42,5,"F","B","2023-09-30"]
[null,null,null,null,null,"16306694-7","LEONARDO DEL TRÁNSITO ARAYA GÓMEZ","1986-09-23",37,0,"M","B","2023-09-30"]
[null,null,null,null,null,"28185889-0","MARIANO MATIAS SEPULVEDA CARVALLO","2023-07-02",0,2,"M","B","2023-09-30"]
[null,null,null,null,null,"7020843-1","FRANCISCO AMADEO GUERRA VALENZUELA","1954-08-20",69,1,"M","D","2023-09-30"]
[null,null,null,null,null,"13185526-5","DEBORAH MARISOL MURA BAEZ","1977-10-29",45,11,"F","D","2023-09-30"]
[null,null,null,null,null,"8633516-6","PEDRO SALINAS CÉSPEDES","1958-03-01",65,6,"M","D","2023-09-30"]
[null,null,null,null,null,"16026797-6","MARÍA JOSÉ LÓPEZ LÓPEZ","1985-01-16",38,8,"F","C","2023-09-30"]
[null,null,null,null,null,"11313289-2","NATALIA CECILIA CARVAJAL BAEZA","1968-06-04",55,3,"F","B","2023-09-30"]
[null,null,null,null,null,"24444556-K","EMILIO ALEJANDRO LECAROS SEGURA","2013-10-19",9,11,"M","A","2023-09-30"]
[null,null,null,null,null,"17602795-9","EDUARDO ANDRÉS HERRERA PORZIO","1991-01-25",32,8,"M","D","2023-09-30"]
[null,null,null,null,null,"23359362-1","JULIETA ISIDORA GONZÁLEZ URTUBIA","2010-06-28",13,3,"F","B","2023-09-30"]
[null,null,null,null,null,"23156987-1","ANA MIA SOLANGE SILVA TROQUIAN","2009-10-21",13,11,"F","A","2023-09-30"]
[null,null,null,null,null,"22888429-4","DARWIN SHADDAY MU  OZ GOMEZ","1994-09-16",29,0,"M","X","2023-09-30"]
[null,null,null,null,null,"20408193-K","ELIZABETH VALERIA BALBOA CERDA","2000-04-14",23,5,"F","X","2023-09-30"]
[null,null,null,null,null,"9871399-9","PATRICIO HUMBERTO GORMAZ GONZÁLEZ","1965-07-02",58,2,"M","B","2023-09-30"]
[null,null,null,null,null,"13539808-K","JOSÉ LUIS OSORIO CRUZ","1979-11-13",43,10,"M","B","2023-09-30"]
[null,null,null,null,null,"19700681-1","RUBÉN OCTAVIO NÚÑEZ LÓPEZ","1998-01-06",25,8,"M","C","2023-09-30"]
[null,null,null,null,null,"8582830-4","LUIS ALBERTO LEIVA FUENTES","1960-02-26",63,7,"M","D","2023-09-30"]
[null,null,null,null,null,"19581261-6","BRANDON ALEX BARRERA RODRÍGUEZ","1996-10-31",26,10,"M","D","2023-09-30"]
[null,null,null,null,null,"28200125-K","ADLER MONIER GUZMAN BUSTOS","2023-07-22",0,2,"M","C","2023-09-30"]
[null,null,null,null,null,"9753245-1","LIZ JOHANNA SÁNCHEZ MATAMORO","1965-02-27",58,7,"F","B","2023-09-30"]
[null,null,null,null,null,"17647398-3","FABIÁN ESTEBAN DELGADO JIMÉNEZ","1991-04-27",32,5,"M","B","2023-09-30"]
[null,null,null,null,null,"23666242-K","PAULINA ISABEL MUÑOZ PARRA","2011-06-12",12,3,"F","A","2023-09-30"]
[null,null,null,null,null,"12391849-5","RODRIGO OSVALDO URBINA AVALLAY","1973-05-02",50,4,"M","D","2023-09-30"]
[null,null,null,null,null,"13330999-3","MARTA PAMELA POBLETE SEREY","1978-07-09",45,2,"F","B","2023-09-30"]
[null,null,null,null,null,"14044513-4","JUAN PABLO VEGA MALTES","1981-04-16",42,5,"M","D","2023-09-30"]
[null,null,null,null,null,"26016821-5","MAITE FLORENCIA HERNÁNDEZ BERRÍOS","2017-11-27",5,10,"F","A","2023-09-30"]
[null,null,null,null,null,"12579053-4","RODRIGO FLAVIO PONCE PONCE","1973-05-09",50,4,"M","B","2023-09-30"]
[null,null,null,null,null,"17164447-K","YESENIA FRANCISCA RODRÍGUEZ ESPEJO","1989-05-18",34,4,"F","A","2023-09-30"]
[null,null,null,null,null,"20408536-6","MARÍA JESÚS ARENAS HERRERA","2000-07-21",23,2,"F","C","2023-09-30"]
[null,null,null,null,null,"24972398-3","AYLEN TRINIDAD MENDOZA SANDOVAL","2015-05-02",8,4,"F","C","2023-09-30"]
[null,null,null,null,null,"13538958-7","LORENA DEL CARMEN PULGAR FERNÁNDEZ","1979-03-01",44,6,"F","C","2023-09-30"]
[null,null,null,null,null,"21254281-4","BENJAMIN CARLOS RODRIGUEZ BOTTO","2003-03-03",20,6,"M","A","2023-09-30"]
[null,null,null,null,null,"22771165-5","JOSEFA ANTONIA CASTRO DONOSO","2008-07-19",15,2,"F","D","2023-09-30"]
[null,null,null,null,null,"13827307-5","MARCO ANTONIO TORRES LEÓN","1980-03-25",43,6,"M","D","2023-09-30"]
[null,null,null,null,null,"16306430-8","CARLOS ANTONIO GUERRERO GUERRERO","1986-06-18",37,3,"M","B","2023-09-30"]
[null,null,null,null,null,"9249033-5","EDUARDO ALFONSO PEREIRA ARREDONDO","1964-12-04",58,9,"M","D","2023-09-30"]
[null,null,null,null,null,"9025009-4","MARÍA ANGÉLICA POZO GALLARDO","1959-11-17",63,10,"F","B","2023-09-30"]
[null,null,null,null,null,"25658263-5","JOAQUÍN EMILIANO MARTÍNEZ MOYANO","2017-01-27",6,8,"M","B","2023-09-30"]
[null,null,null,null,null,"17972300-K","KAREN CATALINA LECAROS POBLETE","1992-02-21",31,7,"F","C","2023-09-30"]
[null,null,null,null,null,"19581643-3","VALERY ODETTE CORTÉS DURÁN","1997-02-14",26,7,"F","X","2023-09-30"]
[null,null,null,null,null,"12950215-0","CRISTIAN RODRIGO GALLEGOS ALVARADO","1976-07-09",47,2,"M","D","2023-09-30"]
[null,null,null,null,null,"18496000-1","MARJORIE SOLANGE TAHORMINA MORIS","1993-02-22",30,7,"F","B","2023-09-30"]
[null,null,null,null,null,"20133506-K","JAVIER IGNACIO GUÍÑEZ RODRÍGUEZ","1999-08-12",24,1,"M","D","2023-09-30"]
[null,null,null,null,null,"24382844-9","ALEJANDRO ISAIAS ORTEGA APABLAZA","2013-09-04",10,0,"M","A","2023-09-30"]
[null,null,null,null,null,"10087806-2","RUBÉN SEGUNDO JARA GAMBOA","1965-11-16",57,10,"M","D","2023-09-30"]
[null,null,null,null,null,"15786218-9","MARCIA CONZUELO SANDOVAL ORTIZ","1983-11-08",39,10,"F","A","2023-09-30"]
[null,null,null,null,null,"16411068-0","FELIPE ADOLFO SALDAÑA CAMPOS","1986-09-27",37,0,"M","D","2023-09-30"]
[null,null,null,null,null,"27497246-7","FERNANDA BÉLA BAHAMONDES SEGOVIA","2021-03-25",2,6,"F","D","2023-09-30"]
[null,null,null,null,null,"19617355-2","ALEJANDRA YORLLET PIZARRO PEÑA","1997-08-28",26,1,"F","B","2023-09-30"]
[null,null,null,null,null,"26636441-5","GABRIEL ALONSO ZELAYA LEIVA","2018-12-29",4,9,"M","C","2023-09-30"]
[null,null,null,null,null,"7216874-7","NELSON DE JESÚS RODRÍGUEZ ORTIZ","1955-06-05",68,3,"M","A","2023-09-30"]
[null,null,null,null,null,"16306731-5","GLADYS ANDREA LARENAS CORREA","1986-08-13",37,1,"F","A","2023-09-30"]
[null,null,null,null,null,"22353026-5","ELIZABETH ANDREA CAMUS CACERES","2007-03-15",16,6,"F","A","2023-09-30"]
[null,null,null,null,null,"13331006-1","DANIELA DE LAS MERCEDES RIVERA ORTIZ","1978-07-17",45,2,"F","D","2023-09-30"]
[null,null,null,null,null,"23166300-2","FLORENCIA PASCAL BRUNA VILLALÓN","2009-11-08",13,10,"F","C","2023-09-30"]
[null,null,null,null,null,"19582496-7","YANARA IGNACIA CHAPARRO DONOSO","1997-10-01",25,11,"F","B","2023-09-30"]
[null,null,null,null,null,"21061740-K","JOAN FRANCISCO JAVIE SALINAS HERRERA","2002-06-26",21,3,"M","D","2023-09-30"]
[null,null,null,null,null,"5143725-K","LUIS ORLANDO LEMUS MALDONADO","1944-12-30",78,9,"M","B","2023-09-30"]
[null,null,null,null,null,"10959237-4","LILIANA MARLEN LAZCANO ARRIAZA","1968-11-01",54,10,"F","D","2023-09-30"]
[null,null,null,null,null,"19268518-4","PEDRO JAVIER LEÓN FERNÁNDEZ","1996-06-24",27,3,"M","B","2023-09-30"]
[null,null,null,null,null,"16952792-K","JOCELYN AYLINN RAMÍREZ MURA","1988-07-25",35,2,"F","B","2023-09-30"]
[null,null,null,null,null,"9162048-0","ENY JEANETTE ÁVILA GALLARDO","1962-08-28",61,1,"F","B","2023-09-30"]
[null,null,null,null,null,"7219931-6","JOVER ENRIQUE JAIME MENA","1953-01-11",70,8,"M","C","2023-09-30"]
[null,null,null,null,null,"17548769-7","DIEGO ALONSO ARAVENA REYES","1992-06-24",31,3,"M","D","2023-09-30"]
[null,null,null,null,null,"12340383-5","ELIZABETH PILAR GÓMEZ CÁRDENAS","1973-05-12",50,4,"F","B","2023-09-30"]
[null,null,null,null,null,"20408641-9","NATALY EUGENIA DELGADO SÁNCHEZ","2000-08-15",23,1,"F","A","2023-09-30"]
[null,null,null,null,null,"25981959-8","ISIDORA PASKAL JARA SILVA","2017-11-09",5,10,"F","A","2023-09-30"]
[null,null,null,null,null,"24765730-4","MATILDE AMELIA OJEDA AMESTICA","2014-10-10",8,11,"F","D","2023-09-30"]
[null,null,null,null,null,"10762587-9","JOSÉ ALEJANDRO ROJAS LEIVA","1968-09-07",55,0,"M","C","2023-09-30"]
[null,null,null,null,null,"22660254-2","FRANCHESCA ALANIS VIERA TORRES","2008-03-04",15,6,"F","A","2023-09-30"]
[null,null,null,null,null,"20408549-8","ELIAN HAROLDO MORALES FAVREAU","2000-07-23",23,2,"M","C","2023-09-30"]
[null,null,null,null,null,"21526786-5","DAMIÁN IGNACIO VELÁSQUEZ LIRA","2004-03-09",19,6,"M","B","2023-09-30"]
[null,null,null,null,null,"16695641-2","OSCAR PATRICIO POBLETE MESINA","1987-05-22",36,4,"M","B","2023-09-30"]
[null,null,null,null,null,"22661370-6","ACHLIE AISLIN YISSEL OJEDA VERDEJO","2008-02-29",15,7,"F","C","2023-09-30"]
[null,null,null,null,null,"16851745-9","FELIPE ALONZO MARTÍNEZ PINDAVE","1988-04-02",35,5,"M","B","2023-09-30"]
[null,null,null,null,null,"16551005-4","MARIPAZ MAGALI POBLETE MORENO","1987-07-24",36,2,"F","D","2023-09-30"]
[null,null,null,null,null,"9412314-3","MIRIAM ANGÉLICA ORTEGA ALFARO","1967-09-24",56,0,"F","C","2023-09-30"]
[null,null,null,null,null,"26062983-2","HAMISH SHERLOCK GORMAZ SILVA","2018-01-05",5,8,"F","B","2023-09-30"]
[null,null,null,null,null,"6492727-2","MARÍA ELENA CATALÁN VÁSQUEZ","1955-05-15",68,4,"F","B","2023-09-30"]
[null,null,null,null,null,"24966015-9","MIA ANTONIA ACEVEDO CÁCERES","2015-04-23",8,5,"F","A","2023-09-30"]
[null,null,null,null,null,"15344265-7","MARIO EUGENIO FREIRE GAJARDO","1982-05-09",41,4,"M","D","2023-09-30"]
[null,null,null,null,null,"25812349-2","MATILDA VALERIA ITURRIETA CANIBILO","2017-06-24",6,3,"F","B","2023-09-30"]
[null,null,null,null,null,"8948157-0","VIRGINIA DEL TRÁNSITO RODRÍGUEZ CARVACHO","1958-11-16",64,10,"F","B","2023-09-30"]
[null,null,null,null,null,"41405697-0","YRAHILDA AMARILIS SEQUEIRA PAEZ","1978-03-16",45,6,"F","A","2023-09-30"]
[null,null,null,null,null,"5297642-1","HUMBERTO RONALDO GORMAZ PULGAR","1944-08-21",79,1,"M","B","2023-09-30"]
[null,null,null,null,null,"23549220-2","MARTINA IGNACIA HERNÁNDEZ HERRERA","2011-01-30",12,8,"F","A","2023-09-30"]
[null,null,null,null,null,"26268377-K","VIVIAN LIZETH OSORIO RANGEL","1993-04-27",30,5,"F","A","2023-09-30"]
[null,null,null,null,null,"20871422-8","ROMINA DEYANIRA GODOY DAZA","2002-05-04",21,4,"F","A","2023-09-30"]
[null,null,null,null,null,"9164243-3","JESÚS ANTONIO ARDILES TAPIA","1962-04-18",61,5,"M","B","2023-09-30"]
[null,null,null,null,null,"16550118-7","PATRICIA DEL ROSARIO GARCÍA GARCÍA","1986-12-08",36,9,"F","A","2023-09-30"]
[null,null,null,null,null,"10267020-5","DAVID ENRIQUE MANDIOLA BERRÍOS","1969-12-29",53,9,"M","C","2023-09-30"]
[null,null,null,null,null,"12600471-0","CÉSAR ANDRÉS SÁNCHEZ VERGARA","1974-09-29",49,0,"M","B","2023-09-30"]
[null,null,null,null,null,"11729117-0","GEMIMA JESSICA CABEZAS CARRASCO","1971-01-24",52,8,"F","D","2023-09-30"]
[null,null,null,null,null,"13539687-7","MARÍA VIVIANA ÁLVAREZ NÚÑEZ","1979-10-19",43,11,"F","C","2023-09-30"]
[null,null,null,null,null,"6126639-9","ADELA ELCIRA ARREDONDO CAMUS","1950-10-24",72,11,"F","B","2023-09-30"]
[null,null,null,null,null,"16851915-K","NICE FERNANDA GARCÍA MANZANO","1988-05-04",35,4,"F","B","2023-09-30"]
[null,null,null,null,null,"16306448-0","ANGELINA DEL PILAR ARAYA MUÑOZ","1986-07-22",37,2,"F","A","2023-09-30"]
[null,null,null,null,null,"25104472-4","CATALINA PAZ LEIVA GALLARDO","2015-09-01",8,0,"F","D","2023-09-30"]
[null,null,null,null,null,"9016763-4","JORGE ISMAEL VIDELA VILLARROEL","1960-01-08",63,8,"M","D","2023-09-30"]
[null,null,null,null,null,"21528386-0","JOAN MIGUEL CERPA BESARES","2004-03-03",19,6,"M","C","2023-09-30"]
[null,null,null,null,null,"19772147-2","LUIS DARÍO SOTO HINOJOSA","1998-10-18",24,11,"M","B","2023-09-30"]
[null,null,null,null,null,"7348721-8","BLANCA MARGARITA CÁCERES NAVARRETE","1952-01-17",71,8,"F","C","2023-09-30"]
[null,null,null,null,null,"19281054-K","LEANDRO CAMILO MANRÍQUEZ OLMEDO","1995-12-14",27,9,"M","X","2023-09-30"]
[null,null,null,null,null,"27346529-4","KOMAL RIAZ    ","1993-10-31",29,10,"F","B","2023-09-30"]
[null,null,null,null,null,"17818282-K","EDGAR HERNÁN GONZÁLEZ CAMPOS","1991-01-26",32,8,"M","X","2023-09-30"]
[null,null,null,null,null,"10167813-K","SANDRA DEL CARMEN MARTÍNEZ MENA","1966-01-22",57,8,"F","A","2023-09-30"]
[null,null,null,null,null,"22352043-K","GIANELLA ANAET PEÑA GOMEZ","2007-03-15",16,6,"F","B","2023-09-30"]
[null,null,null,null,null,"4085252-2","ORLANDO HUMBERTO AGUIRRE VILLARROEL","1940-07-04",83,2,"M","B","2023-09-30"]
[null,null,null,null,null,"7147595-6","ARTURO AMBROSIO LIBERÓN FIGUEROA","1957-05-21",66,4,"M","B","2023-09-30"]
[null,null,null,null,null,"9084968-9","JUAN CARLOS MANRÍQUEZ CRUZ","1961-11-04",61,10,"M","C","2023-09-30"]
[null,null,null,null,null,"25481535-7","JULIETA MUÑOZ RIVAS","2016-08-18",7,1,"F","B","2023-09-30"]
[null,null,null,null,null,"18680510-0","NICOLÁS ALEJANDRO BUSTOS MANQUEL","1994-06-26",29,3,"M","C","2023-09-30"]
[null,null,null,null,null,"26583139-7","ANTONELLA ANAÍS OSORIO HUEIQUILLÁN","2018-11-20",4,10,"F","C","2023-09-30"]
[null,null,null,null,null,"8241144-5","LÁZARO ESTEBAN LIBERÓN FIGUEROA","1958-07-06",65,2,"M","B","2023-09-30"]
[null,null,null,null,null,"9862608-5","STALIN DEL CARMEN MONTENEGRO CORTÉS","1963-09-05",60,0,"M","C","2023-09-30"]
[null,null,null,null,null,"28025859-8","JULIO CESAR MONTILLA BASALO","2022-12-26",0,9,"M","A","2023-09-30"]
[null,null,null,null,null,"17818692-2","JAMES WILLIAMS MUÑOZ BERRÍOS","1991-06-02",32,3,"M","B","2023-09-30"]
[null,null,null,null,null,"12702144-9","FÉLIX FRANCISCO GARRIDO ANRÍQUEZ","1974-01-10",49,8,"M","D","2023-09-30"]
[null,null,null,null,null,"19927205-5","MIGUEL ANGEL SALAS LEIVA","1998-04-07",25,5,"M","C","2023-09-30"]
[null,null,null,null,null,"4659718-4","EUGENIA DEL CARMEN SILVA CARVAJAL","1942-07-03",81,2,"F","B","2023-09-30"]
[null,null,null,null,null,"11194172-6","JUAN MANUEL CARRASCO FIGUEROA","1967-01-24",56,8,"M","C","2023-09-30"]
[null,null,null,null,null,"5145559-2","LUIS HUMBERTO SILVA CORTEZ","1946-03-06",77,6,"M","B","2023-09-30"]
[null,null,null,null,null,"13982693-0","DAVID ANTONIO MONTENEGRO BUSTAMANTE","1981-05-03",42,4,"M","C","2023-09-30"]
[null,null,null,null,null,"15060592-K","SEBASTIÁN ERNESTO LEÓN HIDALGO","1982-01-15",41,8,"M","B","2023-09-30"]
[null,null,null,null,null,"23932576-9","ERICK MARTÍN GARRIDO URBINA","2012-04-23",11,5,"M","B","2023-09-30"]
[null,null,null,null,null,"26584092-2","JUAN JAZIEL CALLE QUISPE","2002-01-26",21,8,"M","X","2023-09-30"]
[null,null,null,null,null,"17163672-8","TERESA DEL CARMEN PONCE PEREIRA","1988-12-09",34,9,"F","C","2023-09-30"]
[null,null,null,null,null,"16776329-4","GONZALO ETIHER ESPARZA BASTIÁN","1987-12-09",35,9,"M","C","2023-09-30"]
[null,null,null,null,null,"6483163-1","MARIO PASCUAL BAEZ GONZÁLEZ","1953-12-25",69,9,"M","B","2023-09-30"]
[null,null,null,null,null,"18679896-1","GASTÓN NICOLÁS EDUAR MARTÍNEZ PINDAVE","1994-01-19",29,8,"M","D","2023-09-30"]
[null,null,null,null,null,"7966911-3","AUGUSTO IVÁN SANDOVAL ROJAS","1959-02-20",64,7,"M","B","2023-09-30"]
[null,null,null,null,null,"11944997-9","SILVIA DEL TRÁNSITO TOBAR FAJARDO","1972-04-06",51,5,"F","C","2023-09-30"]
[null,null,null,null,null,"24984954-5","GASPAR ALEXIS SEPULVEDA MAUNA","2015-05-14",8,4,"M","D","2023-09-30"]
[null,null,null,null,null,"4977889-9","REBECA IDOLIA OCARANZA ZÁRATE","1941-09-19",82,0,"F","B","2023-09-30"]
[null,null,null,null,null,"21879175-1","YASMIN MACIEL TAPIA OLMOS","2005-07-09",18,2,"F","D","2023-09-30"]
[null,null,null,null,null,"15742427-0","MACIEL EUGENIA SALINAS LEÓN","1983-12-15",39,9,"F","B","2023-09-30"]
[null,null,null,null,null,"17819257-4","CÉSAR NICOLÁS HERRERA GUZMÁN","1991-08-10",32,1,"M","D","2023-09-30"]
[null,null,null,null,null,"24823296-K","WILLIAM DAYRON BAUTISTA REYES","2009-08-07",14,1,"M","A","2023-09-30"]
[null,null,null,null,null,"20132931-0","SEBASTIÁN PATRICIO LIRA VILLARROEL","1999-03-19",24,6,"M","C","2023-09-30"]
[null,null,null,null,null,"40007293-0","LAURA ELIZABETH TEJERIA -","1974-10-03",48,11,"F","X","2023-09-30"]
[null,null,null,null,null,"12913788-6","MARÍA INÉS NOVOA ESQUIVEL","1975-07-29",48,2,"F","B","2023-09-30"]
[null,null,null,null,null,"17164382-1","YESENIA DE LAS NIEVES ABARCA ARANCIBIA","1989-05-16",34,4,"F","D","2023-09-30"]
[null,null,null,null,null,"6278449-0","HUGO FRANCISCO CARVAJAL CASTRO","1950-04-11",73,5,"M","B","2023-09-30"]
[null,null,null,null,null,"9738724-9","VERÓNICA DEL CARMEN MALDONADO LEMUS","1963-04-12",60,5,"F","B","2023-09-30"]
[null,null,null,null,null,"5449056-9","BERNARDO DEL CARMEN PALACIOS HERNÁNDEZ","1945-08-20",78,1,"M","C","2023-09-30"]
[null,null,null,null,null,"10021789-9","OSCAR RAMÓN SALINAS ROJAS","1966-05-29",57,4,"M","D","2023-09-30"]
[null,null,null,null,null,"27327991-1","MATEO IGNACIO AHUMADA ESTAY","2020-08-03",3,1,"M","B","2023-09-30"]
[null,null,null,null,null,"23009122-6","CAMILA AYLINE DÍAZ HERRERA","2009-04-30",14,5,"F","B","2023-09-30"]
[null,null,null,null,null,"26630560-5","DOMINIQUE ANTONELLA BENITEZ LÓPEZ","2018-12-22",4,9,"F","A","2023-09-30"]
[null,null,null,null,null,"23402240-7","MANUEL FRANCISCO FARÍAS PEREIRA","2010-08-14",13,1,"M","A","2023-09-30"]
[null,null,null,null,null,"23764343-7","MATÍAS EDUARDO JARA SUÁREZ","2011-10-05",11,11,"M","D","2023-09-30"]
[null,null,null,null,null,"27402593-K","AGUSTÍN MAXIMILIANO CORVALÁN LÓPEZ","2020-11-19",2,10,"M","C","2023-09-30"]
[null,null,null,null,null,"17818032-0","CINTIA STEFANI SILVA FLORES","1990-11-29",32,10,"F","B","2023-09-30"]
[null,null,null,null,null,"19582270-0","NICOLÁS ALEJANDRO PARADA LEIVA","1997-08-05",26,1,"M","D","2023-09-30"]
[null,null,null,null,null,"13787351-6","SANDRA DEL CARMEN MUÑOZ VILLALOBOS","1970-08-04",53,1,"F","B","2023-09-30"]
[null,null,null,null,null,"27754542-K","THIAGO ALESSANDRO LUCERO GORMAZ","2022-03-31",1,5,"M","B","2023-09-30"]
[null,null,null,null,null,"25538914-9","HUGO IGNACIO REYES GONZÁLEZ","2016-10-14",6,11,"M","B","2023-09-30"]
[null,null,null,null,null,"18039233-5","GABRIEL ANTONIO DÍAZ LAGOS","1992-02-18",31,7,"M","D","2023-09-30"]
[null,null,null,null,null,"14193249-7","LESLIE ANDREA CORREA DE LA FUENTE","1981-03-18",42,6,"F","C","2023-09-30"]
[null,null,null,null,null,"22786265-3","FRANCO MANUEL PULGAR LEIVA","2008-07-24",15,2,"M","A","2023-09-30"]
[null,null,null,null,null,"26779207-0","FLORENCIA PASCAL ABARCA CORTÉS","2019-04-05",4,5,"F","B","2023-09-30"]
[null,null,null,null,null,"15811829-7","ADA PATRICIA BRAVO LINARES","1984-03-15",39,6,"F","D","2023-09-30"]
[null,null,null,null,null,"9551485-5","GLADYS DE LAS MERCEDES CONTRERAS TAPIA","1961-02-08",62,7,"F","B","2023-09-30"]
[null,null,null,null,null,"26615984-6","MAITE YAZMIN BARRAZA MENÉNDEZ","2018-12-12",4,9,"F","B","2023-09-30"]
[null,null,null,null,null,"10692735-9","MARÍA ISABEL REINOSO HENRÍQUEZ","1970-02-11",53,7,"F","A","2023-09-30"]
[null,null,null,null,null,"19581841-K","TANIA ESTEFANÍA TAPIA OLGUÍN","1996-08-25",27,1,"F","B","2023-09-30"]
[null,null,null,null,null,"20921179-3","MARÍA JOSÉ BELTRÁN ROJAS","2001-11-30",21,10,"F","B","2023-09-30"]
[null,null,null,null,null,"6457990-8","PASCUAL ANTONIO MARTÍNEZ SAAVEDRA","1951-05-17",72,4,"M","C","2023-09-30"]
[null,null,null,null,null,"16020252-1","DEREX DANTE ALCAIDE AREJULA","1985-11-12",37,10,"M","C","2023-09-30"]
[null,null,null,null,null,"21805870-1","MATIAS CARRERA OYANEDELL","2005-03-29",18,6,"M","B","2023-09-30"]
[null,null,null,null,null,"25903313-6","CRISTÓBAL LUCIANO ALFARO SOTO","2017-09-08",6,0,"M","A","2023-09-30"]
[null,null,null,null,null,"11945040-3","MÓNICA ISABEL SÁNCHEZ MATAMORO","1972-10-17",50,11,"F","B","2023-09-30"]
[null,null,null,null,null,"11600971-4","CLAUDIA ANDREA SANTOS DÍAZ","1970-01-16",53,8,"F","A","2023-09-30"]
[null,null,null,null,null,"24629534-4","JEHANPIER EMILIANO SANTELICES AHUMADA","2014-05-23",9,4,"M","A","2023-09-30"]
[null,null,null,null,null,"15061023-0","CAROLINA PAZ CARVALLO CARVACHO","1982-06-30",41,3,"F","C","2023-09-30"]
[null,null,null,null,null,"21904107-1","DIEGO IGNACIO PINILLA AGUILERA","2005-08-08",18,1,"M","C","2023-09-30"]
[null,null,null,null,null,"4658767-7","HERIBERTO VALENCIA SEGUEL","1942-09-27",81,0,"M","B","2023-09-30"]
[null,null,null,null,null,"19581531-3","BRAYAN MARCELO CASTILLO BUGUEÑO","1997-01-29",26,8,"M","B","2023-09-30"]
[null,null,null,null,null,"19190275-0","GEORGUETTE ARACELLI VILCHES ZÚÑIGA","1996-02-19",27,7,"F","X","2023-09-30"]
[null,null,null,null,null,"13185433-1","VERÓNICA LORENA DONOSO MURA","1977-01-21",46,8,"F","D","2023-09-30"]
[null,null,null,null,null,"16990773-0","NICOLE ALEJANDRA CRUZ ARCOS","1987-11-21",35,10,"F","C","2023-09-30"]
[null,null,null,null,null,"26050934-9","ANDRÉS EDUARDO CARRASCO BAEZA","2017-12-26",5,9,"M","A","2023-09-30"]
[null,null,null,null,null,"23811753-4","BENJAMÍN ALEJANDRO HIDALGO FLORES","2011-12-02",11,9,"M","A","2023-09-30"]
[null,null,null,null,null,"17643167-9","EDGARDO GUSTAVO CORTÉS CORTÉS","1991-05-10",32,4,"M","C","2023-09-30"]
[null,null,null,null,null,"10273885-3","MARÍA INÉS MUÑOZ RIVEROS","1964-12-30",58,9,"F","A","2023-09-30"]
[null,null,null,null,null,"9133287-6","RAQUEL DE LAS MERCED SÁNCHEZ BELMAR","1963-10-13",59,11,"F","C","2023-09-30"]
[null,null,null,null,null,"9082663-8","JUAN HUMBERTO SEPÚLVEDA LAGOS","1961-05-07",62,4,"M","B","2023-09-30"]
[null,null,null,null,null,"13185535-4","GLORIA ALEJANDRA TORRES MENA","1977-12-02",45,9,"F","B","2023-09-30"]
[null,null,null,null,null,"22664218-8","SKARLETH ANAÍS FIGUEROA ROSENDE","2008-03-06",15,6,"F","B","2023-09-30"]
[null,null,null,null,null,"12012555-9","DANNIS ALONSO PAVEZ PERALTA","1980-02-21",43,7,"M","D","2023-09-30"]
[null,null,null,null,null,"25865723-3","LULI BANEZA GARCIA PELAEZ","1985-11-26",37,10,"F","A","2023-09-30"]
[null,null,null,null,null,"9329382-7","LUIS ANTONIO VILLA RUIZ","1964-06-30",59,3,"M","B","2023-09-30"]
[null,null,null,null,null,"6413977-0","MANUEL JESÚS MUÑOZ MUÑOZ","1950-05-23",73,4,"M","B","2023-09-30"]
[null,null,null,null,null,"16662477-0","DANIELA ALEJANDRA BUENO BERTICHEVIC","1987-11-30",35,10,"F","D","2023-09-30"]
[null,null,null,null,null,"12018951-4","JANETT EUGENIA HERRERA CASTAÑEDA","1967-12-14",55,9,"F","C","2023-09-30"]
[null,null,null,null,null,"18113931-5","PAULA ALEJANDRA PUGA MOLINA","1992-06-24",31,3,"F","A","2023-09-30"]
[null,null,null,null,null,"9743116-7","MARIANELA DEL PILAR SILVA NILO","1963-09-03",60,0,"F","D","2023-09-30"]
[null,null,null,null,null,"16851656-8","LEANDRO RENÉ BERRÍOS PUEYES","1988-02-29",35,7,"M","D","2023-09-30"]
[null,null,null,null,null,"16550232-9","SILVANA ALEJANDRA ROJAS AGUILERA","1986-12-02",36,9,"F","D","2023-09-30"]
[null,null,null,null,null,"17468732-3","PAULA MAKARENA RODRÍGUEZ SANHUEZA","1990-02-22",33,7,"F","B","2023-09-30"]
[null,null,null,null,null,"27044231-5","LEONOR ANTONELLA RAMIREZ ROLDAN","2019-10-08",3,11,"F","D","2023-09-30"]
[null,null,null,null,null,"18385646-4","MARÍA JOSÉ OROSCO AHUMADA","1993-07-01",30,2,"F","C","2023-09-30"]
[null,null,null,null,null,"24737819-7","KUMURI ROSARY TAIBA BARRERA","2014-09-09",9,0,"F","A","2023-09-30"]
[null,null,null,null,null,"8356627-2","DARÍO DEL TRÁNSITO MANQUEL SOTO","1961-09-20",62,0,"M","D","2023-09-30"]
[null,null,null,null,null,"5771686-K","MYRIAM DEL CARMEN MONTENEGRO ORREGO","1949-10-19",73,11,"F","C","2023-09-30"]
[null,null,null,null,null,"4057898-6","LUIS ALEJANDRO GÓMEZ ","1936-11-09",86,10,"M","B","2023-09-30"]
[null,null,null,null,null,"12234197-6","RITA GABRIELA DEL CARMEN BARAHONA TORO","1972-02-08",51,7,"F","C","2023-09-30"]
[null,null,null,null,null,"23086723-2","SEBASTIÁN EDUARDO VILCHES ÁVILA","2009-07-31",14,1,"M","C","2023-09-30"]
[null,null,null,null,null,"20750881-0","LUIS ANTONIO GARCÉS DUPOUY","2001-05-15",22,4,"M","B","2023-09-30"]
[null,null,null,null,null,"16837804-1","NAYARET CONSTANZA SILVA CASTILLO","1988-05-16",35,4,"F","D","2023-09-30"]
[null,null,null,null,null,"13071049-2","CRISTIAN ANDRÉS JARA TAPIA","1976-02-03",47,7,"M","B","2023-09-30"]
[null,null,null,null,null,"4231877-9","FRANCISCA VÁSQUEZ OROZCO","1939-05-31",84,3,"F","B","2023-09-30"]
[null,null,null,null,null,"25594917-9","LUIS FELIPE ÁVILA FIGUEROA","2016-12-10",6,9,"M","A","2023-09-30"]
[null,null,null,null,null,"13043931-4","ROSA KATHERINE MARCHANT MENESES","1976-04-06",47,5,"F","C","2023-09-30"]
[null,null,null,null,null,"8756396-0","LUIS ALBERTO SALINAS ORTIZ","1959-12-22",63,9,"M","B","2023-09-30"]
[null,null,null,null,null,"19887466-3","DALIA STEFANIA RAMÍREZ INZUNZA","1998-02-25",25,7,"F","B","2023-09-30"]
[null,null,null,null,null,"16839510-8","FRANCISCO ANDRÉS VELASCO CANALES","1987-12-02",35,9,"M","B","2023-09-30"]
[null,null,null,null,null,"25591273-9","JULIETA PAZ URBINA AYALA","2016-12-06",6,9,"F","D","2023-09-30"]
[null,null,null,null,null,"24680574-1","ISABELLA PASCAL ESPINA ESPINA","2014-07-10",9,2,"F","D","2023-09-30"]
[null,null,null,null,null,"23768667-5","JORGE SEBASTIÁN IGNA BALLERINO RUIZ","2011-10-09",11,11,"M","A","2023-09-30"]
[null,null,null,null,null,"25074814-0","ISIDORA BELÉN CASTILLO BARRERA","2015-08-14",8,1,"F","A","2023-09-30"]
[null,null,null,null,null,"7432904-7","HUGO ARMANDO QUIROZ CASTILLO","1957-10-25",65,11,"M","B","2023-09-30"]
[null,null,null,null,null,"17818995-6","NICOLE SOLEDAD ARAYA BUGUEÑO","1991-08-14",32,1,"F","B","2023-09-30"]
[null,null,null,null,null,"25582473-2","MAXIMILIANO ALEXANDER HERRERA ESPÍNOLA","2016-11-26",6,10,"M","C","2023-09-30"]
[null,null,null,null,null,"17469398-6","CAROLINA DEL CARMEN ROMERO OSORIO","1990-07-18",33,2,"F","D","2023-09-30"]
[null,null,null,null,null,"15818243-2","FABIOLA DEL CARMEN OTÁROLA OTÁROLA","1981-05-18",42,4,"F","A","2023-09-30"]
[null,null,null,null,null,"20133801-8","DANIXA BEACTIARE RUIZ OTÁROLA","1999-10-18",23,11,"F","B","2023-09-30"]
[null,null,null,null,null,"11854451-K","PAOLA DEL CARMEN CARVAJAL PANTOJA","1970-10-28",52,11,"F","D","2023-09-30"]
[null,null,null,null,null,"18680604-2","CONSTANZA JOHANNA GONZÁLEZ VILLARROEL","1994-07-15",29,2,"F","B","2023-09-30"]
[null,null,null,null,null,"16550550-6","CINTHYA MICHEL HERRERA MOLINA","1987-03-30",36,6,"F","C","2023-09-30"]
[null,null,null,null,null,"6933888-7","HUGO FRANCISCO ORTIZAGA PINEDA","1952-06-18",71,3,"M","B","2023-09-30"]
[null,null,null,null,null,"10042026-0","IRIS DE LOURDES GARCÍA VÁSQUEZ","1963-08-27",60,1,"F","D","2023-09-30"]
[null,null,null,null,null,"6697297-6","ALICIA DE LAS MERCEDES GUERRERO OYANEDEL","1953-08-12",70,1,"F","B","2023-09-30"]
[null,null,null,null,null,"27291818-K","AMARO RAÚL BENAVIDES ARENAS","2020-06-10",3,3,"M","C","2023-09-30"]
[null,null,null,null,null,"20754047-1","NATALIA DEL CARMEN LORENZO PARRA","2001-10-05",21,11,"F","B","2023-09-30"]
[null,null,null,null,null,"11944358-K","SUSANA DEL TRÁNSITO PORRAS ESPINOZA","1972-04-15",51,5,"F","D","2023-09-30"]
[null,null,null,null,null,"25044990-9","PRISCILA CATALINA SILVA CORTEZ","2015-07-15",8,2,"F","A","2023-09-30"]
[null,null,null,null,null,"26167947-7","EYLEM ATHENEA SALAZAR VENEGAS","2018-03-12",5,6,"F","C","2023-09-30"]
[null,null,null,null,null,"22206271-3","VICENTE THOMAS MAUNA HERRERA","2006-09-13",17,0,"M","B","2023-09-30"]
[null,null,null,null,null,"12579213-8","JACQUELINE DE LAS MERCEDES VILLEGAS VÁSQUEZ","1974-10-17",48,11,"F","D","2023-09-30"]
[null,null,null,null,null,"13539761-K","JUAN CARLOS VARGAS OLIVARES","1979-06-18",44,3,"M","C","2023-09-30"]
[null,null,null,null,null,"5380832-8","TRÁNSITO DEL CARMEN MARTÍNEZ SAAVEDRA","1947-08-15",76,1,"F","B","2023-09-30"]
[null,null,null,null,null,"12029893-3","DANIEL RICARDO ARAYA DÍAZ","1978-07-24",45,2,"M","D","2023-09-30"]
[null,null,null,null,null,"18312882-5","FERNANDA CAROLINA DE VARGAS VARGAS","1992-08-09",31,1,"F","B","2023-09-30"]
[null,null,null,null,null,"18679586-5","CRISTÓBAL ADÁN PORRAS VARAS","1993-11-01",29,10,"M","D","2023-09-30"]
[null,null,null,null,null,"22018919-8","BRANDON EDMUNDO DONOSO MORALES","2006-01-09",17,8,"M","A","2023-09-30"]
[null,null,null,null,null,"4846573-0","RICARDO ERASMO VÁSQUEZ REYES","1944-06-23",79,3,"M","B","2023-09-30"]
[null,null,null,null,null,"11194256-0","ALEJANDRA DE LOURDES CISTERNAS JARA","1967-05-29",56,4,"F","A","2023-09-30"]
[null,null,null,null,null,"7536099-1","CRISTINA DEL CARMEN REYES CASTILLO","1956-11-26",66,10,"F","C","2023-09-30"]
[null,null,null,null,null,"8787887-2","MARÍA ELENA MIRANDA FAJARDO","1959-08-09",64,1,"F","C","2023-09-30"]
[null,null,null,null,null,"4995639-8","ADÁN ADOLFO OYARCE OYARCE","1945-02-20",78,7,"M","B","2023-09-30"]
[null,null,null,null,null,"6791467-8","CARLOS WILSON GONZÁLEZ BASTÍAS","1951-09-23",72,0,"M","B","2023-09-30"]
[null,null,null,null,null,"23583362-K","ANTONIA BELÉN PIZARRO ABARCA","2011-03-09",12,6,"F","B","2023-09-30"]
[null,null,null,null,null,"22404284-1","LETTICIA ANTONELLA VEGA IBARRA","2007-05-24",16,4,"F","D","2023-09-30"]
[null,null,null,null,null,"26521780-K","EMMANUEL ALEJANDRO CAMUS URRIAGA","2018-10-10",4,11,"M","B","2023-09-30"]
[null,null,null,null,null,"22135381-1","HELEN CHARLEEN MENDOZA SANDOVAL","2006-06-02",17,3,"F","C","2023-09-30"]
[null,null,null,null,null,"23788856-1","JOEL ANTONIO JAIME AHUMADA","2011-11-04",11,10,"M","A","2023-09-30"]
[null,null,null,null,null,"18679408-7","ALEXANDRA MELINA CHACÓN URRIOLA","1993-09-29",30,0,"F","C","2023-09-30"]
[null,null,null,null,null,"19887140-0","PEDRO ANDRÉS LAZCANO PULGAR","1997-12-26",25,9,"M","B","2023-09-30"]
[null,null,null,null,null,"7219927-8","CARLOS LUIS MESÍAS FIGUEROA","1954-06-24",69,3,"M","D","2023-09-30"]
[null,null,null,null,null,"8884607-9","ANGÉLICA NOEMÍ DE GUADALUPE BENAVIDES PEÑA","1962-09-30",61,0,"F","B","2023-09-30"]
[null,null,null,null,null,"4195203-2","ENRIQUE HERRERA ARAYA","1940-10-05",82,11,"M","B","2023-09-30"]
[null,null,null,null,null,"16550912-9","MARÍA TERESA PÁEZ SÁNCHEZ","1987-06-25",36,3,"F","X","2023-09-30"]
[null,null,null,null,null,"25650962-8","CELESTE ANDREA ARTEAGA AVILA","2017-01-25",6,8,"F","B","2023-09-30"]
[null,null,null,null,null,"41089414-9","HELANY ANDREA ASCANIO QUINTANA","2002-05-31",21,3,"F","B","2023-09-30"]
[null,null,null,null,null,"27389878-6","GABRIEL DE JESUS ANGULO MUÑOZ","1986-06-02",37,3,"M","C","2023-09-30"]
[null,null,null,null,null,"19888197-K","SEBASTIÁN AQUILES ORTIZ TORRES","1998-08-08",25,1,"M","B","2023-09-30"]
[null,null,null,null,null,"19582664-1","ALAN MILOSEVIC ULLOA ALFANDI","1997-11-05",25,10,"M","D","2023-09-30"]
[null,null,null,null,null,"27809923-7","AURORA NOEMI OLGUIN GOMEZ","2022-05-27",1,4,"F","B","2023-09-30"]
[null,null,null,null,null,"13539765-2","FABIÁN ENRIQUE FARÍAS JARA","1979-06-13",44,3,"M","D","2023-09-30"]
[null,null,null,null,null,"7148730-K","MARÍA ANTONIETA CASTILLO TAPIA","1954-01-17",69,8,"F","B","2023-09-30"]
[null,null,null,null,null,"24487384-7","SAYMON ANTONIO LÓPEZ SOTO","2013-12-19",9,9,"M","A","2023-09-30"]
[null,null,null,null,null,"19887540-6","MATÍAS ALEJANDRO SEGURA CASTILLO","1998-02-26",25,7,"M","D","2023-09-30"]
[null,null,null,null,null,"15061389-2","JORGE ARMANDO GUERRA MARTÍNEZ","1982-08-22",41,1,"M","C","2023-09-30"]
[null,null,null,null,null,"12950775-6","GLORIA MIREYA ARAVENA IBARRA","1976-11-03",46,10,"F","D","2023-09-30"]
[null,null,null,null,null,"17164711-8","JORGE HUMBERTO HUERTA GONZÁLEZ","1989-07-31",34,1,"M","B","2023-09-30"]
[null,null,null,null,null,"7264286-4","ISABEL ANGÉLICA TORO MANRÍQUEZ","1955-07-02",68,2,"F","C","2023-09-30"]
[null,null,null,null,null,"17164509-3","EDGARD BRAYAN MARTÍNEZ CAICEO","1989-05-26",34,4,"M","C","2023-09-30"]
[null,null,null,null,null,"18973988-5","MARÍA JOSÉ ROLDÁN GALDÁMEZ","1995-07-12",28,2,"F","B","2023-09-30"]
[null,null,null,null,null,"20753584-2","JAVIER ALEXIS BOZA VILLARROEL","2001-06-06",22,3,"M","D","2023-09-30"]
[null,null,null,null,null,"22763350-6","ELIAS DAVID MAYORGA ","2002-07-06",21,2,"M","A","2023-09-30"]
[null,null,null,null,null,"11944980-4","PATRICIA ALEJANDRINA ESCUDERO ESPÍNOLA","1971-12-08",51,9,"F","X","2023-09-30"]
[null,null,null,null,null,"24686606-6","MONSERRAT KARINA CORDERO LIRA","2014-07-17",9,2,"F","A","2023-09-30"]
[null,null,null,null,null,"13538955-2","SOLEDAD TERESA DEL T VILLARROEL FERRER","1979-03-14",44,6,"F","A","2023-09-30"]
[null,null,null,null,null,"10754800-9","JUAN CARLOS SÁNCHEZ JARA","1968-05-04",55,4,"M","D","2023-09-30"]
[null,null,null,null,null,"17030802-6","LISBY IVETTE GUERRA CABROLIER","1989-04-03",34,5,"F","B","2023-09-30"]
[null,null,null,null,null,"20136766-2","MARÍA IGNACIA CLAVERIA VERGARA","1999-03-09",24,6,"F","D","2023-09-30"]
[null,null,null,null,null,"10120966-0","CECILIA DEL CARMEN VIVEROS PONCE","1964-09-28",59,0,"F","X","2023-09-30"]
[null,null,null,null,null,"41312182-5","DARVIN JESUS BERMUDEZ AGUILAR","1989-06-30",34,3,"M","A","2023-09-30"]
[null,null,null,null,null,"18680617-4","GERARDO ANDRÉS GARRIDO REINOSO","1994-06-27",29,3,"M","D","2023-09-30"]
[null,null,null,null,null,"23545018-6","EMILY ANASTASIA REINOSO ARAYA","2011-01-28",12,8,"F","A","2023-09-30"]
[null,null,null,null,null,"10181970-1","SANDRA EMPERATRIZ LOBOS REYES","1970-06-22",53,3,"F","B","2023-09-30"]
[null,null,null,null,null,"23908685-3","ANTONIA PAZ FARÍAS CAMPOS","2012-03-24",11,6,"F","D","2023-09-30"]
[null,null,null,null,null,"5302750-4","GUILLERMINA DEL CARM AHUMADA LASTARRIA","1932-04-12",91,5,"F","B","2023-09-30"]
[null,null,null,null,null,"13827976-6","FANNY DEL CARMEN COFRÉ MARTÍNEZ","1980-11-26",42,10,"F","C","2023-09-30"]
[null,null,null,null,null,"12950124-3","JOSÉ ALFREDO FUENTES CABRERA","1976-02-22",47,7,"M","C","2023-09-30"]
[null,null,null,null,null,"16333354-6","LESLIE ELIZABETH ZAMORA BURGOS","1986-03-03",37,6,"F","B","2023-09-30"]
[null,null,null,null,null,"11517529-7","MARCO ANTONIO TRONCOSO SÁNCHEZ","1970-04-19",53,5,"M","B","2023-09-30"]
[null,null,null,null,null,"25610501-2","MIGUEL ANGEL SOTO SOTO","2016-12-22",6,9,"M","B","2023-09-30"]
[null,null,null,null,null,"16281003-0","SOLANGE LORENA RÍOS MORENO","1986-07-11",37,2,"F","C","2023-09-30"]
[null,null,null,null,null,"10666769-1","PAMELA DE LAS MERCED MIRANDA LEÓN","1969-09-15",54,0,"F","A","2023-09-30"]
[null,null,null,null,null,"15344403-K","KAREM CRISTAL INOSTROZA FIGUEROA","1982-04-06",41,5,"F","B","2023-09-30"]
[null,null,null,null,null,"15061221-7","JONATHAN JAVIER JAIME CÁRCAMO","1982-08-07",41,1,"M","A","2023-09-30"]
[null,null,null,null,null,"23013348-4","MANUEL IGNACIO DÍAZ PÉREZ","2009-05-05",14,4,"M","A","2023-09-30"]
[null,null,null,null,null,"23135124-8","MARCELA DEL PILAR SALINAS LEÓN","2009-09-28",14,0,"F","C","2023-09-30"]
[null,null,null,null,null,"11313248-5","ERIKA MARÍA LEÓN PONCE","1968-04-04",55,5,"F","B","2023-09-30"]
[null,null,null,null,null,"23492102-9","RAFAELA VICTORIA ABARCA SALINAS","2010-11-30",12,10,"F","A","2023-09-30"]
[null,null,null,null,null,"25322721-4","CRISTÓBAL ALONSO NORAMBUENA MALLEA","2016-03-15",7,6,"M","A","2023-09-30"]
[null,null,null,null,null,"20526408-6","JAVIERA PAZ SOLÍS ALFARO","2000-10-05",22,11,"F","B","2023-09-30"]
[null,null,null,null,null,"22203593-7","GERARDO LUCIANO ALFONSO GORMAZ VALENZUELA","2006-08-08",17,1,"M","A","2023-09-30"]
[null,null,null,null,null,"11313524-7","RUBÉN ANTONIO ESCUDERO ESPÍNOLA","1968-11-06",54,10,"M","X","2023-09-30"]
[null,null,null,null,null,"27667436-6","NOA TAPIA VICENTE","2021-11-27",1,10,"M","B","2023-09-30"]
[null,null,null,null,null,"17468596-7","CRISTIAN ALEJANDRO RIVAS AHUMADA","1990-01-26",33,8,"M","C","2023-09-30"]
[null,null,null,null,null,"18114024-0","FELIPE ALONZO SALINAS MURA","1992-08-04",31,1,"M","D","2023-09-30"]
[null,null,null,null,null,"18529251-7","JOHN ANTHONY MEDINA CALDERÓN","1993-06-13",30,3,"M","B","2023-09-30"]
[null,null,null,null,null,"22744510-6","TRINIDAD ISABEL CORREA PINEDA","2008-06-12",15,3,"F","A","2023-09-30"]
[null,null,null,null,null,"8768301-K","JOSÉ FERNANDO COLLAO CARVAJAL","1960-12-09",62,9,"M","B","2023-09-30"]
[null,null,null,null,null,"13982748-1","DANILO CRISTIAN ALFARO MALLEA","1981-11-26",41,10,"M","D","2023-09-30"]
[null,null,null,null,null,"9367764-1","HÉCTOR VALENTÍN PORRAS HERRERA","1967-02-14",56,7,"M","C","2023-09-30"]
[null,null,null,null,null,"26602042-2","EVAN AGUSTÍN GUTIÉRREZ CANABES","2018-12-05",4,9,"M","B","2023-09-30"]
[null,null,null,null,null,"16306618-1","GABRIELA BEATRIZ VIGUERA DELGADO","1986-09-13",37,0,"F","B","2023-09-30"]
[null,null,null,null,null,"4372626-9","AÍDA LIBERATA LÓPEZ OYANEDEL","1934-09-14",89,0,"F","B","2023-09-30"]
[null,null,null,null,null,"23585613-1","SEBASTIÁN ALONSO GALLARDO HERNÁNDEZ","2011-03-14",12,6,"M","A","2023-09-30"]
[null,null,null,null,null,"10600370-K","MARTA ALBERTINA CHAPARRO REYES","1965-12-26",57,9,"F","B","2023-09-30"]
[null,null,null,null,null,"13752788-K","HUGO FERNANDO PÉREZ DONOSO","1980-07-26",43,2,"M","D","2023-09-30"]
[null,null,null,null,null,"18972912-K","YANARA NICOLE ALBORNOZ ALBORNOZ","1994-11-15",28,10,"F","B","2023-09-30"]
[null,null,null,null,null,"25118198-5","MASIEL ANAÍS ROJAS PULGAR","2015-09-15",8,0,"F","B","2023-09-30"]
[null,null,null,null,null,"5647880-9","RIGOBERTO CUSTODIO MONTENEGRO CASTRO","1947-01-20",76,8,"M","B","2023-09-30"]
[null,null,null,null,null,"8146031-0","GLADYS DEL CARMEN YÉVENES MELLA","1956-05-29",67,4,"F","D","2023-09-30"]
[null,null,null,null,null,"20086008-K","DIEGO ALEJANDRO ORTEGA GIANI","1979-08-29",44,1,"M","A","2023-09-30"]
[null,null,null,null,null,"16852504-4","ALDO HUMBERTO TORRES PONCE","1988-08-29",35,1,"M","B","2023-09-30"]
[null,null,null,null,null,"23213435-6","JOSTYN NATANAHEL RIVERA HEREDIA","2009-12-30",13,9,"M","A","2023-09-30"]
[null,null,null,null,null,"25593590-9","GONZALO NICOLAS FERRARA DUARTE","2006-11-12",16,10,"M","A","2023-09-30"]
[null,null,null,null,null,"9183271-2","MARÍA LUZ LÓPEZ ESCOBAR","1961-08-27",62,1,"F","A","2023-09-30"]
[null,null,null,null,null,"16851804-8","CARLA BEATRIZ GARCÍA JARA","1988-03-31",35,5,"F","C","2023-09-30"]
[null,null,null,null,null,"28176069-6","SIMON ESTEBAN MALDONADO SUAREZ","2023-06-24",0,3,"M","C","2023-09-30"]
[null,null,null,null,null,"25028613-9","CLEMENTE ROCO SILVA","2015-06-27",8,3,"M","B","2023-09-30"]
[null,null,null,null,null,"19887066-8","MICHELLE YAMILET NAVARRO OROZCO","1997-11-19",25,10,"F","A","2023-09-30"]
[null,null,null,null,null,"25686581-5","EDNER ALEXANDRE ","1977-07-06",46,2,"M","C","2023-09-30"]
[null,null,null,null,null,"13185410-2","FIDEL HUMBERTO PALMA GALLARDO","1971-02-28",52,7,"M","C","2023-09-30"]
[null,null,null,null,null,"18973536-7","MATÍAS NICOLÁS MARTÍNEZ LEMUS","1995-04-17",28,5,"M","C","2023-09-30"]
[null,null,null,null,null,"20408944-2","JOAQUÍN IGNACIO VILLARROEL HERRERA","2000-11-05",22,10,"M","B","2023-09-30"]
[null,null,null,null,null,"10433421-0","MARÍA DEL CARMEN ESPÍNOLA HERRERA","1966-07-10",57,2,"F","B","2023-09-30"]
[null,null,null,null,null,"22468576-9","SEBASTIÁN ALONSO BAZÁEZ CELEDÓN","2007-08-03",16,1,"M","D","2023-09-30"]
[null,null,null,null,null,"21564171-6","SAID FERNANDO URBINA MARIPAN","2004-04-26",19,5,"M","A","2023-09-30"]
[null,null,null,null,null,"18972789-5","VALENTINA DEL CARMEN GONZÁLEZ MOLINA","1994-11-04",28,10,"F","B","2023-09-30"]
[null,null,null,null,null,"13990445-1","CYNTHIA IVONNE ZABALA GÓMEZ","1981-09-25",42,0,"F","D","2023-09-30"]
[null,null,null,null,null,"15448353-5","DAVID ARIEL ASTUDILLO LAVADO","1983-06-22",40,3,"M","B","2023-09-30"]
[null,null,null,null,null,"7535726-5","BLANCA DEL CARMEN MEJÍAS LAZCANO","1953-06-17",70,3,"F","B","2023-09-30"]
[null,null,null,null,null,"22464101-K","RENATA ESPERANZA ARRIAZA LÓPEZ","2007-07-30",16,2,"F","C","2023-09-30"]
[null,null,null,null,null,"11730864-2","SARA GIOVANNA OLGUÍN LEÓN","1971-08-26",52,1,"F","B","2023-09-30"]
[null,null,null,null,null,"10425357-1","BERNA ROSA FAÚNDEZ IBARRA","1965-08-08",58,1,"F","B","2023-09-30"]
[null,null,null,null,null,"18973431-K","XAVIER SEBASTIÁN PONCE VALDEBENITO","1995-04-01",28,5,"M","X","2023-09-30"]
[null,null,null,null,null,"13991657-3","PEDRO PABLO HERNÁNDEZ GARRIDO","1981-02-11",42,7,"M","D","2023-09-30"]
[null,null,null,null,null,"16669200-8","FLAVIO ELISEO MACHACAN GARRIDO","1986-11-20",36,10,"M","C","2023-09-30"]
[null,null,null,null,null,"17163831-3","LUZ PATRICIA RAMÍREZ TRIVIÑO","1989-01-06",34,8,"F","A","2023-09-30"]
[null,null,null,null,null,"6673050-6","PATRICIO DE LOS ANGE VILLALÓN JELVES","1951-10-21",71,11,"M","B","2023-09-30"]
[null,null,null,null,null,"19268612-1","MICHAEL ISAÍAS TORRES RIVERA","1996-07-14",27,2,"M","D","2023-09-30"]
[null,null,null,null,null,"6684688-1","RAFAEL ANTONIO HENRÍQUEZ VARGAS","1953-08-07",70,1,"M","D","2023-09-30"]
[null,null,null,null,null,"13981804-0","SUSANA CAROLINA ASTUDILLO IBACETA","1981-03-31",42,5,"F","B","2023-09-30"]
[null,null,null,null,null,"21227020-2","CINTYA FABIOLA PULGAR CORREA","2003-01-28",20,8,"F","B","2023-09-30"]
[null,null,null,null,null,"23858576-7","PALOMA BELÉN VICENCIO ACEVEDO","2000-09-09",23,0,"F","A","2023-09-30"]
[null,null,null,null,null,"19582301-4","MAKARENA IGNACIA VEGA BUGUEÑO","1997-05-18",26,4,"F","X","2023-09-30"]
[null,null,null,null,null,"15091769-7","BERNARDO LUIS VILLARROEL RIQUELME","1982-10-26",40,11,"M","D","2023-09-30"]
[null,null,null,null,null,"19888671-8","FELIPE IGNACIO ESTAY SÁNCHEZ","1998-12-18",24,9,"M","C","2023-09-30"]
[null,null,null,null,null,"23274496-0","FIORELLA DANAE OROSCO ESPÍNOLA","2010-03-17",13,6,"F","C","2023-09-30"]
[null,null,null,null,null,"21783523-2","JAVIER IGNACIO GONZALEZ ZAMORA","2005-02-27",18,7,"M","B","2023-09-30"]
[null,null,null,null,null,"23611691-3","AMARALL ROCCO ROLDÁN","2011-04-04",12,5,"F","A","2023-09-30"]
[null,null,null,null,null,"26587736-2","GASPAR AMADOR ORTEGA ORTEGA","2018-11-24",4,10,"M","B","2023-09-30"]
[null,null,null,null,null,"13331056-8","ESTELA GREGORIA TAPIA OLEA","1973-09-02",50,0,"F","C","2023-09-30"]
[null,null,null,null,null,"5904416-8","RICARDO ERNESTO BEIZA VÁSQUEZ","1948-11-22",74,10,"M","B","2023-09-30"]
[null,null,null,null,null,"27020041-9","LUCAS TADEO GUAJARDO BAEZA","2019-09-18",4,0,"M","C","2023-09-30"]
[null,null,null,null,null,"13752832-0","SOLEDAD DEL PILAR MAUNA VALENZUELA","1979-12-26",43,9,"F","D","2023-09-30"]
[null,null,null,null,null,"21745006-3","DIEGO ALONSO RAMÍREZ ASTUDILLO","2005-01-02",18,8,"F","B","2023-09-30"]
[null,null,null,null,null,"18538410-1","RICHARD IGOR RAMÍREZ ROJAS","1993-04-14",30,5,"M","D","2023-09-30"]
[null,null,null,null,null,"16331815-6","NATALIA MACARENA ARANCIBIA GONZÁLEZ","1986-09-17",37,0,"F","A","2023-09-30"]
[null,null,null,null,null,"14510305-3","KARINA LUCINDA LÓPEZ SILVA","1973-12-24",49,9,"F","B","2023-09-30"]
[null,null,null,null,null,"18439415-4","TAMARA NOEMÍ SEPÚLVEDA PEÑA","1993-11-08",29,10,"F","B","2023-09-30"]
[null,null,null,null,null,"16928798-8","MIRIAM MARGARITA VALDIVIA JIMÉNEZ","1988-05-27",35,4,"F","B","2023-09-30"]
[null,null,null,null,null,"19707915-0","TANIA VALESKA ASTARGO MORALES","1997-09-29",26,0,"F","A","2023-09-30"]
[null,null,null,null,null,"27914068-0","LUCIANA ISIDORA VILLARROEL PALACIOS","2022-09-02",1,0,"F","A","2023-09-30"]
[null,null,null,null,null,"17469316-1","TERESA DE JESÚS AHUMADA SÁNCHEZ","1990-07-19",33,2,"F","C","2023-09-30"]
[null,null,null,null,null,"17818622-1","KATHERINE VAITTIARE VALENZUELA JARA","1991-05-02",32,4,"F","B","2023-09-30"]
[null,null,null,null,null,"24863176-7","JULIETA PASCAL HURTADO AHUMADA","2015-01-13",8,8,"F","A","2023-09-30"]
[null,null,null,null,null,"10272772-K","GUILLERMO ENRIQUE GONZÁLEZ MARTÍNEZ","1965-05-03",58,4,"M","X","2023-09-30"]
[null,null,null,null,null,"21585628-3","ALEXANDER OMAR CRIADO AHUMADA","2004-05-14",19,4,"M","B","2023-09-30"]
[null,null,null,null,null,"8500697-5","PAMELA CAROLINA TORRES MAC-ARTHUR","1965-03-31",58,5,"F","B","2023-09-30"]
[null,null,null,null,null,"16852393-9","FRANCISCO JAVIER POBLETE LOBOS","1988-09-01",35,0,"M","D","2023-09-30"]
[null,null,null,null,null,"18113304-K","MANUEL SEGUNDO TAUCÁN LOBOS","1992-02-08",31,7,"M","B","2023-09-30"]
[null,null,null,null,null,"4953918-5","INÉS DEL ROSARIO VILLARROEL CALDERÓN","1944-03-30",79,6,"F","B","2023-09-30"]
[null,null,null,null,null,"16642049-0","CRISTÓBAL ALEXANDER IRARRÁZABAL CALDERÓN","1987-05-07",36,4,"M","B","2023-09-30"]
[null,null,null,null,null,"23445606-7","ERICA YANEL MONTANIA ","1989-05-30",34,4,"F","C","2023-09-30"]
[null,null,null,null,null,"10515141-1","ALEJANDRO MARCELO SÁNCHEZ PÉREZ","1970-08-29",53,1,"M","D","2023-09-30"]
[null,null,null,null,null,"14278970-1","EUGENIA YAMILE SILVA LEIVA","1973-01-14",50,8,"F","A","2023-09-30"]
[null,null,null,null,null,"25584457-1","JOAQUÍN ANDRÉS AYALA MUÑOZ","2016-11-30",6,10,"M","D","2023-09-30"]
[null,null,null,null,null,"22072310-0","ANTONIA SOFIA JARA MARTÍNEZ","2006-03-14",17,6,"F","C","2023-09-30"]
[null,null,null,null,null,"10100353-1","CARMEN ROSA ORTEGA CASTRO","1960-12-13",62,9,"F","B","2023-09-30"]
[null,null,null,null,null,"16550573-5","HÉCTOR ORLANDO ÁVILA MOLINA","1987-04-08",36,5,"M","B","2023-09-30"]
[null,null,null,null,null,"17819230-2","GUSTAVO ALEXANDER GUTIÉRREZ TAUCÁN","1991-09-13",32,0,"M","C","2023-09-30"]
[null,null,null,null,null,"21149818-8","LUCAS VIDELA FERNANDEZ","2002-10-22",20,11,"M","B","2023-09-30"]
[null,null,null,null,null,"11385951-2","MARISOL DEL CARMEN OVALLE HUMERES","1969-05-15",54,4,"F","B","2023-09-30"]
[null,null,null,null,null,"16852243-6","EDUARDO ANDRÉS RODRÍGUEZ ARANCIBIA","1988-07-23",35,2,"M","B","2023-09-30"]
[null,null,null,null,null,"27994780-0","EMILY SOPHIA OLIVARES DIAZ","2022-12-01",0,9,"F","B","2023-09-30"]
[null,null,null,null,null,"13185510-9","FREDDY RAMIRO LEIVA RODRÍGUEZ","1977-09-03",46,0,"M","B","2023-09-30"]
[null,null,null,null,null,"20476232-5","KATHERINE ALEJANDRA HIDALGO VENEGAS","2000-03-07",23,6,"F","A","2023-09-30"]
[null,null,null,null,null,"13248136-9","MARIO ALEJANDRO CONTRERAS VARGAS","1976-01-21",47,8,"M","B","2023-09-30"]
[null,null,null,null,null,"11731163-5","ANGÉLICA DE LOURDES AHUMADA REYES","1971-07-24",52,2,"F","D","2023-09-30"]
[null,null,null,null,null,"13364328-1","SOFÍA ANABEL VILLEGAS CONTRERAS","1978-09-17",45,0,"F","D","2023-09-30"]
[null,null,null,null,null,"18972874-3","CAMILA ANDREA QUIROGA QUIROGA","1994-10-20",28,11,"F","D","2023-09-30"]
[null,null,null,null,null,"9723927-4","JUDIT TAMARA VILLAGRA ARAVENA","1963-10-26",59,11,"F","D","2023-09-30"]
[null,null,null,null,null,"21408641-7","MARIA ALEJANDRA CASTRO OSORIO","2003-10-01",19,11,"F","C","2023-09-30"]
[null,null,null,null,null,"23762397-5","AGUSTINA PAZ ARRIOLA DÍAZ","2011-10-04",11,11,"F","A","2023-09-30"]
[null,null,null,null,null,"13078166-7","VIVIANA ALEJANDRA ARMIJO ALABARCE","1976-06-15",47,3,"F","C","2023-09-30"]
[null,null,null,null,null,"21075117-3","KIARA SOLEDAD CARVAJAL CORTEZ","2002-07-19",21,2,"F","D","2023-09-30"]
[null,null,null,null,null,"20477320-3","MURIEL MARCELA CERDA VILLALOBOS","2000-05-14",23,4,"F","B","2023-09-30"]
[null,null,null,null,null,"12718608-1","ALEJANDRA ANDREA SALINAS LOBOS","1975-08-09",48,1,"F","B","2023-09-30"]
[null,null,null,null,null,"13659944-5","ALEJANDRO DANIEL GAMBOA CAMPILLAY","1976-12-25",46,9,"M","C","2023-09-30"]
[null,null,null,null,null,"25415100-9","DOMINGO ANDRÉS RODRÍGUEZ SILVA","2016-06-16",7,3,"M","D","2023-09-30"]
[null,null,null,null,null,"8947012-9","JUAN JOSÉ PANGUE CÓRDOVA","1960-08-23",63,1,"M","B","2023-09-30"]
[null,null,null,null,null,"21147985-K","LAURA VALENTINA FERNÁNDEZ ASTUDILLO","2002-10-12",20,11,"F","B","2023-09-30"]
[null,null,null,null,null,"24375096-2","MAITE EMILIA OVALLE OLMEDO","2013-09-02",10,0,"F","D","2023-09-30"]
[null,null,null,null,null,"22008417-5","KEVIN MARTIN JAIME HERRERA ARACENA","2005-12-29",17,9,"M","A","2023-09-30"]
[null,null,null,null,null,"18113869-6","MARÍA CONSTANZA BASTÍAS VERGARA","1992-06-23",31,3,"F","B","2023-09-30"]
[null,null,null,null,null,"6532637-K","FLOR DEL CARMEN FERNÁNDEZ VALDÉS","1954-09-18",69,0,"F","B","2023-09-30"]
[null,null,null,null,null,"14279663-5","ELÍAS ALEJANDRO ARANCIBIA ROJAS","1973-11-07",49,10,"M","D","2023-09-30"]
[null,null,null,null,null,"17647240-5","DAGOBERTO ANDRÉS LÓPEZ DÍAZ","1991-03-28",32,6,"M","D","2023-09-30"]
[null,null,null,null,null,"27249895-4","EMMA LUCIA ALLENDE ARREDONDO","2020-03-30",3,6,"F","D","2023-09-30"]
[null,null,null,null,null,"16852129-4","JUAN PABLO HERRERA VALENZUELA","1988-07-02",35,2,"M","D","2023-09-30"]
[null,null,null,null,null,"16336572-3","MILTON HUMBERTO VÉLIZ SALAZAR","1986-07-16",37,2,"M","D","2023-09-30"]
[null,null,null,null,null,"9694584-1","JUAN CARLOS CÁRCAMO LEÓN","1965-06-24",58,3,"M","B","2023-09-30"]
[null,null,null,null,null,"18974057-3","JUAN RAMÓN AGUILERA ESPEJO","1995-08-31",28,0,"M","B","2023-09-30"]
[null,null,null,null,null,"8963530-6","MARÍA TERESA CÓRDOVA BARAHONA","1960-09-29",63,0,"F","B","2023-09-30"]
[null,null,null,null,null,"22093743-7","YULISA CECILIA TOLEDO LEIVA","2006-04-09",17,5,"F","D","2023-09-30"]
[null,null,null,null,null,"27971297-8","NOAH IGNACIO IBARRA BARRERA","2022-10-27",0,11,"M","C","2023-09-30"]
[null,null,null,null,null,"20754223-7","JAVIERA FERNANDA SOTO GORMAZ","2001-11-16",21,10,"F","A","2023-09-30"]
[null,null,null,null,null,"12650490-K","MARÍA CAROLINA RIVEROS SAAVEDRA","1974-08-17",49,1,"F","A","2023-09-30"]
[null,null,null,null,null,"5847801-6","HÉCTOR RICARDO ARANCIBIA ZAMORA","1947-09-10",76,0,"M","B","2023-09-30"]
[null,null,null,null,null,"27465730-8","ISSAC LUKAS ARAYA AYALA","2021-02-04",2,7,"M","B","2023-09-30"]
[null,null,null,null,null,"16306382-4","LINDA SOLANGE CONTRERAS PONCE","1986-07-07",37,2,"F","D","2023-09-30"]
[null,null,null,null,null,"21428349-2","DANITZA MILLARAY RAMÍREZ PUEYES","2003-10-22",19,11,"F","D","2023-09-30"]
[null,null,null,null,null,"22830553-7","CARLA ANNAIS GUTIÉRREZ ALFARO","2008-09-23",15,0,"F","A","2023-09-30"]
[null,null,null,null,null,"9777042-5","MAGDALENA DEL CARMEN BUSTAMANTE BERRÍOS","1963-09-25",60,0,"F","B","2023-09-30"]
[null,null,null,null,null,"17971056-0","MARÍA JESÚS CALDERÓN TORRES","1991-07-09",32,2,"F","D","2023-09-30"]
[null,null,null,null,null,"13982633-7","HADA EVELYN LECAROS JARA","1981-02-13",42,7,"F","A","2023-09-30"]
[null,null,null,null,null,"22170633-1","ARIEL CRISTÓBAL ALEX FARÍAS PULGAR","2006-07-20",17,2,"M","D","2023-09-30"]
[null,null,null,null,null,"22818358-K","MARTÍN LIZANDRO CORNEJO SERRANO","2008-09-12",15,0,"M","D","2023-09-30"]
[null,null,null,null,null,"23668820-8","ANTONIA PAZ SALINAS CÓRDOVA","2011-06-13",12,3,"F","C","2023-09-30"]
[null,null,null,null,null,"15060608-K","SANTIAGO ADOLFO PÉREZ HURTUBIA","1982-02-05",41,7,"M","D","2023-09-30"]
[null,null,null,null,null,"19581801-0","LUIS PATRICIO CASTILLO BARAHONA","1997-03-12",26,6,"M","A","2023-09-30"]
[null,null,null,null,null,"23037686-7","DAVID ENRIQUE QUIROZ MAYORGA","2009-06-05",14,3,"M","A","2023-09-30"]
[null,null,null,null,null,"24005961-4","LUIS FRANCISCO IBACETA REYES","2012-07-10",11,2,"M","A","2023-09-30"]
[null,null,null,null,null,"18223568-7","NICOLÁS ESTEBAN DUHALDE MUÑOZ","1993-01-27",30,8,"M","B","2023-09-30"]
[null,null,null,null,null,"12350811-4","JUAN CARLOS TORRES MENA","1973-01-24",50,8,"M","X","2023-09-30"]
[null,null,null,null,null,"26482079-0","HELENA IGNACIA OLIVARES CASANOVA","2018-09-07",5,0,"F","D","2023-09-30"]
[null,null,null,null,null,"21391873-7","CATALINA ALEJANDRA TORO ARAVENA","2003-09-11",20,0,"F","C","2023-09-30"]
[null,null,null,null,null,"16333606-5","JUAN CARLOS VILLARROEL CASTRO","1985-08-27",38,1,"M","D","2023-09-30"]
[null,null,null,null,null,"24006928-8","JAVIERA BELÉN DÍAZ URTUBIA","2012-07-12",11,2,"F","C","2023-09-30"]
[null,null,null,null,null,"19888397-2","JOAQUÍN IGNACIO GUERRA PULGAR","1998-10-06",24,11,"M","D","2023-09-30"]
[null,null,null,null,null,"8468216-0","MANUEL BERNARDO GALLARDO URTUBIA","1958-01-15",65,8,"M","B","2023-09-30"]
[null,null,null,null,null,"13331034-7","MARÍA ALEJANDRA TAPIA ROMERO","1978-10-24",44,11,"F","D","2023-09-30"]
[null,null,null,null,null,"23614240-K","ISIDORA FLORENCIA VEGA LILLO","2011-04-05",12,5,"F","D","2023-09-30"]
[null,null,null,null,null,"6954792-3","JULIA DE JESÚS MARTÍNEZ REINOSO","1951-12-10",71,9,"F","B","2023-09-30"]
[null,null,null,null,null,"8600176-4","MIGUEL ANGEL DUARTE DONOSO","1959-09-22",64,0,"M","C","2023-09-30"]
[null,null,null,null,null,"21186276-9","CATALINA BELÉN OLMEDO SILVA","2002-11-28",20,10,"F","B","2023-09-30"]
[null,null,null,null,null,"27621091-2","JULIAN DANIEL OLGUIN ESCOBAR","2021-09-14",2,0,"M","C","2023-09-30"]
[null,null,null,null,null,"12350832-7","FERNANDO HERIBERTO AHUMADA REYES","1973-05-29",50,4,"M","C","2023-09-30"]
[null,null,null,null,null,"20408772-5","CRISTOPHER IVÁN ANDRÉS ZAGAL LAZO","2000-09-07",23,0,"M","B","2023-09-30"]
[null,null,null,null,null,"16790873-K","FABIOLA ANDREA REYES MARAMBIO","1988-09-03",35,0,"F","A","2023-09-30"]
[null,null,null,null,null,"13982623-K","LERITZA SOLEDAD PUEYES BARRAZA","1981-01-13",42,8,"F","A","2023-09-30"]
[null,null,null,null,null,"13982757-0","LORETO DEL CARMEN OSORIO CRUZ","1981-12-13",41,9,"F","C","2023-09-30"]
[null,null,null,null,null,"17420013-0","FRANCESCA ANTONELLA LIBERONA MARAMBIO","1990-06-07",33,3,"F","D","2023-09-30"]
[null,null,null,null,null,"26749074-0","MATÍAS LEÓN ZAVALA LILLO","2019-03-15",4,6,"M","D","2023-09-30"]
[null,null,null,null,null,"21156420-2","DIEGO ANTONIO PEREZ HERRERA","2002-10-28",20,11,"M","B","2023-09-30"]
[null,null,null,null,null,"25979934-1","CRISTÓBAL JAVIER PALACIOS RODRÍGUEZ","2017-11-04",5,10,"M","A","2023-09-30"]
[null,null,null,null,null,"18385702-9","MADELAINE ESTEFANÍA ARRIAGADA ARRIAGADA","1993-06-28",30,3,"F","C","2023-09-30"]
[null,null,null,null,null,"22182814-3","CÉSAR ALEXANDER CORTÉS BASTÍAS","2006-08-10",17,1,"M","A","2023-09-30"]
[null,null,null,null,null,"17301347-7","VAIRON FERNANDO ARENAS AHUMADA","1990-03-08",33,6,"M","B","2023-09-30"]
[null,null,null,null,null,"15618941-3","NATALIA FRANCISCA CANTILLANA ASTUDILLO","1983-09-03",40,0,"F","B","2023-09-30"]
[null,null,null,null,null,"20133967-7","JAVIER ALEJANDRO CARVAJAL OLGUÍN","1999-11-24",23,10,"M","C","2023-09-30"]
[null,null,null,null,null,"20403235-1","JOSÉ RAÚL MONSALVES CALDERÓN","2000-04-26",23,5,"M","A","2023-09-30"]
[null,null,null,null,null,"24371761-2","SOFÍA ISIDORA GUERRERO TRONCOSO","2013-08-23",10,1,"F","C","2023-09-30"]
[null,null,null,null,null,"25474015-2","FACUNDO INTI VARGAS ZAMORA","2016-08-12",7,1,"M","D","2023-09-30"]
[null,null,null,null,null,"24577761-2","MÍA PASCAL RODRÍGUEZ SANDOVAL","2014-03-24",9,6,"F","A","2023-09-30"]
[null,null,null,null,null,"20832576-0","ANAÍS ANDREA BARRA CAROCA","2001-08-22",22,1,"F","B","2023-09-30"]
[null,null,null,null,null,"16852391-2","NICOL LILLIAN ATUÁN OLIVARES","1988-09-01",35,0,"F","X","2023-09-30"]
[null,null,null,null,null,"12299423-6","GONZALO ALEXIS CID REYES","1972-02-07",51,7,"M","D","2023-09-30"]
[null,null,null,null,null,"8200371-1","PURÍSIMA DEL TRÁNSIT CÁRCAMO LEÓN","1959-12-06",63,9,"F","C","2023-09-30"]
[null,null,null,null,null,"7152411-6","ANA DEL ROSARIO URTUBIA SILVA","1951-11-15",71,10,"F","B","2023-09-30"]
[null,null,null,null,null,"12164606-4","BEATRIZ MAGDELENE LÓPEZ DAMIAN","1973-12-03",49,9,"F","B","2023-09-30"]
[null,null,null,null,null,"27768914-6","VALENTINO ALONSO FERREYRA","2022-04-19",1,5,"M","C","2023-09-30"]
[null,null,null,null,null,"19582049-K","VANESSA ILIA JIMÉNEZ GONZÁLEZ","1997-05-05",26,4,"F","B","2023-09-30"]
[null,null,null,null,null,"20046673-K","KATTYA ARATZA FAVREAU BECERRA","1998-10-31",24,10,"F","C","2023-09-30"]
[null,null,null,null,null,"25455208-9","AMANDA VICTORIA POBLETE VILLEGAS","2016-07-27",7,2,"F","B","2023-09-30"]
[null,null,null,null,null,"23315141-6","AGUSTÍN JAIME MATEO PARADA GALDAMES","2010-05-04",13,4,"M","B","2023-09-30"]
[null,null,null,null,null,"16306716-1","ANDREA DEL ROSARIO VEGA CARVALLO","1986-09-22",37,0,"F","B","2023-09-30"]
[null,null,null,null,null,"15742526-9","LUIS ANDRÉS SALINAS COLLANTE","1983-12-28",39,9,"M","D","2023-09-30"]
[null,null,null,null,null,"12350826-2","EDITH PAMELA REYES BARRERA","1973-04-02",50,5,"F","B","2023-09-30"]
[null,null,null,null,null,"25968989-9","JULIÁN ANDRÉS RODRÍGUEZ GARRIDO","2017-11-03",5,10,"M","A","2023-09-30"]
[null,null,null,null,null,"16852315-7","FERNANDA BELÉN OSANDÓN RODRÍGUEZ","1988-08-06",35,1,"F","A","2023-09-30"]
[null,null,null,null,null,"24468252-9","MARTÍN ANDRÉS MAUNA NAVARRO","2013-11-30",9,10,"M","B","2023-09-30"]
[null,null,null,null,null,"27788217-5","BENJAMIN MAXIMILIANO BAZAEZ CARCAMO","2022-05-12",1,4,"M","D","2023-09-30"]
[null,null,null,null,null,"16551349-5","ANGÉLICA MARÍA TAPIA TAPIA","1987-03-02",36,6,"F","B","2023-09-30"]
[null,null,null,null,null,"19788017-1","DARLYNE SCARLETT ESTAY IBACETA","1998-06-05",25,3,"F","D","2023-09-30"]
[null,null,null,null,null,"4366546-4","TERESA DE JESÚS ROMERO GAJARDO","1940-08-04",83,1,"F","B","2023-09-30"]
[null,null,null,null,null,"27408554-1","CARLOS DABID DARIEL TERÁN MUÑOZ","2020-11-26",2,10,"M","B","2023-09-30"]
[null,null,null,null,null,"40001077-3","EVANGELINA MEJIAS VALENCIA","1962-06-30",61,3,"F","X","2023-09-30"]
[null,null,null,null,null,"21588625-5","JOAQUIN GABRIEL SUAREZ HERNANDEZ","2004-06-02",19,3,"M","X","2023-09-30"]
[null,null,null,null,null,"18973590-1","FRANCISCA DEL ROSARI PONCE RAMÍREZ","1995-05-13",28,4,"F","A","2023-09-30"]
[null,null,null,null,null,"6294184-7","RENATO TOMÁS HERRERA RODRÍGUEZ","1950-05-14",73,4,"M","B","2023-09-30"]
[null,null,null,null,null,"12579112-3","LORENA DEL CARMEN RAMÍREZ PULGAR","1974-09-09",49,0,"F","A","2023-09-30"]
[null,null,null,null,null,"25808482-9","SANTIAGO IGNACIO MUÑOZ MILLALONCO","2017-06-21",6,3,"M","D","2023-09-30"]
[null,null,null,null,null,"27672212-3","IVETH ALEXANDRA MONTECINOS PEREIRA","2021-12-07",1,9,"F","B","2023-09-30"]
[null,null,null,null,null,"19582263-8","MARIANA SCARLETT CARVACHO NIETO","1997-07-27",26,2,"F","B","2023-09-30"]
[null,null,null,null,null,"9164054-6","HÉCTOR FERNANDO DONOSO HERRERA","1961-11-07",61,10,"M","C","2023-09-30"]
[null,null,null,null,null,"5212693-2","JUAN OSSANDÓN GONZÁLEZ","1943-09-18",80,0,"M","B","2023-09-30"]
[null,null,null,null,null,"23881553-3","DAMIÁN IGNACIO GONZÁLEZ JORQUERA","2012-02-22",11,7,"M","A","2023-09-30"]
[null,null,null,null,null,"5019467-1","LETICIA DEL ROSARIO PONCE SALINAS","1944-11-05",78,10,"F","B","2023-09-30"]
[null,null,null,null,null,"24370464-2","LUCIANO AMARO ROJAS SALINAS","2013-08-22",10,1,"M","B","2023-09-30"]
[null,null,null,null,null,"6413869-3","JUAN BELISARIO ONEL HUERTA","1952-08-04",71,1,"M","B","2023-09-30"]
[null,null,null,null,null,"9079834-0","PABLO FERNANDO RAMÍREZ URTUBIA","1962-02-03",61,7,"M","C","2023-09-30"]
[null,null,null,null,null,"13832687-K","CARLOS ANDRÉS ORÓSTICA URIBE","1980-11-21",42,10,"M","D","2023-09-30"]
[null,null,null,null,null,"25792397-5","JOAQUÍN ALONSO CAMPOS ORTEGA","2017-06-04",6,3,"M","D","2023-09-30"]
[null,null,null,null,null,"27242838-7","DANIEL REINALDO CONSTANZO BLANCO","2020-03-15",3,6,"M","D","2023-09-30"]
[null,null,null,null,null,"10542473-6","JUAN DOMINGO SOZA LÉPEZ","1967-06-10",56,3,"M","B","2023-09-30"]
[null,null,null,null,null,"10030044-3","MARIO NELSON RAMÍREZ ACUÑA","1964-01-01",59,8,"M","D","2023-09-30"]
[null,null,null,null,null,"14450750-9","BÁRBARA ALINE BAEZ GONZÁLEZ","1971-12-05",51,9,"F","A","2023-09-30"]
[null,null,null,null,null,"9268360-5","PEDRO MAURICIO LEÓN OSORIO","1964-12-25",58,9,"M","B","2023-09-30"]
[null,null,null,null,null,"13298957-5","SAMUEL JESÚS AGUIRRE TORRES","1977-11-18",45,10,"M","D","2023-09-30"]
[null,null,null,null,null,"6728545-K","ENOC JACINTO JAIME JARA","1953-02-26",70,7,"M","D","2023-09-30"]
[null,null,null,null,null,"15818317-K","DANIELA DEL PILAR LÓPEZ SILVA","1984-03-25",39,6,"F","C","2023-09-30"]
[null,null,null,null,null,"26514624-4","GASTÓN MARIANO LAZCANO HUERTA","2018-10-12",4,11,"M","D","2023-09-30"]
[null,null,null,null,null,"20603966-3","JAVIERA CAROLINA MARTÍNEZ CASTILLO","2001-01-12",22,8,"F","B","2023-09-30"]
[null,null,null,null,null,"21967604-2","ESMERALDA ELIZABETH TAPIA ARENAS","2005-10-27",17,11,"F","A","2023-09-30"]
[null,null,null,null,null,"19156538-K","VALENTINA IGNACIA PEREIRA BUSTOS","1998-04-11",25,5,"F","B","2023-09-30"]
[null,null,null,null,null,"24850407-2","DANIELA MABEL AMAYA AMAYA","1975-07-08",48,2,"F","B","2023-09-30"]
[null,null,null,null,null,"21201062-6","VICENTE IGNACIO ARANCIBIA SANDOVAL","2002-12-26",20,9,"M","B","2023-09-30"]
[null,null,null,null,null,"20754182-6","ABIGAIL NOEMÍ RODRÍGUEZ ARENAS","2001-11-06",21,10,"F","B","2023-09-30"]
[null,null,null,null,null,"5539782-1","BERTA NATALIA SÁNCHEZ DE LA PAZ","1947-12-13",75,9,"F","B","2023-09-30"]
[null,null,null,null,null,"25313379-1","MIA KATALINA DURAN MURA","2016-03-07",7,6,"F","D","2023-09-30"]
[null,null,null,null,null,"24381681-5","AGUSTÍN ARIEL HURTADO IBACETA","2013-09-05",10,0,"M","C","2023-09-30"]
[null,null,null,null,null,"21227294-9","CAMILA FERNANDA GAETE LLANTEN","2003-01-29",20,8,"F","D","2023-09-30"]
[null,null,null,null,null,"16851588-K","ISABEL ANDREA SANDOVAL BELMAR","1988-02-22",35,7,"F","C","2023-09-30"]
[null,null,null,null,null,"11385781-1","ANA MARÍA SEGOVIA GONZÁLEZ","1968-11-21",54,10,"F","B","2023-09-30"]
[null,null,null,null,null,"9629482-4","NOLBIA DEL CARMEN PIZARRO LEIVA","1966-06-23",57,3,"F","C","2023-09-30"]
[null,null,null,null,null,"15818860-0","ALEX JONATHAN CABEZAS HERRERA","1984-06-14",39,3,"M","B","2023-09-30"]
[null,null,null,null,null,"22888525-8","JOAQUÍN ANTONIO CALDERÓN CAMUS","2008-11-28",14,10,"M","A","2023-09-30"]
[null,null,null,null,null,"24881256-7","ANTONIA BELEN ALEJANDRA FAUNDEZ CANTERO","2015-01-27",8,8,"F","D","2023-09-30"]
[null,null,null,null,null,"13364078-9","YESENIA CONSTANZA CORTÉS IBACETA","1978-06-22",45,3,"F","B","2023-09-30"]
[null,null,null,null,null,"16906145-9","RICARDO ERNESTO FURNIEL PEREIRA","1988-08-31",35,0,"M","D","2023-09-30"]
[null,null,null,null,null,"17164163-2","FRANCISCA MAKARENA BUSTOS TORRES","1989-03-25",34,6,"F","D","2023-09-30"]
[null,null,null,null,null,"9648406-2","MYRIAM ALEJANDRA PARRA MANTEROLA","1965-07-17",58,2,"F","D","2023-09-30"]
[null,null,null,null,null,"18680438-4","KATALINA VICTORIA NÚÑEZ SOTO","1994-05-25",29,4,"F","B","2023-09-30"]
[null,null,null,null,null,"17362749-1","FRANCISCO JAVIER MOYA JOFRÉ","1989-10-14",33,11,"M","B","2023-09-30"]
[null,null,null,null,null,"27236283-1","JULIETA ANELIZ AGUILAR GONZÁLEZ","2020-03-10",3,6,"F","A","2023-09-30"]
[null,null,null,null,null,"12817291-2","ROLANDO ALEJANDRO MANZANO PÁEZ","1975-03-01",48,6,"M","C","2023-09-30"]
[null,null,null,null,null,"18385841-6","LUIS ANTONIO URTUBIA CAMPOS","1993-08-17",30,1,"M","D","2023-09-30"]
[null,null,null,null,null,"16851143-4","CLAUDIA ROSA ALCÁNTAR GARRIDO","1987-10-29",35,11,"F","D","2023-09-30"]
[null,null,null,null,null,"24379247-9","ANALIT VALERIA TOCAS SIMON","2009-09-17",14,0,"F","A","2023-09-30"]
[null,null,null,null,null,"22945887-6","VICENTE ALEJANDRO VILLEGAS LÓPEZ","2009-02-13",14,7,"M","D","2023-09-30"]
[null,null,null,null,null,"16078052-5","FABIÁN ANDRÉS GONZÁLEZ LÓPEZ","1985-11-21",37,10,"M","C","2023-09-30"]
[null,null,null,null,null,"16120439-0","GERARDO ANTONIO FLORES DÍAZ","1986-01-19",37,8,"M","A","2023-09-30"]
[null,null,null,null,null,"13982679-5","RICARDO ABRAHAM GODOY AHUMADA","1981-06-06",42,3,"M","D","2023-09-30"]
[null,null,null,null,null,"19887405-1","JAVIERA XIMENA MÉNDEZ SILVA","1998-02-19",25,7,"F","A","2023-09-30"]
[null,null,null,null,null,"15555522-K","RAÚL FÉLIX ASTUDILLO DUBO","1983-10-08",39,11,"M","D","2023-09-30"]
[null,null,null,null,null,"23399847-8","FLORENCIA VICTORIA REYES CORTES","2010-08-15",13,1,"F","X","2023-09-30"]
[null,null,null,null,null,"9419621-3","CARLOS MANUEL URBINA JOFRÉ","1963-08-31",60,0,"M","D","2023-09-30"]
[null,null,null,null,null,"7502212-3","NORA MICAELA IBARRA GREGORI","1953-09-19",70,0,"F","B","2023-09-30"]
[null,null,null,null,null,"24134648-K","MAYTHE STEPHANIA AYALA FUENZALIDA","2012-12-05",10,9,"F","A","2023-09-30"]
[null,null,null,null,null,"16026505-1","PATRICK ANTONIO DÍAZ ARANCIBIA","1984-12-02",38,9,"M","C","2023-09-30"]
[null,null,null,null,null,"11944247-8","LUIS ANTONIO SALINAS MUÑOZ","1972-02-21",51,7,"M","B","2023-09-30"]
[null,null,null,null,null,"19581776-6","NAYARET NICOLE BENAVIDES LEIVA","1997-04-04",26,5,"F","B","2023-09-30"]
[null,null,null,null,null,"21337308-0","DANIELA ALEXANDRA MUÑOZ MOLINA","2003-05-30",20,4,"F","X","2023-09-30"]
[null,null,null,null,null,"20753652-0","JUAN EDUARDO MARTÍNEZ MURA","2001-06-22",22,3,"M","C","2023-09-30"]
[null,null,null,null,null,"19693864-8","CAROLINA MADELEINN MURA HEREDIA","1998-03-18",25,6,"F","A","2023-09-30"]
[null,null,null,null,null,"23925413-6","VICTORIA PAZ DÍAZ SALINAS","2012-04-15",11,5,"F","D","2023-09-30"]
[null,null,null,null,null,"17478784-0","ULISES ALEXANDER HERRERA MORA","1990-01-25",33,8,"M","C","2023-09-30"]
[null,null,null,null,null,"23821306-1","LUCIANA ANAÍS ARAYA CASTAÑEDA","2011-12-16",11,9,"F","D","2023-09-30"]
[null,null,null,null,null,"15032094-1","MIGUEL ANGEL CORREA LARENAS","1984-12-12",38,9,"M","B","2023-09-30"]
[null,null,null,null,null,"20133947-2","SEBASTIÁN IGNACIO GUERRERO GORMAZ","1999-11-23",23,10,"M","D","2023-09-30"]
[null,null,null,null,null,"4746347-5","OLIMPIA DEL CARMEN JARA MEDINA","1931-07-20",92,2,"F","B","2023-09-30"]
[null,null,null,null,null,"12578925-0","JAIME ALBERTO MARTÍNEZ SALINAS","1974-05-13",49,4,"M","D","2023-09-30"]
[null,null,null,null,null,"7828831-0","OLEGARIO DEL ROSARIO AGUILERA CAMPOS","1958-10-06",64,11,"M","D","2023-09-30"]
[null,null,null,null,null,"21024637-1","DEREK FABIÁN MORENO SEPÚLVEDA","2001-11-03",21,10,"M","B","2023-09-30"]
[null,null,null,null,null,"13590768-5","JOSÉ RODRIGO RUIZ VARGAS","1979-05-25",44,4,"M","D","2023-09-30"]
[null,null,null,null,null,"24000055-5","IGNACIO ANDRÉS HERNÁNDEZ ROMÁN","2012-07-06",11,2,"M","X","2023-09-30"]
[null,null,null,null,null,"15061872-K","GISELLA ALEXANDRA OYANEDEL FERNÁNDEZ","1983-01-09",40,8,"F","B","2023-09-30"]
[null,null,null,null,null,"4466160-8","HADY ESTELA SALOMÉ ARROYO BOTTARO","1937-10-13",85,11,"F","B","2023-09-30"]
[null,null,null,null,null,"4923944-0","CLELIA MARÍA CANIGGIA PENNO","1943-02-09",80,7,"F","B","2023-09-30"]
[null,null,null,null,null,"9324368-4","GABRIELA IRENE HERRERA QUIROGA","1966-03-10",57,6,"F","D","2023-09-30"]
[null,null,null,null,null,"23823247-3","DAYLIN RAFAELA CASTILLO RODRÍGUEZ","2011-12-14",11,9,"F","A","2023-09-30"]
[null,null,null,null,null,"16851383-6","VÍCTOR MANUEL TAPIA DONOSO","1987-12-13",35,9,"M","B","2023-09-30"]
[null,null,null,null,null,"13539742-3","PATRICIO ANDRÉS DELGADO DONOSO","1979-03-18",44,6,"M","A","2023-09-30"]
[null,null,null,null,null,"13982766-K","ANDREA NATALIA BRIONES SALINAS","1978-03-30",45,6,"F","A","2023-09-30"]
[null,null,null,null,null,"12718602-2","JOSÉ ISAÍAS CÉSPEDES REBOLLEDO","1975-07-28",48,2,"M","D","2023-09-30"]
[null,null,null,null,null,"7907548-5","LUIS AURELIO ESPINOZA BADILLA","1957-12-07",65,9,"M","D","2023-09-30"]
[null,null,null,null,null,"7600601-6","MARÍA DOMINGA DE LAS MERCEDES GAETE PULGAR","1951-10-13",71,11,"F","B","2023-09-30"]
[null,null,null,null,null,"22198125-1","TRINIDAD ANTONIA GALDAMES VIDELA","2006-08-30",17,1,"F","A","2023-09-30"]
[null,null,null,null,null,"13752726-K","ISAÍAS ISAAC LEMUS PONCE","1980-02-12",43,7,"M","B","2023-09-30"]
[null,null,null,null,null,"18386000-3","CONSTANZA DE LAS MERCEDES BOZA NAVARRO","1993-09-21",30,0,"F","C","2023-09-30"]
[null,null,null,null,null,"13185386-6","GABRIELA DEL CARMEN AGUILERA HERNÁNDEZ","1977-12-16",45,9,"F","A","2023-09-30"]
[null,null,null,null,null,"28108581-6","ERICK IGNACIO URTUBIA BARRA","2023-03-27",0,6,"M","D","2023-09-30"]
[null,null,null,null,null,"18974000-K","GILIAN ISABELA SANTOS GÓMEZ","1995-07-27",28,2,"F","D","2023-09-30"]
[null,null,null,null,null,"10574079-4","JESSICA DEL CARMEN DÍAZ GUZMÁN","1970-12-06",52,9,"F","D","2023-09-30"]
[null,null,null,null,null,"15594016-6","PILAR ANDREA TORRES ORREGO","1983-04-30",40,5,"F","D","2023-09-30"]
[null,null,null,null,null,"19582468-1","JAVIERA BELÉN JUAN OLIVARES","1997-09-04",26,0,"F","B","2023-09-30"]
[null,null,null,null,null,"15061745-6","JUAN FERNANDO OLGUÍN URBINA","1982-12-02",40,9,"M","D","2023-09-30"]
[null,null,null,null,null,"9246236-6","WALDO EUGENIO LOBOS CONTRERAS","1963-07-21",60,2,"M","D","2023-09-30"]
[null,null,null,null,null,"23774386-5","CATALINA ANTONELLA LÓPEZ URIBE","2011-10-17",11,11,"F","D","2023-09-30"]
[null,null,null,null,null,"7716941-5","ORLANDO ANTONIO CALDERÓN ZAMBRANO","1956-07-24",67,2,"M","C","2023-09-30"]
[null,null,null,null,null,"19267546-4","CATHERIN ALEJANDRA BOZA NAVARRO","1995-11-24",27,10,"F","C","2023-09-30"]
[null,null,null,null,null,"12349442-3","CRISTIAN ARTURO DOMÍNGUEZ ZAPATA","1973-03-05",50,6,"M","D","2023-09-30"]
[null,null,null,null,null,"25549449-K","CINTHIA KAREN LOPEZ BRAVO","1993-12-30",29,9,"F","B","2023-09-30"]
[null,null,null,null,null,"11435169-5","CARMEN GLORIA GUTIÉRREZ IBARRA","1969-02-01",54,7,"F","C","2023-09-30"]
[null,null,null,null,null,"24280589-5","ROBINSON ARTURO LINARES FLORES","2013-05-20",10,4,"M","C","2023-09-30"]
[null,null,null,null,null,"22180321-3","GINO ARIEL GUERRA CASTILLO","2006-08-02",17,1,"M","A","2023-09-30"]
[null,null,null,null,null,"22427880-2","SEBASTIÁN DAVID ALEJ VARGAS COLLAO","2007-06-15",16,3,"M","C","2023-09-30"]
[null,null,null,null,null,"23468894-4","ANTONIA PASCALE CASANOVA MOYANO","2010-10-25",12,11,"F","A","2023-09-30"]
[null,null,null,null,null,"14656120-9","JOHN MICHAEL WATSON ","1936-05-09",87,4,"M","B","2023-09-30"]
[null,null,null,null,null,"8526330-7","MARÍA VICTORIA VARGAS QUIROZ","1967-05-03",56,4,"F","C","2023-09-30"]
[null,null,null,null,null,"16400485-6","ANA BELÉN GUADALUPE ARANCIBIA FERNÁNDEZ","1986-05-02",37,4,"F","B","2023-09-30"]
[null,null,null,null,null,"6959823-4","ELENA ADALIDES DEL C MUÑOZ FUNES","1955-09-05",68,0,"F","A","2023-09-30"]
[null,null,null,null,null,"9372722-3","ANGÉLICA DEL CARMEN ACEVEDO BERMÚDEZ","1966-01-21",57,8,"F","B","2023-09-30"]
[null,null,null,null,null,"8172314-1","MARÍA TERESA ACUÑA NOVOA","1958-03-18",65,6,"F","B","2023-09-30"]
[null,null,null,null,null,"13185518-4","ISAAC ANDRÉS PÁEZ ALEGRÍA","1977-10-11",45,11,"M","C","2023-09-30"]
[null,null,null,null,null,"8895112-3","GEORGINA ISABEL GONZÁLEZ VIVANCO","1963-03-06",60,6,"F","C","2023-09-30"]
[null,null,null,null,null,"10608969-8","VERÓNICA DEL CARMEN DONOSO LIZANA","1966-01-12",57,8,"F","A","2023-09-30"]
[null,null,null,null,null,"7101431-2","OCTAVIO ESTEBAN GALLARDO ESTAY","1961-01-26",62,8,"M","D","2023-09-30"]
[null,null,null,null,null,"12155326-0","CATERINA DEL CARMEN BUSTAMANTE BASTIÁN","1973-09-15",50,0,"F","B","2023-09-30"]
[null,null,null,null,null,"9245156-9","JORGE ANTONIO PÉREZ PULGAR","1962-08-03",61,1,"M","C","2023-09-30"]
[null,null,null,null,null,"24034134-4","MAYTHE AMARAL URBINA DÍAZ","2012-08-10",11,1,"F","B","2023-09-30"]
[null,null,null,null,null,"22100729-8","SOFIA ALEJANDRA AMIGO TAPIA","2006-03-23",17,6,"F","B","2023-09-30"]
[null,null,null,null,null,"14127717-0","ANA SOLEDAD CAROCA CAROCA","1981-07-20",42,2,"F","B","2023-09-30"]
[null,null,null,null,null,"8574374-0","ANGEL DAVID MUÑOZ MORALES","1959-05-12",64,4,"M","X","2023-09-30"]
[null,null,null,null,null,"5796627-0","VICTORIANO ENRIQUE GONZÁLEZ LAZCANO","1947-06-04",76,3,"M","B","2023-09-30"]
[null,null,null,null,null,"10149813-1","RODRIGO JAVIER MUÑOZ RIVERA","1964-09-22",59,0,"M","B","2023-09-30"]
[null,null,null,null,null,"41027986-K","SAMUEL DAVID VILLALOBOS ALVARINO","2013-12-05",9,9,"M","A","2023-09-30"]
[null,null,null,null,null,"21619280-K","DOMINIQUE ANAIN LABORIE LUCO","2004-07-08",19,2,"F","C","2023-09-30"]
[null,null,null,null,null,"7375247-7","GASTÓN ALBERTO SOTO GONZÁLEZ","1953-02-12",70,7,"M","C","2023-09-30"]
[null,null,null,null,null,"10060044-7","CECILIA DEL CARMEN GÓMEZ HERNÁNDEZ","1964-01-17",59,8,"F","D","2023-09-30"]
[null,null,null,null,null,"9717116-5","TERESA DE JESÚS HIDALGO PÁEZ","1965-09-05",58,0,"F","C","2023-09-30"]
[null,null,null,null,null,"10174882-0","LUIS ALEJANDRO PASTENE GUTIÉRREZ","1964-06-14",59,3,"M","B","2023-09-30"]
[null,null,null,null,null,"11944944-8","LEONARDO EUGENIO SÁNCHEZ PIZARRO","1972-11-13",50,10,"M","B","2023-09-30"]
[null,null,null,null,null,"16551267-7","OSVALDO ANDRÉS GUERRA MARTÍNEZ","1984-11-19",38,10,"M","B","2023-09-30"]
[null,null,null,null,null,"24033585-9","FRANZUA CARLALI CRUZ SALAS","2012-07-30",11,2,"F","A","2023-09-30"]
[null,null,null,null,null,"18385632-4","CARLOS ALBERTO GALDÁMEZ VILLARROEL","1993-07-04",30,2,"M","B","2023-09-30"]
[null,null,null,null,null,"3396029-8","MARÍA ELIANA CRUZ CANIVILO","1929-11-13",93,10,"F","B","2023-09-30"]
[null,null,null,null,null,"6521158-0","DOMINGO HERNÁN MOYANO ESPÍNDOLA","1951-09-22",72,0,"M","B","2023-09-30"]
[null,null,null,null,null,"21066302-9","JOSÉ ANTONIO OJEDA GUAJARDO","2002-07-03",21,2,"M","B","2023-09-30"]
[null,null,null,null,null,"17819022-9","JUAN NICOLÁS RAMÍREZ ASTUDILLO","1991-07-17",32,2,"M","D","2023-09-30"]
[null,null,null,null,null,"6570264-9","LUISA VALENTINA HERRERA CALDERÓN","1947-08-25",76,1,"F","B","2023-09-30"]
[null,null,null,null,null,"20133808-5","VÍCTOR MANUEL CONTRERAS SILVA","1999-09-08",24,0,"M","B","2023-09-30"]
[null,null,null,null,null,"21359169-K","SEBASTIÁN ANDRÉS CASTRO BARRERA","2003-08-05",20,1,"M","A","2023-09-30"]
[null,null,null,null,null,"15062052-K","NELSON EDUARDO ARAVENA IBARRA","1981-12-19",41,9,"M","D","2023-09-30"]
[null,null,null,null,null,"26793737-0","JOSUÉ ISAÍ CASTRO CISTERNAS","2019-04-16",4,5,"M","B","2023-09-30"]
[null,null,null,null,null,"10719572-6","XIMENA DEL PILAR MORALES LEIVA","1970-06-29",53,3,"F","B","2023-09-30"]
[null,null,null,null,null,"22717117-0","BRANDÓN JESÚS CONTRERAS VÁSQUEZ","2008-05-07",15,4,"M","A","2023-09-30"]
[null,null,null,null,null,"12950779-9","HÉCTOR ALEJANDRO HERRERA OSORIO","1976-11-20",46,10,"M","B","2023-09-30"]
[null,null,null,null,null,"8599067-5","ANA ROSA CASTILLO CASTRO","1958-05-24",65,4,"F","C","2023-09-30"]
[null,null,null,null,null,"26665148-1","EMILIA ISIDORA ARAYA ALFARO","2019-01-19",4,8,"F","C","2023-09-30"]
[null,null,null,null,null,"8385157-0","LIDIA MARGARITA GAETE PULGAR","1959-05-04",64,4,"F","D","2023-09-30"]
[null,null,null,null,null,"6827247-5","MARGARITA ESTELA GUERRERO SAN MARTÍN","1956-02-21",67,7,"F","B","2023-09-30"]
[null,null,null,null,null,"18113142-K","ESTEFANÍA MACARENA MANRÍQUEZ PULGAR","1991-12-27",31,9,"F","C","2023-09-30"]
[null,null,null,null,null,"27225699-3","WILMAR ELENA SALAZAR RODRIGUEZ","1983-06-04",40,3,"F","B","2023-09-30"]
[null,null,null,null,null,"15091694-1","JOCELYN PAMELA HERRERA GONZÁLEZ","1982-09-08",41,0,"F","D","2023-09-30"]
[null,null,null,null,null,"6983516-3","FRANCISCO SEGUNDO ESPÍNDOLA IBACETA","1955-10-20",67,11,"M","B","2023-09-30"]
[null,null,null,null,null,"19268689-K","FABIÁN MARCELO DE FERARI QUIROZ","1996-08-31",27,0,"M","D","2023-09-30"]
[null,null,null,null,null,"6327998-6","JOSÉ DANIEL HERRERA RODRÍGUEZ","1948-05-02",75,4,"M","B","2023-09-30"]
[null,null,null,null,null,"21813008-9","BRUNO BENJAMIN MONTENEGRO MONTENEGRO","2005-04-03",18,5,"M","D","2023-09-30"]
[null,null,null,null,null,"20407789-4","JORGE IGNACIO VARGAS RIVERA","1999-12-27",23,9,"M","C","2023-09-30"]
[null,null,null,null,null,"22398906-3","VICENTE IVAN GOMES ARANCIBIA","2007-05-10",16,4,"M","A","2023-09-30"]
[null,null,null,null,null,"23130983-7","GABRIEL AGUSTÍN LAZCANO OROZCO","2009-09-11",14,0,"M","A","2023-09-30"]
[null,null,null,null,null,"15818551-2","MACARENA ALEJANDRA ESPINOZA GONZÁLEZ","1984-05-29",39,4,"F","D","2023-09-30"]
[null,null,null,null,null,"20483072-K","BENJAMÍN EDUARDO GATICA ARO","2000-05-27",23,4,"M","B","2023-09-30"]
[null,null,null,null,null,"8206848-1","JUAN CARLOS MURA OLMEDO","1957-08-13",66,1,"M","B","2023-09-30"]
[null,null,null,null,null,"21125466-1","JULIÁN FELIPE VALDIVIA SALAS","2002-09-10",21,0,"M","B","2023-09-30"]
[null,null,null,null,null,"17105051-0","SARA ELIZABETH FERNÁNDEZ TOLEDO","1989-06-14",34,3,"F","A","2023-09-30"]
[null,null,null,null,null,"9372720-7","LORETO DE LAS NIEVES DUREAUX DONOSO","1966-07-21",57,2,"F","A","2023-09-30"]
[null,null,null,null,null,"10194262-7","JESSICA DEL ROSARIO ALFARO GALDAMES","1976-02-28",47,7,"F","A","2023-09-30"]
[null,null,null,null,null,"19921249-4","GERARDO ALBERTO ANTILLANCA PEÑA","1999-05-04",24,4,"M","B","2023-09-30"]
[null,null,null,null,null,"13462942-8","LORENA DEL CARMEN GONZÁLEZ ARTIGAS","1973-04-22",50,5,"F","A","2023-09-30"]
[null,null,null,null,null,"22064722-6","KRISHNA ANGELA ESPINOZA ROMERO","2006-03-03",17,6,"F","B","2023-09-30"]
[null,null,null,null,null,"27680191-0","EMILIA PAZ AREVALO FERNANDEZ","2021-12-18",1,9,"F","C","2023-09-30"]
[null,null,null,null,null,"9461289-6","RODOLFO HERNÁN CORTEZ JARA","1967-03-27",56,6,"M","D","2023-09-30"]
[null,null,null,null,null,"16550375-9","MARCIAL ANDRÉS DÍAZ OSORIO","1987-02-08",36,7,"M","B","2023-09-30"]
[null,null,null,null,null,"13364458-K","PAOLA DEL PILAR PULGAR ROCO","1978-11-08",44,10,"F","C","2023-09-30"]
[null,null,null,null,null,"13708799-5","VÍCTOR ALEJANDRO JIMÉNEZ ROMO","1978-12-08",44,9,"M","D","2023-09-30"]
[null,null,null,null,null,"19888313-1","JOSEFA ANDREA PORRAS BRIONES","1998-09-20",25,0,"F","B","2023-09-30"]
[null,null,null,null,null,"15818734-5","MARLENNE ALEXANDRA PALACIOS HERRERA","1984-07-20",39,2,"F","D","2023-09-30"]
[null,null,null,null,null,"9084965-4","HERNÁN JESÚS MUÑOZ LAZCANO","1962-11-12",60,10,"M","B","2023-09-30"]
[null,null,null,null,null,"18679807-4","ZULEMA DEL ROSARIO MURA MIRANDA","1993-12-23",29,9,"F","D","2023-09-30"]
[null,null,null,null,null,"10414030-0","EDUARDO ANTONIO LERIS ARÁNGUIZ","1965-06-08",58,3,"M","B","2023-09-30"]
[null,null,null,null,null,"13364523-3","MARIELA KARINA CRUZ LÓPEZ","1978-11-10",44,10,"F","B","2023-09-30"]
[null,null,null,null,null,"5889082-0","FERNANDO HERIBERTO CASTILLO JARA","1947-11-20",75,10,"M","C","2023-09-30"]
[null,null,null,null,null,"21627240-4","YULIANA ALEJANDRA VIDAL SILVA","2004-07-23",19,2,"F","A","2023-09-30"]
[null,null,null,null,null,"20923159-K","NICOLÁS ALEJANDRO HORTA RAMOS","2001-12-11",21,9,"M","B","2023-09-30"]
[null,null,null,null,null,"10964629-6","MARLENE DEL ROSARIO VÁSQUEZ VARAS","1968-01-01",55,8,"F","B","2023-09-30"]
[null,null,null,null,null,"18113552-2","JORGE NICOLÁS JIMÉNEZ BARRERA","1992-04-05",31,5,"M","C","2023-09-30"]
[null,null,null,null,null,"6011042-5","MARTINA DEL ROSARIO MURA LEÓN","1947-11-11",75,10,"F","B","2023-09-30"]
[null,null,null,null,null,"20408003-8","CAMILA ALBANA ÁVILA FIGUEROA","2000-02-23",23,7,"F","C","2023-09-30"]
[null,null,null,null,null,"22719980-6","ARIEL JESÚS DUHALDE ROZAS","2008-05-13",15,4,"M","B","2023-09-30"]
[null,null,null,null,null,"17819190-K","TERESA DEL CARMEN VÁSQUEZ PIZARRO","1991-07-28",32,2,"F","B","2023-09-30"]
[null,null,null,null,null,"17818439-3","MARCOS ANTONIO IZQUIERDO ESCUDERO","1991-02-26",32,7,"M","B","2023-09-30"]
[null,null,null,null,null,"19582506-8","RODRIGO SEBASTIÁN MUÑOZ ZAMORANO","1997-10-04",25,11,"M","B","2023-09-30"]
[null,null,null,null,null,"20133694-5","AMÉRICA LIBERTAD GONZÁLEZ MORALES","1999-09-23",24,0,"F","B","2023-09-30"]
[null,null,null,null,null,"15819004-4","PAULINA ANDREA REYES REYES","1984-09-03",39,0,"F","D","2023-09-30"]
[null,null,null,null,null,"6706748-7","REXNER ALONSO ECHEVERRÍA DÍAZ","1959-07-03",64,2,"M","B","2023-09-30"]
[null,null,null,null,null,"24531450-7","AGUSTÍN VALENTINNO ELGUETA CASTILLO","2014-02-03",9,7,"M","A","2023-09-30"]
[null,null,null,null,null,"18680297-7","YARITZA ANDREINA LEÓN FERNÁNDEZ","1994-04-20",29,5,"F","D","2023-09-30"]
[null,null,null,null,null,"23396549-9","MARCO ANTONIO OTÁROLA PRADO","2010-08-10",13,1,"M","A","2023-09-30"]
[null,null,null,null,null,"25367363-K","RENATA ISABEL RUIZ HORN","2016-04-29",7,5,"F","B","2023-09-30"]
[null,null,null,null,null,"4933058-8","MARÍA ANGÉLICA AZÓCAR GALLARDO","1940-06-14",83,3,"F","B","2023-09-30"]
[null,null,null,null,null,"22528916-6","VALENTINA BERRÍOS CÉSPEDES","2007-10-18",15,11,"F","C","2023-09-30"]
[null,null,null,null,null,"18384640-K","JUAN DE DIOS BREVE TOBAR","1992-10-27",30,11,"M","A","2023-09-30"]
[null,null,null,null,null,"17469494-K","YESENIA YAZMÍN AYALA ROSALES","1990-08-28",33,1,"F","A","2023-09-30"]
[null,null,null,null,null,"25297278-1","MAXIMILIANO FERNANDO ALLENDE LICHTENBERG","2016-02-22",7,7,"M","X","2023-09-30"]
[null,null,null,null,null,"17164931-5","FRANCISCA ANDREA SEGOVIA HERRERA","1989-08-22",34,1,"F","B","2023-09-30"]
[null,null,null,null,null,"7996133-7","ALEVTINA DEL TRÁNSITO GUZMÁN ALFARO","1957-07-25",66,2,"F","B","2023-09-30"]
[null,null,null,null,null,"10209275-9","VÍCTOR SAMUEL VILLALOBOS GONZÁLEZ","1967-05-09",56,4,"M","X","2023-09-30"]
[null,null,null,null,null,"25118533-6","ESTEBAN GASPAR CHAUCON CASTRO","2015-09-16",8,0,"M","C","2023-09-30"]
[null,null,null,null,null,"16305821-9","YORIS EMERSON QUIROGA MADARIAGA","1985-10-14",37,11,"M","C","2023-09-30"]
[null,null,null,null,null,"18113037-7","BRAULIO PATRICIO TORRES TORRES","1991-10-29",31,11,"M","D","2023-09-30"]
[null,null,null,null,null,"13539811-K","ALEJANDRO LUIS PUEYES DÍAZ","1979-11-20",43,10,"M","D","2023-09-30"]
[null,null,null,null,null,"19916040-0","OSCAR BRANDON LINDEROS GONZÁLEZ","1998-07-30",25,2,"M","C","2023-09-30"]
[null,null,null,null,null,"23611625-5","MÁXIMO AARON URRIAGA PÁEZ","2011-04-04",12,5,"M","X","2023-09-30"]
[null,null,null,null,null,"21163488-K","CATALINA DEL ROSARIO QUEZADA MONCADA","2002-11-12",20,10,"F","A","2023-09-30"]
[null,null,null,null,null,"8324456-9","CECILIA DEL CARMEN HIDALGO LEIVA","1958-05-09",65,4,"F","B","2023-09-30"]
[null,null,null,null,null,"20336661-2","DENNYSSE JAVIERA JIMÉNEZ PINDAVE","2000-07-10",23,2,"F","B","2023-09-30"]
[null,null,null,null,null,"17164219-1","ROBERTO JAVIER PONCE RAMÍREZ","1989-03-29",34,6,"M","C","2023-09-30"]
[null,null,null,null,null,"23296693-9","THAÍS ANTONELLA ESPINOZA VIVANCO","2010-04-12",13,5,"F","A","2023-09-30"]
[null,null,null,null,null,"25435348-5","LUCAS ALONSO CARRASCO QUIROZ","2016-07-07",7,2,"M","A","2023-09-30"]
[null,null,null,null,null,"25829730-K","ANGEL PAOLO IZQUIERDO GALDAMES","2017-07-09",6,2,"M","A","2023-09-30"]
[null,null,null,null,null,"27995193-K","LUKAS IGNACIO LEON ABARCA","2022-11-28",0,10,"M","B","2023-09-30"]
[null,null,null,null,null,"7656835-9","MODESTA DEL TRÁNSITO MATURANA FERNÁNDEZ","1956-11-08",66,10,"F","B","2023-09-30"]
[null,null,null,null,null,"28095336-9","SOFÍA AURORA RODRÍGUEZ CAMUS","2023-03-14",0,6,"F","B","2023-09-30"]
[null,null,null,null,null,"25924880-9","CRISTÓBAL ALEJANDRO BAZÁEZ MANDIOLA","2017-09-28",6,0,"M","C","2023-09-30"]
[null,null,null,null,null,"17468354-9","MARILYN DAYANA PEREIRA HERRERA","1989-11-29",33,10,"F","D","2023-09-30"]
[null,null,null,null,null,"6975310-8","JUANA DEL CARMEN SEGOVIA BUSTAMANTE","1953-11-12",69,10,"F","B","2023-09-30"]
[null,null,null,null,null,"10229890-K","PATRICIO ALBERTO SEGURA CARVAJAL","1969-11-15",53,10,"M","C","2023-09-30"]
[null,null,null,null,null,"12136197-3","ANDREA LORENA ALFARO LAY","1974-11-28",48,10,"F","D","2023-09-30"]
[null,null,null,null,null,"17970984-8","VALESKA ALEXANDRA SEREY GORMAZ","1991-05-30",32,4,"F","D","2023-09-30"]
[null,null,null,null,null,"22907937-9","PATRICIO ANÍBAL ESCAMILLA GONZÁLEZ","2008-12-27",14,9,"M","A","2023-09-30"]
[null,null,null,null,null,"18972812-3","KATIA MONSERRAT SEGURA GONZÁLEZ","1994-10-30",28,11,"F","B","2023-09-30"]
[null,null,null,null,null,"18973138-8","FABIOLA ANTONIA URETA SILVA","1994-12-16",28,9,"F","B","2023-09-30"]
[null,null,null,null,null,"11313159-4","JUAN SEGUNDO BAEZ VALENZUELA","1967-12-26",55,9,"M","B","2023-09-30"]
[null,null,null,null,null,"4304047-2","PASCUALA DE LAS NIEV MORALES RAMÍREZ","1938-12-24",84,9,"F","B","2023-09-30"]
[null,null,null,null,null,"26264169-4","GASTÓN ALONSO MELLADO COLLADO","2018-05-04",5,4,"M","D","2023-09-30"]
[null,null,null,null,null,"13184572-3","CÉSAR ANTONIO VIDELA SAAVEDRA","1977-01-24",46,8,"M","D","2023-09-30"]
[null,null,null,null,null,"18113531-K","JOSÉ MIGUEL SEGURA VERGARA","1992-03-18",31,6,"M","B","2023-09-30"]
[null,null,null,null,null,"4893707-1","EDITH MARGARITA BARRERA RIVES","1944-12-21",78,9,"F","B","2023-09-30"]
[null,null,null,null,null,"5962501-2","LUIS ALBERTO CASTRO GUTIÉRREZ","1947-11-02",75,10,"M","D","2023-09-30"]
[null,null,null,null,null,"19888257-7","YONATHAN DAVID BENAVIDES HERRERA","1998-09-12",25,0,"M","D","2023-09-30"]
[null,null,null,null,null,"26101045-3","ANTONIA PAZ ÁVILA TAPIA","2018-01-30",5,8,"F","D","2023-09-30"]
[null,null,null,null,null,"11156523-6","ANGÉLICA VERÓNICA SEPÚLVEDA ESPINOZA","1967-07-05",56,2,"F","B","2023-09-30"]
[null,null,null,null,null,"21956927-0","RAUL ALEJANDRO ITE CHACÓN","2005-08-08",18,1,"M","A","2023-09-30"]
[null,null,null,null,null,"7874168-6","PATRICIA ANGÉLICA TAPIA MARTÍNEZ","1958-09-11",65,0,"F","B","2023-09-30"]
[null,null,null,null,null,"16851492-1","JOSÉ MIGUEL CUEVAS ARENAS","1987-12-22",35,9,"M","D","2023-09-30"]
[null,null,null,null,null,"7138193-5","VIVIANA DEL CARMEN IBACETA YÉVENES","1954-12-11",68,9,"F","B","2023-09-30"]
[null,null,null,null,null,"12817701-9","JUAN DEL CARMEN JORQUERA VERA","1975-09-01",48,0,"M","B","2023-09-30"]
[null,null,null,null,null,"9145892-6","MARÍA ELENA GONZÁLEZ PALMA","1962-06-03",61,3,"F","B","2023-09-30"]
[null,null,null,null,null,"17164580-8","VÍCTOR ANGEL MANUEL GUERRERO GUTIÉRREZ","1989-06-13",34,3,"M","D","2023-09-30"]
[null,null,null,null,null,"11096810-8","VIOLETA DEL ROSARIO JIMÉNEZ ALEGRÍA","1966-04-04",57,5,"F","D","2023-09-30"]
[null,null,null,null,null,"23224479-8","YEISON GABRIEL BUGUEÑO RODRÍGUEZ","2010-01-11",13,8,"M","A","2023-09-30"]
[null,null,null,null,null,"4790702-0","VIOLETA DEL CARMEN ALFARO CORTEZ","1943-03-31",80,5,"F","B","2023-09-30"]
[null,null,null,null,null,"18973405-0","JANIRA GUADALUPE MOLINA GALINDO","1994-12-21",28,9,"F","C","2023-09-30"]
[null,null,null,null,null,"21867467-4","CONSTANZA DANIELA MARTÍNEZ VALENZUELA","2005-06-12",18,3,"F","A","2023-09-30"]
[null,null,null,null,null,"22009966-0","MAXIMILIANO ALEXANDE VARGAS FERNANDEZ","2005-12-29",17,9,"M","D","2023-09-30"]
[null,null,null,null,null,"22058849-1","GOHANN CHRISTOPHER CÓRDOVA GONZÁLEZ","2006-02-19",17,7,"M","B","2023-09-30"]
[null,null,null,null,null,"23743003-4","ANAÍS IGNACIA TORO URBINA","2011-09-10",12,0,"F","A","2023-09-30"]
[null,null,null,null,null,"7485563-6","DANIEL GALVARINO RIVERA ORTIZ","1957-07-04",66,2,"M","D","2023-09-30"]
[null,null,null,null,null,"13158294-3","MARCO HIPÓLITO HUAIQUIFIL HUENULEF","1975-12-19",47,9,"M","D","2023-09-30"]
[null,null,null,null,null,"8329516-3","CARMEN GLORIA SALINAS VÁSQUEZ","1961-04-27",62,5,"F","A","2023-09-30"]
[null,null,null,null,null,"15554683-2","CARMEN GLORIA ARAYA CASTILLO","1982-11-03",40,10,"F","A","2023-09-30"]
[null,null,null,null,null,"22260761-2","FERNANDA VALENTINA RAVANAL GÓMEZ","2006-11-14",16,10,"F","D","2023-09-30"]
[null,null,null,null,null,"7757588-K","INÉS DEL CARMEN JARA MUÑOZ","1957-05-23",66,4,"F","B","2023-09-30"]
[null,null,null,null,null,"15541919-9","VALESKA IRENE ARÉVALO ARAYA","1978-05-11",45,4,"F","B","2023-09-30"]
[null,null,null,null,null,"18774149-1","MAICHEL ADONY ARANCIBIA ALCAYAGA","1995-02-20",28,7,"M","D","2023-09-30"]
[null,null,null,null,null,"11944882-4","LORENA DEL CARMEN SANTIBÁÑEZ PONCE","1972-11-16",50,10,"F","C","2023-09-30"]
[null,null,null,null,null,"21850024-2","MARIA AIDA MAYORGA ","1954-11-03",68,10,"F","B","2023-09-30"]
[null,null,null,null,null,"15062040-6","EVELYN DEL PILAR DÍAZ LEIVA","1981-12-18",41,9,"F","D","2023-09-30"]
[null,null,null,null,null,"8073121-3","JUANA ROSA OLGUÍN ARRIAZA","1965-01-24",58,8,"F","D","2023-09-30"]
[null,null,null,null,null,"22697870-4","NAHIA DAINETH ALIN PONCE FIGUEROA","2008-04-16",15,5,"F","C","2023-09-30"]
[null,null,null,null,null,"10298472-2","ROSA ESTELBA VALENZUELA CAMPOS","1968-10-18",54,11,"F","B","2023-09-30"]
[null,null,null,null,null,"22223501-4","CAMILY NICOLE LAGOS CARRASCO","2006-10-03",16,11,"F","D","2023-09-30"]
[null,null,null,null,null,"12613510-6","MASSIEL LORENA VARGAS GARCÍA","1973-07-14",50,2,"F","D","2023-09-30"]
[null,null,null,null,null,"41074390-6","HUGO ALBERTO VILLALOBOS URDANETA","1981-11-27",41,10,"M","A","2023-09-30"]
[null,null,null,null,null,"5404413-5","NORMA ALICIA MUÑOZ FLORES","1944-04-01",79,5,"F","B","2023-09-30"]
[null,null,null,null,null,"22717206-1","SOFÍA ISIDORA GALLARDO CÓRDOVA","2008-05-06",15,4,"F","C","2023-09-30"]
[null,null,null,null,null,"9798918-4","ERIKA DEL CARMEN DONOSO CÁRCAMO","1963-05-11",60,4,"F","A","2023-09-30"]
[null,null,null,null,null,"16550235-3","ZAIDA ANDREA CARRASCO LUCERO","1987-01-01",36,8,"F","A","2023-09-30"]
[null,null,null,null,null,"23450475-4","RENATO ALONSO GAMBOA SALINAS","2010-10-15",12,11,"M","C","2023-09-30"]
[null,null,null,null,null,"12166635-9","RAFAEL ALEJANDRO ROJAS MORALES","1979-12-10",43,9,"M","D","2023-09-30"]
[null,null,null,null,null,"22354548-3","RODRIGO ANDRÉS ALFARO RODRÍGUEZ","2007-03-17",16,6,"M","A","2023-09-30"]
[null,null,null,null,null,"11385916-4","MARILYN DE LAS NIEVE PINO CAMUS","1969-03-25",54,6,"F","B","2023-09-30"]
[null,null,null,null,null,"21865512-2","FERNANDA IGNACIA ESPINOZA GARRIDO","2005-06-18",18,3,"F","A","2023-09-30"]
[null,null,null,null,null,"17439994-8","SEBASTIÁN IGNACIO GUTIÉRREZ NAVARRO","1989-10-12",33,11,"M","C","2023-09-30"]
[null,null,null,null,null,"16777669-8","JEAN PAUL URBINA GALLARDO","1988-03-01",35,6,"M","C","2023-09-30"]
[null,null,null,null,null,"25787474-5","CUBERTINO CARMELO LOPEZ SALAZAR","1954-09-18",69,0,"M","B","2023-09-30"]
[null,null,null,null,null,"21520447-2","MIRKO ANTONIO MARTÍNEZ AHUMADA","2004-03-03",19,6,"M","C","2023-09-30"]
[null,null,null,null,null,"15818442-7","JOSÉ LUIS VEGA ROJAS","1984-03-26",39,6,"M","C","2023-09-30"]
[null,null,null,null,null,"18385551-4","RUT SHARON CARRASCO ÁLVAREZ","1993-01-22",30,8,"F","A","2023-09-30"]
[null,null,null,null,null,"9563704-3","JAIME MARCELO WALTERS CANALES","1966-04-14",57,5,"M","A","2023-09-30"]
[null,null,null,null,null,"3414524-5","JUAN RAMÓN ONEL MAZUELA","1933-09-03",90,0,"M","B","2023-09-30"]
[null,null,null,null,null,"15062065-1","EMA ANDREA ARCOS CORTEZ","1982-03-15",41,6,"F","B","2023-09-30"]
[null,null,null,null,null,"21943660-2","IGNACIA AGUSTINA GALDAMES CARRASCO","2005-09-30",18,0,"F","C","2023-09-30"]
[null,null,null,null,null,"8121451-4","LUZMILA DE LOURDES VELASCO MANRÍQUEZ","1957-01-31",66,7,"F","B","2023-09-30"]
[null,null,null,null,null,"17818223-4","SUSANA JAQUELINE AVALLAI MAUREIRA","1991-01-25",32,8,"F","C","2023-09-30"]
[null,null,null,null,null,"20650711-K","YERSON ZAULO LEVIN LEVÍN","2004-01-30",19,8,"M","A","2023-09-30"]
[null,null,null,null,null,"9137502-8","PATRICIO ANTONIO MOLINA MURA","1963-09-01",60,0,"M","D","2023-09-30"]
[null,null,null,null,null,"10851214-8","PATRICIO ANTONIO GUZMÁN TOLEDO","1967-07-03",56,2,"M","C","2023-09-30"]
[null,null,null,null,null,"22883775-K","ROCÍO ARACELI PEÑA CISTERNAS","2008-11-25",14,10,"F","A","2023-09-30"]
[null,null,null,null,null,"18137359-8","RUBÉN ESTEBAN VERGARA ESPINOZA","1992-05-07",31,4,"M","B","2023-09-30"]
[null,null,null,null,null,"12718605-7","IGNACIO ENRIQUE ALFARO GONZÁLEZ","1975-08-07",48,1,"M","X","2023-09-30"]
[null,null,null,null,null,"7680352-8","ANA DEL CARMEN ALMUNA GONZÁLEZ","1954-07-29",69,2,"F","B","2023-09-30"]
[null,null,null,null,null,"10418042-6","AMANDA CRISTINA MALLEA VILLARROEL","1969-06-17",54,3,"F","D","2023-09-30"]
[null,null,null,null,null,"18258005-8","KATHERINE BELÉN GONZÁLEZ FLORES","1991-08-14",32,1,"F","C","2023-09-30"]
[null,null,null,null,null,"20342801-4","ABIGAIL ANDREA MÁRQUEZ AGUAYO","1990-05-05",33,4,"F","A","2023-09-30"]
[null,null,null,null,null,"19888198-8","ROXANA NICOLE SEVERINO CARVAJAL","1998-08-30",25,1,"F","B","2023-09-30"]
[null,null,null,null,null,"5217140-7","PEDRO WASHINGTON SÁEZ JUÁREZ","1942-04-30",81,5,"M","B","2023-09-30"]
[null,null,null,null,null,"13364616-7","ROMINA MARGARITA ESPINOZA BUGUEÑO","1978-05-03",45,4,"F","D","2023-09-30"]
[null,null,null,null,null,"7666556-7","LUISA CORINA DEL CAR CARVACHO BUSTOS","1950-06-21",73,3,"F","B","2023-09-30"]
[null,null,null,null,null,"7586833-2","MARTA DEL CARMEN VIGUERA HUMERES","1952-03-23",71,6,"F","B","2023-09-30"]
[null,null,null,null,null,"21848296-1","ALEXANDER JHON HIDALGO OTÁROLA","2005-05-23",18,4,"M","A","2023-09-30"]
[null,null,null,null,null,"17163819-4","NICOLÁS ROGER SOTO TAPIA","1988-12-22",34,9,"M","D","2023-09-30"]
[null,null,null,null,null,"9085927-7","HELIA CRISTINA OSORIO ACEVEDO","1963-04-25",60,5,"F","B","2023-09-30"]
[null,null,null,null,null,"12400796-8","RAMÓN SEGUNDO GUERRA PÁEZ","1973-05-31",50,3,"M","B","2023-09-30"]
[null,null,null,null,null,"17469057-K","JOAN ANDRÉS AVENDAÑO LEMUS","1990-04-22",33,5,"M","D","2023-09-30"]
[null,null,null,null,null,"18703701-8","NICOLÁS IGNACIO NAVARRETE ROMERO","1992-05-31",31,3,"M","A","2023-09-30"]
[null,null,null,null,null,"26395749-0","LUCAS FERNANDO PAEZ MORON","2005-04-07",18,5,"M","D","2023-09-30"]
[null,null,null,null,null,"16718463-4","DANIXZA NATALIE RODRÍGUEZ RAMOS","1987-11-24",35,10,"F","C","2023-09-30"]
[null,null,null,null,null,"12950712-8","EDITH MARIANELLA CASTILLO CASTILLO","1974-08-20",49,1,"F","B","2023-09-30"]
[null,null,null,null,null,"24261493-3","JOAQUÍN ALEXANDER JIMÉNEZ LOBOS","2013-04-27",10,5,"M","A","2023-09-30"]
[null,null,null,null,null,"5158531-3","VÍCTOR MANUEL CÓRDOVA REYES","1945-08-25",78,1,"M","B","2023-09-30"]
[null,null,null,null,null,"6141260-3","JUAN FRANCISCO GONZÁLEZ MARTÍNEZ","1949-01-24",74,8,"M","C","2023-09-30"]
[null,null,null,null,null,"25773469-2","AGUSTINA ROJAS BUENO","2017-05-23",6,4,"F","C","2023-09-30"]
[null,null,null,null,null,"19887841-3","RODOLFO IVÁN URRUTIA MUÑOZ","1998-06-10",25,3,"M","B","2023-09-30"]
[null,null,null,null,null,"22190057-K","MOIRA SOFÍA MENESES OLMEDO","2006-08-17",17,1,"F","B","2023-09-30"]
[null,null,null,null,null,"20134020-9","JORGE FELIPE MOREIRA VARGAS","1999-12-13",23,9,"M","C","2023-09-30"]
[null,null,null,null,null,"4980114-9","BERNARDO DEL TRÁNSIT SÁNCHEZ OYARCE","1944-12-02",78,9,"M","B","2023-09-30"]
[null,null,null,null,null,"14644779-1","MANUEL MARTINEZ LECHNER","1967-04-07",56,5,"M","B","2023-09-30"]
[null,null,null,null,null,"24960888-2","JORGE ANTONIO HUERTA RIOS","2015-04-18",8,5,"M","A","2023-09-30"]
[null,null,null,null,null,"23654398-6","ISABELLA VICTORIA TORRES DA SILVA","2011-05-22",12,4,"F","A","2023-09-30"]
[null,null,null,null,null,"26635292-1","ANTONIA IGNACIA VERDUGO DELGADO","2018-12-28",4,9,"F","X","2023-09-30"]
[null,null,null,null,null,"11385011-6","MARGARITA MAGDALENA PULGAR VALENZUELA","1969-06-15",54,3,"F","D","2023-09-30"]
[null,null,null,null,null,"6391240-9","ROSA MIGUELINA CARVACHO BUSTOS","1948-05-08",75,4,"F","B","2023-09-30"]
[null,null,null,null,null,"4088786-5","SONIA DE LAS MERCEDE CORTEZ MARTÍNEZ","1938-04-30",85,5,"F","B","2023-09-30"]
[null,null,null,null,null,"9725779-5","RAMÓN ANTONIO ROMERO REYES","1963-05-31",60,3,"M","D","2023-09-30"]
[null,null,null,null,null,"7870714-3","LUIS FLORINDO GONZÁLEZ CHÁVEZ","1957-10-17",65,11,"M","D","2023-09-30"]
[null,null,null,null,null,"16306137-6","JENNIFER DEL CARMEN JAIME TELLO","1986-02-14",37,7,"F","A","2023-09-30"]
[null,null,null,null,null,"24757792-0","MARIA JOSE RINCON PEROZO","1992-12-23",30,9,"F","B","2023-09-30"]
[null,null,null,null,null,"8033828-7","SERGIO ALEJANDRO RIVERA ARAVENA","1960-06-30",63,3,"M","B","2023-09-30"]
[null,null,null,null,null,"17338508-0","JOCELYN VANESSA SOTO SEPÚLVEDA","1989-03-21",34,6,"F","B","2023-09-30"]
[null,null,null,null,null,"14527100-2","JULIO OSVALDO MONTENEGRO NEGRETE","1979-07-05",44,2,"M","D","2023-09-30"]
[null,null,null,null,null,"21595290-8","MANUEL ENRIQUE CARRASCO MARTÍNEZ","2004-06-06",19,3,"M","C","2023-09-30"]
[null,null,null,null,null,"17469620-9","ALEX EDUARDO CARVAJAL TORO","1990-09-08",33,0,"M","B","2023-09-30"]
[null,null,null,null,null,"5487162-7","MARÍA ANGÉLICA VERGARA LAZCANO","1942-10-16",80,11,"F","B","2023-09-30"]
[null,null,null,null,null,"18114348-7","YASMÍN DEL CARMEN VARGAS OLIVARES","1992-10-06",30,11,"F","D","2023-09-30"]
[null,null,null,null,null,"27275039-4","AGUSTIN IGNACIO CAMPOS HENRIQUEZ","2020-05-11",3,4,"M","D","2023-09-30"]
[null,null,null,null,null,"7925534-3","MIRTHA DE LAS NIEVES SOTO ROJAS","1957-06-21",66,3,"F","D","2023-09-30"]
[null,null,null,null,null,"10198804-K","MARISOL DEL CARMEN CONTRERAS MORALES","1971-12-19",51,9,"F","B","2023-09-30"]
[null,null,null,null,null,"9399927-4","JUAN CARLOS IBACETA COLLAO","1964-08-21",59,1,"M","A","2023-09-30"]
[null,null,null,null,null,"22702614-6","ANTONIA YAMILETT MONTENEGRO CASTILLO","2008-04-20",15,5,"F","D","2023-09-30"]
[null,null,null,null,null,"26148262-2","FELIPE GABRIEL LOBOS ARAYA","2018-03-01",5,6,"M","D","2023-09-30"]
[null,null,null,null,null,"26400344-K","SANDRA MILENA BOLIVAR HERNANDEZ","1987-02-26",36,7,"F","C","2023-09-30"]
[null,null,null,null,null,"25803994-7","ÁMBAR ISIDORA GUERRERO TAPIA","2017-06-10",6,3,"F","A","2023-09-30"]
[null,null,null,null,null,"16550754-1","CAROL ANDREA VALDEBENITO DE FERARI","1987-05-06",36,4,"F","D","2023-09-30"]
[null,null,null,null,null,"19268200-2","MARÍA JOSÉ LÓPEZ SALAS","1996-04-18",27,5,"F","A","2023-09-30"]
[null,null,null,null,null,"24132549-0","KELLY VANESSA RINCON .","1987-03-03",36,6,"F","B","2023-09-30"]
[null,null,null,null,null,"24104775-K","NICOLÁS ALEJANDRO CASANOVA RODRÍGUEZ","2012-10-30",10,11,"M","D","2023-09-30"]
[null,null,null,null,null,"13752738-3","GRACIELA SUSANA CARVAJAL JARA","1980-04-12",43,5,"F","C","2023-09-30"]
[null,null,null,null,null,"21992660-K","JUAN PABLO CORTÉS LÓPEZ","2005-11-28",17,10,"M","A","2023-09-30"]
[null,null,null,null,null,"6638893-K","ESTEBAN FERNANDO VALENZUELA GÓMEZ","1951-11-28",71,10,"M","B","2023-09-30"]
[null,null,null,null,null,"12718568-9","TRINIDAD ALEJANDRA MARTÍNEZ OLEA","1975-02-25",48,7,"F","B","2023-09-30"]
[null,null,null,null,null,"5423460-0","MIGUEL BENANCIO NÚÑEZ HERRERA","1947-09-29",76,0,"M","C","2023-09-30"]
[null,null,null,null,null,"22763419-7","CLAUDIA VERONICA MALDONADO ","1976-07-07",47,2,"F","A","2023-09-30"]
[null,null,null,null,null,"15061356-6","JOSELYN CARINA ARAYA BUSTOS","1982-09-02",41,0,"F","D","2023-09-30"]
[null,null,null,null,null,"19888395-6","KENI ARMANDO TOMÁS PÉREZ MORALES","1998-10-15",24,11,"M","C","2023-09-30"]
[null,null,null,null,null,"8505412-0","GLORIA DEL TRÁNSITO GARCÍA GUERRA","1958-05-26",65,4,"F","A","2023-09-30"]
[null,null,null,null,null,"4191781-4","HÉCTOR SAMUEL RÍOS CARVAJAL","1940-02-17",83,7,"M","B","2023-09-30"]
[null,null,null,null,null,"12579278-2","PATRICIA LORENA PAVEZ NAVARRO","1974-11-18",48,10,"F","D","2023-09-30"]
[null,null,null,null,null,"26006249-2","SAMANTHA CATALEYA RIVERA MARTÍNEZ","2017-11-24",5,10,"F","A","2023-09-30"]
[null,null,null,null,null,"12902282-5","JOSÉ DANIEL JARAMILLO ORTEGA","1975-01-10",48,8,"M","B","2023-09-30"]
[null,null,null,null,null,"18680881-9","SUSAN ANTONIA CONTRERAS VERGARA","1994-05-25",29,4,"F","B","2023-09-30"]
[null,null,null,null,null,"27946545-8","ETIEL SANTINO GONZALEZ JAIME","2022-10-07",0,11,"M","D","2023-09-30"]
[null,null,null,null,null,"19982342-6","MAYLINE OMAIRA CATALÁN BUSTAMANTE","1999-03-16",24,6,"F","B","2023-09-30"]
[null,null,null,null,null,"27483347-5","AUGUSTA TRINIDAD PONCE TOLEDO","2021-03-07",2,6,"F","D","2023-09-30"]
[null,null,null,null,null,"9440361-8","HÉCTOR EDUARDO JIMÉNEZ ALEGRÍA","1962-09-11",61,0,"M","C","2023-09-30"]
[null,null,null,null,null,"6235104-7","NORMA DELIA CONCHA ESPINOZA","1952-04-30",71,5,"F","B","2023-09-30"]
[null,null,null,null,null,"19582530-0","JEISON ANDRÉS VILLARROEL ARACENA","1997-10-01",25,11,"M","A","2023-09-30"]
[null,null,null,null,null,"13185513-3","SERGIO FERNANDO TORRES CAMPOS","1977-09-17",46,0,"M","B","2023-09-30"]
[null,null,null,null,null,"12050370-7","MARIELA DEL CARMEN OYARZÚN GUZMÁN","1979-09-14",44,0,"F","B","2023-09-30"]
[null,null,null,null,null,"19582680-3","VERÓNICA GENESIS SEGOVIA VILLARROEL","1997-10-14",25,11,"F","B","2023-09-30"]
[null,null,null,null,null,"5698668-5","BERNARDA DE LAS MERC OYARCE SÁNCHEZ","1947-03-28",76,6,"F","B","2023-09-30"]
[null,null,null,null,null,"11517303-0","LEONARDO MANUEL PÁEZ SÁNCHEZ","1969-12-12",53,9,"M","C","2023-09-30"]
[null,null,null,null,null,"16027380-1","KARINA FABIOLA MENDOZA GAETE","1985-08-08",38,1,"F","C","2023-09-30"]
[null,null,null,null,null,"18113147-0","GERMÁN IGNACIO PALMA JARA","1991-12-20",31,9,"M","D","2023-09-30"]
[null,null,null,null,null,"9171221-0","VERÓNICA DEL TRÁNSIT PORRAS SALINAS","1964-03-13",59,6,"F","D","2023-09-30"]
[null,null,null,null,null,"22009954-7","ELIANA ANABEL TORRES ","2003-10-06",19,11,"F","A","2023-09-30"]
[null,null,null,null,null,"8328786-1","MARÍA TERESA HERNÁNDEZ AEDO","1959-06-04",64,3,"F","C","2023-09-30"]
[null,null,null,null,null,"12579242-1","FRANCO LEONEL NÚÑEZ GONZÁLEZ","1974-10-16",48,11,"M","D","2023-09-30"]
[null,null,null,null,null,"7223299-2","JUANA ROSA CÁRCAMO MOLINA","1952-11-08",70,10,"F","B","2023-09-30"]
[null,null,null,null,null,"28082207-8","ELIAZAR LORENZO IBACETA GÓMEZ","2023-02-24",0,7,"M","D","2023-09-30"]
[null,null,null,null,null,"10494774-3","HÉCTOR JONAS ALARCÓN MIRANDA","1965-12-01",57,9,"M","B","2023-09-30"]
[null,null,null,null,null,"20645604-3","RENATO SEBASTIÁN TORRES GARRIDO","2001-05-26",22,4,"M","D","2023-09-30"]
[null,null,null,null,null,"25338824-2","GASTON ALEJANDRO ZURA ROSALES","2016-04-03",7,5,"M","A","2023-09-30"]
[null,null,null,null,null,"26933557-2","CESAR ANDRES CALLES GALVEZ","2008-07-04",15,2,"M","D","2023-09-30"]
[null,null,null,null,null,"25048825-4","DIEGO ORLANDO CARVALLO CELEDON","2015-07-20",8,2,"M","C","2023-09-30"]
[null,null,null,null,null,"25965266-9","OLIVER ALEJANDRO ARAYA LAVADO","2017-10-30",5,11,"M","B","2023-09-30"]
[null,null,null,null,null,"12172410-3","ANÍBAL HERNÁN LEIVA ARAYA","1972-05-08",51,4,"M","C","2023-09-30"]
[null,null,null,null,null,"9016946-7","INÉS DEL CARMEN MANZANO GALDAMES","1962-08-13",61,1,"F","A","2023-09-30"]
[null,null,null,null,null,"4302291-1","AGUSTÍN GERMÁN MURA HERRERA","1938-10-05",84,11,"M","B","2023-09-30"]
[null,null,null,null,null,"20327892-6","ENGIEL CRIADO AHUMADA","1999-09-12",24,0,"F","D","2023-09-30"]
[null,null,null,null,null,"19214611-9","CÉSAR GUSTAVO VILLEGAS LÓPEZ","2001-03-02",22,6,"M","B","2023-09-30"]
[null,null,null,null,null,"23408950-1","TOMÁS IGNACIO SALINAS RIVEROS","2010-08-26",13,1,"M","D","2023-09-30"]
[null,null,null,null,null,"23834246-5","EMILIANO ALEXANDER JIMÉNEZ VALDEBENITO","2011-12-31",11,8,"M","A","2023-09-30"]
[null,null,null,null,null,"9221944-5","ARÍSTIDES AYALA JARA","1962-04-28",61,5,"M","D","2023-09-30"]
[null,null,null,null,null,"10963902-8","LILIANA ANYELINA SÁNCHEZ MATAMORO","1969-09-24",54,0,"F","B","2023-09-30"]
[null,null,null,null,null,"23928263-6","BELÉN ESPERANZA ORTEGA BARRERA","2012-04-21",11,5,"F","A","2023-09-30"]
[null,null,null,null,null,"17137840-0","MELISSA NATALIA MAYEGA CORTÉS","1989-04-18",34,5,"F","D","2023-09-30"]
[null,null,null,null,null,"11385918-0","LEONEL DEL CARMEN JARA CASANOVA","1969-03-08",54,6,"M","B","2023-09-30"]
[null,null,null,null,null,"26383162-4","AMANDA SOPHIA CASTILLO DÍAZ","2018-07-21",5,2,"F","A","2023-09-30"]
[null,null,null,null,null,"10371419-2","OSCAR EDGARDO CIFUENTES MORGADO","1965-09-07",58,0,"M","D","2023-09-30"]
[null,null,null,null,null,"17378039-7","JULIA ISOLINA MOLINA MOLINA","1989-07-27",34,2,"F","D","2023-09-30"]
[null,null,null,null,null,"26975040-5","AMELIA AURORA VILLALOBOS LÓPEZ","2019-08-21",4,1,"F","D","2023-09-30"]
[null,null,null,null,null,"15555424-K","CARLOS PATRICIO GONZÁLEZ AEDO","1983-09-02",40,0,"M","D","2023-09-30"]
[null,null,null,null,null,"4089975-8","BERNARDO CÉSAR BERRÍOS RODRÍGUEZ","1938-12-05",84,9,"M","B","2023-09-30"]
[null,null,null,null,null,"10164071-K","LUIS ENRIQUE CASTILLO CARRASCO","1964-04-28",59,5,"M","X","2023-09-30"]
[null,null,null,null,null,"25333969-1","EDUARDO ANTONIO BECERRA IBACETA","2016-03-28",7,6,"M","B","2023-09-30"]
[null,null,null,null,null,"10430017-0","JUAN CARLOS GARCÍA GUERRA","1965-04-13",58,5,"M","D","2023-09-30"]
[null,null,null,null,null,"21497945-4","JOSE TOMAS DIAZ CELIS","2004-01-21",19,8,"M","X","2023-09-30"]
[null,null,null,null,null,"23945360-0","ANTONIA IGNACIA FERNÁNDEZ CAMPOS","2012-05-08",11,4,"F","D","2023-09-30"]
[null,null,null,null,null,"7232320-3","AÍDA DEL CARMEN RODRÍGUEZ CABEZAS","1955-12-24",67,9,"F","B","2023-09-30"]
[null,null,null,null,null,"5461448-9","JEANET EVELYN QUINTEROS PINTO","1948-06-14",75,3,"F","B","2023-09-30"]
[null,null,null,null,null,"9017926-8","CARLOS ANTONIO LETELIER RAMÍREZ","1963-05-04",60,4,"M","D","2023-09-30"]
[null,null,null,null,null,"21286593-1","LUKAS ALFONSO ESPÍNOLA RODRÍGUEZ","2003-04-28",20,5,"M","D","2023-09-30"]
[null,null,null,null,null,"13539713-K","ROMINA ANGÉLICA SEGOVIA HERRERA","1979-01-23",44,8,"F","D","2023-09-30"]
[null,null,null,null,null,"16852042-5","GUSTAVO ENRIQUE CAMUS COSSIO","1988-06-05",35,3,"M","D","2023-09-30"]
[null,null,null,null,null,"22069491-7","BRANDON CRISTOBAL MUÑOZ TORRES","2006-03-08",17,6,"M","C","2023-09-30"]
[null,null,null,null,null,"7148371-1","IRIS ANGÉLICA DÍAZ RAMOS","1957-11-02",65,10,"F","B","2023-09-30"]
[null,null,null,null,null,"17291113-7","ILCIA KARINA BARRIENTOS CARRASCO","1989-10-15",33,11,"F","A","2023-09-30"]
[null,null,null,null,null,"33215167-3","GENARINO PUENTE LA CRUZ","1971-10-19",51,11,"M","C","2023-09-30"]
[null,null,null,null,null,"15061089-3","MARCELO ESTEBAN ULLOA ALVARADO","1982-05-29",41,4,"M","D","2023-09-30"]
[null,null,null,null,null,"13023794-0","JUAN CARLOS NORMAN CHÁVEZ","1976-04-15",47,5,"M","D","2023-09-30"]
[null,null,null,null,null,"16027453-0","JOSÉ JOAQUÍN HERRERA CAMPO","1985-08-12",38,1,"M","B","2023-09-30"]
[null,null,null,null,null,"22225816-2","EXEQUIEL ALESANDER HERRERA ESPINOZA","2006-10-01",16,11,"M","A","2023-09-30"]
[null,null,null,null,null,"6425085-K","MANUEL SEGUNDO RIVES JORQUERA","1950-07-28",73,2,"M","B","2023-09-30"]
[null,null,null,null,null,"4897851-7","ROSENDO DEL CARMEN CELEDÓN LOBOS","1944-11-28",78,10,"M","B","2023-09-30"]
[null,null,null,null,null,"11586962-0","DOMINGA GRACIELA AYELEF AYELEF","1969-06-11",54,3,"F","B","2023-09-30"]
[null,null,null,null,null,"5497713-1","DULIA DE LAS MERCEDE OTÁROLA AHUMADA","1945-10-07",77,11,"F","B","2023-09-30"]
[null,null,null,null,null,"17647068-2","MANUEL JESÚS CABRERA CASTILLO","1991-02-02",32,7,"M","B","2023-09-30"]
[null,null,null,null,null,"20133661-9","BENJAMÍN OSVALDO ARAYA ARENAS","1999-08-31",24,0,"M","B","2023-09-30"]
[null,null,null,null,null,"13364484-9","ALEJANDRO ANTONIO BERRÍOS JARA","1978-11-11",44,10,"M","C","2023-09-30"]
[null,null,null,null,null,"24252171-4","ERLIT REYES TOCAS","1983-05-21",40,4,"F","B","2023-09-30"]
[null,null,null,null,null,"20993333-0","POLLET EVANGELYNE MONTIEL GÓMEZ","2002-03-29",21,6,"F","B","2023-09-30"]
[null,null,null,null,null,"6420177-8","EUGENIO ADOLFO MARTÍNEZ CUEVAS","1949-08-10",74,1,"M","B","2023-09-30"]
[null,null,null,null,null,"21977098-7","NATALY ANTONELLA ARANCIBIA PORRAS","2005-11-12",17,10,"F","D","2023-09-30"]
[null,null,null,null,null,"11944180-3","PAOLA DEL CARMEN SEGOVIA HERRERA","1972-01-12",51,8,"F","D","2023-09-30"]
[null,null,null,null,null,"5293987-9","ROSALBA NORA ALEGRÍA LEÓN","1933-10-09",89,11,"F","B","2023-09-30"]
[null,null,null,null,null,"21044606-0","NICOLÁS IGNACIO ESPINOZA TORO","2002-06-24",21,3,"M","B","2023-09-30"]
[null,null,null,null,null,"26687602-5","ELIAN LUIS ARENAS NAVARRO","2019-02-03",4,7,"M","C","2023-09-30"]
[null,null,null,null,null,"9417295-0","JORGE RAÚL MALLEA VILLARROEL","1963-12-13",59,9,"M","D","2023-09-30"]
[null,null,null,null,null,"24414206-0","SOFÍA ALEJANDRA CLAVERO ABARCA","2013-10-10",9,11,"F","B","2023-09-30"]
[null,null,null,null,null,"22738159-0","MILEN ALEJANDRA KORTMANN LEVÍN","2008-06-07",15,3,"F","A","2023-09-30"]
[null,null,null,null,null,"20089245-3","ALEXIS PATRICIO CATALÁN SILVA","1999-02-02",24,7,"M","B","2023-09-30"]
[null,null,null,null,null,"7876789-8","MARÍA ANGÉLICA CHACÓN CORVALÁN","1959-10-12",63,11,"F","B","2023-09-30"]
[null,null,null,null,null,"25518215-3","JAVIER RAMIREZ NEYRA","1992-05-11",31,4,"M","X","2023-09-30"]
[null,null,null,null,null,"17818254-4","MARÍA DE LOS ANGELES LOBOS HERRERA","1990-12-25",32,9,"F","C","2023-09-30"]
[null,null,null,null,null,"18974154-5","KARINA ANDREA LILLO SALINAS","1995-09-25",28,0,"F","D","2023-09-30"]
[null,null,null,null,null,"24302213-4","MAURA DOMINIQUE ARAYA PULGAR","2013-06-11",10,3,"F","A","2023-09-30"]
[null,null,null,null,null,"11386253-K","TATIANA PAULETTE ZÚÑIGA ASTORGA","1969-11-20",53,10,"F","D","2023-09-30"]
[null,null,null,null,null,"6514446-8","ROSA ANGÉLICA LEYTON GUERRA","1956-03-24",67,6,"F","D","2023-09-30"]
[null,null,null,null,null,"24952566-9","MATEO ANDRES HORMAZABAL PALACIOS","2015-04-08",8,5,"M","B","2023-09-30"]
[null,null,null,null,null,"16420389-1","JORDI GONZALO MORALES SÁNCHEZ","1986-05-01",37,4,"M","C","2023-09-30"]
[null,null,null,null,null,"14305352-0","MANUEL ALEJANDRO PINO LEMUS","1975-07-27",48,2,"M","B","2023-09-30"]
[null,null,null,null,null,"10187589-K","JACQUELINE DE LAS NI AYALA CASTRO","1968-07-29",55,2,"F","B","2023-09-30"]
[null,null,null,null,null,"27225537-7","AGUSTINA ANTONIA MALDONADO TAPIA","2020-03-02",3,6,"F","D","2023-09-30"]
[null,null,null,null,null,"23298517-8","AYLEN ANTONIA MENDOZA CHAPARRO","2010-04-16",13,5,"F","C","2023-09-30"]
[null,null,null,null,null,"17668197-7","ADRIÁN JESÚS SEPÚLVEDA SALINAS","1991-05-19",32,4,"M","B","2023-09-30"]
[null,null,null,null,null,"19267705-K","MITCA BELÉN FUENZALIDA HERRERA","1996-01-02",27,8,"F","A","2023-09-30"]
[null,null,null,null,null,"20408266-9","JAVIERA ANASTASSIA CERDA MENAY","2000-05-05",23,4,"F","C","2023-09-30"]
[null,null,null,null,null,"13981564-5","GLORIA ESMERALDA LEÓN SALINAS","1980-06-26",43,3,"F","C","2023-09-30"]
[null,null,null,null,null,"19888518-5","CATALINA LISSET ALFARO ZÁRATE","1998-11-09",24,10,"F","B","2023-09-30"]
[null,null,null,null,null,"18385484-4","BASTIÁN ANDRÉS SEGURA GORMAZ","1993-05-17",30,4,"M","A","2023-09-30"]
[null,null,null,null,null,"18113176-4","FABIÁN ALEJANDRO BAZÁEZ MONTENEGRO","1991-12-14",31,9,"M","D","2023-09-30"]
[null,null,null,null,null,"9591544-2","RODRIGO BALTAZAR TORREJÓN GARRIDO","1964-04-01",59,5,"M","X","2023-09-30"]
[null,null,null,null,null,"16796697-7","PAULINA ALEJANDRA MALLEA CARRASCO","1987-09-28",36,0,"F","A","2023-09-30"]
[null,null,null,null,null,"12950463-3","CARLOS ENRIQUE LOBOS REYES","1976-10-06",46,11,"M","D","2023-09-30"]
[null,null,null,null,null,"21894752-2","MARTÍN ALONSO VILLARROEL HERRERA","2005-07-14",18,2,"M","B","2023-09-30"]
[null,null,null,null,null,"13827932-4","ERWIN JOSÉ REINOSO AGUILERA","1980-10-05",42,11,"M","D","2023-09-30"]
[null,null,null,null,null,"11731165-1","CARMEN GLORIA MUÑOZ GALLARDO","1971-02-09",52,7,"F","B","2023-09-30"]
[null,null,null,null,null,"9868488-3","MARGARITA DEL CARMEN PÉREZ AHUMADA","1963-04-26",60,5,"F","C","2023-09-30"]
[null,null,null,null,null,"22021115-0","DALYHER ALEXANDER TAPIA GALDAMES","2006-01-08",17,8,"M","A","2023-09-30"]
[null,null,null,null,null,"22481430-5","BENJAMÍN VICENTE GUAJARDO ONEL","2007-08-17",16,1,"M","D","2023-09-30"]
[null,null,null,null,null,"9256906-3","JORGE ROBERTO LAVADO SEPÚLVEDA","1961-06-15",62,3,"M","B","2023-09-30"]
[null,null,null,null,null,"9103981-8","SERGIO FRANCISCO BARRAZA PEREIRA","1964-10-18",58,11,"M","D","2023-09-30"]
[null,null,null,null,null,"24282236-6","VICENTE ANDRÉS ARANCIBIA DÍAZ","2013-05-17",10,4,"M","A","2023-09-30"]
[null,null,null,null,null,"15013822-1","PABLO ANTONIO LEVANCINI CORTÉS","1982-03-05",41,6,"M","B","2023-09-30"]
[null,null,null,null,null,"12724477-4","JOSÉ HIPÓLITO HERNÁNDEZ RÍOS","1975-05-06",48,4,"M","D","2023-09-30"]
[null,null,null,null,null,"16991123-1","DISED SOLEDAD LÓPEZ LEMUS","1988-11-29",34,10,"F","A","2023-09-30"]
[null,null,null,null,null,"27479362-7","ANTONELLA SOFIA DIAZ GONZALEZ","2021-02-28",2,7,"F","B","2023-09-30"]
[null,null,null,null,null,"14563902-6","JUAN CARLOS MENESES ROJAS","1978-08-24",45,1,"M","B","2023-09-30"]
[null,null,null,null,null,"41375805-K","ISAIAS DAVID SALAS CHACOA","2021-12-07",1,9,"M","A","2023-09-30"]
[null,null,null,null,null,"23910373-1","FRANCO EMILIO LINARES VARGAS","2012-03-24",11,6,"M","A","2023-09-30"]
[null,null,null,null,null,"3862149-1","ELISA MARTÍNEZ CARVAJAL","1937-08-15",86,1,"F","B","2023-09-30"]
[null,null,null,null,null,"22712786-4","MANUEL ALONSO BERNAL ARRIOLA","2008-04-25",15,5,"M","A","2023-09-30"]
[null,null,null,null,null,"13104976-5","ÁLVARO ANTONIO CID REYES","1976-01-12",47,8,"M","D","2023-09-30"]
[null,null,null,null,null,"23024924-5","AGUSTINA ISIDORA GONZÁLEZ ESCOBAR","2009-05-19",14,4,"F","D","2023-09-30"]
[null,null,null,null,null,"8463006-3","SERGIO ENRIQUE ARACENA ASTUDILLO","1941-04-23",82,5,"M","B","2023-09-30"]
[null,null,null,null,null,"15060701-9","ERNESTO SEGUNDO MUÑOZ GALLARDO","1982-03-10",41,6,"M","D","2023-09-30"]
[null,null,null,null,null,"15189567-0","FABIOLA PILAR LÓPEZ FREDES","1983-04-28",40,5,"F","D","2023-09-30"]
[null,null,null,null,null,"20133145-5","DAVID RICARDO OLIVA ARAYA","1999-04-03",24,5,"M","X","2023-09-30"]
[null,null,null,null,null,"5298275-8","MARIO REINOSO CARVACHO","1944-03-19",79,6,"M","B","2023-09-30"]
[null,null,null,null,null,"23360374-0","VAIRON MAXIMILIANO GUTIÉRREZ ASTORGA","2010-06-29",13,3,"M","A","2023-09-30"]
[null,null,null,null,null,"24617076-2","AYLIN FERNANDA FIGUEROA JAIME","2014-04-21",9,5,"F","A","2023-09-30"]
[null,null,null,null,null,"16305615-1","ALEXIS DOMINGO SANTANDER GONZÁLEZ","1985-08-27",38,1,"M","D","2023-09-30"]
[null,null,null,null,null,"8979129-4","JUAN NICOLÁS ATUÁN FACUSE","1964-12-12",58,9,"M","B","2023-09-30"]
[null,null,null,null,null,"24463436-2","MAXIMILIANO AGUSTÍN ÁLVAREZ PULGAR","2013-11-26",9,10,"M","B","2023-09-30"]
[null,null,null,null,null,"24016770-0","EMILIA MARGOT GÓMEZ TORREALBA","2012-07-19",11,2,"F","B","2023-09-30"]
[null,null,null,null,null,"8051835-8","ALDO MANUEL JESÚS GONZÁLEZ BASTÍAS","1957-09-18",66,0,"M","C","2023-09-30"]
[null,null,null,null,null,"10688647-4","JUAN FRANCISCO SEPÚLVEDA ROSALES","1967-06-17",56,3,"M","B","2023-09-30"]
[null,null,null,null,null,"22079976-K","FLORENCIA ISIDORA AVILA PAEZ","2006-03-21",17,6,"F","C","2023-09-30"]
[null,null,null,null,null,"5602230-9","PURÍSIMA DEL CARMEN GALLEGUILLOS CHÁVEZ","1943-07-30",80,2,"F","C","2023-09-30"]
[null,null,null,null,null,"14211000-8","KAREN LETICIA CARRASCO MONTERO","1980-12-26",42,9,"F","A","2023-09-30"]
[null,null,null,null,null,"22800394-8","ANTONELLA ESCARLET SANTELICES BERNAL","2008-08-21",15,1,"F","A","2023-09-30"]
[null,null,null,null,null,"13982733-3","GUSTAVO ADOLFO CÁRCAMO CÁRCAMO","1981-10-19",41,11,"M","B","2023-09-30"]
[null,null,null,null,null,"22205608-K","JAVIERA ELIZABETH MONTENEGRO MENESES","2006-09-10",17,0,"F","C","2023-09-30"]
[null,null,null,null,null,"22094769-6","FELIX ESTEBAN GARRIDO BARRERA","2006-04-11",17,5,"M","A","2023-09-30"]
[null,null,null,null,null,"25638076-5","AMANDA DE LA PAZ QUIROGA VÁSQUEZ","2017-01-14",6,8,"F","A","2023-09-30"]
[null,null,null,null,null,"7344981-2","HUGO GERMÁN OLIVARES CAMUS","1956-01-09",67,8,"M","D","2023-09-30"]
[null,null,null,null,null,"25134500-7","JOAQUIN ALBERTO LEON ALVEAR","2015-10-14",7,11,"M","A","2023-09-30"]
[null,null,null,null,null,"4658495-3","LUIS SEGUNDO MOYANO ESPÍNDOLA","1941-12-25",81,9,"M","B","2023-09-30"]
[null,null,null,null,null,"6832714-8","CELSO ALBERTO RÍOS SALINAS","1954-11-16",68,10,"M","B","2023-09-30"]
[null,null,null,null,null,"19582078-3","DIEGO ANTONIO URBINA PONCE","1997-06-16",26,3,"M","B","2023-09-30"]
[null,null,null,null,null,"17818285-4","RUBÉN GONZALO OLIVARES CASTRO","1990-10-05",32,11,"M","C","2023-09-30"]
[null,null,null,null,null,"7618104-7","DOMINGA DEL CARMEN CRUZ DÍAZ","1953-01-11",70,8,"F","B","2023-09-30"]
[null,null,null,null,null,"16329758-2","CAROLINA DANIELA VALDERRAMA AVILÉS","1986-11-16",36,10,"F","D","2023-09-30"]
[null,null,null,null,null,"14570735-8","ROBERT ALEXI BUSTAMANTE BASTIÁN","1978-06-10",45,3,"M","A","2023-09-30"]
[null,null,null,null,null,"12817926-7","GIOVANNA ESMERALDA CORTÉS VICENCIO","1975-12-03",47,9,"F","D","2023-09-30"]
[null,null,null,null,null,"18680092-3","JAVIER ALEJANDRO GARRIDO PIZARRO","1994-02-07",29,7,"M","D","2023-09-30"]
[null,null,null,null,null,"23775088-8","DIEGO ARMANDO MURA JELDRES","2011-10-18",11,11,"M","D","2023-09-30"]
[null,null,null,null,null,"12068186-9","MANUEL ANDRÉS ESCUDERO GONZÁLEZ","1978-02-26",45,7,"M","C","2023-09-30"]
[null,null,null,null,null,"19268887-6","IGNACIO ANDRÉS JIMÉNEZ PUEYES","1996-10-14",26,11,"M","D","2023-09-30"]
[null,null,null,null,null,"16306061-2","JENNIFFER CAROL AYALA TROQUIAN","1986-04-15",37,5,"F","A","2023-09-30"]
[null,null,null,null,null,"15061171-7","FELIPE JACOB RODRÍGUEZ RODRÍGUEZ","1981-06-14",42,3,"M","A","2023-09-30"]
[null,null,null,null,null,"25363415-4","JOHN EDWARD SUAREZ LIZCANO","1997-06-25",26,3,"M","B","2023-09-30"]
[null,null,null,null,null,"8692153-7","SARA DE LAS NIEVES OROSCO AHUMADA","1960-04-21",63,5,"F","B","2023-09-30"]
[null,null,null,null,null,"12350820-3","ISABEL MARGARITA VALENZUELA DEL PINO","1973-04-06",50,5,"F","B","2023-09-30"]
[null,null,null,null,null,"13331033-9","CRISTIAN MARCELO CISTERNAS JARA","1978-10-19",44,11,"M","D","2023-09-30"]
[null,null,null,null,null,"26764829-8","JULIÁN IGNACIO SALINAS SALINAS","2019-03-25",4,6,"M","D","2023-09-30"]
[null,null,null,null,null,"9697925-8","CLAUDIO FERNANDO ARANCIBIA RIQUELME","1965-11-24",57,10,"M","B","2023-09-30"]
[null,null,null,null,null,"8443186-9","MIRIAM ROSA BUCAREY PARRA","1956-10-20",66,11,"F","B","2023-09-30"]
[null,null,null,null,null,"19887777-8","RENATO NICOLÁS MÁNQUEZ LUNA","1998-05-22",25,4,"M","B","2023-09-30"]
[null,null,null,null,null,"26553755-3","ISAMAR EMILIA SEPULVEDA SEPÚLVEDA","2018-11-02",4,10,"F","A","2023-09-30"]
[null,null,null,null,null,"22400101-0","RAFFAELLA COLOMBA OLIVARES PEREIRA","2007-05-18",16,4,"F","D","2023-09-30"]
[null,null,null,null,null,"27200211-8","AGUSTÍN IGNACIO AHUMADA AGUILERA","2020-02-07",3,7,"M","B","2023-09-30"]
[null,null,null,null,null,"16278592-3","LISETTE DEL PILAR HUEICHA VÁSQUEZ","1986-02-27",37,7,"F","B","2023-09-30"]
[null,null,null,null,null,"15555227-1","KATHERINE LISSETTE IRARRÁZABAL VARGAS","1983-05-08",40,4,"F","C","2023-09-30"]
[null,null,null,null,null,"9822238-3","JUAN LEONARDO ONEL CONTRERAS","1963-01-30",60,8,"M","X","2023-09-30"]
[null,null,null,null,null,"16305877-4","LUIS SEBASTIÁN FLORES ONEL","1986-02-12",37,7,"M","B","2023-09-30"]
[null,null,null,null,null,"16305698-4","RICARDO SEGUNDO GONZÁLEZ GÓMEZ","1986-01-03",37,8,"M","B","2023-09-30"]
[null,null,null,null,null,"27094584-8","DERECK ANTONIO ROJAS MIRANDA","2019-11-25",3,10,"M","C","2023-09-30"]
[null,null,null,null,null,"22478504-6","SAMUEL ALEJANDRO CASTILLO TORRES","2007-08-16",16,1,"M","B","2023-09-30"]
[null,null,null,null,null,"9077599-5","SERGIO ENRIQUE HIDALGO CONTRERAS","1963-06-15",60,3,"M","D","2023-09-30"]
[null,null,null,null,null,"3811894-3","ELBA ELIANA VERGARA BERRÍOS","1931-04-27",92,5,"F","B","2023-09-30"]
[null,null,null,null,null,"16027477-8","SOLANGE DEL CARMEN SALINAS CAMPOS","1985-08-24",38,1,"F","C","2023-09-30"]
[null,null,null,null,null,"21803051-3","SEBASTIAN IGNACIO MASMAN URBINA","2005-03-18",18,6,"M","D","2023-09-30"]
[null,null,null,null,null,"24492630-4","MELINA JAVIERA ZAVALA LILLO","2013-12-27",9,9,"F","D","2023-09-30"]
[null,null,null,null,null,"12949965-6","MARÍA ELENA VALENZUELA SALINAS","1976-03-25",47,6,"F","D","2023-09-30"]
[null,null,null,null,null,"23735619-5","PASCALE ISIDORA ALFARO DÍAZ","2011-09-02",12,0,"F","B","2023-09-30"]
[null,null,null,null,null,"27993583-7","SAMIRA AYLEEN CORVALAN GAETE","2022-11-28",0,10,"F","B","2023-09-30"]
[null,null,null,null,null,"22298541-2","YEIMILY FERNANDA TORO BUSTOS","2007-01-04",16,8,"F","D","2023-09-30"]
[null,null,null,null,null,"14279390-3","EUFEMIA DE LAS MERCEDES HERRERA BUSTOS","1973-07-19",50,2,"F","B","2023-09-30"]
[null,null,null,null,null,"17971054-4","NICOLETTE BEATRIZ DE JESÚS REYES BANDES","1991-05-09",32,4,"F","D","2023-09-30"]
[null,null,null,null,null,"18113262-0","ISAURA MAKARENA SALINAS SALINAS","1991-12-27",31,9,"F","B","2023-09-30"]
[null,null,null,null,null,"24015252-5","ANTONELLA POLET SALINAS ABARCA","2012-07-21",11,2,"F","D","2023-09-30"]
[null,null,null,null,null,"16027589-8","ELSA NATALI FARFÁN FARFÁN","1985-05-31",38,3,"F","A","2023-09-30"]
[null,null,null,null,null,"25346601-4","RAFELLA BELÉN IBACETA GUAJARDO","2016-04-10",7,5,"F","C","2023-09-30"]
[null,null,null,null,null,"13982392-3","DAVID HERNÁN OSANDÓN GUTIÉRREZ","1981-10-08",41,11,"M","D","2023-09-30"]
[null,null,null,null,null,"4934700-6","EUGENIO SEGUNDO OLMOS ARREDONDO","1945-03-26",78,6,"M","B","2023-09-30"]
[null,null,null,null,null,"12600706-K","JULIETA PATRICIA FIGUEROA OLIVARES","1974-11-28",48,10,"F","B","2023-09-30"]
[null,null,null,null,null,"21486273-5","ANTONIA ISIDORA PARRA FARRES","2004-01-10",19,8,"F","C","2023-09-30"]
[null,null,null,null,null,"21161209-6","DIEGO DAVID ROJAS ","1975-01-24",48,8,"M","B","2023-09-30"]
[null,null,null,null,null,"16306764-1","JORGE ORLANDO ARAYA ESPINOZA","1986-10-06",36,11,"M","B","2023-09-30"]
[null,null,null,null,null,"20133662-7","POLETT ESTEFANÍA SÁNCHEZ GARCÍA","1999-09-17",24,0,"F","C","2023-09-30"]
[null,null,null,null,null,"12624260-3","MARÍA EUGENIA GALINDO PRADO","1968-10-21",54,11,"F","B","2023-09-30"]
[null,null,null,null,null,"16551076-3","ROMINA ANDREA OSORIO GALDÁMEZ","1987-07-25",36,2,"F","D","2023-09-30"]
[null,null,null,null,null,"20408921-3","DANICA DENIS BARRIGA NÚÑEZ","2000-10-31",22,10,"F","C","2023-09-30"]
[null,null,null,null,null,"12032572-8","MARÍA ESTER BARRERA CARO","1965-10-22",57,11,"F","A","2023-09-30"]
[null,null,null,null,null,"24868009-1","FABIÁN EZEQUIEL PIZARRO MORGADO","2015-01-12",8,8,"M","A","2023-09-30"]
[null,null,null,null,null,"9861033-2","HÉCTOR JOSÉ VILLARROEL LEIVA","1964-07-21",59,2,"M","B","2023-09-30"]
[null,null,null,null,null,"17164806-8","EDITH EDUVINA ASTUDILLO FERNÁNDEZ","1989-08-18",34,1,"F","A","2023-09-30"]
[null,null,null,null,null,"6317864-0","FLORENTINA DEL CARME MANSILLA NAUTO","1951-04-11",72,5,"F","B","2023-09-30"]
[null,null,null,null,null,"16026850-6","GABRIELA NATALIA DEL ORTIZ MIRANDA","1985-02-21",38,7,"F","A","2023-09-30"]
[null,null,null,null,null,"12950783-7","ESTER VENTURA ARAVENA CÁRCAMO","1976-09-11",47,0,"F","B","2023-09-30"]
[null,null,null,null,null,"21466653-7","RODRIGO EDUARDO GORMAZ MURA","2003-12-09",19,9,"M","D","2023-09-30"]
[null,null,null,null,null,"22026154-9","MARTHINA RAYEN AEDO URRA","2006-01-10",17,8,"F","A","2023-09-30"]
[null,null,null,null,null,"23741670-8","JOAQUÍN ENRIQUE CÁRCAMO ARRIOLA","2010-11-30",12,10,"M","X","2023-09-30"]
[null,null,null,null,null,"25781550-1","ANTHONY ALFREDO LAZO SANHUEZA","2017-05-24",6,4,"M","D","2023-09-30"]
[null,null,null,null,null,"5043005-7","JUAN DE DIOS LOBOS LOBOS","1943-03-30",80,6,"M","B","2023-09-30"]
[null,null,null,null,null,"18973650-9","VANIA FRANCISCA SEGURA CASTILLO","1995-05-23",28,4,"F","B","2023-09-30"]
[null,null,null,null,null,"24316062-6","PABLO EDUARDO CORREA SOSA","1975-01-07",48,8,"M","C","2023-09-30"]
[null,null,null,null,null,"12632773-0","JUAN FERNANDO CONSTANZO ALIAGA","1974-05-17",49,4,"M","D","2023-09-30"]
[null,null,null,null,null,"19887170-2","FRANCISCA SOLEDAD MONTENEGRO CÁRCAMO","1997-12-26",25,9,"F","C","2023-09-30"]
[null,null,null,null,null,"17164072-5","DANILO NIBALDO AHUMADA PULGAR","1989-02-09",34,7,"M","D","2023-09-30"]
[null,null,null,null,null,"16027244-9","KAREN VALESCA HENRÍQUEZ REYES","1985-05-22",38,4,"F","D","2023-09-30"]
[null,null,null,null,null,"13827756-9","JUAN CARLOS CUEVAS COLLADO","1975-12-28",47,9,"M","X","2023-09-30"]
[null,null,null,null,null,"22530965-5","VIOLETA CAROLINA CARRASCO VALLE","2007-10-20",15,11,"F","A","2023-09-30"]
[null,null,null,null,null,"24502961-6","AGUSTIN LEONEL BARRAZA ARAYA","2014-01-06",9,8,"M","A","2023-09-30"]
[null,null,null,null,null,"9932808-8","NADIA FABIOLA LABBÉ SEPÚLVEDA","1964-07-08",59,2,"F","D","2023-09-30"]
[null,null,null,null,null,"19581267-5","ANTONIA MACARENA ONEL GUERRA","1996-11-22",26,10,"F","D","2023-09-30"]
[null,null,null,null,null,"6402274-1","LUIS ALEJANDRO GUERRA PACHECO","1954-02-26",69,7,"M","B","2023-09-30"]
[null,null,null,null,null,"26762417-8","ISIDORA ANTONIA PUEYES SANTIBÁÑEZ","2019-03-24",4,6,"F","D","2023-09-30"]
[null,null,null,null,null,"28049911-0","LORENZO BALTAZAR BUSTOS CELEDÓN","2023-01-23",0,8,"M","B","2023-09-30"]
[null,null,null,null,null,"15555465-7","MIGUEL ANGELO QUIÑONES ROJAS","1983-09-22",40,0,"M","D","2023-09-30"]
[null,null,null,null,null,"18973344-5","RONALD ARMANDO JARA RODRÍGUEZ","1995-02-19",28,7,"M","D","2023-09-30"]
[null,null,null,null,null,"18113729-0","LIZA CAMILA ASTARGO VILLARROEL","1992-05-19",31,4,"F","B","2023-09-30"]
[null,null,null,null,null,"5955908-7","ANA DEL ROSARIO HERRERA SALINAS","1947-02-17",76,7,"F","B","2023-09-30"]
[null,null,null,null,null,"18868627-3","GABRIELA NOEMÍ CÁDIZ MARÍN","1994-04-11",29,5,"F","B","2023-09-30"]
[null,null,null,null,null,"24514459-8","FRANCISCA ANTONIA VARGAS BARRERA","2014-01-19",9,8,"F","D","2023-09-30"]
[null,null,null,null,null,"18385720-7","CAMILA ALEJANDRA SEREY GORMAZ","1993-07-19",30,2,"F","D","2023-09-30"]
[null,null,null,null,null,"27771853-7","MANUEL SEBASTIAN LOPEZ MAMANI","2022-04-18",1,5,"M","B","2023-09-30"]
[null,null,null,null,null,"15327523-8","IVONNE ELENA MANRÍQUEZ MESÍAS","1982-02-14",41,7,"F","B","2023-09-30"]
[null,null,null,null,null,"5000768-5","MARÍA DEL CARMEN BAEZ RODRÍGUEZ","1946-10-14",76,11,"F","B","2023-09-30"]
[null,null,null,null,null,"18680591-7","NICOLE ANDREA PÉREZ MAUNA","1994-07-15",29,2,"F","B","2023-09-30"]
[null,null,null,null,null,"20025181-4","CINDY VALESCA RETAMAL CAMPOS","1998-08-25",25,1,"F","B","2023-09-30"]
[null,null,null,null,null,"22069308-2","AMARELY FRANCISCA DURAN CARVAJAL","2006-03-06",17,6,"F","C","2023-09-30"]
[null,null,null,null,null,"25336902-7","AGUSTÍN NICOLAS FELIPE ASTUDILLO PAEZ","2016-04-02",7,5,"M","B","2023-09-30"]
[null,null,null,null,null,"28036381-2","LUCÍA CATALINA FIGUEROA HERNÁNDEZ","2023-01-09",0,8,"F","B","2023-09-30"]
[null,null,null,null,null,"13827741-0","JORGE ANDRÉS MANZANO PÁEZ","1980-09-05",43,0,"M","D","2023-09-30"]
[null,null,null,null,null,"20359881-5","SEBASTIÁN ORLANDO ÁLVAREZ ALBORNOZ","2000-01-19",23,8,"M","B","2023-09-30"]
[null,null,null,null,null,"10083320-4","ELIA JESSICA HERRERA DÍAZ","1968-01-31",55,7,"F","B","2023-09-30"]
[null,null,null,null,null,"19888711-0","JOSÉ IGNACIO PINTO LIRA","1998-12-18",24,9,"M","D","2023-09-30"]
[null,null,null,null,null,"5768200-0","TEODORO PABLO CARVACHO BUSTOS","1953-04-28",70,5,"M","C","2023-09-30"]
[null,null,null,null,null,"19887174-5","YESICA MARÍA JARA QUIROGA","1997-12-14",25,9,"F","B","2023-09-30"]
[null,null,null,null,null,"21604067-8","MARIA IGNACIA JARA COLIPE","2004-06-15",19,3,"F","A","2023-09-30"]
[null,null,null,null,null,"41169982-K","ARIADNY ANYELY SALAS GARCIA","2012-05-31",11,3,"F","A","2023-09-30"]
[null,null,null,null,null,"7240865-9","JOSÉ SIXTO FERNÁNDEZ VERGARA","1954-01-04",69,8,"M","A","2023-09-30"]
[null,null,null,null,null,"23317087-9","CLAUDIO DAVID RIVAS SAN MARTÍN","2010-05-04",13,4,"M","A","2023-09-30"]
[null,null,null,null,null,"10836750-4","MARLENE DEL CARMEN CASTILLO ","1969-08-01",54,1,"F","A","2023-09-30"]
[null,null,null,null,null,"25396299-2","EITAN TAHIEL VALDIVIA ROBLES","2016-06-02",7,3,"F","A","2023-09-30"]
[null,null,null,null,null,"12865533-6","ANGÉLICA DABANESSA GUTIÉRREZ FERNÁNDEZ","1975-04-08",48,5,"F","A","2023-09-30"]
[null,null,null,null,null,"17320338-1","LUZ EMELINA FUENTES OLIVERA","1989-06-10",34,3,"F","D","2023-09-30"]
[null,null,null,null,null,"25450688-5","SAMANTHA CATALINA RAMÍREZ ZÁRATE","2016-07-19",7,2,"F","B","2023-09-30"]
[null,null,null,null,null,"17164364-3","RAFAEL DANIEL ARAYA MORA","1989-05-06",34,4,"M","C","2023-09-30"]
[null,null,null,null,null,"19268526-5","MATÍAS IGNACIO APABLAZA LEÓN","1996-07-13",27,2,"M","D","2023-09-30"]
[null,null,null,null,null,"16701749-5","FRANCISCA ALEJANDRA GUAJARDO AHUMADA","1987-08-03",36,1,"F","C","2023-09-30"]
[null,null,null,null,null,"24411871-2","ELEONOR PAZ BERRÍOS RUIZ","2013-10-08",9,11,"F","C","2023-09-30"]
[null,null,null,null,null,"18171350-K","MATÍAS IGNACIO SILVA SALINAS","1993-01-11",30,8,"M","B","2023-09-30"]
[null,null,null,null,null,"9852988-8","MANUEL HUMBERTO BUGUEÑO CAMPOS","1965-11-04",57,10,"M","D","2023-09-30"]
[null,null,null,null,null,"20133587-6","MARCO ANTONIO MUÑOZ SARMIENTO","1999-08-27",24,1,"M","C","2023-09-30"]
[null,null,null,null,null,"4769003-K","IRENE DEL CARMEN PÁEZ URTUBIA","1940-10-19",82,11,"F","B","2023-09-30"]
[null,null,null,null,null,"13364294-3","PATRICIA DEL ROSARIO GALLARDO URTUBIA","1978-09-08",45,0,"F","B","2023-09-30"]
[null,null,null,null,null,"10697287-7","SERGIO CHRISTIAN RODRÍGUEZ VALDÉS","1969-10-04",53,11,"M","D","2023-09-30"]
[null,null,null,null,null,"22338326-2","YERALL GABRIEL MUÃ‘OZ FIGUEROA","2007-03-01",16,6,"M","X","2023-09-30"]
[null,null,null,null,null,"13982522-5","MARCIA GÁLVEZ CAMUS","1981-11-14",41,10,"F","X","2023-09-30"]
[null,null,null,null,null,"8019753-5","MARGARITA DEL ROSARI ASTARGO GALLARDO","1950-11-20",72,10,"F","B","2023-09-30"]
[null,null,null,null,null,"17469093-6","MARTÍN ANDRÉS GORMAS ALVARADO","1990-05-31",33,3,"M","C","2023-09-30"]
[null,null,null,null,null,"21146328-7","CONSTANZA ANDREA MEDINA ZAMORANO","2002-10-13",20,11,"F","A","2023-09-30"]
[null,null,null,null,null,"10429764-1","MARCO ANTONIO AGUILERA BARRIOS","1980-04-10",43,5,"M","D","2023-09-30"]
[null,null,null,null,null,"10784417-1","SOLEDAD DEL ROSARIO OLIVARES MONDACA","1964-12-02",58,9,"F","C","2023-09-30"]
[null,null,null,null,null,"13760336-5","CLAUDIA ANDREA AVILÉS MONDACA","1980-03-07",43,6,"F","C","2023-09-30"]
[null,null,null,null,null,"13117518-3","JORGE GUILLERMO OPAZO COLLILEF","1973-09-15",50,0,"M","C","2023-09-30"]
[null,null,null,null,null,"12095191-2","RENÉ MAURICIO DÍAZ GONZÁLEZ","1973-12-23",49,9,"M","D","2023-09-30"]
[null,null,null,null,null,"25418963-4","BLU AYLEN DÍAZ VILLARROEL","2016-06-19",7,3,"F","A","2023-09-30"]
[null,null,null,null,null,"7711267-7","ANA LUISA VALENZUELA GÓMEZ","1947-02-01",76,7,"F","B","2023-09-30"]
[null,null,null,null,null,"17818341-9","CAROLINA ANDREA LÓPEZ SARAVIA","1991-01-15",32,8,"F","A","2023-09-30"]
[null,null,null,null,null,"17818948-4","CAMILA TERESA OROZCO BAEZA","1991-07-21",32,2,"F","D","2023-09-30"]
[null,null,null,null,null,"23656394-4","SCARLETH ISIDORA LOBOS LAGOS","2011-05-30",12,4,"F","C","2023-09-30"]
[null,null,null,null,null,"26216600-7","SANTINO AMARO CASTRO BUSTOS","2018-04-03",5,5,"M","B","2023-09-30"]
[null,null,null,null,null,"22561528-4","RENATO ANTONIO CARO MUÑOZ","2007-10-23",15,11,"M","A","2023-09-30"]
[null,null,null,null,null,"19127426-1","TERESITA DEL PILAR CONTRERAS HENRÍQUEZ","1996-01-03",27,8,"F","B","2023-09-30"]
[null,null,null,null,null,"24610531-6","JEREMY ANDRÉS TEJEIRO SILVA","2014-05-02",9,4,"M","A","2023-09-30"]
[null,null,null,null,null,"10741389-8","MARÍA VERÓNICA MARTÍNEZ CÉSPEDES","1970-01-04",53,8,"F","C","2023-09-30"]
[null,null,null,null,null,"10198175-4","EMILIO FERNANDO GONZÁLEZ FIERRO","1975-06-03",48,3,"M","C","2023-09-30"]
[null,null,null,null,null,"14441519-1","MARÍA ANTONIETA ARAVENA IBARRA","1974-09-14",49,0,"F","D","2023-09-30"]
[null,null,null,null,null,"8375605-5","AMELIA DEL CARMEN AHUMADA DÍAZ","1958-12-12",64,9,"F","B","2023-09-30"]
[null,null,null,null,null,"24104476-9","XAVIERA ALEXANDRA CAMPOS JAIME","2012-10-29",10,11,"F","A","2023-09-30"]
[null,null,null,null,null,"12350799-1","MÓNICA DE LAS NIEVES CALDERÓN VÁSQUEZ","1973-01-08",50,8,"F","D","2023-09-30"]
[null,null,null,null,null,"41087462-8","KIARA CRISTELL PAREDES PORTOCARRERO","2000-07-10",23,2,"F","A","2023-09-30"]
[null,null,null,null,null,"25130812-8","SOFIA IGNACIA MORENO OTAROLA","2015-10-08",7,11,"F","C","2023-09-30"]
[null,null,null,null,null,"3695172-9","GUILLERMO ALEJO PÉREZ GONZÁLEZ","1938-02-25",85,7,"M","B","2023-09-30"]
[null,null,null,null,null,"17164143-8","ISABEL NICOL HENRÍQUEZ RIVERA","1989-03-09",34,6,"F","D","2023-09-30"]
[null,null,null,null,null,"23918616-5","AYMAR SCARLETT LAZCANO JARA","2012-04-09",11,5,"F","A","2023-09-30"]
[null,null,null,null,null,"22616763-3","MACARENA ANAÍS DÍAZ RODRÍGUEZ","2008-01-19",15,8,"F","A","2023-09-30"]
[null,null,null,null,null,"24810702-2","LORENZO FELIX SILLERICO DOÑAS","2014-11-14",8,10,"M","B","2023-09-30"]
[null,null,null,null,null,"17819262-0","FRANCISCA ALEXANDRA GUERRA ROSENDE","1991-10-13",31,11,"F","C","2023-09-30"]
[null,null,null,null,null,"23723425-1","RENATO MARIANO VILLARROEL PRADO","2011-08-11",12,1,"M","C","2023-09-30"]
[null,null,null,null,null,"16026672-4","JONATHAN ANDRÉS ANDRADE SÁNCHEZ","1985-01-20",38,8,"M","C","2023-09-30"]
[null,null,null,null,null,"14437645-5","VERÓNICA DE LAS MERC TROQUIAN GUTIÉRREZ","1974-02-27",49,7,"F","B","2023-09-30"]
[null,null,null,null,null,"5290681-4","JUAN ALBERTO PÉREZ JOFRÉ","1946-06-01",77,3,"M","C","2023-09-30"]
[null,null,null,null,null,"19888597-5","CONSTANZA BELÉN GONZÁLEZ BARRAZA","1998-09-08",25,0,"F","C","2023-09-30"]
[null,null,null,null,null,"21417266-6","JAVIERA FERNANDA PIZARRO DONOSO","2003-10-13",19,11,"F","A","2023-09-30"]
[null,null,null,null,null,"20525406-4","GUILLERMO ISAÍAS TORREJÓN GONZÁLEZ","2001-05-10",22,4,"M","D","2023-09-30"]
[null,null,null,null,null,"12451653-6","ANDRÉS ARTURO LEYTON PÉREZ","1973-04-09",50,5,"M","D","2023-09-30"]
[null,null,null,null,null,"15904187-5","KATERINE PAMELA BARRIENTOS NAHUELHUEIQUE","1984-01-15",39,8,"F","A","2023-09-30"]
[null,null,null,null,null,"25964309-0","AYLÉN ITZAE REINOSO POBLETE","2017-10-25",5,11,"F","C","2023-09-30"]
[null,null,null,null,null,"18677289-K","NICOLÁS MOISÉS TORREJÓN GONZÁLEZ","1994-09-02",29,0,"M","C","2023-09-30"]
[null,null,null,null,null,"16046229-9","JUAN ADIN RIVERA ESCANILLA","1985-10-11",37,11,"M","D","2023-09-30"]
[null,null,null,null,null,"16991282-3","OCTAVIO HERNÁN PERALTA ESCAMILLA","1989-01-02",34,8,"M","B","2023-09-30"]
[null,null,null,null,null,"5584132-2","ISABEL MARGARITA URTUBIA SILVA","1946-07-17",77,2,"F","B","2023-09-30"]
[null,null,null,null,null,"13528841-1","CRISTIAN MOISÉS TRIGOS CARVALLO","1974-05-02",49,4,"M","D","2023-09-30"]
[null,null,null,null,null,"17817813-K","CAMILO ALBERTO JORQUERA FLÁNDEZ","1990-10-06",32,11,"M","D","2023-09-30"]
[null,null,null,null,null,"19663764-8","JEZABEL ABIGAIL CAMPOS CÁRDENAS","1997-06-12",26,3,"F","B","2023-09-30"]
[null,null,null,null,null,"19888569-K","FRANCISCO ANTONIO DE JESÚS ORELLANA MENA","1998-11-12",24,10,"M","D","2023-09-30"]
[null,null,null,null,null,"10046523-K","EUGENIA DEL PILAR QUIROZ ESPÍNDOLA","1967-10-07",55,11,"F","B","2023-09-30"]
[null,null,null,null,null,"9390218-1","ELIZABETH DE LAS MER TORO SEGURA","1961-02-20",62,7,"F","B","2023-09-30"]
[null,null,null,null,null,"21837455-7","MARTIN LEANDRO CAMPOS LEON","2005-05-03",18,4,"M","C","2023-09-30"]
[null,null,null,null,null,"15061291-8","ANDREA FERNANDA URBINA LOBOS","1982-09-01",41,0,"F","A","2023-09-30"]
[null,null,null,null,null,"12950789-6","ALAIN OLIVER VARGAS GUERRERO","1976-11-24",46,10,"M","X","2023-09-30"]
[null,null,null,null,null,"5887066-8","RAFAEL DEL CARMEN REYES CASTILLO","1948-11-06",74,10,"M","B","2023-09-30"]
[null,null,null,null,null,"23602732-5","THOMAS JAVIER PLAZA PALOMINOS","2011-03-26",12,6,"M","D","2023-09-30"]
[null,null,null,null,null,"10186628-9","PAOLA XIMENA VICENCIO VICENCIO","1975-12-03",47,9,"F","D","2023-09-30"]
[null,null,null,null,null,"16550670-7","MARCELA ALEJANDRA SEGURA VERGARA","1987-04-16",36,5,"F","B","2023-09-30"]
[null,null,null,null,null,"7219936-7","ROSA DE LAS MERCEDES BEIZA ARAYA","1953-09-24",70,0,"F","A","2023-09-30"]
[null,null,null,null,null,"8693389-6","JORGE ANDRÉS ÁLAMOS RODRÍGUEZ","1965-12-22",57,9,"M","B","2023-09-30"]
[null,null,null,null,null,"20133042-4","BENJAMÍN IGNACIO MARTÍNEZ PAREDES","1999-04-22",24,5,"M","X","2023-09-30"]
[null,null,null,null,null,"22256520-0","DIANA STEISY VEGA MENDEZ","2006-11-07",16,10,"F","C","2023-09-30"]
[null,null,null,null,null,"23151018-4","ANTONELLA ARLETH MURA FIGUEROA","2009-10-15",13,11,"F","A","2023-09-30"]
[null,null,null,null,null,"23942362-0","AGUSTÍN MANUEL ESPINOZA QUIROZ","2012-05-03",11,4,"M","A","2023-09-30"]
[null,null,null,null,null,"20408110-7","SALOMÉ BERBENA CASTILLO GUERRA","2000-03-20",23,6,"F","D","2023-09-30"]
[null,null,null,null,null,"19268509-5","JAVIERA IGNACIA MANDIOLA ZAMORA","1996-07-19",27,2,"F","B","2023-09-30"]
[null,null,null,null,null,"21706973-4","NICOLÁS EDWARD SEGURA ORTIZ","2004-11-10",18,10,"M","D","2023-09-30"]
[null,null,null,null,null,"17857220-2","MANUEL IGNACIO DONOSO ALFARO","1991-03-13",32,6,"M","D","2023-09-30"]
[null,null,null,null,null,"7704815-4","MARÍA ISABEL RODRÍGUEZ VALLE","1957-11-21",65,10,"F","B","2023-09-30"]
[null,null,null,null,null,"15555232-8","PRISCILLA DENNIS SOTO ARACENA","1983-07-31",40,1,"F","B","2023-09-30"]
[null,null,null,null,null,"24738842-7","EDUARDO ANTONIO SANCHEZ GUTIERREZ","2014-09-11",9,0,"M","A","2023-09-30"]
[null,null,null,null,null,"18974122-7","RONALD ANDRÉS CAICEO PEREIRA","1995-08-31",28,0,"M","B","2023-09-30"]
[null,null,null,null,null,"13533690-4","ALEJANDRO PATRICIO CORTÉS CONTRERAS","1977-01-05",46,8,"M","D","2023-09-30"]
[null,null,null,null,null,"13435412-7","CAROLINA ALEJANDRA LEÓN GODOY","1978-08-28",45,1,"F","C","2023-09-30"]
[null,null,null,null,null,"8580221-6","IVONNE MABEL SÁNCHEZ ARENAS","1971-04-20",52,5,"F","B","2023-09-30"]
[null,null,null,null,null,"16852348-3","CLAUDINA DE LAS MERCEDES VALDIVIESO MUÑOZ","1988-08-17",35,1,"F","A","2023-09-30"]
[null,null,null,null,null,"16027622-3","CARLA ARACELLI VILLALÓN PULGAR","1985-09-29",38,0,"F","C","2023-09-30"]
[null,null,null,null,null,"11517622-6","MICHEL CRISTIAN GUZMÁN PASARÍN","1970-07-15",53,2,"M","C","2023-09-30"]
[null,null,null,null,null,"20132889-6","JUAN FRANCISCO CARVACHO COLLAO","1999-03-15",24,6,"M","D","2023-09-30"]
[null,null,null,null,null,"10108333-0","MARÍA ELIANA MANCILLA VILLARROEL","1966-05-10",57,4,"F","C","2023-09-30"]
[null,null,null,null,null,"22123665-3","YAN FRANCO ANDRES RUIZ GALLARDO","2006-05-23",17,4,"M","B","2023-09-30"]
[null,null,null,null,null,"15742481-5","MARIBEL CAROLINA LEPE QUIROGA","1983-10-31",39,10,"F","B","2023-09-30"]
[null,null,null,null,null,"12817858-9","LUIS FRANKLIN PONCE PONCE","1975-09-24",48,0,"M","D","2023-09-30"]
[null,null,null,null,null,"13768746-1","ANDRÉS MUHADMAD PIZARRO MUSA","1980-08-25",43,1,"M","B","2023-09-30"]
[null,null,null,null,null,"25130787-3","ALONSO ABDÍAS SALAS CABRERA","2015-10-06",7,11,"M","X","2023-09-30"]
[null,null,null,null,null,"9411873-5","JUAN CARLOS HERRERA OYANEDEL","1965-07-12",58,2,"M","X","2023-09-30"]
[null,null,null,null,null,"26429911-K","AGUSTINA ALEJANDRA SALAZAR ARAYA","2018-08-17",5,1,"F","B","2023-09-30"]
[null,null,null,null,null,"24849228-7","SOFIA ARIEL MADARIAGA OLIVARES","2015-01-07",8,8,"F","B","2023-09-30"]
[null,null,null,null,null,"6663811-1","SILVIA EUGENIA PINOCHET FERNÁNDEZ","1954-05-24",69,4,"F","B","2023-09-30"]
[null,null,null,null,null,"18680805-3","FELIPE ESTEBAN JIMÉNEZ CARRASCO","1994-08-26",29,1,"M","C","2023-09-30"]
[null,null,null,null,null,"23826433-2","PABLO BENJAMÍN EDUARDO VARGAS COLLAO","2011-12-18",11,9,"M","C","2023-09-30"]
[null,null,null,null,null,"12950727-6","TERESA YOVANNA LUCERO SILVA","1976-05-05",47,4,"F","D","2023-09-30"]
[null,null,null,null,null,"22709559-8","LETICIA IGNACIA CARRASCO GALDAMES","2008-05-01",15,4,"F","D","2023-09-30"]
[null,null,null,null,null,"25388956-K","ALONSO NICOLÁS ALFARO MANZANO","2016-05-24",7,4,"M","D","2023-09-30"]
[null,null,null,null,null,"19888611-4","FRANCISCO ADOLFO PIÑALEO FERREIRA","1998-12-04",24,9,"M","B","2023-09-30"]
[null,null,null,null,null,"16027207-4","HUMBERTO ANTONIO MADRID ÁVILA","1985-04-06",38,5,"M","D","2023-09-30"]
[null,null,null,null,null,"18974179-0","VALENTINA CAROLINA ARANCIBIA AGUILERA","1995-09-27",28,0,"F","C","2023-09-30"]
[null,null,null,null,null,"13827723-2","FRANCO SEBASTIÁN GANA NÚÑEZ","1980-09-02",43,0,"M","A","2023-09-30"]
[null,null,null,null,null,"19582251-4","JOSÉ IGNACIO CABRERA VARGAS","1997-07-24",26,2,"M","D","2023-09-30"]
[null,null,null,null,null,"8508426-7","MANUEL FERNANDO FREDES MORALES","1961-08-23",62,1,"M","X","2023-09-30"]
[null,null,null,null,null,"19268772-1","ÁLVARO ALEJANDRO CUETO CISTERNAS","1996-09-23",27,0,"M","D","2023-09-30"]
[null,null,null,null,null,"6473081-9","MARÍA MERCEDES LEIVA VALENZUELA","1951-05-06",72,4,"F","B","2023-09-30"]
[null,null,null,null,null,"9433456-K","LILIANA ROSA CASTAÑEDA CARVACHO","1965-09-20",58,0,"F","A","2023-09-30"]
[null,null,null,null,null,"16027751-3","JUAN ALBERTO MURA MURA","1985-11-15",37,10,"M","X","2023-09-30"]
[null,null,null,null,null,"7942728-4","MARIO GUILLERMO GUERRERO OYANEDEL","1958-06-25",65,3,"M","C","2023-09-30"]
[null,null,null,null,null,"22839184-0","JONATHAN ALEXANDER COLLAO FERRERO","2008-09-22",15,0,"M","A","2023-09-30"]
[null,null,null,null,null,"12950763-2","WASHINGTON FREDDY MENA JELDES","1976-06-03",47,3,"M","B","2023-09-30"]
[null,null,null,null,null,"10194259-7","PAMELA DE LAS NIEVES CALDERÓN GALDÁMEZ","1970-11-20",52,10,"F","C","2023-09-30"]
[null,null,null,null,null,"27055257-9","FLORENCIA MARTINA GUERRA PAEZ","2019-10-19",3,11,"F","B","2023-09-30"]
[null,null,null,null,null,"9281498-K","CARLOS BENJAMÍN VARGAS CABRERA","1963-11-28",59,10,"M","B","2023-09-30"]
[null,null,null,null,null,"10418803-6","MARGARITA MARÍA FERNÁNDEZ MILLON","1965-02-23",58,7,"F","B","2023-09-30"]
[null,null,null,null,null,"15516561-8","MACARENA ROCÍO PÉREZ PULGAR","1982-08-06",41,1,"F","B","2023-09-30"]
[null,null,null,null,null,"18680104-0","NATALIA PAZ MUNDACA TOBAR","1994-03-19",29,6,"F","B","2023-09-30"]
[null,null,null,null,null,"24982088-1","MIIA ANTONELLA ARREDONDO COSSIO","2015-05-08",8,4,"F","A","2023-09-30"]
[null,null,null,null,null,"12763926-4","ANA MARÍA BUSTOS VARGAS","1975-09-25",48,0,"F","A","2023-09-30"]
[null,null,null,null,null,"26191700-9","MIA ANTONELLA GARRIDO URBINA","2018-03-23",5,6,"F","B","2023-09-30"]
[null,null,null,null,null,"23033322-K","ANTONELLA ANAÍS OYARZO PONCE","2009-05-22",14,4,"F","A","2023-09-30"]
[null,null,null,null,null,"9814306-8","MARÍA ELENA TOBAR RÍOS","1963-02-08",60,7,"F","C","2023-09-30"]
[null,null,null,null,null,"24911076-0","MARIANA PASCAL OSORIO RIQUELME","2015-02-25",8,7,"F","A","2023-09-30"]
[null,null,null,null,null,"23706172-1","IGNACIA ANAÍS FIGUEROA JAIME","2011-07-18",12,2,"F","A","2023-09-30"]
[null,null,null,null,null,"4080404-8","OMAR RIGOBERTO SÁNCHEZ ","1938-07-19",85,2,"M","B","2023-09-30"]
[null,null,null,null,null,"10022814-9","MARÍA EUGENIA JARA LOBOS","1967-01-08",56,8,"F","A","2023-09-30"]
[null,null,null,null,null,"23568494-2","ELIANDRO ANDRÉS AHUMADA GONZÁLEZ","2011-02-23",12,7,"M","A","2023-09-30"]
[null,null,null,null,null,"12247156-K","MÓNICA DEL CARMEN FLORES VILLARROEL","1972-10-31",50,10,"F","B","2023-09-30"]
[null,null,null,null,null,"19584349-K","MATÍAS IGNACIO MANRÍQUEZ OLMEDO","1997-02-21",26,7,"M","X","2023-09-30"]
[null,null,null,null,null,"13539716-4","MARISOL DEL CARMEN HIDALGO MIRANDA","1978-06-15",45,3,"F","A","2023-09-30"]
[null,null,null,null,null,"23796114-5","THOMAS IGNACIO ANGULO DÍAZ","2011-11-14",11,10,"M","A","2023-09-30"]
[null,null,null,null,null,"24523762-6","VICENTE ANDRÉS GONZÁLEZ JORQUERA","2014-01-30",9,8,"M","A","2023-09-30"]
[null,null,null,null,null,"20408005-4","MATÍAS ANDRÉS ESPINOZA ESPINOZA","2000-02-25",23,7,"M","C","2023-09-30"]
[null,null,null,null,null,"12400616-3","CAROLINA DEL CARMEN FERNÁNDEZ LOBOS","1973-04-22",50,5,"F","C","2023-09-30"]
[null,null,null,null,null,"24059155-3","ANA SOFÍA PATIÑO BRAVO","2012-09-08",11,0,"F","B","2023-09-30"]
[null,null,null,null,null,"7589756-1","MARÍA ELENA ARÁNGUIZ CORVALÁN","1956-01-11",67,8,"F","C","2023-09-30"]
[null,null,null,null,null,"15061279-9","FERNANDO ANDRÉS GONZÁLEZ FUENTES","1982-08-17",41,1,"M","C","2023-09-30"]
[null,null,null,null,null,"25319717-K","CLAUDIO OSCAR ALTAMIRANO ","1964-04-02",59,5,"M","B","2023-09-30"]
[null,null,null,null,null,"16627285-8","MARÍA JOSÉ COFRÉ LASTRA","1987-11-11",35,10,"F","B","2023-09-30"]
[null,null,null,null,null,"22392019-5","MAXIMILIANO ANDRES BUSTOS BRAVO","2007-05-07",16,4,"M","C","2023-09-30"]
[null,null,null,null,null,"10158594-8","GEMA DEL CARMEN PINO CAMUS","1965-04-12",58,5,"F","B","2023-09-30"]
[null,null,null,null,null,"12609310-1","SISSI CAROLE VÉLIZ VALDIVIA","1974-06-13",49,3,"F","D","2023-09-30"]
[null,null,null,null,null,"20133513-2","DIEGO IGNACIO CORREA CARVACHO","1999-08-10",24,1,"M","D","2023-09-30"]
[null,null,null,null,null,"9988193-3","ERWIN FREDY QUILODRÁN SOTO","1973-02-26",50,7,"M","D","2023-09-30"]
[null,null,null,null,null,"27981002-3","JULIETTA AGUSTINA CALDERON FARIAS","2022-11-10",0,10,"F","D","2023-09-30"]
[null,null,null,null,null,"27466543-2","ISABEL OLIVIA GAETE APABLAZA","2021-02-07",2,7,"F","A","2023-09-30"]
[null,null,null,null,null,"16550140-3","DANY DANIEL ORTIZ VILLEGAS","1986-12-04",36,9,"M","C","2023-09-30"]
[null,null,null,null,null,"11811191-5","PEDRO EUSEBIO YÉVENES BELTRÁN","1971-10-30",51,11,"M","X","2023-09-30"]
[null,null,null,null,null,"11517962-4","MARÍA TERESA CORREA SALINAS","1970-07-09",53,2,"F","B","2023-09-30"]
[null,null,null,null,null,"10046651-1","XIMENA DE LOURDES ORTIZ CARVAJAL","1966-04-30",57,5,"F","C","2023-09-30"]
[null,null,null,null,null,"8079308-1","MIGUEL EUGENIO FUENTES LÓPEZ","1962-02-20",61,7,"M","C","2023-09-30"]
[null,null,null,null,null,"23363168-K","MAGDALENA VALENTINA CONSTANZO BLANCO","2010-07-03",13,2,"F","D","2023-09-30"]
[null,null,null,null,null,"18384918-2","AXEL XAVIER MONTENEGRO ARAVENA","1992-12-30",30,9,"M","D","2023-09-30"]
[null,null,null,null,null,"21418825-2","CAMILO AMILCAR MAXIM OJEDA ROJAS","2003-10-19",19,11,"M","D","2023-09-30"]
[null,null,null,null,null,"11944745-3","PAULA ANDREA TAUCÁN BRICEÑO","1972-08-08",51,1,"F","A","2023-09-30"]
[null,null,null,null,null,"18597325-5","MARCOS ALBERTO SILVA AYALA","1994-01-07",29,8,"M","D","2023-09-30"]
[null,null,null,null,null,"27594599-4","BASTIÁN ANDRÉ MANRÍQUEZ TORRES","2021-08-11",2,1,"M","D","2023-09-30"]
[null,null,null,null,null,"25916817-1","RAFAELA ALEJANDRA SAAVEDRA CASTRO","2017-09-22",6,0,"F","X","2023-09-30"]
[null,null,null,null,null,"12043394-6","RODRIGO IVÁN ALARCÓN CASTRO","1968-06-23",55,3,"M","D","2023-09-30"]
[null,null,null,null,null,"18113882-3","FRANCISCO ESTEBAN SOTO RIVERA","1992-05-03",31,4,"M","D","2023-09-30"]
[null,null,null,null,null,"18679840-6","CHRISTOFER ANTONIO FLORES GÓMEZ","1993-12-11",29,9,"M","D","2023-09-30"]
[null,null,null,null,null,"2730937-2","PEDRO NICOLÁS GARCÍA ","1927-08-01",96,1,"M","B","2023-09-30"]
[null,null,null,null,null,"12949992-3","DAMEDI ALICIA LEAL CABRERA","1976-03-29",47,6,"F","C","2023-09-30"]
[null,null,null,null,null,"19268126-K","LISETTE ALEJANDRA DELGADO PARRA","1996-03-29",27,6,"F","C","2023-09-30"]
[null,null,null,null,null,"26842272-2","FACUNDO JULIÁN BUGUEÑO ORELLANA","2019-05-20",4,4,"M","D","2023-09-30"]
[null,null,null,null,null,"5157189-4","MATILDE DE LAS MERCEDES REYES LEIVA","1943-03-14",80,6,"F","B","2023-09-30"]
[null,null,null,null,null,"18976794-3","FRANCISCO JAVIER CAMPOS MIRANDA","1994-12-28",28,9,"M","C","2023-09-30"]
[null,null,null,null,null,"14247040-3","LORENA CAROLA TAPIA ÁLVAREZ","1973-09-19",50,0,"F","D","2023-09-30"]
[null,null,null,null,null,"18971054-2","IVÁN ALEJANDRO LILLO VARGAS","1994-07-26",29,2,"M","D","2023-09-30"]
[null,null,null,null,null,"24712398-9","STEPHEN EMANUEL GARCÍA MELLADO","2014-08-16",9,1,"M","D","2023-09-30"]
[null,null,null,null,null,"24658520-2","OSCAR ROBERT CABRERA CORTES","2006-03-04",17,6,"M","B","2023-09-30"]
[null,null,null,null,null,"9759917-3","MARÍA CECILIA TOBAR LEÓN","1967-10-30",55,11,"F","D","2023-09-30"]
[null,null,null,null,null,"26164180-1","PAULINA RAFAELA MURA SEPÚLVEDA","2018-03-08",5,6,"F","D","2023-09-30"]
[null,null,null,null,null,"10987372-1","ANDREA KARINA PÉREZ ASTARGO","1974-03-09",49,6,"F","D","2023-09-30"]
[null,null,null,null,null,"18680266-7","FRANCISCA CONSTANZA GARRIDO OSORIO","1994-04-08",29,5,"F","B","2023-09-30"]
[null,null,null,null,null,"27997037-3","EMMA MILEN CORTES GUERRA","2022-12-02",0,9,"F","X","2023-09-30"]
[null,null,null,null,null,"18972903-0","CYNTHIA ALEJANDRA RÍOS SANTELICES","1994-11-04",28,10,"F","B","2023-09-30"]
[null,null,null,null,null,"17164322-8","ESTEFANÍA DE JESÚS ONEL GALLARDO","1989-04-28",34,5,"F","D","2023-09-30"]
[null,null,null,null,null,"28188073-K","ISABELLA ANAÍS TAPIA TAPIA","2023-07-05",0,2,"F","B","2023-09-30"]
[null,null,null,null,null,"13539740-7","CAROLINA DEL CARMEN OTÁROLA ESCOBAR","1979-02-28",44,7,"F","A","2023-09-30"]
[null,null,null,null,null,"6673886-8","MARÍA VIRGINIA ESTAY PIZARRO","1949-06-22",74,3,"F","B","2023-09-30"]
[null,null,null,null,null,"22009060-4","GUSTAVO NICOLAS CORTÉS DURÁN","2005-12-21",17,9,"M","A","2023-09-30"]
[null,null,null,null,null,"15061268-3","EDUARDO DARÍO CONTRERAS PÉREZ","1982-08-05",41,1,"M","D","2023-09-30"]
[null,null,null,null,null,"19564296-6","CAMILA CONSTANZA EMBID ALFARO","1997-02-20",26,7,"F","B","2023-09-30"]
[null,null,null,null,null,"6959870-6","GLADYS DEL CARMEN LLANQUILEO CARRASCO","1953-08-05",70,1,"F","C","2023-09-30"]
[null,null,null,null,null,"15761443-6","MIREYA DE LOS ANGELES ROJO SÁNCHEZ","1984-11-05",38,10,"F","A","2023-09-30"]
[null,null,null,null,null,"16550291-4","ERWIN ESTIVENS LETELIER GUERRA","1987-01-11",36,8,"M","C","2023-09-30"]
[null,null,null,null,null,"4321915-4","DANIEL ADRIÁN QUIROZ CASANOVA","1938-07-12",85,2,"M","B","2023-09-30"]
[null,null,null,null,null,"7150986-9","DOMINGA DEL ROSARIO MORALES ABARCA","1956-10-07",66,11,"F","B","2023-09-30"]
[null,null,null,null,null,"13578630-6","VANESSA LAVINIA NAVARRETE MUÑOZ","1979-02-19",44,7,"F","D","2023-09-30"]
[null,null,null,null,null,"5158517-8","JUAN MANUEL SEPÚLVEDA SAAVEDRA","1945-12-24",77,9,"M","B","2023-09-30"]
[null,null,null,null,null,"19268201-0","LEONEL EDUARDO PUEYES NEIRA","1996-04-29",27,5,"M","X","2023-09-30"]
[null,null,null,null,null,"16551286-3","KRISS LETH DAYAN HERRERA ASTUDILLO","1987-09-24",36,0,"F","B","2023-09-30"]
[null,null,null,null,null,"15851577-6","CAROLINA STEPHANIE MENESES CORTEZ","1985-10-23",37,11,"F","B","2023-09-30"]
[null,null,null,null,null,"17073317-7","FABIÁN ANTONIO DE JESÚS NORAMBUENA MORALES","1989-03-15",34,6,"M","C","2023-09-30"]
[null,null,null,null,null,"19887154-0","TAMARA ANTONELLA AREJULA VARGAS","1997-12-29",25,9,"F","D","2023-09-30"]
[null,null,null,null,null,"15555554-8","RODRIGO ESTEBAN BARRA HERRERA","1983-06-07",40,3,"M","D","2023-09-30"]
[null,null,null,null,null,"20408904-3","JUAN LUIS ROMERO PONCE","2000-10-22",22,11,"M","B","2023-09-30"]
[null,null,null,null,null,"5337048-9","MARÍA MERCEDES MORALES PONCE","1944-04-28",79,5,"F","B","2023-09-30"]
[null,null,null,null,null,"15413732-7","EVELYN CECILIA PEÑA BARAHONA","1982-07-06",41,2,"F","B","2023-09-30"]
[null,null,null,null,null,"10193438-1","LORENA DE LAS MERCED OSORIO BAEZ","1969-02-12",54,7,"F","C","2023-09-30"]
[null,null,null,null,null,"3712141-K","NOEMA DE LAS MERCEDE MONTENEGRO GUZMÁN","1926-11-15",96,10,"F","B","2023-09-30"]
[null,null,null,null,null,"12168091-2","ALEJANDRA DEL CARMEN JARA BUSTOS","1974-12-21",48,9,"F","X","2023-09-30"]
[null,null,null,null,null,"8337228-1","LUCÍA MARCELA PIZARRO BRANT","1958-08-15",65,1,"F","B","2023-09-30"]
[null,null,null,null,null,"23221214-4","KATALINA ANAHIS VERGARA TORREJÓN","2010-01-07",13,8,"F","B","2023-09-30"]
[null,null,null,null,null,"22324349-5","JUAN ANDRÉS VARGAS MARTÍNEZ","2007-02-05",16,7,"M","B","2023-09-30"]
[null,null,null,null,null,"5800203-8","MARÍA VERÓNICA ALBORNOZ ALBORNOZ","1948-10-03",74,11,"F","B","2023-09-30"]
[null,null,null,null,null,"9525168-4","JUAN ENRIQUE ROSALES GONZÁLEZ","1964-03-27",59,6,"M","A","2023-09-30"]
[null,null,null,null,null,"16548337-5","MARIELA EDITH SAN MARTÍN SAN MARTÍN","1987-04-06",36,5,"F","A","2023-09-30"]
[null,null,null,null,null,"10542172-9","FRANCISCO GERMÁN GÓMEZ MARTÍNEZ","1965-11-27",57,10,"M","B","2023-09-30"]
[null,null,null,null,null,"14597050-4","CÉSAR ESTEBAN REYES SAAVEDRA","1981-06-05",42,3,"M","D","2023-09-30"]
[null,null,null,null,null,"23684358-0","LAURA ANTONIA CONSTANZO JARA","2011-07-01",12,2,"F","C","2023-09-30"]
[null,null,null,null,null,"15635066-4","PAOLA LEYLA LAGOS CALDERÓN","1984-01-18",39,8,"F","X","2023-09-30"]
[null,null,null,null,null,"8498309-8","CARLOS ALBERTO RIQUELME ARÉVALO","1973-02-28",50,7,"M","D","2023-09-30"]
[null,null,null,null,null,"4908089-1","VIRGINIA DEL TRÁNSIT HERRERA CONTRERAS","1941-04-20",82,5,"F","B","2023-09-30"]
[null,null,null,null,null,"10659014-1","HÉCTOR CUSTODIO AHUMADA GÁLVEZ","1967-09-26",56,0,"M","A","2023-09-30"]
[null,null,null,null,null,"13755145-4","JOSÉ MANUEL ARÁNGUIZ FUENTES","1980-10-26",42,11,"M","D","2023-09-30"]
[null,null,null,null,null,"17817938-1","ABIGAIL ESTRELLA HERRERA QUIROZ","1990-11-19",32,10,"F","B","2023-09-30"]
[null,null,null,null,null,"9848178-8","LUIS ERNESTO LEÓN PONCE","1963-05-23",60,4,"M","B","2023-09-30"]
[null,null,null,null,null,"25936005-6","VICTORIA ANTONELLA RÍOS MALLEA","2017-10-05",5,11,"F","B","2023-09-30"]
[null,null,null,null,null,"23008259-6","ANTONIA FLORENCIA TRIVIÑO MARTÍNEZ","2009-04-30",14,5,"F","A","2023-09-30"]
[null,null,null,null,null,"10080921-4","CELIA DEL TRÁNSITO PULGAR FIGUEROA","1964-04-09",59,5,"F","B","2023-09-30"]
[null,null,null,null,null,"18680349-3","MATÍAS IGNACIO ESPÍNOLA RODRÍGUEZ","1994-05-10",29,4,"M","D","2023-09-30"]
[null,null,null,null,null,"13364541-1","LUIS MAURICIO TEJEDA MIRANDA","1978-11-19",44,10,"M","C","2023-09-30"]
[null,null,null,null,null,"17163837-2","SERGIO FABIÁN REYES SAAVEDRA","1988-12-21",34,9,"M","D","2023-09-30"]
[null,null,null,null,null,"25538869-K","VERONICA VICTORIA BURGOS AGUILAR","1977-05-14",46,4,"F","B","2023-09-30"]
[null,null,null,null,null,"27249915-2","MATEO ANDRES CONTRERAS TAPIA","2020-03-29",3,6,"M","B","2023-09-30"]
[null,null,null,null,null,"11386034-0","LUISA ANTONIA GÓMEZ MORALES","1969-06-14",54,3,"F","B","2023-09-30"]
[null,null,null,null,null,"8297860-7","MARÍA ANGÉLICA ALVARADO HENRÍQUEZ","1958-10-26",64,11,"F","B","2023-09-30"]
[null,null,null,null,null,"15061230-6","DAVID ALEJANDRO CAMUS LEIVA","1982-08-15",41,1,"M","B","2023-09-30"]
[null,null,null,null,null,"27085179-7","ABRIL ISABELLA RIVERA CARDOZO","2019-11-12",3,10,"F","D","2023-09-30"]
[null,null,null,null,null,"4555605-0","MIRIAM ELISA MADARIAGA MIGEOT","1940-08-13",83,1,"F","D","2023-09-30"]
[null,null,null,null,null,"10705874-5","EXEQUIEL DEL TRÁNSIT SOTO SILVA","1969-02-18",54,7,"M","B","2023-09-30"]
[null,null,null,null,null,"23197918-2","VICENTE NICOLÁS ZURA ÁVALOS","2009-12-10",13,9,"M","C","2023-09-30"]
[null,null,null,null,null,"7881721-6","LUISA AURELIA BRIONES JARA","1959-06-21",64,3,"F","C","2023-09-30"]
[null,null,null,null,null,"18385118-7","FRANCISCO JESÚS LEMUS BRAVO","1993-02-25",30,7,"M","C","2023-09-30"]
[null,null,null,null,null,"19171310-9","CAMILA ALEJANDRA CÁCERES PAVEZ","1995-07-02",28,2,"F","B","2023-09-30"]
[null,null,null,null,null,"26354206-1","ROSELAURE ALEXANDRE ","1987-02-26",36,7,"F","D","2023-09-30"]
[null,null,null,null,null,"23766413-2","RAFAELLA AURORA PALACIOS VARGAS","2011-10-04",11,11,"F","B","2023-09-30"]
[null,null,null,null,null,"17164038-5","MARJORIE LORETTO PONCE VERGARA","1989-02-07",34,7,"F","C","2023-09-30"]
[null,null,null,null,null,"14407399-1","RAMÓN EDUARDO YÉVENES MELLA","1974-08-20",49,1,"M","B","2023-09-30"]
[null,null,null,null,null,"17793432-1","ALEXIS EUGENIO ARAYA SOTO","1991-08-31",32,0,"M","X","2023-09-30"]
[null,null,null,null,null,"15554650-6","JUAN FRANCISCO FIGUEROA GALDÁMEZ","1983-02-01",40,7,"M","D","2023-09-30"]
[null,null,null,null,null,"20986405-3","MALLERLY ANDREA RAMIREZ REYES","2002-03-10",21,6,"F","D","2023-09-30"]
[null,null,null,null,null,"22102672-1","ANTONELLA IGNACIA PONCE ALFARO","2006-04-25",17,5,"F","B","2023-09-30"]
[null,null,null,null,null,"16551110-7","GABRIELA PAZ RODRÍGUEZ GORMAS","1987-08-21",36,1,"F","B","2023-09-30"]
[null,null,null,null,null,"13982649-3","ALDO GONZALO ESPINOZA BARRERA","1981-03-25",42,6,"M","A","2023-09-30"]
[null,null,null,null,null,"41492947-8","ELIEZER LEONARDO SILVA LARA","1995-01-12",28,8,"M","A","2023-09-30"]
[null,null,null,null,null,"5484590-1","GLADYS DE LAS MERCED LEÓN CÉSPED","1948-06-18",75,3,"F","B","2023-09-30"]
[null,null,null,null,null,"16852769-1","DANIELA ESTEFANÍA ALFARO NÚÑEZ","1988-10-03",34,11,"F","A","2023-09-30"]
[null,null,null,null,null,"26024923-1","RAPHAELA TRINIDAD MADRID VILLABLANCA","2017-12-05",5,9,"F","B","2023-09-30"]
[null,null,null,null,null,"23097495-0","GIANELLA DENISSE VALENZUELA DÍAZ","2009-08-11",14,1,"F","A","2023-09-30"]
[null,null,null,null,null,"7007865-1","ESTEBAN EDUARDO ORTEGA ARAYA","1953-03-11",70,6,"M","B","2023-09-30"]
[null,null,null,null,null,"17874987-0","RENÉ VICENTE VERA LÓPEZ","1991-11-05",31,10,"M","B","2023-09-30"]
[null,null,null,null,null,"14476291-6","PATRICIA YANETT CISTERNAS JARA","1974-10-14",48,11,"F","D","2023-09-30"]
[null,null,null,null,null,"15100229-3","MARÍA ADRIANA ISLAS REYNOSO","1982-05-12",41,4,"F","C","2023-09-30"]
[null,null,null,null,null,"6849993-3","JULIO ANTONIO SEGURA VARGAS","1954-08-15",69,1,"M","C","2023-09-30"]
[null,null,null,null,null,"12950378-5","ANDRÉS DEL TRÁNSITO PÁEZ CORTEZ","1976-08-28",47,1,"M","B","2023-09-30"]
[null,null,null,null,null,"8263376-6","JAIME ENRIQUE JUAN CORTEZ","1959-07-06",64,2,"M","B","2023-09-30"]
[null,null,null,null,null,"24537776-2","RENATA VALENTINA ROMERO PARDO","2014-02-14",9,7,"F","A","2023-09-30"]
[null,null,null,null,null,"7923543-1","PATRICIA DE LAS MERC LIBERÓN FIGUEROA","1956-05-22",67,4,"F","B","2023-09-30"]
[null,null,null,null,null,"12949854-4","LEONEL DEL ROSARIO RAMÍREZ DELGADO","1975-10-14",47,11,"M","D","2023-09-30"]
[null,null,null,null,null,"25682687-9","MAXIMILIANO IGNACIO MOLINA ALDUNCE","2017-02-21",6,7,"M","A","2023-09-30"]
[null,null,null,null,null,"14530917-4","MARLENE DE LOURDES GONZÁLEZ CARVACHO","1974-11-15",48,10,"F","A","2023-09-30"]
[null,null,null,null,null,"22728058-1","CRISTÓBAL MAXIMILIANO SALINAS HERRERA","2008-05-19",15,4,"M","B","2023-09-30"]
[null,null,null,null,null,"13184873-0","ANTONIO ALEJANDRO FUENZALIDA SAAVEDRA","1977-05-09",46,4,"M","B","2023-09-30"]
[null,null,null,null,null,"22466854-6","VICTORIA BELÉN ARAVENA JARA","2007-08-03",16,1,"F","D","2023-09-30"]
[null,null,null,null,null,"8995087-2","MARISOL DEL CARMEN CERDA GONZÁLEZ","1960-05-18",63,4,"F","B","2023-09-30"]
[null,null,null,null,null,"7734499-3","MARÍA INÉS PARRA VALLE","1959-02-11",64,7,"F","B","2023-09-30"]
[null,null,null,null,null,"10998493-0","JORGE ARMANDO VILLANUEVA DÍAZ","1979-01-02",44,8,"M","B","2023-09-30"]
[null,null,null,null,null,"10642852-2","FRANCISCA BEATRIZ SALINAS LOBOS","1965-11-06",57,10,"F","D","2023-09-30"]
[null,null,null,null,null,"15557939-0","DANITZA ANDREA ARAYA ZAMORA","1983-05-29",40,4,"F","A","2023-09-30"]
[null,null,null,null,null,"9505116-2","SARA ROSA NÚÑEZ CORTEZ","1964-06-14",59,3,"F","B","2023-09-30"]
[null,null,null,null,null,"26762406-2","SANDRA MARIA PERDOMO ABREU","1993-02-07",30,7,"F","D","2023-09-30"]
[null,null,null,null,null,"18385858-0","ARIEL ANTONIO RIFFO SOTO","1993-08-16",30,1,"M","B","2023-09-30"]
[null,null,null,null,null,"14606294-6","CLAUDIA ANDREA CORTÉS CAVIERES","1978-03-20",45,6,"F","B","2023-09-30"]
[null,null,null,null,null,"22130348-2","MACARENA ISABEL AYALA FUENTES","2006-06-01",17,3,"F","A","2023-09-30"]
[null,null,null,null,null,"14181373-0","RAÚL BENEDICTO MUÑOZ HERRERA","1980-12-19",42,9,"M","B","2023-09-30"]
[null,null,null,null,null,"20753801-9","MELANIE TEARE VÁSQUEZ VÁSQUEZ","2001-07-30",22,2,"F","B","2023-09-30"]
[null,null,null,null,null,"7587552-5","DELIA NORA SALINAS CASTRO","1952-10-23",70,11,"F","B","2023-09-30"]
[null,null,null,null,null,"18519151-6","GRETHEL ESTEFANÍA OLIVARES VARAS","1994-03-25",29,6,"F","B","2023-09-30"]
[null,null,null,null,null,"20359602-2","PALOMA VICTORIA NÚÑEZ SILVA","2000-01-04",23,8,"F","B","2023-09-30"]
[null,null,null,null,null,"13363596-3","ELIA DEL PILAR LEÓN SALINAS","1977-12-29",45,9,"F","D","2023-09-30"]
[null,null,null,null,null,"11386093-6","TERESA DE LAS NIEVES LAZCANO MANRÍQUEZ","1969-06-13",54,3,"F","A","2023-09-30"]
[null,null,null,null,null,"25284582-8","JOAQUIN ALEJANDRO BAÑADOS CAMUS","2016-02-10",7,7,"M","X","2023-09-30"]
[null,null,null,null,null,"3565757-6","RUPERTO EUGENIO AHUMADA CONTRERAS","1933-12-28",89,9,"M","B","2023-09-30"]
[null,null,null,null,null,"6810641-9","WENCESLAO ENRIQUE OLIVARES MORA","1953-09-28",70,0,"M","D","2023-09-30"]
[null,null,null,null,null,"26873300-0","GASPAR GUILLERMO RAMÍREZ VILLARROEL","2019-06-14",4,3,"M","A","2023-09-30"]
[null,null,null,null,null,"20408333-9","ANAYS ALEXANDRA MACHUCA PONCE","2000-05-27",23,4,"F","C","2023-09-30"]
[null,null,null,null,null,"10603727-2","XIMENA JACQUELINE FLEITA MUÑOZ","1967-03-22",56,6,"F","C","2023-09-30"]
[null,null,null,null,null,"21565017-0","ANGEL SAÚL ALFONSO FLORES AVENDAÑO","2004-05-05",19,4,"M","X","2023-09-30"]
[null,null,null,null,null,"23940888-5","BRUNO HUMBERTO GONZÁLEZ HERRERA","2012-05-05",11,4,"M","C","2023-09-30"]
[null,null,null,null,null,"7038011-0","ELENA DEL CARMEN ULLOA CÉSPEDES","1949-06-12",74,3,"F","D","2023-09-30"]
[null,null,null,null,null,"25629472-9","TATIANA LOURDES MENDEZ BRAVO","1981-04-16",42,5,"F","B","2023-09-30"]
[null,null,null,null,null,"15061733-2","JORGE ÍTALO CONTRERAS ALBORNOZ","1982-11-16",40,10,"M","A","2023-09-30"]
[null,null,null,null,null,"11298728-2","LUIS OSVALDO CANTO ROMERO","1968-10-28",54,11,"M","C","2023-09-30"]
[null,null,null,null,null,"24889132-7","IAN JESÚS ACUÑA PINTO","2015-01-31",8,7,"M","D","2023-09-30"]
[null,null,null,null,null,"22712503-9","SEBASTIÁN ANTONIO MENESES RIVEROS","2008-05-04",15,4,"M","A","2023-09-30"]
[null,null,null,null,null,"22573552-2","SOFÍA FERNANDA SANTANA VILLARROEL","2007-12-05",15,9,"F","A","2023-09-30"]
[null,null,null,null,null,"12070702-7","MARIANELA DEL CARMEN TOLEDO AHUMADA","1967-08-23",56,1,"F","D","2023-09-30"]
[null,null,null,null,null,"17548210-5","ESTEBAN ISAI GARCÉS DUPOUY","1991-08-20",32,1,"M","D","2023-09-30"]
[null,null,null,null,null,"7459022-5","PEDRO ANTONIO AGUILERA VALDÉS","1955-10-12",67,11,"M","B","2023-09-30"]
[null,null,null,null,null,"23188854-3","RAFAEL JESÚS PIZARRO OSANDÓN","2009-11-29",13,10,"M","D","2023-09-30"]
[null,null,null,null,null,"7635766-8","JUAN GUILLERMO SOTO GONZÁLEZ","1956-06-25",67,3,"M","C","2023-09-30"]
[null,null,null,null,null,"7857061-K","MARTA CECILIA TAPIA HUMERES","1959-03-01",64,6,"F","B","2023-09-30"]
[null,null,null,null,null,"11944374-1","YASNA CAROLA FERNÁNDEZ MARTÍNEZ","1972-04-04",51,5,"F","B","2023-09-30"]
[null,null,null,null,null,"8742226-7","RAFAEL IVÁN CASTRO REYES","1959-11-12",63,10,"M","C","2023-09-30"]
[null,null,null,null,null,"5140027-5","LUIS ALFONSO SALINAS SALDÍVAR","1946-03-13",77,6,"M","B","2023-09-30"]
[null,null,null,null,null,"11386316-1","NILSON RAFAEL PÉREZ HERRERA","1969-10-20",53,11,"M","D","2023-09-30"]
[null,null,null,null,null,"28045004-9","FERNANDA BELÉN ROJAS BARAHONA","2023-01-10",0,8,"F","A","2023-09-30"]
[null,null,null,null,null,"21478658-3","BENJAMIN FERNANDO GUZMAN SANTOS","2004-01-06",19,8,"M","D","2023-09-30"]
[null,null,null,null,null,"23106255-6","SOFÍA BELÉN REINOSO OSORIO","2009-08-21",14,1,"F","A","2023-09-30"]
[null,null,null,null,null,"23479415-9","JOAQUÍN FERNANDO MELLA CHACÓN","2010-11-12",12,10,"M","D","2023-09-30"]
[null,null,null,null,null,"9446798-5","GLORIA DEL CARMEN MOLINA CAMPOS","1965-11-25",57,10,"F","C","2023-09-30"]
[null,null,null,null,null,"22775444-3","JULIETA EUGENIA MURA ARAYA","2008-07-09",15,2,"F","A","2023-09-30"]
[null,null,null,null,null,"22318573-8","SARAY VICTORIA BARRA CAROCA","2007-01-31",16,7,"F","B","2023-09-30"]
[null,null,null,null,null,"18973391-7","CONSTANZA VALENTINA ARENAS VIDELA","1994-08-24",29,1,"F","B","2023-09-30"]
[null,null,null,null,null,"21618146-8","NOELIA ANDREA VARAS GONZALEZ","2004-07-14",19,2,"F","D","2023-09-30"]
[null,null,null,null,null,"16851479-4","JOHANNA VALERIA GUTIÉRREZ PÉREZ","1988-01-12",35,8,"F","B","2023-09-30"]
[null,null,null,null,null,"26765800-5","MARIANA SOFIA DOMINGUEZ LOPEZ","2010-01-15",13,8,"F","C","2023-09-30"]
[null,null,null,null,null,"14489977-6","JENNY ANDREA GONZÁLEZ CUADRA","1974-04-18",49,5,"F","D","2023-09-30"]
[null,null,null,null,null,"7889301-K","BETTY IDA LINARES MUÑOZ","1959-03-21",64,6,"F","B","2023-09-30"]
[null,null,null,null,null,"25936119-2","ESTER NOEMI LANZ ","1989-03-07",34,6,"F","B","2023-09-30"]
[null,null,null,null,null,"8360172-8","MIRTHA EUGENIA AHUMADA ORTEGA","1962-03-17",61,6,"F","B","2023-09-30"]
[null,null,null,null,null,"23517195-3","JAVIERA IGNACIA RAMÍREZ PULGAR","2010-12-27",12,9,"F","A","2023-09-30"]
[null,null,null,null,null,"25753333-6","AGUSTÍN ALONSO OSORIO HUEIQUILLÁN","2017-05-02",6,4,"M","C","2023-09-30"]
[null,null,null,null,null,"13512065-0","MARCELA BEATRIZ MEDINA VALDERRAMA","1978-05-29",45,4,"F","B","2023-09-30"]
[null,null,null,null,null,"5672017-0","SANTIAGO ENRIQUE PÁEZ BELMAR","1951-06-29",72,3,"M","B","2023-09-30"]
[null,null,null,null,null,"26630756-K","AMBER LUNA GONZÁLEZ CONTRERAS","2018-12-25",4,9,"F","B","2023-09-30"]
[null,null,null,null,null,"9221029-4","ISABEL EUGENIA DURÁN HERRERA","1959-01-26",64,8,"F","A","2023-09-30"]
[null,null,null,null,null,"12718574-3","MAGALY ANDREA SANTELICES CALDERÓN","1975-03-06",48,6,"F","A","2023-09-30"]
[null,null,null,null,null,"10521009-4","LUIS ALBERTO CONTRERAS MUÑOZ","1966-05-22",57,4,"M","D","2023-09-30"]
[null,null,null,null,null,"24354929-9","GABRIEL ALONSO VARAS CARVACHO","2013-08-05",10,1,"M","B","2023-09-30"]
[null,null,null,null,null,"5466365-K","EUGENIA DOMINGA GONZÁLEZ BASTÍAS","1946-04-14",77,5,"F","B","2023-09-30"]
[null,null,null,null,null,"6108191-7","SEGUNDO HUMBERTO CASTILLO JARA","1949-10-04",73,11,"M","B","2023-09-30"]
[null,null,null,null,null,"17818248-K","CAMILO ANTONIO GÓMEZ MARTÍNEZ","1990-12-14",32,9,"M","D","2023-09-30"]
[null,null,null,null,null,"16551320-7","CRISTIAN EDUARDO JARA JARA","1987-10-10",35,11,"M","B","2023-09-30"]
[null,null,null,null,null,"18679606-3","STEPHANIE DAYANA BARRERA AYALA","1993-11-03",29,10,"F","B","2023-09-30"]
[null,null,null,null,null,"26682017-8","CAROL JOHANNA LINDAO LITA","1984-07-23",39,2,"F","D","2023-09-30"]
[null,null,null,null,null,"17422697-0","ALAN BASTIÁN GONZÁLEZ LAZO","1990-07-23",33,2,"M","B","2023-09-30"]
[null,null,null,null,null,"18973449-2","BÁRBARA DAIANE SILVA SÁNCHEZ","1995-03-26",28,6,"F","C","2023-09-30"]
[null,null,null,null,null,"5859869-0","ADRIANA DE LAS MERCE HUMERES GÓMEZ","1947-05-23",76,4,"F","B","2023-09-30"]
[null,null,null,null,null,"10963914-1","SILVIA DEL CARMEN GARRIDO DURÁN","1968-08-07",55,1,"F","D","2023-09-30"]
[null,null,null,null,null,"18113348-1","DANIELA CONSTANZA ANDREA RAMÍREZ ROJAS","1992-01-24",31,8,"F","D","2023-09-30"]
[null,null,null,null,null,"22001934-9","ESTEFANNY NICOLETT PÉREZ DÍAZ","2005-12-17",17,9,"F","A","2023-09-30"]
[null,null,null,null,null,"6828760-K","MARÍA ISABEL MARTÍNEZ VILLAGRA","1953-04-25",70,5,"F","A","2023-09-30"]
[null,null,null,null,null,"10815484-5","MARÍA AMÉRICA ONEL MONTENEGRO","1955-11-25",67,10,"F","B","2023-09-30"]
[null,null,null,null,null,"14358026-1","ERICKA DEL CARMEN CALDERÓN HERRERA","1979-08-04",44,1,"F","D","2023-09-30"]
[null,null,null,null,null,"7950274-K","RAFAEL ANTONIO COFRÉ RIQUELME","1961-02-23",62,7,"M","B","2023-09-30"]
[null,null,null,null,null,"9936783-0","PASCUALA FELICINDA JELDES CARVAJAL","1962-12-25",60,9,"F","C","2023-09-30"]
[null,null,null,null,null,"11730329-2","MIGUEL ANGEL AHUMADA MUÑOZ","1970-12-27",52,9,"M","C","2023-09-30"]
[null,null,null,null,null,"18384943-3","MARÍA JOSÉ URBINA LAZCANO","1993-01-09",30,8,"F","C","2023-09-30"]
[null,null,null,null,null,"24573575-8","EMILIO FRANCISCO MARABOLÍ CORTÉS","2014-03-18",9,6,"M","C","2023-09-30"]
[null,null,null,null,null,"19095314-9","KONNY ANDREA CORDERO RIVERA","1995-08-17",28,1,"F","A","2023-09-30"]
[null,null,null,null,null,"10636536-9","OSVALDO HUMBERTO ARRIAZA MARTÍNEZ","1966-09-06",57,0,"M","D","2023-09-30"]
[null,null,null,null,null,"27338970-9","ADRIANNA MAGDALENA ESPINOLA IBACETA","2020-08-18",3,1,"F","D","2023-09-30"]
[null,null,null,null,null,"21614360-4","MARGARITA ANDREA REYES MOYA","2005-07-11",18,2,"F","A","2023-09-30"]
[null,null,null,null,null,"20133777-1","CATALINA ANDREA ROZAS LÓPEZ","1999-10-18",23,11,"F","C","2023-09-30"]
[null,null,null,null,null,"13330967-5","LUIS LEONARDO VILLALOBOS MOYANO","1978-02-04",45,7,"M","B","2023-09-30"]
[null,null,null,null,null,"17818669-8","JORGE EDUARDO BARRERA SEGOVIA","1991-05-03",32,4,"M","D","2023-09-30"]
[null,null,null,null,null,"18972805-0","EDUARDO ALFREDO GUTIÉRREZ ALFARO","1994-10-29",28,11,"M","B","2023-09-30"]
[null,null,null,null,null,"18385215-9","JOSÉ MANUEL GALDÁMEZ LEIVA","1993-03-14",30,6,"M","D","2023-09-30"]
[null,null,null,null,null,"18258159-3","ROBERTO ALEJANDRO GONZÁLEZ MOLINA","1992-06-17",31,3,"M","B","2023-09-30"]
[null,null,null,null,null,"9834507-8","RAÚL EDUARDO VEGA BARRAZA","1964-12-05",58,9,"M","D","2023-09-30"]
[null,null,null,null,null,"8522072-1","CRISTINA DE LAS MERCEDES VARGAS LÓPEZ","1960-09-06",63,0,"F","C","2023-09-30"]
[null,null,null,null,null,"26297221-6","EILEN AMARIS MONTECINOS GAETE","2018-05-29",5,4,"F","B","2023-09-30"]
[null,null,null,null,null,"13539824-1","MANUEL ALEJANDRO LACROIX AYALA","1976-12-30",46,9,"M","D","2023-09-30"]
[null,null,null,null,null,"16852324-6","CLAUDIO MANUEL ENRIQUE BAEZA BARRERA","1988-08-04",35,1,"M","D","2023-09-30"]
[null,null,null,null,null,"9684866-8","MARÍA CECILIA ALFARO VILLARROEL","1968-11-20",54,10,"F","B","2023-09-30"]
[null,null,null,null,null,"27983796-7","LUZ ISSIDORA ARANCIBIA PARRA","2022-11-16",0,10,"F","A","2023-09-30"]
[null,null,null,null,null,"24029137-1","YAMILETH VEGA CLAVIJO","1975-07-02",48,2,"F","X","2023-09-30"]
[null,null,null,null,null,"24757288-0","AGUSTÍN MATEO IBACETA TORO","2014-09-29",9,0,"M","A","2023-09-30"]
[null,null,null,null,null,"23360041-5","JOAQUÍN PATRICIO OSORIO GÓMEZ","2010-06-24",13,3,"M","A","2023-09-30"]
[null,null,null,null,null,"10082610-0","JORGE ELÍAS HURTADO RAMOS","1966-10-29",56,11,"M","C","2023-09-30"]
[null,null,null,null,null,"17487012-8","PAULA GABRIELA LUZA ACOSTA","1990-07-20",33,2,"F","D","2023-09-30"]
[null,null,null,null,null,"7680354-4","NANCY DEL TRÁNSITO ASTARGO BARRA","1956-07-05",67,2,"F","B","2023-09-30"]
[null,null,null,null,null,"22183972-2","FELIPE BENJAMÍN BARRERA CÁCERES","2006-08-08",17,1,"M","D","2023-09-30"]
[null,null,null,null,null,"17163609-4","FRANCHESCA NATALY GALLARDO RODRÍGUEZ","1988-11-26",34,10,"F","B","2023-09-30"]
[null,null,null,null,null,"24288401-9","RENATA IGNACIA CABALLERO MEDINA","2013-05-28",10,4,"F","D","2023-09-30"]
[null,null,null,null,null,"24997871-K","ISMAEL IGNACIO SEPULVEDA SEPULVEDA","2015-05-25",8,4,"M","A","2023-09-30"]
[null,null,null,null,null,"8494638-9","LUCRECIA DEL ROSARIO MOYANO ESPÍNDOLA","1949-12-23",73,9,"F","B","2023-09-30"]
[null,null,null,null,null,"25683417-0","EMILIA ALEXANDRA NEICO GÓMEZ","2017-02-24",6,7,"F","D","2023-09-30"]
[null,null,null,null,null,"25329915-0","JOSEFA VICTORIA GUIÑEZ BUSTOS","2016-03-24",7,6,"F","B","2023-09-30"]
[null,null,null,null,null,"15818726-4","ALICIA DEL ROSARIO LÓPEZ FIGUEROA","1984-07-30",39,2,"F","X","2023-09-30"]
[null,null,null,null,null,"20620882-1","JACOB ELIFAZ BERNACHEA BERNACHEA","2000-09-06",23,0,"M","D","2023-09-30"]
[null,null,null,null,null,"23299021-K","DAMARY PASCAL DELGADO LÓPEZ","2010-04-16",13,5,"F","A","2023-09-30"]
[null,null,null,null,null,"12578906-4","DANIELA ORFELINA SANTOS GÓMEZ","1974-06-23",49,3,"F","C","2023-09-30"]
[null,null,null,null,null,"10716043-4","NATALIA LORENA FIGUEROA ASTORGA","1975-10-06",47,11,"F","D","2023-09-30"]
[null,null,null,null,null,"7666552-4","SONIA DE LAS NIEVES BUSTOS HERRERA","1954-10-14",68,11,"F","B","2023-09-30"]
[null,null,null,null,null,"8737089-5","RICARDO ANTONIO GAJARDO NÚÑEZ","1968-03-13",55,6,"M","C","2023-09-30"]
[null,null,null,null,null,"11517372-3","GUILLERMO ANDRÉS GUTIÉRREZ IBACACHE","1969-12-22",53,9,"M","D","2023-09-30"]
[null,null,null,null,null,"18680782-0","VALENTINA MARISOL PONCE GONZALES","1994-08-29",29,1,"F","B","2023-09-30"]
[null,null,null,null,null,"6732915-5","LUIS EDUARDO CORTÉS GONZÁLEZ","1950-07-29",73,2,"M","C","2023-09-30"]
[null,null,null,null,null,"22869640-4","DEBORA FABIOLA MORENO MORENO","1984-11-26",38,10,"F","X","2023-09-30"]
[null,null,null,null,null,"25673119-3","MATILDA AGUSTINA IBACETA MANCILLA","2017-02-14",6,7,"F","D","2023-09-30"]
[null,null,null,null,null,"15555347-2","LORNA RAQUEL VILLARROEL AHUMADA","1983-09-01",40,0,"F","A","2023-09-30"]
[null,null,null,null,null,"19911828-5","ERICK FABIÁN VIERA DOMÍNGUEZ","1998-12-23",24,9,"M","B","2023-09-30"]
[null,null,null,null,null,"7388293-1","RAMÓN TOMÁS GUERRERO MUÑOZ","1954-12-23",68,9,"M","C","2023-09-30"]
[null,null,null,null,null,"19581148-2","RODOLFO NICOLÁS ARANCIBIA PALACIOS","1996-10-27",26,11,"M","D","2023-09-30"]
[null,null,null,null,null,"22454706-4","MORENABELEN MONTENEGRO RODRIGUEZ","2006-01-15",17,8,"F","A","2023-09-30"]
[null,null,null,null,null,"12718656-1","MARÍA CAROLINA VERGARA VALLE","1972-03-23",51,6,"F","B","2023-09-30"]
[null,null,null,null,null,"25438852-1","DARIEL ALEXANDER MARTÍNEZ SEPÚLVEDA","2016-07-11",7,2,"M","A","2023-09-30"]
[null,null,null,null,null,"8508160-8","MANUEL ORLANDO GODOY ALVEAR","1958-10-30",64,11,"M","C","2023-09-30"]
[null,null,null,null,null,"10677190-1","BENITO JESÚS LÓPEZ BUSTOS","1968-11-01",54,10,"M","A","2023-09-30"]
[null,null,null,null,null,"5822110-4","FLORIDOR DE LA CRUZ CARVACHO BUSTOS","1951-09-14",72,0,"M","B","2023-09-30"]
[null,null,null,null,null,"17971493-0","MARISEL FERNANDA GONZÁLEZ MIRANDA","1991-08-28",32,1,"F","A","2023-09-30"]
[null,null,null,null,null,"24759192-3","RENATO IGNACIO BAÑADOS SÁNCHEZ","2014-10-04",8,11,"M","A","2023-09-30"]
[null,null,null,null,null,"8187051-9","RAFAEL GREGORIO CHACÓN ÁLVAREZ","1961-06-25",62,3,"M","B","2023-09-30"]
[null,null,null,null,null,"21321502-7","ANAHY BELÉN CONTRERAS MOYANO","2003-06-12",20,3,"F","D","2023-09-30"]
[null,null,null,null,null,"24699571-0","VICTORIA FERNANDA FURNIEL DE LIMA MONTE","2014-07-30",9,2,"F","C","2023-09-30"]
[null,null,null,null,null,"14496558-2","MOISÉS ERNESTO MANDIOLA REYES","1976-07-01",47,2,"M","D","2023-09-30"]
[null,null,null,null,null,"20133150-1","CÉSAR ANTONIO MANRÍQUEZ PULGAR","1999-05-05",24,4,"M","B","2023-09-30"]
[null,null,null,null,null,"7073256-4","INELDA DEL ROSARIO LEDEZMA CISTERNAS","1955-07-16",68,2,"F","B","2023-09-30"]
[null,null,null,null,null,"4656537-1","MARÍA ANGÉLICA DONOSO BERRÍOS","1943-09-18",80,0,"F","B","2023-09-30"]
[null,null,null,null,null,"8011177-0","CARLOS ANTONIO VERA CASTILLO","1960-11-16",62,10,"M","D","2023-09-30"]
[null,null,null,null,null,"7518246-5","CLAUDIO ABRAHAM CARRASCO ACEVEDO","1957-03-04",66,6,"M","C","2023-09-30"]
[null,null,null,null,null,"15818409-5","ERIK MARCELO OSORIO ARREDONDO","1984-01-31",39,7,"M","B","2023-09-30"]
[null,null,null,null,null,"21985987-2","MIGUEL VICENTE URBINA JARA","2005-11-22",17,10,"M","B","2023-09-30"]
[null,null,null,null,null,"6780284-5","GUILLERMO CONSTANCIO RODRÍGUEZ VALLE","1955-09-23",68,0,"M","C","2023-09-30"]
[null,null,null,null,null,"21090336-4","ANAÍS ANDREA VALDIVIA RÍOS","2002-08-14",21,1,"F","B","2023-09-30"]
[null,null,null,null,null,"22734586-1","SAYD ALEJANDRO CAMPUSANO OLIVARES","2008-06-02",15,3,"M","B","2023-09-30"]
[null,null,null,null,null,"11730381-0","MAURICIO DEL TRÁNSITO MARTÍNEZ SALINAS","1971-01-25",52,8,"M","A","2023-09-30"]
[null,null,null,null,null,"24958755-9","ELISA ANDREA JOFRE HENRIQUEZ","2015-04-14",8,5,"F","C","2023-09-30"]
[null,null,null,null,null,"21321340-7","AMBAR BELEN GALLARDO MARAMBIO","2003-06-12",20,3,"F","B","2023-09-30"]
[null,null,null,null,null,"26413207-K","PABLO ESTEBAN BRIONES OLIVARES","2018-08-07",5,1,"M","A","2023-09-30"]
[null,null,null,null,null,"18548637-0","PAOLA ANDREA MIRANDA MUÑOZ","1993-10-30",29,11,"F","C","2023-09-30"]
[null,null,null,null,null,"17952078-8","BELÉN MANUELA QUINTANILLA AUMEN","1991-05-19",32,4,"F","B","2023-09-30"]
[null,null,null,null,null,"7497316-7","ESTHER DE FÁTIMA LÓPEZ CERDA","1956-07-31",67,1,"F","B","2023-09-30"]
[null,null,null,null,null,"21224225-K","FRANCY STHEFFANY AVILA FIGUEROA","2003-01-24",20,8,"F","C","2023-09-30"]
[null,null,null,null,null,"11385901-6","ANGÉLICA DE LAS MERC VILCHES VICENCIO","1969-03-28",54,6,"F","C","2023-09-30"]
[null,null,null,null,null,"16305811-1","CAROLINA ANDREA GUERRERO ARAVENA","1986-02-11",37,7,"F","D","2023-09-30"]
[null,null,null,null,null,"6993061-1","MANUEL JESÚS JARA LEIVA","1954-07-19",69,2,"M","B","2023-09-30"]
[null,null,null,null,null,"19581519-4","YARITZA ANDREA SOTO GORMAZ","1997-01-27",26,8,"F","A","2023-09-30"]
[null,null,null,null,null,"22181448-7","LUIS JAVIER GUERRA CÁRDENAS","2006-08-10",17,1,"M","A","2023-09-30"]
[null,null,null,null,null,"27583377-0","YARU ANDRES ALZURU ASCANIO","2021-07-25",2,2,"M","X","2023-09-30"]
[null,null,null,null,null,"41492645-2","MOISES ABRAHAM RAMIREZ CONTRERAS","1993-07-29",30,2,"M","A","2023-09-30"]
[null,null,null,null,null,"8203585-0","ISABEL MARTA TAMAYA BAEZA","1960-08-30",63,1,"F","B","2023-09-30"]
[null,null,null,null,null,"27800994-7","AMARO ANTONIO CASANOVA FERNANDEZ","2022-05-23",1,4,"M","B","2023-09-30"]
[null,null,null,null,null,"12355192-3","ALEJANDRA ANDREA ARENAS ZAPATA","1973-01-01",50,8,"F","A","2023-09-30"]
[null,null,null,null,null,"12579014-3","FLORA DEL TRÁNSITO GALLARDO URTUBIA","1974-08-07",49,1,"F","B","2023-09-30"]
[null,null,null,null,null,"6160810-9","RAÚL ERNESTO REYES LEIVA","1950-12-17",72,9,"M","D","2023-09-30"]
[null,null,null,null,null,"11518021-5","ROBERTO HERNÁN MONTENEGRO VILLARREAL","1970-06-07",53,3,"M","B","2023-09-30"]
[null,null,null,null,null,"10705776-5","RICHARD ALBERTO JARA REBOLLEDO","1968-01-27",55,8,"M","B","2023-09-30"]
[null,null,null,null,null,"8683443-K","SILVIA ORIANA MARTÍNEZ VARGAS","1961-07-21",62,2,"F","B","2023-09-30"]
[null,null,null,null,null,"19214689-5","DANCO ANDRÉS FIGUEROA PIZARRO","2001-03-20",22,6,"M","A","2023-09-30"]
[null,null,null,null,null,"27384552-6","MAGDALENA DEL PILAR MUÑOZ GÓMEZ","2020-10-27",2,11,"F","B","2023-09-30"]
[null,null,null,null,null,"15060999-2","ALFREDO PATRICIO CÓRDOVA RAMÍREZ","1982-03-30",41,6,"M","D","2023-09-30"]
[null,null,null,null,null,"20133088-2","CAMILA ANDREA PONCE VICENCIO","1999-04-13",24,5,"F","B","2023-09-30"]
[null,null,null,null,null,"13827949-9","IRMA ANDREA CALDERÓN CORTÉS","1980-11-15",42,10,"F","A","2023-09-30"]
[null,null,null,null,null,"27012939-0","LIGIA ISABEL ALTUVE  ","1974-11-07",48,10,"F","B","2023-09-30"]
[null,null,null,null,null,"12076755-0","ROSA ELIANA VARGAS VEGA","1971-04-11",52,5,"F","C","2023-09-30"]
[null,null,null,null,null,"18973474-3","ESTEFANY ANDREA ROZAS ESPINOZA","1995-04-05",28,5,"F","D","2023-09-30"]
[null,null,null,null,null,"19887240-7","GUADALUPE DEBORA SALAS DÍAZ","1998-01-18",25,8,"F","D","2023-09-30"]
[null,null,null,null,null,"18973103-5","CONSUELO VALENTINA BECERRA PÉREZ","1995-01-05",28,8,"F","D","2023-09-30"]
[null,null,null,null,null,"7798330-9","PATRICIA DEL ROSARIO GIOVANI RÍOS","1956-10-07",66,11,"F","D","2023-09-30"]
[null,null,null,null,null,"8375608-K","MARCO ANTONIO PÁEZ ALEGRÍA","1957-09-07",66,0,"M","D","2023-09-30"]
[null,null,null,null,null,"13364427-K","ROCÍO ISABEL LEMUS HERNÁNDEZ","1978-10-26",44,11,"F","B","2023-09-30"]
[null,null,null,null,null,"15818819-8","JUAN ARMANDO TAPIA MANZANO","1984-08-21",39,1,"M","D","2023-09-30"]
[null,null,null,null,null,"26391612-3","DANNA ANELÍS MARABOLÍ CORTÉS","2018-07-27",5,2,"F","C","2023-09-30"]
[null,null,null,null,null,"23248882-4","MARÍA EUGENIA LIVACIC PULGAR","2010-02-10",13,7,"F","C","2023-09-30"]
[null,null,null,null,null,"27068241-3","ELIANA ANDREINA BRICEÑO RONDON","1989-05-10",34,4,"F","B","2023-09-30"]
[null,null,null,null,null,"24972549-8","RODRIGO MIGUEL GUZMÁN CONTRERAS","2015-04-29",8,5,"M","A","2023-09-30"]
[null,null,null,null,null,"22511543-5","CATALINA ALEJANDRA VARGAS LEIVA","2007-09-24",16,0,"F","A","2023-09-30"]
[null,null,null,null,null,"13752733-2","HERNÁN ANDRÉS MURA REYES","1980-03-21",43,6,"M","D","2023-09-30"]
[null,null,null,null,null,"20409077-7","VÍCTOR MANUEL VÁSQUEZ MEDINA","2000-11-23",22,10,"M","B","2023-09-30"]
[null,null,null,null,null,"6917322-5","MARÍA DE LA PAZ JIMÉNEZ LARENAS","1957-04-09",66,5,"F","B","2023-09-30"]
[null,null,null,null,null,"24665707-6","DANIEL MARCELO VALLEJOS REYES","2014-06-23",9,3,"M","X","2023-09-30"]
[null,null,null,null,null,"5496755-1","LIDIA ESTER ALLENDE FIGUEROA","1946-10-02",76,11,"F","B","2023-09-30"]
[null,null,null,null,null,"28138841-K","CARLOS ANTONIO VERGARA GUERRA","2023-05-05",0,4,"M","B","2023-09-30"]
[null,null,null,null,null,"24379253-3","FELIPE TOCAS TAUCA","1987-10-22",35,11,"M","A","2023-09-30"]
[null,null,null,null,null,"22546605-K","ANGEL SEBASTIÁN LIBERÓN MEDINA","2007-11-09",15,10,"M","B","2023-09-30"]
[null,null,null,null,null,"8556767-5","JUANITA ROSA GONZÁLEZ ","1955-10-08",67,11,"F","B","2023-09-30"]
[null,null,null,null,null,"18385664-2","JOSÉ PATRICIO RAMÍREZ RAMÍREZ","1993-06-01",30,3,"M","C","2023-09-30"]
[null,null,null,null,null,"17818910-7","OSCAR JESÚS FIGUEROA GUZMÁN","1991-03-12",32,6,"M","C","2023-09-30"]
[null,null,null,null,null,"26041836-K","MÁXIMO LEÓN LIZANA BASAES","2017-12-21",5,9,"M","D","2023-09-30"]
[null,null,null,null,null,"7247331-0","JAIME RAMÓN ARAVENA ADASME","1954-09-17",69,0,"M","B","2023-09-30"]
[null,null,null,null,null,"13185541-9","CRISTIAN BERNARDO PALACIOS PUEYES","1977-11-25",45,10,"M","C","2023-09-30"]
[null,null,null,null,null,"20132690-7","PAULINA ANDREA PÉREZ QUIROZ","1999-01-26",24,8,"F","C","2023-09-30"]
[null,null,null,null,null,"22894070-4","CONSTANZA BELÉN HERRERA MANRÍQUEZ","2008-12-12",14,9,"F","D","2023-09-30"]
[null,null,null,null,null,"24983893-4","THOMÁS MAXIMILIANO ARAYA VILLARREAL","2015-05-11",8,4,"M","A","2023-09-30"]
[null,null,null,null,null,"18259174-2","LILIANS GEORGINA SALINAS ARANDA","1992-12-26",30,9,"F","B","2023-09-30"]
[null,null,null,null,null,"12817310-2","SINDY ANDREA QUIROZ OLIVA","1975-03-10",48,6,"F","C","2023-09-30"]
[null,null,null,null,null,"9482786-8","SANTIAGO ARMANDO LÓPEZ BUSTOS","1962-09-07",61,0,"M","D","2023-09-30"]
[null,null,null,null,null,"10859898-0","GERSON NER MONTENEGRO CORTÉS","1966-10-23",56,11,"M","C","2023-09-30"]
[null,null,null,null,null,"15818240-8","FEDERICO HUMBERTO RUIZ ARAYA","1984-02-18",39,7,"M","B","2023-09-30"]
[null,null,null,null,null,"23805344-7","MASSIMILIANO OMAR VARGAS RODRIGUEZ","2011-11-25",11,10,"M","A","2023-09-30"]
[null,null,null,null,null,"8926182-1","CLAUDIO ADÁN AVALLAI ESPINOZA","1964-02-06",59,7,"M","B","2023-09-30"]
[null,null,null,null,null,"24719556-4","ANGEL DAVID RIVERA ARANDA","2010-09-02",13,0,"M","C","2023-09-30"]
[null,null,null,null,null,"9654247-K","LEONOR DE LAS MERCED VILLARROEL FIGUEROA","1966-04-05",57,5,"F","B","2023-09-30"]
[null,null,null,null,null,"5054585-7","REGINALDO JUAN ALFARO GUZMÁN","1943-11-16",79,10,"M","D","2023-09-30"]
[null,null,null,null,null,"22793288-0","TOMÁS ELOY MARCO CORDERO","2008-08-09",15,1,"M","C","2023-09-30"]
[null,null,null,null,null,"10642847-6","LEONOR DE LAS MERCEDES PEREIRA BARRAZA","1968-10-30",54,11,"F","B","2023-09-30"]
[null,null,null,null,null,"12037852-K","MARITZA CLAUDIA MELO MASSENLLI","1971-09-30",52,0,"F","A","2023-09-30"]
[null,null,null,null,null,"19582365-0","DIEGO ARMANDO RIVEROS LECAROS","1997-08-20",26,1,"M","B","2023-09-30"]
[null,null,null,null,null,"18385381-3","CAROLINA ANDREA ROMERO JIMÉNEZ","1993-04-29",30,5,"F","A","2023-09-30"]
[null,null,null,null,null,"13188593-8","JENNIFER CATHERINE CASTRO CUEVAS","1977-10-11",45,11,"F","B","2023-09-30"]
[null,null,null,null,null,"22109765-3","CRICHNA BELÉN VALDIVIA URBINA","2006-05-05",17,4,"F","A","2023-09-30"]
[null,null,null,null,null,"19888152-K","LIDIA MACARENA GONZÁLEZ GÓMEZ","1998-08-23",25,1,"F","D","2023-09-30"]
[null,null,null,null,null,"12950131-6","MARIO HERNÁN VILLARROEL HIDALGO","1976-06-02",47,3,"M","C","2023-09-30"]
[null,null,null,null,null,"8382475-1","FERMÍN DEL CARMEN AHUMADA ORTEGA","1961-03-13",62,6,"M","D","2023-09-30"]
[null,null,null,null,null,"12675254-7","CARLOS ESTEBAN BOZA MONTERREY","1974-03-19",49,6,"M","B","2023-09-30"]
[null,null,null,null,null,"15049954-2","JUDITH ANDREA CARVAJAL BUGUEÑO","1993-09-06",30,0,"F","B","2023-09-30"]
[null,null,null,null,null,"16485835-9","MACARENA DEL CARMEN ORREGO TARIFEÑO","1986-08-15",37,1,"F","A","2023-09-30"]
[null,null,null,null,null,"19026846-2","JUSTINE LEE DÍAZ GUTIÉRREZ","1995-07-10",28,2,"F","D","2023-09-30"]
[null,null,null,null,null,"21439988-1","DIEGO ALFREDO SOL CARRILLO","2003-11-13",19,10,"M","B","2023-09-30"]
[null,null,null,null,null,"28187029-7","KATRINNA AINARA LUNA MESIAS","2023-07-08",0,2,"F","B","2023-09-30"]
[null,null,null,null,null,"7246928-3","LUIS ALBERTO LILLO ROCO","1953-08-30",70,1,"M","B","2023-09-30"]
[null,null,null,null,null,"24096287-K","BIANCA CATALINA RAMÍREZ NÚÑEZ","2012-10-23",10,11,"F","D","2023-09-30"]
[null,null,null,null,null,"21347439-1","DENISSE FERNANDA ALLENDE VILLEGAS","2003-07-17",20,2,"F","B","2023-09-30"]
[null,null,null,null,null,"9174985-8","CARMEN DE LAS MERCED URBINA JOFRÉ","1960-05-25",63,4,"F","A","2023-09-30"]
[null,null,null,null,null,"24902918-1","SEBASTIAN FRANCISCO LOPEZ JARA","2015-02-12",8,7,"M","A","2023-09-30"]
[null,null,null,null,null,"5294670-0","OBDULIO BENEDICTO HENRÍQUEZ ARAYA","1945-07-22",78,2,"M","C","2023-09-30"]
[null,null,null,null,null,"4236784-2","MARÍA CRISTINA LOYOLA ESCÁRATE","1937-01-22",86,8,"F","B","2023-09-30"]
[null,null,null,null,null,"13364419-9","ALEXIS FELIPE ROSENDE HERRERA","1978-10-23",44,11,"M","C","2023-09-30"]
[null,null,null,null,null,"16026579-5","JORGE ANDRÉS ABARCA GAMBOA","1984-11-18",38,10,"M","D","2023-09-30"]
[null,null,null,null,null,"17478981-9","CARLA ANDREA CISTERNAS HERRERA","1990-02-06",33,7,"F","D","2023-09-30"]
[null,null,null,null,null,"27466397-9","SIMON ANDREE RIVERA LETELIER","2021-02-08",2,7,"M","C","2023-09-30"]
[null,null,null,null,null,"27385507-6","ISABELLA VICTORIA LECAROS BRAVO","2020-10-30",2,11,"F","X","2023-09-30"]
[null,null,null,null,null,"8085976-7","GLORIA DEL CARMEN FIGUEROA LÓPEZ","1959-06-23",64,3,"F","B","2023-09-30"]
[null,null,null,null,null,"24056191-3","MAXIMILIANO ELÍAS GONZÁLEZ ESCOBAR","2012-08-30",11,1,"M","D","2023-09-30"]
[null,null,null,null,null,"15555169-0","CRISTIAN ALBERTO GUERRERO GÓMEZ","1983-03-31",40,5,"M","C","2023-09-30"]
[null,null,null,null,null,"8496235-K","BERNARDA DE LOURDES TAPIA ESPINOZA","1959-04-17",64,5,"F","A","2023-09-30"]
[null,null,null,null,null,"16305942-8","ELIZABETH PATRICIA MURA LAZCANO","1986-03-06",37,6,"F","D","2023-09-30"]
[null,null,null,null,null,"14126475-3","MARÍA JOSÉ CRISÓSTOMO CELEDÓN","1981-03-10",42,6,"F","C","2023-09-30"]
[null,null,null,null,null,"13184932-K","LUIS HUMBERTO PEÑA AGUIRRE","1977-06-27",46,3,"M","C","2023-09-30"]
[null,null,null,null,null,"11944994-4","SOLANGE CAROLINA DONOSO MURA","1972-04-10",51,5,"F","X","2023-09-30"]
[null,null,null,null,null,"9374901-4","MILENA SOLANGE DÍAZ CARVAJAL","1966-11-21",56,10,"F","B","2023-09-30"]
[null,null,null,null,null,"13363861-K","EUGENIO ENRIQUE GALLARDO VIDELA","1978-03-30",45,6,"M","B","2023-09-30"]
[null,null,null,null,null,"14002355-8","MIGUEL RICARDO OJEDA LABOURDETTE","1981-10-07",41,11,"M","D","2023-09-30"]
[null,null,null,null,null,"24792560-0","ETHAN ISAIAS VALLEJOS TAPIA","2014-10-18",8,11,"M","A","2023-09-30"]
[null,null,null,null,null,"11517363-4","ALFREDO EDUARDO MUÑOZ CARRIZO","1970-01-17",53,8,"M","D","2023-09-30"]
[null,null,null,null,null,"21400961-7","ANAIRIS CONSUELO PIRIHUAMAN GUERRA","2003-09-26",20,0,"F","X","2023-09-30"]
[null,null,null,null,null,"28077045-0","MAITE AYLEN CARVAJAL MENDEZ","2023-02-21",0,7,"F","A","2023-09-30"]
[null,null,null,null,null,"15060431-1","LUIS FELIPE MURA RÍOS","1981-12-18",41,9,"M","B","2023-09-30"]
[null,null,null,null,null,"24357370-K","MARTÍN EMILIO QUIROGA GORMAZ","2013-08-10",10,1,"M","B","2023-09-30"]
[null,null,null,null,null,"5639881-3","LUZMIRA DE LAS MERCE ABARCA OLIVARES","1949-04-11",74,5,"F","B","2023-09-30"]
[null,null,null,null,null,"22242650-2","SERGIO TOMÁS ROZAS MIRANDA","2006-10-19",16,11,"M","B","2023-09-30"]
[null,null,null,null,null,"19214791-3","BRIAN ALEJANDRO TAPIA CHAPARRO","2001-04-20",22,5,"M","B","2023-09-30"]
[null,null,null,null,null,"10532391-3","MARCELA ANTONIETA ROJAS MORALES","1969-04-04",54,5,"F","B","2023-09-30"]
[null,null,null,null,null,"17818942-5","NICOLÁS MOISÉS PEREIRA JARA","1991-07-25",32,2,"M","B","2023-09-30"]
[null,null,null,null,null,"9411482-9","LORENA MARTA JEREZ CASTRO","1963-01-13",60,8,"F","B","2023-09-30"]
[null,null,null,null,null,"14445072-8","SENOBIA DEL CARMEN ABARCA RAMÍREZ","1974-05-07",49,4,"F","C","2023-09-30"]
[null,null,null,null,null,"10634247-4","LUIS ALBERTO ARENAS ORELLANA","1966-08-30",57,1,"M","D","2023-09-30"]
[null,null,null,null,null,"13728477-4","ALEJANDRO DE JESÚS SANHUEZA SEPULVEDA","1979-02-06",44,7,"M","D","2023-09-30"]
[null,null,null,null,null,"13752797-9","ARNALDO TADEO PÉREZ OROZCO","1980-08-30",43,1,"M","B","2023-09-30"]
[null,null,null,null,null,"13539804-7","JOSELYN ELBA RIPOLL RECABARREN","1979-11-03",43,10,"F","C","2023-09-30"]
[null,null,null,null,null,"23774504-3","HANS LEANDRO COLARTE PEÑA","2011-10-18",11,11,"M","A","2023-09-30"]
[null,null,null,null,null,"24723610-4","JASMÍN ISABEL VILLEGAS MOYA","2014-08-27",9,1,"F","C","2023-09-30"]
[null,null,null,null,null,"10703696-2","JACQUELIN YANIDA VIDAL VERGARA","1967-11-04",55,10,"F","C","2023-09-30"]
[null,null,null,null,null,"25277131-K","VALENTINA PAZ PEREZ CELEDON","2016-02-08",7,7,"F","B","2023-09-30"]
[null,null,null,null,null,"17164201-9","NATALIA BEATRIZ SÁNCHEZ ATENCIO","1989-03-30",34,6,"F","B","2023-09-30"]
[null,null,null,null,null,"23630250-4","THOMAS ALONSO BUSTOS LUCERO","2011-04-27",12,5,"M","D","2023-09-30"]
[null,null,null,null,null,"16550709-6","FRANCISCO GERARDO ARANCIBIA ROJAS","1987-05-02",36,4,"M","D","2023-09-30"]
[null,null,null,null,null,"27638243-8","PASCAL ISABELLA JARA PONCE","2021-10-12",1,11,"F","D","2023-09-30"]
[null,null,null,null,null,"17164826-2","GILBERTO DANIEL FREDES HERRERA","1989-08-17",34,1,"M","D","2023-09-30"]
[null,null,null,null,null,"24267717-K","JAVIER NAIM TAPIA ARRIAZA","2013-05-03",10,4,"M","A","2023-09-30"]
[null,null,null,null,null,"12350862-9","MIGUEL ANTONIO SANTIBÁÑEZ SALINAS","1973-10-06",49,11,"M","D","2023-09-30"]
[null,null,null,null,null,"5035779-1","MARÍA GUILLERMINA PINDAVE QUEVEDO","1944-07-09",79,2,"F","D","2023-09-30"]
[null,null,null,null,null,"9410352-5","PASCUAL ALBERTO PRADO SÁNCHEZ","1964-05-22",59,4,"M","D","2023-09-30"]
[null,null,null,null,null,"10233520-1","ROSA DEL TRÁNSITO GARRIDO BRIONES","1965-05-31",58,3,"F","X","2023-09-30"]
[null,null,null,null,null,"12950785-3","MANUEL ENRIQUE IBARRA CATALÁN","1976-11-30",46,10,"M","B","2023-09-30"]
[null,null,null,null,null,"16549913-1","KATHERINE ELIZABETH PUEYES ESCOBAR","1986-10-18",36,11,"F","B","2023-09-30"]
[null,null,null,null,null,"26914897-7","MARILEN CONSTANZA ORTIZ VILCHES","2019-07-10",4,2,"F","X","2023-09-30"]
[null,null,null,null,null,"12757577-0","FRANCISCO JAVIER TECA ANDRADE","1975-12-02",47,9,"M","D","2023-09-30"]
[null,null,null,null,null,"18680654-9","JAVIER IGNACIO FERNÁNDEZ VARGAS","1994-06-12",29,3,"M","C","2023-09-30"]
[null,null,null,null,null,"12718551-4","TOMÁS MARCELO GUERRA URBINA","1975-01-14",48,8,"M","D","2023-09-30"]
[null,null,null,null,null,"27268890-7","SASHA VANESSA ROSAS ","1973-10-27",49,11,"F","B","2023-09-30"]
[null,null,null,null,null,"13982700-7","ANDREA GABRIELA CASTILLO FERRER","1981-08-04",42,1,"F","D","2023-09-30"]
[null,null,null,null,null,"13754350-8","CAROLINA ANDREA CONTRERAS GONZÁLEZ","1980-06-18",43,3,"F","A","2023-09-30"]
[null,null,null,null,null,"13926260-3","DANIELA PÍA BRAVO CORTÉS","1979-06-16",44,3,"F","C","2023-09-30"]
[null,null,null,null,null,"21065183-7","ELLEN PILAR DIAZ MONDACA","2003-05-22",20,4,"F","B","2023-09-30"]
[null,null,null,null,null,"21522367-1","JOAQUIN PATRICIO GUTIERREZ ARAYA","2004-03-05",19,6,"M","C","2023-09-30"]
[null,null,null,null,null,"11730529-5","MARÍA MAGDALENA VIDELA FERNÁNDEZ","1971-04-08",52,5,"F","B","2023-09-30"]
[null,null,null,null,null,"23372604-4","BALTAZAR AGUSTÍN DÍAZ ÁVILA","2010-07-16",13,2,"M","B","2023-09-30"]
[null,null,null,null,null,"23159725-5","CARLOS HERNÁN TRONCOSO ANDÍAS","2009-10-30",13,11,"M","B","2023-09-30"]
[null,null,null,null,null,"16703919-7","KAREN PAULINA BRAVO LINARES","1987-07-08",36,2,"F","C","2023-09-30"]
[null,null,null,null,null,"25357472-0","EYLEN IGNACIA CUEVAS RODRÍGUEZ","2016-04-19",7,5,"F","B","2023-09-30"]
[null,null,null,null,null,"8722418-K","LUIS FERNANDO SÁNCHEZ JARA","1963-01-23",60,8,"M","B","2023-09-30"]
[null,null,null,null,null,"24620509-4","FRANCISCA MILLARAY GUAJARDO IRARRÁZABAL","2014-05-10",9,4,"F","A","2023-09-30"]
[null,null,null,null,null,"25050745-3","DIEGO ALONSO ACEVEDO FARFÁN","2015-07-22",8,2,"M","A","2023-09-30"]
[null,null,null,null,null,"19887482-5","DANIELA PATRICIA CHACÓN URRIOLA","1998-03-11",25,6,"F","D","2023-09-30"]
[null,null,null,null,null,"16533407-8","JOSÉ DOMINGO SEGURA ANCAMIL","1987-03-18",36,6,"M","B","2023-09-30"]
[null,null,null,null,null,"16233187-6","GABRIEL GONZALO MARTÍNEZ CAICEO","1986-02-25",37,7,"M","D","2023-09-30"]
[null,null,null,null,null,"4897849-5","CARLOS GALVARINO PÉREZ SUÁREZ","1943-10-29",79,11,"M","B","2023-09-30"]
[null,null,null,null,null,"4400359-7","MERCEDES DEL TRÁNSIT MATAMORO OSORIO","1937-11-10",85,10,"F","B","2023-09-30"]
[null,null,null,null,null,"23295195-8","MARTINA IGNACIA BUSTOS RIVES","2010-04-10",13,5,"F","A","2023-09-30"]
[null,null,null,null,null,"10182539-6","RAÚL EUGENIO DÍAZ DÍAZ","1976-05-13",47,4,"M","B","2023-09-30"]
[null,null,null,null,null,"25359598-1","MATEO RENATO CASTRO DONOSO","2016-04-21",7,5,"M","A","2023-09-30"]
[null,null,null,null,null,"9820149-1","JUAN ANTONIO MADRID PEÑA","1963-05-03",60,4,"M","D","2023-09-30"]
[null,null,null,null,null,"18679415-K","HERNÁN SEBASTIÁN TORO MARTÍNEZ","1993-06-21",30,3,"M","D","2023-09-30"]
[null,null,null,null,null,"18680548-8","NICOLÁS PATRICIO OLIVARES BRITO","1994-06-21",29,3,"M","D","2023-09-30"]
[null,null,null,null,null,"24146359-1","FLORENCIA IGNACIA TORO VILLARROEL","2012-12-19",10,9,"F","A","2023-09-30"]
[null,null,null,null,null,"10068173-0","EMILIA ELENA SOTO VARGAS","1965-09-10",58,0,"F","B","2023-09-30"]
[null,null,null,null,null,"13364568-3","YESSENIA DEL ROSARIO MUÑOZ MONTENEGRO","1978-12-08",44,9,"F","A","2023-09-30"]
[null,null,null,null,null,"18663590-6","LEONARDO SEGUNDO MANUEL MOLINA TAPIA","1993-08-30",30,1,"M","D","2023-09-30"]
[null,null,null,null,null,"9370569-6","ALICIA DEL CARMEN GALLARDO URTUBIA","1961-04-10",62,5,"F","A","2023-09-30"]
[null,null,null,null,null,"18113020-2","VALERIA ALEJANDRA DONOSO HERRERA","1990-12-06",32,9,"F","A","2023-09-30"]
[null,null,null,null,null,"22180120-2","FLORENCIA MARTINA MUÑOZ GONZÁLEZ","2006-08-07",17,1,"F","B","2023-09-30"]
[null,null,null,null,null,"12950005-0","JOSÉ DAVID MORA MARTÍNEZ","1976-04-10",47,5,"M","A","2023-09-30"]
[null,null,null,null,null,"23181596-1","MATILDA ELIANA ARANDA GONZÁLEZ","2009-06-15",14,3,"F","B","2023-09-30"]
[null,null,null,null,null,"22008947-9","PASCAL ANTONELLA ESPEJO REYES","2005-12-26",17,9,"F","C","2023-09-30"]
[null,null,null,null,null,"22953380-0","GASTÓN ISAIAS CÉSPEDES FIGUEROA","2009-02-20",14,7,"M","D","2023-09-30"]
[null,null,null,null,null,"9702296-8","MARLENE DEL CARMEN LUCO GARRIDO","1963-08-24",60,1,"F","B","2023-09-30"]
[null,null,null,null,null,"5493893-4","LUGARDINA DE LA CRUZ CAMPOS CARVAJAL","1942-07-21",81,2,"F","B","2023-09-30"]
[null,null,null,null,null,"6933892-5","JOSÉ EUGENIO GARCÍA GARCÍA","1953-02-18",70,7,"M","B","2023-09-30"]
[null,null,null,null,null,"5092879-9","PATRICIA MÓNICA JESÚ TORDOYA MARTÍNEZ","1944-04-07",79,5,"F","B","2023-09-30"]
[null,null,null,null,null,"23466383-6","ANTONELLA IGNACIA ATERO CEA","2010-10-29",12,11,"F","B","2023-09-30"]
[null,null,null,null,null,"6957181-6","VÍCTOR GENARO CORTÉS GONZÁLEZ","1952-09-19",71,0,"M","B","2023-09-30"]
[null,null,null,null,null,"22892437-7","SOFÍA ANTONELLA OLIVARES FARÍAS","2008-12-11",14,9,"F","B","2023-09-30"]
[null,null,null,null,null,"22238330-7","MAITE DAMARY MURA GONZÁLEZ","2006-10-16",16,11,"F","B","2023-09-30"]
[null,null,null,null,null,"15061197-0","CRISTIAN ALEJANDRO SILVA SILVA","1982-08-03",41,1,"M","C","2023-09-30"]
[null,null,null,null,null,"19786633-0","RICARDO ALFONSO ZAPATA FERNÁNDEZ","1997-09-02",26,0,"M","B","2023-09-30"]
[null,null,null,null,null,"25480130-5","RENATA ISIDORA ESTAY VITALI","2016-08-17",7,1,"F","D","2023-09-30"]
[null,null,null,null,null,"5460642-7","OSCAR MARCIAL MORA MIRANDA","1948-09-09",75,0,"M","B","2023-09-30"]
[null,null,null,null,null,"15555677-3","MARGARITA CONSUELO LEAL APABLAZA","1983-11-28",39,10,"F","B","2023-09-30"]
[null,null,null,null,null,"27526538-1","SIMÓN ELÍAS AYALA MUÑOZ","2021-05-11",2,4,"M","D","2023-09-30"]
[null,null,null,null,null,"11313356-2","ERIC DANTE HERRERA GARCÍA","1968-05-20",55,4,"M","B","2023-09-30"]
[null,null,null,null,null,"24001311-8","CAMILA IGNACIA ABARCA SALAS","2012-07-03",11,2,"F","D","2023-09-30"]
[null,null,null,null,null,"24754406-2","RENATO LEÓN ARCOS PORRAS","2014-09-28",9,0,"M","C","2023-09-30"]
[null,null,null,null,null,"12817204-1","ADOLFO ALFREDO HERRERA CARRASCO","1975-01-14",48,8,"M","B","2023-09-30"]
[null,null,null,null,null,"13539720-2","INGRID JOCELIN SILVA ESPEJO","1978-11-21",44,10,"F","C","2023-09-30"]
[null,null,null,null,null,"20407778-9","MILENA VAHYTIARE MONTENEGRO DE FERARI","2000-01-02",23,8,"F","C","2023-09-30"]
[null,null,null,null,null,"23697996-2","JOAQUIN ANTONIO ESPEJO GONZÁLEZ","2011-07-19",12,2,"M","D","2023-09-30"]
[null,null,null,null,null,"8441753-K","CARLOS ALBERTO PALACIOS ORELLANA","1960-11-20",62,10,"M","X","2023-09-30"]
[null,null,null,null,null,"11944871-9","JOSÉ ANTONIO LAZCANO MANRÍQUEZ","1972-10-03",50,11,"M","B","2023-09-30"]
[null,null,null,null,null,"9302735-3","VIVIANA MAGDALENA RODRÍGUEZ CARRILLO","1965-07-22",58,2,"F","D","2023-09-30"]
[null,null,null,null,null,"19581493-7","GEMITA NAZARETT PRADO VIDELA","1996-12-11",26,9,"F","B","2023-09-30"]
[null,null,null,null,null,"6929923-7","BERTA OLGA SALINAS CASANOVA","1955-01-31",68,7,"F","B","2023-09-30"]
[null,null,null,null,null,"13429458-2","JOHANNA DE LAS MERCEDES CASTILLO CASTILLO","1978-02-20",45,7,"F","C","2023-09-30"]
[null,null,null,null,null,"17646350-3","ESTEFFANIT CAROLINA NAVARRO VILLAGRA","1987-07-08",36,2,"F","D","2023-09-30"]
[null,null,null,null,null,"33515773-7","MIGUEL WLADIMIR ROJAS BENITEZ","1977-04-12",46,5,"M","A","2023-09-30"]
[null,null,null,null,null,"18572083-7","EDUARDS ALESSANDER ZURITA CEPEDA","1993-08-17",30,1,"M","B","2023-09-30"]
[null,null,null,null,null,"49986763-8","DAYARVIS CAROLINA MONTERO VERA","1995-07-18",28,2,"F","X","2023-09-30"]
[null,null,null,null,null,"20133715-1","BASTIÁN IGNACIO LECAROS CORREA","1999-09-30",24,0,"M","C","2023-09-30"]
[null,null,null,null,null,"18679717-5","GISSELLE ALEJANDRA GORMAZ CALDERÓN","1993-11-24",29,10,"F","B","2023-09-30"]
[null,null,null,null,null,"9826347-0","NICOLÁS ANTONIO TAPIA URBINA","1965-06-30",58,3,"M","B","2023-09-30"]
[null,null,null,null,null,"16549925-5","MARÍA JOSÉ GÓMEZ AHUMADA","1986-10-22",36,11,"F","C","2023-09-30"]
[null,null,null,null,null,"16852407-2","DANIELA ANDREA GUERRA GUZMÁN","1988-09-05",35,0,"F","B","2023-09-30"]
[null,null,null,null,null,"23117962-3","JOSEPHA ANDREA LACROIX RIPOLL","2009-09-07",14,0,"F","D","2023-09-30"]
[null,null,null,null,null,"6072546-2","ROSA DELIA FIGUEROA ESPINOZA","1946-07-29",77,2,"F","B","2023-09-30"]
[null,null,null,null,null,"20407752-5","FRANCO LEANY RAMÍREZ LEIVA","1999-12-27",23,9,"M","B","2023-09-30"]
[null,null,null,null,null,"27434126-2","JACOB ISAAC VERA BAJAÑA","2007-05-14",16,4,"M","A","2023-09-30"]
[null,null,null,null,null,"15818745-0","BRISTELA STEPHANIA CALDERÓN MATURANA","1984-07-31",39,1,"F","D","2023-09-30"]
[null,null,null,null,null,"12807698-0","FABIOLA LOURDES JIMÉNEZ CANIBILO","1975-10-20",47,11,"F","B","2023-09-30"]
[null,null,null,null,null,"18113883-1","CONSUELO DENISS GORMAZ PÉREZ","1992-06-14",31,3,"F","D","2023-09-30"]
[null,null,null,null,null,"22510065-9","ANILEIN LOREANS FERNANDEZ FERNÁNDEZ","2007-09-21",16,0,"F","A","2023-09-30"]
[null,null,null,null,null,"23729778-4","EVOLETH AMARILYS SOTO ESPÍNOLA","2011-08-25",12,1,"F","A","2023-09-30"]
[null,null,null,null,null,"7189282-4","MARCO ANTONIO ARAYA CERDA","1957-06-09",66,3,"M","B","2023-09-30"]
[null,null,null,null,null,"11920215-9","MIRIAM DEL CARMEN ESPARZA ARANCIBIA","1966-01-10",57,8,"F","B","2023-09-30"]
[null,null,null,null,null,"11730698-4","GLORIA DEL TRÁNSITO ARANCIBIA VILLARROEL","1971-06-14",52,3,"F","D","2023-09-30"]
[null,null,null,null,null,"13902320-K","YENY ELIZABETH RUIZ GARRIDO","1980-08-02",43,1,"F","B","2023-09-30"]
[null,null,null,null,null,"10192315-0","NELSON DAVID HERRERA OTÁROLA","1974-05-11",49,4,"M","B","2023-09-30"]
[null,null,null,null,null,"12944776-1","JOSÉ ELÍAS HIDALGO MIRANDA","1975-10-04",47,11,"M","X","2023-09-30"]
[null,null,null,null,null,"7299934-7","MIRTA NIEVES ZAPATA VILLANUEVA","1947-09-20",76,0,"F","B","2023-09-30"]
[null,null,null,null,null,"13982631-0","CRISTIAN RODRIGO MONTENEGRO RODRÍGUEZ","1981-02-09",42,7,"M","D","2023-09-30"]
[null,null,null,null,null,"8735591-8","TAMARA VICTORIA DE LAS MERCEDES GONZÁLEZ ESPINOSA","1963-01-24",60,8,"F","A","2023-09-30"]
[null,null,null,null,null,"17163679-5","DAYANA CONSTANZA LOZANO MÉNDEZ","1988-11-22",34,10,"F","B","2023-09-30"]
[null,null,null,null,null,"8564774-1","HUGO JULIO LEIVA VALENZUELA","1962-03-31",61,5,"M","D","2023-09-30"]
[null,null,null,null,null,"21147193-K","BRIAN ANDRES GARCÍA CÁCERES","2002-10-14",20,11,"M","B","2023-09-30"]
[null,null,null,null,null,"16715415-8","SUSANA CRISTINA CONTRERAS AGUIRRE","1987-09-06",36,0,"F","X","2023-09-30"]
[null,null,null,null,null,"20057276-9","MAITTE JAVIERA LECAROS SÁNCHEZ","1998-11-28",24,10,"F","X","2023-09-30"]
[null,null,null,null,null,"4455931-5","EUGENIO ERNESTO ARAYA ADASME","1939-10-20",83,11,"M","B","2023-09-30"]
[null,null,null,null,null,"22399611-6","EMILIY FERNANDA MUÑOZ LAZCANO","2007-05-03",16,4,"F","B","2023-09-30"]
[null,null,null,null,null,"13752754-5","PABLA ERCILIA VILLARROEL BULMAN","1980-06-09",43,3,"F","C","2023-09-30"]
[null,null,null,null,null,"27439098-0","GENARINO PUENTE LACRUZ","1971-10-19",51,11,"M","B","2023-09-30"]
[null,null,null,null,null,"19582173-9","BRAYAN ALEJANDRO AHUMADA SILVA","1997-04-19",26,5,"M","B","2023-09-30"]
[null,null,null,null,null,"20812740-3","VALENTINA IGNACIA VALENZUELA ACEVEDO","2001-09-17",22,0,"F","B","2023-09-30"]
[null,null,null,null,null,"6268129-2","CUPERTINO DEL CARMEN SALINAS SALINAS","1949-05-15",74,4,"M","B","2023-09-30"]
[null,null,null,null,null,"19887377-2","RODRIGO CAMILO PONCE VIVEROS","1997-11-26",25,10,"M","D","2023-09-30"]
[null,null,null,null,null,"20133934-0","JUAN FELIPE GUERRERO ARANCIBIA","1999-11-23",23,10,"M","C","2023-09-30"]
[null,null,null,null,null,"20133324-5","RICARDO ARTURO ROBLES VERGARA","1999-06-21",24,3,"M","B","2023-09-30"]
[null,null,null,null,null,"14129747-3","GERARDO EDUARDO MARTÍNEZ ÁLVAREZ","1981-10-31",41,10,"M","D","2023-09-30"]
[null,null,null,null,null,"18972646-5","NICOLE ANDREA MOLINA ZAMORA","1994-09-28",29,0,"F","B","2023-09-30"]
[null,null,null,null,null,"16306751-K","DANIELA ALEJANDRA SALINAS ARÁNGUIZ","1986-10-11",36,11,"F","B","2023-09-30"]
[null,null,null,null,null,"7488304-4","ANGEL RAMÓN URBINA ZAMORA","1954-10-02",68,11,"M","B","2023-09-30"]
[null,null,null,null,null,"23154661-8","NAIMA BELÉN LEIVA VARGAS","2009-10-23",13,11,"F","D","2023-09-30"]
[null,null,null,null,null,"17469109-6","PAZ BERNARDA PEÑA QUIROZ","1990-04-10",33,5,"F","B","2023-09-30"]
[null,null,null,null,null,"27503521-1","AGUSTIN IGNACIO CONTRERAS ROJAS","2021-04-05",2,5,"M","A","2023-09-30"]
[null,null,null,null,null,"22330679-9","JOAQUÍN IVAN FERNÁNDEZ ASTUDILLO","2007-02-09",16,7,"M","C","2023-09-30"]
[null,null,null,null,null,"22332544-0","SCARLET ANDREA HERNÁNDEZ AYALA","2007-02-17",16,7,"F","A","2023-09-30"]
[null,null,null,null,null,"15554994-7","ELIZABETH PAMELA LILLO GAETE","1983-05-12",40,4,"F","D","2023-09-30"]
[null,null,null,null,null,"8604854-K","PEDRO ADRIÁN DELGADO HIDALGO","1963-07-18",60,2,"M","C","2023-09-30"]
[null,null,null,null,null,"23540875-9","GIULLIANNA ALEXANDRA HERRERA ULLOA","2011-01-21",12,8,"F","A","2023-09-30"]
[null,null,null,null,null,"16550042-3","ANGÉLICA MARÍA GUAJARDO BEIZA","1986-09-16",37,0,"F","D","2023-09-30"]
[null,null,null,null,null,"13981622-6","JULIO ALEXANDER ARAYA LAY","1981-01-05",42,8,"M","B","2023-09-30"]
[null,null,null,null,null,"17008556-6","SUSANA ISABEL CÓRDOVA HUENUFIL","1989-03-22",34,6,"F","A","2023-09-30"]
[null,null,null,null,null,"13982466-0","CARMEN ANDREA URBINA BAEZA","1981-10-29",41,11,"F","B","2023-09-30"]
[null,null,null,null,null,"9623674-3","PEDRO LUIS MELLA ÁVILA","1962-07-12",61,2,"M","B","2023-09-30"]
[null,null,null,null,null,"24891641-9","FACUNDO CORTEZ DROGUETT","2015-02-04",8,7,"M","B","2023-09-30"]
[null,null,null,null,null,"9531520-8","PATRICIO HERNÁN AYALA VILLARROEL","1962-11-13",60,10,"M","B","2023-09-30"]
[null,null,null,null,null,"8866419-1","SILVIA PAMELA GONZÁLEZ REYES","1957-03-25",66,6,"F","A","2023-09-30"]
[null,null,null,null,null,"9195587-3","VERÓNICA DE LAS NIEV GALDÁMEZ ULLOA","1963-05-05",60,4,"F","B","2023-09-30"]
[null,null,null,null,null,"10586870-7","VÍCTOR HUGO GUERRA MURA","1969-10-03",53,11,"M","B","2023-09-30"]
[null,null,null,null,null,"12066540-5","MARIELA DEL CARMEN HERRERA MUÑOZ","1972-06-23",51,3,"F","D","2023-09-30"]
[null,null,null,null,null,"15818910-0","LUIS NIBALDO PIZARRO VÉLIZ","1983-10-19",39,11,"M","B","2023-09-30"]
[null,null,null,null,null,"8241142-9","ANA MIREYA HUERTA ARENAS","1957-04-17",66,5,"F","B","2023-09-30"]
[null,null,null,null,null,"15554936-K","MARÍA JOSÉ ORELLANA VILLARROEL","1983-04-22",40,5,"F","D","2023-09-30"]
[null,null,null,null,null,"12950358-0","ANITA MARÍA ARCOS SEVERINO","1976-09-03",47,0,"F","D","2023-09-30"]
[null,null,null,null,null,"23208266-6","CAMILO IGNACIO COVARRUBIAS GARCÍA","2009-12-26",13,9,"M","B","2023-09-30"]
[null,null,null,null,null,"20753727-6","SEBASTIÁN RODRIGO ABARCA CARVAJAL","2001-06-29",22,3,"M","B","2023-09-30"]
[null,null,null,null,null,"13331052-5","PABLO CÉSAR JAIME OSORIO","1978-11-23",44,10,"M","D","2023-09-30"]
[null,null,null,null,null,"15072715-4","LOREDANNA PENELOPE ROSATI ARAVENA","1982-03-05",41,6,"F","D","2023-09-30"]
[null,null,null,null,null,"15627190-K","MARGARET NOEMÍ CONTRERAS CORTÉS","1985-02-22",38,7,"F","B","2023-09-30"]
[null,null,null,null,null,"23654522-9","LIAM EIDAN MORA HERNÁNDEZ","2011-05-28",12,4,"M","X","2023-09-30"]
[null,null,null,null,null,"5941130-6","LIDIA ANGÉLICA VIDELA CARVAJAL","1949-08-27",74,1,"F","B","2023-09-30"]
[null,null,null,null,null,"20089322-0","YARITZA JEANETTE MESÍAS MALDONADO","1999-02-19",24,7,"F","B","2023-09-30"]
[null,null,null,null,null,"24265759-4","ALONSO RODRIGO TAPIA BERRÍOS","2013-05-02",10,4,"M","B","2023-09-30"]
[null,null,null,null,null,"21060919-9","SOFÍA CATALINA RODRÍGUEZ TORRES","2002-06-25",21,3,"F","A","2023-09-30"]
[null,null,null,null,null,"18973513-8","ELIZABETH BEATRIZ NAVARRO JELDES","1995-04-21",28,5,"F","B","2023-09-30"]
[null,null,null,null,null,"13185465-K","GLADYS MARCELA GALDÁMEZ AYALA","1977-05-24",46,4,"F","C","2023-09-30"]
[null,null,null,null,null,"9392115-1","AMALIA DE LAS MERCEDES RODRÍGUEZ CABEZAS","1963-02-01",60,7,"F","B","2023-09-30"]
[null,null,null,null,null,"13752744-8","ANGELO MARCELO SILVA ÁLVAREZ","1980-05-05",43,4,"M","C","2023-09-30"]
[null,null,null,null,null,"19582158-5","TATIANA ANDREA GAETE SAAVEDRA","1997-02-09",26,7,"F","B","2023-09-30"]
[null,null,null,null,null,"13539313-4","PEDRO ANDRÉS TAPIA GUERRA","1979-07-29",44,2,"M","B","2023-09-30"]
[null,null,null,null,null,"25683159-7","FRANCISCO JAVIER SALAZAR SANTANA","2017-02-21",6,7,"M","B","2023-09-30"]
[null,null,null,null,null,"19582083-K","JOSÉ LUIS ORTEGA ARANCIBIA","1997-06-13",26,3,"M","D","2023-09-30"]
[null,null,null,null,null,"22747113-1","LUCAS PATRICIO PONCE ALFARO","2008-06-17",15,3,"M","B","2023-09-30"]
[null,null,null,null,null,"16550845-9","KAROL ANDREA URIBE PUENTES","1987-05-26",36,4,"F","D","2023-09-30"]
[null,null,null,null,null,"17164936-6","KAREN FERNANDA GARRIDO JELDES","1989-08-30",34,1,"F","X","2023-09-30"]
[null,null,null,null,null,"13331040-1","HÉCTOR ENRIQUE OTÁROLA URTUBIA","1978-11-14",44,10,"M","B","2023-09-30"]
[null,null,null,null,null,"19214584-8","BEATRIZ CONSTANZA PEREIRA GAETE","2001-02-22",22,7,"F","C","2023-09-30"]
[null,null,null,null,null,"18973152-3","ANGELA FRANCISCA ASTARGO ZÚÑIGA","1995-01-13",28,8,"F","B","2023-09-30"]
[null,null,null,null,null,"26524497-1","ALDO ROTHMAN PURIHUAMAN BRAVO","1978-04-12",45,5,"M","B","2023-09-30"]
[null,null,null,null,null,"18384889-5","YERCO ALEJANDRO SILVA ABARCA","1993-01-02",30,8,"M","D","2023-09-30"]
[null,null,null,null,null,"17301131-8","JORGE LUIS REYES PUEBLA","1989-11-26",33,10,"M","C","2023-09-30"]
[null,null,null,null,null,"17165070-4","ALEJANDRO ANDRÉS PULGAR PULGAR","1989-10-17",33,11,"M","D","2023-09-30"]
[null,null,null,null,null,"5639136-3","SAMUEL RUPERTO OLEA LÓPEZ","1949-03-21",74,6,"M","B","2023-09-30"]
[null,null,null,null,null,"25691494-8","AMELIA ISABEL SANDOVAL ARANCIBIA","2017-03-02",6,6,"F","B","2023-09-30"]
[null,null,null,null,null,"24536187-4","MARTA LIGIA OLAYA ECHEVERRY","1968-10-28",54,11,"F","B","2023-09-30"]
[null,null,null,null,null,"8183007-K","JOSÉ RENATO ESPINOZA HIDALGO","1959-04-17",64,5,"M","A","2023-09-30"]
[null,null,null,null,null,"19268313-0","JUAN FRANCISCO GUZMÁN LÓPEZ","1996-05-03",27,4,"M","C","2023-09-30"]
[null,null,null,null,null,"19214856-1","SOFÍA BELÉN FIGUEROA VILLARROEL","2001-05-08",22,4,"F","B","2023-09-30"]
[null,null,null,null,null,"6752206-0","ALEJANDRA DEL CARMEN VALDIVIA LÓPEZ","1954-09-17",69,0,"F","B","2023-09-30"]
[null,null,null,null,null,"26605539-0","EYTHAN AXEL PRADO QUINTANA","2017-03-02",6,6,"M","B","2023-09-30"]
[null,null,null,null,null,"6099867-1","NANCY MERINO NEGRETE","1948-08-28",75,1,"F","B","2023-09-30"]
[null,null,null,null,null,"8268349-6","CARLOS PATRICIO ARIAS VALDÉS","1958-06-18",65,3,"M","C","2023-09-30"]
[null,null,null,null,null,"24275288-0","AMALIA AGUSTINA CARVAJAL DONOSO","2013-05-13",10,4,"F","C","2023-09-30"]
[null,null,null,null,null,"19887499-K","JAVIERA NINOSKA CARVAJAL CALDERÓN","1998-02-26",25,7,"F","B","2023-09-30"]
[null,null,null,null,null,"19481784-3","YERKO YAHIR CRUZ ÁGUILA","1996-06-03",27,3,"M","B","2023-09-30"]
[null,null,null,null,null,"17469364-1","FABIÁN ANDRÉS GUERRERO GUERRERO","1990-06-05",33,3,"M","B","2023-09-30"]
[null,null,null,null,null,"21822087-8","CRISTINA ALEJANDRA PALACIOS ORTIZ","2005-04-18",18,5,"F","B","2023-09-30"]
[null,null,null,null,null,"17164232-9","RICSY MACARENA URBINA LOBOS","1989-03-29",34,6,"F","A","2023-09-30"]
[null,null,null,null,null,"27265009-8","SANTIAGO ALFONSO BARRERA ALBORNOZ","2020-04-24",3,5,"M","B","2023-09-30"]
[null,null,null,null,null,"12950707-1","CLAUDIA ANDREA MUÑOZ MUÑOZ","1975-12-13",47,9,"F","D","2023-09-30"]
[null,null,null,null,null,"8684149-5","MARÍA TERESA OLIVARES PINO","1961-11-12",61,10,"F","C","2023-09-30"]
[null,null,null,null,null,"7269858-4","JAIME SEGUNDO SARAVIA ÁLVAREZ","1953-07-16",70,2,"M","D","2023-09-30"]
[null,null,null,null,null,"14279279-6","ISIDRO ALEJANDRO SÁNCHEZ GALLARDO","1973-05-12",50,4,"M","A","2023-09-30"]
[null,null,null,null,null,"26460973-9","BELÉN ISIDORA RUBIO QUEZADA","2018-09-09",5,0,"F","A","2023-09-30"]
[null,null,null,null,null,"12950174-K","PABLA INÉS CAICEO CAMPOS","1976-06-10",47,3,"F","B","2023-09-30"]
[null,null,null,null,null,"25351600-3","JAVIER IGNACIO GARCÍA SILVA","2016-04-14",7,5,"M","A","2023-09-30"]
[null,null,null,null,null,"11385942-3","BENJAMÍN MAURICIO GUERRERO CARVAJAL","1969-04-29",54,5,"M","X","2023-09-30"]
[null,null,null,null,null,"13185576-1","ELENA DEL CARMEN HERRERA TORO","1977-06-04",46,3,"F","D","2023-09-30"]
[null,null,null,null,null,"18114117-4","RODRIGO ARMANDO REYES MIRANDA","1992-08-23",31,1,"M","D","2023-09-30"]
[null,null,null,null,null,"12143949-2","BENITO RODRIGO OYARCE OYARCE","1972-06-27",51,3,"M","B","2023-09-30"]
[null,null,null,null,null,"13539704-0","EDUARDO RODRIGO AGUILERA OSORIO","1978-12-19",44,9,"M","D","2023-09-30"]
[null,null,null,null,null,"18972910-3","PATRICIO IGNACIO PÉREZ PEREIRA","1994-11-26",28,10,"M","D","2023-09-30"]
[null,null,null,null,null,"23468974-6","GERALD FABIÁN LAZO ARENAS","2010-10-30",12,11,"M","D","2023-09-30"]
[null,null,null,null,null,"15555184-4","MARÍA ALEJANDRA OSORIO OSORIO","1983-07-11",40,2,"F","B","2023-09-30"]
[null,null,null,null,null,"20408676-1","CINTHYA PALOMA OSORIO ALFARO","2000-08-27",23,1,"F","D","2023-09-30"]
[null,null,null,null,null,"27482182-5","MARIA-JESUS BERNAL ARRIOLA","2021-03-04",2,6,"F","C","2023-09-30"]
[null,null,null,null,null,"18973020-9","CÉSAR AARON IBACETA REYES","1994-12-05",28,9,"M","C","2023-09-30"]
[null,null,null,null,null,"11944488-8","MARCOS EUGENIO LEIVA VERA","1972-06-12",51,3,"M","B","2023-09-30"]
[null,null,null,null,null,"15818729-9","CATHERINNE ALEJANDRA ZAMORA CONTRERAS","1984-07-16",39,2,"F","B","2023-09-30"]
[null,null,null,null,null,"15059396-4","MARJORIE CAROLINA BRISTELIA CISTERNAS FIGUEROA","1983-11-18",39,10,"F","D","2023-09-30"]
[null,null,null,null,null,"21637980-2","VALENTINA LORETO CHEVALIER LOBOS","2004-08-17",19,1,"F","B","2023-09-30"]
[null,null,null,null,null,"10792511-2","INÉS ROSALÍA NAVARRO PÁEZ","1977-05-29",46,4,"F","B","2023-09-30"]
[null,null,null,null,null,"8329142-7","MARÍA GEMA REYES ALFARO","1962-09-06",61,0,"F","B","2023-09-30"]
[null,null,null,null,null,"16306590-8","CYNTHIA ISABEL PULGAR VIGUERA","1986-08-27",37,1,"F","C","2023-09-30"]
[null,null,null,null,null,"21679091-K","ADAN ANTONIO OSORIO OSORIO","2004-10-03",18,11,"M","A","2023-09-30"]
[null,null,null,null,null,"16550005-9","VÍCTOR MANUEL VALDIVIA LUNA","1986-11-16",36,10,"M","C","2023-09-30"]
[null,null,null,null,null,"8682832-4","FERNANDO LEONIDAS LAGOS VERGARA","1959-05-30",64,4,"M","B","2023-09-30"]
[null,null,null,null,null,"26776324-0","CRISTIAN HIUMBERTO VÁSQUEZ CHAPARRO","2019-04-01",4,5,"M","A","2023-09-30"]
[null,null,null,null,null,"13981654-4","CARINA ANDREA MORALES MORALES","1981-01-08",42,8,"F","C","2023-09-30"]
[null,null,null,null,null,"27416626-6","DANTE NICOLAS PERALTA CERDA","2020-12-09",2,9,"M","C","2023-09-30"]
[null,null,null,null,null,"21800006-1","YEREMI ANTONIO LAZCANO PRADO","2005-03-19",18,6,"M","A","2023-09-30"]
[null,null,null,null,null,"23621499-0","DIANA LUZ CATALINA DIAZ VERGARA","2011-04-15",12,5,"F","A","2023-09-30"]
[null,null,null,null,null,"22389716-9","JOSE AMARO PONCE VALDEBENITO","2007-04-27",16,5,"M","A","2023-09-30"]
[null,null,null,null,null,"25344952-7","DIEGO SEBASTIAN JARA BEIZA","2016-04-09",7,5,"M","C","2023-09-30"]
[null,null,null,null,null,"19888448-0","CARLOS DANIEL OLGUÍN COSSIO","1998-10-17",24,11,"M","C","2023-09-30"]
[null,null,null,null,null,"18973075-6","PRISCILA NAOMÍ ASCHL HURTADO ALFARO","1994-12-28",28,9,"F","B","2023-09-30"]
[null,null,null,null,null,"18587865-1","WILMA ISABEL YÉVENES BELTRÁN","1994-05-27",29,4,"F","C","2023-09-30"]
[null,null,null,null,null,"8073112-4","ROSA ELENA OSORIO PALAVECINO","1957-06-17",66,3,"F","B","2023-09-30"]
[null,null,null,null,null,"19268830-2","EDITH AMANDA ESPINOZA ZAMORA","1996-09-17",27,0,"F","B","2023-09-30"]
[null,null,null,null,null,"11730420-5","FRANCISCO ANTONIO LUCERO ORTIZ","1970-12-06",52,9,"M","A","2023-09-30"]
[null,null,null,null,null,"16550993-5","PABLO ANDRÉS FARÍAS GONZALES","1987-06-26",36,3,"M","B","2023-09-30"]
[null,null,null,null,null,"21187914-9","ELIZABETH POLLETH BAHAMONDES ZEPEDA","2002-11-25",20,10,"F","B","2023-09-30"]
[null,null,null,null,null,"9086760-1","MARÍA VIRGINIA VELÁSQUEZ DONOSO","1961-02-12",62,7,"F","B","2023-09-30"]
[null,null,null,null,null,"9823107-2","JUANA DE DIOS OYARCE ARAYA","1964-11-25",58,10,"F","X","2023-09-30"]
[null,null,null,null,null,"18212025-1","NICOLÁS FELIPE ORTEGA NAVARRETE","1993-01-18",30,8,"M","B","2023-09-30"]
[null,null,null,null,null,"8201353-9","ROSA DE LAS NIEVES SALINAS HERRERA","1959-08-05",64,1,"F","D","2023-09-30"]
[null,null,null,null,null,"8527685-9","OSCAR PATRICIO SALAZAR TAPIA","1975-10-31",47,10,"M","C","2023-09-30"]
[null,null,null,null,null,"13982727-9","DAYANA IRIS ARACENA GONZÁLEZ","1981-10-08",41,11,"F","C","2023-09-30"]
[null,null,null,null,null,"12495030-9","MARÍA GABRIELA SALINAS SANDOVAL","1973-09-13",50,0,"F","A","2023-09-30"]
[null,null,null,null,null,"19888510-K","ESTEFANÍA ALEJANDRA YÉVENES ESCUDERO","1998-11-03",24,10,"F","A","2023-09-30"]
[null,null,null,null,null,"25247706-3","MILAN CRISTOBAL LAMAS MURA","2016-01-04",7,8,"M","C","2023-09-30"]
[null,null,null,null,null,"18973324-0","JUAN GABRIEL RAMÍREZ RAMÍREZ","1995-01-23",28,8,"M","C","2023-09-30"]
[null,null,null,null,null,"19888319-0","ARIEL ADOLFO LÓPEZ ROBLES","1998-09-06",25,0,"M","C","2023-09-30"]
[null,null,null,null,null,"25414749-4","ÁMBAR ESMERALDA PUGA ESPÍNOLA","2016-06-18",7,3,"F","A","2023-09-30"]
[null,null,null,null,null,"16027297-K","PAMELA DEL CARMEN OYANEDEL FERNÁNDEZ","1985-07-16",38,2,"F","B","2023-09-30"]
[null,null,null,null,null,"8000999-2","MANUEL JESÚS ARZOLA SOTO","1960-02-17",63,7,"M","B","2023-09-30"]
[null,null,null,null,null,"23432341-5","FLORENCIA ANTONIA MONTOYA CARVACHO","2010-09-24",13,0,"F","A","2023-09-30"]
[null,null,null,null,null,"6949468-4","JOSÉ DEL CARMEN LEIVA SOTO","1953-01-01",70,8,"M","C","2023-09-30"]
[null,null,null,null,null,"25495697-K","FELIPE DEMIAN KALHETT VERA GONZALEZ","2016-08-23",7,1,"M","X","2023-09-30"]
[null,null,null,null,null,"13363908-K","EMILIO MANUEL GALDAMES LARA","1978-05-03",45,4,"M","C","2023-09-30"]
[null,null,null,null,null,"11385998-9","DAVID AURELIANO MARTÍNEZ VARGAS","1969-05-03",54,4,"M","C","2023-09-30"]
[null,null,null,null,null,"21817668-2","FRANCISCA ANTONIA BERNAL ARRIOLA","2005-04-10",18,5,"F","A","2023-09-30"]
[null,null,null,null,null,"7179111-4","EUFEMIA DE LAS MERCEDES BUSTOS HERRERA","1952-05-27",71,4,"F","B","2023-09-30"]
[null,null,null,null,null,"24802245-0","ELÍAS BENJAMIN MONTECINOS GAETE","2014-11-17",8,10,"M","B","2023-09-30"]
[null,null,null,null,null,"5984343-5","RICARDO ALFONSO MANDIOLA TAPIA","1948-03-26",75,6,"M","D","2023-09-30"]
[null,null,null,null,null,"23642926-1","ISIDORA PAZ FERNANDEZ RUIZ","2011-05-10",12,4,"F","C","2023-09-30"]
[null,null,null,null,null,"17468684-K","KATHERINE DAISY CRUZ LÓPEZ","1989-11-27",33,10,"F","B","2023-09-30"]
[null,null,null,null,null,"11517495-9","LEONEL NOLBERTO JARA CONTRERAS","1970-05-08",53,4,"M","D","2023-09-30"]
[null,null,null,null,null,"11731152-K","LORENA DEL CARMEN ESTAY GONZÁLEZ","1971-04-05",52,5,"F","A","2023-09-30"]
[null,null,null,null,null,"15375653-8","PAULA ANDREA CRISÓSTOMO CELEDÓN","1983-05-06",40,4,"F","D","2023-09-30"]
[null,null,null,null,null,"21886957-2","ANAÍS MILLARAY ESTAY SÁNCHEZ","2005-07-04",18,2,"F","A","2023-09-30"]
[null,null,null,null,null,"9684877-3","RAMÓN NONATO BARRAZA BÓRQUEZ","1963-08-31",60,0,"M","B","2023-09-30"]
[null,null,null,null,null,"19887346-2","JUAN FRANCISCO JAVIE ALBORNOZ FIGUEROA","1998-01-22",25,8,"M","X","2023-09-30"]
[null,null,null,null,null,"7970384-2","MARISOL DEL CARMEN HERRERA CONTRERAS","1955-05-02",68,4,"F","C","2023-09-30"]
[null,null,null,null,null,"23060687-0","DANIELA ANTONIA HERNÁNDEZ AYALA","2009-06-29",14,3,"F","A","2023-09-30"]
[null,null,null,null,null,"13837110-7","JORGE GUSTAVO ALVEAR SALAZAR","1980-05-22",43,4,"M","D","2023-09-30"]
[null,null,null,null,null,"12718589-1","RUTH NOELIA AVENDAÑO APABLAZA","1975-05-17",48,4,"F","C","2023-09-30"]
[null,null,null,null,null,"18685699-6","ORIANA RALLEN DÍAZ LLANCAPÁN","1994-08-02",29,1,"F","B","2023-09-30"]
[null,null,null,null,null,"19582602-1","SEBASTIÁN ALFREDO DELGADO SÁNCHEZ","1997-10-27",25,11,"M","B","2023-09-30"]
[null,null,null,null,null,"10186715-3","BRISALIA DEL CARMEN HERRERA OTÁROLA","1975-09-27",48,0,"F","B","2023-09-30"]
[null,null,null,null,null,"5090329-K","YOLANDA DEL CARMEN FERNÁNDEZ FERNÁNDEZ","1942-02-14",81,7,"F","B","2023-09-30"]
[null,null,null,null,null,"13827145-5","PATRICIO ENRIQUE LEÓN SÁNCHEZ","1979-12-09",43,9,"M","D","2023-09-30"]
[null,null,null,null,null,"23612806-7","KEYS DEAN DONOSO OSSANDÓN","2011-04-02",12,5,"M","A","2023-09-30"]
[null,null,null,null,null,"8297980-8","FERNANDO JOAQUÍN FORTES SALINAS","1957-06-11",66,3,"M","D","2023-09-30"]
[null,null,null,null,null,"22568804-4","SCARLETT DAYANA PIZARRO GUTIÉRREZ","2007-12-01",15,9,"F","B","2023-09-30"]
[null,null,null,null,null,"27343583-2","AGUSTINA ANTONELLA CARO RAMIREZ","2020-08-24",3,1,"F","B","2023-09-30"]
[null,null,null,null,null,"19887932-0","FERNANDA TAMARA RAMÍREZ NOVOA","1998-07-07",25,2,"F","C","2023-09-30"]
[null,null,null,null,null,"18112888-7","ANA MILAGROS CELEDÓN PINILLA","1991-10-25",31,11,"F","D","2023-09-30"]
[null,null,null,null,null,"18385558-1","JECCY BEATRIZ CORTEZ SALINAS","1993-06-07",30,3,"F","D","2023-09-30"]
[null,null,null,null,null,"9084696-5","VIVIANA DE LAS MERCE JORQUERA RAMÍREZ","1963-11-20",59,10,"F","D","2023-09-30"]
[null,null,null,null,null,"21089238-9","MILLARAY ESTEFANÍA GALDÁMEZ LAGOS","2002-08-12",21,1,"F","B","2023-09-30"]
[null,null,null,null,null,"26718712-6","MIA MERAL VELIZ PURIHUAMAN","2019-02-15",4,7,"F","A","2023-09-30"]
[null,null,null,null,null,"21416493-0","JAVIERA IGNACIA ALEGRÍA CASTRO","2003-10-18",19,11,"F","C","2023-09-30"]
[null,null,null,null,null,"9396549-3","MANUEL ARTURO LÓPEZ VELASCO","1969-03-29",54,6,"M","B","2023-09-30"]
[null,null,null,null,null,"11729509-5","LORENA CECILIA ÁVILA MONTENEGRO","1971-05-30",52,4,"F","B","2023-09-30"]
[null,null,null,null,null,"13752771-5","ELENA DEL TRÁNSITO FIGUEROA GARCÍA","1980-07-26",43,2,"F","D","2023-09-30"]
[null,null,null,null,null,"12076950-2","YASTNA MARIBEL RODRÍGUEZ CHOQUE","1968-01-25",55,8,"F","D","2023-09-30"]
[null,null,null,null,null,"25732647-0","RENATO IGNACIO LORCA MUÑOZ","2017-04-07",6,5,"M","D","2023-09-30"]
[null,null,null,null,null,"8687945-K","BERTA DEL CARMEN MARDONES VEJAR","1954-07-05",69,2,"F","C","2023-09-30"]
[null,null,null,null,null,"20995865-1","CATALINA ANTONIA VILLARREAL ARAYA","2002-04-03",21,5,"F","C","2023-09-30"]
[null,null,null,null,null,"25443654-2","DIEGO VICENTE VEGA IBARRA","2016-07-14",7,2,"M","D","2023-09-30"]
[null,null,null,null,null,"11517840-7","MARCELA LILIANETT ORTEGA URRUTIA","1970-10-10",52,11,"F","D","2023-09-30"]
[null,null,null,null,null,"25288233-2","GABRIELA CAROLINA VARGAS GOMEZ","2016-02-14",7,7,"F","C","2023-09-30"]
[null,null,null,null,null,"18066682-6","NATHALY MARICELA MÉNDEZ VILCHES","1987-02-01",36,7,"F","D","2023-09-30"]
[null,null,null,null,null,"24982598-0","NEHEMÍAS BENJAMÍN CASTRO CISTERNAS","2015-05-11",8,4,"M","B","2023-09-30"]
[null,null,null,null,null,"17469279-3","YOSELYN SOFÍA URBINA VALDERRAMA","1990-07-13",33,2,"F","D","2023-09-30"]
[null,null,null,null,null,"15818389-7","MARÍA DOLORES BARRERA SALINAS","1984-04-12",39,5,"F","B","2023-09-30"]
[null,null,null,null,null,"21697679-7","DAMARY MARIANNE RIVERA PINTO","2004-10-31",18,10,"F","A","2023-09-30"]
[null,null,null,null,null,"25244729-6","COLOMBA PAZ SOLAR GONZÁLEZ","2016-01-04",7,8,"F","C","2023-09-30"]
[null,null,null,null,null,"12817428-1","CECILIA BEATRIZ AGUILAR ROJAS","1975-05-06",48,4,"F","B","2023-09-30"]
[null,null,null,null,null,"5413391-K","JOSÉ DOMINGO BUGUEÑO LEYTON","1945-10-23",77,11,"M","B","2023-09-30"]
[null,null,null,null,null,"27086258-6","BASTIAN ISAAC SILVA DONOSO","2019-11-15",3,10,"M","C","2023-09-30"]
[null,null,null,null,null,"8033839-2","MÓNICA DEL CARMEN VÁSQUEZ ALFARO","1954-10-23",68,11,"F","B","2023-09-30"]
[null,null,null,null,null,"13999039-0","FELIPE EQUIARDO GONZÁLEZ ARÉVALO","1981-06-08",42,3,"M","D","2023-09-30"]
[null,null,null,null,null,"21546544-6","FABIANA CONSTANZA GOMEZ CAMPOS","2004-04-09",19,5,"F","B","2023-09-30"]
[null,null,null,null,null,"5531315-6","JUANA ROSA TORRES ","1942-03-02",81,6,"F","B","2023-09-30"]
[null,null,null,null,null,"13364153-K","CRISTIAN EDUARDO ALFARO LIRA","1978-07-26",45,2,"M","C","2023-09-30"]
[null,null,null,null,null,"14357606-K","HERNÁN DEL TRÁNSITO FLORES MILLON","1979-04-11",44,5,"M","B","2023-09-30"]
[null,null,null,null,null,"9390830-9","JUAN RAMÓN PALACIOS SALINAS","1965-09-20",58,0,"M","X","2023-09-30"]
[null,null,null,null,null,"13485156-2","LORENA DEL PILAR ÁGUILA TORO","1978-01-12",45,8,"F","B","2023-09-30"]
[null,null,null,null,null,"16549999-9","ROMINA NICOL MARTÍNEZ HERRERA","1986-10-27",36,11,"F","C","2023-09-30"]
[null,null,null,null,null,"19906010-4","RAÚL BRIAN AVELLO MORALES","1998-08-15",25,1,"M","D","2023-09-30"]
[null,null,null,null,null,"17469580-6","DIEGO EUGENIO BENAVIDES LEIVA","1990-09-20",33,0,"M","X","2023-09-30"]
[null,null,null,null,null,"24954166-4","AGUSTÍN IGNACIO GONZÁLEZ CASANOVA","2015-04-09",8,5,"M","X","2023-09-30"]
[null,null,null,null,null,"28216771-9","COLOMBA EMMA TAPIA ORTIZ","2023-08-14",0,1,"F","C","2023-09-30"]
[null,null,null,null,null,"10540880-3","EVELIN ALEJANDRA ALFARO PÉREZ","1973-11-06",49,10,"F","B","2023-09-30"]
[null,null,null,null,null,"13982037-1","PAMELA DE LAS MERCED CAMUS MARTÍNEZ","1981-06-09",42,3,"F","A","2023-09-30"]
[null,null,null,null,null,"24636277-7","ALEXANDRA MAGDALENA SALGADO ESTRADA","2014-05-31",9,3,"F","D","2023-09-30"]
[null,null,null,null,null,"24607267-1","CONSTANZA IGNACIA LETELIER NÚÑEZ","2014-04-08",9,5,"F","B","2023-09-30"]
[null,null,null,null,null,"19581361-2","NATALIA IGNACIA OROZCO BAEZA","1996-12-19",26,9,"F","B","2023-09-30"]
[null,null,null,null,null,"9890780-7","HERNÁN FRANCISCO FLORES DÍAZ","1966-12-09",56,9,"M","B","2023-09-30"]
[null,null,null,null,null,"41027982-7","JACKELINE OSIRIS ALVARINO BALLESTAS","1972-11-03",50,10,"F","A","2023-09-30"]
[null,null,null,null,null,"16852770-5","DASLA LEONARDO CALDERÓN CORTÉS","1988-11-12",34,10,"M","D","2023-09-30"]
[null,null,null,null,null,"10149270-2","ISABEL DEL PILAR FLORES ZAPATA","1965-04-25",58,5,"F","D","2023-09-30"]
[null,null,null,null,null,"20753908-2","ELIZABETH DEL CARMEN OSSANDÓN VILLEGAS","2001-08-26",22,1,"F","D","2023-09-30"]
[null,null,null,null,null,"19581283-7","FABIÁN ALEXANDER GALLARDO AYALA","1996-11-26",26,10,"M","C","2023-09-30"]
[null,null,null,null,null,"8571358-2","ROSITA CAROLINA RODRÍGUEZ MURA","1972-12-14",50,9,"F","D","2023-09-30"]
[null,null,null,null,null,"27882035-1","JOSEFA DOMINGA BARRERA TAPIA","2022-08-09",1,1,"F","B","2023-09-30"]
[null,null,null,null,null,"6961794-8","BLANCA ESTRELLA LOBOS LLANTÉN","1956-04-19",67,5,"F","B","2023-09-30"]
[null,null,null,null,null,"7602839-7","MARÍA TERESA PINEDA ALAYANA","1952-04-23",71,5,"F","B","2023-09-30"]
[null,null,null,null,null,"16550361-9","MIGUEL ANTONIO LOBOS GÓMEZ","1987-02-01",36,7,"M","X","2023-09-30"]
[null,null,null,null,null,"14458037-0","MARIBEL EVANGELINA LECAROS GONZÁLEZ","1971-04-15",52,5,"F","B","2023-09-30"]
[null,null,null,null,null,"7824379-1","MARIO SEGUNDO REBOLLEDO SOTO","1956-08-06",67,1,"M","C","2023-09-30"]
[null,null,null,null,null,"13827465-9","ENZO DEL CARMEN SALINAS ASTORGA","1980-05-01",43,4,"M","D","2023-09-30"]
[null,null,null,null,null,"7150984-2","ROSA MÓNICA SILVA NILO","1954-04-15",69,5,"F","B","2023-09-30"]
[null,null,null,null,null,"23491110-4","ALAN FRANCISCO RAMÍREZ ARREDONDO","2010-11-24",12,10,"M","A","2023-09-30"]
[null,null,null,null,null,"4713276-2","MARTA ROSA ESCALANTE NÚÑEZ","1942-06-18",81,3,"F","B","2023-09-30"]
[null,null,null,null,null,"15818576-8","JORGE EDUARDO CONTRERAS VILLARROEL","1984-05-30",39,4,"M","D","2023-09-30"]
[null,null,null,null,null,"19267967-2","CATHERINE ALEXIA AMIGO TAPIA","1996-02-22",27,7,"F","D","2023-09-30"]
[null,null,null,null,null,"17300641-1","JAVIER ANTONIO SÁNCHEZ GALLEGOS","1989-10-06",33,11,"M","B","2023-09-30"]
[null,null,null,null,null,"17481615-8","SEBASTIÁN ANDRÉS TAPIA DÍAZ","1990-07-27",33,2,"M","B","2023-09-30"]
[null,null,null,null,null,"8890034-0","PATRICIO IGNACIO DONOSO VIDELA","1962-03-26",61,6,"M","B","2023-09-30"]
[null,null,null,null,null,"8062807-2","SILVIA DEL TRÁNSITO SOZA PAVEZ","1955-08-15",68,1,"F","B","2023-09-30"]
[null,null,null,null,null,"20409083-1","VALERIA ESPERANZA OYANEDEL PIZARRO","2000-12-17",22,9,"F","B","2023-09-30"]
[null,null,null,null,null,"6606164-7","LUCI NILDE PEÑA ARELLANO","1951-03-19",72,6,"F","B","2023-09-30"]
[null,null,null,null,null,"24820181-9","ANTONIA BELEN ANDUEZA ULLOA","2014-12-06",8,9,"F","B","2023-09-30"]
[null,null,null,null,null,"9269962-5","RICARDO ALEX ROJAS CASTILLO","1965-12-02",57,9,"M","C","2023-09-30"]
[null,null,null,null,null,"23249823-4","BRAHIAN JOSÉ TOMÁS DÍAZ ZAMORA","2010-02-13",13,7,"M","B","2023-09-30"]
[null,null,null,null,null,"27638711-1","DAVID HERNANDO AGUILAR BALAREZO","1992-05-07",31,4,"M","B","2023-09-30"]
[null,null,null,null,null,"19888386-7","ANGY CONSTANZA PÉREZ PINO","1998-09-25",25,0,"F","C","2023-09-30"]
[null,null,null,null,null,"8788572-0","ESTELVINA DEL CARMEN IBACETA YÉVENES","1957-06-16",66,3,"F","B","2023-09-30"]
[null,null,null,null,null,"16851757-2","JAIME LEONARDO CISTERNA BERRÍOS","1988-03-29",35,6,"M","D","2023-09-30"]
[null,null,null,null,null,"10108498-1","VÍCTOR MANUEL RIVAS JARA","1964-11-16",58,10,"M","B","2023-09-30"]
[null,null,null,null,null,"11944869-7","PAMELA ADRIANA MALLEA MORALES","1972-11-22",50,10,"F","D","2023-09-30"]
[null,null,null,null,null,"27281765-0","IGNACIO MANUEL CASTILLO DIAZ","2020-05-21",3,4,"M","B","2023-09-30"]
[null,null,null,null,null,"24572226-5","TERESA JAZMÍN LOBOS AGURTO","2014-03-20",9,6,"F","C","2023-09-30"]
[null,null,null,null,null,"8144059-K","MIRNA VERÓNICA BERNA BARRIOS ZULOAGA","1958-08-14",65,1,"F","D","2023-09-30"]
[null,null,null,null,null,"18973040-3","JOCELYN ANDREA HERRERA CERDA","1994-12-27",28,9,"F","A","2023-09-30"]
[null,null,null,null,null,"25598573-6","ANTONELLA PAZKAL MUÑOZ HEREDIA","2016-12-12",6,9,"F","A","2023-09-30"]
[null,null,null,null,null,"26882299-2","Mildred April Huanca Quispe","2012-09-04",11,0,"F","A","2023-09-30"]
[null,null,null,null,null,"16851597-9","YENIFER ANDREA CHACÓN ACEVEDO","1988-02-21",35,7,"F","A","2023-09-30"]
[null,null,null,null,null,"25298886-6","STEFANO MARIANO PAEZ GUAJARDO","2016-02-24",7,7,"M","C","2023-09-30"]
[null,null,null,null,null,"22504038-9","CRISTIAN ENRIQUE OTÁROLA SÁNCHEZ","2007-09-11",16,0,"M","A","2023-09-30"]
[null,null,null,null,null,"23599397-K","JAARIN ALBERTO URBINA SALINAS","2011-03-20",12,6,"M","A","2023-09-30"]
[null,null,null,null,null,"20732545-7","MIGUEL ANGEL CARVAJAL ALVARADO","2001-01-28",22,8,"M","D","2023-09-30"]
[null,null,null,null,null,"15061393-0","RAMÓN ANGEL SALINAS ROJAS","1982-09-23",41,0,"M","D","2023-09-30"]
[null,null,null,null,null,"10771115-5","JOSÉ HERNÁN ALFARO LEÓN","1969-05-11",54,4,"M","D","2023-09-30"]
[null,null,null,null,null,"10847580-3","ANA MARÍA FERRUZOLA ALLENDE","1966-09-02",57,0,"F","C","2023-09-30"]
[null,null,null,null,null,"26268330-3","NICOLAS SOSCUE OSORIO","2017-01-23",6,8,"M","A","2023-09-30"]
[null,null,null,null,null,"5947716-1","ANA MARÍA JÉLVEZ SOTO","1942-06-01",81,3,"F","B","2023-09-30"]
[null,null,null,null,null,"16305546-5","MARGARITA DE LAS NIE ESPINOZA GARCIA","1985-12-03",37,9,"F","B","2023-09-30"]
[null,null,null,null,null,"24793548-7","ALONSO EVEL SÁNCHEZ PORRAS","2014-11-08",8,10,"M","B","2023-09-30"]
[null,null,null,null,null,"18112921-2","KATHERINE DOMINIC VILLARROEL ORTIZ","1991-10-22",31,11,"F","D","2023-09-30"]
[null,null,null,null,null,"11517987-K","JULIA IRENE CARVAJAL TAPIA","1970-11-02",52,10,"F","D","2023-09-30"]
[null,null,null,null,null,"27387658-8","NORELIS DEL VALLE RAMIREZ CARRERO","1998-05-20",25,4,"F","B","2023-09-30"]
[null,null,null,null,null,"13539766-0","ÍTALO FRANCISCO PÉREZ SALINAS","1979-06-18",44,3,"M","D","2023-09-30"]
[null,null,null,null,null,"21160253-8","DAYANA ANDREA SOTO MONCADA","2002-11-09",20,10,"F","A","2023-09-30"]
[null,null,null,null,null,"17468451-0","MARCELO ENRIQUE URBINA FLORES","1989-10-23",33,11,"M","D","2023-09-30"]
[null,null,null,null,null,"22328504-K","JOAQUÍN ENRIQUE ALFARO URTUBIA","2007-02-07",16,7,"M","B","2023-09-30"]
[null,null,null,null,null,"19268279-7","NÉSTOR MIGUEL GALLARDO TAPIA","1996-05-23",27,4,"M","X","2023-09-30"]
[null,null,null,null,null,"8152509-9","RENATO ANGEL FIGUEROA VILCHES","1958-07-07",65,2,"M","B","2023-09-30"]
[null,null,null,null,null,"16027277-5","PAULINA ANDREA CAMUS LEIVA","1985-07-11",38,2,"F","D","2023-09-30"]
[null,null,null,null,null,"24134513-0","EVAN ANTONIO URBINA ROMERO","2012-12-05",10,9,"M","A","2023-09-30"]
[null,null,null,null,null,"24186002-7","CATALINA ANTONELLA MUÑOZ TORRES","2013-02-02",10,7,"F","A","2023-09-30"]
[null,null,null,null,null,"13752745-6","RODRIGO RICARDO REYES BASTÍAS","1980-03-13",43,6,"M","D","2023-09-30"]
[null,null,null,null,null,"23002374-3","MAYRA ISABEL QUIJANES TAPIA","2009-04-13",14,5,"F","A","2023-09-30"]
[null,null,null,null,null,"16305989-4","ALEJANDRA VERÓNICA MUÑOZ ZAMBRANO","1986-03-13",37,6,"F","B","2023-09-30"]
[null,null,null,null,null,"10268051-0","ADRIANA DEL PILAR CRUZ COLARTE","1964-09-16",59,0,"F","B","2023-09-30"]
[null,null,null,null,null,"10041946-7","LUIS ROBINSON IBACETA YÉVENES","1964-05-26",59,4,"M","D","2023-09-30"]
[null,null,null,null,null,"24476667-6","PAOLA ANDREA CONTRERAS BRITTO","1978-08-18",45,1,"F","D","2023-09-30"]
[null,null,null,null,null,"10777660-5","ERNESTO CLAUDIO GALEAS VÁSQUEZ","1968-10-01",54,11,"M","B","2023-09-30"]
[null,null,null,null,null,"25876043-3","EMILIA ANTONIA DELGADO CORTÉS","2017-08-21",6,1,"F","D","2023-09-30"]
[null,null,null,null,null,"16630219-6","ANA CAROLINA APABLAZA CÁRDENAS","1988-03-23",35,6,"F","C","2023-09-30"]
[null,null,null,null,null,"7369371-3","JULIA LUISA CONSTANCIO ÁVALOS","1955-12-02",67,9,"F","B","2023-09-30"]
[null,null,null,null,null,"24062495-8","JAVIER ISAÍ VALDIVIA LAGOS","2012-09-07",11,0,"M","B","2023-09-30"]
[null,null,null,null,null,"8385156-2","ENRIQUETA DE LAS MERCEDES JELDES CARVAJAL","1957-11-07",65,10,"F","B","2023-09-30"]
[null,null,null,null,null,"17340360-7","VÍCTOR ANDRÉS DURÁN MÁRQUEZ","1990-03-10",33,6,"M","C","2023-09-30"]
[null,null,null,null,null,"11730484-1","PATRICIO ALEX SÁNCHEZ BELMAR","1971-03-03",52,6,"M","D","2023-09-30"]
[null,null,null,null,null,"17558994-5","NICOLE ANABELLA SIERRALTA VALDIVIA","1990-05-09",33,4,"F","C","2023-09-30"]
[null,null,null,null,null,"7097264-6","MIGUEL ANGEL HERNÁNDEZ AEDO","1954-06-26",69,3,"M","D","2023-09-30"]
[null,null,null,null,null,"10229899-3","PEDRO PABLO SÁNCHEZ MATAMORO","1968-08-09",55,1,"M","B","2023-09-30"]
[null,null,null,null,null,"14279269-9","PAUL ANSELMO TORRES ORTEGA","1973-05-19",50,4,"M","D","2023-09-30"]
[null,null,null,null,null,"14282925-8","CHRISTIAN NICOLÁS JELDES ESPÍNOLA","1973-08-27",50,1,"M","B","2023-09-30"]
[null,null,null,null,null,"19582181-K","PAULA MICHEL TRIVI@O MARTÍNEZ","1997-06-16",26,3,"F","B","2023-09-30"]
[null,null,null,null,null,"6787595-8","FRANCISCA HERMINIA CÉSPEDES LOBOS","1955-07-25",68,2,"F","B","2023-09-30"]
[null,null,null,null,null,"24368947-3","SAMANTHA EMILIA ALMONACID MUÃ‘OZ","2013-08-20",10,1,"F","D","2023-09-30"]
[null,null,null,null,null,"18385144-6","CONSTANZA PATRICIA TORREALBA GUERRA","1993-03-03",30,6,"F","C","2023-09-30"]
[null,null,null,null,null,"20133447-0","VALERIA FABIOLA CERDA JELDES","1999-07-16",24,2,"F","A","2023-09-30"]
[null,null,null,null,null,"19267378-K","YIANNINA ANDREA ORELLANA MOLINA","1995-10-25",27,11,"F","D","2023-09-30"]
[null,null,null,null,null,"3817440-1","JOSE SERVANDO CASTRO ","1936-09-01",87,0,"M","B","2023-09-30"]
[null,null,null,null,null,"22964264-2","ELOÍSA ANTONIA PULGAR VILLALOBOS","2009-03-10",14,6,"F","B","2023-09-30"]
[null,null,null,null,null,"17499955-4","ELSA ALEJANDRA JIMÉNEZ FIGUEROA","1989-08-23",34,1,"F","A","2023-09-30"]
[null,null,null,null,null,"17273312-3","CLAUDIA CONSTANZA TAPIA DÍAZ","1989-09-18",34,0,"F","A","2023-09-30"]
[null,null,null,null,null,"18980194-7","ANTONIO AQUILES LEVÍN CURINAO","1995-09-20",28,0,"M","D","2023-09-30"]
[null,null,null,null,null,"18114303-7","VÍCTOR HUMBERTO MENDOZA GAETE","1992-09-14",31,0,"M","B","2023-09-30"]
[null,null,null,null,null,"9853985-9","ISABEL DEL CARMEN MORA CÉSPEDES","1962-03-29",61,6,"F","B","2023-09-30"]
[null,null,null,null,null,"13443740-5","PATRICIA ESTHER ESCOBAR VALENZUELA","1978-03-07",45,6,"F","D","2023-09-30"]
[null,null,null,null,null,"13455672-2","RAÚL ORLANDO QUEZADA SOTO","1978-01-21",45,8,"M","D","2023-09-30"]
[null,null,null,null,null,"22875432-3","CONSTANZA POLETTE LIZANA VIVANCO","2008-11-20",14,10,"F","B","2023-09-30"]
[null,null,null,null,null,"23726388-K","BENJAMÍN ANDRÉS ORTIZ FARRES","2011-08-23",12,1,"M","C","2023-09-30"]
[null,null,null,null,null,"6093503-3","ROXANE DEL CARMEN SALINAS MUÑOZ","1950-11-05",72,10,"F","B","2023-09-30"]
[null,null,null,null,null,"20388371-4","SEBASTIÁN CAMILO POBLETE GUTIÉRREZ","2000-01-20",23,8,"M","B","2023-09-30"]
[null,null,null,null,null,"15969319-8","MARICELA CECILIA CARVAJAL ROJAS","1985-03-04",38,6,"F","D","2023-09-30"]
[null,null,null,null,null,"24370603-3","AMALIA ETCHEVERS LIRA","2013-08-21",10,1,"F","D","2023-09-30"]
[null,null,null,null,null,"15754746-1","JULIO ANDRÉS CARRASCO OVALLE","1984-11-19",38,10,"M","D","2023-09-30"]
[null,null,null,null,null,"6486165-4","SEGUNDO FERNANDO PÁEZ MOLINA","1955-03-09",68,6,"M","D","2023-09-30"]
[null,null,null,null,null,"18113123-3","MARÍA VICTORIA CONTRERAS HENRÍQUEZ","1991-12-24",31,9,"F","C","2023-09-30"]
[null,null,null,null,null,"12096070-9","EDDY ARMANDO ROJAS MUÑOZ","1979-01-25",44,8,"M","B","2023-09-30"]
[null,null,null,null,null,"21891438-1","DARIEL ALEJANDRO ZELAYA LÓPEZ","2006-07-18",17,2,"M","B","2023-09-30"]
[null,null,null,null,null,"23222510-6","MARTÍN LUCIANO VERGARA PUEBLA","2010-01-12",13,8,"M","A","2023-09-30"]
[null,null,null,null,null,"18910170-8","KARINA XIMENA VARGAS GONZÁLEZ","1988-12-13",34,9,"F","A","2023-09-30"]
[null,null,null,null,null,"6126640-2","HUMBERTO ENRIQUE GAETE PULGAR","1950-04-23",73,5,"M","B","2023-09-30"]
[null,null,null,null,null,"27950380-5","CAMILA BELEN JARA BEIZA","2022-10-12",0,11,"F","C","2023-09-30"]
[null,null,null,null,null,"9957450-K","LUISA DE LAS MERCEDE DÍAZ FERNÁNDEZ","1955-11-25",67,10,"F","B","2023-09-30"]
[null,null,null,null,null,"23818794-K","BENJAMÍN DAVID TRIVIÑO ARAYA","2011-12-14",11,9,"M","A","2023-09-30"]
[null,null,null,null,null,"21633547-3","DAVID IGNACIO MORALES LEON","2004-07-24",19,2,"M","A","2023-09-30"]
[null,null,null,null,null,"17818553-5","CATALINA DEL CARMEN GORMAZ URBINA","1991-04-16",32,5,"F","B","2023-09-30"]
[null,null,null,null,null,"11013304-9","JUAN SANTIAGO BUSTOS ESPARZA","1965-06-20",58,3,"M","X","2023-09-30"]
[null,null,null,null,null,"8139639-6","MARÍA EUGENIA CASTILLO VERDUGO","1955-10-23",67,11,"F","B","2023-09-30"]
[null,null,null,null,null,"4217256-1","HUGO HERNÁN CABRERA VICENCIO","1940-12-22",82,9,"M","B","2023-09-30"]
[null,null,null,null,null,"20435781-1","ANALLELI STEPHANIE ROJAS CIFUENTES","2000-11-13",22,10,"F","A","2023-09-30"]
[null,null,null,null,null,"13185435-8","RAÚL ENRIQUE VERDEJO PALACIOS","1977-01-27",46,8,"M","B","2023-09-30"]
[null,null,null,null,null,"8158842-2","GRACIELA CATALINA ARAYA REYES","1955-06-08",68,3,"F","B","2023-09-30"]
[null,null,null,null,null,"15060988-7","CAROLINA ANDREA ESCUDERO ESPEJO","1982-06-11",41,3,"F","A","2023-09-30"]
[null,null,null,null,null,"17818586-1","GERALD LUIS GALLARDO GONZÁLEZ","1990-10-02",32,11,"M","B","2023-09-30"]
[null,null,null,null,null,"13982628-0","KATHERINE ROXANA MUÑOZ VALENZUELA","1981-01-21",42,8,"F","B","2023-09-30"]
[null,null,null,null,null,"8144045-K","HUGO JESÚS CORTÉS AHUMADA","1960-11-19",62,10,"M","B","2023-09-30"]
[null,null,null,null,null,"19129648-6","TERESA MARGARITA JIMÉNEZ MARTÍNEZ","1995-04-19",28,5,"F","A","2023-09-30"]
[null,null,null,null,null,"12400339-3","NICOLE DENISE CHAIGNEAU AMBLER","1973-01-09",50,8,"F","C","2023-09-30"]
[null,null,null,null,null,"10713753-K","PEDRO SEGUNDO SOTO VARGAS","1967-06-08",56,3,"M","B","2023-09-30"]
[null,null,null,null,null,"15417550-4","VÍCTOR ANDRÉS BARRA SALAZAR","1983-02-04",40,7,"M","B","2023-09-30"]
[null,null,null,null,null,"14183307-3","RODRIGO ANDRÉS PACHECO MOYA","1981-01-16",42,8,"M","B","2023-09-30"]
[null,null,null,null,null,"4459299-1","DOMINGO SEGUNDO JARA LÓPEZ","1940-05-25",83,4,"M","D","2023-09-30"]
[null,null,null,null,null,"12292876-4","LORENA IVONNE NÚÑEZ HERRERA","1972-08-31",51,0,"F","A","2023-09-30"]
[null,null,null,null,null,"12950756-K","DOMINGO ALEXIS RÍOS CAMPOS","1976-08-11",47,1,"M","D","2023-09-30"]
[null,null,null,null,null,"12579031-3","SUSANA DE LOURDES HERRERA HERRERA","1974-02-04",49,7,"F","C","2023-09-30"]
[null,null,null,null,null,"28044189-9","ABRAHAM D'JESUS BARRIOS VEGAS","1989-04-17",34,5,"M","D","2023-09-30"]
[null,null,null,null,null,"27640427-K","GASPAR EMILIANO VARGAS MOLINA","2021-10-14",1,11,"M","B","2023-09-30"]
[null,null,null,null,null,"10246639-K","NOLBERTO JAVIER DONOSO BETANCOURT","1964-08-10",59,1,"M","D","2023-09-30"]
[null,null,null,null,null,"24273228-6","JAVIERA ANTONIA ALFARO PINTO","2013-05-06",10,4,"F","A","2023-09-30"]
[null,null,null,null,null,"24251399-1","BRAYAN BETANCOURT MEZA","1989-05-20",34,4,"M","C","2023-09-30"]
[null,null,null,null,null,"18385891-2","PABLO ANDRÉS CATALÁN PINILLA","1993-08-16",30,1,"M","C","2023-09-30"]
[null,null,null,null,null,"11944158-7","IVÁN JESÚS CARVAJAL BAEZA","1972-01-04",51,8,"M","B","2023-09-30"]
[null,null,null,null,null,"23680385-6","FRANCO EMMANUEL LUQUI ","1990-12-30",32,9,"M","B","2023-09-30"]
[null,null,null,null,null,"20943900-K","JAVIERA FERNANDA CARRASCO SEGURA","2001-12-29",21,9,"F","B","2023-09-30"]
[null,null,null,null,null,"23442408-4","MARTÍN IGNACIO ZELAYA LEIVA","2010-10-04",12,11,"M","C","2023-09-30"]
[null,null,null,null,null,"21845861-0","EDUARDO VICENTE BARRERA CÁCERES","2005-05-25",18,4,"M","D","2023-09-30"]
[null,null,null,null,null,"16550317-1","PAULINA VANESSA SAAVEDRA VÁSQUEZ","1987-01-21",36,8,"F","B","2023-09-30"]
[null,null,null,null,null,"26550461-2","BEGOÑA FERNANDA MENDOZA SANDOVAL","2018-10-26",4,11,"F","C","2023-09-30"]
[null,null,null,null,null,"13122971-2","CARLA JEANETTE MARTA ROMERO ESCOBAR","1976-10-29",46,11,"F","D","2023-09-30"]
[null,null,null,null,null,"8329058-7","NELLY EUGENIA VICENCIO GALDAMES","1961-06-10",62,3,"F","A","2023-09-30"]
[null,null,null,null,null,"16820905-3","ALEXANDRA GERMINA VENEGAS GÓMEZ","1988-09-25",35,0,"F","D","2023-09-30"]
[null,null,null,null,null,"11517959-4","LUIS ALBERTO CONTRERAS LEIVA","1970-04-10",53,5,"M","D","2023-09-30"]
[null,null,null,null,null,"26324314-5","FELIPE EDUARDO GONZÁLEZ JIMÉNEZ","2018-06-13",5,3,"M","A","2023-09-30"]
[null,null,null,null,null,"21871610-5","SERGIO EDUARDO ABARCA ZAPATA","2003-03-25",20,6,"M","B","2023-09-30"]
[null,null,null,null,null,"22073817-5","BENJAMIN ALEXANDER LEMUS SUÁREZ","2006-02-20",17,7,"M","C","2023-09-30"]
[null,null,null,null,null,"7219928-6","PABLO ENRIQUE JAIME MENA","1955-04-13",68,5,"M","C","2023-09-30"]
[null,null,null,null,null,"13362271-3","JORGE EDUARDO LEIVA SILVA","1978-01-19",45,8,"M","D","2023-09-30"]
[null,null,null,null,null,"21271693-6","VAYTIARE KARIN ANDRE RODRIGUEZ SALGADO","2003-02-19",20,7,"F","C","2023-09-30"]
[null,null,null,null,null,"17197885-8","PAMELA BEATRIZ TROQUIAN ROSAS","1989-05-05",34,4,"F","D","2023-09-30"]
[null,null,null,null,null,"8746773-2","ALDA ROSA DEL CARMEN GÓMEZ GÁLVEZ","1961-09-01",62,0,"F","D","2023-09-30"]
[null,null,null,null,null,"21974920-1","ROBERT ALEJANDRO CALDERON AHUMADA","2005-11-08",17,10,"M","D","2023-09-30"]
[null,null,null,null,null,"12221218-1","IVÁN ALEJANDRO VALENZUELA SALINAS","1971-11-10",51,10,"M","A","2023-09-30"]
[null,null,null,null,null,"25390917-K","JURANNY CORRAL JARAMILLO","1984-08-13",39,1,"F","D","2023-09-30"]
[null,null,null,null,null,"25585042-3","MARITSI AÍDA HUINCAHUAL MARTÍNEZ","2016-11-30",6,10,"F","A","2023-09-30"]
[null,null,null,null,null,"17164000-8","YESENIA ISABEL SÁNCHEZ SÁNCHEZ","1989-02-09",34,7,"F","C","2023-09-30"]
[null,null,null,null,null,"11836805-3","BÁRBARA VERÓNICA FARÍAS VIGUERA","1971-05-08",52,4,"F","A","2023-09-30"]
[null,null,null,null,null,"27543107-9","ANTONIA FERNANDA VALENZUELA ALARCON","2021-05-27",2,4,"F","D","2023-09-30"]
[null,null,null,null,null,"28162105-K","SAMANTA NÚÑEZ PARDO","2023-06-05",0,3,"F","B","2023-09-30"]
[null,null,null,null,null,"15818908-9","DANIELA ANDREA LUCERO ORTIZ","1984-09-04",39,0,"F","B","2023-09-30"]
[null,null,null,null,null,"21347287-9","OSCAR ALEJANDRO SOTO PULGAR","2003-07-18",20,2,"M","B","2023-09-30"]
[null,null,null,null,null,"22974502-6","MARTINA ALMENDRA CABRERA FIGUEROA","2009-03-20",14,6,"F","C","2023-09-30"]
[null,null,null,null,null,"16852706-3","DANIAN EDUARDO JARA PONCE","1988-11-06",34,10,"M","D","2023-09-30"]
[null,null,null,null,null,"7604746-4","JUAN CARLOS ZURA LOBOS","1955-01-02",68,8,"M","B","2023-09-30"]
[null,null,null,null,null,"9698954-7","SANDRA ANGELA GORMAZ SOTO","1962-11-22",60,10,"F","B","2023-09-30"]
[null,null,null,null,null,"5818968-5","ALBERTO ENRIQUE RIVERA RIVERA","1950-11-05",72,10,"M","X","2023-09-30"]
[null,null,null,null,null,"10927900-5","HÉCTOR ENRIQUE BARRERA MURA","1967-01-01",56,8,"M","D","2023-09-30"]
[null,null,null,null,null,"13982114-9","JUAN MANUEL ARRIOLA ACEVEDO","1981-06-30",42,3,"M","D","2023-09-30"]
[null,null,null,null,null,"24190549-7","JORDÁN RODRIGO LEVÍN OLMEDO","2013-02-10",10,7,"M","D","2023-09-30"]
[null,null,null,null,null,"20946147-1","VÍCTOR MANUEL PÉREZ DROGUETT","2001-12-29",21,9,"M","D","2023-09-30"]
[null,null,null,null,null,"13827916-2","CÉSAR ALEX GUERRA REINOSO","1978-11-15",44,10,"M","B","2023-09-30"]
[null,null,null,null,null,"21092247-4","JORGE NICOLÁS BASTÍAS AGUIRRE","2002-08-16",21,1,"M","B","2023-09-30"]
[null,null,null,null,null,"19267986-9","CAMILA CONSTANZA ALFARO FLORES","1996-03-06",27,6,"F","B","2023-09-30"]
[null,null,null,null,null,"10604413-9","MARGARITA DEL CARMEN SÁNCHEZ CARVAJAL","1967-06-14",56,3,"F","A","2023-09-30"]
[null,null,null,null,null,"21588809-6","ALEJANDRO MARTIN SUAREZ ALFAR","2004-05-31",19,3,"M","C","2023-09-30"]
[null,null,null,null,null,"15343731-9","LEONOR ISABEL LEIVA GÓMEZ","1982-01-25",41,8,"F","D","2023-09-30"]
[null,null,null,null,null,"17680805-5","DENISSE FAVIOLA DABNER OLIVARES","1991-06-08",32,3,"F","B","2023-09-30"]
[null,null,null,null,null,"13184713-0","GLORIA DE LAS NIEVES MONTENEGRO GUERRERO","1977-04-09",46,5,"F","B","2023-09-30"]
[null,null,null,null,null,"11782459-4","DANIEL FRANCISCO GATICA MORALES","1970-06-16",53,3,"M","B","2023-09-30"]
[null,null,null,null,null,"26941867-2","MARTÍN RENATO FÁBREGA BAEZA","2019-07-29",4,2,"M","X","2023-09-30"]
[null,null,null,null,null,"13752533-K","ANGELA DANIELLA PALMA AVILÉS","1980-11-07",42,10,"F","B","2023-09-30"]
[null,null,null,null,null,"27747287-2","AKEMI AMANDA SALAZAR VENEGAS","2022-03-14",1,6,"F","C","2023-09-30"]
[null,null,null,null,null,"25433423-5","CARLITA GABRIELA LÓPEZ HERNÁNDEZ","2016-07-05",7,2,"F","B","2023-09-30"]
[null,null,null,null,null,"22640779-0","SOFÍA ANTONELLA LUCERO SÁNCHEZ","2008-02-07",15,7,"F","C","2023-09-30"]
[null,null,null,null,null,"18680764-2","FRANCISCO ANDRÉS GARRIDO BARRERA","1994-08-14",29,1,"M","X","2023-09-30"]
[null,null,null,null,null,"7648465-1","JULIO ENRIQUE SALINAS CONTRERAS","1955-07-11",68,2,"M","C","2023-09-30"]
[null,null,null,null,null,"16851321-6","HENRY OMAR DURÁN FUENTES","1987-03-04",36,6,"M","D","2023-09-30"]
[null,null,null,null,null,"11194374-5","RAMÓN DEL CARMEN JARA CASANOVA","1967-08-31",56,0,"M","B","2023-09-30"]
[null,null,null,null,null,"19887414-0","FRANCISCO IGNACIO CALDERÓN GALDÁMEZ","1997-11-13",25,10,"M","B","2023-09-30"]
[null,null,null,null,null,"24120593-2","ISIDORA SAMANTA BUGUEÑO ORELLANA","2012-11-21",10,10,"F","D","2023-09-30"]
[null,null,null,null,null,"17818588-8","CARLOS MAYKOL AHUMADA MERA","1991-04-06",32,5,"M","B","2023-09-30"]
[null,null,null,null,null,"17165051-8","PAZ GRENILIA MENESES MÉNDEZ","1989-10-08",33,11,"F","A","2023-09-30"]
[null,null,null,null,null,"27323307-5","DANTE THOMAS VARGAS HERNANDEZ","2020-07-30",3,2,"M","C","2023-09-30"]
[null,null,null,null,null,"8146304-2","BERTA EUGENIA AHUMADA GARRIDO","1959-02-02",64,7,"F","A","2023-09-30"]
[null,null,null,null,null,"8704973-6","JOSÉ ANTONIO GUERRA VILLANUEVA","1959-09-08",64,0,"M","A","2023-09-30"]
[null,null,null,null,null,"11617601-7","JORGE HERNÁN MAUNA SILVA","1970-12-03",52,9,"M","A","2023-09-30"]
[null,null,null,null,null,"12950438-2","ALEJANDRA PAMELA SALINAS MARTÍNEZ","1976-09-22",47,0,"F","D","2023-09-30"]
[null,null,null,null,null,"27993104-1","FERNANDO ALEXANDER PÁEZ ROZAS","2022-11-28",0,10,"M","D","2023-09-30"]
[null,null,null,null,null,"23064774-7","CRISTÓBAL IGNACIO VIELMA CASTRO","2009-07-04",14,2,"M","B","2023-09-30"]
[null,null,null,null,null,"11729800-0","ISABEL DEL CARMEN ORTEGA NIETO","1971-09-04",52,0,"F","C","2023-09-30"]
[null,null,null,null,null,"19663704-4","PAULINA FRANCISCA AHUMADA BÓRQUEZ","1997-04-12",26,5,"F","C","2023-09-30"]
[null,null,null,null,null,"16852645-8","MARÍA FERNANDA GARCÍA CÁRCAMO","1988-10-15",34,11,"F","C","2023-09-30"]
[null,null,null,null,null,"19581294-2","CAMILA JAVIERA MALDONADO MONTENEGRO","1996-12-03",26,9,"F","B","2023-09-30"]
[null,null,null,null,null,"10059381-5","CECILIA DENISE LÓPEZ NÚÑEZ","1966-06-02",57,3,"F","B","2023-09-30"]
[null,null,null,null,null,"26626144-6","NICOLE ALEJANDRA YÁÑEZ SILVA","2018-12-20",4,9,"F","B","2023-09-30"]
[null,null,null,null,null,"16306778-1","MARÍA ANGELINA DE LA PÁEZ CONTARDO","1986-10-18",36,11,"F","C","2023-09-30"]
[null,null,null,null,null,"13364046-0","CÉSAR ANTONIO PÉREZ PALAVECINO","1978-05-28",45,4,"M","D","2023-09-30"]
[null,null,null,null,null,"21845150-0","LUIS FELIPE ARENAS AVENDAÑO","2005-05-24",18,4,"M","C","2023-09-30"]
[null,null,null,null,null,"4500689-1","LEONTINA ROSA CÉSPED RAMÍREZ","1940-08-25",83,1,"F","B","2023-09-30"]
[null,null,null,null,null,"18113732-0","CARLOS ALEJANDRO FARÍAS BARAHONA","1992-05-26",31,4,"M","C","2023-09-30"]
[null,null,null,null,null,"20408280-4","VALENTINA ANTONIA TORRES VIDAL","2000-05-14",23,4,"F","B","2023-09-30"]
[null,null,null,null,null,"7925044-9","NOLBERTO LEONARDO BRAVO CORTÉS","1957-11-30",65,10,"M","B","2023-09-30"]
[null,null,null,null,null,"9019726-6","RUTH MARÍA JELDES MAUREIRA","1963-11-02",59,10,"F","D","2023-09-30"]
[null,null,null,null,null,"20133016-5","CRISTINA ALEJANDRA CARVAJAL VILLEGAS","1999-04-16",24,5,"F","C","2023-09-30"]
[null,null,null,null,null,"20754313-6","MATÍAS ALEJANDRO VEGA SANTOS","2001-12-12",21,9,"M","C","2023-09-30"]
[null,null,null,null,null,"16701412-7","SERGIO EDGARDO BASAES GONZÁLEZ","1987-05-16",36,4,"M","C","2023-09-30"]
[null,null,null,null,null,"10292438-K","JUAN GUILLERMO LEIVA LAZCANO","1972-12-17",50,9,"M","C","2023-09-30"]
[null,null,null,null,null,"6520089-9","JUAN GUSTAVO DÍAZ PIZARRO","1956-08-16",67,1,"M","A","2023-09-30"]
[null,null,null,null,null,"21502742-2","KAORI DANNAE VARGAS ROSENDE","2004-02-03",19,7,"F","B","2023-09-30"]
[null,null,null,null,null,"26331813-7","GASPAR ANDRÉS VILLANUEVA FARÍAS","2018-06-18",5,3,"M","B","2023-09-30"]
[null,null,null,null,null,"23921733-8","YULIANA ANTONIA IBACETA JAIME","2012-04-09",11,5,"F","A","2023-09-30"]
[null,null,null,null,null,"26101882-9","MATEO ANTONIO GUERRA MORENO","2018-01-29",5,8,"M","B","2023-09-30"]
[null,null,null,null,null,"24968813-4","JOSEFA ANAHIS PUEYES GONZÁLES","2015-04-26",8,5,"F","A","2023-09-30"]
[null,null,null,null,null,"14052820-K","GUSTAVO HERNÁN MARTÍNEZ TORRES","1981-08-05",42,1,"M","D","2023-09-30"]
[null,null,null,null,null,"16305762-K","ELIZABETH MACARENA MURA REYES","1986-02-01",37,7,"F","D","2023-09-30"]
[null,null,null,null,null,"13827930-8","KARIMEN ALEJANDRA MOLINA MOLINA","1980-03-11",43,6,"F","B","2023-09-30"]
[null,null,null,null,null,"18973176-0","DAMARY PATRICIA OLMEDO VALDÉS","1995-01-09",28,8,"F","B","2023-09-30"]
[null,null,null,null,null,"25205482-0","TOMÁS ALONSO GONZÁLEZ FIGUEROA","2015-11-26",7,10,"M","X","2023-09-30"]
[null,null,null,null,null,"16305642-9","HELIO JUVENAL VARGAS SÁNCHEZ","1985-12-30",37,9,"M","X","2023-09-30"]
[null,null,null,null,null,"5781362-8","ADOLFO GUSTAVO BAEZA TAPIA","1949-05-06",74,4,"M","B","2023-09-30"]
[null,null,null,null,null,"5764215-7","JULIA TERESA ROJAS MELO","1946-07-23",77,2,"F","B","2023-09-30"]
[null,null,null,null,null,"24907798-4","SAMANTHA IGNACIA OTAROLA SEPULVEDA","2015-02-16",8,7,"F","A","2023-09-30"]
[null,null,null,null,null,"22712200-5","AGUSTÍN IGNACIO ROJAS CALDERÓN","2008-05-01",15,4,"M","B","2023-09-30"]
[null,null,null,null,null,"8071255-3","JOSÉ LUIS LLANTÉN RAMÍREZ","1961-09-03",62,0,"M","D","2023-09-30"]
[null,null,null,null,null,"16306220-8","CLAUDIA JACQUELINE TORO OROSCO","1986-05-19",37,4,"F","C","2023-09-30"]
[null,null,null,null,null,"21794171-7","MARIA FERNANDA ORTEGA ARANCIBIA","2005-03-04",18,6,"F","D","2023-09-30"]
[null,null,null,null,null,"10950306-1","PEDRO ANTONIO BUGUEÑO BUGUEÑO","1970-06-29",53,3,"M","B","2023-09-30"]
[null,null,null,null,null,"5301117-9","JOSÉ MANUEL LÓPEZ ARANCIBIA","1944-09-01",79,0,"M","B","2023-09-30"]
[null,null,null,null,null,"10376402-5","MANUEL FÉLIX PIÑA GARCÍA","1967-01-15",56,8,"M","D","2023-09-30"]
[null,null,null,null,null,"25509983-3","BENJAMIN ALONSO ASTUDILLO MANRIQUEZ","2016-09-17",7,0,"M","D","2023-09-30"]
[null,null,null,null,null,"26100838-6","SANDRA PATRICIA MORON GOMEZ","1979-02-07",44,7,"F","D","2023-09-30"]
[null,null,null,null,null,"9743969-9","SANDRA DEL CARMEN MUÑOZ VERGARA","1967-06-13",56,3,"F","A","2023-09-30"]
[null,null,null,null,null,"8148149-0","MARCOS ANTONIO MOYANO ESPÍNDOLA","1959-11-02",63,10,"M","D","2023-09-30"]
[null,null,null,null,null,"13330989-6","KARINA JUDITH ALFARO GALDAMES","1978-05-05",45,4,"F","B","2023-09-30"]
[null,null,null,null,null,"13982548-9","GLORIA NATIVIDAD VILLARROEL GARCÍA","1979-03-03",44,6,"F","A","2023-09-30"]
[null,null,null,null,null,"22140016-K","YULIANA ANTONELLA ABARCA GALINDO","2006-05-30",17,4,"F","A","2023-09-30"]
[null,null,null,null,null,"8224431-K","YOLANDA DEL CARMEN DÍAZ RAMOS","1959-01-24",64,8,"F","B","2023-09-30"]
[null,null,null,null,null,"22110649-0","SOFIA CATALINA CASTRO CÉSPEDES","2006-05-04",17,4,"F","X","2023-09-30"]
[null,null,null,null,null,"6734220-8","LUISA DEL CARMEN ESPÍNOLA HERRERA","1953-03-26",70,6,"F","B","2023-09-30"]
[null,null,null,null,null,"9054997-9","CECILIA DEL CARMEN LEÓN CORTÉS","1961-06-01",62,3,"F","B","2023-09-30"]
[null,null,null,null,null,"21513468-7","FERNANDA ANTONIA LEON ESPINOZA","2004-02-13",19,7,"F","B","2023-09-30"]
[null,null,null,null,null,"10838962-1","SERGIO ALFONSO GALDÁMEZ ULLOA","1966-10-29",56,11,"M","D","2023-09-30"]
[null,null,null,null,null,"9834048-3","MARGARITA DEL CARMEN PUEYES VÁSQUEZ","1965-02-03",58,7,"F","B","2023-09-30"]
[null,null,null,null,null,"24610577-4","JORGE EDDIE TEJEIRO SILVA","2014-05-02",9,4,"M","A","2023-09-30"]
[null,null,null,null,null,"21671190-4","SOFIA CATALINA TAPIA CHAPARRO","2004-10-01",18,11,"F","B","2023-09-30"]
[null,null,null,null,null,"6450705-2","ROSALBA ALEJANDRINA LEIVA MUÑOZ","1949-07-17",74,2,"F","B","2023-09-30"]
[null,null,null,null,null,"4620101-9","LUIS SILVA CORREA","1941-01-08",82,8,"M","B","2023-09-30"]
[null,null,null,null,null,"12579248-0","CLAUDIA GIOVANNA SILVA TAPIA","1974-10-31",48,10,"F","B","2023-09-30"]
[null,null,null,null,null,"17147322-5","YASNA PAOLA JARA GUTIÉRREZ","1989-07-28",34,2,"F","C","2023-09-30"]
[null,null,null,null,null,"14266544-1","SCARLET CRISTINA OLGUÍN QUIROZ","1971-06-29",52,3,"F","C","2023-09-30"]
[null,null,null,null,null,"7654417-4","ERASMO RICARDO GUZMÁN LÓPEZ","1957-12-09",65,9,"M","D","2023-09-30"]
[null,null,null,null,null,"21224822-3","TOMÁS OCTAVIO ASTUDILLO VILLARROEL","2003-01-29",20,8,"M","B","2023-09-30"]
[null,null,null,null,null,"17712475-3","DOMINIQUE PAULINA ROJAS ARAYA","1990-12-18",32,9,"F","C","2023-09-30"]
[null,null,null,null,null,"10618082-2","MARCELA DEL CARMEN SÁNCHEZ MATAMORO","1966-10-16",56,11,"F","B","2023-09-30"]
[null,null,null,null,null,"24098494-6","ELIZABETH BENNETT DÍAZ","2012-10-23",10,11,"F","B","2023-09-30"]
[null,null,null,null,null,"25464504-4","PIERO VALENTÍN GARCÍA DÍAZ","2016-08-04",7,1,"M","C","2023-09-30"]
[null,null,null,null,null,"18102551-4","CLAUDIO FERNANDO LILLO ELGUETA","1992-09-17",31,0,"M","D","2023-09-30"]
[null,null,null,null,null,"21986696-8","YEIMY MACARENA DÍAZ LEIVA","2005-11-27",17,10,"F","C","2023-09-30"]
[null,null,null,null,null,"9525231-1","PATRICIO DEL TRÁNSITO JARA SALINAS","1962-10-21",60,11,"M","B","2023-09-30"]
[null,null,null,null,null,"15555150-K","RAQUEL ELIANA BUSTOS MUÑOZ","1983-06-27",40,3,"F","D","2023-09-30"]
[null,null,null,null,null,"23127029-9","MAITE PAZ SEGURA CASTILLO","2009-09-15",14,0,"F","A","2023-09-30"]
[null,null,null,null,null,"11163270-7","CARLOS DE LA PAZ BRITO","1967-11-26",55,10,"M","B","2023-09-30"]
[null,null,null,null,null,"18385094-6","MARÍA JOSÉ LEÓN CABRERA","1993-02-08",30,7,"F","B","2023-09-30"]
[null,null,null,null,null,"17341432-3","CLAUDIO FELIPE CARRASCO CAMPILLAY","1990-05-06",33,4,"M","B","2023-09-30"]
[null,null,null,null,null,"9134894-2","JULIA DEL CARMEN OSSES MARDONES","1964-05-19",59,4,"F","D","2023-09-30"]
[null,null,null,null,null,"21272666-4","NICOLAS IGNACIO POBLETE BONACIC","2003-04-06",20,5,"M","C","2023-09-30"]
[null,null,null,null,null,"25107447-K","MARTIN EDWARDS TRIVIÃ‘O ARAYA","2015-09-06",8,0,"M","A","2023-09-30"]
[null,null,null,null,null,"12950744-6","CARLOS JOHANE ZURA SEGURA","1976-06-19",47,3,"M","D","2023-09-30"]
[null,null,null,null,null,"12718603-0","MIGUEL ANTONIO SEPÚLVEDA BAEZ","1975-06-22",48,3,"M","D","2023-09-30"]
[null,null,null,null,null,"8137852-5","ELISA MARÍA SOTO ABARCA","1954-02-16",69,7,"F","B","2023-09-30"]
[null,null,null,null,null,"7160592-2","MIRTHA INÉS VARGAS PERALTA","1951-08-14",72,1,"F","B","2023-09-30"]
[null,null,null,null,null,"11517977-2","LUIS ALEJANDRO JIMÉNEZ GALLARDO","1970-09-21",53,0,"M","A","2023-09-30"]
[null,null,null,null,null,"16852447-1","TIARE MAUREN AYALA LEÓN","1988-07-18",35,2,"F","D","2023-09-30"]
[null,null,null,null,null,"17163968-9","ANGELA VALENTINA HERRERA CARVACHO","1989-01-15",34,8,"F","C","2023-09-30"]
[null,null,null,null,null,"11944295-8","JOHANNA TERESITA DROGUETT TAPIA","1972-02-18",51,7,"F","D","2023-09-30"]
[null,null,null,null,null,"23644463-5","JUAN ANDRÉS DÍAZ PÉREZ","2011-05-17",12,4,"M","A","2023-09-30"]
[null,null,null,null,null,"17468683-1","PILAR NICOLE JUAN OROZCO","1990-02-15",33,7,"F","D","2023-09-30"]
[null,null,null,null,null,"11945016-0","GABRIELA DEL CARMEN VILLEGAS ORTIZ","1972-07-14",51,2,"F","C","2023-09-30"]
[null,null,null,null,null,"24242755-6","DIEGO ANDRÉS ZAMORA FERNÁNDEZ","2013-04-10",10,5,"M","A","2023-09-30"]
[null,null,null,null,null,"10182326-1","CARLOS JAVIER IBACETA CALDERÓN","1970-12-01",52,9,"M","B","2023-09-30"]
[null,null,null,null,null,"23034741-7","GIANELLA ANNAIS MERA ANTIMANQUI","2009-05-23",14,4,"F","A","2023-09-30"]
[null,null,null,null,null,"4278485-0","MERCEDES DEL CARMEN SILVA MORALES","1933-06-20",90,3,"F","B","2023-09-30"]
[null,null,null,null,null,"5659693-3","LASTENIA DEL CARMEN SOTO PLAZA","1943-12-11",79,9,"F","B","2023-09-30"]
[null,null,null,null,null,"25466557-6","TOMAS ISMAEL ROJAS CALDERON","2016-08-02",7,1,"M","B","2023-09-30"]
[null,null,null,null,null,"24492686-K","RODRIGO EMILIO CABRERA OSORIO","2013-12-27",9,9,"M","D","2023-09-30"]
[null,null,null,null,null,"7372657-3","EVITA MARIELA CONTRERAS SALDÍVAR","1956-09-29",67,0,"F","B","2023-09-30"]
[null,null,null,null,null,"21885860-0","GABRIEL JESUS GUTIERREZ FERNANDEZ","2005-07-14",18,2,"M","C","2023-09-30"]
[null,null,null,null,null,"13704746-2","ALEJANDRO SEGUNDO ESPINOZA SALAMANCA","1979-07-28",44,2,"M","B","2023-09-30"]
[null,null,null,null,null,"21191359-2","CAMILA EUGENIA PUEYES GALLARDO","2002-12-08",20,9,"F","A","2023-09-30"]
[null,null,null,null,null,"28099308-5","MILÁN VALENTINO GONZÁLEZ TORRES","2023-03-20",0,6,"M","B","2023-09-30"]
[null,null,null,null,null,"27630793-2","ARLETTE TRINIDAD LIBERON BUGUEÑO","2021-10-01",1,11,"F","D","2023-09-30"]
[null,null,null,null,null,"11383436-6","JUAN MANUEL HIDALGO ARAYA","1969-06-24",54,3,"M","D","2023-09-30"]
[null,null,null,null,null,"28127044-3","ARLET IGNACIA ZAMORA MUÑOZ","2023-04-17",0,5,"F","B","2023-09-30"]
[null,null,null,null,null,"5693264-K","EMILIO ENRIQUE SALAZAR RIVEROS","1948-07-02",75,2,"M","B","2023-09-30"]
[null,null,null,null,null,"14104631-4","PAMELA YAZMINE VARAS OLIVOS","1981-09-15",42,0,"F","B","2023-09-30"]
[null,null,null,null,null,"24350267-5","ANTONELLA MILADYS GALAZ SEPÚLVEDA","2013-08-02",10,1,"F","A","2023-09-30"]
[null,null,null,null,null,"16306444-8","ANA GABRIELA ESPEJO CARVACHO","1986-05-19",37,4,"F","A","2023-09-30"]
[null,null,null,null,null,"15060937-2","VIVIANA ANDREA ARIAS CARVAJAL","1982-06-05",41,3,"F","B","2023-09-30"]
[null,null,null,null,null,"18385876-9","CAMILA IGNACIA SÁNCHEZ SCHWEITZER","1993-08-18",30,1,"F","B","2023-09-30"]
[null,null,null,null,null,"24675022-K","JUAN PABLO SÁNCHEZ MUÑOZ","2014-07-07",9,2,"M","D","2023-09-30"]
[null,null,null,null,null,"25426674-4","MAYTE FRANCCESCA VARGAS CORVACHO","2016-07-01",7,2,"F","B","2023-09-30"]
[null,null,null,null,null,"13330996-9","SILVANA ANGELA RODRÍGUEZ RODRÍGUEZ","1974-11-28",48,10,"F","C","2023-09-30"]
[null,null,null,null,null,"21003849-3","JAVIERA BELÉN VILLARROEL LAGOS","2002-04-19",21,5,"F","C","2023-09-30"]
[null,null,null,null,null,"8131168-4","SYLVIA EDELMIRA DROGUETT TAPIA","1955-04-29",68,5,"F","B","2023-09-30"]
[null,null,null,null,null,"24784229-2","KEITH ANAYS MARTÍNEZ URBINA","2014-10-27",8,11,"F","D","2023-09-30"]
[null,null,null,null,null,"2955839-6","MARÍA EUGENIA CAMPILLAY VERA","1930-10-22",92,11,"F","B","2023-09-30"]
[null,null,null,null,null,"21409246-8","SCARLET ALEJANDRA COLLAO FERRERO","2003-10-10",19,11,"F","A","2023-09-30"]
[null,null,null,null,null,"15060801-5","RAÚL ENRIQUE LEÓN VILLARROEL","1982-04-22",41,5,"M","D","2023-09-30"]
[null,null,null,null,null,"7961271-5","SARA DE LOURDES DÍAZ PIZARRO","1960-01-10",63,8,"F","B","2023-09-30"]
[null,null,null,null,null,"14352827-8","LORENA ALEJANDRA MARTÍNEZ GONZÁLEZ","1979-01-24",44,8,"F","D","2023-09-30"]
[null,null,null,null,null,"22870106-8","LUKASCRISTIANSSON PÉREZ JOENSEN","2008-04-03",15,5,"M","A","2023-09-30"]
[null,null,null,null,null,"18366899-4","JOSÉ FRANCISCO HUETE ARENAS","1993-07-27",30,2,"M","B","2023-09-30"]
[null,null,null,null,null,"21477628-6","JAVIER ALONSO VICENCIO BARRERA","2003-12-30",19,9,"M","D","2023-09-30"]
[null,null,null,null,null,"17773375-K","NICOLE ALEJANDRA BARRIENTOS VILLEGAS","1990-07-30",33,2,"F","A","2023-09-30"]
[null,null,null,null,null,"17817885-7","YENIFER ROMINA VARGAS GONZÁLEZ","1990-11-08",32,10,"F","D","2023-09-30"]
[null,null,null,null,null,"4924523-8","ADRIANA FELISA OROSCO AHUMADA","1946-11-30",76,10,"F","B","2023-09-30"]
[null,null,null,null,null,"26034725-K","LUCAS IGNACIO AYALA FUENZALIDA","2017-12-12",5,9,"M","A","2023-09-30"]
[null,null,null,null,null,"13667923-6","JOHANNA ANDREA PIZARRO NAVARRO","1979-12-11",43,9,"F","D","2023-09-30"]
[null,null,null,null,null,"6829572-6","EDUARDO EUGENIO ARAVENA HERRERA","1952-02-29",71,7,"M","C","2023-09-30"]
[null,null,null,null,null,"21658476-7","EDUARD ANTONIO PEREIRA GALDAMES","2004-09-13",19,0,"M","D","2023-09-30"]
[null,null,null,null,null,"20133580-9","JAVIERA PAZ ARENAS AVENDAÑO","1999-08-27",24,1,"F","C","2023-09-30"]
[null,null,null,null,null,"15060734-5","SILVANA ELIZABETH ARANCIBIA CORTÉS","1982-03-27",41,6,"F","C","2023-09-30"]
[null,null,null,null,null,"12402115-4","REMIGIO ERNESTO JOSÉ MATURANA SALINAS","1973-11-04",49,10,"M","D","2023-09-30"]
[null,null,null,null,null,"15062068-6","KATHERINE ROMINA IBACETA LEIVA","1982-04-06",41,5,"F","B","2023-09-30"]
[null,null,null,null,null,"7086951-9","EVA DEL TRÁNSITO CONTRERAS COROSEO","1952-10-21",70,11,"F","B","2023-09-30"]
[null,null,null,null,null,"24392236-4","CÉSAR EZEQUIEL CID RODRIGUEZ","2013-09-17",10,0,"M","A","2023-09-30"]
[null,null,null,null,null,"22070050-K","MAGDALENA ANTONIA ROCO ROCO","2006-03-06",17,6,"F","D","2023-09-30"]
[null,null,null,null,null,"20133187-0","MARÍA PAZ PULGAR VICENCIO","1999-05-26",24,4,"F","B","2023-09-30"]
[null,null,null,null,null,"24973053-K","JENIFER SCARLETH COVARRUBIAS CALDERON","2015-04-29",8,5,"F","B","2023-09-30"]
[null,null,null,null,null,"19888488-K","IVÁN AKIRA RISCO PÁEZ","1998-11-05",24,10,"M","B","2023-09-30"]
[null,null,null,null,null,"7492685-1","ERIKA DEL ROSARIO RAMÍREZ ACEVEDO","1954-06-26",69,3,"F","B","2023-09-30"]
[null,null,null,null,null,"16990662-9","CLAUDIA ANDREA GALLARDO LEPE","1988-09-06",35,0,"F","B","2023-09-30"]
[null,null,null,null,null,"17468821-4","KARINA ANTONIETA DÍAZ RETAMAL","1990-03-20",33,6,"F","D","2023-09-30"]
[null,null,null,null,null,"12578607-3","DANIEL EDUARDO BARRERA PÉREZ","1974-02-15",49,7,"M","D","2023-09-30"]
[null,null,null,null,null,"16701324-4","VIVIANA VALESKA BERRÍOS PARRA","1986-03-28",37,6,"F","C","2023-09-30"]
[null,null,null,null,null,"6514652-5","NATÁN EUGENIO DELGADO COLLAO","1952-03-29",71,6,"M","C","2023-09-30"]
[null,null,null,null,null,"15554954-8","ANDRÉS FELIPE OLIVARES VERA","1983-05-09",40,4,"M","B","2023-09-30"]
[null,null,null,null,null,"13827236-2","JOCELYN DE LOURDES CASTILLO FERRER","1980-02-24",43,7,"F","D","2023-09-30"]
[null,null,null,null,null,"19267949-4","NINOSKA ANTONELLA JORQUERA SÁNCHEZ","1996-02-29",27,7,"F","B","2023-09-30"]
[null,null,null,null,null,"20754134-6","JONATHAN ALBERTO TAYLOR LECAROS","2001-10-28",21,11,"M","A","2023-09-30"]
[null,null,null,null,null,"13540643-0","CÉSAR ANTONIO VALENCIA VALENCIA","1979-05-22",44,4,"M","B","2023-09-30"]
[null,null,null,null,null,"13341881-4","MIGUEL ANGEL TORO ESCOBAR","1978-06-15",45,3,"M","D","2023-09-30"]
[null,null,null,null,null,"8734768-0","EUGENIO ANTONIO GUERRERO MONTENEGRO","1960-10-17",62,11,"M","B","2023-09-30"]
[null,null,null,null,null,"13539389-4","PABLO ANDRÉS FIGUEROA HENRÍQUEZ","1979-09-02",44,0,"M","D","2023-09-30"]
[null,null,null,null,null,"11730632-1","LUIS ARMANDO LÓPEZ DAMIAN","1970-11-13",52,10,"M","B","2023-09-30"]
[null,null,null,null,null,"22061218-K","PAULA ANTONIA CUEVAS ZÚÑIGA","2006-02-16",17,7,"F","B","2023-09-30"]
[null,null,null,null,null,"16627514-8","VANESSA LORENA CISTERNAS SALAS","1987-11-23",35,10,"F","D","2023-09-30"]
[null,null,null,null,null,"26446238-K","DENISSE ANTONELLA HERRERA GALLARDO","2018-08-30",5,1,"F","C","2023-09-30"]
[null,null,null,null,null,"24838469-7","LUCIANO ALFREDO MURA CARVALLO","2014-12-28",8,9,"M","D","2023-09-30"]
[null,null,null,null,null,"5936936-9","YORKA GONZÁLEZ CORTÉS","1943-10-05",79,11,"F","C","2023-09-30"]
[null,null,null,null,null,"5138250-1","CÉSAR LEÓN MANDIOLA","1943-10-26",79,11,"M","B","2023-09-30"]
[null,null,null,null,null,"8693168-0","MARÍA JESÚS IGLESIAS RUFS","1962-08-20",61,1,"F","C","2023-09-30"]
[null,null,null,null,null,"17967083-6","DANIEL ANDRÉS POLANCO RIVEROS","1991-11-03",31,10,"M","D","2023-09-30"]
[null,null,null,null,null,"17164389-9","MANUEL ALFONSO PEREIRA GAETE","1989-04-28",34,5,"M","D","2023-09-30"]
[null,null,null,null,null,"22259054-K","PABLO ADÁN SALINAS CAICEO","2006-11-13",16,10,"M","A","2023-09-30"]
[null,null,null,null,null,"16851334-8","ANGELO ALEJANDRO GUÍÑEZ AVENDAÑO","1987-11-30",35,10,"M","D","2023-09-30"]
[null,null,null,null,null,"28220127-5","OLIVIA ISABEL SALAZAR OROPEZA","2023-08-17",0,1,"F","C","2023-09-30"]
[null,null,null,null,null,"27664432-7","ISIDORA PASCAL FABREGA BAEZA","2021-11-22",1,10,"F","B","2023-09-30"]
[null,null,null,null,null,"24614406-0","ISAAC AMARO SOTO ABARCA","2014-05-05",9,4,"M","C","2023-09-30"]
[null,null,null,null,null,"25970145-7","JADIEL IGNACIO GUERRA GORMAZ","2017-10-29",5,11,"M","A","2023-09-30"]
[null,null,null,null,null,"2379903-0","JUAN ANTONIO HUIRCALAF GAJARDO","1931-09-07",92,0,"M","D","2023-09-30"]
[null,null,null,null,null,"5542073-4","OLGA DE LAS MERCEDES TAIBA PÁEZ","1946-08-05",77,1,"F","B","2023-09-30"]
[null,null,null,null,null,"7945554-7","CARLOS ALBERTO RIVEROS CABRERA","1958-07-13",65,2,"M","B","2023-09-30"]
[null,null,null,null,null,"16852253-3","JOSELYN MAKARENA MOYANO AGUILAR","1988-07-31",35,1,"F","B","2023-09-30"]
[null,null,null,null,null,"8019811-6","MARISOL DEL CARMEN FERNÁNDEZ VERGARA","1957-12-22",65,9,"F","A","2023-09-30"]
[null,null,null,null,null,"21705243-2","GABRIELA BELEN IRIARTE PINEDA","2004-11-09",18,10,"F","D","2023-09-30"]
[null,null,null,null,null,"15061799-5","CAROLINA ANDREA PÉREZ PÉREZ","1983-01-01",40,8,"F","A","2023-09-30"]
[null,null,null,null,null,"18679848-1","CLAUDIA ANDREA TRIVIÑO VÁSQUEZ","1993-12-29",29,9,"F","D","2023-09-30"]
[null,null,null,null,null,"8857186-K","MARCO ANTONIO OROZCO NANJARI","1963-01-09",60,8,"M","D","2023-09-30"]
[null,null,null,null,null,"7599878-3","LUIS ALBERTO GORMAS PFENG","1959-08-20",64,1,"M","B","2023-09-30"]
[null,null,null,null,null,"17163612-4","BENJAMÍN ANDRÉS MENESES ROJAS","1988-11-28",34,10,"M","A","2023-09-30"]
[null,null,null,null,null,"5944557-K","MARÍA ANGÉLICA VILLARROEL FUENTES","1948-03-18",75,6,"F","B","2023-09-30"]
[null,null,null,null,null,"5401751-0","DIGNA ROSA COVARRUBIAS BAEZ","1945-12-18",77,9,"F","B","2023-09-30"]
[null,null,null,null,null,"9657287-5","CARLOS FERNANDO LOBO VALDÉS","1963-01-31",60,7,"M","D","2023-09-30"]
[null,null,null,null,null,"19268886-8","DAMARI ALEJANDRA BARRA SALINAS","1996-10-08",26,11,"F","C","2023-09-30"]
[null,null,null,null,null,"20980024-1","DANIEL IGNACIO DIAZ AUMEN","2003-02-11",20,7,"M","C","2023-09-30"]
[null,null,null,null,null,"21828245-8","DHYLAN ISMAEL ORTIZ ROJAS","2005-04-25",18,5,"M","C","2023-09-30"]
[null,null,null,null,null,"20250570-8","ALANIS GERALDINE VARGAS BUSTOS","2000-02-20",23,7,"F","C","2023-09-30"]
[null,null,null,null,null,"27992666-8","JULIETA IGNACIA VELIZ MUÑOZ","2022-11-27",0,10,"F","B","2023-09-30"]
[null,null,null,null,null,"18185190-2","CATHERINE FRANCISCA ÁGUILA TORO","1992-03-08",31,6,"F","C","2023-09-30"]
[null,null,null,null,null,"7265005-0","MARÍA ISABEL OSORIO SALINAS","1954-12-17",68,9,"F","B","2023-09-30"]
[null,null,null,null,null,"15818328-5","GONZALO ANDRÉS VERDEJO PALACIOS","1983-12-14",39,9,"M","B","2023-09-30"]
[null,null,null,null,null,"8753636-K","JUANA VICTORIA OGALDE LÓPEZ","1960-11-14",62,10,"F","B","2023-09-30"]
[null,null,null,null,null,"22965521-3","ANGEL DEIVYD MANZANO ARENAS","2009-03-05",14,6,"M","A","2023-09-30"]
[null,null,null,null,null,"25990011-5","JULIÁN ANDRÉS FARÍAS SÁEZ","2017-11-16",5,10,"M","B","2023-09-30"]
[null,null,null,null,null,"16851167-1","FRANCISCO JAVIER MURA LEIVA","1987-11-16",35,10,"M","C","2023-09-30"]
[null,null,null,null,null,"19887068-4","IGNACIO CIPRIANO RIVES FLORES","1997-11-28",25,10,"M","A","2023-09-30"]
[null,null,null,null,null,"20804065-0","MARTÍN IGNACIO MAUNA HERRERA","2001-06-18",22,3,"M","C","2023-09-30"]
[null,null,null,null,null,"280419-0","LUISA DEL CARMEN ÁLVAREZ SILVA","1931-09-14",92,0,"F","B","2023-09-30"]
[null,null,null,null,null,"27580907-1","AMY CATTLEYA ARANGUIZ PORTOCARRERO","2021-07-20",2,2,"F","B","2023-09-30"]
[null,null,null,null,null,"22768221-3","JAVIER ALEJANDRO GONZÁLEZ SAAVEDRA","2008-07-04",15,2,"M","A","2023-09-30"]
[null,null,null,null,null,"13876818-K","LORENA FABIOLA GONZÁLEZ ARÉVALO","1980-01-17",43,8,"F","C","2023-09-30"]
[null,null,null,null,null,"23674240-7","MANUEL ALEJANDRO CÁCERES ALTAMIRANO","2011-06-22",12,3,"M","C","2023-09-30"]
[null,null,null,null,null,"9307881-0","GERALDO EUGENIO SALINAS RAMÍREZ","1963-12-25",59,9,"M","B","2023-09-30"]
[null,null,null,null,null,"27090132-8","EMILIANO ALESSANDRO CABEZAS VALDERRAMA","2019-11-19",3,10,"M","D","2023-09-30"]
[null,null,null,null,null,"12950757-8","ALEJANDRA INGRID CASTILLO JELDES","1976-08-20",47,1,"F","D","2023-09-30"]
[null,null,null,null,null,"23137234-2","DIANA BELÉN INDO FIGUEROA","2009-10-02",13,11,"F","D","2023-09-30"]
[null,null,null,null,null,"19521874-9","FRANCISCA PILAR MÉNDEZ LAZCANO","1996-06-28",27,3,"F","D","2023-09-30"]
[null,null,null,null,null,"15555372-3","MARÍA ROSA SÁNCHEZ SÁNCHEZ","1983-09-01",40,0,"F","B","2023-09-30"]
[null,null,null,null,null,"40006682-5","CLAUDIA ABIGAIL MAYORGA MALDONADO","2004-08-28",19,1,"F","X","2023-09-30"]
[null,null,null,null,null,"10394018-4","MARÍA GRACIELA GARRIDO SÁNCHEZ","1964-12-14",58,9,"F","D","2023-09-30"]
[null,null,null,null,null,"22916859-2","LUCAS BENJAMÍN HERRERA ARACENA","2009-01-11",14,8,"M","A","2023-09-30"]
[null,null,null,null,null,"26125657-6","EMMA LEIVA ARENAS","2018-02-15",5,7,"F","D","2023-09-30"]
[null,null,null,null,null,"6104291-1","DIOMERINA ESPERANZA RODRÍGUEZ OLMEDO","1946-12-06",76,9,"F","B","2023-09-30"]
[null,null,null,null,null,"8961528-3","MARIA ESTER BADILLA ROJAS","1960-07-11",63,2,"F","D","2023-09-30"]
[null,null,null,null,null,"15062099-6","FLORENCIA PATRICIA ASCUÍ RECCHIONE","1987-09-23",36,0,"F","B","2023-09-30"]
[null,null,null,null,null,"23725203-9","MARTÍN EDUARDO HERRERA MENESES","2011-08-12",12,1,"M","B","2023-09-30"]
[null,null,null,null,null,"9644676-4","ANDRÉS ANTONIO VILLARREAL HAVALIBOTA","1974-05-10",49,4,"M","D","2023-09-30"]
[null,null,null,null,null,"23821030-5","JOAQUÍN IGNACIO CRUZ OLATE","2011-12-14",11,9,"M","A","2023-09-30"]
[null,null,null,null,null,"10668473-1","JUAN CARLOS GÓMEZ BERRÍOS","1966-05-24",57,4,"M","B","2023-09-30"]
[null,null,null,null,null,"27020775-8","JOSE ESTEBAN ARANGUIZ PORTOCARRERO","2019-09-12",4,0,"M","B","2023-09-30"]
[null,null,null,null,null,"19887556-2","JUAN ANTONIO ESCAMILLA ESCAMILLA","1998-03-31",25,5,"M","D","2023-09-30"]
[null,null,null,null,null,"20408787-3","FABRIZIO BENJAMÍN ZURA PUEYES","2000-09-23",23,0,"M","B","2023-09-30"]
[null,null,null,null,null,"8846019-7","ROSA DEL TRÁNSITO GUTIÉRREZ PÉREZ","1959-12-21",63,9,"F","B","2023-09-30"]
[null,null,null,null,null,"16852160-K","ENGEL CAROLINE NEIRA PONCE","1988-05-05",35,4,"F","A","2023-09-30"]
[null,null,null,null,null,"7792321-7","LUIS HIPÓLITO CAICEO HERRERA","1956-11-06",66,10,"M","C","2023-09-30"]
[null,null,null,null,null,"19268523-0","JOSÉ IGNACIO CASTRO GORMAZ","1996-07-24",27,2,"M","D","2023-09-30"]
[null,null,null,null,null,"20472985-9","MANUEL IGNACIO BIZAMA RAMÍREZ","2000-09-17",23,0,"M","A","2023-09-30"]
[null,null,null,null,null,"22544029-8","ANTONIA BELÉN MORALES CASTRO","2007-11-03",15,10,"F","A","2023-09-30"]
[null,null,null,null,null,"19214784-0","FERNANDO ARIEL ROJAS CASTRO","2001-04-20",22,5,"M","A","2023-09-30"]
[null,null,null,null,null,"8687991-3","MARGARITA SABINA VARGAS MANRÍQUEZ","1958-08-29",65,1,"F","A","2023-09-30"]
[null,null,null,null,null,"19582477-0","ENZO GABRIEL VARGAS COLLAO","1997-09-27",26,0,"M","D","2023-09-30"]
[null,null,null,null,null,"4909987-8","ADRIANA ASCENCIÓN VILLARROEL JARA","1944-05-18",79,4,"F","D","2023-09-30"]
[null,null,null,null,null,"22863942-7","EMILIO ALONSO DOMÍNGUEZ SEGOVIA","2008-11-11",14,10,"M","D","2023-09-30"]
[null,null,null,null,null,"23597093-7","CATALINA ISIDORA PÉREZ ROJAS","2011-03-18",12,6,"F","D","2023-09-30"]
[null,null,null,null,null,"21510810-4","KIARA YANARA ACEVEDO FARFÁN","2004-01-30",19,8,"F","B","2023-09-30"]
[null,null,null,null,null,"16851294-5","YOHANA MAKARENA HERRERA OLIVARES","1987-12-03",35,9,"F","B","2023-09-30"]
[null,null,null,null,null,"25796354-3","BENJAMÍN IGNACIO HORMAZABAL SÁNCHEZ","2017-06-05",6,3,"M","B","2023-09-30"]
[null,null,null,null,null,"11517626-9","CARLOS ANTONIO MARTÍNEZ SALINAS","1970-07-06",53,2,"M","B","2023-09-30"]
[null,null,null,null,null,"4544772-3","OSCAR ENRIQUE ARCAYA ROBLES","1934-11-29",88,10,"M","B","2023-09-30"]
[null,null,null,null,null,"15061025-7","EUGENIA SOLEDAD CAMUS CAMUS","1982-05-22",41,4,"F","D","2023-09-30"]
[null,null,null,null,null,"8169839-2","ROSA ANTONIA MARTÍNEZ CASTILLO","1957-02-23",66,7,"F","B","2023-09-30"]
[null,null,null,null,null,"24388093-9","ANTONIA ANAÍS VILLARROEL JUAN","2013-09-23",10,0,"F","X","2023-09-30"]
[null,null,null,null,null,"18973072-1","CLAUDIO ANDRÉS VARGAS SILVA","1994-12-16",28,9,"M","B","2023-09-30"]
[null,null,null,null,null,"18113163-2","CAROLINA ANDREA JOHNSON CARVAJAL","1992-01-06",31,8,"F","D","2023-09-30"]
[null,null,null,null,null,"9052594-8","WALTER PATRICIO BARRIOS GUERRERO","1960-07-30",63,2,"M","B","2023-09-30"]
[null,null,null,null,null,"12579223-5","ENRIQUE EDUARDO SILVA TURNER","1974-10-19",48,11,"M","D","2023-09-30"]
[null,null,null,null,null,"6450706-0","JUANA ROSA MARTÍNEZ CASTILLO","1951-10-23",71,11,"F","B","2023-09-30"]
[null,null,null,null,null,"5840181-1","AÍDA HORTENSIA JARA LEIVA","1946-09-02",77,0,"F","B","2023-09-30"]
[null,null,null,null,null,"12124984-7","ROXANA DEL CARMEN CAMPOS SEPÚLVEDA","1971-07-01",52,2,"F","D","2023-09-30"]
[null,null,null,null,null,"21166451-7","FRANCISCO JAVIER BUSTOS CORDOVA","2002-11-15",20,10,"M","B","2023-09-30"]
[null,null,null,null,null,"22063430-2","LUCIANA BELEN ALICIA ESCUDERO HERRERA","2006-02-20",17,7,"F","A","2023-09-30"]
[null,null,null,null,null,"23578782-2","RAFAELLA CRUZ ÁGUILA","2011-03-06",12,6,"F","D","2023-09-30"]
[null,null,null,null,null,"41405643-1","ARANTZA GABRIELA PINTO GUEDEZ","2018-02-02",5,7,"F","A","2023-09-30"]
[null,null,null,null,null,"20805772-3","ALONDRA PATRICIA ZAGAL LAZO","2002-04-11",21,5,"F","B","2023-09-30"]
[null,null,null,null,null,"11386097-9","MAURICIO RODRIGO MURA BAEZ","1969-05-24",54,4,"M","B","2023-09-30"]
[null,null,null,null,null,"18114352-5","CONSTANZA JASMÍN COLLAO HUERTA","1992-09-17",31,0,"F","C","2023-09-30"]
[null,null,null,null,null,"8847470-8","MARCELA OLIVIA GALDAMES SCHWEITZER","1965-02-16",58,7,"F","B","2023-09-30"]
[null,null,null,null,null,"23298718-9","AGUSTÍN LORENZO LIRA URTUBIA","2010-04-15",13,5,"M","D","2023-09-30"]
[null,null,null,null,null,"21218877-8","SERGIO EXEQUIEL OTAROLA OTAROLA","2003-01-02",20,8,"M","B","2023-09-30"]
[null,null,null,null,null,"10073727-2","ROBY OSVALDO ESPEJO ESPEJO","1969-07-11",54,2,"M","D","2023-09-30"]
[null,null,null,null,null,"22654181-0","ZAID ARRON JORQUERA QUIROZ","2008-02-18",15,7,"M","A","2023-09-30"]
[null,null,null,null,null,"9736862-7","MARITZA NELLY DEL CA PULGAR ARAYA","1966-09-16",57,0,"F","D","2023-09-30"]
[null,null,null,null,null,"27418380-2","MILEN ANAIS MADARIAGA SEGURA","2020-12-09",2,9,"F","X","2023-09-30"]
[null,null,null,null,null,"24266416-7","CRISTÓBAL MAXIMILIANO MUÑOZ PARRA","2013-05-05",10,4,"M","A","2023-09-30"]
[null,null,null,null,null,"25473174-9","JUAN VALENTIN JESUS ARRIOLA DIAZ","2016-08-09",7,1,"M","A","2023-09-30"]
[null,null,null,null,null,"18241266-K","ANALIA SCARLETTE GARCÍA VILLARROEL","1993-06-07",30,3,"F","C","2023-09-30"]
[null,null,null,null,null,"18114175-1","CLAUDIA ANDREA GALLARDO SEREI","1992-09-13",31,0,"F","C","2023-09-30"]
[null,null,null,null,null,"18972920-0","YETZABEL STEPHANIE BAEZ VILCHES","1994-11-02",28,10,"F","D","2023-09-30"]
[null,null,null,null,null,"6747074-5","CORINA DE LAS MERCED BRAVO CÁRDENAS","1953-08-14",70,1,"F","B","2023-09-30"]
[null,null,null,null,null,"8556685-7","MANUEL PATRICIO ALFARO ITURRIETA","1959-02-02",64,7,"M","C","2023-09-30"]
[null,null,null,null,null,"13764330-8","CAROLINA ANDREA ZÚÑIGA TAPIA","1980-08-11",43,1,"F","B","2023-09-30"]
[null,null,null,null,null,"17972418-9","ENRIQUE ALEJANDRO TAPIA GONZÁLEZ","1992-03-07",31,6,"M","D","2023-09-30"]
[null,null,null,null,null,"10616919-5","PRUDENCIO HERNÁN VARGAS CABRERA","1967-12-07",55,9,"M","B","2023-09-30"]
[null,null,null,null,null,"13752777-4","PABLO FRANCISCO CASTILLO GUZMÁN","1980-06-21",43,3,"M","D","2023-09-30"]
[null,null,null,null,null,"18974050-6","ALEXIS EUGENIO PALAVECINO SÁNCHEZ","1995-08-28",28,1,"M","B","2023-09-30"]
[null,null,null,null,null,"16306352-2","ANTONELLA PATRICIA LIBUY ROJAS","1986-06-22",37,3,"F","B","2023-09-30"]
[null,null,null,null,null,"15449821-4","MARCELA DEL CARMEN JARA CÓRDOVA","1981-11-27",41,10,"F","C","2023-09-30"]
[null,null,null,null,null,"16550854-8","ROBINSON ANDRÉS MARTÍNEZ CORTÍNEZ","1986-11-26",36,10,"M","X","2023-09-30"]
[null,null,null,null,null,"11313297-3","XIMENA DEL PILAR PORRAS HERRERA","1968-04-14",55,5,"F","D","2023-09-30"]
[null,null,null,null,null,"10366558-2","MAURICIO RODRIGO DÍAZ GUZMÁN","1965-11-13",57,10,"M","D","2023-09-30"]
[null,null,null,null,null,"18680303-5","DAMIÁN OCTAVIO OSORIO TOBAR","1994-04-21",29,5,"M","C","2023-09-30"]
[null,null,null,null,null,"7554287-9","MARÍA ELENA REYES BARRAZA","1953-08-20",70,1,"F","B","2023-09-30"]
[null,null,null,null,null,"7796577-7","DULIA YANETT DEL CAR OROSCO AHUMADA","1957-09-25",66,0,"F","A","2023-09-30"]
[null,null,null,null,null,"20408919-1","ÁLVARO ALEJANDRO SÁNCHEZ FARÍAS","2000-10-26",22,11,"M","B","2023-09-30"]
[null,null,null,null,null,"3087457-9","INÉS DEL CARMEN GUAJARDO CASTILLO","1933-08-24",90,1,"F","C","2023-09-30"]
[null,null,null,null,null,"9742553-1","CÉSAR ADOLFO ROMERO MORALES","1978-11-29",44,10,"M","C","2023-09-30"]
[null,null,null,null,null,"13538799-1","FABIÁN ANTONIO SALINAS SÁNCHEZ","1978-12-03",44,9,"M","X","2023-09-30"]
[null,null,null,null,null,"26004952-6","BASTIÁN EDUARDO CAMUS MUÑOZ","2017-11-22",5,10,"M","D","2023-09-30"]
[null,null,null,null,null,"7057325-3","NELSON DANIEL SOTO RIQUELME","1959-03-14",64,6,"M","B","2023-09-30"]
[null,null,null,null,null,"25214624-5","CRISTÓBAL EDUARDO LIBERÓN NÚÑEZ","2015-12-01",7,9,"M","D","2023-09-30"]
[null,null,null,null,null,"19267568-5","MELANY AMANDA CASTILLO TORRES","1995-11-30",27,10,"F","B","2023-09-30"]
[null,null,null,null,null,"8945669-K","EDUARDO SEGUNDO TOLEDO QUIJADA","1959-05-16",64,4,"M","D","2023-09-30"]
[null,null,null,null,null,"21775647-2","NOEMI ALEJANDRA OJEDA SALINAS","2005-02-16",18,7,"F","B","2023-09-30"]
[null,null,null,null,null,"11042815-4","SUSANA CECILIA PIZARRO TAPIA","1966-03-20",57,6,"F","D","2023-09-30"]
[null,null,null,null,null,"7404832-3","MARÍA ANGÉLICA MANDIOLA CAMPOS","1955-09-25",68,0,"F","B","2023-09-30"]
[null,null,null,null,null,"13746420-9","MARÍA YESENIA FLORES GARCÍA","1980-03-24",43,6,"F","C","2023-09-30"]
[null,null,null,null,null,"7113688-4","ULISES ARQUIMIDES CARRERA ORELLANA","1958-09-06",65,0,"M","D","2023-09-30"]
[null,null,null,null,null,"4169252-9","IDA DEL ROSARIO MUÑOZ ","1932-07-26",91,2,"F","B","2023-09-30"]
[null,null,null,null,null,"4114003-8","MARIO ULISES CONTRERAS ESPINOZA","1938-12-18",84,9,"M","B","2023-09-30"]
[null,null,null,null,null,"16026743-7","CÉSAR ANTONIO OLGUÍN PALACIOS","1984-11-21",38,10,"M","C","2023-09-30"]
[null,null,null,null,null,"9823688-0","MANUEL ANGEL OSORIO MIRANDA","1967-03-16",56,6,"M","C","2023-09-30"]
[null,null,null,null,null,"11731153-8","MANUEL ENRIQUE TOBAR NAVARRO","1971-04-09",52,5,"M","C","2023-09-30"]
[null,null,null,null,null,"27138939-6","CARLOS ALI GRUBER RON","2009-03-02",14,6,"M","B","2023-09-30"]
[null,null,null,null,null,"22019665-8","JESUS ALONSO GUTIÉRREZ PÉREZ","2006-01-05",17,8,"M","B","2023-09-30"]
[null,null,null,null,null,"20133711-9","DYLAN VALENTINO AREJULA VARGAS","1999-07-02",24,2,"M","B","2023-09-30"]
[null,null,null,null,null,"41245248-8","MARIA LUCIA VICENTE E SILVA","1956-09-16",67,0,"F","A","2023-09-30"]
[null,null,null,null,null,"16723117-9","CLAUDIO ANDRÉS CABEZAS VILLALOBOS","1987-03-03",36,6,"M","D","2023-09-30"]
[null,null,null,null,null,"10639926-3","JUAN CARLOS CAYUVAN MILLAR","1969-02-18",54,7,"M","D","2023-09-30"]
[null,null,null,null,null,"22209516-6","JOAQUÍN ANDRES ARAYA ROJAS","2006-09-14",17,0,"M","C","2023-09-30"]
[null,null,null,null,null,"6316485-2","ROSA DE LAS MERCEDES COLARTE FERNÁNDEZ","1950-12-18",72,9,"F","B","2023-09-30"]
[null,null,null,null,null,"24961957-4","MIA ANAHIS OLIVARES SILVA","2015-04-20",8,5,"F","A","2023-09-30"]
[null,null,null,null,null,"17818338-9","CRISTOFER FERNANDO JARA SALINAS","1991-02-24",32,7,"M","D","2023-09-30"]
[null,null,null,null,null,"8097166-4","HERNÁN VICENTE PÉREZ PÉREZ","1959-09-13",64,0,"M","D","2023-09-30"]
[null,null,null,null,null,"7502209-3","ANITA MARÍA OSORIO ACEVEDO","1955-02-22",68,7,"F","B","2023-09-30"]
[null,null,null,null,null,"9455838-7","JOSÉ MIGUEL MANDIOLA VÉLIZ","1965-01-03",58,8,"M","B","2023-09-30"]
[null,null,null,null,null,"7629777-0","PABLO ENRIQUE MONÁRDEZ JARA","1954-06-19",69,3,"M","B","2023-09-30"]
[null,null,null,null,null,"7967616-0","JULIO EDUARDO BUSTOS LEÓN","1960-05-25",63,4,"M","D","2023-09-30"]
[null,null,null,null,null,"12579324-K","LUIS CAMILO ÁVILA VARAS","1974-11-27",48,10,"M","B","2023-09-30"]
[null,null,null,null,null,"8731758-7","ROSA DE LAS MERCEDES ARAVENA CÁRCAMO","1957-08-31",66,0,"F","A","2023-09-30"]
[null,null,null,null,null,"28069907-1","ELENA ANAIS ABALLAY FERNANDEZ","2023-02-13",0,7,"F","D","2023-09-30"]
[null,null,null,null,null,"22548978-5","CATALINA PAZ MASMAN URBINA","2007-11-07",15,10,"F","D","2023-09-30"]
[null,null,null,null,null,"20159277-1","JAVIERA CAROLINA BARRERA VARAS","1999-06-10",24,3,"F","B","2023-09-30"]
[null,null,null,null,null,"13752875-4","LUIS OSVALDO BAZÁEZ REINOSO","1980-07-04",43,2,"M","D","2023-09-30"]
[null,null,null,null,null,"15505074-8","LISSETTE VICTORIA MOYA GONZÁLEZ","1982-11-18",40,10,"F","B","2023-09-30"]
[null,null,null,null,null,"21348882-1","VALENTINA ANGELA ESPEJO TORRES","2003-07-23",20,2,"F","D","2023-09-30"]
[null,null,null,null,null,"5174831-K","VÍCTOR ROLANDO BUGUEÑO VÁSQUEZ","1944-09-20",79,0,"M","B","2023-09-30"]
[null,null,null,null,null,"3379990-K","LEONOR ESTER ESCOBAR CONTRERAS","1939-07-02",84,2,"F","D","2023-09-30"]
[null,null,null,null,null,"24128740-8","ALLAN DEMIÁN HERRERA PRADO","2012-11-29",10,10,"M","C","2023-09-30"]
[null,null,null,null,null,"25453912-0","MARTINA ISABELLA SALINAS MICHEA","2016-07-22",7,2,"F","A","2023-09-30"]
[null,null,null,null,null,"17164024-5","JONATHAN ANDRÉS BARRAZA JARA","1988-09-30",35,0,"M","D","2023-09-30"]
[null,null,null,null,null,"19268493-5","JORGE LUIS CONTRERAS VERGARA","1996-05-21",27,4,"M","B","2023-09-30"]
[null,null,null,null,null,"20975757-5","BERNARDITA ESTEFANÍA CARRASCO COSSIO","2002-02-19",21,7,"F","A","2023-09-30"]
[null,null,null,null,null,"11313507-7","MARÍA CLEMENTINA PRADO MUÑOZ","1968-11-14",54,10,"F","C","2023-09-30"]
[null,null,null,null,null,"13363060-0","MANUEL DE LA CRUZ CUEVAS LERIS","1977-01-08",46,8,"M","B","2023-09-30"]
[null,null,null,null,null,"6935959-0","JOSÉ DE LOS SANTOS CARVAJAL PIZARRO","1954-01-10",69,8,"M","C","2023-09-30"]
[null,null,null,null,null,"4597539-8","FAUSTINO GUSTAVO ALFARO LAZCANO","1941-10-25",81,11,"M","C","2023-09-30"]
[null,null,null,null,null,"21874471-0","AARON ARMANDO NUÑEZ DEREAUX","2005-06-28",18,3,"M","D","2023-09-30"]
[null,null,null,null,null,"23375482-K","IGNACIA ANDREA HERRERA BRIONES","2010-07-15",13,2,"F","A","2023-09-30"]
[null,null,null,null,null,"16550843-2","MARISOL ALEJANDRA DAZA SALINAS","1987-06-10",36,3,"F","D","2023-09-30"]
[null,null,null,null,null,"25193418-5","VICENTE ALEJANDRO INOSTROZA ROMBADO","2015-11-18",7,10,"M","C","2023-09-30"]
[null,null,null,null,null,"22789667-1","ROBBIEN AGUSTÍN GARCÍA DÍAZ","2008-08-07",15,1,"M","C","2023-09-30"]
[null,null,null,null,null,"8309025-1","MARÍA DEL CARMEN ESCUDERO ESPÍNOLA","1957-10-01",65,11,"F","B","2023-09-30"]
[null,null,null,null,null,"21239701-6","MYRIAM PAULINA URZUA PARRA","2003-02-20",20,7,"F","X","2023-09-30"]
[null,null,null,null,null,"27705249-0","AMPARO ISABELLA CONTRERAS MONTENEGRO","2022-01-23",1,8,"F","B","2023-09-30"]
[null,null,null,null,null,"20408630-3","BRIAN JESÚS BARRERA PONCE","2000-08-15",23,1,"M","D","2023-09-30"]
[null,null,null,null,null,"5730837-0","ROSA ERNESTINA LEIVA ULLOA","1949-10-21",73,11,"F","B","2023-09-30"]
[null,null,null,null,null,"16390915-4","CRISTÓBAL ANDRÉS ASTUDILLO MORALES","1986-05-14",37,4,"M","D","2023-09-30"]
[null,null,null,null,null,"9732286-4","LUCRECIA MARGARITA SAA LAZCANO","1965-05-17",58,4,"F","B","2023-09-30"]
[null,null,null,null,null,"17164607-3","FRANCISCA CAROLA MARTÍNEZ CÉSPEDES","1989-06-26",34,3,"F","D","2023-09-30"]
[null,null,null,null,null,"16305922-3","DENISSE ALEXANDRA ARRIAZA VÁSQUEZ","1986-03-07",37,6,"F","C","2023-09-30"]
[null,null,null,null,null,"10531659-3","HÉCTOR ULISES TARDÓN SUAZO","1970-01-14",53,8,"M","D","2023-09-30"]
[null,null,null,null,null,"7454052-K","JOSÉ ROSENDO SALAS SALAS","1952-06-03",71,3,"M","B","2023-09-30"]
[null,null,null,null,null,"14545458-1","ALEJANDRO AURELIO MOLINA OLIVA","1976-05-15",47,4,"M","B","2023-09-30"]
[null,null,null,null,null,"18972831-K","MÓNICA VANESA DÍAZ DÍAZ","1994-11-01",28,10,"F","B","2023-09-30"]
[null,null,null,null,null,"25518413-K","FLORENCIA CATALINA RIVAS NAVARRO","2016-09-24",7,0,"F","D","2023-09-30"]
[null,null,null,null,null,"3865540-K","JOSÉ DAVID CAMPOS HENRÍQUEZ","1935-09-03",88,0,"M","B","2023-09-30"]
[null,null,null,null,null,"16348133-2","OSCAR ANDRÉS ALARCÓN VILLARROEL","1986-10-06",36,11,"M","X","2023-09-30"]
[null,null,null,null,null,"11517956-K","RICARDO HERNÁN SALINAS LEIVA","1970-05-01",53,4,"M","D","2023-09-30"]
[null,null,null,null,null,"10187694-2","EVA SOLEDAD ALFARO GALDÁMEZ","1971-06-10",52,3,"F","A","2023-09-30"]
[null,null,null,null,null,"24619124-7","KAMILA ANTONYA GARCÍA LEPE","2014-05-08",9,4,"F","A","2023-09-30"]
[null,null,null,null,null,"11940398-7","JALIMA HILDA CORTÉS CORTÉS","1972-07-02",51,2,"F","D","2023-09-30"]
[null,null,null,null,null,"27276459-K","JEIKOB LUCIAN GONZALEZ JAIME","2020-05-10",3,4,"M","A","2023-09-30"]
[null,null,null,null,null,"12244380-9","SALHATIEL JESÚS HUENCHUR ROMERO","1972-05-22",51,4,"M","B","2023-09-30"]
[null,null,null,null,null,"8814021-4","HORACIO HERNÁN TORRES MENA","1964-11-14",58,10,"M","B","2023-09-30"]
[null,null,null,null,null,"20754148-6","SOFÍA CATALINA AHUMADA REYES","2001-10-31",21,10,"F","B","2023-09-30"]
[null,null,null,null,null,"10568837-7","MARISOL DE LAS MERCE OYANEDEL PÉREZ","1964-05-24",59,4,"F","A","2023-09-30"]
[null,null,null,null,null,"20936637-1","ALEXIS ANDRÉS MELLA HERNÁNDEZ","2001-12-10",21,9,"M","C","2023-09-30"]
[null,null,null,null,null,"12529795-1","JUAN CARLOS JIMÉNEZ VERGARA","1973-04-26",50,5,"M","B","2023-09-30"]
[null,null,null,null,null,"24457668-0","DORALBA MOTATO OCAMPO","1977-01-26",46,8,"F","B","2023-09-30"]
[null,null,null,null,null,"15919685-2","CRISTIAN ANTONIO PUGA MOLINA","1985-03-25",38,6,"M","D","2023-09-30"]
[null,null,null,null,null,"24096701-4","ISIDORA SOLEDAD MENESES AGÜERO","2012-10-19",10,11,"F","A","2023-09-30"]
[null,null,null,null,null,"21732159-K","KYARA IGNACIA ANDREA VARAS IBACETA","2004-11-30",18,10,"F","D","2023-09-30"]
[null,null,null,null,null,"17638082-9","MARÍA ESTER LEVÍN CURINAO","1988-08-05",35,1,"F","B","2023-09-30"]
[null,null,null,null,null,"6720819-6","JUAN GUILLERMO LEIVA MONTENEGRO","1950-06-25",73,3,"M","C","2023-09-30"]
[null,null,null,null,null,"19888007-8","NICOLÁS LEANDRO BARRIENTOS CHACÓN","1997-04-05",26,5,"M","D","2023-09-30"]
[null,null,null,null,null,"19268876-0","SUSANA NOELIA VARAS SÁNCHEZ","1996-10-03",26,11,"F","A","2023-09-30"]
[null,null,null,null,null,"25857721-3","AGUSTINA IGNACIA FUENTES SANTIBÁÑEZ","2017-08-03",6,1,"F","B","2023-09-30"]
[null,null,null,null,null,"10638330-8","MYRIAM LUZ REYES ALFARO","1968-06-16",55,3,"F","B","2023-09-30"]
[null,null,null,null,null,"23094224-2","JAVIERA IGNACIA GUAJARDO ROZAS","2009-08-11",14,1,"F","C","2023-09-30"]
[null,null,null,null,null,"24765832-7","VASCO AGUSTÍN JARA RIVES","2014-10-10",8,11,"M","B","2023-09-30"]
[null,null,null,null,null,"6275049-9","LUIS AGUSTÍN URTUBIA SILVA","1949-10-19",73,11,"M","B","2023-09-30"]
[null,null,null,null,null,"25365503-8","LUCAS MATEO OJEDA PÁEZ","2016-04-28",7,5,"M","C","2023-09-30"]
[null,null,null,null,null,"21040476-7","VERÓNICA FERNANDA VILLAGRÁN ROJAS","2002-06-10",21,3,"F","B","2023-09-30"]
[null,null,null,null,null,"14358628-6","PILAR ALEJANDRA VILLALOBOS LÓPEZ","1977-04-20",46,5,"F","D","2023-09-30"]
[null,null,null,null,null,"14093847-5","CÉSAR ANTONIO AVENDAÑO ORTIZ","1981-02-17",42,7,"M","D","2023-09-30"]
[null,null,null,null,null,"18384602-7","FRANCO ENRIQUE GALLARDO AYALA","1992-10-17",30,11,"M","D","2023-09-30"]
[null,null,null,null,null,"26683799-2","ANA SOFIA VENTE ANGULO","2003-12-18",19,9,"F","B","2023-09-30"]
[null,null,null,null,null,"23337655-8","CRISTÓBAL BENJAMÍN CORREA PINEDA","2010-05-30",13,4,"M","A","2023-09-30"]
[null,null,null,null,null,"24793066-3","EMILIA ANAHIS LOBO DELGADO","2014-11-08",8,10,"F","A","2023-09-30"]
[null,null,null,null,null,"4903531-4","HUGO ENRIQUE GUERRA PULGAR","1942-04-09",81,5,"M","B","2023-09-30"]
[null,null,null,null,null,"9074347-3","MARÍA TERESA VALENZUELA GÓMEZ","1956-09-17",67,0,"F","A","2023-09-30"]
[null,null,null,null,null,"10271334-6","ADELINA ROSA POBLETE ÁLVAREZ","1966-03-10",57,6,"F","C","2023-09-30"]
[null,null,null,null,null,"19887378-0","MATÍAS ANDRÉS VALLEJOS SÁNCHEZ","1998-02-08",25,7,"M","B","2023-09-30"]
[null,null,null,null,null,"12578744-4","LIDIA MARICEL VILLARROEL PINO","1974-04-12",49,5,"F","B","2023-09-30"]
[null,null,null,null,null,"27608543-3","LUKAS SANTINO MANZANO MONTENEGRO","2021-08-30",2,1,"M","B","2023-09-30"]
[null,null,null,null,null,"26096138-1","ANTONIA LUCÍA VALDÉS ALARCÓN","2018-01-27",5,8,"F","B","2023-09-30"]
[null,null,null,null,null,"18384765-1","DENISSE ESTHER ARAYA TRIVIÑO","1992-12-03",30,9,"F","C","2023-09-30"]
[null,null,null,null,null,"10305944-5","JESSICA ANAHI REYES VIDAL","1981-12-13",41,9,"F","A","2023-09-30"]
[null,null,null,null,null,"17300083-9","PATRICIA ICALU HERRADA VILLARROEL","1989-06-14",34,3,"F","A","2023-09-30"]
[null,null,null,null,null,"24763317-0","RENATA AGUSTINA ISABELLA JOFRÉ BONACIC","2014-10-06",8,11,"F","A","2023-09-30"]
[null,null,null,null,null,"18680886-K","JAIME IGNACIO IBACETA GONZÁLEZ","1994-08-28",29,1,"M","D","2023-09-30"]
[null,null,null,null,null,"22821503-1","SOFÍA AYLEÉN PERALTA PALACIOS","2008-09-16",15,0,"F","B","2023-09-30"]
[null,null,null,null,null,"23047615-2","MARTÍN ALEJANDRO GUTIÉRREZ TOLEDO","2009-06-15",14,3,"M","D","2023-09-30"]
[null,null,null,null,null,"17818659-0","VÍCTOR GERVACIO MEJÍAS ESTAY","1991-05-02",32,4,"M","B","2023-09-30"]
[null,null,null,null,null,"25319955-5","RENATO ALEJANDRO BERNAL ARRIOLA","2016-03-13",7,6,"M","A","2023-09-30"]
[null,null,null,null,null,"11944254-0","JESSICA DEL CARMEN GARRIDO TORREJÓN","1972-02-12",51,7,"F","B","2023-09-30"]
[null,null,null,null,null,"16027151-5","ALFONSO ORLANDO CALDERÓN VÉLIZ","1985-05-25",38,4,"M","X","2023-09-30"]
[null,null,null,null,null,"10427225-8","GUISSELLE SOLANGE ÁVILA MONTENEGRO","1969-02-25",54,7,"F","B","2023-09-30"]
[null,null,null,null,null,"24335754-3","MARTHA BARRERA MAMANI","1979-01-01",44,8,"F","D","2023-09-30"]
[null,null,null,null,null,"10733985-K","ADÁN SEGUNDO GONZÁLEZ MARTÍNEZ","1966-10-22",56,11,"M","C","2023-09-30"]
[null,null,null,null,null,"15421394-5","MARÍA BEATRIZ FIGUEROA SALINAS","1982-05-08",41,4,"F","D","2023-09-30"]
[null,null,null,null,null,"11320566-0","MIRTHA ROSSANA TOLEDO AHUMADA","1968-10-25",54,11,"F","D","2023-09-30"]
[null,null,null,null,null,"16550950-1","JUAN GUILLERMO VILLANUEVA DÍAZ","1987-06-25",36,3,"M","B","2023-09-30"]
[null,null,null,null,null,"23284072-2","PALOMA BELÉN YESHUA GUAJARDO IRARRÁZABAL","2010-03-24",13,6,"F","B","2023-09-30"]
[null,null,null,null,null,"19268841-8","GHISLAINE CONSTANZA CATALÁN BUSTAMANTE","1996-10-13",26,11,"F","B","2023-09-30"]
[null,null,null,null,null,"10869003-8","CAROLA DEL CARMEN RAMÍREZ NIETO","1970-01-09",53,8,"F","B","2023-09-30"]
[null,null,null,null,null,"9650181-1","SOLEDAD DEL PILAR HERRERA ZAMORA","1961-10-20",61,11,"F","B","2023-09-30"]
[null,null,null,null,null,"17468241-0","DENISSE MABEL MARTÍNEZ HERRERA","1989-08-29",34,1,"F","D","2023-09-30"]
[null,null,null,null,null,"4349588-7","YOLANDA DEL TRÁNSITO HERRERA VÁSQUEZ","1934-04-30",89,5,"F","B","2023-09-30"]
[null,null,null,null,null,"4579565-9","ADRIANA DEL TRÁNSITO ARREDONDO HERRERA","1935-04-03",88,5,"F","B","2023-09-30"]
[null,null,null,null,null,"11381016-5","YARELA YANNETT CERDA FERNÁNDEZ","1969-02-07",54,7,"F","X","2023-09-30"]
[null,null,null,null,null,"7320055-5","RUTH DEL CARMEN CASTILLO HERNÁNDEZ","1947-12-07",75,9,"F","B","2023-09-30"]
[null,null,null,null,null,"6713703-5","HERNÁN TOMÁS SALINAS SALINAS","1951-06-19",72,3,"M","C","2023-09-30"]
[null,null,null,null,null,"25969622-4","EMILIA PASCALE PONCE VILLARROEL","2017-11-02",5,10,"F","C","2023-09-30"]
[null,null,null,null,null,"24313451-K","MARIANO ANTONIO DÍAZ MUÑOZ","2013-06-19",10,3,"M","B","2023-09-30"]
[null,null,null,null,null,"15155264-1","DOMITILA MAGDALENA MALDONADO POBLETE","1982-03-17",41,6,"F","A","2023-09-30"]
[null,null,null,null,null,"8220389-3","ELENA ELISA TORRES GONZÁLEZ","1959-10-29",63,11,"F","A","2023-09-30"]
[null,null,null,null,null,"5944560-K","ADELA DEL CARMEN COVARRUBIAS BAEZ","1947-10-09",75,11,"F","B","2023-09-30"]
[null,null,null,null,null,"13827061-0","ELBA DEL ROSARIO GONZÁLEZ GONZÁLEZ","1979-12-11",43,9,"F","B","2023-09-30"]
[null,null,null,null,null,"19268702-0","FRANCISCO JAVIER ARCOS SEVERINO","1996-09-02",27,0,"M","D","2023-09-30"]
[null,null,null,null,null,"25411178-3","RAFFAELLA EMILIA VARAS CARVACHO","2016-06-13",7,3,"F","B","2023-09-30"]
[null,null,null,null,null,"21522869-K","JOSE IGNACIO GONZALEZ CARVAJAL","2004-03-02",19,6,"M","D","2023-09-30"]
[null,null,null,null,null,"23484153-K","EDWARD ALEXANDER JARA JARA","2010-11-17",12,10,"M","A","2023-09-30"]
[null,null,null,null,null,"13238085-6","ÍTALO ENRIQUE BARAHONA TORO","1977-06-03",46,3,"M","B","2023-09-30"]
[null,null,null,null,null,"10333576-0","SANDRA YOLANDA ACOSTA PATRONI","1969-03-19",54,6,"F","B","2023-09-30"]
[null,null,null,null,null,"27546667-0","ISABELLA ANTONIA FARIAS ECHEVERRIA","2021-06-01",2,3,"F","C","2023-09-30"]
[null,null,null,null,null,"25071420-3","JULIAN ALEJANDRO AGUILERA VARGAS","2015-08-10",8,1,"M","D","2023-09-30"]
[null,null,null,null,null,"7080555-3","MIGUEL ANGEL RAMÍREZ VARGAS","1954-04-18",69,5,"M","C","2023-09-30"]
[null,null,null,null,null,"22246436-6","MAITE ANAÍS REYES CARRASCO","2006-10-23",16,11,"F","B","2023-09-30"]
[null,null,null,null,null,"19888465-0","GABRIELA VALENTINA OLIVARES GÓMEZ","1998-10-26",24,11,"F","B","2023-09-30"]
[null,null,null,null,null,"17187519-6","MARÍA CLAUDINA MORAGA GÓMEZ","1988-12-25",34,9,"F","B","2023-09-30"]
[null,null,null,null,null,"13185472-2","MARCOS ANTONIO REYES SÁNCHEZ","1977-06-17",46,3,"M","B","2023-09-30"]
[null,null,null,null,null,"23443811-5","JEREMY ALEXIS ARAYA ÓRDENES","2010-10-06",12,11,"M","B","2023-09-30"]
[null,null,null,null,null,"8380975-2","MARÍA ELENA ÁLVAREZ GUERRA","1959-09-29",64,0,"F","C","2023-09-30"]
[null,null,null,null,null,"9012529-K","FRANCISCO EUGENIO MURA OSORIO","1962-10-07",60,11,"M","A","2023-09-30"]
[null,null,null,null,null,"27021458-4","EMILIA IGNACIA GONZALEZ BERRIOS","2019-09-15",4,0,"F","A","2023-09-30"]
[null,null,null,null,null,"11517946-2","SUCY DEL ROSARIO HERRERA ZAMORA","1969-03-24",54,6,"F","A","2023-09-30"]
[null,null,null,null,null,"24812657-4","ANA CATTALEYA RAMÍREZ MAMANI","2014-11-20",8,10,"F","A","2023-09-30"]
[null,null,null,null,null,"6940286-0","MARÍA INÉS LEAL TRONCOSO","1936-06-11",87,3,"F","B","2023-09-30"]
[null,null,null,null,null,"17164989-7","JORGE VICENTE JARA SALINAS","1989-09-16",34,0,"M","D","2023-09-30"]
[null,null,null,null,null,"17819229-9","JORDÁN SEBASTIÁN MEJÍAS FLEITA","1991-09-14",32,0,"M","D","2023-09-30"]
[null,null,null,null,null,"25129398-8","FELIPE IGNACIO ABARCA LEÓN","2015-09-25",8,0,"M","C","2023-09-30"]
[null,null,null,null,null,"17646194-2","VERÓNICA ISABEL PEREIRA URBINA","1990-09-01",33,0,"F","B","2023-09-30"]
[null,null,null,null,null,"13752802-9","MIGUEL ANDRÉS SILVA MURA","1980-10-15",42,11,"M","C","2023-09-30"]
[null,null,null,null,null,"27519679-7","MATEO ALEJANDRO RAMIREZ SOTO","2021-05-03",2,4,"M","D","2023-09-30"]
[null,null,null,null,null,"17469633-0","MARÍA JOSÉ ECHEVERRÍA ESTAY","1990-07-29",33,2,"F","C","2023-09-30"]
[null,null,null,null,null,"26507444-8","JOSUÉ MARDOCHÉ ORICE PIERRE","2018-10-03",4,11,"M","C","2023-09-30"]
[null,null,null,null,null,"18679829-5","SEBASTIÁN ANTONIO GONZÁLEZ CAMPOS","1991-06-06",32,3,"M","C","2023-09-30"]
[null,null,null,null,null,"26149728-K","FANEL CAPY ","1984-06-03",39,3,"M","B","2023-09-30"]
[null,null,null,null,null,"17164752-5","SEBASTIÁN AURELIO MUÑOZ ROJAS","1988-06-09",35,3,"M","D","2023-09-30"]
[null,null,null,null,null,"12579048-8","MARITZA DE LAS MERCEDES CAMPOS SALINAS","1974-08-23",49,1,"F","D","2023-09-30"]
[null,null,null,null,null,"12166378-3","TOMÁS EUGENIO GONZÁLEZ LARA","1977-12-09",45,9,"M","D","2023-09-30"]
[null,null,null,null,null,"18113125-K","YORDAN EXEQUIEL SALINAS CERDA","1991-12-15",31,9,"M","B","2023-09-30"]
[null,null,null,null,null,"11517963-2","JUAN RICARDO MORALES FARÍAS","1970-08-02",53,1,"M","D","2023-09-30"]
[null,null,null,null,null,"6485907-2","JUANA ROSA OLIVARES MORA","1947-03-28",76,6,"F","B","2023-09-30"]
[null,null,null,null,null,"4760063-4","ANA OLIVIA VARGAS VILLARROEL","1941-08-21",82,1,"F","B","2023-09-30"]
[null,null,null,null,null,"27020376-0","JULYAN ALONSO URTUBIA LABRA","2019-09-16",4,0,"M","A","2023-09-30"]
[null,null,null,null,null,"27492620-1","ANTONELLA ANAÍS HERRERA OLIVARES","2021-03-21",2,6,"F","D","2023-09-30"]
[null,null,null,null,null,"13827603-1","GLORIA EDITH BARRAZA MARTÍNEZ","1980-07-04",43,2,"F","A","2023-09-30"]
[null,null,null,null,null,"5164993-1","VÍCTOR ENRIQUE GUTIÉRREZ VARGAS","1942-05-29",81,4,"M","B","2023-09-30"]
[null,null,null,null,null,"15819050-8","FRANCISCO ANDRÉS REINOSO MURA","1984-10-04",38,11,"M","D","2023-09-30"]
[null,null,null,null,null,"28055087-6","JACOB ALEXANDER MEJÍAS ARANCIBIA","2023-01-27",0,8,"M","A","2023-09-30"]
[null,null,null,null,null,"10479405-K","ANA MARÍA MARTÍNEZ SALINAS","1967-01-21",56,8,"F","X","2023-09-30"]
[null,null,null,null,null,"18679417-6","NICOL ALEXSANDRA ESTAY VALENZUELA","1993-09-29",30,0,"F","A","2023-09-30"]
[null,null,null,null,null,"22636853-1","MAGDALENA ANTONIA PEREIRA DELGADO","2008-01-31",15,7,"F","A","2023-09-30"]
[null,null,null,null,null,"8141447-5","MARÍA SOLEDAD ORREGO PINO","1960-05-18",63,4,"F","D","2023-09-30"]
[null,null,null,null,null,"21044055-0","JETZABEL CONSTANZA SILVA SILVA","2002-06-21",21,3,"F","B","2023-09-30"]
[null,null,null,null,null,"9753789-5","JAIME ABEL MORALES FARÍAS","1965-11-12",57,10,"M","D","2023-09-30"]
[null,null,null,null,null,"11313528-K","MARÍA TERESA ARENAS ORELLANA","1968-11-01",54,10,"F","D","2023-09-30"]
[null,null,null,null,null,"27534847-3","ADAYANA CRUZ MAMANI","2000-07-23",23,2,"F","B","2023-09-30"]
[null,null,null,null,null,"21889124-1","ALBERTO CAPAC VALDIVIA SALAS","2005-07-21",18,2,"M","D","2023-09-30"]
[null,null,null,null,null,"23481429-K","ISABELLA ANAHIS GONZÁLEZ TORRES","2010-11-11",12,10,"F","A","2023-09-30"]
[null,null,null,null,null,"19268511-7","ANGELO LUCIANO DANIELLI ARCOS","1996-07-08",27,2,"M","D","2023-09-30"]
[null,null,null,null,null,"28117564-5","IAN MARSEL PEREIRA GONZALEZ","2023-04-08",0,5,"M","C","2023-09-30"]
[null,null,null,null,null,"13752764-2","JULIO DEL CARMEN RAMÍREZ BERRÍOS","1980-07-15",43,2,"M","D","2023-09-30"]
[null,null,null,null,null,"21633881-2","ANTONIA ESPERANZA RIQUELME ESCOBAR","2004-08-09",19,1,"F","D","2023-09-30"]
[null,null,null,null,null,"22846952-1","JOAQUÍN BERNARDO ORTEGA PALAVECINO","2008-10-19",14,11,"M","D","2023-09-30"]
[null,null,null,null,null,"26531042-7","AUGUSTO ERNESTO LEÓN ASTUDILLO","2018-10-19",4,11,"M","D","2023-09-30"]
[null,null,null,null,null,"9377377-2","BETTY DEL CARMEN CAMPOS GONZÁLEZ","1960-06-16",63,3,"F","B","2023-09-30"]
[null,null,null,null,null,"5174616-3","HELIO DEL CARMEN MORALES RAMÍREZ","1945-03-09",78,6,"M","B","2023-09-30"]
[null,null,null,null,null,"22535465-0","KAEL ELÍAS ARANCIBIA MUÑOZ","2007-10-23",15,11,"M","D","2023-09-30"]
[null,null,null,null,null,"13982743-0","RODRIGO ENRIQUE OLIVARES MORALES","1981-11-04",41,10,"M","D","2023-09-30"]
[null,null,null,null,null,"9282955-3","ANA ISABEL MUÑOZ SALINAS","1963-02-04",60,7,"F","B","2023-09-30"]
[null,null,null,null,null,"24519612-1","JOSUE MARTÍN SÁNCHEZ MARTÍNEZ","2014-01-24",9,8,"M","C","2023-09-30"]
[null,null,null,null,null,"4867442-9","ROBERTO ENRIQUE DUREAUX DUREAUX","1943-07-27",80,2,"M","B","2023-09-30"]
[null,null,null,null,null,"28042005-0","MATTEO DEL PIERO MEJÍAS BUGUEÑO","2023-01-16",0,8,"M","B","2023-09-30"]
[null,null,null,null,null,"12127779-4","GERARDO ERNESTO ESPÍNOLA ARANCIBIA","1975-02-15",48,7,"M","D","2023-09-30"]
[null,null,null,null,null,"16026817-4","CLARA ELENA GONZÁLEZ ESPINOZA","1985-02-11",38,7,"F","B","2023-09-30"]
[null,null,null,null,null,"21440564-4","FRANCISCA DE LOS ANGELES RODRÍGUEZ PEREIRA","2003-11-11",19,10,"F","C","2023-09-30"]
[null,null,null,null,null,"20357854-7","JAVIERA ANDREA LABRA HINOJOSA","2000-08-03",23,1,"F","C","2023-09-30"]
[null,null,null,null,null,"8440505-1","RAMÓN VICTORINO BARRAZA VILLARROEL","1958-11-24",64,10,"M","D","2023-09-30"]
[null,null,null,null,null,"3257823-3","JOSÉ HUMBERTO CATALDO VILA","1943-12-07",79,9,"M","C","2023-09-30"]
[null,null,null,null,null,"26461309-4","STEVENS ORICE ","1986-05-24",37,4,"M","C","2023-09-30"]
[null,null,null,null,null,"11546058-7","RICARDO ISMAEL HERNÁNDEZ DURÁN","1970-01-24",53,8,"M","B","2023-09-30"]
[null,null,null,null,null,"25495458-6","ANTONELA DEL ROSARIO PEREIRA BARRAZA","2016-09-01",7,0,"F","C","2023-09-30"]
[null,null,null,null,null,"7429285-2","INÉS DE LAS MERCEDES COVARRUBIAS BAEZ","1951-11-02",71,10,"F","B","2023-09-30"]
[null,null,null,null,null,"24132643-8","RAQUEL LEONOR PEREIRA BARRAZA","2012-12-03",10,9,"F","C","2023-09-30"]
[null,null,null,null,null,"28073010-6","MATIAS SANTIAGO DIAZ MUÑOZ","2023-02-19",0,7,"M","B","2023-09-30"]
[null,null,null,null,null,"5692425-6","EDMUNDO HUMBERTO GUTIÉRREZ MADRID","1946-02-10",77,7,"M","D","2023-09-30"]
[null,null,null,null,null,"26896983-7","GERARDO ALONSO ESPÍNOLA PAVEZ","2019-07-01",4,2,"M","B","2023-09-30"]
[null,null,null,null,null,"7568481-9","EDUARDO ANSELMO SALINAS SALINAS","1960-06-16",63,3,"M","D","2023-09-30"]
[null,null,null,null,null,"22735475-5","KARINA IGNACIA HERRERA ARENAS","2008-05-17",15,4,"F","D","2023-09-30"]
[null,null,null,null,null,"25271178-3","LAURA AMANDA MELO MARTINEZ","2016-02-01",7,7,"F","B","2023-09-30"]
[null,null,null,null,null,"11730719-0","CARLA MARÍA FLORES GUAJARDO","1971-07-15",52,2,"F","B","2023-09-30"]
[null,null,null,null,null,"10828118-9","MIRIAM DEL TRÁNSITO FARÍAS ASTORGA","1966-08-04",57,1,"F","A","2023-09-30"]
[null,null,null,null,null,"18679600-4","VICTORIA MARÍA ALEJANDRA SALINAS CERDA","1993-11-06",29,10,"F","B","2023-09-30"]
[null,null,null,null,null,"27817751-3","EMILIANO DAVID JESÚS VARGAS LIZAMA","2022-06-07",1,3,"M","C","2023-09-30"]
[null,null,null,null,null,"20093423-7","GABRIEL IGNACIO CÁRDENAS MATURANA","1998-12-30",24,9,"M","C","2023-09-30"]
[null,null,null,null,null,"5569837-6","MARCIA EUGENIA REYES OSORIO","1947-04-09",76,5,"F","B","2023-09-30"]
[null,null,null,null,null,"11256036-K","MARCO ANTONIO BRIONES LAZCANO","1968-03-23",55,6,"M","D","2023-09-30"]
[null,null,null,null,null,"25913711-K","LIAM ULISES SILVA JARA","2017-09-14",6,0,"M","A","2023-09-30"]
[null,null,null,null,null,"15092497-9","ROQUE MANUEL DÍAZ CRISTI","1983-04-05",40,5,"M","C","2023-09-30"]
[null,null,null,null,null,"20133299-0","NICOL ALEJANDRA SÁNCHEZ SÁNCHEZ","1999-06-18",24,3,"F","B","2023-09-30"]
[null,null,null,null,null,"7259005-8","ALFREDO ALFONSO ÁLVAREZ GONZÁLEZ","1960-10-13",62,11,"M","D","2023-09-30"]
[null,null,null,null,null,"22530642-7","JOAQUÍN DAVID FLORES MORALES","2007-10-19",15,11,"M","D","2023-09-30"]
[null,null,null,null,null,"25969688-7","ISABELLA BELÉN ÓRDENES CARRASCO","2017-11-03",5,10,"F","A","2023-09-30"]
[null,null,null,null,null,"13185455-2","SONIA DEL CARMEN MARTÍNEZ LÓPEZ","1977-03-23",46,6,"F","B","2023-09-30"]
[null,null,null,null,null,"27080646-5","MARIANO LEON ALARCON MESA","2019-11-07",3,10,"M","D","2023-09-30"]
[null,null,null,null,null,"11731149-K","JUAN MIGUEL MURA COVARRUBIAS","1971-03-24",52,6,"M","B","2023-09-30"]
[null,null,null,null,null,"17818222-6","MARIO ALEJANDRO MARTÍNEZ FLORES","1991-01-21",32,8,"M","B","2023-09-30"]
[null,null,null,null,null,"7725383-1","MIGUEL DOMINGO PEREIRA MARTÍNEZ","1955-08-11",68,1,"M","B","2023-09-30"]
[null,null,null,null,null,"12950724-1","OSCAR ROBERTO CAICEO INOSTROZA","1976-05-17",47,4,"M","D","2023-09-30"]
[null,null,null,null,null,"27305327-1","BENJAMIN NICOLAS SALAS TOLEDO","2020-07-03",3,2,"M","C","2023-09-30"]
[null,null,null,null,null,"14279487-K","LORENA ANDREA HERRERA ZAMORA","1973-08-18",50,1,"F","D","2023-09-30"]
[null,null,null,null,null,"19594266-8","CAMILO IGNACIO MUÑOZ ARAYA","1997-09-24",26,0,"M","B","2023-09-30"]
[null,null,null,null,null,"3712539-3","VIRJINIA DE JESÚS ITURRIETA  ","1928-08-01",95,1,"F","B","2023-09-30"]
[null,null,null,null,null,"18973342-9","ANTONIA DEL PILAR PAVEZ LEÓN","1995-02-27",28,7,"F","B","2023-09-30"]
[null,null,null,null,null,"17647327-4","JOSÉ MANUEL ÓRDENES HENRÍQUEZ","1991-03-16",32,6,"M","D","2023-09-30"]
[null,null,null,null,null,"24479574-9","LUKAS MARCELO LEÓN COROCEO","2013-12-10",9,9,"M","C","2023-09-30"]
[null,null,null,null,null,"12817563-6","MARISEL DEL ROSARIO SÁNCHEZ PIZARRO","1975-05-11",48,4,"F","A","2023-09-30"]
[null,null,null,null,null,"25822955-K","RAFAELA ANAYS ORTEGA PALAVECINO","2017-07-05",6,2,"F","D","2023-09-30"]
[null,null,null,null,null,"25440704-6","RICARDO DANIEL LAZCANO SÁNCHEZ","2016-07-12",7,2,"M","A","2023-09-30"]
[null,null,null,null,null,"3652248-8","JULIO ALBERTO TAPIA QUIROZ","1933-10-09",89,11,"M","B","2023-09-30"]
[null,null,null,null,null,"5987451-9","JUAN FRANCISCO CARVACHO RODRÍGUEZ","1949-07-13",74,2,"M","D","2023-09-30"]
[null,null,null,null,null,"13982391-5","PATRICIO LEONARDO JARA JARA","1981-09-27",42,0,"M","A","2023-09-30"]
[null,null,null,null,null,"8265434-8","NELLY DEL CARMEN ORTEGA ARAYA","1961-06-23",62,3,"F","A","2023-09-30"]
[null,null,null,null,null,"17468256-9","MACARENA CECILIA MESA TRIVIÑO","1989-11-14",33,10,"F","D","2023-09-30"]
[null,null,null,null,null,"10570725-8","JEANETTE DEL CARMEN ESTAY ORTEGA","1966-03-29",57,6,"F","A","2023-09-30"]
[null,null,null,null,null,"25363247-K","VICENTE DAVID CHAPARRO PEREZ","2016-04-25",7,5,"M","A","2023-09-30"]
[null,null,null,null,null,"23495747-3","GAEL DAMIÁN CORTEZ MARTÍNEZ","2010-12-02",12,9,"M","C","2023-09-30"]
[null,null,null,null,null,"18385036-9","DIEGO ALONSO MORALES HERRERA","1993-01-19",30,8,"M","B","2023-09-30"]
[null,null,null,null,null,"17468273-9","YESENIA NICOL PALAVECINO BERRÍOS","1989-11-08",33,10,"F","B","2023-09-30"]
[null,null,null,null,null,"27883737-8","TOMAS JAVIER GOMEZ GONZALEZ","2022-08-10",1,1,"M","B","2023-09-30"]
[null,null,null,null,null,"21986090-0","LUIS ALBERTO VARGAS ESTAY","2005-11-21",17,10,"M","B","2023-09-30"]
[null,null,null,null,null,"12283099-3","PAOLA JEANNETTE CORTÉS SALAZAR","1972-02-03",51,7,"F","A","2023-09-30"]
[null,null,null,null,null,"23396377-1","PIERINA DAKOTA MUÑOZ BARRAZA","2010-08-12",13,1,"F","C","2023-09-30"]
[null,null,null,null,null,"7807660-7","NANCY BEATRIZ OLIVARES COLOMBO","1963-08-24",60,1,"F","B","2023-09-30"]
[null,null,null,null,null,"9119771-5","LUIS ALBERTO DEL CAR SALINAS GALLARDO","1961-12-19",61,9,"M","D","2023-09-30"]
[null,null,null,null,null,"6427216-0","ELIANA EVARISTA DEL CARMEN CÓRDOVA GALAZ","1950-05-18",73,4,"F","B","2023-09-30"]
[null,null,null,null,null,"8201348-2","ELENA LUISA VARGAS CARVAJAL","1954-08-18",69,1,"F","B","2023-09-30"]
[null,null,null,null,null,"9789234-2","JACQUELINE DE LAS MERCEDES ESTAY ORTEGA","1967-06-13",56,3,"F","B","2023-09-30"]
[null,null,null,null,null,"16234302-5","ELENA SOLANGE RIVERA ÁLVAREZ","1986-05-01",37,4,"F","D","2023-09-30"]
[null,null,null,null,null,"10131266-6","ISABEL DE LAS MERCED SILVA CASTRO","1963-04-04",60,5,"F","B","2023-09-30"]
[null,null,null,null,null,"27881110-7","MATILDA ANTONIA LEON BECERRA","2022-08-08",1,1,"F","D","2023-09-30"]
[null,null,null,null,null,"12950014-K","PEDRO PABLO SÁNCHEZ BARRAZA","1976-04-08",47,5,"M","D","2023-09-30"]
[null,null,null,null,null,"26959516-7","ETHAN ANDRÉS HIDALGO VIEIRA","2019-08-09",4,1,"M","A","2023-09-30"]
[null,null,null,null,null,"16851548-0","ESTEFANÍA ALEXANDRA MUÑOZ LEÓN","1988-01-30",35,8,"F","C","2023-09-30"]
[null,null,null,null,null,"27119777-2","CALEB ISRAEL DIAZ MARTINEZ","2019-12-09",3,9,"M","C","2023-09-30"]
[null,null,null,null,null,"10843484-8","FÉLIX DANIEL PONCE URBINA","1970-01-07",53,8,"M","D","2023-09-30"]
[null,null,null,null,null,"7291482-1","MOISÉS ENRIQUE ARCOS VALDÉS","1953-08-09",70,1,"M","D","2023-09-30"]
[null,null,null,null,null,"20407773-8","ANA ESCARLET LÓPEZ DÍAZ","2000-01-03",23,8,"F","D","2023-09-30"]
[null,null,null,null,null,"10642677-5","XIMENA PAULINA ALCAYAGA RAMÍREZ","1970-05-12",53,4,"F","A","2023-09-30"]
[null,null,null,null,null,"25660663-1","VALENTINA JAVIERA MUÑOZ ARREDONDO","2017-02-01",6,7,"F","B","2023-09-30"]
[null,null,null,null,null,"10499547-0","LUIS ADÁN PALAVECINO JOFRÉ","1967-04-07",56,5,"M","C","2023-09-30"]
[null,null,null,null,null,"11519525-5","MARÍA TERESA MORALES GONZÁLEZ","1970-03-07",53,6,"F","D","2023-09-30"]
[null,null,null,null,null,"5108166-8","CLEMENTINA DEL CARME MARTÍNEZ VÁSQUEZ","1937-11-23",85,10,"F","B","2023-09-30"]
[null,null,null,null,null,"24747928-7","IDANA ANNAIS MUÑOZ ARRIAGADA","2014-09-23",9,0,"F","D","2023-09-30"]
[null,null,null,null,null,"27543017-K","CONTANZA JOSEFA PULGAR PEREIRA","2021-05-24",2,4,"F","B","2023-09-30"]
[null,null,null,null,null,"27771101-K","SOFÍA BELÉN MUÑOZ ASTUDILLO","2022-04-19",1,5,"F","B","2023-09-30"]
[null,null,null,null,null,"23805147-9","NAHIA ISIDORA PONCE VILLARROEL","2011-11-25",11,10,"F","C","2023-09-30"]
[null,null,null,null,null,"16550368-6","LORETO DEL CARMEN BARRAZA SALINAS","1986-12-28",36,9,"F","C","2023-09-30"]
[null,null,null,null,null,"7007881-3","FERNANDO DEL TRÁNSITO VARGAS CARVAJAL","1952-12-08",70,9,"M","B","2023-09-30"]
[null,null,null,null,null,"27028173-7","MARTIN EMILIANO VERGARA MARTINEZ","2019-09-27",4,0,"M","B","2023-09-30"]
[null,null,null,null,null,"11731013-2","JAIME DEL CARMEN SÁNCHEZ PIZARRO","1971-09-13",52,0,"M","B","2023-09-30"]
[null,null,null,null,null,"27672851-2","AGUSTIN ALEXIS TRIVIÑO MARTINEZ","2021-12-08",1,9,"M","B","2023-09-30"]
[null,null,null,null,null,"22994464-9","SEBASTIÁN MIGUEL VARAS DÍAZ","1992-09-20",31,0,"M","D","2023-09-30"]
[null,null,null,null,null,"23257747-9","DEYVID ANGEL MUÑOZ CONTRERAS","2010-02-19",13,7,"M","A","2023-09-30"]
[null,null,null,null,null,"20300942-9","MATÍAS NICOLÁS GÓMEZ MARTÍNEZ","1999-08-08",24,1,"M","B","2023-09-30"]
[null,null,null,null,null,"4448668-7","ROLANDO DEL CARMEN CARVALLO CARVACHO","1947-03-28",76,6,"M","B","2023-09-30"]
[null,null,null,null,null,"14529245-K","JAIME MAURICIO MUÑOZ VARGAS","1974-06-27",49,3,"M","X","2023-09-30"]
[null,null,null,null,null,"15362631-6","CATALINA DEL PILAR SAAVEDRA DOMÍNGUEZ","1984-08-10",39,1,"F","D","2023-09-30"]
[null,null,null,null,null,"16852551-6","AÍDA VALERIA LÓPEZ CRISTI","1988-09-22",35,0,"F","B","2023-09-30"]
[null,null,null,null,null,"23132539-5","MÁXIMO RODRIGO CAICEO MATURANA","2009-09-23",14,0,"M","B","2023-09-30"]
[null,null,null,null,null,"19268048-4","LUCIANO ANDRÉS ARANCIBIA MANRÍQUEZ","1996-02-11",27,7,"M","B","2023-09-30"]
[null,null,null,null,null,"6312359-5","CÉSAR HERNÁN HERRERA VÁSQUEZ","1949-04-08",74,5,"M","B","2023-09-30"]
[null,null,null,null,null,"27019426-5","MAITE ISABELLA BARRA VARGAS","2019-09-19",4,0,"F","A","2023-09-30"]
[null,null,null,null,null,"18113691-K","ALEXIS JESÚS BARRAZA JARA","1992-04-24",31,5,"M","B","2023-09-30"]
[null,null,null,null,null,"13185512-5","PAULA ANDREA MATURANA PULGAR","1977-10-07",45,11,"F","D","2023-09-30"]
[null,null,null,null,null,"9505765-9","CECILIA DE LAS NIEVE MARTÍNEZ PIZARRO","1951-08-04",72,1,"F","B","2023-09-30"]
[null,null,null,null,null,"19268142-1","LUIS ENRIQUE LÓPEZ PUEYES","1996-04-02",27,5,"M","C","2023-09-30"]
[null,null,null,null,null,"4832386-3","SOFÍA IRENE SEPÚLVEDA COFRÉ","1942-09-18",81,0,"F","B","2023-09-30"]
[null,null,null,null,null,"11517957-8","JORGE EDUARDO GUERRA GONZÁLEZ","1970-05-05",53,4,"M","D","2023-09-30"]
[null,null,null,null,null,"18581713-K","LEONARDO ALEJANDRO TERÁN BELMAR","1990-12-21",32,9,"M","B","2023-09-30"]
[null,null,null,null,null,"23235158-6","GUILLERMO ANDRÉS LAZO BERNAL","2010-01-25",13,8,"M","B","2023-09-30"]
[null,null,null,null,null,"19888035-3","FERNANDA DEL PILAR GONZÁLEZ ESPINOZA","1998-07-16",25,2,"F","C","2023-09-30"]
[null,null,null,null,null,"24293572-1","CHARLES LEWIS SANTAELLA HURTADO","1982-12-12",40,9,"M","D","2023-09-30"]
[null,null,null,null,null,"8413465-1","LORENZO ESTEBAN CUEVAS COLLADO","1958-09-30",65,0,"M","B","2023-09-30"]
[null,null,null,null,null,"5334882-3","MARÍA ESTELA BARRAZA CELEDÓN","1946-08-23",77,1,"F","B","2023-09-30"]
[null,null,null,null,null,"24953143-K","EMILY PASCAL PEREIRA SEGOVIA","2015-04-09",8,5,"F","C","2023-09-30"]
[null,null,null,null,null,"4974790-K","JUANA DEL CARMEN ZAMORA VARGAS","1941-06-24",82,3,"F","B","2023-09-30"]
[null,null,null,null,null,"14508057-6","ÚRSULA EUGENIA SALCEDO JARAMILLO","1960-12-17",62,9,"F","A","2023-09-30"]
[null,null,null,null,null,"22128933-1","NAYELI AYELÉN VÉLEZ CAÑIZARES","2006-06-04",17,3,"F","B","2023-09-30"]
[null,null,null,null,null,"10653834-4","WASHINGTON DEL CARMEN HERRERA ZAMORA","1966-08-21",57,1,"M","C","2023-09-30"]
[null,null,null,null,null,"12406911-4","MARÍA FRESIA CARRASCO FLORES","1973-04-16",50,5,"F","B","2023-09-30"]
[null,null,null,null,null,"16523634-3","PAOLA ALEJANDRA LEIVA NAVARRETE","1987-09-10",36,0,"F","A","2023-09-30"]
[null,null,null,null,null,"16852651-2","WASHINGTON FLABIO HERRERA VILLARROEL","1988-10-19",34,11,"M","B","2023-09-30"]
[null,null,null,null,null,"10485133-9","MARÍA ISABEL SÁNCHEZ BARRAZA","1967-07-14",56,2,"F","A","2023-09-30"]
[null,null,null,null,null,"10961907-8","YASNA ANALY BONILLA CABEZAS","1970-11-28",52,10,"F","C","2023-09-30"]
[null,null,null,null,null,"18973419-0","FABIOLA ABIGAIL BRIONES JIMÉNEZ","1995-03-13",28,6,"F","D","2023-09-30"]
[null,null,null,null,null,"12718625-1","CLAUDIO ALONSO MUÑOZ VARGAS","1975-10-18",47,11,"M","D","2023-09-30"]
[null,null,null,null,null,"15808322-1","MARCELA ALEJANDRA VERA CABEZAS","1984-04-02",39,5,"F","C","2023-09-30"]
[null,null,null,null,null,"9793391-K","MARCO ANTONIO GALLARDO ORTEGA","1964-06-08",59,3,"M","D","2023-09-30"]
[null,null,null,null,null,"18113040-7","MARÍA ALEJANDRA VARGAS LEÓN","1991-11-10",31,10,"F","B","2023-09-30"]
[null,null,null,null,null,"27984105-0","LIAM ALEXANDER ZAMORA PULGAR","2022-11-12",0,10,"M","B","2023-09-30"]
[null,null,null,null,null,"8980118-4","MANUEL LUIS LÓPEZ ESCOBAR","1964-02-25",59,7,"M","A","2023-09-30"]
[null,null,null,null,null,"26266609-3","AMELIA SOFÍA PIZARRO FAURE","2018-05-06",5,4,"F","B","2023-09-30"]
[null,null,null,null,null,"24206743-6","LUCAS SIMÓN HERRERA OLIVARES","2013-03-03",10,6,"M","D","2023-09-30"]
[null,null,null,null,null,"17819215-9","EVA EUGENIA LEÓN SALINAS","1991-09-04",32,0,"F","C","2023-09-30"]
[null,null,null,null,null,"15767033-6","ROSA ANAÍS MARTÍNEZ PEREIRA","1984-10-04",38,11,"F","B","2023-09-30"]
[null,null,null,null,null,"27212880-4","ANGEL AMARO FARIAS GONZALEZ","2020-02-17",3,7,"M","B","2023-09-30"]
[null,null,null,null,null,"16551065-8","JOCELYN DEL CARMEN CUETO CONTRERAS","1987-05-15",36,4,"F","D","2023-09-30"]
[null,null,null,null,null,"11313341-4","MARÍA ISABEL BERRÍOS JARA","1968-07-08",55,2,"F","A","2023-09-30"]
[null,null,null,null,null,"7146005-3","CECILIA ELIZABETH VILLALOBOS GONZÁLEZ","1954-09-02",69,0,"F","B","2023-09-30"]
[null,null,null,null,null,"23574194-6","RAFAEL DE JESUS FERNANDEZ BALLESTAS","1984-06-28",39,3,"M","B","2023-09-30"]
[null,null,null,null,null,"22265830-6","CRISTÓBAL OSVALDO MARTÍNEZ CORTÉS","2006-11-15",16,10,"M","A","2023-09-30"]
[null,null,null,null,null,"16730805-8","JORGE NICOLÁS SALAS LEIVA","1988-01-21",35,8,"M","C","2023-09-30"]
[null,null,null,null,null,"13982071-1","NATALIA DEL PILAR ALFARO GODOY","1981-04-27",42,5,"F","B","2023-09-30"]
[null,null,null,null,null,"16852584-2","FRANCISCO JAVIER PEREIRA TORRES","1988-10-03",34,11,"M","C","2023-09-30"]
[null,null,null,null,null,"13538857-2","GERALDINA YENNY ORTIZAGA ASTORGA","1979-01-15",44,8,"F","A","2023-09-30"]
[null,null,null,null,null,"18973769-6","SEBASTIÁN IGNACIO HERRERA GONZÁLEZ","1994-12-23",28,9,"M","D","2023-09-30"]
[null,null,null,null,null,"11313184-5","JUAN MAURICIO MARTÍNEZ SÁNCHEZ","1968-01-30",55,8,"M","D","2023-09-30"]
[null,null,null,null,null,"11517414-2","JOSÉ BENITO CÉSPED MIRANDA","1970-03-12",53,6,"M","D","2023-09-30"]
[null,null,null,null,null,"26528845-6","ANTHONNY EDUARDO FERNANDEZ ARAYA","2016-09-12",7,0,"M","B","2023-09-30"]
[null,null,null,null,null,"6845538-3","LINA MARÍA EDUVIGES GARCÍA TRONCOSO","1950-10-09",72,11,"F","B","2023-09-30"]
[null,null,null,null,null,"5595181-0","RAQUEL DEL CARMEN SALINAS SALINAS","1945-09-15",78,0,"F","C","2023-09-30"]
[null,null,null,null,null,"19405103-4","PÍA FERNANDA YÁÑEZ SEPÚLVEDA","1997-02-06",26,7,"F","B","2023-09-30"]
[null,null,null,null,null,"11944379-2","MARILYN LUZMIRA TORRES BAEZ","1972-04-22",51,5,"F","B","2023-09-30"]
[null,null,null,null,null,"6634318-9","HERMÓGENES GERARDO URTUBIA LAZCANO","1951-09-04",72,0,"M","B","2023-09-30"]
[null,null,null,null,null,"5221777-6","AMELIA ROSA BAEZ SUAZO","1943-12-14",79,9,"F","B","2023-09-30"]
[null,null,null,null,null,"5157188-6","BERNARDO ANTONIO IRARRÁZABAL BARRIOS","1943-04-08",80,5,"M","B","2023-09-30"]
[null,null,null,null,null,"27051297-6","THOMAS ALFONSO GONZALEZ PLAZA","2019-10-15",3,11,"M","C","2023-09-30"]
[null,null,null,null,null,"21228608-7","FRANCISCA VALENTINA CARDENAS MATURANA","2003-02-03",20,7,"F","D","2023-09-30"]
[null,null,null,null,null,"18869530-2","PAOLA ESTEFANÍA VIEIRA PACHECO","1994-08-19",29,1,"F","A","2023-09-30"]
[null,null,null,null,null,"13541628-2","LUZ MARÍA VILLARROEL ABARCA","1979-07-17",44,2,"F","C","2023-09-30"]
[null,null,null,null,null,"15818441-9","YUDITH MACARENA CONTRERAS VICENCIO","1984-05-07",39,4,"F","C","2023-09-30"]
[null,null,null,null,null,"13185340-8","JOSÉ LUIS MUÑOZ GALLARDO","1977-10-07",45,11,"M","D","2023-09-30"]
[null,null,null,null,null,"25523595-8","ANTHONELA ANAÍS ORTEGA JARA","2016-06-27",7,3,"F","A","2023-09-30"]
[null,null,null,null,null,"9198653-1","GLORIA DEL TRÁNSITO GÓMEZ BERRÍOS","1960-05-17",63,4,"F","B","2023-09-30"]
[null,null,null,null,null,"15592031-9","CLAUDIA ELIANA MOLINET AVILÉS","1983-10-23",39,11,"F","C","2023-09-30"]
[null,null,null,null,null,"9712018-8","FANY MARISOL CERDA FERNÁNDEZ","1962-02-15",61,7,"F","A","2023-09-30"]
[null,null,null,null,null,"4959789-4","ESTERVINA DEL CARMEN JARA PIZARRO","1944-11-26",78,10,"F","D","2023-09-30"]
[null,null,null,null,null,"14279109-9","PEDRO ORLANDO CAMPOS SEPÚLVEDA","1973-03-20",50,6,"M","B","2023-09-30"]
[null,null,null,null,null,"8267086-6","MARGARITA ELENA MARTÍNEZ CUEVAS","1955-07-13",68,2,"F","B","2023-09-30"]
[null,null,null,null,null,"26854361-9","PIERRE DELISNOR OLIVIER .","1993-04-26",30,5,"M","C","2023-09-30"]
[null,null,null,null,null,"19267326-7","JOSÉ IGNACIO CÉSPED JARA","1995-10-06",27,11,"M","C","2023-09-30"]
[null,null,null,null,null,"8191168-1","OLGA ADRIANA BRAVO FUENTES","1958-08-04",65,1,"F","D","2023-09-30"]
[null,null,null,null,null,"21146851-3","JAVIERA IGNACIA MARTÍNEZ FLORES","2002-10-08",20,11,"F","A","2023-09-30"]
[null,null,null,null,null,"26694234-6","EMILIANO ALONSO PAVEZ CONTRERAS","2019-02-05",4,7,"M","D","2023-09-30"]
[null,null,null,null,null,"14448865-2","CARLOS ALBERTO ESTAY LEIVA","1974-03-28",49,6,"M","D","2023-09-30"]
[null,null,null,null,null,"14717050-5","ANTHONY RENE VELEZ  ","1999-06-05",24,3,"M","B","2023-09-30"]
[null,null,null,null,null,"27776713-9","EMMA JULIETA SARAVIA LEON","2022-05-01",1,4,"F","B","2023-09-30"]
[null,null,null,null,null,"17468424-3","MELISSA VICTORIA MUÑOZ LEÓN","1989-12-21",33,9,"F","B","2023-09-30"]
[null,null,null,null,null,"21780264-4","ANDRES EDUARDO PALAVECINO SANCHEZ","2005-02-13",18,7,"M","A","2023-09-30"]
[null,null,null,null,null,"15819131-8","JUDITH JOVITA SALINAS LEIVA","1984-11-04",38,10,"F","B","2023-09-30"]
[null,null,null,null,null,"22885560-K","EMILIA CAROLINA LERIS MUÑOZ","2008-11-27",14,10,"F","B","2023-09-30"]
[null,null,null,null,null,"26463048-7","KETURA PIERRE ","1993-05-23",30,4,"F","C","2023-09-30"]
[null,null,null,null,null,"17164139-K","MIGUEL ANTONIO MORALES CAMPOS","1989-03-11",34,6,"M","D","2023-09-30"]
[null,null,null,null,null,"27654455-1","ANTONELLA ALEJANDRA ORTEGA QUIROGA","2021-11-08",1,10,"F","D","2023-09-30"]
[null,null,null,null,null,"24235415-K","TRINIDAD AGUSTINA AGUILAR LAZO","2013-04-01",10,5,"F","C","2023-09-30"]
[null,null,null,null,null,"3734967-4","ANGEL DOMINGO MORALES RAMÍREZ","1937-01-15",86,8,"M","B","2023-09-30"]
[null,null,null,null,null,"22185116-1","FRANCISCO JAVIER LÓPEZ PUEYES","2006-08-14",17,1,"M","A","2023-09-30"]
[null,null,null,null,null,"2588876-6","GUILLERMINA DE LAS M CARVACHO SÁNCHEZ","1927-06-02",96,3,"F","B","2023-09-30"]
[null,null,null,null,null,"18136699-0","DANIELA ANGÉLICA BUGUEÑO BUGUEÑO","1993-01-15",30,8,"F","C","2023-09-30"]
[null,null,null,null,null,"16851957-5","MICHEL ANGELO DELGADO VILLARROEL","1988-05-03",35,4,"M","D","2023-09-30"]
[null,null,null,null,null,"12043506-K","BENITO DAVID FLORES FLORES","1969-02-24",54,7,"M","D","2023-09-30"]
[null,null,null,null,null,"27429155-9","EMILIANO ANTONIO MUÑOZ ARRIAGADA","2020-12-19",2,9,"M","D","2023-09-30"]
[null,null,null,null,null,"17469371-4","CAMILO ANDRÉS PULGAR HERRERA","1990-03-17",33,6,"M","C","2023-09-30"]
[null,null,null,null,null,"25408846-3","ISIDORA ELIZABETH NÚÑEZ PÉREZ","2016-06-07",7,3,"F","D","2023-09-30"]
[null,null,null,null,null,"19887808-1","ERNESTO JAVIER ARRIAGADA HERRERA","1998-05-14",25,4,"M","D","2023-09-30"]
[null,null,null,null,null,"7254170-7","MIGUEL ANGEL GONZÁLEZ MORALES","1959-02-18",64,7,"M","A","2023-09-30"]
[null,null,null,null,null,"4458936-2","ROSA ESTER GALLARDO JIMÉNEZ","1940-11-12",82,10,"F","B","2023-09-30"]
[null,null,null,null,null,"8695571-7","ELSA DEL CARMEN SÁNCHEZ GALLARDO","1960-11-15",62,10,"F","B","2023-09-30"]
[null,null,null,null,null,"13189427-9","DAYAN FRANCISCA DONOSO SÁNCHEZ","1977-12-06",45,9,"F","D","2023-09-30"]
[null,null,null,null,null,"6104297-0","JOSÉ OCTAVIO VARGAS CARVAJAL","1950-04-26",73,5,"M","B","2023-09-30"]
[null,null,null,null,null,"23601628-5","POLETT ALEJANDRA VALDÉS GONZÁLEZ","2011-03-25",12,6,"F","A","2023-09-30"]
[null,null,null,null,null,"19581199-7","JAVIER GONZALO SALINAS CAMPOS","1996-09-26",27,0,"M","D","2023-09-30"]
[null,null,null,null,null,"20542408-3","SEBASTIÁN EUGENIO SALINAS CAMPOS","2001-05-04",22,4,"M","D","2023-09-30"]
[null,null,null,null,null,"7960725-8","HÉCTOR RAÚL RIVERA OLIVARES","1957-08-28",66,1,"M","C","2023-09-30"]
[null,null,null,null,null,"11730407-8","MARITZA DEL CARMEN VILLARROEL ORELLANA","1971-02-10",52,7,"F","B","2023-09-30"]
[null,null,null,null,null,"19347886-7","BASTIÁN NICOLÁS LEÓN BONILLA","1996-03-15",27,6,"M","B","2023-09-30"]
[null,null,null,null,null,"24404812-9","MARIBEL IBARRA ROJAS","1981-01-21",42,8,"F","A","2023-09-30"]
[null,null,null,null,null,"18380471-5","MAYRA STEFANIA HERRERA ARENAS","1992-12-17",30,9,"F","B","2023-09-30"]
[null,null,null,null,null,"13752825-8","ANTONIO ENRIQUE RAMÍREZ BERRÍOS","1975-10-04",47,11,"M","D","2023-09-30"]
[null,null,null,null,null,"19456090-7","LUIS HERNÁN SÁNCHEZ TAPIA","1985-09-25",38,0,"M","B","2023-09-30"]
[null,null,null,null,null,"18934492-9","MARÍA JOSÉ FAURE NIÑOLES","1994-10-24",28,11,"F","B","2023-09-30"]
[null,null,null,null,null,"24966286-0","MIA ISIDORA DÍAZ MUÑOZ","2015-04-22",8,5,"F","B","2023-09-30"]
[null,null,null,null,null,"18113169-1","CAROLINA STEFANIA VARGAS TORRES","1991-12-10",31,9,"F","C","2023-09-30"]
[null,null,null,null,null,"7328067-2","CARLOS ALBERTO HENRÍQUEZ SÁNCHEZ","1953-09-14",70,0,"M","B","2023-09-30"]
[null,null,null,null,null,"23855921-9","DIEGO ALEXANDER MUÑOZ CONTRERAS","2012-01-28",11,8,"M","A","2023-09-30"]
[null,null,null,null,null,"17164718-5","MARICARMEN ALEJANDRA GONZÁLEZ OSORIO","1989-06-24",34,3,"F","C","2023-09-30"]
[null,null,null,null,null,"16851930-3","MARÍA VICTORIA NIETO URTUBIA","1988-04-05",35,5,"F","D","2023-09-30"]
[null,null,null,null,null,"17469199-1","BRAULIO ANDRÉS HIDALGO CIFUENTES","1990-04-09",33,5,"M","B","2023-09-30"]
[null,null,null,null,null,"6786101-9","VIOLETA DE LAS MERCEDES SALINAS SÁNCHEZ","1948-12-03",74,9,"F","B","2023-09-30"]
[null,null,null,null,null,"25212562-0","AMARO ANDRES OSORIO CARO","2015-12-01",7,9,"M","A","2023-09-30"]
[null,null,null,null,null,"11386265-3","ALEJANDRO WILLIAM NEGRETE OSORIO","1969-11-22",53,10,"M","C","2023-09-30"]
[null,null,null,null,null,"5335631-1","RUBÉN MARTÍNEZ SAAVEDRA","1945-05-16",78,4,"M","B","2023-09-30"]
[null,null,null,null,null,"8307169-9","VÍCTOR MANUEL SALINAS URBINA","1962-07-19",61,2,"M","C","2023-09-30"]
[null,null,null,null,null,"10754799-1","LEONEL ANTONIO AHUMADA CORTEZ","1966-11-28",56,10,"M","B","2023-09-30"]
[null,null,null,null,null,"25501287-8","LEANDRO ANTONIO GONZÁLEZ SÁNCHEZ","2016-09-08",7,0,"M","A","2023-09-30"]
[null,null,null,null,null,"26721205-8","THALIA ESPERANZA ROLDÁN MARTÍNEZ","2019-02-27",4,7,"F","A","2023-09-30"]
[null,null,null,null,null,"11817898-K","VÍCTOR EDUARDO VALDIVIA MORENO","1970-11-08",52,10,"M","D","2023-09-30"]
[null,null,null,null,null,"5626630-5","BERNARDO ALBERTO REBOLLEDO SOTO","1947-08-07",76,1,"M","D","2023-09-30"]
[null,null,null,null,null,"20133948-0","DIEGO OSVALDO GONZÁLEZ GONZÁLEZ","1999-11-27",23,10,"M","B","2023-09-30"]
[null,null,null,null,null,"27485204-6","EMILIA LUCIANA ROSARIO MARTINEZ GONZALEZ","2021-03-09",2,6,"F","B","2023-09-30"]
[null,null,null,null,null,"8410379-9","MARIELA DEL ROSARIO PONCE URBINA","1961-03-29",62,6,"F","B","2023-09-30"]
[null,null,null,null,null,"12718636-7","ANYELA DEL LOURDES TORRES BAEZ","1975-06-04",48,3,"F","C","2023-09-30"]
[null,null,null,null,null,"27119960-0","FLORENCIA JULIANA MUÑOZ HERRERA","2019-12-10",3,9,"F","B","2023-09-30"]
[null,null,null,null,null,"23123303-2","IGNACIO ANDRÉS REINOSO MUÑOZ","2009-09-12",14,0,"M","C","2023-09-30"]
[null,null,null,null,null,"5115959-4","PAULINA MORA CARVAJAL","1941-01-14",82,8,"F","B","2023-09-30"]
[null,null,null,null,null,"20408805-5","MAGDALENA ALEJANDRA PEREIRA CAMPOS","2000-10-02",22,11,"F","D","2023-09-30"]
[null,null,null,null,null,"18973420-4","TIARA DANIELA SEGOVIA CONTRERAS","1995-03-25",28,6,"F","X","2023-09-30"]
[null,null,null,null,null,"3141437-7","ROLANDO DEL CARMEN VARGAS VILLARROEL","1930-04-17",93,5,"M","B","2023-09-30"]
[null,null,null,null,null,"24484484-7","GASPAR IGNACIO MELO MARTÍNEZ","2013-12-13",9,9,"M","B","2023-09-30"]
[null,null,null,null,null,"27476544-5","JULIETA SOFIA PULGAR PEREIRA","2021-02-20",2,7,"F","C","2023-09-30"]
[null,null,null,null,null,"9819845-8","PATRICIA DEL CARMEN HERRERA URBINA","1964-09-19",59,0,"F","D","2023-09-30"]
[null,null,null,null,null,"16306301-8","ANGELO ANTONIO OSANDÓN RODRÍGUEZ","1986-06-13",37,3,"M","B","2023-09-30"]
[null,null,null,null,null,"17469378-1","JOSELYN PIEERINA ÓRDENES CONTRERAS","1990-08-01",33,1,"F","B","2023-09-30"]
[null,null,null,null,null,"28056826-0","GRACE ALESSANDRA VÁSQUEZ LÓPEZ","2023-01-30",0,8,"F","D","2023-09-30"]
[null,null,null,null,null,"26472481-3","AGUSTINA IGNACIA CHAPARRO PÉREZ","2018-09-17",5,0,"F","A","2023-09-30"]
[null,null,null,null,null,"13982211-0","MAX ALEJANDRO SALINAS SALINAS","1979-12-19",43,9,"M","A","2023-09-30"]
[null,null,null,null,null,"10888151-8","PATRICIO DEL CARMEN VARGAS CARVAJAL","1966-12-02",56,9,"M","B","2023-09-30"]
[null,null,null,null,null,"25761435-2","ISIDORA SAYEN GÓMEZ GONZÁLEZ","2017-05-10",6,4,"F","B","2023-09-30"]
[null,null,null,null,null,"15090796-9","DAYANA MACARENA HERRERA CATALÁN","1982-04-19",41,5,"F","B","2023-09-30"]
[null,null,null,null,null,"24879131-4","YASMIN STEFANIA SALAS TOLEDO","2015-01-22",8,8,"F","C","2023-09-30"]
[null,null,null,null,null,"12350864-5","MANUEL ALONSO QUIROZ MORALES","1973-09-22",50,0,"M","D","2023-09-30"]
[null,null,null,null,null,"15060955-0","PAOLA ANDREA BERNAL ARAVENA","1976-05-14",47,4,"F","B","2023-09-30"]
[null,null,null,null,null,"11517373-1","SERGIO MANUEL SANTIBÁÑEZ SALINAS","1970-02-15",53,7,"M","D","2023-09-30"]
[null,null,null,null,null,"23240979-7","MELINKA RACHEL MUÑOZ ASTUDILLO","2010-01-29",13,8,"F","B","2023-09-30"]
[null,null,null,null,null,"27666262-7","TRINIDAD IGNACIA CAICEO SARAVIA","2021-11-27",1,10,"F","B","2023-09-30"]
[null,null,null,null,null,"25025937-9","AMANDA NOEMÍ HERRERA ARENAS","2015-06-27",8,3,"F","D","2023-09-30"]
[null,null,null,null,null,"16852741-1","JOJANS ANTONIO MEJÍAS FLEITA","1988-11-07",34,10,"M","C","2023-09-30"]
[null,null,null,null,null,"24694023-1","MARTÍN ALFONSO SILVA VALENZUELA","2014-07-24",9,2,"M","D","2023-09-30"]
[null,null,null,null,null,"13827480-2","FABIÁN JESÚS MUÑOZ FIGUEROA","1980-05-26",43,4,"M","A","2023-09-30"]
[null,null,null,null,null,"8365124-5","NAYADE PAOLA SALAS PINEDA","1973-02-09",50,7,"F","B","2023-09-30"]
[null,null,null,null,null,"10833579-3","ANGÉLICA DE LAS MERCEDES ESPINOZA HERRERA","1966-09-26",57,0,"F","B","2023-09-30"]
[null,null,null,null,null,"4500686-7","MIGUELINA PEREIRA OLMEDO","1939-05-08",84,4,"F","B","2023-09-30"]
[null,null,null,null,null,"16852469-2","MARICARMEN TERESA ARENAS VARGAS","1988-09-15",35,0,"F","D","2023-09-30"]
[null,null,null,null,null,"25452586-3","AMBAR MARIFE FARIAS BARRAZA","2016-07-22",7,2,"F","A","2023-09-30"]
[null,null,null,null,null,"17970964-3","NADIA EDITH ARANCIBIA COLARTE","1991-06-11",32,3,"F","A","2023-09-30"]
[null,null,null,null,null,"15818456-7","CINTHYA YOCELYN GONZÁLEZ RIQUELME","1983-10-11",39,11,"F","B","2023-09-30"]
[null,null,null,null,null,"11944250-8","CHRISTIAN VICENTE FARÍAS MARTÍNEZ","1972-02-17",51,7,"M","C","2023-09-30"]
[null,null,null,null,null,"15819121-0","CECILIA DEL CARMEN JARA SALINAS","1984-10-25",38,11,"F","B","2023-09-30"]
[null,null,null,null,null,"23486687-7","MAYLEEN ZAMIRA VÉLEZ CAÑIZARES","2010-11-24",12,10,"F","B","2023-09-30"]
[null,null,null,null,null,"7125608-1","VERÓNICA DEL CARMEN SÁNCHEZ GONZÁLEZ","1956-03-24",67,6,"F","B","2023-09-30"]
[null,null,null,null,null,"13184925-7","LUIS ALBERTO FARÍAS LEIVA","1977-03-29",46,6,"M","C","2023-09-30"]
[null,null,null,null,null,"4909001-3","BARTOLA DE LAS MERCE VÁSQUEZ TELLO","1939-06-15",84,3,"F","B","2023-09-30"]
[null,null,null,null,null,"15059849-4","ANDREA ALEJANDRA MUÑOZ BAZAES","1982-04-14",41,5,"F","B","2023-09-30"]
[null,null,null,null,null,"11194358-3","JUAN ANTONIO VILLARROEL GARCÍA","1967-07-17",56,2,"M","B","2023-09-30"]
[null,null,null,null,null,"19453475-2","GERMÁN ENRIQUE MARTÍNEZ MATURANA","1980-10-24",42,11,"M","C","2023-09-30"]
[null,null,null,null,null,"22791708-3","ELEN ANAÍS LEIVA PEREIRA","2008-08-10",15,1,"F","C","2023-09-30"]
[null,null,null,null,null,"4085254-9","EMILIA SONIA BERRÍOS SÁNCHEZ","1940-05-04",83,4,"F","A","2023-09-30"]
[null,null,null,null,null,"12598019-8","CLAUDIA JACQUELINE COROCEO COROCEO","1974-02-21",49,7,"F","C","2023-09-30"]
[null,null,null,null,null,"13982165-3","FABIOLA DEL PILAR URBINA TRIVIÑO","1981-07-21",42,2,"F","D","2023-09-30"]
[null,null,null,null,null,"8887957-0","JAVIER ANGEL PONCE URBINA","1962-06-02",61,3,"M","D","2023-09-30"]
[null,null,null,null,null,"6703739-1","GUSTAVO ENRIQUE GONZÁLEZ GONZÁLEZ","1951-09-29",72,0,"M","B","2023-09-30"]
[null,null,null,null,null,"20408894-2","JOAQUÍN ANDRÉS CÉSPED JARA","2000-10-23",22,11,"M","C","2023-09-30"]
[null,null,null,null,null,"12238230-3","GUILLERMO RODRIGO LAZO CARVALLO","1972-09-03",51,0,"M","C","2023-09-30"]
[null,null,null,null,null,"18114037-2","ADELA DEL ROSARIO VALENZUELA GONZÁLEZ","1992-08-06",31,1,"F","D","2023-09-30"]
[null,null,null,null,null,"27381471-K","ISABEL LUCÍA LERIS MUÑOZ","2020-10-24",2,11,"F","B","2023-09-30"]
[null,null,null,null,null,"14168149-4","PAULINA ANDREA RIVERA MERY","1981-09-03",42,0,"F","B","2023-09-30"]
[null,null,null,null,null,"26164099-6","SIMÓN CRISTÓBAL HERRERA SÁNCHEZ","2018-03-08",5,6,"M","A","2023-09-30"]
[null,null,null,null,null,"19845807-4","GERALDINE ALEJANDRA CAMPUSANO ESCANILLA","1998-08-03",25,1,"F","B","2023-09-30"]
[null,null,null,null,null,"8396632-7","MARÍA ANGÉLICA COLARTE RUZ","1963-02-27",60,7,"F","C","2023-09-30"]
[null,null,null,null,null,"5335630-3","LUCIANO DEL CARMEN VARGAS VILLARROEL","1944-08-30",79,1,"M","B","2023-09-30"]
[null,null,null,null,null,"11730476-0","PATRICIA MARISOL BARRAZA CÉSPEDES","1971-03-14",52,6,"F","B","2023-09-30"]
[null,null,null,null,null,"25902725-K","IGNACIA ISIDORA PULGAR PEREIRA","2017-09-07",6,0,"F","A","2023-09-30"]
[null,null,null,null,null,"23264676-4","JOAQUIN RODRIGO PÉREZ RIVERA","2010-03-07",13,6,"M","D","2023-09-30"]
[null,null,null,null,null,"28138378-7","DILAN SAMIR RODRÍGUEZ SÁNCHEZ","2023-05-07",0,4,"M","C","2023-09-30"]
[null,null,null,null,null,"10172145-0","CARLOS ENRIQUE HERRERA ZAMORA","1964-04-14",59,5,"M","D","2023-09-30"]
[null,null,null,null,null,"10087376-1","JUAN AURELIO ASTUDILLO IBACETA","1966-10-19",56,11,"M","B","2023-09-30"]
[null,null,null,null,null,"19182208-0","HACHLEE ANDRÉS MEJÍAS ACUÑA","1996-04-19",27,5,"M","B","2023-09-30"]
[null,null,null,null,null,"4371818-5","JUAN BAUTISTA MURA MURA","1932-06-02",91,3,"M","B","2023-09-30"]
[null,null,null,null,null,"6519836-3","MÓNICA DE LOS ANGELE DONOSO MORALES","1948-10-21",74,11,"F","B","2023-09-30"]
[null,null,null,null,null,"19582400-2","CARLA ANDREA MARTÍNEZ FLORES","1997-09-09",26,0,"F","A","2023-09-30"]
[null,null,null,null,null,"24429888-5","STEFANO ALEXANDER FARÍAS GONZÁLEZ","2013-10-26",9,11,"M","A","2023-09-30"]
[null,null,null,null,null,"6289906-9","MANUELA DEL CARMEN CARVAJAL PARRA","1952-06-12",71,3,"F","B","2023-09-30"]
[null,null,null,null,null,"17468568-1","ERIK JAIRO HERRERA VIVANCO","1989-12-26",33,9,"M","D","2023-09-30"]
[null,null,null,null,null,"25388479-7","ARIEL JESUS REINOSO MUÑOZ","2016-05-26",7,4,"M","C","2023-09-30"]
[null,null,null,null,null,"9651252-K","CARMEN DE LAS MERCEDES VARGAS CARVAJAL","1960-08-20",63,1,"F","B","2023-09-30"]
[null,null,null,null,null,"17478815-4","GUSTAVO ADOLFO PEREIRA MUÑOZ","1990-01-26",33,8,"M","B","2023-09-30"]
[null,null,null,null,null,"23961156-7","KIARA LORETTO OSORIO CARO","2012-05-27",11,4,"F","A","2023-09-30"]
[null,null,null,null,null,"25531786-5","AUGUSTO AMARO ARAYA ÓRDENES","2016-10-05",6,11,"M","B","2023-09-30"]
[null,null,null,null,null,"19267553-7","MARJORIE ANDREA LEÓN IRARRÁZABAL","1995-11-30",27,10,"F","B","2023-09-30"]
[null,null,null,null,null,"9260213-3","ANA ROSA MUÑOZ GALLARDO","1962-09-07",61,0,"F","X","2023-09-30"]
[null,null,null,null,null,"25428037-2","RAFAELA TRINIDAD CÓRDOVA ECHEVERRÍA","2016-07-03",7,2,"F","C","2023-09-30"]
[null,null,null,null,null,"17164307-4","ELISEO DARÍO ESTAY CARVAJAL","1989-04-12",34,5,"M","D","2023-09-30"]
[null,null,null,null,null,"12252122-2","IVONNE ANDREA MARTÍNEZ ÁLVAREZ","1972-10-16",50,11,"F","B","2023-09-30"]
[null,null,null,null,null,"24293606-K","LEYRDERTH VALENTINE SANTAELLA IBARRA","2004-10-23",18,11,"F","B","2023-09-30"]
[null,null,null,null,null,"15060722-1","BRAULIO IGNACIO CATALDO REYES","1982-04-02",41,5,"M","B","2023-09-30"]
[null,null,null,null,null,"9803090-5","ESTELA DEL CARMEN ALTAMIRANO INOSTROZA","1965-03-25",58,6,"F","B","2023-09-30"]
[null,null,null,null,null,"25539263-8","MAXIMILIANO ALONSO LEIVA PEREIRA","2016-10-15",6,11,"M","C","2023-09-30"]
[null,null,null,null,null,"8017187-0","JULIO ADÁN CAMPOS CARVAJAL","1959-03-13",64,6,"M","B","2023-09-30"]
[null,null,null,null,null,"24644202-9","MAYKOL ANDRÉS CARVAJAL ARANCIBIA","2014-06-07",9,3,"M","A","2023-09-30"]
[null,null,null,null,null,"24807962-2","LIAM MARCEL VILLARROEL COVARRUBIAS","2014-11-25",8,10,"M","B","2023-09-30"]
[null,null,null,null,null,"19267509-K","CONSTANZA ANAÍS LAZO BERNAL","1995-10-25",27,11,"F","C","2023-09-30"]
[null,null,null,null,null,"24941058-6","SANTIAGO VALENTIN DELGADO HERRERA","2015-03-27",8,6,"M","D","2023-09-30"]
[null,null,null,null,null,"19268146-4","ÁMBAR GIOVANNA CAICEO MATURANA","1996-04-14",27,5,"F","D","2023-09-30"]
[null,null,null,null,null,"25717703-3","ALIS AMANDA VILLARROEL COVARRUBIAS","2017-03-27",6,6,"F","B","2023-09-30"]
[null,null,null,null,null,"15090784-5","KARINA ALEJANDRA CARVAJAL MORENO","1982-04-02",41,5,"F","D","2023-09-30"]
[null,null,null,null,null,"19927204-7","MAURICIO ANTONIO SALAS LEIVA","1998-04-07",25,5,"M","D","2023-09-30"]
[null,null,null,null,null,"15555590-4","DOMINGA RAQUEL ASTUDILLO FERNÁNDEZ","1983-10-03",39,11,"F","B","2023-09-30"]
[null,null,null,null,null,"7495654-8","LUZ BEATRIZ TORRES GONZÁLEZ","1953-09-30",70,0,"F","B","2023-09-30"]
[null,null,null,null,null,"17818138-6","VICENTE ANDRÉS ROLDÁN AGUILERA","1991-01-09",32,8,"M","B","2023-09-30"]
[null,null,null,null,null,"16027175-2","PRISCILLA ANN MARIE COVARRUBIAS MUÑOZ","1985-06-18",38,3,"F","B","2023-09-30"]
[null,null,null,null,null,"9757264-K","FERNANDO DEL TRÁNSITO GONZÁLEZ MARTÍNEZ","1963-10-17",59,11,"M","B","2023-09-30"]
[null,null,null,null,null,"13363901-2","ORIANA YANET GONZÁLEZ RIVERA","1978-02-16",45,7,"F","B","2023-09-30"]
[null,null,null,null,null,"7241900-6","RICARDO JAIME MARTÍNEZ PIZARRO","1954-01-24",69,8,"M","B","2023-09-30"]
[null,null,null,null,null,"25609753-2","LIAM GERVACIO MEJÍAS BUGUEÑO","2016-12-22",6,9,"M","B","2023-09-30"]
[null,null,null,null,null,"20766714-5","ELIANA MARCELA ÁVILA BELMAR","2001-07-24",22,2,"F","A","2023-09-30"]
[null,null,null,null,null,"13948117-8","CARLOS ANDRÉS ALARCÓN VENEGAS","1980-05-25",43,4,"M","B","2023-09-30"]
[null,null,null,null,null,"27263748-2","CATALINA BEATRIZ HERRERA LEON","2020-04-22",3,5,"F","B","2023-09-30"]
[null,null,null,null,null,"23158181-2","AGUSTÍN ANDRÉS MENDOZA CUETO","2009-10-18",13,11,"M","B","2023-09-30"]
[null,null,null,null,null,"26174294-2","MÁXIMO FACUNDO DÍAZ MUÑOZ","2018-03-16",5,6,"M","B","2023-09-30"]
[null,null,null,null,null,"27458348-7","VALENTINO ARIEL SALINAS VALENZUELA","2021-01-25",2,8,"M","B","2023-09-30"]
[null,null,null,null,null,"27188956-9","MIGUEL ANGEL ANTONIO VARGAS LEIVA","2020-01-28",3,8,"M","A","2023-09-30"]
[null,null,null,null,null,"26481896-6","ISABELLA JESÚS CALDERÓN MOLINET","2018-09-24",5,0,"F","C","2023-09-30"]
[null,null,null,null,null,"4989985-8","JORGE MAXIMILIANO JARA ARAVENA","1954-07-27",69,2,"M","C","2023-09-30"]
[null,null,null,null,null,"18113908-0","FRANCISCA STEFANIA BECERRA PÉREZ","1992-06-25",31,3,"F","D","2023-09-30"]
[null,null,null,null,null,"14358397-K","CLAUDIO ARTURO LERIS ARÁNGUIZ","1979-11-06",43,10,"M","D","2023-09-30"]
[null,null,null,null,null,"24633206-1","CHRISTOPHER LEWIS SANTAELLA IBARRA","2014-05-27",9,4,"M","D","2023-09-30"]
[null,null,null,null,null,"21098282-5","CATARI BELÉN MENDOZA CUETO","2002-08-20",21,1,"F","B","2023-09-30"]
[null,null,null,null,null,"19162824-1","MARIANA MACARENA ARRIAGADA HERRERA","1995-07-02",28,2,"F","B","2023-09-30"]
[null,null,null,null,null,"8279342-9","MAURICIO ANDRÉS MESA ASTUDILLO","1956-09-18",67,0,"M","C","2023-09-30"]
[null,null,null,null,null,"5369218-4","MIGUEL ANTONIO SANTIBÁÑEZ TAPIA","1948-03-06",75,6,"M","C","2023-09-30"]
[null,null,null,null,null,"10535540-8","CLOTILDE DEL CARMEN BRAVO OLIVARES","1968-01-23",55,8,"F","B","2023-09-30"]
[null,null,null,null,null,"4895002-7","CARLOS GUIDO HINOJOSA MUÑOZ","1945-12-10",77,9,"M","D","2023-09-30"]
[null,null,null,null,null,"10229260-K","ROSA CRISTINA PUEYES VÁSQUEZ","1968-11-19",54,10,"F","B","2023-09-30"]
[null,null,null,null,null,"24334372-0","GIANELLA IGNACIA HERRERA LEÓN","2013-07-17",10,2,"F","B","2023-09-30"]
[null,null,null,null,null,"16551136-0","LISALDO AURELIO FARÍAS MUÑOZ","1987-08-17",36,1,"M","C","2023-09-30"]
[null,null,null,null,null,"7535298-0","MARÍA MILAGRO HERMIN URTUBIA LAZCANO","1954-05-01",69,4,"F","C","2023-09-30"]
[null,null,null,null,null,"17164611-1","PAZ MARGARITA PEREIRA HERRERA","1989-05-30",34,4,"F","C","2023-09-30"]
[null,null,null,null,null,"27920245-7","MILAN NICOLAS MAUNA SILVA","2022-09-07",1,0,"M","A","2023-09-30"]
[null,null,null,null,null,"20133594-9","ARIELA FERNANDA PULGAR CORTÉS","1999-08-27",24,1,"F","C","2023-09-30"]
[null,null,null,null,null,"23493044-3","VÍCTOR GERMÁN HERRERA SOLÍS","2010-11-28",12,10,"M","A","2023-09-30"]
[null,null,null,null,null,"10124392-3","EUGENIA DE LAS NIEVE JARA GONZÁLEZ","1968-04-14",55,5,"F","D","2023-09-30"]
[null,null,null,null,null,"19887817-0","EMERSON JOHAN HERNÁNDEZ MARTÍNEZ","1998-06-06",25,3,"M","D","2023-09-30"]
[null,null,null,null,null,"8563381-3","LEOPOLDO FRANCISCO PEREIRA VARGAS","1959-04-12",64,5,"M","C","2023-09-30"]
[null,null,null,null,null,"41271110-6","LEANDRO GABRIEL LUQUI .","1994-03-24",29,6,"M","A","2023-09-30"]
[null,null,null,null,null,"25204333-0","AGUSTÍN SANTINO SALINAS LÓPEZ","2015-11-23",7,10,"M","B","2023-09-30"]
[null,null,null,null,null,"26615868-8","ANGEL ALEJANDRO PEREIRA GONZÁLEZ","2018-12-14",4,9,"M","A","2023-09-30"]
[null,null,null,null,null,"9835449-2","MIGUELINA DEL CARMEN LOBOS MORA","1963-10-13",59,11,"F","A","2023-09-30"]
[null,null,null,null,null,"12774907-8","ANA MARÍA DÍAZ DÍAZ","1973-07-19",50,2,"F","A","2023-09-30"]
[null,null,null,null,null,"21324557-0","IGNACIA BELEN LEON COROCEO","2003-06-24",20,3,"F","C","2023-09-30"]
[null,null,null,null,null,"15974134-6","ERICK ANGELO RIVERA ÁLVAREZ","1985-03-23",38,6,"M","B","2023-09-30"]
[null,null,null,null,null,"3477688-1","RICARDO DEL TRÁNSITO GÓMEZ MUÑOZ","1933-04-03",90,5,"M","B","2023-09-30"]
[null,null,null,null,null,"16027332-1","MAURICIO ANDRÉS MENDOZA VARGAS","1985-07-11",38,2,"M","B","2023-09-30"]
[null,null,null,null,null,"18660876-3","JAVIERA FRANCISCA VALENZUELA CAICEO","1993-09-10",30,0,"F","B","2023-09-30"]
[null,null,null,null,null,"22545689-5","ANTONELLA DE LOS ANGELES VALDÉS GONZÁLEZ","2007-11-09",15,10,"F","A","2023-09-30"]
[null,null,null,null,null,"22188286-5","DYLAN ANGELO MUÑOZ CONTRERAS","2006-08-18",17,1,"M","A","2023-09-30"]
[null,null,null,null,null,"19267723-8","DANIELA ESTEFANÍA JARA SALINAS","1995-12-28",27,9,"F","C","2023-09-30"]
[null,null,null,null,null,"25216059-0","JOSÉ TOMÁS ABARCA GONZÁLEZ","2015-12-01",7,9,"M","D","2023-09-30"]
[null,null,null,null,null,"10126585-4","ANA DE LAS MERCEDES SALINAS GALLARDO","1965-10-02",57,11,"F","A","2023-09-30"]
[null,null,null,null,null,"7481805-6","JUAN RAFAEL HERNÁNDEZ DURÁN","1957-10-24",65,11,"M","B","2023-09-30"]
[null,null,null,null,null,"6094725-2","RAÚL JESÚS MARTÍNEZ MARTÍNEZ","1949-04-20",74,5,"M","C","2023-09-30"]
[null,null,null,null,null,"14708380-7","RENÉ ANTONIO VÉLEZ BRIONES","1970-11-01",52,10,"M","B","2023-09-30"]
[null,null,null,null,null,"8744153-9","CHALIAS TERESA GALLARDO TORRES","1959-07-19",64,2,"F","B","2023-09-30"]
[null,null,null,null,null,"18680064-8","CARLA FRANCISCA HERRERA AHUMADA","1994-03-08",29,6,"F","B","2023-09-30"]
[null,null,null,null,null,"8671752-2","RUPERTINO DEL ROSARIO DELGADO HIDALGO","1961-05-15",62,4,"M","C","2023-09-30"]
[null,null,null,null,null,"13982399-0","JORGE PATRICIO ORTIZAGA CAICEO","1981-10-15",41,11,"M","C","2023-09-30"]
[null,null,null,null,null,"12950776-4","MARÍA EVELYN DE LOS MUÑOZ VARGAS","1976-11-02",46,10,"F","A","2023-09-30"]
[null,null,null,null,null,"20133363-6","MYRIAM YESMENIA MARTÍNEZ AHUMADA","1999-07-04",24,2,"F","B","2023-09-30"]
[null,null,null,null,null,"8068453-3","MARTA INÉS MONARDES JERIA","1958-06-06",65,3,"F","B","2023-09-30"]
[null,null,null,null,null,"9515056-K","LUIS ALFREDO PUEYES VÁSQUEZ","1962-10-07",60,11,"M","D","2023-09-30"]
[null,null,null,null,null,"24829693-3","MARIA JOSE MUÑOZ ASTUDILLO","2014-12-14",8,9,"F","B","2023-09-30"]
[null,null,null,null,null,"10840356-K","MARIO HERNÁN MARTÍNEZ ORTIZ","1966-03-24",57,6,"M","C","2023-09-30"]
[null,null,null,null,null,"14413151-7","EVELYN VALERIA GUTIÉRREZ CÓRDOVA","1974-03-25",49,6,"F","D","2023-09-30"]
[null,null,null,null,null,"16306302-6","ALEX DARÍO PEREIRA PEREIRA","1986-06-14",37,3,"M","C","2023-09-30"]
[null,null,null,null,null,"8526681-0","MÓNICA DEL CARMEN TRIVIÑO CÉSPED","1960-01-22",63,8,"F","B","2023-09-30"]
[null,null,null,null,null,"19130940-5","NICOLÁS ANDRÉS HERRERA VILLARROEL","1995-12-19",27,9,"M","B","2023-09-30"]
[null,null,null,null,null,"26687942-3","SOPHIA ELENA ARRIAGADA CORTÉS","2019-02-03",4,7,"F","D","2023-09-30"]
[null,null,null,null,null,"5529719-3","VICTORIA ADRIANA SANHUEZA ROMERO","1947-05-28",76,4,"F","B","2023-09-30"]
[null,null,null,null,null,"24467014-8","MAXIMILIANO BALTAZAR GONZÁLEZ CARVAJAL","2013-12-01",9,9,"M","D","2023-09-30"]
[null,null,null,null,null,"16550459-3","MIRIAM VICTORIA TOLEDO FARÍAS","1987-02-04",36,7,"F","C","2023-09-30"]
[null,null,null,null,null,"13981592-0","JOSÉ LUIS GONZÁLEZ TRIVIÑO","1980-12-31",42,8,"M","D","2023-09-30"]
[null,null,null,null,null,"13468632-4","MARIANGELA REBECA MARTÍNEZ PAPIC","1978-08-05",45,1,"F","C","2023-09-30"]
[null,null,null,null,null,"4531891-5","SONIA DE LAS NIEVES HERRERA VÁSQUEZ","1940-02-08",83,7,"F","B","2023-09-30"]
[null,null,null,null,null,"25313022-9","AGUSTINA ANDREA PULGAR PEREIRA","2016-03-08",7,6,"F","C","2023-09-30"]
[null,null,null,null,null,"13827374-1","JULIO GERARD PONCE MATURANA","1980-04-04",43,5,"M","D","2023-09-30"]
[null,null,null,null,null,"23764556-1","EDUHAN EXEQUIEL ARANCIBIA MUÑOZ","2011-10-07",11,11,"M","D","2023-09-30"]
[null,null,null,null,null,"8041822-1","HÉCTOR JOSÉ HIDALGO FARÍAS","1957-11-18",65,10,"M","B","2023-09-30"]
[null,null,null,null,null,"7659628-K","MIRIAM MARÍA SEVERINO CÁDIZ","1957-10-27",65,11,"F","D","2023-09-30"]
[null,null,null,null,null,"13184440-9","MÓNICA PATRICIA PÉREZ CALDERÓN","1976-12-16",46,9,"F","C","2023-09-30"]
[null,null,null,null,null,"27886662-9","PASCALE IGNACIA HIDALGO VIEIRA","2022-08-12",1,1,"F","A","2023-09-30"]
[null,null,null,null,null,"23950323-3","BENJAMÍN IGNACIO GONZÁLEZ PORRAS","2012-05-11",11,4,"M","A","2023-09-30"]
[null,null,null,null,null,"27832686-1","ANIBAL ROGELIO FARIAS GONZALEZ","2022-06-15",1,3,"M","C","2023-09-30"]
[null,null,null,null,null,"18597899-0","GABRIELA DE LOURDES ESPINOZA MAZUELA","1993-07-24",30,2,"F","D","2023-09-30"]
[null,null,null,null,null,"23852831-3","SOFÍA CATALINA RAMÍREZ SOTO","2012-01-25",11,8,"F","D","2023-09-30"]
[null,null,null,null,null,"18680498-8","GABRIELA BETZABÉ MURA BENAVIDES","1994-06-13",29,3,"F","B","2023-09-30"]
[null,null,null,null,null,"26901524-1","MATEO ALONSO GONZÁLEZ CARVAJAL","2019-07-04",4,2,"M","D","2023-09-30"]
[null,null,null,null,null,"20727983-8","PALOMA ILLARAY CORTÉS GONZÁLEZ","2002-05-23",21,4,"F","B","2023-09-30"]
[null,null,null,null,null,"13184575-8","WILLIAM ANDRÉS CERDA CANELO","1977-01-25",46,8,"M","A","2023-09-30"]
[null,null,null,null,null,"16027160-4","JACQUELINE ANDREA PEREIRA URBINA","1985-06-12",38,3,"F","C","2023-09-30"]
[null,null,null,null,null,"24813723-1","MATEO IGNACIO GORMAS BECERRA","2014-11-28",8,10,"M","D","2023-09-30"]
[null,null,null,null,null,"17818625-6","ANA MARÍA SALINAS PARRA","1991-04-28",32,5,"F","A","2023-09-30"]
[null,null,null,null,null,"20995823-6","MARIBEL ESTELA SÁNCHEZ GALLARDO","2002-03-19",21,6,"F","B","2023-09-30"]
[null,null,null,null,null,"27375406-7","XAVIER ALEJANDRO CRUZ SANCHEZ","2020-10-12",2,11,"M","D","2023-09-30"]
[null,null,null,null,null,"26803093-K","SAMYRA AINHARA MEJÍAS ARANCIBIA","2019-04-23",4,5,"F","A","2023-09-30"]

{"sheet":"Resumen_Poblacion","index":2,"n_rows":34,"n_cols":19,"rows_kept":34,"cut":false,"hidden":false,"merged":[[2,12,2,14],[3,0,8,1],[3,2,8,3],[4,6,4,8],[5,6,5,8],[6,6,6,8],[8,5,8,10],[12,1,12,3],[19,1,19,3],[24,5,24,8],[11,1,11,3],[18,1,18,3],[11,5,11,8],[11,15,11,18],[18,15,18,18],[27,10,27,11],[18,10,18,13],[9,5,9,10],[11,10,11,13]]}
[]
[]
[]
[]
[null,null,null,null,null,"Establecimiento",{"$f":"Percapita!$G$6","v":"DEPARTAMENTO DE SALUD MUNICIPAL"}]
[null,null,null,null,null,"Comuna",{"$f":"Percapita!$G$7","v":"CALLE LARGA"}]
[null,null,null,null,null,"Fecha de Corte",{"$f":"Percapita!$G$8","v":"2023-09-30"}]
[]
[null,null,null,null,null,"RESUMEN POBLACIÓN INSCRITA VALIDADA"]
[null,null,null,null,null,"CORTE: SEPTIEMBRE 2023"]
[]
[null,"TOTAL FAMILIAS",null,null,null,"CICLO INFANTIL",null,null,null,null,"CICLO ADOLESCENTE",null,null,null,null,"CICLO PERSONA MAYOR"]
[null,{"$f":"(I22+N14+N15+N21+S14)/3.3","v":4419.3939393939399},null,null,null,"Grupo Etáreo",null,null,"TOTAL",null,"Grupo Etáreo","M","F","TOTAL",null,"Grupo Etáreo","M","F","TOTAL"]
[null,null,null,null,null,"Recien nacidos < de 28 dias ",null,null,136,null,"Poblac. 10 - 14 años",{"$f":"COUNTIFS(Tabla1[GENERO],\"M\",Tabla1[EDAD AÑOS],\">=10\",Tabla1[EDAD AÑOS],\"<=14\")","v":561},{"$f":"COUNTIFS(Tabla1[GENERO],\"F\",Tabla1[EDAD AÑOS],\">=10\",Tabla1[EDAD AÑOS],\"<=14\")","v":564},{"$f":"SUM(L14:M14)","v":1125},null,"65 Años y más",{"$f":"COUNTIFS(Tabla1[GENERO],\"M\",Tabla1[EDAD AÑOS],\">=65\")","v":913},{"$f":"COUNTIFS(Tabla1[GENERO],\"F\",Tabla1[EDAD AÑOS],\">=65\")","v":1010},{"$f":"SUM(Q14:R14)","v":1923}]
[null,null,null,null,null,"Poblac. < de 1 año ",null,null,234,null,"Pobla. 15 - 19 años:",{"$f":"COUNTIFS(Tabla1[GENERO],\"M\",Tabla1[EDAD AÑOS],\">=15\",Tabla1[EDAD AÑOS],\"<=19\")","v":506},{"$f":"COUNTIFS(Tabla1[GENERO],\"F\",Tabla1[EDAD AÑOS],\">=15\",Tabla1[EDAD AÑOS],\"<=19\")","v":488},{"$f":"SUM(L15:M15)","v":994}]
[null,null,null,null,null,"Poblac. de 12 a 17 meses",null,null,54,null,"Embarazadas Inscrita / Usuarias:",null,null,{"$f":"SUM(L16:L16)","v":0}]
[null,null,null,null,null,"Poblac. de 18 a 23 ms.",null,null,95,null,"Puérperas - Recién nacidos",null,null,{"$f":"SUM(L17:L17)","v":0}]
[null,null,null,null,null,"Grupo Etáreo","M","F","TOTAL"]
[null,"TOTAL POBLACION",null,null,null,"Poblac. de 2 a 5 años",{"$f":"COUNTIFS(Tabla1[GENERO],\"M\",Tabla1[EDAD AÑOS],\">=2\",Tabla1[EDAD AÑOS],\"<=5\")","v":291},{"$f":"COUNTIFS(Tabla1[GENERO],\"F\",Tabla1[EDAD AÑOS],\">=2\",Tabla1[EDAD AÑOS],\"<=5\")","v":314},{"$f":"SUM(G19:H19)","v":605},null,"CICLO ADULTO",null,null,null,null,"ESTRATEGIA TRANSVERSAL"]
[null,{"$f":"(I28)","v":14588},null,null,null,"Poblac. de 6 a 9 años",{"$f":"COUNTIFS(Tabla1[GENERO],\"M\",Tabla1[EDAD AÑOS],\">=6\",Tabla1[EDAD AÑOS],\"<=9\")","v":436},{"$f":"COUNTIFS(Tabla1[GENERO],\"F\",Tabla1[EDAD AÑOS],\">=6\",Tabla1[EDAD AÑOS],\"<=9\")","v":423},859,null,"Grupo Etáreo","M","F","TOTAL",null,"Grupo Etáreo","M","F","TOTAL"]
[null,null,null,null,null,"Total",null,null,null,null,"Poblac. 20 - 64 años",{"$f":"COUNTIFS(Tabla1[GENERO],\"M\",Tabla1[EDAD AÑOS],\">=20\",Tabla1[EDAD AÑOS],\"<=64\")","v":4123},{"$f":"COUNTIFS(Tabla1[GENERO],\"f\",Tabla1[EDAD AÑOS],\">=20\",Tabla1[EDAD AÑOS],\"<=64\")","v":4704},{"$f":"SUM(L21:M21)","v":8827},null,"Poblac. 0 - 19 años",{"$f":"COUNTIFS(Tabla1[GENERO],\"M\",Tabla1[EDAD AÑOS],\">=0\",Tabla1[EDAD AÑOS],\"<=19\")","v":1918},{"$f":"COUNTIFS(Tabla1[GENERO],\"F\",Tabla1[EDAD AÑOS],\">=0\",Tabla1[EDAD AÑOS],\"<=19\")","v":1916},{"$f":"SUM(Q21:R21)","v":3834}]
[null,null,null,null,null,"Poblac. de 0 a 9 ",{"$f":"COUNTIFS(Tabla1[GENERO],\"M\",Tabla1[EDAD AÑOS],\">=0\",Tabla1[EDAD AÑOS],\"<=9\")","v":851},{"$f":"COUNTIFS(Tabla1[GENERO],\"F\",Tabla1[EDAD AÑOS],\">=0\",Tabla1[EDAD AÑOS],\"<=9\")","v":864},{"$f":"SUM(G22:H22)","v":1715},null,"Poblac. 45 - 54 años",{"$f":"COUNTIFS(Tabla1[GENERO],\"M\",Tabla1[EDAD AÑOS],\">=45\",Tabla1[EDAD AÑOS],\"<=54\")","v":784},{"$f":"COUNTIFS(Tabla1[GENERO],\"f\",Tabla1[EDAD AÑOS],\">=45\",Tabla1[EDAD AÑOS],\"<=54\")","v":934},1718,null,"Poblac. 20 años y mas",{"$f":"COUNTIFS(Tabla1[GENERO],\"M\",Tabla1[EDAD AÑOS],\">=20\")","v":5036},{"$f":"COUNTIFS(Tabla1[GENERO],\"F\",Tabla1[EDAD AÑOS],\">=20\")","v":5714},{"$f":"SUM(Q22:R22)","v":10750}]
[null,null,null,null,null,null,null,null,null,null,"Poblac. 25 - 44 años",{"$f":"COUNTIFS(Tabla1[GENERO],\"M\",Tabla1[EDAD AÑOS],\">=25\",Tabla1[EDAD AÑOS],\"<=44\")","v":1977},{"$f":"COUNTIFS(Tabla1[GENERO],\"f\",Tabla1[EDAD AÑOS],\">=25\",Tabla1[EDAD AÑOS],\"<=44\")","v":2367},4344]
[null,null,null,null,null,null,null,null,null,null,"Poblac. 45 - 64 años",{"$f":"COUNTIFS(Tabla1[GENERO],\"M\",Tabla1[EDAD AÑOS],\">=45\",Tabla1[EDAD AÑOS],\"<=64\")","v":1665},{"$f":"COUNTIFS(Tabla1[GENERO],\"f\",Tabla1[EDAD AÑOS],\">=45\",Tabla1[EDAD AÑOS],\"<=64\")","v":1845},3510]
[null,null,null,null,null,"Población por Sexo",null,null,null,null,"Embarazadas Inscrita / Usuarias:",null,null,0]
[null,null,null,null,null,"Femenino",null,null,{"$f":"COUNTIFS(Tabla1[GENERO],\"F\")","v":7631},null,"Puérperas - Recién nacidos",null,null,0]
[null,null,null,null,null,"Masculino",null,null,{"$f":"COUNTIFS(Tabla1[GENERO],\"M\")","v":6957}]
[null,null,null,null,null,"Total",null,null,{"$f":"SUM(I26:I27)","v":14588},null,"Población por Grupo Etario"]
[null,null,null,null,null,null,null,null,null,null,"Grupo Etáreo","TOTAL"]
[null,null,null,null,null,null,null,null,null,null,"Población 15 a 24 años",{"$f":"COUNTIFS(Tabla1[EDAD AÑOS],\">=15\",Tabla1[EDAD AÑOS],\"<=24\")","v":1967}]
[null,null,null,null,null,null,null,null,null,null,"Población 25 a 44 años",{"$f":"COUNTIFS(Tabla1[EDAD AÑOS],\">=25\",Tabla1[EDAD AÑOS],\"<=44\")","v":4344}]
[null,null,null,null,null,null,null,null,null,null,"Población 45 a 64 años",{"$f":"COUNTIFS(Tabla1[EDAD AÑOS],\">=45\",Tabla1[EDAD AÑOS],\"<=64\")","v":3510}]
[null,null,null,null,null,null,null,null,null,null,"Población 65 y mas",{"$f":"COUNTIFS(Tabla1[EDAD AÑOS],\">=65\")","v":1923}]
[null,null,null,null,null,null,null,null,null,null,"Total",{"$f":"SUM(L30:L33)","v":11744}]

{"sheet":"Balance_Horas","index":3,"n_rows":226,"n_cols":40,"rows_kept":226,"cut":false,"hidden":false,"merged":[[198,1,198,5],[172,1,172,5],[171,1,171,5],[190,1,190,5],[76,1,76,5],[53,1,53,5],[154,1,154,5],[182,1,182,5],[181,1,181,5],[180,1,180,5],[165,1,165,5],[152,1,152,5],[151,1,151,5],[141,1,141,5],[153,1,153,5],[156,1,156,5],[155,1,155,5],[77,1,77,5],[85,1,85,5],[78,1,78,5],[82,1,82,5],[86,1,86,5],[125,1,125,5],[55,1,55,5],[56,1,56,5],[57,1,57,5],[58,1,58,5],[59,1,59,5],[183,1,183,5],[128,1,128,5],[129,1,129,5],[130,1,130,5],[131,1,131,5],[127,1,127,5],[75,1,75,5],[101,1,101,5],[102,1,102,5],[117,1,117,5],[118,1,118,5],[116,1,116,5],[140,1,140,5],[139,1,139,5],[115,1,115,5],[160,1,160,5],[161,1,161,5],[159,1,159,5],[145,1,145,5],[179,1,179,5],[199,1,199,5],[188,1,188,5],[88,1,88,5],[184,1,184,5],[192,1,192,5],[97,1,97,5],[96,1,96,5],[92,1,92,5],[94,1,94,5],[91,1,91,5],[99,1,99,5],[100,1,100,5],[149,1,149,5],[148,1,148,5],[123,1,123,5],[114,1,114,5],[132,1,132,5],[126,1,126,5],[187,1,187,5],[189,1,189,5],[186,1,186,5],[193,1,193,5],[95,1,95,5],[122,1,122,5],[52,1,52,5],[39,1,39,5],[40,1,40,5],[41,1,41,5],[42,1,42,5],[43,1,43,5],[44,1,44,5],[49,1,49,5],[28,1,28,5],[29,1,29,5],[30,1,30,5],[32,1,32,5],[34,1,34,5],[35,1,35,5],[37,1,37,5],[46,1,46,5],[38,1,38,5],[36,1,36,5],[31,1,31,5],[45,1,45,5],[47,1,47,5],[48,1,48,5],[50,1,50,5],[51,1,51,5],[2,17,2,18],[2,15,2,16],[19,9,19,11],[19,2,19,5],[11,10,11,14],[13,10,13,11],[14,10,14,11],[15,10,15,11],[16,10,16,11],[17,10,17,11],[11,2,11,6],[12,2,12,5],[9,5,9,9],[3,0,8,1],[3,2,8,3],[4,6,4,8],[29,8,29,9],[27,10,27,11],[29,6,29,7],[162,1,162,5],[150,1,150,5],[191,1,191,5],[158,1,158,5],[157,1,157,5],[80,1,80,5],[81,1,81,5],[83,1,83,5],[84,1,84,5],[87,1,87,5],[70,1,70,5],[65,1,65,5],[66,1,66,5],[73,1,73,5],[72,1,72,5],[71,1,71,5],[74,1,74,5],[178,1,178,5],[196,1,196,5],[197,1,197,5],[90,1,90,5],[93,1,93,5],[98,1,98,5],[104,1,104,5],[105,1,105,5],[106,1,106,5],[169,1,169,5],[174,1,174,5],[175,1,175,5],[173,1,173,5],[134,1,134,5],[135,1,135,5],[136,1,136,5],[137,1,137,5],[138,1,138,5],[119,1,119,5],[120,1,120,5],[185,1,185,5],[194,1,194,5],[170,1,170,5],[176,1,176,5],[177,1,177,5],[27,30,27,31],[5,6,5,8],[6,6,6,8],[8,5,8,9],[12,9,12,11],[18,9,18,11],[13,2,13,5],[14,2,14,5],[15,2,15,5],[16,2,16,5],[17,2,17,5],[18,2,18,5],[20,2,20,5],[20,9,20,11],[21,2,21,5],[21,9,21,11],[27,8,27,9],[207,1,207,5],[27,32,27,33],[27,18,27,19],[27,24,27,25],[27,20,27,21],[29,20,29,21],[27,22,27,23],[29,22,29,23],[29,10,29,11],[27,12,27,13],[29,12,29,13],[27,14,27,15],[29,14,29,15],[27,16,27,17],[29,16,29,17],[29,24,29,25],[29,18,29,19],[27,28,27,29],[27,26,27,27],[206,6,206,7],[27,6,27,7],[33,1,33,5],[167,1,167,5],[54,1,54,5],[164,1,164,5],[166,1,166,5],[168,1,168,5],[60,1,60,5],[62,1,62,5],[63,1,63,5],[64,1,64,5],[67,1,67,5],[68,1,68,5],[69,1,69,5],[61,1,61,5],[27,34,27,35],[29,38,29,39],[195,1,195,5],[200,1,200,5],[201,1,201,5],[121,1,121,5],[124,1,124,5],[107,1,107,5],[108,1,108,5],[109,1,109,5],[110,1,110,5],[111,1,111,5],[112,1,112,5],[142,1,142,5],[143,1,143,5],[144,1,144,5],[146,1,146,5],[147,1,147,5],[163,1,163,5],[133,1,133,5],[79,1,79,5],[89,1,89,5],[103,1,103,5],[113,1,113,5],[206,28,206,29],[206,26,206,27],[206,18,206,19],[206,20,206,21],[206,22,206,23],[27,36,27,37],[206,36,206,37],[206,38,206,39],[206,8,206,9],[206,10,206,11],[206,12,206,13],[206,14,206,15],[206,16,206,17],[206,30,206,31],[206,32,206,33],[206,34,206,35],[206,24,206,25],[27,38,27,39],[29,28,29,29],[29,26,29,27],[29,30,29,31],[29,32,29,33],[29,34,29,35],[29,36,29,37],[214,1,214,5],[216,1,216,5],[223,1,223,5],[225,1,225,5],[208,1,208,5],[209,1,209,5],[210,1,210,5],[211,1,211,5],[212,1,212,5],[213,1,213,5],[222,1,222,5],[221,1,221,5],[215,1,215,5],[221,34,221,35],[221,36,221,37],[220,6,220,7],[220,8,220,9],[220,10,220,11],[220,12,220,13],[220,14,220,15],[220,16,220,17],[220,18,220,19],[220,20,220,21],[220,22,220,23],[221,38,221,39],[224,1,224,5],[220,24,220,25],[220,26,220,27],[220,28,220,29],[220,30,220,31],[220,32,220,33],[220,34,220,35],[220,36,220,37],[220,38,220,39],[221,6,221,7],[221,8,221,9],[221,10,221,11],[221,12,221,13],[221,14,221,15],[221,16,221,17],[221,18,221,19],[221,20,221,21],[221,22,221,23],[221,24,221,25],[221,26,221,27],[221,28,221,29],[221,30,221,31],[221,32,221,33]]}
[]
[]
[]
[]
[null,null,null,null,null,"Establecimiento",{"$f":"Percapita!$G$6","v":"DEPARTAMENTO DE SALUD MUNICIPAL"}]
[null,null,null,null,null,"Comuna",{"$f":"Percapita!$G$7","v":"CALLE LARGA"}]
[null,null,null,null,null,"Fecha de Programación","2023-10-12"]
[]
[null,null,null,null,null,"PROGRAMACION APS CICLO VITAL"]
[null,null,null,null,null,"BALANCE DE HORAS"]
[]
[null,null,"Calculo de Personal Contratado por Horas",null,null,null,null,null,null,null,"Calculo de Personal Contratado por Horas"]
[null,null,"N° Profesionales de 44 horas Semanales",null,null,null,6,null,null,"Cantidad de horas de la actividad",null,null,0]
[null,null,"Calculo Horas Diarias ",null,null,null,{"$f":"8.8*G13","v":52.800000000000004},null,null,null,"Cantidad de veces a la semana",null,0]
[null,null,"N° Profesionales de 33 horas Semanales",null,null,null,null,null,null,null,"Cantidad de veces por mes",null,0]
[null,null,"Calculo Horas Diarias ",null,null,null,{"$f":"6.6*G15","v":0},null,null,null,"Cantidad de veces al año",null,0]
[null,null,"N° Profesionales de 22 horas Semanales",null,null,null,null,null,null,null,"Dias Laborales al año",null,220]
[null,null,"Calculo Horas Diarias ",null,null,null,{"$f":"4.4*G17","v":0},null,null,null,"Total Horas Diarias",null,{"$f":"(M13*M14*M15*M16)/M17","v":0}]
[null,null,"N° Profesionales de 35 horas Semanales",null,null,null,1,null,null,"Cantidad de Profesionales que realizan la act.",null,null,0]
[null,null,"Calculo Horas Diarias ",null,null,null,{"$f":"7*G19","v":7},null,null,"Total Horas Diarias por Profesional",null,null,{"$f":"M18*M19","v":0}]
[null,null,"N° Profesionales de 25 horas Semanales",null,null,null,null,null,null,"Cantidad de Profesionales que realizan la act.",null,null,0]
[null,null,"Calculo Horas Diarias ",null,null,null,{"$f":"5*G21","v":0},null,null,"Total Horas Diarias por Profesional",null,null,{"$f":"M20*M21","v":0}]
[null,null,null,null,null,"Total Horas Diarias",{"$f":"SUM(G20,G18,G16,G14+G22)","v":59.800000000000004}]
[]
[null,null,null,null,null,null,null,null," "]
["Programación de Horas de Gestión Clínica"]
[]
[null,null,null,null,null,null,"Médico",null,"Odontólogo",null,"Químico Farmacéutico",null,"Matrón(a)",null,"Enfermero(a)",null,"Nutricionista",null,"Asistente Social",null,"Psicólogo(a)",null,"Fonoaudiólogo(a)",null,"Kinesiólogo(a)",null,"Terapeuta Ocupacional",null,"Terapeuta Complementario",null,"Prof. Educación Física",null,"Educador(a) Párvulos",null,"Podólogo(a)",null,"TENS",null,"TONS"]
[null,"Actividades  de Gestión Clínica  / Horas Diarias",null,null,null,null,"Horas","%","Horas","%","Horas","%","Horas","%","Horas","%","Horas","%","Horas","%","Horas","%","Horas","%","Horas","%","Horas","%","Horas","%","Horas","%","Horas","%","Horas","%","Horas","%","Horas","%"]
[null,"Horas Diarias Contratadas",null,null,null,null,74.8,null,30,null,8.8000000000000007,null,19.8,null,51,null,26.4,null,35.200000000000003,null,20.8,null,4.4000000000000004,null,47,null,8.8000000000000007,null,0,null,8.8000000000000007,null,8.8000000000000007,null,15.4,null,176,null,35.200000000000003]
[null,"Horas de Capacitación",null,null,null,null,0.22700000000000001,{"$f":"IFERROR(G31/G$30,0%)","v":3.0347593582887703E-3},0.09,{"$f":"IFERROR(I31/I$30,0%)","v":3.0000000000000001E-3},2.1999999999999999E-2,{"$f":"IFERROR(K31/K$30,0%)","v":2.4999999999999996E-3},6.8000000000000005E-2,{"$f":"IFERROR(M31/M$30,0%)","v":3.4343434343434343E-3},0.13600000000000001,{"$f":"IFERROR(O31/O$30,0%)","v":2.666666666666667E-3},6.8000000000000005E-2,{"$f":"IFERROR(Q31/Q$30,0%)","v":2.5757575757575763E-3},0.09,{"$f":"IFERROR(S31/S$30,0%)","v":2.5568181818181814E-3},6.8000000000000005E-2,{"$f":"IFERROR(U31/U$30,0%)","v":3.2692307692307695E-3},4.4999999999999998E-2,{"$f":"IFERROR(W31/W$30,0%)","v":1.0227272727272725E-2},0.13600000000000001,{"$f":"IFERROR(Y31/Y$30,0%)","v":2.8936170212765957E-3},2.1999999999999999E-2,{"$f":"IFERROR(AA31/AA$30,0%)","v":2.4999999999999996E-3},null,{"$f":"IFERROR(AC31/AC$30,0%)","v":0},2.1999999999999999E-2,{"$f":"IFERROR(AE31/AE$30,0%)","v":2.4999999999999996E-3},2.1999999999999999E-2,{"$f":"IFERROR(AG31/AG$30,0%)","v":2.4999999999999996E-3},4.4999999999999998E-2,{"$f":"IFERROR(AI31/AI$30,0%)","v":2.9220779220779218E-3},0.45400000000000001,{"$f":"IFERROR(AK31/AK$30,0%)","v":2.5795454545454546E-3},0.113,{"$f":"IFERROR(AM31/AM$30,0%)","v":3.2102272727272726E-3}]
[null,"Reuniones Equipo Local"]
[null,"Reunión Equipo Directivo",null,null,null,null,5.3999999999999999E-2,{"$f":"IFERROR(G33/G$30,0%)","v":7.2192513368983958E-4},null,0,null,{"$f":"IFERROR(K33/K$30,0%)","v":0},null,{"$f":"IFERROR(M33/M$30,0%)","v":0},5.3999999999999999E-2,{"$f":"IFERROR(O33/O$30,0%)","v":1.0588235294117646E-3},5.3999999999999999E-2,{"$f":"IFERROR(Q33/Q$30,0%)","v":2.0454545454545456E-3},5.3999999999999999E-2,{"$f":"IFERROR(S33/S$30,0%)","v":1.534090909090909E-3},null,{"$f":"IFERROR(U33/U$30,0%)","v":0},null,{"$f":"IFERROR(W33/W$30,0%)","v":0},null,{"$f":"IFERROR(Y33/Y$30,0%)","v":0},null,{"$f":"IFERROR(AA33/AA$30,0%)","v":0},null,{"$f":"IFERROR(AC33/AC$30,0%)","v":0},null,{"$f":"IFERROR(AE33/AE$30,0%)","v":0},null,{"$f":"IFERROR(AG33/AG$30,0%)","v":0},null,{"$f":"IFERROR(AI33/AI$30,0%)","v":0},null,{"$f":"IFERROR(AK33/AK$30,0%)","v":0},null,{"$f":"IFERROR(AM33/AM$30,0%)","v":0}]
[null,"Reunion Equipos General Sector",null,null,null,null,0.81799999999999995,{"$f":"IFERROR(G34/G$30,0%)","v":1.0935828877005347E-2},0.32700000000000001,{"$f":"IFERROR(I34/I$30,0%)","v":1.09E-2},5.5E-2,{"$f":"IFERROR(K34/K$30,0%)","v":6.2499999999999995E-3},0.16400000000000001,{"$f":"IFERROR(M34/M$30,0%)","v":8.2828282828282824E-3},0.65500000000000003,{"$f":"IFERROR(O34/O$30,0%)","v":1.2843137254901962E-2},0.245,{"$f":"IFERROR(Q34/Q$30,0%)","v":9.2803030303030311E-3},0.32700000000000001,{"$f":"IFERROR(S34/S$30,0%)","v":9.2897727272727264E-3},0.16400000000000001,{"$f":"IFERROR(U34/U$30,0%)","v":7.884615384615384E-3},0.16400000000000001,3.727272727272727E-2,0.49,1.0425531914893617E-2,8.2000000000000003E-2,9.3181818181818175E-3,null,0,8.2000000000000003E-2,9.3181818181818175E-3,8.2000000000000003E-2,9.3181818181818175E-3,0.16400000000000001,1.064935064935065E-2,1.6359999999999999,9.2954545454545442E-3,0.40899999999999997,1.161931818181818E-2]
[null,"Reunión Equipos Cabeceras",null,null,null,null,0.16300000000000001,2.179144385026738E-3,0.16300000000000001,5.4333333333333334E-3,null,{"$f":"IFERROR(K35/K$30,0%)","v":0},0.16300000000000001,{"$f":"IFERROR(M35/M$30,0%)","v":8.2323232323232316E-3},0.16300000000000001,{"$f":"IFERROR(O35/O$30,0%)","v":3.196078431372549E-3},0.245,{"$f":"IFERROR(Q35/Q$30,0%)","v":9.2803030303030311E-3},0.32700000000000001,{"$f":"IFERROR(S35/S$30,0%)","v":9.2897727272727264E-3},0.16300000000000001,{"$f":"IFERROR(U35/U$30,0%)","v":7.8365384615384608E-3},null,0,0.16300000000000001,3.4680851063829789E-3,null,0,null,0,null,0,null,0,null,0,null,0,null,0]
[null,"Reunión Consejo Técnico",null,null,null,null,0.14499999999999999,1.9385026737967913E-3,7.1999999999999995E-2,2.3999999999999998E-3,null,{"$f":"IFERROR(K36/K$30,0%)","v":0},0.14499999999999999,7.3232323232323227E-3,0.218,{"$f":"IFERROR(O36/O$30,0%)","v":4.2745098039215683E-3},0.14499999999999999,5.4924242424242422E-3,0.218,{"$f":"IFERROR(S36/S$30,0%)","v":6.1931818181818173E-3},null,0,null,0,0.218,4.6382978723404251E-3,null,0,null,0,null,0,null,0,null,0,null,0,null,0]
[null,"Reunión General Calidad",null,null,null,null,null,0,null,0,null,0,null,0,null,0,null,0,null,0,null,0,null,0,null,0,null,0,null,0,null,0,null,0,null,0,null,0,null,0]
[null,"Reunión Equipos Clínicos (Estamentos)",null,null,null,null,0.81799999999999995,1.0935828877005347E-2,0.14499999999999999,4.8333333333333327E-3,5.5E-2,{"$f":"IFERROR(K38/K$30,0%)","v":6.2499999999999995E-3},0.16400000000000001,{"$f":"IFERROR(M38/M$30,0%)","v":8.2828282828282824E-3},0.436,{"$f":"IFERROR(O38/O$30,0%)","v":8.5490196078431367E-3},0.16400000000000001,{"$f":"IFERROR(Q38/Q$30,0%)","v":6.2121212121212131E-3},0.218,{"$f":"IFERROR(S38/S$30,0%)","v":6.1931818181818173E-3},0.16300000000000001,{"$f":"IFERROR(U38/U$30,0%)","v":7.8365384615384608E-3},0.109,2.4772727272727269E-2,0.32700000000000001,6.9574468085106386E-3,5.5E-2,6.2499999999999995E-3,null,0,5.5E-2,6.2499999999999995E-3,5.5E-2,6.2499999999999995E-3,0.109,7.077922077922078E-3,1.0900000000000001,6.193181818181819E-3,0.182,5.1704545454545449E-3]
[null,"Reunión MAISF",null,null,null,null,2.7E-2,3.6096256684491979E-4,2.7E-2,8.9999999999999998E-4,null,{"$f":"IFERROR(K39/K$30,0%)","v":0},9.9000000000000005E-2,{"$f":"IFERROR(M39/M$30,0%)","v":5.0000000000000001E-3},0.109,{"$f":"IFERROR(O39/O$30,0%)","v":2.1372549019607842E-3},0.14000000000000001,{"$f":"IFERROR(Q39/Q$30,0%)","v":5.3030303030303042E-3},0.32700000000000001,{"$f":"IFERROR(S39/S$30,0%)","v":9.2897727272727264E-3},7.2999999999999995E-2,{"$f":"IFERROR(U39/U$30,0%)","v":3.5096153846153845E-3},null,0,0.20399999999999999,4.3404255319148934E-3,3.1E-2,3.5227272727272724E-3,null,0,null,0,null,0,null,0,3.5999999999999997E-2,2.0454545454545454E-4,null,0]
[null,"Reunión OIRS - SOME",null,null,null,null,null,0,null,0,null,{"$f":"IFERROR(K40/K$30,0%)","v":0},null,{"$f":"IFERROR(M40/M$30,0%)","v":0},null,{"$f":"IFERROR(O40/O$30,0%)","v":0},null,{"$f":"IFERROR(Q40/Q$30,0%)","v":0},null,{"$f":"IFERROR(S40/S$30,0%)","v":0},null,{"$f":"IFERROR(U40/U$30,0%)","v":0},null,0,null,0,null,0,null,0,null,0,null,0,null,0,null,0,null,0]
[null,"Reuniones Programas y Estrategias Locales"]
[null,"Reunión PSCV - ECICEP",null,null,null,null,0.16300000000000001,{"$f":"IFERROR(G42/G$30,0%)","v":2.179144385026738E-3},8.1000000000000003E-2,2.7000000000000001E-3,8.1000000000000003E-2,{"$f":"IFERROR(K42/K$30,0%)","v":9.2045454545454548E-3},8.1000000000000003E-2,{"$f":"IFERROR(M42/M$30,0%)","v":4.0909090909090912E-3},0.16300000000000001,{"$f":"IFERROR(O42/O$30,0%)","v":3.196078431372549E-3},0.16300000000000001,{"$f":"IFERROR(Q42/Q$30,0%)","v":6.174242424242425E-3},8.1000000000000003E-2,{"$f":"IFERROR(S42/S$30,0%)","v":2.3011363636363637E-3},null,{"$f":"IFERROR(U42/U$30,0%)","v":0},null,{"$f":"IFERROR(W42/W$30,0%)","v":0},0.16300000000000001,{"$f":"IFERROR(Y42/Y$30,0%)","v":3.4680851063829789E-3},null,{"$f":"IFERROR(AA42/AA$30,0%)","v":0},null,{"$f":"IFERROR(AC42/AC$30,0%)","v":0},null,{"$f":"IFERROR(AE42/AE$30,0%)","v":0},null,{"$f":"IFERROR(AG42/AG$30,0%)","v":0},null,{"$f":"IFERROR(AI42/AI$30,0%)","v":0},null,{"$f":"IFERROR(AK42/AK$30,0%)","v":0},null,{"$f":"IFERROR(AM42/AM$30,0%)","v":0}]
[null,"Reunión Programa Salud Mental",null,null,null,null,0.16300000000000001,2.179144385026738E-3,null,0,8.1000000000000003E-2,9.2045454545454548E-3,null,0,null,0,null,0,8.1000000000000003E-2,2.3011363636363637E-3,0.16300000000000001,7.8365384615384608E-3,8.1000000000000003E-2,1.840909090909091E-2,8.1000000000000003E-2,1.7234042553191491E-3,null,0,null,0,null,0,null,0,null,0,null,0,null,0]
[null,"Reunión Programa PAD",null,null,null,null,7.1999999999999995E-2,9.6256684491978603E-4,3.5999999999999997E-2,1.1999999999999999E-3,null,0,null,0,7.1999999999999995E-2,1.4117647058823528E-3,7.1999999999999995E-2,2.7272727272727271E-3,3.5999999999999997E-2,1.0227272727272726E-3,null,0,null,0,7.1999999999999995E-2,1.5319148936170212E-3,null,0,null,0,null,0,null,0,null,0,null,0,null,0]
[null,"Reunión Programa Del Adulto Mayor",null,null,null,null,null,0,null,0,null,0,null,0,5.3999999999999999E-2,1.0588235294117646E-3,5.3999999999999999E-2,2.0454545454545456E-3,null,0,null,0,null,0,0.16300000000000001,3.4680851063829789E-3,null,0,null,0,null,0,null,0,null,0,null,0,null,0]
[null,"Reunión Programa Infantil",null,null,null,null,0.04,5.3475935828877007E-4,null,0,null,0,0.04,2.0202020202020202E-3,8.1000000000000003E-2,1.588235294117647E-3,5.3999999999999999E-2,2.0454545454545456E-3,1.2999999999999999E-2,3.6931818181818176E-4,null,0,null,0,null,0,null,0,null,0,null,0,null,0,null,0,null,0,null,0]
[null,"Reunión Comité Lactancia Materna",null,null,null,null,null,{"$f":"IFERROR(G47/G$30,0%)","v":0},null,{"$f":"IFERROR(I47/I$30,0%)","v":0},null,{"$f":"IFERROR(K47/K$30,0%)","v":0},null,{"$f":"IFERROR(M47/M$30,0%)","v":0},null,{"$f":"IFERROR(O47/O$30,0%)","v":0},null,{"$f":"IFERROR(Q47/Q$30,0%)","v":0},null,{"$f":"IFERROR(S47/S$30,0%)","v":0},null,{"$f":"IFERROR(U47/U$30,0%)","v":0},null,{"$f":"IFERROR(W47/W$30,0%)","v":0},null,{"$f":"IFERROR(Y47/Y$30,0%)","v":0},null,{"$f":"IFERROR(AA47/AA$30,0%)","v":0},null,{"$f":"IFERROR(AC47/AC$30,0%)","v":0},null,{"$f":"IFERROR(AE47/AE$30,0%)","v":0},null,{"$f":"IFERROR(AG47/AG$30,0%)","v":0},null,{"$f":"IFERROR(AI47/AI$30,0%)","v":0},null,{"$f":"IFERROR(AK47/AK$30,0%)","v":0},null,{"$f":"IFERROR(AM47/AM$30,0%)","v":0}]
[null,"Reunión Programa de la  Mujer",null,null,null,null,null,0,null,0,null,0,null,0,null,0,null,0,null,0,null,0,null,0,null,0,null,0,null,0,null,0,null,0,null,0,null,0,null,0]
[null,"Reunión Programa Mejor Niñez - SENAME",null,null,null,null,null,0,null,0," ",0,null,0,null,0,null,0,null,0,null,0,null,0,null,0,null,0,null,0,null,0,null,0,null,0,null,0,null,0]
[null,"Reunión PROA",null,null,null,null,8.9999999999999993E-3,{"$f":"IFERROR(G50/G$30,0%)","v":1.2032085561497325E-4},null,{"$f":"IFERROR(I50/I$30,0%)","v":0},8.9999999999999993E-3,{"$f":"IFERROR(K50/K$30,0%)","v":1.0227272727272726E-3},null,{"$f":"IFERROR(M50/M$30,0%)","v":0},8.9999999999999993E-3,{"$f":"IFERROR(O50/O$30,0%)","v":1.764705882352941E-4},null,{"$f":"IFERROR(Q50/Q$30,0%)","v":0},null,{"$f":"IFERROR(S50/S$30,0%)","v":0},null,{"$f":"IFERROR(U50/U$30,0%)","v":0},null,{"$f":"IFERROR(W50/W$30,0%)","v":0},null,{"$f":"IFERROR(Y50/Y$30,0%)","v":0},null,{"$f":"IFERROR(AA50/AA$30,0%)","v":0},null,{"$f":"IFERROR(AC50/AC$30,0%)","v":0},null,{"$f":"IFERROR(AE50/AE$30,0%)","v":0},null,{"$f":"IFERROR(AG50/AG$30,0%)","v":0},null,{"$f":"IFERROR(AI50/AI$30,0%)","v":0},null,{"$f":"IFERROR(AK50/AK$30,0%)","v":0},null,{"$f":"IFERROR(AM50/AM$30,0%)","v":0}]
[null,"Reunión Programa TBC",null,null,null,null,1.7999999999999999E-2,2.4064171122994651E-4,null,0,null,0,null,0,5.3999999999999999E-2,1.0588235294117646E-3,null,0,null,0,null,0,null,0,1.7999999999999999E-2,3.829787234042553E-4,null,0,null,0,null,0,null,0,null,0,3.5999999999999997E-2,2.0454545454545454E-4,null,0]
[null,"Reunión Programa Saludablemente",null,null,null,null,null,0,null,0,null,0,null,0,null,0,null,0,null,0,null,0,null,0,null,0,null,0,null,0,null,0,null,0,null,0,null,0,null,0]
[null,"Reunión Programa Promoción",null,null,null,null,4.4999999999999998E-2,6.0160427807486635E-4,null,0,null,0,4.4999999999999998E-2,2.2727272727272726E-3,null,0,4.4999999999999998E-2,1.7045454545454547E-3,0.13600000000000001,3.8636363636363638E-3,null,0,null,0,null,0,null,0,null,0,null,0,null,0,null,0,null,0,null,0]
[null,"Reunión Programas IRA - ERA",null,null,null,null,null,0,null,0,null,0,null,0,null,0,null,0,null,0,null,0,null,0,0.109,2.3191489361702126E-3,null,0,null,0,null,0,null,0,null,0,null,0,null,0]
[null,"Reunion Vacunatorio",null,null,null,null,null,{"$f":"IFERROR(G55/G$30,0%)","v":0},null,{"$f":"IFERROR(I55/I$30,0%)","v":0},null,0,null,0,null,0,null,0,null,0,null,0,null,0,null,0,null,0,null,0,null,0,null,0,null,0,null,0,null,0]
[null,"Reunión Demencia",null,null,null,null,null,0,null,0,null,0,null,0,null,0,null,0,null,0,null,0,null,0,null,0,null,0,null,0,null,0,null,0,null,0,null,0,null,0]
[null,"Reunión Programa del Adolescente",null,null,null,null,5.3999999999999999E-2,7.2192513368983958E-4,null,0,null,0,5.3999999999999999E-2,2.7272727272727271E-3,5.3999999999999999E-2,1.0588235294117646E-3,5.3999999999999999E-2,2.0454545454545456E-3,5.3999999999999999E-2,1.534090909090909E-3,null,0,null,0,null,0,null,0,null,0,null,0,null,0,null,0,null,0,null,0]
[null,"Reuniones Comites"]
[null,"Reunión Comité de Capacitación",null,null,null,null,0.16300000000000001,{"$f":"IFERROR(G59/G$30,0%)","v":2.179144385026738E-3},null,0,null,{"$f":"IFERROR(K59/K$30,0%)","v":0},null,{"$f":"IFERROR(M59/M$30,0%)","v":0},null,{"$f":"IFERROR(O59/O$30,0%)","v":0},null,{"$f":"IFERROR(Q59/Q$30,0%)","v":0},0.16400000000000001,{"$f":"IFERROR(S59/S$30,0%)","v":4.6590909090909087E-3},null,{"$f":"IFERROR(U59/U$30,0%)","v":0},null,{"$f":"IFERROR(W59/W$30,0%)","v":0},0.16300000000000001,{"$f":"IFERROR(Y59/Y$30,0%)","v":3.4680851063829789E-3},0.16300000000000001,{"$f":"IFERROR(AA59/AA$30,0%)","v":1.8522727272727271E-2},null,{"$f":"IFERROR(AC59/AC$30,0%)","v":0},null,{"$f":"IFERROR(AE59/AE$30,0%)","v":0},null,{"$f":"IFERROR(AG59/AG$30,0%)","v":0},null,{"$f":"IFERROR(AI59/AI$30,0%)","v":0},0.16400000000000001,{"$f":"IFERROR(AK59/AK$30,0%)","v":9.3181818181818188E-4},null,{"$f":"IFERROR(AM59/AM$30,0%)","v":0}]
[null,"Reunión Comité de Bienestar",null,null,null,null,null,0,null,0,null,0,null,0,null,0,null,0,3.5999999999999997E-2,1.0227272727272726E-3,null,0,null,0,3.5999999999999997E-2,7.659574468085106E-4,null,0,null,0,null,0,null,0,null,0,null,0,null,0]
[null,"Reunión Comité Chile Crece Contigo Local",null,null,null,null,null,0,null,0,null,0,0.16300000000000001,8.2323232323232316E-3,8.1000000000000003E-2,1.588235294117647E-3,8.1000000000000003E-2,3.0681818181818184E-3,0.16300000000000001,4.6306818181818176E-3,8.1000000000000003E-2,3.8942307692307692E-3,null,0,null,0,null,0,null,0,null,0,8.1000000000000003E-2,9.2045454545454548E-3,null,0,null,0,null,0]
[null,"Reunión Comité Chile Crece Contigo Comunal",null,null,null,null,null,{"$f":"IFERROR(G62/G$30,0%)","v":0},null,{"$f":"IFERROR(I62/I$30,0%)","v":0},null,{"$f":"IFERROR(K62/K$30,0%)","v":0},8.1000000000000003E-2,{"$f":"IFERROR(M62/M$30,0%)","v":4.0909090909090912E-3},8.1000000000000003E-2,{"$f":"IFERROR(O62/O$30,0%)","v":1.588235294117647E-3},null,{"$f":"IFERROR(Q62/Q$30,0%)","v":0},0.16300000000000001,{"$f":"IFERROR(S62/S$30,0%)","v":4.6306818181818176E-3},null,{"$f":"IFERROR(U62/U$30,0%)","v":0},null,{"$f":"IFERROR(W62/W$30,0%)","v":0},null,{"$f":"IFERROR(Y62/Y$30,0%)","v":0},null,{"$f":"IFERROR(AA62/AA$30,0%)","v":0},null,{"$f":"IFERROR(AC62/AC$30,0%)","v":0},null,{"$f":"IFERROR(AE62/AE$30,0%)","v":0},null,{"$f":"IFERROR(AG62/AG$30,0%)","v":0},null,{"$f":"IFERROR(AI62/AI$30,0%)","v":0},null,{"$f":"IFERROR(AK62/AK$30,0%)","v":0},null,{"$f":"IFERROR(AM62/AM$30,0%)","v":0}]
[null,"Reunión Comité Migrantes y Trata de Personas",null,null,null,null,null,0,null,0,null,0,null,0,null,0,null,0,3.5999999999999997E-2,1.0227272727272726E-3,null,0,null,0,3.5999999999999997E-2,7.659574468085106E-4,null,0,null,0,null,0,null,0,null,0,null,0,null,0]
[null,"Reunión Comité Calidad",null,null,null,null,5.3999999999999999E-2,7.2192513368983958E-4,5.3999999999999999E-2,1.8E-3,null,0,null,0,0.109,2.1372549019607842E-3,5.3999999999999999E-2,2.0454545454545456E-3,5.3999999999999999E-2,1.534090909090909E-3,null,0,null,0,null,0,null,0,null,0,null,0,null,0,null,0,null,0,null,0]
[null,"Reunión Comité Calificaciones",null,null,null,null,null,0,null,0,null,0,null,0,null,0,null,0,null,0,null,0,null,0,null,0,null,0,null,0,null,0,null,0,null,0,null,0,null,0]
[null,"Reunión Comité Paritario",null,null,null,null,null,0,null,0,null,0,null,0,null,0,null,0,null,0,null,0,null,0,null,0,null,0,null,0,null,0,null,0,null,0,null,0,null,0]
[null,"Reunión Comité Farmacia",null,null,null,null,7.2999999999999995E-2,9.7593582887700538E-4,3.5999999999999997E-2,1.1999999999999999E-3,3.5999999999999997E-2,4.0909090909090904E-3,3.5999999999999997E-2,1.818181818181818E-3,7.2999999999999995E-2,1.4313725490196078E-3,3.5999999999999997E-2,1.3636363636363635E-3,null,0,null,0,null,0,null,0,null,0,null,0,null,0,null,0,null,0,3.5999999999999997E-2,2.0454545454545454E-4,null,0]
[null,"Reunión Comité Gestión de la Demanda",null,null,null,null,5.3999999999999999E-2,7.2192513368983958E-4,5.3999999999999999E-2,1.8E-3,null,0,5.3999999999999999E-2,2.7272727272727271E-3,0.109,2.1372549019607842E-3,5.3999999999999999E-2,2.0454545454545456E-3,5.3999999999999999E-2,1.534090909090909E-3,null,0,null,0,5.3999999999999999E-2,1.1489361702127659E-3,null,0,null,0,null,0,null,0,null,0,null,0,null,0]
[null,"Reunión Comité Gestión Usuaria",null,null,null,null,5.3999999999999999E-2,7.2192513368983958E-4,5.3999999999999999E-2,1.8E-3,null,0,5.3999999999999999E-2,2.7272727272727271E-3,0.109,2.1372549019607842E-3,5.3999999999999999E-2,2.0454545454545456E-3,5.3999999999999999E-2,1.534090909090909E-3,null,0,null,0,2.7E-2,5.7446808510638295E-4,null,0,null,0,null,0,null,0,null,0,null,0,null,0]
[null,"Coordinaciones  y/o Jefaturas"]
[null,"Jefatura de Sector",null,null,null,null,null,{"$f":"IFERROR(G71/G$30,0%)","v":0},null,0,null,{"$f":"IFERROR(K71/K$30,0%)","v":0},null,{"$f":"IFERROR(M71/M$30,0%)","v":0},null,{"$f":"IFERROR(O71/O$30,0%)","v":0},null,{"$f":"IFERROR(Q71/Q$30,0%)","v":0},13,{"$f":"IFERROR(S71/S$30,0%)","v":0.36931818181818177},null,{"$f":"IFERROR(U71/U$30,0%)","v":0},null,{"$f":"IFERROR(W71/W$30,0%)","v":0},null,{"$f":"IFERROR(Y71/Y$30,0%)","v":0},null,{"$f":"IFERROR(AA71/AA$30,0%)","v":0},null,{"$f":"IFERROR(AC71/AC$30,0%)","v":0},null,{"$f":"IFERROR(AE71/AE$30,0%)","v":0},null,{"$f":"IFERROR(AG71/AG$30,0%)","v":0},null,{"$f":"IFERROR(AI71/AI$30,0%)","v":0},null,{"$f":"IFERROR(AK71/AK$30,0%)","v":0},null,{"$f":"IFERROR(AM71/AM$30,0%)","v":0}]
[null,"Sub Direccion Medica",null,null,null,null,7.8,{"$f":"IFERROR(G72/G$30,0%)","v":0.10427807486631016},null,{"$f":"IFERROR(I72/I$30,0%)","v":0},null,0,null,0,null,{"$f":"IFERROR(O72/O$30,0%)","v":0},null,{"$f":"IFERROR(Q72/Q$30,0%)","v":0},null,{"$f":"IFERROR(S72/S$30,0%)","v":0},null,{"$f":"IFERROR(U72/U$30,0%)","v":0},null,0,null,0,null,0,null,0,null,0,null,0,null,0,null,0,null,0]
[null,"Encargado(a) ECICEP",null,null,null,null,null,{"$f":"IFERROR(G73/G$30,0%)","v":0},null,{"$f":"IFERROR(I73/I$30,0%)","v":0},null,{"$f":"IFERROR(K73/K$30,0%)","v":0},null,{"$f":"IFERROR(M73/M$30,0%)","v":0},null,{"$f":"IFERROR(O73/O$30,0%)","v":0},null,{"$f":"IFERROR(Q73/Q$30,0%)","v":0},null,{"$f":"IFERROR(S73/S$30,0%)","v":0},null,{"$f":"IFERROR(U73/U$30,0%)","v":0},null,{"$f":"IFERROR(W73/W$30,0%)","v":0},2.6,{"$f":"IFERROR(Y73/Y$30,0%)","v":5.5319148936170216E-2},null,{"$f":"IFERROR(AA73/AA$30,0%)","v":0},null,{"$f":"IFERROR(AC73/AC$30,0%)","v":0},null,{"$f":"IFERROR(AE73/AE$30,0%)","v":0},null,{"$f":"IFERROR(AG73/AG$30,0%)","v":0},null,{"$f":"IFERROR(AI73/AI$30,0%)","v":0},null,{"$f":"IFERROR(AK73/AK$30,0%)","v":0},null,{"$f":"IFERROR(AM73/AM$30,0%)","v":0}]
[null,"Encargado(a) Migrantes",null,null,null,null,null,0,null,0,null,0,null,0,null,{"$f":"IFERROR(O74/O$30,0%)","v":0},null,0,null,{"$f":"IFERROR(S74/S$30,0%)","v":0},null,0,null,0,0.47199999999999998,1.0042553191489362E-2,null,0,null,0,null,0,null,0,null,0,null,0,null,0]
[null,"Encargado(a) de Monitoreo Farmacia",null,null,null,null,null,{"$f":"IFERROR(G75/G$30,0%)","v":0},null,{"$f":"IFERROR(I75/I$30,0%)","v":0},null,0,null,0,null,{"$f":"IFERROR(O75/O$30,0%)","v":0},null,{"$f":"IFERROR(Q75/Q$30,0%)","v":0},null,{"$f":"IFERROR(S75/S$30,0%)","v":0},null,{"$f":"IFERROR(U75/U$30,0%)","v":0},null,0,null,0,null,0,null,0,null,0,null,0,null,0,null,0,null,0]
[null,"Encargado(a) Programa Nacional de Alimentación Complementaria",null,null,null,null,null,0,null,0,null,0,null,0,null,0,1.772,6.7121212121212123E-2,null,0,null,0,null,0,null,0,null,0,null,0,null,0,null,0,null,0,null,0,null,0]
[null,"Gestor Cuidado Paliativos",null,null,null,null," ",0,null,0,null,0,null,0,null,{"$f":"IFERROR(O77/O$30,0%)","v":0},null,{"$f":"IFERROR(Q77/Q$30,0%)","v":0},null,{"$f":"IFERROR(S77/S$30,0%)","v":0},null,{"$f":"IFERROR(U77/U$30,0%)","v":0},null,0,null,0,null,0,null,0,null,0,null,0,null,0,null,0,null,0]
[null,"Encargado(a) PSCV",null,null,null,null,null,{"$f":"IFERROR(G78/G$30,0%)","v":0},null,{"$f":"IFERROR(I78/I$30,0%)","v":0},null,{"$f":"IFERROR(K78/K$30,0%)","v":0},null,{"$f":"IFERROR(M78/M$30,0%)","v":0},null,{"$f":"IFERROR(O78/O$30,0%)","v":0},0.94499999999999995,{"$f":"IFERROR(Q78/Q$30,0%)","v":3.5795454545454547E-2},null,{"$f":"IFERROR(S78/S$30,0%)","v":0},null,{"$f":"IFERROR(U78/U$30,0%)","v":0},null,{"$f":"IFERROR(W78/W$30,0%)","v":0},null,{"$f":"IFERROR(Y78/Y$30,0%)","v":0},null,{"$f":"IFERROR(AA78/AA$30,0%)","v":0},null,{"$f":"IFERROR(AC78/AC$30,0%)","v":0},null,{"$f":"IFERROR(AE78/AE$30,0%)","v":0},null,{"$f":"IFERROR(AG78/AG$30,0%)","v":0},null,{"$f":"IFERROR(AI78/AI$30,0%)","v":0},null,{"$f":"IFERROR(AK78/AK$30,0%)","v":0},null,{"$f":"IFERROR(AM78/AM$30,0%)","v":0}]
[null,"Encargado(a) Programa Salud Infantil",null,null,null,null,null,0,null,0,null,0,null,0,0.94499999999999995,1.8529411764705881E-2,null,0,null,0,null,0,null,0,null,0,null,0,null,0,null,0,null,0,null,0,null,0,null,0]
[null,"Encargado(a) Programa Salud Mental",null,null,null,null,0.47199999999999998,6.3101604278074869E-3,null,0,null,0,null,0,null,0,null,0,null,0,null,0,null,0,null,0,null,0,null,0,null,0,null,0,null,0,null,0,null,0]
[null,"Encargado(a) Programa PAD",null,null,null,null,null,0,null,0,null,0,null,0,1.181,2.3156862745098039E-2,null,0,null,0,null,0,null,0,null,0,null,0,null,0,null,0,null,0,null,0,null,0,null,0]
[null,"Encargado(a) Programa Rehabilitación Base Comunitaria",null,null,null,null,null,0,null,0,null,0,null,0,null,0,null,0,null,0,null,0,null,0,null,0,null,0,null,0,null,0,null,0,null,0,null,0,null,0]
[null,"Encargado GES",null,null,null,null,null,{"$f":"IFERROR(G83/G$30,0%)","v":0},null,{"$f":"IFERROR(I83/I$30,0%)","v":0},null,{"$f":"IFERROR(K83/K$30,0%)","v":0},null,{"$f":"IFERROR(M83/M$30,0%)","v":0},null,{"$f":"IFERROR(O83/O$30,0%)","v":0},null,{"$f":"IFERROR(Q83/Q$30,0%)","v":0},null,{"$f":"IFERROR(S83/S$30,0%)","v":0},null,{"$f":"IFERROR(U83/U$30,0%)","v":0},null,{"$f":"IFERROR(W83/W$30,0%)","v":0},6.8000000000000005E-2,{"$f":"IFERROR(Y83/Y$30,0%)","v":1.4468085106382979E-3},null,{"$f":"IFERROR(AA83/AA$30,0%)","v":0},null,{"$f":"IFERROR(AC83/AC$30,0%)","v":0},null,{"$f":"IFERROR(AE83/AE$30,0%)","v":0},null,{"$f":"IFERROR(AG83/AG$30,0%)","v":0},null,{"$f":"IFERROR(AI83/AI$30,0%)","v":0},null,{"$f":"IFERROR(AK83/AK$30,0%)","v":0},null,{"$f":"IFERROR(AM83/AM$30,0%)","v":0}]
[null,"Jefatura CHCC",null,null,null,null,null,0,null,0,null,0,0.47199999999999998,2.3838383838383836E-2,null,0,null,0,null,0,null,0,null,0,null,0,null,0,null,0,null,0,null,0,null,0,null,0,null,0]
[null,"Encargado(a) Programa de la  Mujer",null,null,null,null,null,0,null,0,null,0,2.363,0.11934343434343433,null,0,null,0,null,0,null,0,null,0,null,0,null,0,null,0,null,0,null,0,null,0,null,0,null,0]
[null,"Encargado(a) Programa del Adulto",null,null,null,null,null,0,null,0,null,0,null,0,null,0,2.363,8.9507575757575758E-2,null,0,null,0,null,0,null,0,null,0,null,0,null,0,null,0,null,0,null,0,null,0]
[null,"Encargado(a) Programa Salud Oral",null,null,null,null,null,{"$f":"IFERROR(G87/G$30,0%)","v":0},0.47199999999999998,{"$f":"IFERROR(I87/I$30,0%)","v":1.5733333333333332E-2},null,{"$f":"IFERROR(K87/K$30,0%)","v":0},null,{"$f":"IFERROR(M87/M$30,0%)","v":0},null,{"$f":"IFERROR(O87/O$30,0%)","v":0},null,{"$f":"IFERROR(Q87/Q$30,0%)","v":0},null,{"$f":"IFERROR(S87/S$30,0%)","v":0},null,{"$f":"IFERROR(U87/U$30,0%)","v":0},null,{"$f":"IFERROR(W87/W$30,0%)","v":0},null,{"$f":"IFERROR(Y87/Y$30,0%)","v":0},null,{"$f":"IFERROR(AA87/AA$30,0%)","v":0},null,{"$f":"IFERROR(AC87/AC$30,0%)","v":0},null,{"$f":"IFERROR(AE87/AE$30,0%)","v":0},null,{"$f":"IFERROR(AG87/AG$30,0%)","v":0},null,{"$f":"IFERROR(AI87/AI$30,0%)","v":0},null,{"$f":"IFERROR(AK87/AK$30,0%)","v":0},null,{"$f":"IFERROR(AM87/AM$30,0%)","v":0}]
[null,"Encargado(a) Programa Mejor Niñez - SENAME",null,null,null,null,null,0,null,0,null,0,null,0,null,0,null,0,5.2,0.14772727272727271,null,0,null,0,null,0,null,0,null,0,null,0,null,0,null,0,null,0,null,0]
[null,"Encargado(a) Epidemiología",null,null,null,null,null,{"$f":"IFERROR(G89/G$30,0%)","v":0},null,{"$f":"IFERROR(I89/I$30,0%)","v":0},null,{"$f":"IFERROR(K89/K$30,0%)","v":0},null,{"$f":"IFERROR(M89/M$30,0%)","v":0},5.2,{"$f":"IFERROR(O89/O$30,0%)","v":0.10196078431372549},null,{"$f":"IFERROR(Q89/Q$30,0%)","v":0},null,{"$f":"IFERROR(S89/S$30,0%)","v":0},null,{"$f":"IFERROR(U89/U$30,0%)","v":0},null,{"$f":"IFERROR(W89/W$30,0%)","v":0},null,{"$f":"IFERROR(Y89/Y$30,0%)","v":0},null,{"$f":"IFERROR(AA89/AA$30,0%)","v":0},null,{"$f":"IFERROR(AC89/AC$30,0%)","v":0},null,{"$f":"IFERROR(AE89/AE$30,0%)","v":0},null,{"$f":"IFERROR(AG89/AG$30,0%)","v":0},null,{"$f":"IFERROR(AI89/AI$30,0%)","v":0},null,{"$f":"IFERROR(AK89/AK$30,0%)","v":0},null,{"$f":"IFERROR(AM89/AM$30,0%)","v":0}]
[null,"Encargado(a) Encargado(a) Programa Tuberculosis",null,null,null,null,null,0,null,0,null,0,null,0,0.47199999999999998,9.2549019607843126E-3,null,0,null,0,null,0,null,0,null,0,null,0,null,0,null,0,null,0,null,0,null,0,null,0]
[null,"Encargado(a) Programa Saludablemente",null,null,null,null,null,0,null,0,null,0,null,0,null,0,null,0,null,0,null,0,null,0,null,0,null,0,null,0,null,0,null,0,null,0,null,0,null,0]
[null,"Encargado(a) Sala CCR",null,null,null,null,null,0,null,0,null,{"$f":"IFERROR(K92/K$30,0%)","v":0},null,{"$f":"IFERROR(M92/M$30,0%)","v":0},null,{"$f":"IFERROR(O92/O$30,0%)","v":0},null,{"$f":"IFERROR(Q92/Q$30,0%)","v":0},null,{"$f":"IFERROR(S92/S$30,0%)","v":0},null,{"$f":"IFERROR(U92/U$30,0%)","v":0},null,0,0.47199999999999998,1.0042553191489362E-2,null,0,null,0,null,0,null,0,null,0,null,0,null,0]
[null,"Encargado(a) Programa IRA",null,null,null,null,null,{"$f":"IFERROR(G93/G$30,0%)","v":0},null,{"$f":"IFERROR(I93/I$30,0%)","v":0},null,0,null,0,null,0,null,0,null,0,null,0,null,{"$f":"IFERROR(W93/W$30,0%)","v":0},0.47199999999999998,{"$f":"IFERROR(Y93/Y$30,0%)","v":1.0042553191489362E-2},null,{"$f":"IFERROR(AA93/AA$30,0%)","v":0},null,{"$f":"IFERROR(AC93/AC$30,0%)","v":0},null,{"$f":"IFERROR(AE93/AE$30,0%)","v":0},null,{"$f":"IFERROR(AG93/AG$30,0%)","v":0},null,{"$f":"IFERROR(AI93/AI$30,0%)","v":0},null,{"$f":"IFERROR(AK93/AK$30,0%)","v":0},null,{"$f":"IFERROR(AM93/AM$30,0%)","v":0}]
[null,"Encargado(a) Programa ERA",null,null,null,null,null,0,null,0,null,{"$f":"IFERROR(K94/K$30,0%)","v":0},null,0,null,{"$f":"IFERROR(O94/O$30,0%)","v":0},null,0,null,{"$f":"IFERROR(S94/S$30,0%)","v":0},null,0,null,0,0.47199999999999998,1.0042553191489362E-2,null,0,null,0,null,0,null,0,null,0,null,0,null,0]
[null,"Encargado(a) Programas Adulto Mayor (incluye P. Mas)",null,null,null,null,null,{"$f":"IFERROR(G95/G$30,0%)","v":0},null,{"$f":"IFERROR(I95/I$30,0%)","v":0},null,{"$f":"IFERROR(K95/K$30,0%)","v":0},null,{"$f":"IFERROR(M95/M$30,0%)","v":0},null,{"$f":"IFERROR(O95/O$30,0%)","v":0},null,{"$f":"IFERROR(Q95/Q$30,0%)","v":0},null,{"$f":"IFERROR(S95/S$30,0%)","v":0},null,{"$f":"IFERROR(U95/U$30,0%)","v":0},null,{"$f":"IFERROR(W95/W$30,0%)","v":0},0.70899999999999996,{"$f":"IFERROR(Y95/Y$30,0%)","v":1.5085106382978723E-2},null,{"$f":"IFERROR(AA95/AA$30,0%)","v":0},null,{"$f":"IFERROR(AC95/AC$30,0%)","v":0},null,{"$f":"IFERROR(AE95/AE$30,0%)","v":0},null,{"$f":"IFERROR(AG95/AG$30,0%)","v":0},null,{"$f":"IFERROR(AI95/AI$30,0%)","v":0},null,{"$f":"IFERROR(AK95/AK$30,0%)","v":0},null,{"$f":"IFERROR(AM95/AM$30,0%)","v":0}]
[null,"Encargado(a) Capacitación",null,null,null,null,null,0,null,0,null,0,null,0,null,0,null,0,null,0,null,0,null,0,null,0,0.47199999999999998,5.3636363636363628E-2,null,0,null,0,null,0,null,0,null,0,null,0]
[null,"Encargado(a) Unidad IAAS",null,null,null,null,null,0,null,0,null,{"$f":"IFERROR(K97/K$30,0%)","v":0},null,{"$f":"IFERROR(M97/M$30,0%)","v":0},3.5449999999999999,{"$f":"IFERROR(O97/O$30,0%)","v":6.9509803921568622E-2},null,{"$f":"IFERROR(Q97/Q$30,0%)","v":0},null,{"$f":"IFERROR(S97/S$30,0%)","v":0},null,{"$f":"IFERROR(U97/U$30,0%)","v":0},null,0,null,0,null,0,null,0,null,0,null,0,null,0,null,0,null,0]
[null,"Encargado(a) Unidad Inmunización",null,null,null,null,null,{"$f":"IFERROR(G98/G$30,0%)","v":0},null,{"$f":"IFERROR(I98/I$30,0%)","v":0},null,0,null,0,1.181,2.3156862745098039E-2,null,0,null,0,null,0,null,{"$f":"IFERROR(W98/W$30,0%)","v":0},null,{"$f":"IFERROR(Y98/Y$30,0%)","v":0},null,{"$f":"IFERROR(AA98/AA$30,0%)","v":0},null,{"$f":"IFERROR(AC98/AC$30,0%)","v":0},null,{"$f":"IFERROR(AE98/AE$30,0%)","v":0},null,{"$f":"IFERROR(AG98/AG$30,0%)","v":0},null,{"$f":"IFERROR(AI98/AI$30,0%)","v":0},null,{"$f":"IFERROR(AK98/AK$30,0%)","v":0},null,{"$f":"IFERROR(AM98/AM$30,0%)","v":0}]
[null,"Encargado(a) Unidad Enfermería",null,null,null,null,null,0,null,0,null,{"$f":"IFERROR(K99/K$30,0%)","v":0},null,0,null,{"$f":"IFERROR(O99/O$30,0%)","v":0},null,0,null,{"$f":"IFERROR(S99/S$30,0%)","v":0},null,0,null,0,null,0,null,0,null,0,null,0,null,0,null,0,null,0,null,0]
[null,"Encargado(a) PESPI",null,null,null,null,null,{"$f":"IFERROR(G100/G$30,0%)","v":0},null,{"$f":"IFERROR(I100/I$30,0%)","v":0},null,{"$f":"IFERROR(K100/K$30,0%)","v":0},null,{"$f":"IFERROR(M100/M$30,0%)","v":0},null,{"$f":"IFERROR(O100/O$30,0%)","v":0},null,{"$f":"IFERROR(Q100/Q$30,0%)","v":0},3.5449999999999999,{"$f":"IFERROR(S100/S$30,0%)","v":0.10071022727272726},null,{"$f":"IFERROR(U100/U$30,0%)","v":0},null,{"$f":"IFERROR(W100/W$30,0%)","v":0},null,{"$f":"IFERROR(Y100/Y$30,0%)","v":0},null,{"$f":"IFERROR(AA100/AA$30,0%)","v":0},null,{"$f":"IFERROR(AC100/AC$30,0%)","v":0},null,{"$f":"IFERROR(AE100/AE$30,0%)","v":0},null,{"$f":"IFERROR(AG100/AG$30,0%)","v":0},null,{"$f":"IFERROR(AI100/AI$30,0%)","v":0},null,{"$f":"IFERROR(AK100/AK$30,0%)","v":0},null,{"$f":"IFERROR(AM100/AM$30,0%)","v":0}]
[null,"Encargado(a) Bienestar",null,null,null,null,null,0,null,0,null,0,null,0,null,0,null,0,2.6,7.3863636363636354E-2,null,0,null,0,null,0,null,0,null,0,null,0,null,0,null,0,null,0,null,0]
[null,"Encargado(a) Participación Social",null,null,null,null,null,0,null,0,null,0,null,0,null,0,null,0,5.2,0.14772727272727271,null,0,null,0,null,0,null,0,null,0,null,0,null,0,null,0,null,0,null,0]
[null,"Encargado(a) Promoción de la Salud",null,null,null,null,null,0,null,0,null,0,null,0,null,0,null,0,7.8,0.22159090909090906,null,0,null,0,null,0,null,0,null,0,null,0,null,0,null,0,null,0,null,0]
[null,"Encargado(a) Calidad",null,null,null,null,null,0,null,0,null,0,null,0,10.4,0.20392156862745098,null,0,null,0,null,0,null,0,null,0,null,0,null,0,null,0,null,0,null,0,null,0,null,0]
[null,"Encargado(a) Programa del Adolescente",null,null,null,null,null,0,null,0,null,{"$f":"IFERROR(K105/K$30,0%)","v":0},0.47199999999999998,{"$f":"IFERROR(M105/M$30,0%)","v":2.3838383838383836E-2},null,{"$f":"IFERROR(O105/O$30,0%)","v":0},null,{"$f":"IFERROR(Q105/Q$30,0%)","v":0},null,{"$f":"IFERROR(S105/S$30,0%)","v":0},null,{"$f":"IFERROR(U105/U$30,0%)","v":0},null,0,null,0,null,0,null,0,null,0,null,0,null,0,null,0,null,0]
[null,"CENSOS SEMESTRALES"]
[null,"PSCV",null,null,null,null,null,{"$f":"IFERROR(G107/G$30,0%)","v":0},null,0,null,{"$f":"IFERROR(K107/K$30,0%)","v":0},null,{"$f":"IFERROR(M107/M$30,0%)","v":0},null,{"$f":"IFERROR(O107/O$30,0%)","v":0},0.16300000000000001,{"$f":"IFERROR(Q107/Q$30,0%)","v":6.174242424242425E-3},null,{"$f":"IFERROR(S107/S$30,0%)","v":0},null,{"$f":"IFERROR(U107/U$30,0%)","v":0},null,{"$f":"IFERROR(W107/W$30,0%)","v":0},null,{"$f":"IFERROR(Y107/Y$30,0%)","v":0},null,{"$f":"IFERROR(AA107/AA$30,0%)","v":0},null,{"$f":"IFERROR(AC107/AC$30,0%)","v":0},null,{"$f":"IFERROR(AE107/AE$30,0%)","v":0},null,{"$f":"IFERROR(AG107/AG$30,0%)","v":0},null,{"$f":"IFERROR(AI107/AI$30,0%)","v":0},null,{"$f":"IFERROR(AK107/AK$30,0%)","v":0},null,{"$f":"IFERROR(AM107/AM$30,0%)","v":0}]
[null,"Salud Mental",null,null,null,null,0.16300000000000001,2.179144385026738E-3,null,{"$f":"IFERROR(I108/I$30,0%)","v":0},null,0,null,0,null,0,null,0,null,0,null,0,null,0,null,0,null,0,null,0,null,0,null,0,null,0,null,0,null,0]
[null,"Programa de la Mujer",null,null,null,null,null,0,null,0,null,0,0.16300000000000001,8.2323232323232316E-3,null,0,null,0,null,0,null,0,null,0,null,0,null,0,null,0,null,0,null,0,null,0,null,0,null,0]
[null,"IRA ",null,null,null,null,null,0,null,0,null,0,null,0,null,0,null,0,null,0,null,0,null,0,0.16300000000000001,3.4680851063829789E-3,null,0,null,0,null,0,null,0,null,0,null,0,null,0]
[null,"Infantil",null,null,null,null,null,0,null,0,null,0,null,0,0.16300000000000001,3.196078431372549E-3,null,0,null,0,null,0,null,0,null,0,null,0,null,0,null,0,null,0,null,0,null,0,null,0]
[null,"Del Adulto",null,null,null,null,null,0,null,0,null,0,null,0,null,0,0.16300000000000001,6.174242424242425E-3,null,0,null,0,null,0,null,0,null,0,null,0,null,0,null,0,null,0,null,0,null,0]
[null,"Dependencia Severa",null,null,null,null,null,0,null,0,null,0,null,0,0.16300000000000001,3.196078431372549E-3,null,0,null,0,null,0,null,0,null,0,null,0,null,0,null,0,null,0,null,0,null,0,null,0]
[null,"Niños, Niñas, Adolescentes y Jovenes con Vulneración de Derechos",null,null,null,null,null,{"$f":"IFERROR(G114/G$30,0%)","v":0},null,{"$f":"IFERROR(I114/I$30,0%)","v":0},null,{"$f":"IFERROR(K114/K$30,0%)","v":0},null,{"$f":"IFERROR(M114/M$30,0%)","v":0},null,{"$f":"IFERROR(O114/O$30,0%)","v":0},null,{"$f":"IFERROR(Q114/Q$30,0%)","v":0},0.16300000000000001,{"$f":"IFERROR(S114/S$30,0%)","v":4.6306818181818176E-3},null,{"$f":"IFERROR(U114/U$30,0%)","v":0},null,{"$f":"IFERROR(W114/W$30,0%)","v":0},null,{"$f":"IFERROR(Y114/Y$30,0%)","v":0},null,{"$f":"IFERROR(AA114/AA$30,0%)","v":0},null,{"$f":"IFERROR(AC114/AC$30,0%)","v":0},null,{"$f":"IFERROR(AE114/AE$30,0%)","v":0},null,{"$f":"IFERROR(AG114/AG$30,0%)","v":0},null,{"$f":"IFERROR(AI114/AI$30,0%)","v":0},null,{"$f":"IFERROR(AK114/AK$30,0%)","v":0},null,{"$f":"IFERROR(AM114/AM$30,0%)","v":0}]
[null,"Salud Familiar",null,null,null,null,null,0,null,0,null,0,null,0,null,0,0.16300000000000001,6.174242424242425E-3,0.16300000000000001,4.6306818181818176E-3,null,0,null,0,null,0,null,0,null,0,null,0,null,0,null,0,null,0,null,0]
[null,"Programa ERA",null,null,null,null,null,0,null,0,null,0,null,0,null,0,null,0,null,0,null,0,null,0,0.16300000000000001,3.4680851063829789E-3,null,0,null,0,null,0,null,0,null,0,null,0,null,0]
[null,"Programa de Salud Oral",null,null,null,null,null,0,0.16300000000000001,5.4333333333333334E-3,null,0,null,0,null,0,null,0,null,0,null,0,null,0,null,0,null,0,null,0,null,0,null,0,null,0,null,0,null,0]
[null,"Programa Adulto Mayor",null,null,null,null,null,0,null,0,null,0,null,0,null,0,null,0,null,0,null,0,null,0,0.16300000000000001,3.4680851063829789E-3,null,0,null,0,null,0,null,0,null,0,null,0,null,0]
[null,"Programa Adolescente",null,null,null,null,null,0,null,0,null,0,0.16300000000000001,8.2323232323232316E-3,null,0,null,0,null,0,null,0,null,0,null,0,null,0,null,0,null,0,null,0,null,0,null,0,null,0]
[null,"CENSOS MENSUALES"]
[null,"Salud Mental",null,null,null,null,0.16300000000000001,{"$f":"IFERROR(G121/G$30,0%)","v":2.179144385026738E-3},null,0,null,{"$f":"IFERROR(K121/K$30,0%)","v":0},null,{"$f":"IFERROR(M121/M$30,0%)","v":0},null,{"$f":"IFERROR(O121/O$30,0%)","v":0},null,{"$f":"IFERROR(Q121/Q$30,0%)","v":0},null,{"$f":"IFERROR(S121/S$30,0%)","v":0},null,{"$f":"IFERROR(U121/U$30,0%)","v":0},null,{"$f":"IFERROR(W121/W$30,0%)","v":0},null,{"$f":"IFERROR(Y121/Y$30,0%)","v":0},null,{"$f":"IFERROR(AA121/AA$30,0%)","v":0},null,{"$f":"IFERROR(AC121/AC$30,0%)","v":0},null,{"$f":"IFERROR(AE121/AE$30,0%)","v":0},null,{"$f":"IFERROR(AG121/AG$30,0%)","v":0},null,{"$f":"IFERROR(AI121/AI$30,0%)","v":0},null,{"$f":"IFERROR(AK121/AK$30,0%)","v":0},null,{"$f":"IFERROR(AM121/AM$30,0%)","v":0}]
[null,"Programa de la Mujer",null,null,null,null,null,0,null,0,null,{"$f":"IFERROR(K122/K$30,0%)","v":0},0.16300000000000001,8.2323232323232316E-3,null,{"$f":"IFERROR(O122/O$30,0%)","v":0},null,0,null,{"$f":"IFERROR(S122/S$30,0%)","v":0},null,0,null,0,null,0,null,0,null,0,null,0,null,0,null,0,null,0,null,0]
[null,"Programa Nacional de Alimentación Complementaria",null,null,null,null,null,0,null,0,null,0,null,0,null,0,0.27200000000000002,1.0303030303030305E-2,null,0,null,0,null,0,null,0,null,0,null,0,null,0,null,0,null,0,null,0,null,0]
[null,"Niños, Niñas, Adolescentes y Jovenes con Vulneración de Derechos",null,null,null,null,null,{"$f":"IFERROR(G124/G$30,0%)","v":0},null,{"$f":"IFERROR(I124/I$30,0%)","v":0},null,{"$f":"IFERROR(K124/K$30,0%)","v":0},null,{"$f":"IFERROR(M124/M$30,0%)","v":0},null,{"$f":"IFERROR(O124/O$30,0%)","v":0},null,{"$f":"IFERROR(Q124/Q$30,0%)","v":0},0.16300000000000001,{"$f":"IFERROR(S124/S$30,0%)","v":4.6306818181818176E-3},null,{"$f":"IFERROR(U124/U$30,0%)","v":0},null,0,null,0,null,0,null,0,null,0,null,0,null,0,null,0,null,0]
[null,"Dental",null,null,null,null,null,0,0.16300000000000001,5.4333333333333334E-3,null,0,null,0,null,0,null,0,null,0,null,0,null,0,null,0,null,0,null,0,null,0,null,0,null,0,null,0,null,0]
[null,"Estrategia Tamizaje",null,null,null,null,null,{"$f":"IFERROR(G126/G$30,0%)","v":0},null,{"$f":"IFERROR(I126/I$30,0%)","v":0},null,0,null,0,0.16300000000000001,3.196078431372549E-3,null,0,null,0,null,0,null,0,null,0,null,0,null,0,null,0,null,0,null,0,null,0,null,0]
[null,"Programa CPU",null,null,null,null,null,0,null,0,null,{"$f":"IFERROR(K127/K$30,0%)","v":0},null,{"$f":"IFERROR(M127/M$30,0%)","v":0},0.16300000000000001,{"$f":"IFERROR(O127/O$30,0%)","v":3.196078431372549E-3},null,{"$f":"IFERROR(Q127/Q$30,0%)","v":0},null,{"$f":"IFERROR(S127/S$30,0%)","v":0},null,{"$f":"IFERROR(U127/U$30,0%)","v":0},null,{"$f":"IFERROR(W127/W$30,0%)","v":0},null,{"$f":"IFERROR(Y127/Y$30,0%)","v":0},null,{"$f":"IFERROR(AA127/AA$30,0%)","v":0},null,{"$f":"IFERROR(AC127/AC$30,0%)","v":0},null,{"$f":"IFERROR(AE127/AE$30,0%)","v":0},null,{"$f":"IFERROR(AG127/AG$30,0%)","v":0},null,{"$f":"IFERROR(AI127/AI$30,0%)","v":0},null,{"$f":"IFERROR(AK127/AK$30,0%)","v":0},null,{"$f":"IFERROR(AM127/AM$30,0%)","v":0}]
[null,"Programa del Adulto",null,null,null,null,null,{"$f":"IFERROR(G128/G$30,0%)","v":0},null,{"$f":"IFERROR(I128/I$30,0%)","v":0},null,0,null,0,null,0,0.16300000000000001,6.174242424242425E-3,null,0,null,0,null,0,null,0,null,0,null,0,null,0,null,0,null,0,null,0,null,0]
[null,"Programa del Adulto Mayor",null,null,null,null,null,0,null,0,null,0,null,0,null,0,null,0,null,0,null,0,null,0,0.16300000000000001,3.4680851063829789E-3,null,0,null,0,null,0,null,0,null,0,null,0,null,0]
[null,"PSCV",null,null,null,null,null,{"$f":"IFERROR(G130/G$30,0%)","v":0},null,{"$f":"IFERROR(I130/I$30,0%)","v":0},null,0,null,0,null,0,0.16300000000000001,6.174242424242425E-3,null,0,null,0,null,0,null,0,null,0,null,0,null,0,null,0,null,0,null,0,null,0]
[null,"ECICEP",null,null,null,null,null,0,null,0,null,0,null,0,null,0,null,0,null,0,null,0,null,0,0.16300000000000001,3.4680851063829789E-3,null,0,null,0,null,0,null,0,null,0,null,0,null,0]
[null,"Sala Rehabilitación Comunitaria",null,null,null,null,null,0,null,0,null,0,null,0,null,0,null,0,null,0,null,0,null,0,0.16300000000000001,3.4680851063829789E-3,null,0,null,0,null,0,null,0,null,0,null,0,null,0]
[null,"Programa Infantil",null,null,null,null,null,{"$f":"IFERROR(G133/G$30,0%)","v":0},null,{"$f":"IFERROR(I133/I$30,0%)","v":0},null,0,null,0,0.16300000000000001,3.196078431372549E-3,null,0,null,0,null,0,null,0,null,0,null,0,null,0,null,0,null,0,null,0,null,0,null,0]
[null,"Programa Adolescente",null,null,null,null,null,0,null,0,null,0,0.16300000000000001,8.2323232323232316E-3,null,0,null,0,null,0,null,0,null,0,null,0,null,0,null,0,null,0,null,0,null,0,null,0,null,0]
[null,"Reuniones Externas (SSA, Municipalidades, SEREMI y otros)"]
[null,"Capacitación SSA",null,null,null,null,null,{"$f":"IFERROR(G136/G$30,0%)","v":0},null,0,null,{"$f":"IFERROR(K136/K$30,0%)","v":0},null,{"$f":"IFERROR(M136/M$30,0%)","v":0},null,{"$f":"IFERROR(O136/O$30,0%)","v":0},null,{"$f":"IFERROR(Q136/Q$30,0%)","v":0},null,{"$f":"IFERROR(S136/S$30,0%)","v":0},null,{"$f":"IFERROR(U136/U$30,0%)","v":0},null,{"$f":"IFERROR(W136/W$30,0%)","v":0},4.4999999999999998E-2,{"$f":"IFERROR(Y136/Y$30,0%)","v":9.5744680851063825E-4},null,{"$f":"IFERROR(AA136/AA$30,0%)","v":0},null,{"$f":"IFERROR(AC136/AC$30,0%)","v":0},null,{"$f":"IFERROR(AE136/AE$30,0%)","v":0},null,{"$f":"IFERROR(AG136/AG$30,0%)","v":0},null,{"$f":"IFERROR(AI136/AI$30,0%)","v":0},null,{"$f":"IFERROR(AK136/AK$30,0%)","v":0},null,{"$f":"IFERROR(AM136/AM$30,0%)","v":0}]
[null,"Programa la Mujer SSA + CAE",null,null,null,null,null,0,null,0,null,0,0.109,5.5050505050505049E-3,null,0,null,0,null,0,null,0,null,0,null,0,null,0,null,0,null,0,null,0,null,0,null,0,null,0]
[null,"Reunión Provincial SEREMI VIH/SIDA",null,null,null,null,null,0,null,0,null,0,8.1000000000000003E-2,4.0909090909090912E-3,null,0,null,0,null,0,null,0,null,0,null,0,null,0,null,0,null,0,null,0,null,0,null,0,null,0]
[null,"Reunión ITS/VIH SSA",null,null,null,null,null,0,null,0,null,0,8.1000000000000003E-2,4.0909090909090912E-3,null,0,null,0,null,0,null,0,null,0,null,0,null,0,null,0,null,0,null,0,null,0,null,0,null,0]
[null,"REUNIÓN REFERENTE GENERO SSA",null,null,null,null,null,0,null,0,null,0,null,0,null,0,null,0,0.22700000000000001,6.4488636363636363E-3,null,0,null,0,null,0,null,0,null,0,null,0,null,0,null,0,null,0,null,0]
[null,"REUNIÓN PESPI SSA",null,null,null,null,null,{"$f":"IFERROR(G141/G$30,0%)","v":0},null,{"$f":"IFERROR(I141/I$30,0%)","v":0},null,{"$f":"IFERROR(K141/K$30,0%)","v":0},null,{"$f":"IFERROR(M141/M$30,0%)","v":0},null,{"$f":"IFERROR(O141/O$30,0%)","v":0},null,{"$f":"IFERROR(Q141/Q$30,0%)","v":0},0.13600000000000001,{"$f":"IFERROR(S141/S$30,0%)","v":3.8636363636363638E-3},null,{"$f":"IFERROR(U141/U$30,0%)","v":0},null,{"$f":"IFERROR(W141/W$30,0%)","v":0},null,{"$f":"IFERROR(Y141/Y$30,0%)","v":0},null,{"$f":"IFERROR(AA141/AA$30,0%)","v":0},null,{"$f":"IFERROR(AC141/AC$30,0%)","v":0},null,{"$f":"IFERROR(AE141/AE$30,0%)","v":0},null,{"$f":"IFERROR(AG141/AG$30,0%)","v":0},null,{"$f":"IFERROR(AI141/AI$30,0%)","v":0},null,{"$f":"IFERROR(AK141/AK$30,0%)","v":0},null,{"$f":"IFERROR(AM141/AM$30,0%)","v":0}]
[null,"REUNIÓN MEJOR NIÑEZ SSA",null,null,null,null,null,{"$f":"IFERROR(G142/G$30,0%)","v":0},null,{"$f":"IFERROR(I142/I$30,0%)","v":0},null,{"$f":"IFERROR(K142/K$30,0%)","v":0},null,{"$f":"IFERROR(M142/M$30,0%)","v":0},null,{"$f":"IFERROR(O142/O$30,0%)","v":0},null,{"$f":"IFERROR(Q142/Q$30,0%)","v":0},0.22700000000000001,{"$f":"IFERROR(S142/S$30,0%)","v":6.4488636363636363E-3},null,{"$f":"IFERROR(U142/U$30,0%)","v":0},null,{"$f":"IFERROR(W142/W$30,0%)","v":0},null,{"$f":"IFERROR(Y142/Y$30,0%)","v":0},null,{"$f":"IFERROR(AA142/AA$30,0%)","v":0},null,{"$f":"IFERROR(AC142/AC$30,0%)","v":0},null,{"$f":"IFERROR(AE142/AE$30,0%)","v":0},null,{"$f":"IFERROR(AG142/AG$30,0%)","v":0},null,{"$f":"IFERROR(AI142/AI$30,0%)","v":0},null,{"$f":"IFERROR(AK142/AK$30,0%)","v":0},null,{"$f":"IFERROR(AM142/AM$30,0%)","v":0}]
[null,"ECICEP SSA",null,null,null,null,null,0,null,0,null,0,null,0,null,0,null,0,null,0,null,0,null,0,null,0,null,0,null,0,null,0,null,0,null,0,null,0,null,0]
[null,"ECICEP Nacional",null,null,null,null,null,0,null,0,null,0,null,0,null,0,null,0,null,0,null,0,null,0,0.109,2.3191489361702126E-3,null,0,null,0,null,0,null,0,null,0,null,0,null,0]
[null,"Programa Salud Mental SSA",null,null,null,null,6.8000000000000005E-2,9.090909090909092E-4,null,0,null,0,null,0,null,0,null,0,null,0,null,0,null,0,null,0,null,0,null,0,null,0,null,0,null,0,null,0,null,0]
[null,"GESTOR GES - SSA",null,null,null,null,null,{"$f":"IFERROR(G146/G$30,0%)","v":0},null,{"$f":"IFERROR(I146/I$30,0%)","v":0},null,{"$f":"IFERROR(K146/K$30,0%)","v":0},null,{"$f":"IFERROR(M146/M$30,0%)","v":0},null,{"$f":"IFERROR(O146/O$30,0%)","v":0},null,{"$f":"IFERROR(Q146/Q$30,0%)","v":0},null,{"$f":"IFERROR(S146/S$30,0%)","v":0},null,{"$f":"IFERROR(U146/U$30,0%)","v":0},null,{"$f":"IFERROR(W146/W$30,0%)","v":0},0.109,{"$f":"IFERROR(Y146/Y$30,0%)","v":2.3191489361702126E-3},null,{"$f":"IFERROR(AA146/AA$30,0%)","v":0},null,{"$f":"IFERROR(AC146/AC$30,0%)","v":0},null,{"$f":"IFERROR(AE146/AE$30,0%)","v":0},null,{"$f":"IFERROR(AG146/AG$30,0%)","v":0},null,{"$f":"IFERROR(AI146/AI$30,0%)","v":0},null,{"$f":"IFERROR(AK146/AK$30,0%)","v":0},null,{"$f":"IFERROR(AM146/AM$30,0%)","v":0}]
[null,"MAISF - SSA",null,null,null,null,null,0,null,0,null,0,null,0,null,0,null,0,0.18099999999999999,5.1420454545454538E-3,null,0,null,0,0.2,4.2553191489361703E-3,null,0,null,0,null,0,null,0,null,0,null,0,null,0]
[null,"Demencia - SSA",null,null,null,null,0.04,5.3475935828877007E-4,null,0,null,0,null,0,null,0,null,0,null,0,null,0,null,0,null,0,null,0,null,0,null,0,null,0,null,0,null,0,null,0]
[null,"Reunión Referente Ortodoncia Salud Oral - SSA",null,null,null,null,null,{"$f":"IFERROR(G149/G$30,0%)","v":0},7.1999999999999995E-2,{"$f":"IFERROR(I149/I$30,0%)","v":2.3999999999999998E-3},null,{"$f":"IFERROR(K149/K$30,0%)","v":0},null,{"$f":"IFERROR(M149/M$30,0%)","v":0},null,{"$f":"IFERROR(O149/O$30,0%)","v":0},null,{"$f":"IFERROR(Q149/Q$30,0%)","v":0},null,{"$f":"IFERROR(S149/S$30,0%)","v":0},null,{"$f":"IFERROR(U149/U$30,0%)","v":0},null,{"$f":"IFERROR(W149/W$30,0%)","v":0},null,{"$f":"IFERROR(Y149/Y$30,0%)","v":0},null,{"$f":"IFERROR(AA149/AA$30,0%)","v":0},null,{"$f":"IFERROR(AC149/AC$30,0%)","v":0},null,{"$f":"IFERROR(AE149/AE$30,0%)","v":0},null,{"$f":"IFERROR(AG149/AG$30,0%)","v":0},null,{"$f":"IFERROR(AI149/AI$30,0%)","v":0},null,{"$f":"IFERROR(AK149/AK$30,0%)","v":0},null,{"$f":"IFERROR(AM149/AM$30,0%)","v":0}]
[null,"Reunión Referente NES Salud Oral - SSA",null,null,null,null,null,0,7.1999999999999995E-2,2.3999999999999998E-3,null,0,null,0,null,0,null,0,null,0,null,0,null,0,null,0,null,0,null,0,null,0,null,0,null,0,null,0,null,0]
[null,"Reunión Programa Salud Oral - SSA",null,null,null,null,null,{"$f":"IFERROR(G151/G$30,0%)","v":0},0.218,{"$f":"IFERROR(I151/I$30,0%)","v":7.2666666666666669E-3},null,{"$f":"IFERROR(K151/K$30,0%)","v":0},null,{"$f":"IFERROR(M151/M$30,0%)","v":0},null,{"$f":"IFERROR(O151/O$30,0%)","v":0},null,{"$f":"IFERROR(Q151/Q$30,0%)","v":0},null,{"$f":"IFERROR(S151/S$30,0%)","v":0},null,{"$f":"IFERROR(U151/U$30,0%)","v":0},null,{"$f":"IFERROR(W151/W$30,0%)","v":0},null,{"$f":"IFERROR(Y151/Y$30,0%)","v":0},null,{"$f":"IFERROR(AA151/AA$30,0%)","v":0},null,{"$f":"IFERROR(AC151/AC$30,0%)","v":0},null,{"$f":"IFERROR(AE151/AE$30,0%)","v":0},null,{"$f":"IFERROR(AG151/AG$30,0%)","v":0},null,{"$f":"IFERROR(AI151/AI$30,0%)","v":0},null,{"$f":"IFERROR(AK151/AK$30,0%)","v":0},null,{"$f":"IFERROR(AM151/AM$30,0%)","v":0}]
[null,"REUNIÓN PARTICIPACIÓN SOCIAL ",null,null,null,null,null,0,null,0,null,0,null,0,null,0,null,0,0.18099999999999999,5.1420454545454538E-3,null,0,null,0,null,0,null,0,null,0,null,0,null,0,null,0,null,0,null,0]
[null,"REUNIÓN  CONSEJO PARTICIPACIÓN SOCIAL",null,null,null,null,null,{"$f":"IFERROR(G153/G$30,0%)","v":0},null,{"$f":"IFERROR(I153/I$30,0%)","v":0},null,{"$f":"IFERROR(K153/K$30,0%)","v":0},null,{"$f":"IFERROR(M153/M$30,0%)","v":0},null,{"$f":"IFERROR(O153/O$30,0%)","v":0},null,{"$f":"IFERROR(Q153/Q$30,0%)","v":0},0.13600000000000001,{"$f":"IFERROR(S153/S$30,0%)","v":3.8636363636363638E-3},null,{"$f":"IFERROR(U153/U$30,0%)","v":0},null,{"$f":"IFERROR(W153/W$30,0%)","v":0},null,{"$f":"IFERROR(Y153/Y$30,0%)","v":0},null,{"$f":"IFERROR(AA153/AA$30,0%)","v":0},null,{"$f":"IFERROR(AC153/AC$30,0%)","v":0},null,{"$f":"IFERROR(AE153/AE$30,0%)","v":0},null,{"$f":"IFERROR(AG153/AG$30,0%)","v":0},null,{"$f":"IFERROR(AI153/AI$30,0%)","v":0},null,{"$f":"IFERROR(AK153/AK$30,0%)","v":0},null,{"$f":"IFERROR(AM153/AM$30,0%)","v":0}]
[null,"Reunión Comitè Chagas SSA",null,null,null,null,null,{"$f":"IFERROR(G154/G$30,0%)","v":0},null,{"$f":"IFERROR(I154/I$30,0%)","v":0},null,{"$f":"IFERROR(K154/K$30,0%)","v":0},null,{"$f":"IFERROR(M154/M$30,0%)","v":0},5.3999999999999999E-2,{"$f":"IFERROR(O154/O$30,0%)","v":1.0588235294117646E-3},null,{"$f":"IFERROR(Q154/Q$30,0%)","v":0},null,{"$f":"IFERROR(S154/S$30,0%)","v":0},null,{"$f":"IFERROR(U154/U$30,0%)","v":0},null,{"$f":"IFERROR(W154/W$30,0%)","v":0},null,{"$f":"IFERROR(Y154/Y$30,0%)","v":0},null,{"$f":"IFERROR(AA154/AA$30,0%)","v":0},null,{"$f":"IFERROR(AC154/AC$30,0%)","v":0},null,{"$f":"IFERROR(AE154/AE$30,0%)","v":0},null,{"$f":"IFERROR(AG154/AG$30,0%)","v":0},null,{"$f":"IFERROR(AI154/AI$30,0%)","v":0},null,{"$f":"IFERROR(AK154/AK$30,0%)","v":0},null,{"$f":"IFERROR(AM154/AM$30,0%)","v":0}]
[null,"Reunión Comité Farmacia SSA",null,null,null,null,null,0,null,0,6.8000000000000005E-2,7.7272727272727276E-3,null,0,null,0,null,0,null,0,null,0,null,0,0.09,1.9148936170212765E-3,null,0,null,0,null,0,null,0,null,0,null,0,null,0]
[null,"Reuniòn TBC",null,null,null,null,5.3999999999999999E-2,7.2192513368983958E-4,null,0,null,0,null,0,5.3999999999999999E-2,1.0588235294117646E-3,null,0,null,0,null,0,null,0,null,0,null,0,null,0,null,0,null,0,null,0,0.54,3.0681818181818184E-3,null,0]
[null,"Reuniòn PNI",null,null,null,null,null,{"$f":"IFERROR(G157/G$30,0%)","v":0},null,{"$f":"IFERROR(I157/I$30,0%)","v":0},null,{"$f":"IFERROR(K157/K$30,0%)","v":0},null,{"$f":"IFERROR(M157/M$30,0%)","v":0},5.3999999999999999E-2,{"$f":"IFERROR(O157/O$30,0%)","v":1.0588235294117646E-3},null,{"$f":"IFERROR(Q157/Q$30,0%)","v":0},null,{"$f":"IFERROR(S157/S$30,0%)","v":0},null,{"$f":"IFERROR(U157/U$30,0%)","v":0},null,{"$f":"IFERROR(W157/W$30,0%)","v":0},null,{"$f":"IFERROR(Y157/Y$30,0%)","v":0},null,{"$f":"IFERROR(AA157/AA$30,0%)","v":0},null,{"$f":"IFERROR(AC157/AC$30,0%)","v":0},null,{"$f":"IFERROR(AE157/AE$30,0%)","v":0},null,{"$f":"IFERROR(AG157/AG$30,0%)","v":0},null,{"$f":"IFERROR(AI157/AI$30,0%)","v":0},null,{"$f":"IFERROR(AK157/AK$30,0%)","v":0},null,{"$f":"IFERROR(AM157/AM$30,0%)","v":0}]
[null,"Reuniòn Programa Infantil SSA",null,null,null,null,null,0,null,0,null,0,null,0,5.3999999999999999E-2,1.0588235294117646E-3,null,0,null,0,null,0,null,0,null,0,null,0,null,0,null,0,null,0,null,0,null,0,null,0]
[null,"Reuniòn PAD SSA",null,null,null,null,null,0,null,0,null,0,null,0,5.3999999999999999E-2,1.0588235294117646E-3,null,0,null,0,null,0,null,0,null,0,null,0,null,0,null,0,null,0,null,0,null,0,null,0]
[null,"REUNIÓN SALA CCR",null,null,null,null,null,{"$f":"IFERROR(G160/G$30,0%)","v":0},null,{"$f":"IFERROR(I160/I$30,0%)","v":0},null,{"$f":"IFERROR(K160/K$30,0%)","v":0},null,{"$f":"IFERROR(M160/M$30,0%)","v":0},null,{"$f":"IFERROR(O160/O$30,0%)","v":0},null,{"$f":"IFERROR(Q160/Q$30,0%)","v":0},null,{"$f":"IFERROR(S160/S$30,0%)","v":0},null,{"$f":"IFERROR(U160/U$30,0%)","v":0},null,{"$f":"IFERROR(W160/W$30,0%)","v":0},0.09,{"$f":"IFERROR(Y160/Y$30,0%)","v":1.9148936170212765E-3},null,{"$f":"IFERROR(AA160/AA$30,0%)","v":0},null,{"$f":"IFERROR(AC160/AC$30,0%)","v":0},null,{"$f":"IFERROR(AE160/AE$30,0%)","v":0},null,{"$f":"IFERROR(AG160/AG$30,0%)","v":0},null,{"$f":"IFERROR(AI160/AI$30,0%)","v":0},null,{"$f":"IFERROR(AK160/AK$30,0%)","v":0},null,{"$f":"IFERROR(AM160/AM$30,0%)","v":0}]
[null,"REUNIÓN SALA ERA - SSA",null,null,null,null,null,0,null,0,null,0,null,0,null,0,null,0,null,0,null,0,null,0,0.109,2.3191489361702126E-3,null,0,null,0,null,0,null,0,null,0,null,0,null,0]
[null,"REUNIÓN SALA IRA - SSA",null,null,null,null,null,{"$f":"IFERROR(G162/G$30,0%)","v":0},null,{"$f":"IFERROR(I162/I$30,0%)","v":0},null,{"$f":"IFERROR(K162/K$30,0%)","v":0},null,{"$f":"IFERROR(M162/M$30,0%)","v":0},null,{"$f":"IFERROR(O162/O$30,0%)","v":0},null,{"$f":"IFERROR(Q162/Q$30,0%)","v":0},null,{"$f":"IFERROR(S162/S$30,0%)","v":0},null,{"$f":"IFERROR(U162/U$30,0%)","v":0},null,{"$f":"IFERROR(W162/W$30,0%)","v":0},0.109,{"$f":"IFERROR(Y162/Y$30,0%)","v":2.3191489361702126E-3},null,{"$f":"IFERROR(AA162/AA$30,0%)","v":0},null,{"$f":"IFERROR(AC162/AC$30,0%)","v":0},null,{"$f":"IFERROR(AE162/AE$30,0%)","v":0},null,{"$f":"IFERROR(AG162/AG$30,0%)","v":0},null,{"$f":"IFERROR(AI162/AI$30,0%)","v":0},null,{"$f":"IFERROR(AK162/AK$30,0%)","v":0},null,{"$f":"IFERROR(AM162/AM$30,0%)","v":0}]
[null,"SOME - SSA",null,null,null,null,null,0,null,0,null,0,null,0,null,0,null,0,null,0,null,0,null,0,8.1000000000000003E-2,1.7234042553191491E-3,null,0,null,0,null,0,null,0,null,0,null,0,null,0]
[null,"OIRS - SSA",null,null,null,null,null,0,null,0,null,0,null,0,null,0,null,0,null,0,null,0,null,0,7.1999999999999995E-2,1.5319148936170212E-3,null,0,null,0,null,0,null,0,null,0,null,0,null,0]
[null,"Promoción - SEREMI SAN FELIPE",null,null,null,null,null,0,null,0,null,0,null,0,null,0,null,0,0.27200000000000002,7.7272727272727276E-3,null,0,null,0,null,0,null,0,null,0,null,0,null,0,null,0,null,0,null,0]
[null,"Promoción - SEREMI LOS ANDES",null,null,null,null,null,{"$f":"IFERROR(G166/G$30,0%)","v":0},null,{"$f":"IFERROR(I166/I$30,0%)","v":0},null,{"$f":"IFERROR(K166/K$30,0%)","v":0},null,{"$f":"IFERROR(M166/M$30,0%)","v":0},null,{"$f":"IFERROR(O166/O$30,0%)","v":0},null,{"$f":"IFERROR(Q166/Q$30,0%)","v":0},0.218,{"$f":"IFERROR(S166/S$30,0%)","v":6.1931818181818173E-3},null,{"$f":"IFERROR(U166/U$30,0%)","v":0},null,{"$f":"IFERROR(W166/W$30,0%)","v":0},null,{"$f":"IFERROR(Y166/Y$30,0%)","v":0},null,{"$f":"IFERROR(AA166/AA$30,0%)","v":0},null,{"$f":"IFERROR(AC166/AC$30,0%)","v":0},null,{"$f":"IFERROR(AE166/AE$30,0%)","v":0},null,{"$f":"IFERROR(AG166/AG$30,0%)","v":0},null,{"$f":"IFERROR(AI166/AI$30,0%)","v":0},null,{"$f":"IFERROR(AK166/AK$30,0%)","v":0},null,{"$f":"IFERROR(AM166/AM$30,0%)","v":0}]
[null,"Migrantes - SSA",null,null,null,null,null,0,null,0,null,0,null,0,null,0,null,0,null,0,null,0,null,0,0.109,2.3191489361702126E-3,null,0,null,0,null,0,null,0,null,0,null,0,null,0]
[null,"Reunion Laboratorio",null,null,null,null,null,{"$f":"IFERROR(G168/G$30,0%)","v":0},null,{"$f":"IFERROR(I168/I$30,0%)","v":0},null,0,null,0,null,0,null,0,null,0,null,0,null,0,null,0,null,0,null,0,null,0,null,0,null,0,null,0,null,0]
[null,"Reunion intersector promocion de salud ",null,null,null,null,null,0,null,0,null,0,null,0,null,0,null,0,0.109,3.0965909090909086E-3,null,0,null,0,null,0,null,0,null,0,null,0,null,0,null,0,null,0,null,0]
[null,"Reunion mesa provincial de deportes",null,null,null,null,null,0,null,0,null,0,null,0,null,0,null,0,null,0,null,0,null,0,null,0,null,0,null,0,null,0,null,0,null,0,null,0,null,0]
[null,"Auditorias externas",null,null,null,null,null,{"$f":"IFERROR(G171/G$30,0%)","v":0},null,{"$f":"IFERROR(I171/I$30,0%)","v":0},null,0,null,0,null,0,null,0,null,0,null,0,null,0,null,0,null,0,null,0,null,0,null,0,null,0,null,0,null,0]
[null,"Mesa Técnica Cirugía Abdominoplastia",null,null,null,null,null,{"$f":"IFERROR(G172/G$30,0%)","v":0},null,{"$f":"IFERROR(I172/I$30,0%)","v":0},null,0,null,0,null,0,5.3999999999999999E-2,2.0454545454545456E-3,null,0,null,0,null,0,null,0,null,0,null,0,null,0,null,0,null,0,null,0,null,0]
[null,"Mesa Técnica Cirugía Bariatrica",null,null,null,null,null,{"$f":"IFERROR(G173/G$30,0%)","v":0},null,{"$f":"IFERROR(I173/I$30,0%)","v":0},null,{"$f":"IFERROR(K173/K$30,0%)","v":0},null,{"$f":"IFERROR(M173/M$30,0%)","v":0},null,{"$f":"IFERROR(O173/O$30,0%)","v":0},5.3999999999999999E-2,{"$f":"IFERROR(Q173/Q$30,0%)","v":2.0454545454545456E-3},null,{"$f":"IFERROR(S173/S$30,0%)","v":0},null,{"$f":"IFERROR(U173/U$30,0%)","v":0},null,{"$f":"IFERROR(W173/W$30,0%)","v":0},null,{"$f":"IFERROR(Y173/Y$30,0%)","v":0},null,{"$f":"IFERROR(AA173/AA$30,0%)","v":0},null,{"$f":"IFERROR(AC173/AC$30,0%)","v":0},null,{"$f":"IFERROR(AE173/AE$30,0%)","v":0},null,{"$f":"IFERROR(AG173/AG$30,0%)","v":0},null,{"$f":"IFERROR(AI173/AI$30,0%)","v":0},null,{"$f":"IFERROR(AK173/AK$30,0%)","v":0},null,{"$f":"IFERROR(AM173/AM$30,0%)","v":0}]
[null,"Reunión Salud - Educacion (Colegios)",null,null,null,null,null,{"$f":"IFERROR(G174/G$30,0%)","v":0},null,{"$f":"IFERROR(I174/I$30,0%)","v":0},null,0,null,0,null,0,null,0,8.1000000000000003E-2,2.3011363636363637E-3,null,0,null,0,null,0,null,0,null,0,null,0,null,0,null,0,null,0,null,0]
[null,"Reunión Equipo Gestor promocion de salud ",null,null,null,null,null,0,null,0,null,0,null,0,null,0,null,0,null,0,null,0,null,0,null,0,null,0,null,0,null,0,null,0,null,0,null,0,null,0]
[null,"Misceláneos"]
[null,"Reuniones Proceso de programacion",null,null,null,null,0.245,{"$f":"IFERROR(G177/G$30,0%)","v":3.2754010695187166E-3},0.122,4.0666666666666663E-3,0.122,{"$f":"IFERROR(K177/K$30,0%)","v":1.3863636363636363E-2},0.245,{"$f":"IFERROR(M177/M$30,0%)","v":1.2373737373737374E-2},0.36799999999999999,{"$f":"IFERROR(O177/O$30,0%)","v":7.2156862745098036E-3},0.245,{"$f":"IFERROR(Q177/Q$30,0%)","v":9.2803030303030311E-3},0.36799999999999999,{"$f":"IFERROR(S177/S$30,0%)","v":1.0454545454545454E-2},null,{"$f":"IFERROR(U177/U$30,0%)","v":0},null,{"$f":"IFERROR(W177/W$30,0%)","v":0},0.36799999999999999,{"$f":"IFERROR(Y177/Y$30,0%)","v":7.8297872340425522E-3},null,{"$f":"IFERROR(AA177/AA$30,0%)","v":0},null,{"$f":"IFERROR(AC177/AC$30,0%)","v":0},null,{"$f":"IFERROR(AE177/AE$30,0%)","v":0},null,{"$f":"IFERROR(AG177/AG$30,0%)","v":0},null,{"$f":"IFERROR(AI177/AI$30,0%)","v":0},null,{"$f":"IFERROR(AK177/AK$30,0%)","v":0},null,{"$f":"IFERROR(AM177/AM$30,0%)","v":0}]
[null,"Reuniones de Monitoreo Programación",null,null,null,null,null,0,null,0,null,0,null,0,null,0,null,0,null,0,null,0,null,0,null,0,null,0,null,0,null,0,null,0,null,0,null,0,null,0]
[null,"IAAS",null,null,null,null,null,0,null,0,null,0,null,0,null,0,null,0,null,0,null,0,null,0,null,0,null,0,null,0,null,0,null,0,null,0,null,0,null,0]
[null,"Trabajo Administrativo",null,null,null,null,null,0,0.47199999999999998,1.5733333333333332E-2,null,0,null,0,null,0,0.47199999999999998,1.7878787878787879E-2,null,0,null,0,null,0,null,0,null,0,null,0,null,0,null,0,null,0,null,0,null,0]
[null,"Traspaso de  Feriado Reparatorio",null,null,null,null,0.18099999999999999,2.4197860962566846E-3,8.5999999999999993E-2,2.8666666666666662E-3,null,0,6.3E-2,3.1818181818181819E-3,0.13600000000000001,2.666666666666667E-3,null,0,0.127,3.6079545454545453E-3,null,0,5.3999999999999999E-2,1.2272727272727272E-2,0.109,2.3191489361702126E-3,2.1999999999999999E-2,2.4999999999999996E-3,null,0,6.3E-2,7.1590909090909084E-3,null,0,null,0,0.20399999999999999,1.1590909090909091E-3,3.1E-2,8.8068181818181811E-4]
[null,"Traspaso de Feriados Legales",null,null,null,null,0.154,{"$f":"IFERROR(G182/G$30,0%)","v":2.0588235294117649E-3},5.8999999999999997E-2,{"$f":"IFERROR(I182/I$30,0%)","v":1.9666666666666665E-3},null,{"$f":"IFERROR(K182/K$30,0%)","v":0},0.22700000000000001,{"$f":"IFERROR(M182/M$30,0%)","v":1.1464646464646464E-2},0.27700000000000002,{"$f":"IFERROR(O182/O$30,0%)","v":5.4313725490196087E-3},6.8000000000000005E-2,{"$f":"IFERROR(Q182/Q$30,0%)","v":2.5757575757575763E-3},2.5000000000000001E-2,{"$f":"IFERROR(S182/S$30,0%)","v":7.1022727272727275E-4},0.13600000000000001,{"$f":"IFERROR(U182/U$30,0%)","v":6.538461538461539E-3},4.0000000000000001E-3,{"$f":"IFERROR(W182/W$30,0%)","v":9.0909090909090909E-4},0.245,{"$f":"IFERROR(Y182/Y$30,0%)","v":5.2127659574468087E-3},null,{"$f":"IFERROR(AA182/AA$30,0%)","v":0},null,{"$f":"IFERROR(AC182/AC$30,0%)","v":0},4.4999999999999998E-2,{"$f":"IFERROR(AE182/AE$30,0%)","v":5.1136363636363627E-3},null,{"$f":"IFERROR(AG182/AG$30,0%)","v":0},8.9999999999999993E-3,{"$f":"IFERROR(AI182/AI$30,0%)","v":5.8441558441558431E-4},0.68100000000000005,{"$f":"IFERROR(AK182/AK$30,0%)","v":3.8693181818181821E-3},null,{"$f":"IFERROR(AM182/AM$30,0%)","v":0}]
[null,"Gestión en Calidad Proceso Acreditación",null,null,null,null,0.16300000000000001,2.179144385026738E-3,0.05,1.6666666666666668E-3,0.16300000000000001,1.8522727272727271E-2,5.3999999999999999E-2,2.7272727272727271E-3,1.65,3.2352941176470584E-2,null,0,null,0,null,0,null,0,0.16300000000000001,3.4680851063829789E-3,null,0,null,0,null,0,null,0,null,0,0.6,3.4090909090909089E-3,5.3999999999999999E-2,1.534090909090909E-3]
[null,"Gestión PROA",null,null,null,null,null,{"$f":"IFERROR(G184/G$30,0%)","v":0}," ",{"$f":"IFERROR(I184/I$30,0%)","v":0},0.16300000000000001,{"$f":"IFERROR(K184/K$30,0%)","v":1.8522727272727271E-2},null,{"$f":"IFERROR(M184/M$30,0%)","v":0},null,{"$f":"IFERROR(O184/O$30,0%)","v":0},null,{"$f":"IFERROR(Q184/Q$30,0%)","v":0},null,{"$f":"IFERROR(S184/S$30,0%)","v":0},null,{"$f":"IFERROR(U184/U$30,0%)","v":0},null,{"$f":"IFERROR(W184/W$30,0%)","v":0},null,{"$f":"IFERROR(Y184/Y$30,0%)","v":0},null,{"$f":"IFERROR(AA184/AA$30,0%)","v":0},null,{"$f":"IFERROR(AC184/AC$30,0%)","v":0},null,{"$f":"IFERROR(AE184/AE$30,0%)","v":0},null,{"$f":"IFERROR(AG184/AG$30,0%)","v":0},null,{"$f":"IFERROR(AI184/AI$30,0%)","v":0},null,{"$f":"IFERROR(AK184/AK$30,0%)","v":0},null,{"$f":"IFERROR(AM184/AM$30,0%)","v":0}]
[null,"Gestión  de Registro Plataforma Chile Crece Contigo",null,null,null,null,null,0,null,0,null,0,null,0,1.181,2.3156862745098039E-2,0.70899999999999996,2.6856060606060606E-2,0.70899999999999996,2.0142045454545451E-2,0.23599999999999999,1.1346153846153844E-2,0.23599999999999999,5.3636363636363628E-2,0.23599999999999999,5.0212765957446809E-3,null,0,null,0,null,0,0.47199999999999998,5.3636363636363628E-2,null,0,null,0,null,0]
[null,"Elaboración de informes",null,null,null,null,null,0,null,0,null,0,null,0,null,0,null,0,3.5449999999999999,0.10071022727272726,5.3999999999999999E-2,2.5961538461538461E-3,null,0,null,0,null,0,null,0,null,0,null,0,null,0,null,0,null,0]
[null,"Gestion de Registro Toma de Muestras - Procedimientos",null,null,null,null,null,0,null,0,null,0,null,0,4.7270000000000003,9.2686274509803934E-2,null,0,null,0,null,0,null,0,null,0,null,0,null,0,null,0,null,0,null,0,null,0,null,0]
[null,"Gestion Bodega Local - Insumos ",null,null,null,null,null,{"$f":"IFERROR(G188/G$30,0%)","v":0},null,{"$f":"IFERROR(I188/I$30,0%)","v":0},null,0,null,0,null,0,null,0,null,0,null,0,null,0,null,0,null,0,null,0,null,0,null,0,null,0,null,0,null,0]
[null,"TENS de TBC ",null,null,null,null,null,{"$f":"IFERROR(G189/G$30,0%)","v":0},null,{"$f":"IFERROR(I189/I$30,0%)","v":0},null,{"$f":"IFERROR(K189/K$30,0%)","v":0},null,{"$f":"IFERROR(M189/M$30,0%)","v":0},null,{"$f":"IFERROR(O189/O$30,0%)","v":0},null,{"$f":"IFERROR(Q189/Q$30,0%)","v":0},null,{"$f":"IFERROR(S189/S$30,0%)","v":0},null,{"$f":"IFERROR(U189/U$30,0%)","v":0},null,{"$f":"IFERROR(W189/W$30,0%)","v":0},null,{"$f":"IFERROR(Y189/Y$30,0%)","v":0},null,{"$f":"IFERROR(AA189/AA$30,0%)","v":0},null,{"$f":"IFERROR(AC189/AC$30,0%)","v":0},null,{"$f":"IFERROR(AE189/AE$30,0%)","v":0},null,{"$f":"IFERROR(AG189/AG$30,0%)","v":0},null,{"$f":"IFERROR(AI189/AI$30,0%)","v":0},0.23599999999999999,{"$f":"IFERROR(AK189/AK$30,0%)","v":1.3409090909090907E-3},null,{"$f":"IFERROR(AM189/AM$30,0%)","v":0}]
[null,"Gestor de ECICEP Profesional (Gestión de Casos)",null,null,null,null,null,{"$f":"IFERROR(G190/G$30,0%)","v":0},null,{"$f":"IFERROR(I190/I$30,0%)","v":0},null,0,null,0,null,0,null,0,null,0,null,0,null,0,2.363,5.0276595744680852E-2,null,0,null,0,null,0,null,0,null,0,null,0,null,0]
[null,"Gestion Administrativa Cirugías Abdominoplastia y Bariátrica.",null,null,null,null,null,{"$f":"IFERROR(G191/G$30,0%)","v":0},null,{"$f":"IFERROR(I191/I$30,0%)","v":0},null,{"$f":"IFERROR(K191/K$30,0%)","v":0},null,{"$f":"IFERROR(M191/M$30,0%)","v":0},null,{"$f":"IFERROR(O191/O$30,0%)","v":0},0.23599999999999999,{"$f":"IFERROR(Q191/Q$30,0%)","v":8.9393939393939397E-3},null,{"$f":"IFERROR(S191/S$30,0%)","v":0},null,{"$f":"IFERROR(U191/U$30,0%)","v":0},null,{"$f":"IFERROR(W191/W$30,0%)","v":0},null,{"$f":"IFERROR(Y191/Y$30,0%)","v":0},null,{"$f":"IFERROR(AA191/AA$30,0%)","v":0},null,{"$f":"IFERROR(AC191/AC$30,0%)","v":0},null,{"$f":"IFERROR(AE191/AE$30,0%)","v":0},null,{"$f":"IFERROR(AG191/AG$30,0%)","v":0},null,{"$f":"IFERROR(AI191/AI$30,0%)","v":0},null,{"$f":"IFERROR(AK191/AK$30,0%)","v":0},null,{"$f":"IFERROR(AM191/AM$30,0%)","v":0}]
[null,"Gestion de Rescate de Inasistentes Programas",null,null,null,null,null,{"$f":"IFERROR(G192/G$30,0%)","v":0},null,{"$f":"IFERROR(I192/I$30,0%)","v":0},null,0,null,0,null,0,null,0,null,0,null,0,null,0,null,0,null,0,null,0,null,0,null,0,null,0,7.6360000000000001,4.338636363636364E-2,null,0]
[null,"Gestion de Vacunas y Cadena Frio",null,null,null,null,null,{"$f":"IFERROR(G193/G$30,0%)","v":0},null,{"$f":"IFERROR(I193/I$30,0%)","v":0},null,{"$f":"IFERROR(K193/K$30,0%)","v":0},null,{"$f":"IFERROR(M193/M$30,0%)","v":0},1.236,{"$f":"IFERROR(O193/O$30,0%)","v":2.423529411764706E-2},null,{"$f":"IFERROR(Q193/Q$30,0%)","v":0},null,{"$f":"IFERROR(S193/S$30,0%)","v":0},null,{"$f":"IFERROR(U193/U$30,0%)","v":0},null,{"$f":"IFERROR(W193/W$30,0%)","v":0},null,{"$f":"IFERROR(Y193/Y$30,0%)","v":0},null,{"$f":"IFERROR(AA193/AA$30,0%)","v":0},null,{"$f":"IFERROR(AC193/AC$30,0%)","v":0},null,{"$f":"IFERROR(AE193/AE$30,0%)","v":0},null,{"$f":"IFERROR(AG193/AG$30,0%)","v":0},null,{"$f":"IFERROR(AI193/AI$30,0%)","v":0},5.9,{"$f":"IFERROR(AK193/AK$30,0%)","v":3.3522727272727273E-2},null,{"$f":"IFERROR(AM193/AM$30,0%)","v":0}]
[null,"Esterilizacion de Instrumentos",null,null,null,null,null,0,null,0,null,0,null,0,5.3999999999999999E-2,1.0588235294117646E-3,null,0,null,0,null,0,null,0,null,0,null,0,null,0,null,0,null,0,null,0,20.8,0.11818181818181818,null,0]
[null,"Tiempos de preparación de Esfemerides",null,null,null,null,null,0,null,0,null,0,null,0,null,0,null,0,null,0,null,0,null,0,null,0,null,0,null,0,null,0,null,0,null,0,null,0,null,0]
[null,"Actividades de autocuidado",null,null,null,null,2.3639999999999999,3.1604278074866307E-2,0.70899999999999996,2.3633333333333333E-2,0.23599999999999999,{"$f":"IFERROR(K196/K$30,0%)","v":2.6818181818181814E-2},0.70899999999999996,3.5808080808080803E-2,1.891,{"$f":"IFERROR(O196/O$30,0%)","v":3.7078431372549021E-2},0.70899999999999996,2.6856060606060606E-2,0.94499999999999995,{"$f":"IFERROR(S196/S$30,0%)","v":2.6846590909090907E-2},0.47299999999999998,2.2740384615384614E-2,0.47299999999999998,0.10749999999999998,1.4179999999999999,3.0170212765957445E-2,0.23599999999999999,2.6818181818181814E-2,null,0,0.23599999999999999,2.6818181818181814E-2,0.23599999999999999,2.6818181818181814E-2,0.47299999999999998,3.0714285714285711E-2,4.7270000000000003,2.6857954545454546E-2,0.70899999999999996,2.0142045454545451E-2]
[" ","Semana APS",null,null,null,null,0.63600000000000001,8.5026737967914441E-3,0.255,8.5000000000000006E-3,6.4000000000000001E-2,7.2727272727272727E-3,0.191,9.6464646464646461E-3,0.50900000000000001,9.9803921568627444E-3,0.191,7.2348484848484855E-3,0.255,7.2443181818181816E-3,0.127,6.1057692307692306E-3,0.127,2.8863636363636362E-2,0.318,6.7659574468085107E-3,6.4000000000000001E-2,7.2727272727272727E-3,null,0,6.4000000000000001E-2,7.2727272727272727E-3,6.4000000000000001E-2,7.2727272727272727E-3,0.127,8.2467532467532471E-3,1.272,7.2272727272727271E-3,0.318,9.0340909090909083E-3]
[null,"PNAC",null,null,null,null,null,0,null,0,null,0,null,0,null,0,null,0,null,0,null,0,null,0,null,0,null,0,null,0,null,0,null,0,null,0,13.2,7.4999999999999997E-2,null,0]
[null,"Conmemoración",null,null,null,null,2.7E-2,3.6096256684491979E-4,8.9999999999999993E-3,2.9999999999999997E-4,4.0000000000000001E-3,{"$f":"IFERROR(K199/K$30,0%)","v":4.5454545454545455E-4},1.2999999999999999E-2,{"$f":"IFERROR(M199/M$30,0%)","v":6.5656565656565657E-4},3.5999999999999997E-2,{"$f":"IFERROR(O199/O$30,0%)","v":7.0588235294117641E-4},1.2999999999999999E-2,{"$f":"IFERROR(Q199/Q$30,0%)","v":4.9242424242424245E-4},1.7999999999999999E-2,{"$f":"IFERROR(S199/S$30,0%)","v":5.113636363636363E-4},8.9999999999999993E-3,{"$f":"IFERROR(U199/U$30,0%)","v":4.3269230769230765E-4},8.9999999999999993E-3,2.0454545454545452E-3,2.7E-2,5.7446808510638295E-4,0.04,4.5454545454545452E-3,null,0,4.0000000000000001E-3,4.5454545454545455E-4,4.0000000000000001E-3,4.5454545454545455E-4,8.9999999999999993E-3,5.8441558441558431E-4,0.09,5.113636363636363E-4,1.7999999999999999E-2,5.113636363636363E-4]
[null,"Toma Test Rápido VIH",null,null,null,null,null,{"$f":"IFERROR(G200/G$30,0%)","v":0},null,{"$f":"IFERROR(I200/I$30,0%)","v":0},null,{"$f":"IFERROR(K200/K$30,0%)","v":0},null,{"$f":"IFERROR(M200/M$30,0%)","v":0},null,{"$f":"IFERROR(O200/O$30,0%)","v":0},null,{"$f":"IFERROR(Q200/Q$30,0%)","v":0},null,{"$f":"IFERROR(S200/S$30,0%)","v":0},null,{"$f":"IFERROR(U200/U$30,0%)","v":0},null,{"$f":"IFERROR(W200/W$30,0%)","v":0},null,{"$f":"IFERROR(Y200/Y$30,0%)","v":0},null,{"$f":"IFERROR(AA200/AA$30,0%)","v":0},null,{"$f":"IFERROR(AC200/AC$30,0%)","v":0},null,{"$f":"IFERROR(AE200/AE$30,0%)","v":0},null,{"$f":"IFERROR(AG200/AG$30,0%)","v":0},null,{"$f":"IFERROR(AI200/AI$30,0%)","v":0},1.2,{"$f":"IFERROR(AK200/AK$30,0%)","v":6.8181818181818179E-3},null,{"$f":"IFERROR(AM200/AM$30,0%)","v":0}]
[null,"Auditoria Interconsultas",null,null,null,null,null,0,null,0,null,{"$f":"IFERROR(K201/K$30,0%)","v":0},null,{"$f":"IFERROR(M201/M$30,0%)","v":0},null,{"$f":"IFERROR(O201/O$30,0%)","v":0},null,{"$f":"IFERROR(Q201/Q$30,0%)","v":0},null,{"$f":"IFERROR(S201/S$30,0%)","v":0},null,{"$f":"IFERROR(U201/U$30,0%)","v":0},null,0,null,0,null,0,null,0,null,0,null,0,null,0,null,0,null,0]
[null,"Total Actividades Administrativas e Indirectas",null,null,null,null,{"$f":"SUM(G31:G201)","v":15.743999999999994},0.21048128342245989,4.0610000000000008,0.13536666666666669,1.1590000000000003,0.13170454545454544,7.1430000000000016,0.36075757575757572,38.893999999999991,0.76262745098039264,10.700000000000001,0.40530303030303028,48.28,1.3715909090909089,1.91,9.1826923076923084E-2,1.3019999999999998,0.2959090909090909,15.072999999999995,0.3207021276595744,1.1870000000000001,0.13488636363636361,0,0,0.57099999999999995,6.4886363636363631E-2,1.016,0.11545454545454545,0.93600000000000005,6.0779220779220773E-2,60.538000000000011,0.34396590909090913,1.8340000000000001,5.2102272727272719E-2]
[]
[]
["Programación de Horas Asistenciales"]
[]
[null,null,null,null,null,null,"Médico",null,"Odontólogo",null,"Químico Farmacéutico",null,"Matrón(a)",null,"Enfermero(a)",null,"Nutricionista",null,"Asistente Social",null,"Psicólogo(a)",null,"Fonoaudiólogo(a)",null,"Kinesiólogo(a)",null,"Terapeuta Ocupacional",null,"Terapeuta Complementario",null,"Prof. Educación Física",null,"Educador(a) Párvulos",null,"Podólogo(a)",null,"TENS",null,"TONS"]
[null,"Atencion Directa ( Horas Programadas) / Profesionales",null,null,null,null,"Horas","%","Horas","%","Horas","%","Horas","%","Horas","%","Horas","%","Horas","%","Horas","%","Horas","%","Horas","%","Horas","%","Horas","%","Horas","%","Horas","%","Horas","%","Horas","%","Horas","%"]
[null,"Ciclo Infantil",null,null,null,null,{"$f":"Infantil!$E17","v":8.6000000000000014},{"$f":"IFERROR(G209/G$217,0%)","v":0.12828916117276143},{"$f":"Infantil!$E18","v":12.835386363636362},{"$f":"IFERROR(I209/I$217,0%)","v":0.45595035407655088},{"$f":"Infantil!$E19","v":0},{"$f":"IFERROR(K209/K$217,0%)","v":0},{"$f":"Infantil!$E20","v":0.75833333333333341},{"$f":"IFERROR(M209/M$217,0%)","v":2.7994412863334824E-2},{"$f":"Infantil!$E21","v":5.7690151515151546},{"$f":"IFERROR(O209/O$217,0%)","v":0.41094947108775071},{"$f":"Infantil!$E22","v":2.8397727272727273},{"$f":"IFERROR(Q209/Q$217,0%)","v":0.17485426851805361},{"$f":"Infantil!$E23","v":0.63560606060606062},{"$f":"IFERROR(S209/S$217,0%)","v":0.1192464621340641},{"$f":"Infantil!$E24","v":1.4215909090909091},{"$f":"IFERROR(U209/U$217,0%)","v":8.3102030835605287E-2},{"$f":"Infantil!$E25","v":0.60227272727272729},{"$f":"IFERROR(W209/W$217,0%)","v":0.48790367124498296},{"$f":"Infantil!$E26","v":0},{"$f":"IFERROR(Y209/Y$217,0%)","v":0},{"$f":"Infantil!$E27","v":0},{"$f":"IFERROR(AA209/AA$217,0%)","v":0},{"$f":"Infantil!$E28","v":0},{"$f":"IFERROR(AC209/AC$217,0%)","v":0},{"$f":"Infantil!$E29","v":0},{"$f":"IFERROR(AE209/AE$217,0%)","v":0},{"$f":"Infantil!$E30","v":1.8454545454545452},{"$f":"IFERROR(AG209/AG$217,0%)","v":0.7862122385747482},{"$f":"Infantil!$E31","v":0},{"$f":"IFERROR(AI209/AI$217,0%)","v":0},{"$f":"Infantil!$E32","v":0},{"$f":"IFERROR(AK209/AK$217,0%)","v":0},{"$f":"Infantil!$E33","v":13.118386363636361},{"$f":"IFERROR(AM209/AM$217,0%)","v":0.42825236412467471}]
[null,"Ciclo Adolescente",null,null,null,null,{"$f":"Adolescente!$E17","v":5.4077867424242436},8.0669816858928614E-2,{"$f":"Adolescente!$E18","v":7.1013068181818184},0.25225912694995178,{"$f":"Adolescente!$E19","v":0},0,{"$f":"Adolescente!$E20","v":4.3227022727272733},0.15957562036220183,{"$f":"Adolescente!$E21","v":0.62450000000000006},4.4485573005801138E-2,{"$f":"Adolescente!$E22","v":0.63477272727272727},3.9085071786388446E-2,{"$f":"Adolescente!$E23","v":0.79409090909090918},0.14897990656606197,{"$f":"Adolescente!$E24","v":3.9939583333333339},0.23347507813273755,{"$f":"Adolescente!$E25","v":0},0,{"$f":"Adolescente!$E26","v":0},0,{"$f":"Adolescente!$E27","v":0},0,{"$f":"Adolescente!$E28","v":0},0,{"$f":"Adolescente!$E29","v":0},0,{"$f":"Adolescente!$E30","v":0},0,{"$f":"Adolescente!$E31","v":6.8181818181818179E-3},4.7916096997513468E-4,{"$f":"Adolescente!$E32","v":0},0,{"$f":"Adolescente!$E33","v":8.0605189393939387},0.26313726369851387]
[null,"Ciclo Adulto",null,null,null,null,{"$f":"Adulto!$E17","v":31.981305560606053},0.47707614692789774,{"$f":"Adulto!$E18","v":5.7298257575757585},0.20354012017628606,{"$f":"Adulto!$E19","v":1.1272727272727272},3.7243554381562634E-2,{"$f":"Adulto!$E20","v":17.936740909090915},0.66214751265726413,{"$f":"Adulto!$E21","v":1.7098333333333333},0.12179810340712939,{"$f":"Adulto!$E22","v":6.8617727272727276},0.4225022092231589,{"$f":"Adulto!$E23","v":1.2568181818181818},0.23579246803386453,{"$f":"Adulto!$E24","v":7.4386363636363644},0.43484084240597298,{"$f":"Adulto!$E25","v":0},0,{"$f":"Adulto!$E26","v":1.8036363636363639},6.085201081070938E-2,{"$f":"Adulto!$E27","v":0},0,{"$f":"Adulto!$E28","v":0},0,{"$f":"Adulto!$E29","v":0},0,{"$f":"Adulto!$E30","v":0},0,{"$f":"Adulto!$E31","v":6.7363636363636363},0.47341103833543308,{"$f":"Adulto!$E32","v":1.8181818181818181E-2},1.4909717745251592E-4,{"$f":"Adulto!$E33","v":7.4684772727272737},0.2438099442872543]
[null,"Ciclo Persona Mayor",null,null,null,null,{"$f":"Persona_Mayor!$E17","v":17.744443128787879},0.26469996796162404,{"$f":"Persona_Mayor!$E18","v":1.6989772727272725},6.0352627269768346E-2,{"$f":"Persona_Mayor!$E19","v":0.57215909090909089},1.8903356482980631E-2,{"$f":"Persona_Mayor!$E20","v":0.50966666666666671},1.881470649144569E-2,{"$f":"Persona_Mayor!$E21","v":3.8151891363636365},0.27177081642376932,{"$f":"Persona_Mayor!$E22","v":4.6012500000000003},0.28331429317985229,{"$f":"Persona_Mayor!$E23","v":0.47750000000000004},8.9584082339810023E-2,{"$f":"Persona_Mayor!$E24","v":3.5424545454545453},0.2070814922827198,{"$f":"Persona_Mayor!$E25","v":0},0,{"$f":"Persona_Mayor!$E26","v":4.2631363636363639},0.14383188613723843,{"$f":"Persona_Mayor!$E27","v":0.40208181818181826},4.1294258353103304E-2,{"$f":"Persona_Mayor!$E28","v":0},0,{"$f":"Persona_Mayor!$E29","v":0},0,{"$f":"Persona_Mayor!$E30","v":0},0,{"$f":"Persona_Mayor!$E31","v":4.6431818181818185},0.32630862055306675,{"$f":"Persona_Mayor!$E32","v":0},0,{"$f":"Persona_Mayor!$E33","v":1.8242636363636362},5.955345371020504E-2]
[null,"Estrategias Transversales",null,null,null,null,{"$f":"E.Transversales!$E17","v":1.5401189393939392},2.2974484516410629E-2,{"$f":"E.Transversales!$E18","v":0},0,{"$f":"E.Transversales!$E19","v":0},0,{"$f":"E.Transversales!$E20","v":0},0,{"$f":"E.Transversales!$E21","v":0},0,{"$f":"E.Transversales!$E22","v":0},0,{"$f":"E.Transversales!$E23","v":0},0,{"$f":"E.Transversales!$E24","v":0},0,{"$f":"E.Transversales!$E25","v":0},0,{"$f":"E.Transversales!$E26","v":22.437714696969699},0.75701515274111586,{"$f":"E.Transversales!$E27","v":9.1741818181818182},0.94219886860697111,{"$f":"E.Transversales!$E28","v":0},0,{"$f":"E.Transversales!$E29","v":0},0,{"$f":"E.Transversales!$E30","v":0},0,{"$f":"E.Transversales!$E31","v":0},0,{"$f":"E.Transversales!$E32","v":27.53459848484848},0.22579320040085765,{"$f":"E.Transversales!$E33","v":0},0]
[null,"Modelo MAISF",null,null,null,null,{"$f":"MAISF!$E17","v":1.0227954545454545},1.5257391966854602E-2,{"$f":"MAISF!$E18","v":0.51890909090909088},1.8433164147192174E-2,{"$f":"MAISF!$E19","v":0.17163636363636364},5.6706315058379234E-3,{"$f":"MAISF!$E20","v":3.561295454545454},0.13146774762575353,{"$f":"MAISF!$E21","v":2.1197214772727273},0.15099603607554932,{"$f":"MAISF!$E22","v":1.3032290909090909},8.0244157292546706E-2,{"$f":"MAISF!$E23","v":2.1661728409090908},0.40639708092619931,{"$f":"MAISF!$E24","v":0.70993227272727266},4.1500556342964325E-2,{"$f":"MAISF!$E25","v":0.63213636363636361},0.51209632875501709,{"$f":"MAISF!$E26","v":1.1285686363636362},3.8076228803775342E-2,{"$f":"MAISF!$E27","v":0.16072727272727272},1.650687303992553E-2,{"$f":"MAISF!$E28","v":0.16072727272727272},1,{"$f":"MAISF!$E29","v":0.81840909090909086},1,{"$f":"MAISF!$E30","v":0.50181818181818183},0.21378776142525174,{"$f":"MAISF!$E31","v":2.8430545454545455},0.19980118014152498,{"$f":"MAISF!$E32","v":1.8884636363636365},1.5486052884694294E-2,{"$f":"MAISF!$E33","v":0.16072727272727272},5.2469741793521926E-3]
[null,"Atenciones Telesalud",null,null,null,null,{"$f":"TELESALUD!$E17","v":0.7396109090909091},1.1033030595522816E-2,{"$f":"TELESALUD!$E18","v":0.26643666666666665},9.4646073802507561E-3,{"$f":"TELESALUD!$E19","v":7.8879545454545452E-3},2.6060726651630934E-4,{"$f":"TELESALUD!$E20","v":0},0,{"$f":"TELESALUD!$E21","v":0},0,{"$f":"TELESALUD!$E22","v":0},0,{"$f":"TELESALUD!$E23","v":0},0,{"$f":"TELESALUD!$E24","v":0},0,{"$f":"TELESALUD!$E25","v":0},0,{"$f":"TELESALUD!$E26","v":6.6606818181818173E-3},2.2472150716097017E-4,{"$f":"TELESALUD!$E27","v":0},0,{"$f":"TELESALUD!$E28","v":0},0,{"$f":"TELESALUD!$E29","v":0},0,{"$f":"TELESALUD!$E30","v":0},0,{"$f":"TELESALUD!$E31","v":0},0,{"$f":"TELESALUD!$E32","v":0},0,{"$f":"TELESALUD!$E33","v":0},0]
[null,"Gestión Farmaceutica",null,null,null,null,{"$f":"TELESALUD!$E18","v":0.26643666666666665},3.9745274967829423E-3,{"$f":"TELESALUD!$E19","v":7.8879545454545452E-3},2.8020314823782357E-4,{"$f":"GESTION_FARMACEUTICA!E16","v":28.388636363636362},0.93792185036310249,{"$f":"TELESALUD!$E21","v":0},0,{"$f":"TELESALUD!$E22","v":0},0,{"$f":"TELESALUD!$E23","v":0},0,{"$f":"TELESALUD!$E24","v":0},0,{"$f":"TELESALUD!$E25","v":0},0,{"$f":"TELESALUD!$E26","v":6.6606818181818173E-3},5.3958463747836652E-3,{"$f":"TELESALUD!$E27","v":0},0,{"$f":"TELESALUD!$E28","v":0},0,{"$f":"TELESALUD!$E29","v":0},0,{"$f":"TELESALUD!$E30","v":0},0,{"$f":"TELESALUD!$E31","v":0},0,{"$f":"TELESALUD!$E32","v":0},0,{"$f":"GESTION_FARMACEUTICA!E17","v":92.504848484848495},0.75857164953699552,{"$f":"TELESALUD!$E34","v":1.0205962121212122},3.331756883370543E-2]
[null,"Consolidado Horas Asistenciales",null,null,null,null,{"$f":"SUM(G209:G215)","v":67.03606073484849},{"$f":"SUM(H209:H215)","v":0.99999999999999978},28.15084196969697,1,{"$f":"SUM(K209:K216)","v":30.267592499999999},6.2078149636897499E-2,27.088738636363644,1,{"$f":"SUM(O209:O215)","v":14.038259098484854},0.99999999999999989,16.240797272727274,1,5.3301879924242428,0.99999999999999989,17.106572424242426,0.99999999999999989,1.2344090909090908,1,29.639716742424245,1,9.7369909090909097,0.99999999999999989,0.16072727272727272,1,0.81840909090909086,1,2.3472727272727272,1,14.229418181818183,1,{"$f":"SUM(AK209:AK216)","v":121.94609242424244},0.24142835046300445,30.632373484848479,1.0000000000000002]
[]
[]
["Resumen Balance Horas"]
[null,null,null,null,null,null,"Médico",null,"Odontólogo",null,"Químico Farmacéutico",null,"Matrón(a)",null,"Enfermero(a)",null,"Nutricionista",null,"Asistente Social",null,"Psicólogo(a)",null,"Fonoaudiólogo(a)",null,"Kinesiólogo(a)",null,"Terapeuta Ocupacional",null,"Terapeuta Complementario",null,"Prof. Educación Física",null,"Educador(a) Párvulos",null,"Podólogo(a)",null,"TENS",null,"TONS"]
[null,"Horas Contratadas",null,null,null,null,{"$f":"G30","v":74.8},null,{"$f":"I30","v":30},null,{"$f":"K30","v":8.8000000000000007},null,{"$f":"M30","v":19.8},null,{"$f":"O30","v":51},null,{"$f":"Q30","v":26.4},null,{"$f":"S30","v":35.200000000000003},null,{"$f":"U30","v":20.8},null,{"$f":"W30","v":4.4000000000000004},null,{"$f":"Y30","v":47},null,{"$f":"AA30","v":8.8000000000000007},null,{"$f":"AC30","v":0},null,{"$f":"AE30","v":8.8000000000000007},null,{"$f":"AG30","v":8.8000000000000007},null,{"$f":"AI30","v":15.4},null,{"$f":"AK30","v":176},null,{"$f":"AM30","v":35.200000000000003}]
[null,"Total Horas Gestion Clínica",null,null,null,null,{"$f":"G202","v":15.743999999999994},{"$f":"IFERROR(G223/G222,0)","v":0.21048128342245984},{"$f":"I202","v":4.0610000000000008},{"$f":"IFERROR(I223/I222,0)","v":0.13536666666666669},{"$f":"K202","v":1.1590000000000003},{"$f":"IFERROR(K223/K222,0)","v":0.13170454545454546},{"$f":"M202","v":7.1430000000000016},{"$f":"IFERROR(M223/M222,0)","v":0.36075757575757583},{"$f":"O202","v":38.893999999999991},{"$f":"IFERROR(O223/O222,0)","v":0.76262745098039197},{"$f":"Q202","v":10.700000000000001},{"$f":"IFERROR(Q223/Q222,0)","v":0.40530303030303039},{"$f":"S202","v":48.28},{"$f":"IFERROR(S223/S222,0)","v":1.3715909090909091},{"$f":"U202","v":1.91},{"$f":"IFERROR(U223/U222,0)","v":9.182692307692307E-2},{"$f":"W202","v":1.3019999999999998},{"$f":"IFERROR(W223/W222,0)","v":0.29590909090909084},{"$f":"Y202","v":15.072999999999995},{"$f":"IFERROR(Y223/Y222,0)","v":0.32070212765957434},{"$f":"AA202","v":1.1870000000000001},{"$f":"IFERROR(AA223/AA222,0)","v":0.13488636363636364},{"$f":"AC202","v":0},{"$f":"IFERROR(AC223/AC222,0)","v":0},{"$f":"AE202","v":0.57099999999999995},{"$f":"IFERROR(AE223/AE222,0)","v":6.4886363636363631E-2},{"$f":"AG202","v":1.016},{"$f":"IFERROR(AG223/AG222,0)","v":0.11545454545454545},{"$f":"AI202","v":0.93600000000000005},{"$f":"IFERROR(AI223/AI222,0)","v":6.077922077922078E-2},{"$f":"AK202","v":60.538000000000011},{"$f":"IFERROR(AK223/AK222,0)","v":0.34396590909090913},{"$f":"AM202","v":1.8340000000000001},{"$f":"IFERROR(AM223/AM222,0)","v":5.2102272727272726E-2}]
[null,"Total Horas Asistencial",null,null,null,null,{"$f":"G217","v":67.03606073484849},{"$f":"IFERROR(G224/G222,0)","v":0.89620402051936487},{"$f":"I217","v":28.15084196969697},{"$f":"IFERROR(I224/I222,0)","v":0.93836139898989901},{"$f":"K217","v":30.267592499999999},{"$f":"IFERROR(K224/K222,0)","v":3.4394991477272723},{"$f":"M217","v":27.088738636363644},{"$f":"IFERROR(M224/M222,0)","v":1.3681181129476587},{"$f":"O217","v":14.038259098484854},{"$f":"IFERROR(O224/O222,0)","v":0.27525998232323245},{"$f":"Q217","v":16.240797272727274},{"$f":"IFERROR(Q224/Q222,0)","v":0.61518171487603313},{"$f":"S217","v":5.3301879924242428},{"$f":"IFERROR(S224/S222,0)","v":0.15142579523932506},{"$f":"U217","v":17.106572424242426},{"$f":"IFERROR(U224/U222,0)","v":0.82243136655011662},{"$f":"W217","v":1.2344090909090908},{"$f":"IFERROR(W224/W222,0)","v":0.28054752066115696},{"$f":"Y217","v":29.639716742424245},{"$f":"IFERROR(Y224/Y222,0)","v":0.63063227111540943},{"$f":"AA217","v":9.7369909090909097},{"$f":"IFERROR(AA224/AA222,0)","v":1.1064762396694214},{"$f":"AC217","v":0.16072727272727272},{"$f":"IFERROR(AC224/AC222,0)","v":0},{"$f":"AE217","v":0.81840909090909086},{"$f":"IFERROR(AE224/AE222,0)","v":9.3001033057851221E-2},{"$f":"AG217","v":2.3472727272727272},{"$f":"IFERROR(AG224/AG222,0)","v":0.26673553719008264},{"$f":"AI217","v":14.229418181818183},{"$f":"IFERROR(AI224/AI222,0)","v":0.92398819362455731},{"$f":"AK217","v":121.94609242424244},{"$f":"IFERROR(AK224/AK222,0)","v":0.69287552513774109},{"$f":"AM217","v":30.632373484848479},{"$f":"IFERROR(AM224/AM222,0)","v":0.87023788309228622}]
[null,"Total Recurso Utilizado",null,null,null,null,{"$f":"SUM(G223:G224)","v":82.78006073484849},{"$f":"IFERROR(G225/G222,0)","v":1.1066853039418247},{"$f":"SUM(I223:I224)","v":32.21184196969697},{"$f":"IFERROR(I225/I222,0)","v":1.0737280656565658},{"$f":"SUM(K223:K224)","v":31.426592499999998},{"$f":"IFERROR(K225/K222,0)","v":3.5712036931818179},34.231738636363644,{"$f":"IFERROR(M225/M222,0)","v":1.7288756887052346},52.932259098484849,{"$f":"IFERROR(O225/O222,0)","v":1.0378874333036245},26.940797272727274,{"$f":"IFERROR(Q225/Q222,0)","v":1.0204847451790635},53.610187992424244,{"$f":"IFERROR(S225/S222,0)","v":1.5230167043302341},19.016572424242426,{"$f":"IFERROR(U225/U222,0)","v":0.9142582896270397},2.5364090909090908,{"$f":"IFERROR(W225/W222,0)","v":0.57645661157024786},44.712716742424242,{"$f":"IFERROR(Y225/Y222,0)","v":0.95133439877498382},10.923990909090909,{"$f":"IFERROR(AA225/AA222,0)","v":1.241362603305785},0.16072727272727272,{"$f":"IFERROR(AC225/AC222,0)","v":0},1.3894090909090908,{"$f":"IFERROR(AE225/AE222,0)","v":0.15788739669421487},3.3632727272727272,{"$f":"IFERROR(AG225/AG222,0)","v":0.38219008264462806},15.165418181818183,{"$f":"IFERROR(AI225/AI222,0)","v":0.98476741440377802},182.48409242424245,{"$f":"IFERROR(AK225/AK222,0)","v":1.0368414342286503},32.466373484848482,{"$f":"IFERROR(AM225/AM222,0)","v":0.92234015581955908}]
[null,"Brecha de Recurso Humano Horas",null,null,null,null,{"$f":"G30-(G202+G217)","v":-7.9800607348484931},null,{"$f":"I30-(I202+I217)","v":-2.2118419696969696},null,{"$f":"K30-(K202+K217)","v":-22.626592499999997},null,{"$f":"M30-(M202+M217)","v":-14.431738636363644},null,{"$f":"O30-(O202+O217)","v":-1.9322590984848489},null,{"$f":"Q30-(Q202+Q217)","v":-0.54079727272727496},null,{"$f":"S30-(S202+S217)","v":-18.410187992424241},null,{"$f":"U30-(U202+U217)","v":1.7834275757575746},null,{"$f":"W30-(W202+W217)","v":1.8635909090909095},null,{"$f":"Y30-(Y202+Y217)","v":2.2872832575757585},null,{"$f":"AA30-(AA202+AA217)","v":-2.1239909090909084},null,{"$f":"AC30-(AC202+AC217)","v":-0.16072727272727272},null,{"$f":"AE30-(AE202+AE217)","v":7.4105909090909101},null,{"$f":"AG30-(AG202+AG217)","v":5.4367272727272731},null,{"$f":"AI30-(AI202+AI217)","v":0.23458181818181778},null,{"$f":"AK30-(AK202+AK217)","v":-6.4840924242424478},null,{"$f":"AM30-(AM202+AM217)","v":2.7336265151515207}]

{"sheet":"Configuracion","index":4,"n_rows":77,"n_cols":17,"rows_kept":77,"cut":false,"hidden":true,"merged":[[10,10,10,11],[10,8,10,9],[3,0,8,1],[4,6,4,8],[5,6,5,8],[6,6,6,8],[8,5,8,9],[3,2,8,3]]}
[]
[]
[]
[]
[null,null,null,null,null,"Establecimiento",{"$f":"Percapita!$G$6","v":"DEPARTAMENTO DE SALUD MUNICIPAL"}]
[null,null,null,null,null,"Comuna",{"$f":"Percapita!$G$7","v":"CALLE LARGA"}]
[null,null,null,null,null,"Fecha de Programación",{"$f":"Balance_Horas!$G$7","v":"2023-10-12"}]
[]
[null,null,null,null,null,"Configuración EXCEL"]
[]
[]
[]
[]
[null,null,null,null,"Condición","Lista Profesionales",null,null,null,null,null,"Programas y Estrategias del Ciclo Vital Infantil","Programas y Estrategias del Ciclo Vital Adolescente","Programas y Estrategias del Ciclo Vital Adulto",null,null,"Selección"]
[null,null,null,null,"Si","Médico",null,null,null,null,null,"Programa Control Niño Sano","Medicina Preventiva","Medicina Preventiva",null,null,"Percapita"]
[null,null,null,null,"No","Odontólogo",null,null,null,null,null,"Programa Control Niño Sano Prematuros Extremos por Edad Corregida 24 Meses","Evaluación Nutricional al Octavo Mes Post Parto","Evaluación Nutricional al Octavo Mes Post Parto",null,null,"Resumen_Poblacion"]
[null,null,null,null,null,"Químico Farmacéutico",null,null,null,null,null,"Programa Control Niño Sano Prematuros Moderado","Otros Controles Crónicos","Otros Controles Crónicos",null,null,"Balance_Horas"]
[null,null,null,null,null,"Matrón(a)",null,null,null,null,null,"Programa Control Niño Sano Prematuros Tardío Edad Corregida 6 Meses","Programa Salud Sexual y Reproductiva","Programa Salud Sexual y Reproductiva",null,null,"Infantil"]
[null,null,null,null,null,"Enfermero(a)",null,null,null,null,null,"Programa Control Salud NANEAS","Programa Mejor Niñez (SENAME)","Consulta Nutricional",null,null,"Adolescente"]
[null,null,null,null,null,"Nutricionista",null,null,null,null,null,"Programa Mejor Niñez","Consultas","Consulta Morbilidad Adulto",null,null,"Adulto"]
[null,null,null,null,null,"Asistente Social",null,null,null,null,null,"Sala Estimulación","Consulta Morbilidad Adolescente","Programa Salud Mental Aulto",null,null,"Persona_Mayor"]
[null,null,null,null,null,"Psicólogo(a)",null,null,null,null,null,"Consultas","Programa Salud Mental Adolescente","Programa Odontológico Adulto",null,null,"E.Transversales"]
[null,null,null,null,null,"Fonoaudiólogo(a)",null,null,null,null,null,"Consulta Morbilidad Infantil","Programa de Salud Cardiovascular Adolescente","Otras Prestaciones del PSCV",null,null,"MAISF"]
[null,null,null,null,null,"Kinesiólogo(a)",null,null,null,null,null,"Controles Crónicos","Programa Odontológico Adolescente","ECICEP Adulto",null,null,"TELESALUD"]
[null,null,null,null,null,"Terapeuta Ocupacional ",null,null,null,null,null,"Programa Salud Mental Infantil",null,null,null,null,"PSCV-ECICEP"]
[null,null,null,null,null,"Tereapeuta Complementario",null,null,null,null,null,"Programa Odontológico Infantil",null,null,null,null,"SALUDMENTAL"]
[null,null,null,null,null,"Prof. Educación Física",null,null,null,null,null,null,null,null,null,null,"CENTROITS"]
[null,null,null,null,null,"Educador(a) Párvulos",null,null,null,null,null,"Programas y Estrategias del Ciclo Vital Persona Mayor",null,null,null,null,"GESTION_FAMACEUTICA"]
[null,null,null,null,null,"Podólogo(a)",null,null,null,null,null,"Medicina Preventiva",null,null,null,null,"COMGES_2.1"]
[null,null,null,null,null,"TENS",null,null,null,null,null,"Otros Controles Crónicos"]
[null,null,null,null,null,"TONS",null,null,null,null,null,"Programa Salud Sexual "]
[null,null,null,null,null,null,null,null,null,null,null,"Consulta Nutricional"]
[null,null,null,null,null,null,null,null,null,null,null,"Consulta Morbilidad Persona Mayor"]
[null,null,null,null,null,"Todos los Profesionales",null,null,null,null,null,"Programa Salud Mental Persona Mayor"]
[null,null,null,null,null,null,null,null,null,null,null,"Programa Odontológico Persona Mayor"]
[null,null,null,null,null,null,null,null,null,null,null,"Otras Prestaciones del PSCV"]
[null,null,null,null,null,null,null,null,null,null,null,"ECICEP Persona Mayor "]
[]
[null,null,null,null,null,null,null,null,null,null,null,"Estrategia Transversal"]
[null,null,null,null,null,null,null,null,null,null,null,"Rehabilitación Integral"]
[null,null,null,null,null,null,null,null,null,null,null,"Sala IRA Infantil"]
[null,null,null,null,null,null,null,null,null,null,null,"Sala IRA Adolescente"]
[null,null,null,null,null,null,null,null,null,null,null,"Sala ERA"]
[null,null,null,null,null,null,null,null,null,null,null,"Actividad Física Grupal"]
[null,null,null,null,null,null,null,null,null,null,null,"Actividades TENS"]
[null,null,null,null,null,null,null,null,null,null,null,"Medicina Complementaria"]
[]
[]
[]
[]
[]
[null,null,null,null,null,null,null,null,null,null,null,"Telesalud"]
[null,null,null,null,null,null,null,null,null,null,null,"Teleinterconsultas"]
[null,null,null,null,null,null,null,null,null,null,null,"Telecomité"]
[null,null,null,null,null,null,null,null,null,null,null,"Telesalud"]
[]
[null,null,null,null,null,null,null,null,null,null,null,"MAISF"]
[null,null,null,null,null,null,null,null,null,null,null,"Salud Familiar"]
[null,null,null,null,null,null,null,null,null,null,null,"Consejerías Individuales"]
[null,null,null,null,null,null,null,null,null,null,null,"Consejerías Familiares"]
[null,null,null,null,null,null,null,null,null,null,null,"Visita Domiciliaria Integral"]
[null,null,null,null,null,null,null,null,null,null,null,"Otras Visitas"]
[null,null,null,null,null,null,null,null,null,null,null,"Atención Domiciliaria (PAD)"]
[null,null,null,null,null,null,null,null,null,null,null,"Educación de Grupo"]
[null,null,null,null,null,null,null,null,null,null,null,"Promoción de la Salud"]
[null,null,null,null,null,null,null,null,null,null,null,"Participación Social"]
[]
[]
[]
[]
[null,null,null,null,null,null,null,null,null,null,null,"GESTION FARMACEUTICA"]
[null,null,null,null,null,null,null,null,null,null,null,"Dispensación "]
[null,null,null,null,null,null,null,null,null,null,null,"Control de Medicamentos Sujetos a Control Legal"]
[null,null,null,null,null,null,null,null,null,null,null,"Reenvasado (Supervisión 10%) "]
[null,null,null,null,null,null,null,null,null,null,null,"Farmacovigilancia"]
[null,null,null,null,null,null,null,null,null,null,null,"Gestión de Inventario en Puntos de almacenamiento a cargo de Farmacia"]
[null,null,null,null,null,null,null,null,null,null,null,"Abastecimiento "]

{"sheet":"Infantil","index":5,"n_rows":221,"n_cols":36,"rows_kept":221,"cut":false,"hidden":false,"merged":[[197,1,197,5],[198,1,198,5],[199,1,199,5],[200,1,200,5],[51,1,51,5],[52,1,52,5],[53,1,53,5],[54,1,54,5],[55,1,55,5],[56,1,56,5],[81,1,81,5],[82,1,82,5],[83,1,83,5],[84,1,84,5],[85,1,85,5],[87,1,87,5],[76,1,76,5],[77,1,77,5],[78,1,78,5],[79,1,79,5],[80,1,80,5],[88,1,88,5],[89,1,89,5],[122,1,122,5],[2,14,2,15],[2,16,2,17],[40,1,40,5],[41,1,41,5],[42,1,42,5],[9,5,9,9],[11,0,11,4],[3,0,8,1],[3,2,8,3],[4,7,4,9],[5,7,5,9],[6,7,6,9],[8,5,8,9],[14,4,15,4],[14,5,15,5],[26,1,26,3],[27,1,27,3],[28,1,28,3],[29,1,29,3],[30,1,30,3],[31,1,31,3],[16,1,16,3],[17,1,17,3],[14,6,15,6],[5,14,5,15],[6,14,6,15],[7,14,7,15],[8,14,8,15],[6,5,6,6],[5,5,5,6],[4,5,4,6],[32,1,32,3],[12,10,12,18],[16,8,16,9],[17,8,17,9],[18,8,18,9],[19,8,19,9],[20,8,20,9],[9,14,9,15],[10,14,10,15],[18,1,18,3],[19,1,19,3],[20,1,20,3],[21,1,21,3],[22,1,22,3],[23,1,23,3],[24,1,24,3],[25,1,25,3],[3,14,3,15],[14,23,14,24],[37,7,37,11],[38,1,38,5],[39,1,39,5],[31,21,31,22],[32,21,32,22],[14,21,14,22],[16,21,16,22],[17,21,17,22],[18,21,18,22],[19,21,19,22],[20,21,20,22],[21,21,21,22],[22,21,22,22],[27,21,27,22],[28,21,28,22],[29,21,29,22],[30,21,30,22],[23,21,23,22],[4,17,4,18],[5,17,5,18],[3,17,3,19],[4,14,4,15],[24,21,24,22],[25,21,25,22],[15,21,15,22],[26,21,26,22],[31,8,31,9],[44,1,44,5],[45,1,45,5],[46,1,46,5],[47,1,47,5],[43,1,43,5],[27,8,27,9],[28,8,28,9],[29,8,29,9],[30,8,30,9],[21,8,21,9],[22,8,22,9],[23,8,23,9],[32,8,32,9],[24,8,24,9],[25,8,25,9],[26,8,26,9],[48,1,48,5],[49,1,49,5],[74,7,74,11],[75,1,75,4],[66,1,66,5],[67,1,67,5],[68,1,68,5],[69,1,69,5],[71,1,71,5],[59,7,59,11],[60,1,60,5],[61,1,61,5],[62,1,62,5],[63,1,63,5],[64,1,64,5],[50,1,50,5],[65,1,65,5],[70,1,70,5],[108,7,108,11],[109,1,109,4],[110,1,110,5],[114,1,114,5],[98,1,98,5],[99,1,99,5],[100,1,100,5],[101,1,101,5],[102,1,102,5],[103,1,103,5],[105,1,105,5],[104,1,104,5],[111,1,111,5],[112,1,112,5],[113,1,113,5],[123,1,123,5],[124,1,124,5],[125,1,125,5],[126,1,126,5],[127,1,127,5],[115,1,115,5],[116,1,116,5],[118,1,118,5],[119,1,119,5],[120,1,120,5],[121,1,121,5],[117,1,117,5],[134,1,134,5],[135,1,135,5],[136,1,136,5],[137,1,137,5],[140,7,140,11],[141,1,141,4],[128,1,128,5],[129,1,129,5],[130,1,130,5],[131,1,131,5],[132,1,132,5],[133,1,133,5],[156,7,156,11],[157,1,157,5],[142,1,142,5],[143,1,143,5],[146,7,146,11],[147,1,147,5],[148,1,148,5],[149,1,149,5],[158,1,158,5],[219,1,219,5],[220,1,220,5],[214,1,214,5],[215,1,215,5],[216,1,216,5],[217,1,217,5],[218,1,218,5],[189,1,189,5],[210,7,210,11],[211,1,211,5],[212,1,212,5],[213,1,213,5],[201,1,201,5],[202,1,202,5],[203,1,203,5],[204,1,204,5],[205,1,205,5],[206,1,206,5],[207,1,207,5],[192,7,192,11],[193,1,193,5],[194,1,194,5],[195,1,195,5],[196,1,196,5],[179,1,179,5],[182,7,182,11],[183,1,183,5],[184,1,184,5],[187,7,187,11],[188,1,188,5],[171,1,171,5],[172,1,172,5],[173,1,173,5],[174,1,174,5],[175,1,175,5],[177,1,177,5],[178,1,178,5],[92,7,92,11],[93,1,93,4],[94,1,94,5],[95,1,95,5],[96,1,96,5],[97,1,97,5],[86,1,86,5],[176,1,176,5],[165,1,165,5],[166,1,166,5],[167,1,167,5],[168,1,168,5],[169,1,169,5],[170,1,170,5],[160,1,160,5],[161,1,161,5],[162,1,162,5],[163,1,163,5],[164,1,164,5],[159,1,159,5],[150,1,150,5],[151,1,151,5],[152,1,152,5],[153,1,153,5]]}
[]
[]
[]
[null,null,null,null,null,null,null,null,null,null,null,null,null,null,"Grupo Etareo",null,"Usuarios"]
[null,null,null,null,null,"Establecimiento",null,{"$f":"Percapita!$G$6","v":"DEPARTAMENTO DE SALUD MUNICIPAL"},null,null,null,null,null,null,"Recien nacidos < de 28 dias ",null,{"$f":"Resumen_Poblacion!I14","v":136}]
[null,null,null,null,null,"Comuna",null,{"$f":"Percapita!$G$7","v":"CALLE LARGA"},null,null,null,null,null,null,"Poblac. < de 1 año ",null,{"$f":"Resumen_Poblacion!I15","v":234}]
[null,null,null,null,null,"Fecha de Programación",null,{"$f":"Balance_Horas!$G$7","v":"2023-10-12"},null,null,null,null,null,null,"Poblac. de 12 a 17 meses",null,{"$f":"Resumen_Poblacion!I16","v":54}]
[null,null,null,null,null,null,null,null,null,null,null,null,null,null,"Poblac. de 18 a 23 ms.",null,{"$f":"Resumen_Poblacion!I17","v":95}]
[null,null,null,null,null,"PROGRAMACION APS CICLO VITAL",null,null,null,null,null,null,null,null,"Poblac. de 2 a 5 años",null,{"$f":"Resumen_Poblacion!I19","v":605}]
[null,null,null,null,null,"SALUD DEL NIÑO Y LA NIÑA",null,null,null,null,null,null,null,null,"Poblac. de 6 a 9 años",null,{"$f":"Resumen_Poblacion!I20","v":859}]
[null,null,null,null,null,null,null,null,null,null,null,null,null,null,"Total Poblac. de 0 a 9 ",null,{"$f":"Resumen_Poblacion!I22","v":1715}]
["Resumen Horas Programadas"]
[null,null,null,null,null,null,null,null,null,null,"Sectorizacion de Poblacion Percapitada",null,null,null,null,null,null,null,null,"Total"]
[null,null,null,null,null,null,null,null,null,"% Poblacion x Sector",0.4,0.5,0.1,null,null,null,null,null,null,{"$f":"SUM(K14:S14)","v":1}]
[null,null,null,null,"Total Horas Ciclo","Horas Contratadas","% uso de horas",null,null,"Total Poblacion",{"$f":"IFERROR($Q$11*K14,0)","v":686},857.5,171.5,0,0,0,0,0,0,{"$f":"SUM(K15:S15)","v":1715},null,"Tipo de Programa y/o Estrategia",null,"Programa Odontológico Infantil"]
[null,null,null,null,null,null,null,null,null,null,"Sector A","Sector B","Posta ","Sector D","Sector E","Sector F","Sector G","Sector H","Sector I","TOTAL",null,"Profesionales",null,"Horas Programadas","%"]
[null,"Médico",null,null,{"$f":"SUMIFS(AI$40:AI$221,AJ$40:AJ$221,B17,G$40:G$221,\"Si\")+SUMIFS(Q$40:Q$221,R$40:R$221,B17,G$40:G$221,\"Si\")+SUMIFS(W$40:W$221,X$40:X$221,B17,G$40:G$221,\"Si\")+SUMIFS(AC$40:AC$221,AD$40:AD$221,B17,G$40:G$221,\"Si\")","v":8.6000000000000014},{"$f":"Balance_Horas!$G$30","v":74.8},{"$f":"IFERROR(E17/F17,0)","v":0.11497326203208559},null,"Médico",null,{"$f":"IF(K$14<>\"\",$E17*K$14,\"\")","v":3.4400000000000008},{"$f":"IF(L$14<>\"\",$E17*L$14,\"\")","v":4.3000000000000007},0.86000000000000021,"","","","","","",{"$f":"SUM(K17:S17)","v":8.6000000000000014},null,"Médico",null,{"$f":"SUMIFS(AI$40:AI$221,AJ$40:AJ$221,B17,G$40:G$221,\"Si\",A$40:A$221,X$15)+SUMIFS(Q$40:Q$221,R$40:R$221,B17,G$40:G$221,\"Si\",A$40:A$221,X$15)+SUMIFS(W$40:W$221,X$40:X$221,B17,G$40:G$221,\"Si\",A$40:A$221,X$15)+SUMIFS(AC$40:AC$221,AD$40:AD$221,B17,G$40:G$221,\"Si\",A$40:A$221,X$15)","v":0},{"$f":"IFERROR(X17/X$34,0%)","v":0}]
[null,"Odontólogo",null,null,12.835386363636362,{"$f":"Balance_Horas!$I$30","v":30},{"$f":"IFERROR(E18/F18,0)","v":0.42784621212121204},null,"Odontólogo",null,5.1341545454545452,6.4176931818181808,1.2835386363636363,"","","","","","",12.835386363636362,null,"Odontólogo",null,12.835386363636362,0.49454799880206596]
[null,"Químico Farmacéutico",null,null,0,{"$f":"Balance_Horas!$K$30","v":8.8000000000000007},0,null,"Químico Farmacéutico",null,0,0,0,"","","","","","",0,null,"Químico Farmacéutico",null,0,0]
[null,"Matrón(a)",null,null,0.75833333333333341,{"$f":"Balance_Horas!$M$30","v":19.8},3.8299663299663306E-2,null,"Matrón(a)",null,0.3033333333333334,0.37916666666666671,7.583333333333335E-2,"","","","","","",0.75833333333333341,null,"Matrón(a)",null,0,0]
[null,"Enfermero(a)",null,null,5.7690151515151546,{"$f":"Balance_Horas!$O$30","v":51},0.11311794414735597,null,"Enfermero(a)",null,2.3076060606060618,2.8845075757575773,0.57690151515151544,"","","","","","",5.7690151515151546,null,"Enfermero(a)",null,0,0]
[null,"Nutricionista",null,null,2.8397727272727273,{"$f":"Balance_Horas!$Q$30","v":26.4},0.10756714876033059,null,"Nutricionista",null,1.135909090909091,1.4198863636363637,0.28397727272727274,"","","","","","",2.8397727272727273,null,"Nutricionista",null,0,0]
[null,"Asistente Social",null,null,0.63560606060606062,{"$f":"Balance_Horas!$S$30","v":35.200000000000003},1.8056990358126721E-2,null,"Asistente Social",null,0.25424242424242427,0.31780303030303031,6.3560606060606067E-2,"","","","","","",0.63560606060606062,null,"Asistente Social",null,0,0]
[null,"Psicólogo(a)",null,null,1.4215909090909091,{"$f":"Balance_Horas!$U$30","v":20.8},6.8345716783216784E-2,null,"Psicólogo(a)",null,0.56863636363636372,0.71079545454545456,0.14215909090909093,"","","","","","",1.4215909090909091,null,"Psicólogo(a)",null,0,0]
[null,"Fonoaudiólogo(a)",null,null,0.60227272727272729,{"$f":"Balance_Horas!$W$30","v":4.4000000000000004},0.1368801652892562,null,"Fonoaudiólogo(a)",null,0.24090909090909093,0.30113636363636365,6.0227272727272733E-2,"","","","","","",0.60227272727272729,null,"Fonoaudiólogo(a)",null,0,0]
[null,"Kinesiólogo(a)",null,null,0,{"$f":"Balance_Horas!$Y$30","v":47},0,null,"Kinesiólogo(a)",null,0,0,0,"","","","","","",0,null,"Kinesiólogo(a)",null,0,0]
[null,"Terapeuta Ocupacional ",null,null,0,{"$f":"Balance_Horas!$AA$30","v":8.8000000000000007},0,null,"Terapeuta Ocupacional ",null,0,0,0,"","","","","","",0,null,"Terapeuta Ocupacional ",null,0,0]
[null,"Tereapeuta Complementario",null,null,0,{"$f":"Balance_Horas!$AC$30","v":0},0,null,"Tereapeuta Complementario",null,0,0,0,"","","","","","",0,null,"Tereapeuta Complementario",null,0,0]
[null,"Prof. Educación Física",null,null,0,{"$f":"Balance_Horas!$AE$30","v":8.8000000000000007},0,null,"Prof. Educación Física",null,0,0,0,"","","","","","",0,null,"Prof. Educación Física",null,0,0]
[null,"Educador(a) Párvulos",null,null,1.8454545454545452,{"$f":"Balance_Horas!$AG$30","v":8.8000000000000007},0.20971074380165286,null,"Educador(a) Párvulos",null,0.73818181818181816,0.92272727272727262,0.18454545454545454,"","","","","","",1.8454545454545452,null,"Educador(a) Párvulos",null,0,0]
[null,"Podólogo(a)",null,null,0,{"$f":"Balance_Horas!$AI$30","v":15.4},0,null,"Podólogo(a)",null,0,0,0,"","","","","","",0,null,"Podólogo(a)",null,0,0]
[null,"TENS",null,null,0,{"$f":"Balance_Horas!$AK$30","v":176},0,null,"TENS",null,0,0,0,"","","","","","",0,null,"TENS",null,0,0]
[null,"TONS",null,null,13.118386363636361,{"$f":"Balance_Horas!$AM$30","v":35.200000000000003},0.37268143078512389,null,"TONS",null,5.2473545454545452,{"$f":"IF(L$14<>\"\",$E33*L$14,\"\")","v":6.5591931818181806},1.3118386363636363,"","","","","","",13.118386363636361,null,"TONS",null,13.118386363636361,0.5054520011979341]
[null,null,null,"TOTAL",{"$f":"SUM(E17:E33)","v":48.42581818181818},{"$f":"SUM(F17:F33)","v":571.20000000000005},{"$f":"IFERROR(E34/F34,0)","v":8.4779093455564031E-2},null,null,"TOTAL",{"$f":"SUM(K17:K33)","v":19.370327272727273},24.21290909090909,4.8425818181818183,0,0,0,0,0,0,null,null,null,"TOTAL",{"$f":"SUM(X17:X33)","v":25.953772727272721},{"$f":"SUM(Y17:Y33)","v":1}]
[]
[]
[null,"Programa Control Niño Sano"]
[null,null,null,null,null,null,null,"Resumen Población",null,null,null,null,null,null,"Intervención Profesional",null,null,null,null,null,"Intervención Profesional"]
[null,"Actividades / Cartera de Servicios",null,null,null,null,"Se Realiza","Población","Cobertura","Usuarios","Concentración","Total Actividades","Concentración","Total Actividad","Tiempo","Rendimiento","Horas Diarias","Estamento ","Concentración","Total Actividad","Tiempo","Rendimiento","Horas Diarias","Estamento "]
[{"$f":"B$37","v":"Programa Control Niño Sano"},"Control Salud  1 mes",null,null,null,null,"Si",150,1,{"$f":"IFERROR((H40*I40),0)","v":150},{"$f":"IFERROR(SUM(M40,S40),0)","v":1},{"$f":"IFERROR(SUM(N40,T40),0)","v":150},1,{"$f":"IFERROR((J40*M40),0)","v":150},30,{"$f":"IFERROR((60/O40),0)","v":2},{"$f":"IFERROR(N40/(60/O40)/220,0)","v":0.34090909090909088},"Médico",null,{"$f":"IFERROR((J40*S40),0)","v":0},null,{"$f":"IFERROR((60/U40),0)","v":0},{"$f":"IFERROR(T40/(60/U40)/220,0)","v":0}]
[{"$f":"B$37","v":"Programa Control Niño Sano"},"Control Salud 2 meses",null,null,null,null,"Si",150,1,150,1,150,1,{"$f":"IFERROR((J41*M41),0)","v":150},30,{"$f":"IFERROR((60/O41),0)","v":2},0.34090909090909088,"Enfermero(a)",null,0,null,{"$f":"IFERROR((60/U41),0)","v":0},0]
["Programa Control Niño Sano","Control Salud 3 meses (Revision de Radiografía de Caderas)",null,null,null,null,"Si",150,1,150,1,150,1,150,30,{"$f":"IFERROR((60/O42),0)","v":2},0.34090909090909088,"Médico",null,0,null,0,0]
["Programa Control Niño Sano","Control Salud 4 meses",null,null,null,null,"Si",150,1,150,1,150,1,150,30,2,0.34090909090909088,"Enfermero(a)",null,0,null,0,0]
["Programa Control Niño Sano","Consulta Nutricional 5to mes ",null,null,null,null,"Si",150,1,150,{"$f":"IFERROR(SUM(M44,S44),0)","v":1},{"$f":"IFERROR(SUM(N44,T44),0)","v":150},1,150,30,2,0.34090909090909088,"Nutricionista",null,0,null,0,0]
["Programa Control Niño Sano","Control Salud 6 meses",null,null,null,null,"Si",150,1,150,1,150,1,150,30,2,0.34090909090909088,"Enfermero(a)",null,0,null,0,0]
["Programa Control Niño Sano","Control Salud 8 meses Con EDSM ",null,null,null,null,"Si",150,0.9,135,1,135,1,135,60,1,0.61363636363636365,"Enfermero(a)",null,0,null,0,0]
["Programa Control Niño Sano","Control Salud 12 meses",null,null,null,null,"Si",80,1,80,1,80,1,80,30,2,0.18181818181818182,"Enfermero(a)",null,0,null,0,0]
["Programa Control Niño Sano","Control Salud 18 meses con EDSM",null,null,null,null,"Si",105,0.9,94.5,1,94.5,1,94.5,60,1,0.42954545454545456,"Enfermero(a)",null,0,null,0,0]
["Programa Control Niño Sano","Control Salud 2 años",null,null,null,null,"Si",100,1,100,1,100,1,100,30,2,0.22727272727272727,"Enfermero(a)",null,0,null,0,0]
["Programa Control Niño Sano","Control Salud 3 años con Tepsi ",null,null,null,null,"Si",105,1,105,1,105,1,105,60,1,0.47727272727272729,"Enfermero(a)",null,0,null,0,0]
["Programa Control Niño Sano","Consulta Nutricional 3 años 6 meses",null,null,null,null,"Si",105,1,105,{"$f":"IFERROR(SUM(M51,S51),0)","v":1},{"$f":"IFERROR(SUM(N51,T51),0)","v":105},1,105,30,{"$f":"IFERROR((60/O51),0)","v":2},{"$f":"IFERROR(N51/(60/O51)/220,0)","v":0.23863636363636365},"Nutricionista",null,0,null,null,0]
["Programa Control Niño Sano","Control Salud 4 años",null,null,null,null,"Si",110,1,110,1,110,1,110,30,2,0.25,"Enfermero(a)",null,0,null,0,0]
["Programa Control Niño Sano","Control Salud 5 años",null,null,null,null,"Si",125,1,125,1,125,1,125,30,2,0.28409090909090912,"Enfermero(a)",null,0,null,0,0]
["Programa Control Niño Sano","Control Salud 6 años",null,null,null,null,"Si",126,0.8,100.80000000000001,1,100.80000000000001,1,100.80000000000001,30,2,0.22909090909090912,"Enfermero(a)",null,0,null,0,0]
["Programa Control Niño Sano","Control Salud 7 años",null,null,null,null,"Si",128,0.8,102.4,1,102.4,1,102.4,30,2,0.23272727272727273,"Enfermero(a)",null,0,null,0,0]
["Programa Control Niño Sano","Control Salud 8 años",null,null,null,null,"Si",160,0.8,128,1,128,1,128,30,2,0.29090909090909089,"Enfermero(a)",null,0,null,0,0]
["Programa Control Niño Sano","Control Salud 9 años",null,null,null,null,"Si",160,0.8,128,1,128,1,128,30,2,0.29090909090909089,"Enfermero(a)",null,0,null,0,0]
[]
[null,"Programa Control Niño Sano Prematuros Extremos por Edad Corregida 24 Meses"]
[null,null,null,null,null,null,null,"Resumen Población",null,null,null,null,null,null,"Intervención Profesional",null,null,null,null,null,"Intervención Profesional"]
[null,"Actividades / Cartera de Servicios",null,null,null,null,"Se Realiza","Población","Cobertura","Usuarios","Concentración","Total Actividades","Concentración","Total Actividad","Tiempo","Rendimiento","Horas Diarias","Estamento ","Concentración","Total Actividad","Tiempo","Rendimiento","Horas Diarias","Estamento "]
[{"$f":"B$59","v":"Programa Control Niño Sano Prematuros Extremos por Edad Corregida 24 Meses"},"Control Salud 10 ds.post alta",null,null,null,null,"Si",2,1,{"$f":"IFERROR((H62*I62),0)","v":2},{"$f":"IFERROR(SUM(M62,S62),0)","v":0.5},{"$f":"IFERROR(SUM(N62,T62),0)","v":1},0.5,{"$f":"IFERROR((J62*M62),0)","v":1},60,{"$f":"IFERROR((60/O62),0)","v":1},{"$f":"IFERROR(N62/(60/O62)/220,0)","v":4.5454545454545452E-3},"Enfermero(a)",null,{"$f":"IFERROR((J62*S62),0)","v":0},null,{"$f":"IFERROR((60/U62),0)","v":0},{"$f":"IFERROR(T62/(60/U62)/220,0)","v":0}]
[{"$f":"B$59","v":"Programa Control Niño Sano Prematuros Extremos por Edad Corregida 24 Meses"},"Control Salud 2 meses",null,null,null,null,"Si",2,1,2,1,2,1,{"$f":"IFERROR((J63*M63),0)","v":2},60,1,{"$f":"IFERROR(N63/(60/O63)/220,0)","v":9.0909090909090905E-3},"Enfermero(a)",null,{"$f":"IFERROR((J63*S63),0)","v":0},null,0,{"$f":"IFERROR(T63/(60/U63)/220,0)","v":0}]
["Programa Control Niño Sano Prematuros Extremos por Edad Corregida 24 Meses","Control Salud 4 meses",null,null,null,null,"Si",2,1,2,1,2,1,{"$f":"IFERROR((J64*M64),0)","v":2},60,1,{"$f":"IFERROR(N64/(60/O64)/220,0)","v":9.0909090909090905E-3},"Enfermero(a)",null,{"$f":"IFERROR((J64*S64),0)","v":0},null,0,{"$f":"IFERROR(T64/(60/U64)/220,0)","v":0}]
["Programa Control Niño Sano Prematuros Extremos por Edad Corregida 24 Meses","Consulta Nutricional 5to mes ",null,null,null,null,"Si",2,1,2,1,2,1,{"$f":"IFERROR((J65*M65),0)","v":2},45,1.3333333333333333,{"$f":"IFERROR(N65/(60/O65)/220,0)","v":6.8181818181818179E-3},"Nutricionista",null,{"$f":"IFERROR((J65*S65),0)","v":0},null,0,{"$f":"IFERROR(T65/(60/U65)/220,0)","v":0}]
["Programa Control Niño Sano Prematuros Extremos por Edad Corregida 24 Meses","Control Salud 7 meses",null,null,null,null,"Si",3,1,{"$f":"IFERROR((H66*I66),0)","v":3},2,6,2,{"$f":"IFERROR((J66*M66),0)","v":6},60,1,{"$f":"IFERROR(N66/(60/O66)/220,0)","v":2.7272727272727271E-2},"Enfermero(a)",null,{"$f":"IFERROR((J66*S66),0)","v":0},null,0,{"$f":"IFERROR(T66/(60/U66)/220,0)","v":0}]
["Programa Control Niño Sano Prematuros Extremos por Edad Corregida 24 Meses","Control Salud 8 meses Con EDSM ",null,null,null,null,"Si",3,1,3,3,9,3,9,75,0.8,5.113636363636364E-2,"Enfermero(a)",null,0,null,0,0]
["Programa Control Niño Sano Prematuros Extremos por Edad Corregida 24 Meses","Control Salud 10 meses",null,null,null,null,"Si",3,1,3,4,12,4,12,60,1,5.4545454545454543E-2,"Enfermero(a)",null,0,null,0,0]
["Programa Control Niño Sano Prematuros Extremos por Edad Corregida 24 Meses","Control Salud 15 meses",null,null,null,null,"Si",2,1,2,5,10,5,10,60,1,4.5454545454545456E-2,"Enfermero(a)",null,0,null,0,0]
["Programa Control Niño Sano Prematuros Extremos por Edad Corregida 24 Meses","Control Salud 18 meses",null,null,null,null,"No",null,null,0,0,0,null,0,null,0,0,null,null,0,null,0,0]
["Programa Control Niño Sano Prematuros Extremos por Edad Corregida 24 Meses","Aplicación Escala de evaluación DSM 21 meses",null,null,null,null,"Si",2,1,{"$f":"IFERROR((H71*I71),0)","v":2},7,14,7,14,75,0.8,7.9545454545454544E-2,"Enfermero(a)",null,0,null,0,0]
["Programa Control Niño Sano Prematuros Extremos por Edad Corregida 24 Meses","Control Salud 24 meses",null,null,null,null,"Si",2,1,2,1,2,1,{"$f":"IFERROR((J72*M72),0)","v":2},60,1,{"$f":"IFERROR(N72/(60/O72)/220,0)","v":9.0909090909090905E-3},"Enfermero(a)",null,{"$f":"IFERROR((J72*S72),0)","v":0},null,0,{"$f":"IFERROR(T72/(60/U72)/220,0)","v":0}]
[]
[null,"Programa Control Niño Sano Prematuros Moderado"]
[null,null,null,null,null,null,null,"Resumen Población",null,null,null,null,null,null,"Intervención Profesional",null,null,null,null,null,"Intervención Profesional"]
[null,"Actividades / Cartera de Servicios",null,null,null,null,"Se Realiza","Población","Cobertura","Usuarios","Concentración","Total Actividades","Concentración","Total Actividad","Tiempo","Rendimiento","Horas Diarias","Estamento ","Concentración","Total Actividad","Tiempo","Rendimiento","Horas Diarias","Estamento "]
[{"$f":"B$74","v":"Programa Control Niño Sano Prematuros Moderado"},"Control Salud 48 a 72 horas post alta",null,null,null,null,"Si",7,1,{"$f":"IFERROR((H77*I77),0)","v":7},{"$f":"IFERROR(SUM(M77,S77),0)","v":1},{"$f":"IFERROR(SUM(N77,T77),0)","v":7},1,{"$f":"IFERROR((J77*M77),0)","v":7},60,{"$f":"IFERROR((60/O77),0)","v":1},{"$f":"IFERROR(N77/(60/O77)/220,0)","v":3.1818181818181815E-2},"Matrón(a)",null,{"$f":"IFERROR((J77*S77),0)","v":0},null,{"$f":"IFERROR((60/U77),0)","v":0},{"$f":"IFERROR(T77/(60/U77)/220,0)","v":0}]
[{"$f":"B$74","v":"Programa Control Niño Sano Prematuros Moderado"},"Control Salud 35 sem.",null,null,null,null,"Si",7,1,7,1,7,1,7,60,1,3.1818181818181815E-2,"Matrón(a)",null,0,null,0,0]
["Programa Control Niño Sano Prematuros Moderado","Control Salud 36 sem.",null,null,null,null,"Si",7,1,7,1,7,1,7,60,1,3.1818181818181815E-2,"Matrón(a)",null,0,null,0,0]
["Programa Control Niño Sano Prematuros Moderado","Control Salud 37 sem.",null,null,null,null,"Si",7,1,7,1,7,1,7,60,1,3.1818181818181815E-2,"Matrón(a)",null,0,null,0,0]
["Programa Control Niño Sano Prematuros Moderado","Control Salud 38 sem.",null,null,null,null,"Si",7,1,7,1,7,1,7,60,1,3.1818181818181815E-2,"Matrón(a)",null,0,null,0,0]
["Programa Control Niño Sano Prematuros Moderado","Control Salud 40 sem.",null,null,null,null,"Si",7,1,7,1,7,1,7,60,1,3.1818181818181815E-2,"Matrón(a)",null,0,null,0,0]
["Programa Control Niño Sano Prematuros Moderado","Control Salud 1 mes",null,null,null,null,"Si",7,1,7,1,7,1,7,60,1,3.1818181818181815E-2,"Médico",null,0,null,0,0]
["Programa Control Niño Sano Prematuros Moderado","Control Salud 2 meses",null,null,null,null,"Si",7,1,7,1,7,1,7,60,1,3.1818181818181815E-2,"Enfermera(o)",null,0,null,0,0]
["Programa Control Niño Sano Prematuros Moderado","Control Salud 3 meses",null,null,null,null,"Si",7,1,7,1,7,1,7,60,1,3.1818181818181815E-2,"Médico",null,0,null,0,0]
["Programa Control Niño Sano Prematuros Moderado","Control Salud 4 meses",null,null,null,null,"Si",7,1,7,1,7,1,7,60,1,3.1818181818181815E-2,"Enfermera(o)",null,0,null,0,0]
["Programa Control Niño Sano Prematuros Moderado","Consulta Nutricional 5to mes ",null,null,null,null,"Si",7,1,{"$f":"IFERROR((H87*I87),0)","v":7},1,7,1,7,45,1.3333333333333333,2.3863636363636365E-2,"Nutricionista",null,0,null,0,0]
["Programa Control Niño Sano Prematuros Moderado","Control Salud 6 meses",null,null,null,null,"Si",7,1,7,1,7,1,7,60,1,3.1818181818181815E-2,"Enfermera(o)",null,0,null,0,0]
["Programa Control Niño Sano Prematuros Moderado","Control Salud 8 meses Con EDSM ",null,null,null,null,"Si",7,1,7,1,7,1,7,75,0.8,3.9772727272727272E-2,"Enfermera(o)",null,0,null,0,0]
["Programa Control Niño Sano Prematuros Moderado","Control Salud 12 meses",null,null,null,null,"Si",7,1,7,1,7,1,7,60,1,3.1818181818181815E-2,"Enfermera(o)",null,0,null,0,0]
[]
[null,"Programa Control Niño Sano Prematuros Tardío Edad Corregida 6 Meses"]
[null,null,null,null,null,null,null,"Resumen Población",null,null,null,null,null,null,"Intervención Profesional",null,null,null,null,null,"Intervención Profesional"]
[null,"Actividades / Cartera de Servicios",null,null,null,null,"Se Realiza","Población","Cobertura","Usuarios","Concentración","Total Actividades","Concentración","Total Actividad","Tiempo","Rendimiento","Horas Diarias","Estamento ","Concentración","Total Actividad","Tiempo","Rendimiento","Horas Diarias","Estamento "]
[{"$f":"B$92","v":"Programa Control Niño Sano Prematuros Tardío Edad Corregida 6 Meses"},"Control Salud 48 a 72 horas post alta tardío",null,null,null,null,"Si",10,1,{"$f":"IFERROR((H95*I95),0)","v":10},{"$f":"IFERROR(SUM(M95,S95),0)","v":1},{"$f":"IFERROR(SUM(N95,T95),0)","v":10},1,{"$f":"IFERROR((J95*M95),0)","v":10},60,{"$f":"IFERROR((60/O95),0)","v":1},{"$f":"IFERROR(N95/(60/O95)/220,0)","v":4.5454545454545456E-2},"Matrón(a)",null,{"$f":"IFERROR((J95*S95),0)","v":0},null,{"$f":"IFERROR((60/U95),0)","v":0},{"$f":"IFERROR(T95/(60/U95)/220,0)","v":0}]
[{"$f":"B$92","v":"Programa Control Niño Sano Prematuros Tardío Edad Corregida 6 Meses"},"Control Salud 35 sem.",null,null,null,null,"Si",10,1,10,1,10,1,10,60,1,4.5454545454545456E-2,"Matrón(a)",null,0,null,0,0]
["Programa Control Niño Sano Prematuros Tardío Edad Corregida 6 Meses","Control Salud 36 sem.",null,null,null,null,"Si",10,1,10,1,10,1,10,60,1,4.5454545454545456E-2,"Matrón(a)",null,0,null,0,0]
["Programa Control Niño Sano Prematuros Tardío Edad Corregida 6 Meses","Control Salud 37 sem.",null,null,null,null,"Si",10,1,10,1,10,1,10,60,1,4.5454545454545456E-2,"Matrón(a)",null,0,null,0,0]
["Programa Control Niño Sano Prematuros Tardío Edad Corregida 6 Meses","Control Salud 38 sem.",null,null,null,null,"Si",10,1,10,1,10,1,10,60,1,4.5454545454545456E-2,"Matrón(a)",null,0,null,0,0]
["Programa Control Niño Sano Prematuros Tardío Edad Corregida 6 Meses","Control Salud 40 sem.",null,null,null,null,"Si",10,1,10,1,10,1,10,60,1,4.5454545454545456E-2,"Matrón(a)",null,0,null,0,0]
["Programa Control Niño Sano Prematuros Tardío Edad Corregida 6 Meses","Control Salud 1 mes",null,null,null,null,"Si",10,1,10,1,10,1,10,60,1,4.5454545454545456E-2,"Médico",null,0,null,0,0]
["Programa Control Niño Sano Prematuros Tardío Edad Corregida 6 Meses","Control Salud 2 meses",null,null,null,null,"Si",10,1,10,1,10,1,10,60,1,4.5454545454545456E-2,"Enfermera(o)",null,0,null,0,0]
["Programa Control Niño Sano Prematuros Tardío Edad Corregida 6 Meses","Control Salud 3 meses",null,null,null,null,"Si",10,1,10,1,10,1,10,60,1,4.5454545454545456E-2,"Médico",null,0,null,0,0]
["Programa Control Niño Sano Prematuros Tardío Edad Corregida 6 Meses","Control Salud 4 meses",null,null,null,null,"Si",10,1,10,1,10,1,10,60,1,4.5454545454545456E-2,"Enfermera(o)",null,0,null,0,0]
["Programa Control Niño Sano Prematuros Tardío Edad Corregida 6 Meses","Consulta Nutricional 5to mes ",null,null,null,null,"Si",10,1,{"$f":"IFERROR((H105*I105),0)","v":10},1,10,1,10,45,1.3333333333333333,3.4090909090909088E-2,"Nutricionista",null,0,null,0,0]
["Programa Control Niño Sano Prematuros Tardío Edad Corregida 6 Meses","Control Salud 6 meses",null,null,null,null,"Si",10,1,10,1,10,1,10,60,1,4.5454545454545456E-2,"Enfermera(o)",null,0,null,0,0]
[]
[null,"Programa Control Salud NANEAS"]
[null,null,null,null,null,null,null,"Resumen Población",null,null,null,null,null,null,"Intervención Profesional",null,null,null,null,null,"Intervención Profesional"]
[null,"Actividades / Cartera de Servicios",null,null,null,null,"Se Realiza","Población","Cobertura","Usuarios","Concentración","Total Actividades","Concentración","Total Actividad","Tiempo","Rendimiento","Horas Diarias","Estamento ","Concentración","Total Actividad","Tiempo","Rendimiento","Horas Diarias","Estamento "]
[{"$f":"B$108","v":"Programa Control Salud NANEAS"},"Ingresos Control de Salud Infantil NANEAS",null,null,null,null,"Si",10,1,{"$f":"IFERROR((H111*I111),0)","v":10},{"$f":"IFERROR(SUM(M111,S111),0)","v":1},10,1,{"$f":"IFERROR((J111*M111),0)","v":10},60,{"$f":"IFERROR((60/O111),0)","v":1},{"$f":"IFERROR(N111/(60/O111)/220,0)","v":4.5454545454545456E-2},"Médico",null,{"$f":"IFERROR((J111*S111),0)","v":0},null,{"$f":"IFERROR((60/U111),0)","v":0},{"$f":"IFERROR(T111/(60/U111)/220,0)","v":0}]
[{"$f":"B$108","v":"Programa Control Salud NANEAS"},"Consulta Nutricional de Ingreso",null,null,null,null,"No",null,null,{"$f":"IFERROR((H112*I112),0)","v":0},0,0,null,{"$f":"IFERROR((J112*M112),0)","v":0},45,1.3333333333333333,{"$f":"IFERROR(N112/(60/O112)/220,0)","v":0},null,null,{"$f":"IFERROR((J112*S112),0)","v":0},null,0,{"$f":"IFERROR(T112/(60/U112)/220,0)","v":0}]
["Programa Control Salud NANEAS","Consulta con Dupla Psicosocial",null,null,null,null,"No",null,null,{"$f":"IFERROR((H113*I113),0)","v":0},0,0,null,{"$f":"IFERROR((J113*M113),0)","v":0},60,1,{"$f":"IFERROR(N113/(60/O113)/220,0)","v":0},null,null,{"$f":"IFERROR((J113*S113),0)","v":0},null,0,{"$f":"IFERROR(T113/(60/U113)/220,0)","v":0}]
["Programa Control Salud NANEAS","Control Salud 1 mes",null,null,null,null,"Si",10,1,{"$f":"IFERROR((H114*I114),0)","v":10},1,10,1,{"$f":"IFERROR((J114*M114),0)","v":10},60,1,{"$f":"IFERROR(N114/(60/O114)/220,0)","v":4.5454545454545456E-2},"Médico",null,{"$f":"IFERROR((J114*S114),0)","v":0},null,0,{"$f":"IFERROR(T114/(60/U114)/220,0)","v":0}]
["Programa Control Salud NANEAS","Control Salud 2 meses ",null,null,null,null,"Si",10,1,10,{"$f":"IFERROR(SUM(M115,S115),0)","v":1},{"$f":"IFERROR(SUM(N115,T115),0)","v":10},1,{"$f":"IFERROR((J115*M115),0)","v":10},60,1,{"$f":"IFERROR(N115/(60/O115)/220,0)","v":4.5454545454545456E-2},"Enfermero(a)",null,{"$f":"IFERROR((J115*S115),0)","v":0},null,0,{"$f":"IFERROR(T115/(60/U115)/220,0)","v":0}]
["Programa Control Salud NANEAS","Control Salud 3 meses",null,null,null,null,"Si",10,1,10,1,10,1,10,60,1,4.5454545454545456E-2,"Médico",null,0,null,0,0]
["Programa Control Salud NANEAS","Control Salud 4 meses",null,null,null,null,"Si",10,1,10,1,10,1,10,60,1,4.5454545454545456E-2,"Enfermero(a)",null,0,null,0,0]
["Programa Control Salud NANEAS","Consulta Nutricional 5to mes ",null,null,null,null,"Si",10,1,{"$f":"IFERROR((H118*I118),0)","v":10},1,10,1,10,45,1.3333333333333333,3.4090909090909088E-2,"Nutricionista",null,0,null,0,0]
["Programa Control Salud NANEAS","Control Salud 6 meses",null,null,null,null,"Si",10,1,10,1,10,1,10,60,1,4.5454545454545456E-2,"Enfermero(a)",null,0,null,0,0]
["Programa Control Salud NANEAS","Control Salud 8 meses Con EDSM ",null,null,null,null,"Si",10,1,10,1,10,1,10,75,0.8,5.6818181818181816E-2,"Enfermero(a)",null,0,null,0,0]
["Programa Control Salud NANEAS","Control Salud 9 meses",null,null,null,null,"No",null,null,0,0,0,null,0,null,0,0,null,null,0,null,0,0]
["Programa Control Salud NANEAS","Control de 12 meses",null,null,null,null,"Si",10,1,10,1,10,1,10,60,1,4.5454545454545456E-2,"Enfermero(a)",null,0,null,0,0]
["Programa Control Salud NANEAS","Control Salud 18 meses con EDSM",null,null,null,null,"Si",10,1,10,1,10,1,10,75,0.8,5.6818181818181816E-2,"Enfermero(a)",null,0,null,0,0]
["Programa Control Salud NANEAS","Control Salud 2 años",null,null,null,null,"Si",10,1,10,1,10,1,10,60,1,4.5454545454545456E-2,"Enfermero(a)",null,0,null,0,0]
["Programa Control Salud NANEAS","Control Salud 2 años 6 meses",null,null,null,null,"Si",1,1,1,1,1,1,1,60,1,4.5454545454545452E-3,"Médico",null,0,null,0,0]
["Programa Control Salud NANEAS","Control Salud 3 años con Tepsi ",null,null,null,null,"Si",10,1,10,1,10,1,10,75,0.8,5.6818181818181816E-2,"Enfermero(a)",null,0,null,0,0]
["Programa Control Salud NANEAS","Consulta Nutricional 3 años 6 meses",null,null,null,null,"Si",12,1,12,1,12,1,12,45,1.3333333333333333,4.0909090909090909E-2,"Nutricionista",null,0,null,0,0]
["Programa Control Salud NANEAS","Control Salud 4 años",null,null,null,null,"Si",10,1,10,1,10,1,10,60,1,4.5454545454545456E-2,"Enfermero(a)",null,0,null,0,0]
["Programa Control Salud NANEAS","Control Salud 4 años 6 meses",null,null,null,null,"Si",2,1,2,1,2,1,2,60,1,9.0909090909090905E-3,"Enfermero(a)",null,0,null,0,0]
["Programa Control Salud NANEAS","Control Salud 5 años",null,null,null,null,"Si",10,1,10,1,10,1,10,60,1,4.5454545454545456E-2,"Enfermero(a)",null,0,null,0,0]
["Programa Control Salud NANEAS","Control Salud 5 años 6 meses",null,null,null,null,"Si",2,1,2,1,2,1,2,60,1,9.0909090909090905E-3,"Enfermero(a)",null,0,null,0,0]
["Programa Control Salud NANEAS","Control Salud 6 años",null,null,null,null,"Si",10,1,10,1,10,1,10,60,1,4.5454545454545456E-2,"Enfermero(a)",null,0,null,0,0]
["Programa Control Salud NANEAS","Control Salud 6 años 6 meses",null,null,null,null,"No",null,null,0,0,0,null,0,null,0,0,null,null,0,null,0,0]
["Programa Control Salud NANEAS","Control Salud 7 años",null,null,null,null,"Si",10,1,10,1,10,1,10,60,1,4.5454545454545456E-2,"Enfermero(a)",null,0,null,0,0]
["Programa Control Salud NANEAS","Control Salud 7 años 6 meses",null,null,null,null,"No",null,null,0,0,0,null,0,45,1.3333333333333333,0,null,null,0,null,0,0]
["Programa Control Salud NANEAS","Control Salud 8 años",null,null,null,null,"Si",10,1,10,1,10,1,10,60,1,4.5454545454545456E-2,"Enfermero(a)",null,0,null,0,0]
["Programa Control Salud NANEAS","Control Salud 8 años 6 meses",null,null,null,null,"No",null,null,0,0,0,null,0,45,1.3333333333333333,0,null,null,0,null,0,0]
["Programa Control Salud NANEAS","Control Salud 9 años ",null,null,null,null,"Si",10,1,10,1,10,1,10,60,1,4.5454545454545456E-2,"Enfermero(a)",null,0,null,0,0]
[]
[null,"Programa Mejor Niñez"]
[null,null,null,null,null,null,null,"Resumen Población",null,null,null,null,null,null,"Intervención Profesional",null,null,null,null,null,"Intervención Profesional",null,null,null,null,null,"Intervención Profesional"]
[null,"Actividades / Cartera de Servicios",null,null,null,null,"Se Realiza","Población","Cobertura","Usuarios","Concentración","Total Actividades","Concentración","Total Actividad","Tiempo","Rendimiento","Horas Diarias","Estamento ","Concentración","Total Actividad","Tiempo","Rendimiento","Horas Diarias","Estamento ","Concentración","Total Actividad","Tiempo","Rendimiento","Horas Diarias","Estamento "]
[{"$f":"B$140","v":"Programa Mejor Niñez"},"CONTROL DE SALUD INFANTIL EN POBLACION INFANTIL (Población MEJOR NIÑEZ  entre 0 y 9 años)",null,null,null,null,"Si",43,1,{"$f":"IFERROR((H143*I143),0)","v":43},{"$f":"IFERROR(SUM(M143,S143),0)","v":4},{"$f":"IFERROR(SUM(N143,T143),0)","v":172},2,{"$f":"IFERROR((J143*M143),0)","v":86},40,{"$f":"IFERROR((60/O143),0)","v":1.5},{"$f":"IFERROR(N143/(60/O143)/220,0)","v":0.26060606060606062},"Médico",2,{"$f":"IFERROR((J143*S143),0)","v":86},40,1,{"$f":"IFERROR(T143/(60/U143)/220,0)","v":0.26060606060606062},"Enfermero(a)",2,{"$f":"IFERROR((J143*Y143),0)","v":86},40,1,{"$f":"IFERROR(Z143/(60/AA143)/220,0)","v":0.26060606060606062},"Matrón(a)"]
[{"$f":"B$140","v":"Programa Mejor Niñez"},"CONTROL DE SALUD MENTAL  (Poblacion MEJOR NIÑEZ de NNAJ)",null,null,null,null,"Si",43,1,{"$f":"IFERROR((H144*I144),0)","v":43},{"$f":"IFERROR(SUM(M144,S144),0)","v":5},{"$f":"IFERROR(SUM(N144,T144),0)","v":215},2,{"$f":"IFERROR((J144*M144),0)","v":86},60,{"$f":"IFERROR((60/O144),0)","v":1},{"$f":"IFERROR(N144/(60/O144)/220,0)","v":0.39090909090909093},"Médico",3,{"$f":"IFERROR((J144*S144),0)","v":129},40,{"$f":"IFERROR((60/U144),0)","v":1.5},{"$f":"IFERROR(T144/(60/U144)/220,0)","v":0.39090909090909093},"Psicólogo(a)",2,{"$f":"IFERROR((J144*Y144),0)","v":86},40,{"$f":"IFERROR((60/AA144),0)","v":1.5},{"$f":"IFERROR(Z144/(60/AA144)/220,0)","v":0.26060606060606062},"Asistente Social"]
[]
[null,"Sala Estimulación"]
[null,null,null,null,null,null,null,"Resumen Población",null,null,null,null,null,null,"Intervención Profesional",null,null,null,null,null,"Intervención Profesional"]
[null,"Actividades / Cartera de Servicios",null,null,null,null,"Se Realiza","Población","Cobertura","Usuarios","Concentración","Total Actividades","Concentración","Total Actividad","Tiempo","Rendimiento","Horas Diarias","Estamento ","Concentración","Total Actividad","Tiempo","Rendimiento","Horas Diarias","Estamento "]
[{"$f":"B$146","v":"Sala Estimulación"},"Atención a niños con riesgo biopsicosocial",null,null,null,null,"Si",80,1,{"$f":"IFERROR((H149*I149),0)","v":80},5,{"$f":"IFERROR(SUM(N149,T149),0)","v":480},5,{"$f":"IFERROR((J149*M149),0)","v":400},30,{"$f":"IFERROR((60/O149),0)","v":2},{"$f":"IFERROR(N149/(60/O149)/220,0)","v":0.90909090909090906},"Educador(a) Párvulos",1,{"$f":"IFERROR((J149*S149),0)","v":80},30,{"$f":"IFERROR((60/U149),0)","v":2},{"$f":"IFERROR(T149/(60/U149)/220,0)","v":0.18181818181818182},"Fonoaudiólogo(a)"]
["Sala Estimulación","Atención a niños con riesgo del desarrollo psicomotor",null,null,null,null,"Si",30,1,30,15,450,10,300,30,2,0.68181818181818177,"Educador(a) Párvulos",5,150,30,2,0.34090909090909088,"Fonoaudiólogo(a)"]
["Sala Estimulación","Atención a niños con retraso del desarrollo psicomotor",null,null,null,null,"Si",7,1,7,21,147,16,112,30,2,0.25454545454545452,"Educador(a) Párvulos",5,35,30,2,7.9545454545454544E-2,"Fonoaudiólogo(a)"]
["Sala Estimulación","Atención grupal de estimulación",null,null,null,null,"No",null,null,0,0,0,null,0,null,0,0,null,null,0,null,0,0]
["Sala Estimulación","Visita domiciliaria de estimulación",null,null,null,null,"No",null,null,0,0,0,null,0,null,0,0,null,null,0,null,0,0]
["Sala Estimulación","Otras actividades",null,null,null,null,"No",null,null,0,0,0,null,0,null,0,0,null,null,0,null,0,0]
[]
[null,"Consultas"]
[null,null,null,null,null,null,null,"Resumen Población",null,null,null,null,null,null,"Intervención Profesional",null,null,null,null,null,"Intervención Profesional"]
[null,"Actividades / Cartera de Servicios",null,null,null,null,"Se Realiza","Población","Cobertura","Usuarios","Concentración","Total Actividades","Concentración","Total Actividad","Tiempo","Rendimiento","Horas Diarias","Estamento ","Concentración","Total Actividad","Tiempo","Rendimiento","Horas Diarias","Estamento "]
[{"$f":"B$156","v":"Consultas"},"Consulta Lactancia Materna de alerta",null,null,null,null,"Si",50,1,{"$f":"IFERROR((H159*I159),0)","v":50},{"$f":"IFERROR(SUM(M159,S159),0)","v":1},{"$f":"IFERROR(SUM(N159,T159),0)","v":50},0.8,{"$f":"IFERROR((J159*M159),0)","v":40},45,{"$f":"IFERROR((60/O159),0)","v":1.3333333333333333},{"$f":"IFERROR(N159/(60/O159)/220,0)","v":0.13636363636363635},"Nutricionista",0.2,{"$f":"IFERROR((J159*S159),0)","v":10},45,{"$f":"IFERROR((60/U159),0)","v":1.3333333333333333},{"$f":"IFERROR(T159/(60/U159)/220,0)","v":3.4090909090909088E-2},"Matrón(a)"]
[{"$f":"B$156","v":"Consultas"},"Consulta Lactancia Materna de Segumiento",null,null,null,null,"Si",50,1,50,0.8,40,0.8,{"$f":"IFERROR((J160*M160),0)","v":40},45,1.3333333333333333,0.13636363636363635,"Nutricionista"]
["Consultas","Consulta Nutricional NANEAS",null,null,null,null,"Si",10,1,10,3,30,3,30,60,1,0.13636363636363635,"Nutricionista",null,0,null,0,0]
["Consultas","Consulta nutricional niño o niña con RD",null,null,null,null,"Si",42,1,42,4,168,3,126,30,2,0.28636363636363638,"Nutricionista",1,42,30,2,9.5454545454545459E-2,"Médico"]
["Consultas","Consulta a niño o niña con Dn",null,null,null,null,"Si",7,1,7,4,28,3,21,30,2,4.7727272727272729E-2,"Nutricionista",1,7,30,2,1.5909090909090907E-2,"Médico"]
["Consultas","Consulta a niño o niña con malnutricion por exceso",null,null,null,null,"Si",240,0.8,192,4,768,3,576,30,2,1.3090909090909091,"Nutricionista",1,192,30,2,0.43636363636363634,"Médico"]
["Consultas","Otras Consultas Nutricionales por otros motivos",null,null,null,null,"Si",10,1,10,4,40,3,30,30,2,6.8181818181818177E-2,"Nutricionista",1,10,30,2,2.2727272727272728E-2,"Médico"]
["Consultas","Ev. Nutricional Jardines Infantiles",null,null,null,null,"No",null,null,0,0,0,null,0,null,0,0,null,null,0,null,0,0]
["Consultas","Consulta Social Prematuros",null,null,null,null,"No",null,null,0,0,0,null,0,null,0,0,null,null,0,null,0,0]
["Consultas","Consulta Social Niños c/ Rezago ",null,null,null,null,"No",null,null,0,0,0,null,0,null,0,0,null,null,0,null,0,0]
["Consultas","Consulta Social Niños c/ Déficit DSM",null,null,null,null,"No",null,null,0,0,0,null,0,null,0,0,null,null,0,null,0,0]
["Consultas","Consulta Social niños con Epilepsia 0 - 9 años",null,null,null,null,"No",null,null,0,0,0,null,0,null,0,0,null,null,0,null,0,0]
["Consultas","Consulta Social Mal Nutrición por Exceso",null,null,null,null,"No",null,null,0,0,0,null,0,null,0,0,null,null,0,null,0,0]
["Consultas","Consulta Social Mal Nutrición por Déficit",null,null,null,null,"No",null,null,0,0,0,null,0,null,0,0,null,null,0,null,0,0]
["Consultas","Consulta Social por otros riesgos",null,null,null,null,"Si",10,0.8,8,1,8,1,8,30,2,1.8181818181818181E-2,"Asistente Social",null,0,null,0,0]
["Consultas","Consulta Social NANEAS",null,null,null,null,"Si",10,0.8,8,1,8,1,8,60,1,3.6363636363636362E-2,"Asistente Social",null,0,null,0,0]
["Consultas","Atención Domiciliaria niños Postrados (Medico)",null,null,null,null,"No",null,null,0,0,0,null,0,null,0,0,null,null,0,null,0,0]
["Consultas","Reevaluación DSM < 12 meses",null,null,null,null,"Si",20,1,20,1,20,1,20,30,2,4.5454545454545456E-2,"Enfermera(o)",null,0,null,0,0]
["Consultas","Reevaluación DSM 12 - 23 meses",null,null,null,null,"Si",20,1,20,1,20,1,20,30,2,4.5454545454545456E-2,"Enfermera(o)",null,0,null,0,0]
["Consultas","Reevaluación DSM 2 - 5 años",null,null,null,null,"Si",30,1,{"$f":"IFERROR((H178*I178),0)","v":30},1,30,1,{"$f":"IFERROR((J178*M178),0)","v":30},30,2,6.8181818181818177E-2,"Enfermera(o)",null,0,null,0,0]
["Consultas","Aplicación de (MCHAT) 16 a 30 meses",null,null,null,null,"Si",20,1,{"$f":"IFERROR((H179*I179),0)","v":20},1,20,1,{"$f":"IFERROR((J179*M179),0)","v":20},30,2,4.5454545454545456E-2,"Enfermera(o)",null,0,null,0,0]
["Consultas","Aplicación de Entrevista de Seguimiento (MCHAT)",null,null,null,null,"Si",10,1,10,1,10,1,10,30,2,2.2727272727272728E-2,"Enfermera(o)",null,0,null,0,0]
[]
[null,"Consulta Morbilidad Infantil"]
[null,null,null,null,null,null,null,"Resumen Población",null,null,null,null,null,null,"Intervención Profesional"]
[null,"Actividades / Cartera de Servicios",null,null,null,null,"Se Realiza","Población","Cobertura","Usuarios","Concentración","Total Actividades","Concentración","Total Actividad","Tiempo","Rendimiento","Horas Diarias","Estamento "]
[{"$f":"B$182","v":"Consulta Morbilidad Infantil"},"Población de 0 a 9 años",null,null,null,null,"Si",1715,1,{"$f":"IFERROR((H185*I185),0)","v":1715},{"$f":"IFERROR(SUM(M185,S185),0)","v":2.2000000000000002},{"$f":"IFERROR(SUM(N185,T185),0)","v":3773.0000000000005},2.2000000000000002,{"$f":"IFERROR((J185*M185),0)","v":3773.0000000000005},20,{"$f":"IFERROR((60/O185),0)","v":3},{"$f":"IFERROR(N185/(60/O185)/220,0)","v":5.7166666666666668},"Médico"]
[]
[null,"Controles Crónicos"]
[null,null,null,null,null,null,null,"Resumen Población",null,null,null,null,null,null,"Intervención Profesional",null,null,null,null,null,"Intervención Profesional"]
[null,"Actividades / Cartera de Servicios",null,null,null,null,"Se Realiza","Población","Cobertura","Usuarios","Concentración","Total Actividades","Concentración","Total Actividad","Tiempo","Rendimiento","Horas Diarias","Estamento ","Concentración","Total Actividad","Tiempo","Rendimiento","Horas Diarias","Estamento "]
[{"$f":"B$187","v":"Controles Crónicos"},"Ingreso  Epilepsia (se controlan como naneas)",null,null,null,null,"No",null,null,{"$f":"IFERROR((H190*I190),0)","v":0},{"$f":"IFERROR(SUM(M190,S190),0)","v":0},{"$f":"IFERROR(SUM(N190,T190),0)","v":0},null,{"$f":"IFERROR((J190*M190),0)","v":0},null,{"$f":"IFERROR((60/O190),0)","v":0},{"$f":"IFERROR(N190/(60/O190)/220,0)","v":0},null,null,{"$f":"IFERROR((J190*S190),0)","v":0},null,{"$f":"IFERROR((60/U190),0)","v":0},{"$f":"IFERROR(T190/(60/U190)/220,0)","v":0}]
[]
[null,"Programa Salud Mental Infantil"]
[null,null,null,null,null,null,null,"Resumen Población",null,null,null,null,null,null,"Intervención Profesional",null,null,null,null,null,"Intervención Profesional",null,null,null,null,null,"Intervención Profesional",null,null,null,null,null,"Intervención Profesional"]
[null,"Actividades / Cartera de Servicios",null,null,null,null,"Se Realiza","Población","Cobertura","Usuarios","Concentración","Total Actividades","Concentración","Total Actividad","Tiempo","Rendimiento","Horas Diarias","Estamento ","Concentración","Total Actividad","Tiempo","Rendimiento","Horas Diarias","Estamento ","Concentración","Total Actividad","Tiempo","Rendimiento","Horas Diarias","Estamento ","Concentración","Total Actividad","Tiempo","Rendimiento","Horas Diarias","Estamento "]
[{"$f":"B$192","v":"Programa Salud Mental Infantil"},"Ingreso a Salud Mental Médico (Ges OH/D, EQZ, Violencia, Depresión, Trastornos Ansiosos, Trastornos de la Infancia y Adolescencia, Demencia, otros Trastornos de Salud Mental)",null,null,null,null,"Si",30,1,{"$f":"IFERROR((H195*I195),0)","v":30},{"$f":"IFERROR(SUM(M195,S195),0)","v":1},30,1,{"$f":"IFERROR((J195*M195),0)","v":30},45,{"$f":"IFERROR((60/O195),0)","v":1.3333333333333333},{"$f":"IFERROR(N195/(60/O195)/220,0)","v":0.10227272727272728},"Médico",null,{"$f":"IFERROR((J195*S195),0)","v":0},null,{"$f":"IFERROR((60/U195),0)","v":0},{"$f":"IFERROR(T195/(60/U195)/220,0)","v":0},null,null,{"$f":"IFERROR((J195*Y195),0)","v":0},null,{"$f":"IFERROR((60/AA195),0)","v":0},{"$f":"IFERROR(Z195/(60/AA195)/220,0)","v":0},null,null,{"$f":"IFERROR((J195*AE195),0)","v":0},null,{"$f":"IFERROR((60/AG195),0)","v":0},{"$f":"IFERROR(AF195/(60/AG195)/220,0)","v":0}]
[{"$f":"B$192","v":"Programa Salud Mental Infantil"},"Control de Salud Mental Medico  (Ges OH/D, EQZ, Violencia, Depresión, Trastornos Ansiosos, Trastornos de la Infancia y Adolescencia, Demencia, otros Trastornos de Salud Mental)",null,null,null,null,"Si",30,1,{"$f":"IFERROR((H196*I196),0)","v":30},4,120,4,{"$f":"IFERROR((J196*M196),0)","v":120},30,{"$f":"IFERROR((60/O196),0)","v":2},0.27272727272727271,"Médico",null,{"$f":"IFERROR((J196*S196),0)","v":0},null,{"$f":"IFERROR((60/U196),0)","v":0},{"$f":"IFERROR(T196/(60/U196)/220,0)","v":0},null,null,{"$f":"IFERROR((J196*Y196),0)","v":0},null,{"$f":"IFERROR((60/AA196),0)","v":0},{"$f":"IFERROR(Z196/(60/AA196)/220,0)","v":0},null,null,{"$f":"IFERROR((J196*AE196),0)","v":0},null,{"$f":"IFERROR((60/AG196),0)","v":0},{"$f":"IFERROR(AF196/(60/AG196)/220,0)","v":0}]
["Programa Salud Mental Infantil","Ingreso a Salud Mental otros profesionales (Ges OH/D, EQZ, Violencia, Depresión, Trastornos Ansiosos, Trastornos de la Infancia y Adolescencia, Demencia, otros Trastornos de Salud Mental)",null,null,null,null,"Si",30,1,{"$f":"IFERROR((H197*I197),0)","v":30},1,30,1,30,40,1.5,9.0909090909090912E-2,"Psicólogo(a)",null,{"$f":"IFERROR((J197*S197),0)","v":0},null,0,{"$f":"IFERROR(T197/(60/U197)/220,0)","v":0},null,null,{"$f":"IFERROR((J197*Y197),0)","v":0},null,0,{"$f":"IFERROR(Z197/(60/AA197)/220,0)","v":0},null,null,{"$f":"IFERROR((J197*AE197),0)","v":0},null,0,{"$f":"IFERROR(AF197/(60/AG197)/220,0)","v":0}]
["Programa Salud Mental Infantil","Control de Salud Mental otros profesionales   (Ges OH/D, EQZ, Violencia, Depresión, Trastornos Ansiosos, Trastornos de la Infancia y Adolescencia, Demencia, otros Trastornos de Salud Mental)",null,null,null,null,"Si",30,1,30,8,240,7,210,40,1.5,0.63636363636363635,"Psicólogo(a)",1,{"$f":"IFERROR((J198*S198),0)","v":30},30,2,{"$f":"IFERROR(T198/(60/U198)/220,0)","v":6.8181818181818177E-2},"Asistente Social",null,{"$f":"IFERROR((J198*Y198),0)","v":0},null,0,{"$f":"IFERROR(Z198/(60/AA198)/220,0)","v":0},null,null,{"$f":"IFERROR((J198*AE198),0)","v":0},null,0,0]
["Programa Salud Mental Infantil","Aplicación Pauta Evaluación Salud Mental (Ingreso Programa) + Elaboración de PCI",null,null,null,null,"Si",30,1,30,1,30,1,30,45,1.3333333333333333,0.10227272727272728,"Médico",null,{"$f":"IFERROR((J199*S199),0)","v":0},null,0,{"$f":"IFERROR(T199/(60/U199)/220,0)","v":0},null,null,null,null,0,null,null,null,{"$f":"IFERROR((J199*AE199),0)","v":0},null,0,0]
["Programa Salud Mental Infantil","Aplicación Pauta Evaluación Salud Mental (Egreso Programa)",null,null,null,null,"Si",30,1,30,1,30,1,30,45,1.3333333333333333,0.10227272727272728,"Médico",null,0,null,0,0,null,null,null,null,0,null,null,null,0,null,0,0]
["Programa Salud Mental Infantil","Otras Consultas de Salud Mental Médico",null,null,null,null,"Si",15,1,15,1,15,1,15,20,3,2.2727272727272728E-2,"Médico",null,0,null,0,0,null,null,{"$f":"IFERROR((J201*Y201),0)","v":0},null,0,{"$f":"IFERROR(Z201/(60/AA201)/220,0)","v":0},null,null,0,null,0,0]
["Programa Salud Mental Infantil","Otras Consultas de Salud Mental otros Profesionales",null,null,null,null,"Si",25,1,25,4,100,2,50,45,1.3333333333333333,0.17045454545454544,"Psicólogo(a)",2,50,45,1.3333333333333333,0.17045454545454544,"Asistente Social",null,0,null,0,0,null,null,0,null,0,0]
["Programa Salud Mental Infantil","Intervención Psicosocial individual (Depresión, VIF, OH-drogas, Demencia, Ansiedad y otros)  ",null,null,null,null,"No",null,null,0,0,0,null,0,null,0,0,null,null,0,null,0,0,null,null,0,null,0,0,null,null,0,null,0,0]
["Programa Salud Mental Infantil","Administración e Interpretación pruebas Psicológicas",null,null,null,null,"Si",15,1,15,1,15,1,15,45,1.3333333333333333,5.113636363636364E-2,"Psicólogo(a)",null,0,null,0,0,null,null,0,null,0,0,null,null,0,null,0,0]
["Programa Salud Mental Infantil","Consultoría Salud Mental ",null,null,null,null,"Si",3,1,3,2,6,1,3,240,0.25,5.4545454545454543E-2,"Psicólogo(a)",1,3,240,0.25,5.4545454545454543E-2,"Asistente Social",1,3,240,0.25,5.4545454545454543E-2,"Médico",null,0,null,0,0]
["Programa Salud Mental Infantil","Intervención Psicosocial Grupal (Depresión, VIF, OH-drogas, Demencia, Ansiedad y otros) ",null,null,null,null,"No",null,null,0,0,0,null,0,null,0,0,null,null,0,null,0,0,null,null,0,null,0,0,null,null,0,null,0,0]
["Programa Salud Mental Infantil","Intervenciones comunitarias con organizaciones de padres y apoderados y con profesores de establecimientos educacionales",null,null,null,null,"Si",3,1,3,2,6,1,3,120,0.5,2.7272727272727271E-2,"Asistente Social",1,3,120,0.5,2.7272727272727271E-2,"Médico",1,3,120,0.5,2.7272727272727271E-2,"Psicólogo(a)",null,0,null,0,0]
["Programa Salud Mental Infantil","Agrupaciones de Autoayuda (Apoyo Técnico)",null,null,null,null,"No",null,null,0,0,0,null,0,null,0,0,null,null,0,null,0,0,null,null,0,null,0,0,null,null,0,null,0,0]
[]
[null,"Programa Odontológico Infantil"]
[null,null,null,null,null,null,null,"Resumen Población",null,null,null,null,null,null,"Intervención Profesional",null,null,null,null,null,"Intervención Profesional"]
[null,"Actividades / Cartera de Servicios",null,null,null,null,"Se Realiza","Población","Cobertura","Usuarios","Concentración","Total Actividades","Concentración","Total Actividad","Tiempo","Rendimiento","Horas Diarias","Estamento ","Concentración","Total Actividad","Tiempo","Rendimiento","Horas Diarias","Estamento "]
[{"$f":"B$210","v":"Programa Odontológico Infantil"},"Examen de Salud Odontológico Ingreso a CERO (desde 6 meses)",null,null,null,null,"Si",1698,0.39,{"$f":"IFERROR((H213*I213),0)","v":662.22},{"$f":"IFERROR(AVERAGE(M213,S213),0)","v":1},662.22,1,{"$f":"IFERROR((J213*M213),0)","v":662.22},30,{"$f":"IFERROR((60/O213),0)","v":2},{"$f":"IFERROR(N213/(60/O213)/220,0)","v":1.5050454545454546},"Odontólogo",1,{"$f":"IFERROR((J213*S213),0)","v":662.22},30,{"$f":"IFERROR((60/U213),0)","v":2},{"$f":"IFERROR(T213/(60/U213)/220,0)","v":1.5050454545454546},"TONS"]
[{"$f":"B$210","v":"Programa Odontológico Infantil"},"Controles CERO Riesgo BAJO",null,null,null,null,"Si",662,0.35,{"$f":"IFERROR((H214*I214),0)","v":231.7},2,463.4,2,{"$f":"IFERROR((J214*M214),0)","v":463.4},30,2,1.0531818181818182,"Odontólogo",2,463.4,30,2,1.0531818181818182,"TONS"]
["Programa Odontológico Infantil","Controles CERO Riesgo ALTO",null,null,null,null,"Si",662,0.65,{"$f":"IFERROR((H215*I215),0)","v":430.3},3,1290.9000000000001,3,1290.9000000000001,30,2,2.9338636363636366,"Odontólogo",3,1290.9000000000001,30,2,2.9338636363636366,"TONS"]
["Programa Odontológico Infantil","Educación grupal <20 años (0 a 9 años)",null,null,null,null,"No",null,null,0,0,0,null,0,null,0,0,null,null,0,null,0,0]
["Programa Odontológico Infantil","Morbilidad Odontológica 6 años",null,null,null,null,"Si",177,0.4,70.8,3,212.39999999999998,3,212.39999999999998,30,2,0.48272727272727267,"Odontólogo",3,212.39999999999998,30,2,0.48272727272727267,"TONS"]
["Programa Odontológico Infantil","Morbilidad Odontológica / Tratamiento (Excluir Pobl. 6 años)",null,null,null,null,"Si",1516,0.65,985.4,3,2956.2,3,2956.2,30,2,6.7186363636363629,"Odontólogo",3,2956.2,30,2,6.7186363636363629,"TONS"]
["Programa Odontológico Infantil","Morbilidad Odontológica a usuario situación discapacidad ",null,null,null,null,"Si",10,0.5,5,2,10,2,10,60,1,4.5454545454545456E-2,"Odontólogo",2,10,60,1,4.5454545454545456E-2,"TONS"]
["Programa Odontológico Infantil","Urgencias Odontológicas ",null,null,null,null,"Si",1698,2.5000000000000001E-2,42.45,1,42.45,1,42.45,30,2,9.6477272727272731E-2,"Odontólogo",1,42.45,30,2,9.6477272727272731E-2,"TONS"]
["Programa Odontológico Infantil","Radiografías Odontológicas (Periapical y BW)",null,null,null,null,"Si",1698,0.11,186.78,{"$f":"IFERROR(SUM(M221,S221),0)","v":1},{"$f":"IFERROR(SUM(N221,T221),0)","v":186.78},1,186.78,20,3,0.28299999999999997,"TONS",null,0,null,0,0]

{"sheet":"Adolescente","index":6,"n_rows":154,"n_cols":36,"rows_kept":154,"cut":false,"hidden":false,"merged":[[134,1,134,5],[135,1,135,5],[136,1,136,5],[137,1,137,5],[125,6,125,11],[126,1,126,5],[127,1,127,5],[128,1,128,5],[129,1,129,5],[130,1,130,5],[131,1,131,5],[132,1,132,5],[133,1,133,5],[121,1,121,5],[122,1,122,5],[112,1,112,5],[113,1,113,5],[114,1,114,5],[115,1,115,5],[116,1,116,5],[117,1,117,5],[118,1,118,5],[119,1,119,5],[120,1,120,5],[2,14,2,15],[2,16,2,17],[8,5,8,9],[9,5,9,9],[9,14,9,15],[8,14,8,15],[11,0,11,4],[5,14,5,15],[5,17,5,18],[6,5,6,6],[6,7,6,9],[6,14,6,15],[7,14,7,15],[3,0,8,1],[3,2,8,3],[3,14,3,15],[3,17,3,19],[16,1,16,3],[16,8,16,9],[17,21,17,22],[17,1,17,3],[17,8,17,9],[20,1,20,3],[20,8,20,9],[21,21,21,22],[21,1,21,3],[21,8,21,9],[18,1,18,3],[18,8,18,9],[19,21,19,22],[19,1,19,3],[19,8,19,9],[20,21,20,22],[18,21,18,22],[12,10,12,18],[14,21,14,22],[14,23,14,24],[14,4,15,4],[14,5,15,5],[14,6,15,6],[16,21,16,22],[15,21,15,22],[4,5,4,6],[4,7,4,9],[4,14,4,15],[4,17,4,18],[5,5,5,6],[5,7,5,9],[28,21,28,22],[26,21,26,22],[22,1,22,3],[22,8,22,9],[23,21,23,22],[23,1,23,3],[23,8,23,9],[24,21,24,22],[28,1,28,3],[28,8,28,9],[24,1,24,3],[24,8,24,9],[25,21,25,22],[25,1,25,3],[25,8,25,9],[22,21,22,22],[26,1,26,3],[26,8,26,9],[27,21,27,22],[27,1,27,3],[27,8,27,9],[30,1,30,3],[30,8,30,9],[31,21,31,22],[31,1,31,3],[31,8,31,9],[32,21,32,22],[42,7,42,11],[29,21,29,22],[29,1,29,3],[29,8,29,9],[30,21,30,22],[47,7,47,11],[37,7,37,11],[48,1,48,4],[49,1,49,5],[50,1,50,5],[51,1,51,5],[52,1,52,5],[32,1,32,3],[32,8,32,9],[54,1,54,5],[53,1,53,5],[38,1,38,5],[39,1,39,5],[63,1,63,5],[64,1,64,5],[65,1,65,5],[66,1,66,5],[68,1,68,5],[43,1,43,5],[44,1,44,5],[69,1,69,5],[55,1,55,5],[58,7,58,11],[59,1,59,4],[60,1,60,5],[61,1,61,5],[62,1,62,5],[67,1,67,5],[76,1,76,5],[77,1,77,5],[78,1,78,5],[79,1,79,5],[80,1,80,5],[81,1,81,5],[70,1,70,5],[71,1,71,5],[72,1,72,5],[73,1,73,5],[74,1,74,5],[75,1,75,5],[92,1,92,5],[93,1,93,5],[94,1,94,5],[97,7,97,11],[98,1,98,5],[99,1,99,5],[143,1,143,5],[144,1,144,5],[84,7,84,11],[85,1,85,4],[86,1,86,5],[87,1,87,5],[90,7,90,11],[91,1,91,5],[102,7,102,11],[103,1,103,5],[104,1,104,5],[105,1,105,5],[106,1,106,5],[107,1,107,5],[108,1,108,5],[109,1,109,5],[110,1,110,5],[111,1,111,5],[148,1,148,5],[149,1,149,5],[150,1,150,5],[151,1,151,5],[152,1,152,5],[153,1,153,5],[140,7,140,11],[141,1,141,5],[142,1,142,5],[145,1,145,5],[146,1,146,5],[147,1,147,5]]}
[]
[]
[]
[null,null,null,null,null,null,null,null,null,null,null,null,null,null,"Grupo Etareo",null,"Usuarios"]
[null,null,null,null,null,"Establecimiento",null,{"$f":"Percapita!$G$6","v":"DEPARTAMENTO DE SALUD MUNICIPAL"},null,null,null,null,null,null,"Población 10 a 14 años",null,{"$f":"Resumen_Poblacion!N14","v":1125}]
[null,null,null,null,null,"Comuna",null,{"$f":"Percapita!$G$7","v":"CALLE LARGA"},null,null,null,null,null,null,"Población 15 a 19 años",null,{"$f":"Resumen_Poblacion!N15","v":994}]
[null,null,null,null,null,"Fecha de Programación",null,{"$f":"Balance_Horas!$G$7","v":"2023-10-12"},null,null,null,null,null,null,"Embarazadas "]
[null,null,null,null,null,null,null,null,null,null,null,null,null,null,"Puerperas - RN"]
[null,null,null,null,null,"PROGRAMACION APS CICLO VITAL",null,null,null,null,null,null,null,null,"Total Poblac. de 10 a 19 ",null,{"$f":"SUM(Resumen_Poblacion!N14:N15)","v":2119}]
[null,null,null,null,null,"SALUD DE LAS Y LOS ADOLESCENTES"]
[]
["Resumen Horas Programadas"]
[null,null,null,null,null,null,null,null,null,null,"Sectorizacion de Poblacion Percapitada",null,null,null,null,null,null,null,null,"Total"]
[null,null,null,null,null,null,null,null,null,"% Poblacion x Sector",0.4,0.5,0.1,null,null,null,null,null,null,{"$f":"SUM(K14:S14)","v":1}]
[null,null,null,null,"Total Horas Ciclo","Horas Contratadas","% uso de horas",null,null,"Total Poblacion",{"$f":"IFERROR($Q$9*K14,0)","v":847.6},1059.5,211.9,0,0,0,0,0,0,{"$f":"SUM(K15:S15)","v":2119},null,"Tipo de Programa y/o Estrategia",null,"Programa Salud Sexual y Reproductiva"]
[null,null,null,null,null,null,null,null,null,null,"Sector A","Sector B","Posta",null,null,null,null,null,null,"TOTAL",null,"Profesionales",null,"Horas Programadas","%"]
[null,"Médico",null,null,{"$f":"SUMIFS(AI$40:AI$154,AJ$40:AJ$154,B17,G$40:G$154,\"Si\")+SUMIFS(Q$40:Q$154,R$40:R$154,B17,G$40:G$154,\"Si\")+SUMIFS(W$40:W$154,X$40:X$154,B17,G$40:G$154,\"Si\")+SUMIFS(AC$40:AC$154,AD$40:AD$154,B17,G$40:G$154,\"Si\")","v":5.4077867424242436},{"$f":"Balance_Horas!$G$30","v":74.8},{"$f":"IFERROR(E17/F17,0)","v":7.2296614203532672E-2},null,"Médico",null,{"$f":"IF(K$14<>\"\",$E17*K$14,\"\")","v":2.1631146969696977},2.7038933712121218,0.54077867424242443,"","","","","","",{"$f":"SUM(K17:S17)","v":5.4077867424242436},null,"Médico",null,{"$f":"SUMIFS(AI$40:AI$154,AJ$40:AJ$154,B17,G$40:G$154,\"Si\",A$40:A$154,X$15)+SUMIFS(Q$40:Q$154,R$40:R$154,B17,G$40:G$154,\"Si\",A$40:A$154,X$15)+SUMIFS(W$40:W$154,X$40:X$154,B17,G$40:G$154,\"Si\",A$40:A$154,X$15)+SUMIFS(AC$40:AC$154,AD$40:AD$154,B17,G$40:G$154,\"Si\",A$40:A$154,X$15)","v":3.7727272727272727E-2},{"$f":"IFERROR(X17/X$34,0%)","v":1.011535773328239E-2}]
[null,"Odontólogo",null,null,7.1013068181818184,{"$f":"Balance_Horas!$I$30","v":30},{"$f":"IFERROR(E18/F18,0)","v":0.23671022727272728},null,"Odontólogo",null,2.8405227272727274,3.5506534090909092,0.71013068181818184,"","","","","","",{"$f":"SUM(K18:S18)","v":7.1013068181818184},null,"Odontólogo",null,0,0]
[null,"Químico Farmacéutico",null,null,0,{"$f":"Balance_Horas!$K$30","v":8.8000000000000007},0,null,"Químico Farmacéutico",null,0,0,0,"","","","","","",0,null,"Químico Farmacéutico",null,0,0]
[null,"Matrón(a)",null,null,4.3227022727272733,{"$f":"Balance_Horas!$M$30","v":19.8},0.21831829660238752,null,"Matrón(a)",null,1.7290809090909094,2.1613511363636366,0.43227022727272735,"","","","","","",4.3227022727272733,null,"Matrón(a)",null,3.3348386363636369,0.89412998478430827]
[null,"Enfermero(a)",null,null,0.62450000000000006,{"$f":"Balance_Horas!$O$30","v":51},1.2245098039215687E-2,null,"Enfermero(a)",null,0.24980000000000002,0.31225000000000003,6.2450000000000006E-2,"","","","","","",0.62450000000000006,null,"Enfermero(a)",null,0.28895454545454546,7.7473890494549585E-2]
[null,"Nutricionista",null,null,0.63477272727272727,{"$f":"Balance_Horas!$Q$30","v":26.4},2.4044421487603308E-2,null,"Nutricionista",null,0.25390909090909092,0.31738636363636363,6.3477272727272729E-2,"","","","","","",0.63477272727272727,null,"Nutricionista",null,3.4090909090909088E-2,9.1403834939298694E-3]
[null,"Asistente Social",null,null,0.79409090909090918,{"$f":"Balance_Horas!$S$30","v":35.200000000000003},2.2559400826446283E-2,null,"Asistente Social",null,0.31763636363636372,0.39704545454545459,7.9409090909090929E-2,"","","","","","",0.79409090909090918,null,"Asistente Social",null,3.4090909090909088E-2,9.1403834939298694E-3]
[null,"Psicólogo(a)",null,null,3.9939583333333339,{"$f":"Balance_Horas!$U$30","v":20.8},0.19201722756410258,null,"Psicólogo(a)",null,1.5975833333333336,1.996979166666667,0.39939583333333339,"","","","","","",3.9939583333333335,null,"Psicólogo(a)",null,0,0]
[null,"Fonoaudiólogo(a)",null,null,0,{"$f":"Balance_Horas!$W$30","v":4.4000000000000004},0,null,"Fonoaudiólogo(a)",null,0,0,0,"","","","","","",0,null,"Fonoaudiólogo(a)",null,0,0]
[null,"Kinesiólogo(a)",null,null,0,{"$f":"Balance_Horas!$Y$30","v":47},0,null,"Kinesiólogo(a)",null,0,0,0,"","","","","","",0,null,"Kinesiólogo(a)",null,0,0]
[null,"Terapeuta Ocupacional ",null,null,0,{"$f":"Balance_Horas!$AA$30","v":8.8000000000000007},0,null,"Terapeuta Ocupacional ",null,{"$f":"IF(K$14<>\"\",$E27*K$14,\"\")","v":0},0,0,"","","","","","",0,null,"Terapeuta Ocupacional ",null,0,0]
[null,"Tereapeuta Complementario",null,null,0,{"$f":"Balance_Horas!$AC$30","v":0},0,null,"Tereapeuta Complementario",null,0,0,0,"","","","","","",0,null,"Tereapeuta Complementario",null,0,0]
[null,"Prof. Educación Física",null,null,0,{"$f":"Balance_Horas!$AE$30","v":8.8000000000000007},0,null,"Prof. Educación Física",null,0,0,0,"","","","","","",0,null,"Prof. Educación Física",null,0,0]
[null,"Educador(a) Párvulos",null,null,0,{"$f":"Balance_Horas!$AG$30","v":8.8000000000000007},0,null,"Educador(a) Párvulos",null,0,0,0,"","","","","","",0,null,"Educador(a) Párvulos",null,0,0]
[null,"Podólogo(a)",null,null,6.8181818181818179E-3,{"$f":"Balance_Horas!$AI$30","v":15.4},4.4273907910271542E-4,null,"Podólogo(a)",null,2.7272727272727275E-3,3.4090909090909089E-3,6.8181818181818187E-4,"","","","","","",6.8181818181818179E-3,null,"Podólogo(a)",null,0,0]
[null,"TENS",null,null,0,{"$f":"Balance_Horas!$AK$30","v":176},0,null,"TENS",null,0,0,0,"","","","","","",0,null,"TENS",null,0,0]
[null,"TONS",null,null,8.0605189393939387,{"$f":"Balance_Horas!$AM$30","v":35.200000000000003},0.22899201532369143,null,"TONS",null,3.2242075757575757,4.0302594696969694,0.80605189393939392,"","","","","","",8.0605189393939387,null,"TONS",null,0,0]
[null,null,null,"TOTAL",{"$f":"SUM(E17:E33)","v":30.946454924242424},{"$f":"SUM(F17:F33)","v":571.20000000000005},5.4177967304345979E-2,null,null,"TOTAL",{"$f":"SUM(K17:K33)","v":12.37858196969697},15.473227462121212,3.0946454924242426,0,0,0,0,0,0,null,null,null,"TOTAL",{"$f":"SUM(X17:X33)","v":3.7297022727272733},{"$f":"SUM(Y17:Y33)","v":1}]
[]
[]
[null,"Medicina Preventiva"]
[null,null,null,null,null,null,null,"Resumen Población",null,null,null,null,null,null,"Intervención Profesional",null,null,null,null,null,"Intervención Profesional"]
[null,"Actividades / Cartera de Servicios",null,null,null,null,"Se Realiza","Población","Cobertura","Usuarios","Concentración","Total Actividades","Concentración","Total Actividad","Tiempo","Rendimiento","Horas Diarias","Estamento ","Concentración","Total Actividad","Tiempo","Rendimiento","Horas Diarias","Estamento "]
[{"$f":"B$37","v":"Medicina Preventiva"},"Control de Salud Integral (Ficha Clap)",null,null,null,null,"Si",2119,0.2,{"$f":"IFERROR((H40*I40),0)","v":423.8},1,{"$f":"IFERROR(SUM(N40,T40),0)","v":423.79999999999995},0.7,{"$f":"IFERROR((J40*M40),0)","v":296.65999999999997},30,{"$f":"IFERROR((60/O40),0)","v":2},{"$f":"IFERROR(N40/(60/O40)/220,0)","v":0.67422727272727268},"Matrón(a)",0.3,{"$f":"IFERROR((J40*S40),0)","v":127.14},30,{"$f":"IFERROR((60/U40),0)","v":2},{"$f":"IFERROR(T40/(60/U40)/220,0)","v":0.28895454545454546},"Enfermero(a)"]
[]
[null,"Evaluación Nutricional al Octavo Mes Post Parto"]
[null,null,null,null,null,null,null,"Resumen Población",null,null,null,null,null,null,"Intervención Profesional",null,null,null,null,null,"Intervención Profesional"]
[null,"Actividades / Cartera de Servicios",null,null,null,null,"Se Realiza","Población","Cobertura","Usuarios","Concentración","Total Actividades","Concentración","Total Actividad","Tiempo","Rendimiento","Horas Diarias","Estamento ","Concentración","Total Actividad","Tiempo","Rendimiento","Horas Diarias","Estamento "]
[{"$f":"B$42","v":"Evaluación Nutricional al Octavo Mes Post Parto"},"Evaluacion del  Estado Nutricional a Mujeres Controladas al  Octavo Mes Post Parto",null,null,null,null,"Si",6,0.6,{"$f":"IFERROR((H45*I45),0)","v":3.5999999999999996},{"$f":"IFERROR(SUM(M45,S45),0)","v":1},{"$f":"IFERROR(SUM(N45,T45),0)","v":3.5999999999999996},1,{"$f":"IFERROR((J45*M45),0)","v":3.5999999999999996},30,{"$f":"IFERROR((60/O45),0)","v":2},{"$f":"IFERROR(N45/(60/O45)/220,0)","v":8.1818181818181807E-3},"Enfermero(a)",0,{"$f":"IFERROR((J45*S45),0)","v":0},0,{"$f":"IFERROR((60/U45),0)","v":0},{"$f":"IFERROR(T45/(60/U45)/220,0)","v":0}]
[]
[null,"Otros Controles Crónicos"]
[null,null,null,null,null,null,null,"Resumen Población",null,null,null,null,null,null,"Intervención Profesional",null,null,null,null,null,"Intervención Profesional"]
[null,"Actividades / Cartera de Servicios",null,null,null,null,"Se Realiza","Población","Cobertura","Usuarios","Concentración","Total Actividades","Concentración","Total Actividad","Tiempo","Rendimiento","Horas Diarias","Estamento ","Concentración","Total Actividad","Tiempo","Rendimiento","Horas Diarias","Estamento "]
[{"$f":"B$47","v":"Otros Controles Crónicos"},"Epilepsia - Ingreso",null,null,null,null,"Si",2119,5.0000000000000001E-4,{"$f":"IFERROR((H50*I50),0)","v":1.0595000000000001},1,{"$f":"IFERROR(SUM(N50,T50),0)","v":1.0595000000000001},1,{"$f":"IFERROR((J50*M50),0)","v":1.0595000000000001},30,2,{"$f":"IFERROR(N50/(60/O50)/220,0)","v":2.4079545454545456E-3},"Médico",null,{"$f":"IFERROR((J50*S50),0)","v":0},30,{"$f":"IFERROR((60/U50),0)","v":2},{"$f":"IFERROR(T50/(60/U50)/220,0)","v":0}]
[{"$f":"B$47","v":"Otros Controles Crónicos"},"Epilepsia - Control",null,null,null,null,"Si",3,1,3,1,9,1,{"$f":"IFERROR((J51*M51),0)","v":3},30,2,6.8181818181818179E-3,"Médico",2,6,30,{"$f":"IFERROR((60/U51),0)","v":2},1.3636363636363636E-2,"Enfermero(a)"]
["Otros Controles Crónicos","TBC - Ingreso",null,null,null,null,"Si",1,1,1,1,2,1,1,30,2,2.2727272727272726E-3,"Médico",1,1,30,2,2.2727272727272726E-3,"Enfermero(a)"]
["Otros Controles Crónicos","TBC - Control",null,null,null,null,"Si",1,1,1,1,9,6,6,30,2,1.3636363636363636E-2,"Médico",3,3,30,2,6.8181818181818179E-3,"Enfermero(a)"]
["Otros Controles Crónicos","Estudio de contacto en domicilio - usuarios TBC",null,null,null,null,"Si",1,1,{"$f":"IFERROR((H54*I54),0)","v":1},7,2,2,2,90,{"$f":"IFERROR((60/O54),0)","v":0.66666666666666663},1.3636363636363636E-2,"Enfermero(a)",null,0,null,0,0]
["Otros Controles Crónicos","Hipotiroidismo - Ingreso",null,null,null,null,"Si",4,1,4,1,4,1,4,30,2,9.0909090909090905E-3,"Médico",null,0,null,0,0]
["Otros Controles Crónicos","Hipotiroidismo - Control",null,null,null,null,"Si",13,1,13,1,13,1,13,30,2,2.9545454545454545E-2,"Médico",null,0,null,0,0]
[]
[null,"Programa Salud Sexual y Reproductiva"]
[null,null,null,null,null,null,null,"Resumen Población",null,null,null,null,null,null,"Intervención Profesional",null,null,null,null,null,"Intervención Profesional"]
[null,"Actividades / Cartera de Servicios",null,null,null,null,"Se Realiza","Población","Cobertura","Usuarios","Concentración","Total Actividades","Concentración","Total Actividad","Tiempo","Rendimiento","Horas Diarias","Estamento ","Concentración","Total Actividad","Tiempo","Rendimiento","Horas Diarias","Estamento "]
[{"$f":"B$58","v":"Programa Salud Sexual y Reproductiva"},"Consejería preconcepcional ",null,null,null,null,"Si",1058,0.01,{"$f":"IFERROR((H61*I61),0)","v":10.58},{"$f":"IFERROR(SUM(M61,S61),0)","v":1},{"$f":"IFERROR(SUM(N61,T61),0)","v":10.58},1,{"$f":"IFERROR((J61*M61),0)","v":10.58},30,{"$f":"IFERROR((60/O61),0)","v":2},{"$f":"IFERROR(N61/(60/O61)/220,0)","v":2.4045454545454547E-2},"Matrón(a)",null,{"$f":"IFERROR((J61*S61),0)","v":0},null,{"$f":"IFERROR((60/U61),0)","v":0},{"$f":"IFERROR(T61/(60/U61)/220,0)","v":0}]
[{"$f":"B$58","v":"Programa Salud Sexual y Reproductiva"},"Control preconcepcional ",null,null,null,null,"Si",1058,0.01,10.58,2,21.16,2,{"$f":"IFERROR((J62*M62),0)","v":21.16},30,{"$f":"IFERROR((60/O62),0)","v":2},4.8090909090909094E-2,"Matrón(a)",null,0,null,{"$f":"IFERROR((60/U62),0)","v":0},0]
["Programa Salud Sexual y Reproductiva","Ingreso Control Prenatal",null,null,null,null,"Si",15,1,15,1,15,1,15,60,1,6.8181818181818177E-2,"Matrón(a)",null,0,null,0,0]
["Programa Salud Sexual y Reproductiva","Control prenatal ",null,null,null,null,"Si",15,1,15,8,120,7,105,40,1.5,0.31818181818181818,"Matrón(a)",1,15,30,2,3.4090909090909088E-2,"Médico"]
["Programa Salud Sexual y Reproductiva","Control Diada ",null,null,null,null,"Si",14,1,14,1,14,1,14,60,1,6.363636363636363E-2,"Matrón(a)",null,0,null,0,0]
["Programa Salud Sexual y Reproductiva","Control Perdida reproductiva",null,null,null,null,"Si",1,1,1,1,1,1,1,30,2,2.2727272727272726E-3,"Matrón(a)",null,0,null,0,0]
["Programa Salud Sexual y Reproductiva","Consulta Morbilidad Obstetrica",null,null,null,null,"Si",15,0.08,1.2,3,3.5999999999999996,1,1.2,30,2,2.7272727272727271E-3,"Matrón(a)",2,2.4,20,3,3.6363636363636359E-3,"Médico"]
["Programa Salud Sexual y Reproductiva","Consulta Morbilidad Ginecológica de Piso Pélvico",null,null,null,null,"Si",1058,5.0000000000000001E-4,{"$f":"IFERROR((H68*I68),0)","v":0.52900000000000003},{"$f":"IFERROR(SUM(M68,S68),0)","v":1},{"$f":"IFERROR(SUM(N68,T68),0)","v":0.52900000000000003},1,0.52900000000000003,30,{"$f":"IFERROR((60/O68),0)","v":2},{"$f":"IFERROR(N68/(60/O68)/220,0)","v":1.2022727272727274E-3},"Matrón(a)",null,{"$f":"IFERROR((J68*S68),0)","v":0},null,{"$f":"IFERROR((60/U68),0)","v":0},{"$f":"IFERROR(T68/(60/U68)/220,0)","v":0}]
["Programa Salud Sexual y Reproductiva","Ingreso Control Regulacion de Fertilidad ",null,null,null,null,"Si",1058,0.08,84.64,1,84.64,1,84.64,30,2,0.19236363636363638,"Matrón(a)",null,0,null,0,0]
["Programa Salud Sexual y Reproductiva","Control Regulacion Fertilidad el 1° año",null,null,null,null,"Si",1058,0.08,84.64,3,253.92000000000002,3,253.92000000000002,30,2,0.5770909090909091,"Matrón(a)",null,0,null,0,0]
["Programa Salud Sexual y Reproductiva","Control Regulacion Fertilidad el Seguimiento",null,null,null,null,"Si",1058,0.2,211.60000000000002,2,423.20000000000005,2,423.20000000000005,30,2,0.96181818181818191,"Matrón(a)",null,0,null,0,0]
["Programa Salud Sexual y Reproductiva","Consulta Anticoncepciòn de emergencia (PAE)",null,null,null,null,"Si",1058,0.01,10.58,1,10.58,1,10.58,30,2,2.4045454545454547E-2,"Matrón(a)",null,0,null,0,0]
["Programa Salud Sexual y Reproductiva","Control ginecológico  ",null,null,null,null,"Si",1058,0.03,31.74,1,31.74,1,31.74,30,2,7.2136363636363637E-2,"Matrón(a)",null,0,null,0,0]
["Programa Salud Sexual y Reproductiva","Consulta morbilidad ginecológica  ",null,null,null,null,"Si",1058,0.03,31.74,1,31.74,1,31.74,30,2,7.2136363636363637E-2,"Matrón(a)",null,0,null,0,0]
["Programa Salud Sexual y Reproductiva","Consulta ITS-SIDA ",null,null,null,null,"Si",2119,0.02,42.38,1,42.38,1,42.38,30,2,9.6318181818181831E-2,"Matrón(a)",null,0,null,0,0]
["Programa Salud Sexual y Reproductiva","Consejería salud sex.y reprod.",null,null,null,null,"Si",2119,0.2,423.8,1,423.79999999999995,0.7,296.65999999999997,30,2,0.67422727272727268,"Matrón(a)",0.3,127.14,30,2,0.28895454545454546,"Enfermero(a)"]
["Programa Salud Sexual y Reproductiva","Ecografia Obstetrica I Trimestre inicio embarazo",null,null,null,null,"Si",15,1,15,1,15,1,15,30,2,3.4090909090909088E-2,"Matrón(a)",null,0,null,0,0]
["Programa Salud Sexual y Reproductiva","Ecografia Obstetrica I Trimestre tardio 11- 14 sem",null,null,null,null,"Si",15,1,15,1,15,1,15,60,1,6.8181818181818177E-2,"Matrón(a)",null,0,null,0,0]
["Programa Salud Sexual y Reproductiva","Evaluación Nutricional 6° mes postparto",null,null,null,null,"No",null,null,0,0,0,null,0,null,0,0,null,null,0,null,0,0]
["Programa Salud Sexual y Reproductiva","Consulta Nutricional  Gestante  (énfasis en Bajo peso y obesa)",null,null,null,null,"Si",15,1,15,1,15,1,15,30,2,3.4090909090909088E-2,"Nutricionista",null,0,null,0,0]
["Programa Salud Sexual y Reproductiva","Consulta Social ",null,null,null,null,"Si",15,1,15,1,15,1,15,30,2,3.4090909090909088E-2,"Asistente Social",null,0,null,0,0]
["Programa Salud Sexual y Reproductiva","Aplicación de test de pesquisa de  Streptococo Grupo B en Control Prenatal",null,null,null,null,"Si",15,1,15,1,15,1,15,30,2,3.4090909090909088E-2,"Matrón(a)",null,0,null,0,0]
[]
[null,"Programa Mejor Niñez (SENAME)"]
[null,null,null,null,null,null,null,"Resumen Población",null,null,null,null,null,null,"Intervención Profesional",null,null,null,null,null,"Intervención Profesional",null,null,null,null,null,"Intervención Profesional"]
[null,"Actividades / Cartera de Servicios",null,null,null,null,"Se Realiza","Población","Cobertura","Usuarios","Concentración","Total Actividades","Concentración","Total Actividad","Tiempo","Rendimiento","Horas Diarias","Estamento ","Concentración","Total Actividad","Tiempo","Rendimiento","Horas Diarias","Estamento ","Concentración","Total Actividad","Tiempo","Rendimiento","Horas Diarias","Estamento "]
[{"$f":"B$84","v":"Programa Mejor Niñez (SENAME)"},"CONTROL DE SALUD INTEGRAL EN POBLACIÓN ADOLESCENTE SENAME (Población SENAME  entre 10 y 19 años)",null,null,null,null,"Si",69,1,{"$f":"IFERROR((H87*I87),0)","v":69},{"$f":"IFERROR(SUM(M87,S87),0)","v":1},{"$f":"IFERROR(SUM(N87,T87),0)","v":69},1,{"$f":"IFERROR((J87*M87),0)","v":69},60,{"$f":"IFERROR((60/O87),0)","v":1},{"$f":"IFERROR(N87/(60/O87)/220,0)","v":0.31363636363636366},"Matrón(a)",null,{"$f":"IFERROR((J87*S87),0)","v":0},null,{"$f":"IFERROR((60/U87),0)","v":0},{"$f":"IFERROR(T87/(60/U87)/220,0)","v":0},null,null,{"$f":"IFERROR((J87*Y87),0)","v":0},null,{"$f":"IFERROR((60/AA87),0)","v":0},{"$f":"IFERROR(Z87/(60/AA87)/220,0)","v":0}]
[{"$f":"B$84","v":"Programa Mejor Niñez (SENAME)"},"CONTROL DE SALUD MENTAL  (Poblacion SENAME de NNAJ)",null,null,null,null,"Si",69,0.8,{"$f":"IFERROR((H88*I88),0)","v":55.2},{"$f":"IFERROR(SUM(M88,S88),0)","v":2},{"$f":"IFERROR(SUM(N88,T88),0)","v":110.4},1,{"$f":"IFERROR((J88*M88),0)","v":55.2},30,{"$f":"IFERROR((60/O88),0)","v":2},{"$f":"IFERROR(N88/(60/O88)/220,0)","v":0.12545454545454546},"Médico",1,{"$f":"IFERROR((J88*S88),0)","v":55.2},40,{"$f":"IFERROR((60/U88),0)","v":1.5},{"$f":"IFERROR(T88/(60/U88)/220,0)","v":0.1672727272727273},"Psicólogo(a)",2,{"$f":"IFERROR((J88*Y88),0)","v":110.4},30,{"$f":"IFERROR((60/AA88),0)","v":2},{"$f":"IFERROR(Z88/(60/AA88)/220,0)","v":0.25090909090909091},"Asistente Social"]
[]
[null,"Consultas"]
[null,null,null,null,null,null,null,"Resumen Población",null,null,null,null,null,null,"Intervención Profesional",null,null,null,null,null,"Intervención Profesional"]
[null,"Actividades / Cartera de Servicios",null,null,null,null,"Se Realiza","Población","Cobertura","Usuarios","Concentración","Total Actividades","Concentración","Total Actividad","Tiempo","Rendimiento","Horas Diarias","Estamento ","Concentración","Total Actividad","Tiempo","Rendimiento","Horas Diarias","Estamento "]
[{"$f":"B$90","v":"Consultas"},"Consulta adolescente con malnutricion",null,null,null,null,"Si",89,0.9,{"$f":"IFERROR((H93*I93),0)","v":80.100000000000009},{"$f":"IFERROR(SUM(M93,S93),0)","v":3},240.3,3,{"$f":"IFERROR((J93*M93),0)","v":240.3},30,{"$f":"IFERROR((60/O93),0)","v":2},{"$f":"IFERROR(N93/(60/O93)/220,0)","v":0.54613636363636364},"Nutricionista",null,{"$f":"IFERROR((J93*S93),0)","v":0},null,{"$f":"IFERROR((60/U93),0)","v":0},{"$f":"IFERROR(T93/(60/U93)/220,0)","v":0}]
[{"$f":"B$90","v":"Consultas"},"Otras Consultas Nutricionales por otros motivos: trastornos alimentarios (anorexia, bulimia, intolerancias, alergias alimentarias)",null,null,null,null,"Si",8,1,{"$f":"IFERROR((H94*I94),0)","v":8},3,24,3,{"$f":"IFERROR((J94*M94),0)","v":24},30,{"$f":"IFERROR((60/O94),0)","v":2},{"$f":"IFERROR(N94/(60/O94)/220,0)","v":5.4545454545454543E-2},"Nutricionista",null,{"$f":"IFERROR((J94*S94),0)","v":0},null,{"$f":"IFERROR((60/U94),0)","v":0},{"$f":"IFERROR(T94/(60/U94)/220,0)","v":0}]
[{"$f":"B$90","v":"Consultas"},"Consulta Social por otros riesgos sociales",null,null,null,null,"No",null,null,{"$f":"IFERROR((H95*I95),0)","v":0},0,0,null,{"$f":"IFERROR((J95*M95),0)","v":0},null,{"$f":"IFERROR((60/O95),0)","v":0},{"$f":"IFERROR(N95/(60/O95)/220,0)","v":0},null,null,{"$f":"IFERROR((J95*S95),0)","v":0},null,{"$f":"IFERROR((60/U95),0)","v":0},{"$f":"IFERROR(T95/(60/U95)/220,0)","v":0}]
[]
[null,"Consulta Morbilidad Adolescente"]
[null,null,null,null,null,null,null,"Resumen Población",null,null,null,null,null,null,"Intervención Profesional"]
[null,"Actividades / Cartera de Servicios",null,null,null,null,"Se Realiza","Población","Cobertura","Usuarios","Concentración","Total Actividades","Concentración","Total Actividad","Tiempo","Rendimiento","Horas Diarias","Estamento "]
[{"$f":"B$97","v":"Consulta Morbilidad Adolescente"},"Población de 10 a 19 años",null,null,null,null,"Si",2119,1,{"$f":"IFERROR((H100*I100),0)","v":2119},{"$f":"IFERROR(SUM(M100,S100),0)","v":1},{"$f":"IFERROR(SUM(N100,T100),0)","v":2119},1,{"$f":"IFERROR((J100*M100),0)","v":2119},20,{"$f":"IFERROR((60/O100),0)","v":3},{"$f":"IFERROR(N100/(60/O100)/220,0)","v":3.2106060606060609},"Médico"]
[]
[null,"Programa Salud Mental Adolescente"]
[null,null,null,null,null,null,null,"Resumen Población",null,null,null,null,null,null,"Intervención Profesional",null,null,null,null,null,"Intervención Profesional",null,null,null,null,null,"Intervención Profesional",null,null,null,null,null,"Intervención Profesional"]
[null,"Actividades / Cartera de Servicios",null,null,null,null,"Se Realiza","Población","Cobertura","Usuarios","Concentración","Total Actividades","Concentración","Total Actividad","Tiempo","Rendimiento","Horas Diarias","Estamento ","Concentración","Total Actividad","Tiempo","Rendimiento","Horas Diarias","Estamento ","Concentración","Total Actividad","Tiempo","Rendimiento","Horas Diarias","Estamento ","Concentración","Total Actividad","Tiempo","Rendimiento","Horas Diarias","Estamento "]
[{"$f":"B$102","v":"Programa Salud Mental Adolescente"},"Ingreso a Salud Mental Médico (Ges OH/D, EQZ, Violencia, Depresión, Trastornos Ansiosos, Trastornos de la Infancia y Adolescencia, Demencia, otros Trastornos de Salud Mental)",null,null,null,null,"Si",100,1,{"$f":"IFERROR((H105*I105),0)","v":100},{"$f":"IFERROR(SUM(M105,S105),0)","v":1},100,1,{"$f":"IFERROR((J105*M105),0)","v":100},45,{"$f":"IFERROR((60/O105),0)","v":1.3333333333333333},{"$f":"IFERROR(N105/(60/O105)/220,0)","v":0.34090909090909088},"Médico",null,{"$f":"IFERROR((J105*S105),0)","v":0},null,{"$f":"IFERROR((60/U105),0)","v":0},{"$f":"IFERROR(T105/(60/U105)/220,0)","v":0},null,null,{"$f":"IFERROR((J105*Y105),0)","v":0},null,{"$f":"IFERROR((60/AA105),0)","v":0},{"$f":"IFERROR(Z105/(60/AA105)/220,0)","v":0},null,null,{"$f":"IFERROR((J105*AE105),0)","v":0},null,{"$f":"IFERROR((60/AG105),0)","v":0},{"$f":"IFERROR(AF105/(60/AG105)/220,0)","v":0}]
[{"$f":"B$102","v":"Programa Salud Mental Adolescente"},"Control de Salud Mental Medico  (Ges OH/D, EQZ, Violencia, Depresión, Trastornos Ansiosos, Trastornos de la Infancia y Adolescencia, Demencia, otros Trastornos de Salud Mental)",null,null,null,null,"Si",100,1,{"$f":"IFERROR((H106*I106),0)","v":100},4,400,4,{"$f":"IFERROR((J106*M106),0)","v":400},30,{"$f":"IFERROR((60/O106),0)","v":2},0.90909090909090906,"Médico",null,{"$f":"IFERROR((J106*S106),0)","v":0},null,{"$f":"IFERROR((60/U106),0)","v":0},{"$f":"IFERROR(T106/(60/U106)/220,0)","v":0},null,null,{"$f":"IFERROR((J106*Y106),0)","v":0},null,{"$f":"IFERROR((60/AA106),0)","v":0},{"$f":"IFERROR(Z106/(60/AA106)/220,0)","v":0},null,null,{"$f":"IFERROR((J106*AE106),0)","v":0},null,{"$f":"IFERROR((60/AG106),0)","v":0},{"$f":"IFERROR(AF106/(60/AG106)/220,0)","v":0}]
["Programa Salud Mental Adolescente","Ingreso a Salud Mental otros profesionales (Ges OH/D, EQZ, Violencia, Depresión, Trastornos Ansiosos, Trastornos de la Infancia y Adolescencia, Demencia, otros Trastornos de Salud Mental)",null,null,null,null,"Si",100,1,{"$f":"IFERROR((H107*I107),0)","v":100},1,100,1,100,40,1.5,0.30303030303030304,"Psicólogo(a)",null,{"$f":"IFERROR((J107*S107),0)","v":0},null,0,{"$f":"IFERROR(T107/(60/U107)/220,0)","v":0},null,null,{"$f":"IFERROR((J107*Y107),0)","v":0},null,0,{"$f":"IFERROR(Z107/(60/AA107)/220,0)","v":0},null,null,{"$f":"IFERROR((J107*AE107),0)","v":0},null,0,{"$f":"IFERROR(AF107/(60/AG107)/220,0)","v":0}]
["Programa Salud Mental Adolescente","Control de Salud Mental otros profesionales   (Ges OH/D, EQZ, Violencia, Depresión, Trastornos Ansiosos, Trastornos de la Infancia y Adolescencia, Demencia, otros Trastornos de Salud Mental)",null,null,null,null,"Si",100,1,100,8,800,7,700,40,1.5,2.1212121212121211,"Psicólogo(a)",1,{"$f":"IFERROR((J108*S108),0)","v":100},30,2,{"$f":"IFERROR(T108/(60/U108)/220,0)","v":0.22727272727272727},"Asistente Social",null,{"$f":"IFERROR((J108*Y108),0)","v":0},null,0,{"$f":"IFERROR(Z108/(60/AA108)/220,0)","v":0},null,null,{"$f":"IFERROR((J108*AE108),0)","v":0},null,0,{"$f":"IFERROR(AF108/(60/AG108)/220,0)","v":0}]
["Programa Salud Mental Adolescente","Aplicación Pauta Evaluación Salud Mental (Ingreso Programa) + Elaboración de PSC-Y",null,null,null,null,"Si",100,1,100,1,100,1,100,45,1.3333333333333333,0.34090909090909088,"Médico",null,{"$f":"IFERROR((J109*S109),0)","v":0},null,0,{"$f":"IFERROR(T109/(60/U109)/220,0)","v":0},null,null,{"$f":"IFERROR((J109*Y109),0)","v":0},null,0,{"$f":"IFERROR(Z109/(60/AA109)/220,0)","v":0},null,null,{"$f":"IFERROR((J109*AE109),0)","v":0},null,0,{"$f":"IFERROR(AF109/(60/AG109)/220,0)","v":0}]
["Programa Salud Mental Adolescente","Aplicación Pauta Evaluación Salud Mental (Egreso Programa)",null,null,null,null,"Si",100,1,100,1,100,1,100,30,2,0.22727272727272727,"Médico",null,0,null,0,0,null,null,0,null,0,0,null,null,0,null,0,0]
["Programa Salud Mental Adolescente","Otras Consultas de Salud Mental Médico",null,null,null,null,"Si",60,1,60,1,60,1,60,20,3,9.0909090909090912E-2,"Médico",null,0,null,0,0,null,null,0,null,0,0,null,null,0,null,0,0]
["Programa Salud Mental Adolescente","Otras Consultas de Salud Mental otros Profesionales",null,null,null,null,"Si",60,1,60,2,120,1,60,45,1.3333333333333333,0.20454545454545456,"Psicólogo(a)",1,60,45,1.3333333333333333,0.20454545454545456,"Asistente Social",null,0,null,0,0,null,null,0,null,0,0]
["Programa Salud Mental Adolescente","Control de salud mental medico  (GES OH/D)",null,null,null,null,"No",null,null,0,0,0,null,0,null,0,0,null,null,0,null,0,0,null,null,0,null,0,0,null,null,0,null,0,0]
["Programa Salud Mental Adolescente","Control de salud mental otros profesionales  (Ges OH/D)",null,null,null,null,"No",null,null,0,0,0,null,0,null,0,0,null,null,0,null,0,0,null,null,0,null,0,0,null,null,0,null,0,0]
["Programa Salud Mental Adolescente","Intervención (consejeria) preventiva en OH y otras drogas (Individual) ",null,null,null,null,"Si",2119,0.2,423.8,1,423.8,1,423.8,30,2,0.96318181818181825,"Psicólogo(a)",null,0,null,0,0,null,null,0,null,0,0,"Médico",null,0,null,0,0]
["Programa Salud Mental Adolescente","Intervenciones preventivas en OH y otras drogas (Grupal)",null,null,null,null,"Si",5,0.9,4.5,1,4.5,0.5,2.25,45,1.3333333333333333,7.6704545454545454E-3,"Psicólogo(a)",0.5,2.25,120,0.5,2.0454545454545454E-2,"Asistente Social",null,0,null,0,0,null,null,0,null,0,0]
["Programa Salud Mental Adolescente","Intervención Psicosocial individual (Depresión, VIF, OH-drogas, Demencia, Ansiedad y otros)  ",null,null,null,null,"No",null,null,0,0,0,null,0,null,0,0,null,null,0,null,0,0,null,null,0,null,0,0,null,null,0,null,0,0]
["Programa Salud Mental Adolescente","Administración e Interpretación pruebas Psicológicas",null,null,null,null,"Si",50,1,50,1,50,1,50,45,1.3333333333333333,0.17045454545454544,"Psicólogo(a)",null,0,null,0,0,null,null,0,null,0,0,null,null,0,null,0,0]
["Programa Salud Mental Adolescente","Consultoría Salud Mental ",null,null,null,null,"Si",3,1,3,2,6,1,3,240,0.25,5.4545454545454543E-2,"Psicólogo(a)",1,3,240,0.25,5.4545454545454543E-2,"Asistente Social",1,3,240,0.25,5.4545454545454543E-2,"Médico",null,0,null,0,0]
["Programa Salud Mental Adolescente","Intervención Psicosocial Grupal (Depresión, VIF, OH-drogas, Demencia, Ansiedad y otros) ",null,null,null,null,"No",null,null,0,0,0,null,0,null,0,0,null,null,0,null,0,0,null,null,0,null,0,0,null,null,0,null,0,0]
["Programa Salud Mental Adolescente","Educacion Grupal En Adolescentes (Prevencion Suicidio/Prevención Trastorno Mental)",null,null,null,null,"Si",2,1,2,0.6,1.2,0.3,0.6,45,1.3333333333333333,2.0454545454545456E-3,"Psicólogo(a)",0.3,0.6,45,1.3333333333333333,2.0454545454545456E-3,"Médico",0.3,0.6,45,1.3333333333333333,2.0454545454545456E-3,"Enfermero(a)",null,0,null,0,0]
["Programa Salud Mental Adolescente","Intervenciones comunitarias con organizaciones de padres y apoderados y con profesores de establecimientos educacionales",null,null,null,null,"No",null,null,0,1.5,0,1.5,0,120,0.5,0,"Asistente Social",null,0,null,0,0,null,null,0,null,0,0,null,null,0,null,0,0]
["Programa Salud Mental Adolescente","Agrupaciones de Autoayuda (Apoyo Técnico)",null,null,null,null,"No",null,null,0,3,0,1.5,0,120,0.5,0,"Psicólogo(a)",1.5,0,120,0.5,0,"Asistente Social",null,0,null,0,0,null,null,0,null,0,0]
[]
[null,"Programa de Salud Cardiovascular Adolescente"]
[null,null,null,null,null,null,"Resumen Población",null,null,null,null,null,null,null,"Intervención Profesional",null,null,null,null,null,"Intervención Profesional",null,null,null,null,null,"Intervención Profesional",null,null,null,null,null,"Intervención Profesional"]
[null,"Actividades / Cartera de Servicios",null,null,null,null,"Se Realiza","Población","Cobertura","Usuarios","Concentración","Total Actividades","Concentración","Total Actividad","Tiempo","Rendimiento","Horas Diarias","Estamento ","Concentración","Total Actividad","Tiempo","Rendimiento","Horas Diarias","Estamento ","Concentración","Total Actividad","Tiempo","Rendimiento","Horas Diarias","Estamento ","Concentración","Total Actividad","Tiempo","Rendimiento","Horas Diarias","Estamento "]
[{"$f":"B$125","v":"Programa de Salud Cardiovascular Adolescente"},"PSCV - Ingreso (Solo Médico)",null,null,null,null,"No",null,null,{"$f":"IFERROR((H128*I128),0)","v":0},{"$f":"IFERROR(SUM(M128,S128,Y128,AE128),0)","v":0},0,null,{"$f":"IFERROR(($J128*M128),0)","v":0},null,{"$f":"IFERROR((60/O128),0)","v":0},{"$f":"IFERROR(N128/(60/O128)/220,0)","v":0},null,null,{"$f":"IFERROR(($J128*S128),0)","v":0},null,{"$f":"IFERROR((60/U128),0)","v":0},{"$f":"IFERROR(T128/(60/U128)/220,0)","v":0},null,null,{"$f":"IFERROR(($J128*Y128),0)","v":0},null,{"$f":"IFERROR((60/AA128),0)","v":0},{"$f":"IFERROR(Z128/(60/AA128)/220,0)","v":0},null,null,{"$f":"IFERROR(($J128*AE128),0)","v":0},null,{"$f":"IFERROR((60/AG128),0)","v":0},{"$f":"IFERROR(AF128/(60/AG128)/220,0)","v":0}]
[{"$f":"B$125","v":"Programa de Salud Cardiovascular Adolescente"},"Consulta Médica de Seguimiento Descompensados (poli compensacion)",null,null,null,null,"Si",1,1,1,3,3,3,{"$f":"IFERROR(($J129*M129),0)","v":3},20,{"$f":"IFERROR((60/O129),0)","v":3},4.5454545454545452E-3,"Médico",null,0,null,{"$f":"IFERROR((60/U129),0)","v":0},0,null,null,0,null,{"$f":"IFERROR((60/AA129),0)","v":0},0,null,null,0,null,{"$f":"IFERROR((60/AG129),0)","v":0},0]
["Programa de Salud Cardiovascular Adolescente","Primer control de Enfermera y Nutricionista",null,null,null,null,"No",null,null,0,0,0,null,0,null,0,0,null,null,0,null,0,0,null,null,0,null,0,0,null,null,0,null,0,0]
["Programa de Salud Cardiovascular Adolescente","Control de Enfermera y Nutricionista",null,null,null,null,"No",null,null,0,0,0,null,0,null,0,0,null,null,0,null,0,0,null,null,0,null,0,0,null,null,0,null,0,0]
["Programa de Salud Cardiovascular Adolescente","RCV Bajo - Control de Seguimiento ",null,null,null,null,"No",null,null,0,0,0,null,0,null,0,0,null,null,0,null,0,0,null,null,0,null,0,0,null,null,0,null,0,0]
["Programa de Salud Cardiovascular Adolescente","Atención Grupal PSCV",null,null,null,null,"No",null,null,0,0,0,null,0,null,0,0,null,null,0,null,0,0,null,null,0,null,0,0,null,null,0,null,0,0]
["Programa de Salud Cardiovascular Adolescente","Control diabeticos para inicio insulinoterapia",null,null,null,null,"No",null,null,0,0,0,null,0,null,0,0,null,null,0,null,0,0,null,null,0,null,0,0,null,null,0,null,0,0]
["Programa de Salud Cardiovascular Adolescente","Curación avanzada de heridas",null,null,null,null,"No",null,null,0,0,0,null,0,null,0,0,null,null,0,null,0,0,null,null,0,null,0,0,null,null,0,null,0,0]
["Programa de Salud Cardiovascular Adolescente","Atención Podológica ",null,null,null,null,"Si",1,1,1,3,3,3,3,30,2,6.8181818181818179E-3,"Podólogo(a)",null,0,null,0,0,null,null,0,null,0,0,null,null,0,null,0,0]
["Programa de Salud Cardiovascular Adolescente","Consulta Social",null,null,null,null,"Si",1,1,1,1,1,1,1,30,2,2.2727272727272726E-3,"Asistente Social",null,0,null,0,0,null,null,0,null,0,0,null,null,0,null,0,0]
["Programa de Salud Cardiovascular Adolescente","RCV Moderado - Control de Seguimiento",null,null,null,null,"No",null,null,0,0,0,null,0,null,0,0,null,null,0,null,0,0,null,null,0,null,0,0,null,null,0,null,0,0]
[]
[null,"Programa Odontológico Adolescente"]
[null,null,null,null,null,null,null,"Resumen Población",null,null,null,null,null,null,"Intervención Profesional",null,null,null,null,null,"Intervención Profesional"]
[null,"Actividades / Cartera de Servicios",null,null,null,null,"Se Realiza","Población","Cobertura","Usuarios","Concentración","Total Actividades","Concentración","Total Actividad","Tiempo","Rendimiento","Horas Diarias","Estamento ","Concentración","Total Actividad","Tiempo","Rendimiento","Horas Diarias","Estamento "]
[{"$f":"B$140","v":"Programa Odontológico Adolescente"}," Ingreso CERO 10 a 19 años",null,null,null,null,"Si",2119,0.35,{"$f":"IFERROR((H143*I143),0)","v":741.65},{"$f":"IFERROR(AVERAGE(M143,S143),0)","v":1},{"$f":"IFERROR(AVERAGE(N143,T143),0)","v":741.65},1,{"$f":"IFERROR((J143*M143),0)","v":741.65},30,{"$f":"IFERROR((60/O143),0)","v":2},{"$f":"IFERROR(N143/(60/O143)/220,0)","v":1.6855681818181818},"Odontólogo",1,{"$f":"IFERROR((J143*S143),0)","v":741.65},30,{"$f":"IFERROR((60/U143),0)","v":2},{"$f":"IFERROR(T143/(60/U143)/220,0)","v":1.6855681818181818},"TONS"]
[{"$f":"B$140","v":"Programa Odontológico Adolescente"},"Controles odontológicos CERO Riesgo Bajo",null,null,null,null,"Si",748,0.3,{"$f":"IFERROR((H144*I144),0)","v":224.4},2,448.8,2,{"$f":"IFERROR((J144*M144),0)","v":448.8},30,{"$f":"IFERROR((60/O144),0)","v":2},1.02,null,2,448.8,30,{"$f":"IFERROR((60/U144),0)","v":2},1.02]
["Programa Odontológico Adolescente","Controles odontológicos CERO Riesgo Alto",null,null,null,null,"Si",748,0.7,{"$f":"IFERROR((H145*I145),0)","v":523.6},3,1570.8000000000002,3,{"$f":"IFERROR((J145*M145),0)","v":1570.8000000000002},30,2,3.5700000000000003,null,3,1570.8000000000002,30,2,3.5700000000000003]
["Programa Odontológico Adolescente","Morbilidad Odontológica < 20 años diurna (10 a 19 años)",null,null,null,null,"Si",2119,0.35,{"$f":"IFERROR((H146*I146),0)","v":741.65},3,2224.9499999999998,3,{"$f":"IFERROR((J146*M146),0)","v":2224.9499999999998},30,2,5.0567045454545454,"Odontólogo",3,2224.9499999999998,30,2,5.0567045454545454,"TONS"]
["Programa Odontológico Adolescente","Educación grupal <20 años (10 a 19 años)",null,null,null,null,"No",null,null,{"$f":"IFERROR((H147*I147),0)","v":0},0,0,null,0,null,0,0,null,null,0,null,0,0]
["Programa Odontológico Adolescente","Ingreso GES Embarazadas",null,null,null,null,"Si",15,1,15,1,15,1,15,30,2,3.4090909090909088E-2,"Odontólogo",1,15,30,2,3.4090909090909088E-2,"TONS"]
["Programa Odontológico Adolescente","Morbilidad Odontológica Embarazadas",null,null,null,null,"Si",15,1,15,4,60,4,60,30,2,0.13636363636363635,"Odontólogo",4,60,30,2,0.13636363636363635,"TONS"]
["Programa Odontológico Adolescente","Educación grupal Embarazadas ",null,null,null,null,"No",null,null,0,0,0,null,0,null,0,0,null,null,0,null,0,0]
["Programa Odontológico Adolescente","Morbilidad Odontológica usuario situación discapacidad ",null,null,null,null,"Si",10,0.5,5,3,7.5,3,15,60,1,6.8181818181818177E-2,"Odontólogo",null,0,null,0,0]
["Programa Odontológico Adolescente","Morbilidad Odontológica en Extensión Horaria Percapitada",null,null,null,null,"No",null,null,0,0,0,null,0,null,0,0,null,null,0,null,0,0]
["Programa Odontológico Adolescente","Urgencias odontológicas  ",null,null,null,null,"Si",2119,2.5000000000000001E-2,52.975000000000001,1,52.975000000000001,1,52.975000000000001,30,2,0.12039772727272728,"Odontólogo",1,52.975000000000001,30,2,0.12039772727272728,"TONS"]
["Programa Odontológico Adolescente","Radiografías odontológicas (Periapical y BW)",null,null,null,null,"Si",2119,0.32,678.08,{"$f":"IFERROR(SUM(M154,S154),0)","v":1},{"$f":"IFERROR(SUM(N154,T154),0)","v":678.08},1,678.08,20,3,1.0273939393939393,"TONS",null,0,null,0,0]

{"sheet":"Adulto","index":7,"n_rows":176,"n_cols":36,"rows_kept":176,"cut":false,"hidden":false,"merged":[[172,1,172,5],[173,1,173,5],[174,1,174,5],[175,1,175,5],[146,1,146,5],[147,1,147,5],[166,1,166,5],[167,1,167,5],[168,1,168,5],[169,1,169,5],[170,1,170,5],[171,1,171,5],[148,1,148,5],[149,1,149,5],[150,1,150,5],[151,1,151,5],[152,1,152,5],[153,1,153,5],[154,1,154,5],[155,1,155,5],[160,31,160,32],[161,1,161,5],[162,1,162,5],[143,6,143,11],[144,1,144,5],[145,1,145,5],[163,1,163,5],[164,1,164,5],[165,1,165,5],[159,6,159,11],[136,1,136,5],[137,1,137,5],[138,1,138,5],[139,1,139,5],[140,1,140,5],[160,1,160,5],[160,17,160,18],[160,24,160,25],[86,1,86,5],[87,1,87,5],[109,1,109,5],[110,1,110,5],[111,1,111,5],[112,1,112,5],[113,1,113,5],[114,1,114,5],[115,1,115,5],[101,7,101,11],[103,1,103,5],[94,1,94,5],[98,1,98,5],[97,1,97,5],[133,1,133,5],[134,1,134,5],[2,14,2,15],[2,16,2,17],[16,1,16,3],[16,8,16,9],[21,1,21,3],[21,8,21,9],[25,1,25,3],[25,8,25,9],[29,1,29,3],[29,8,29,9],[5,14,5,15],[5,17,5,18],[6,5,6,6],[6,7,6,9],[6,14,6,15],[7,14,7,15],[28,1,28,3],[28,8,28,9],[47,7,47,11],[48,1,48,4],[49,1,49,5],[50,1,50,5],[51,1,51,5],[52,1,52,5],[92,7,92,11],[93,1,93,4],[53,1,53,5],[83,1,83,5],[74,1,74,5],[75,1,75,5],[76,1,76,5],[77,1,77,5],[78,1,78,5],[80,1,80,5],[68,1,68,5],[85,1,85,5],[88,1,88,5],[89,1,89,5],[79,1,79,5],[84,1,84,5],[69,1,69,5],[70,1,70,5],[17,21,17,22],[24,21,24,22],[25,21,25,22],[22,1,22,3],[22,8,22,9],[22,21,22,22],[23,1,23,3],[23,8,23,9],[23,21,23,22],[20,1,20,3],[20,8,20,9],[20,21,20,22],[19,21,19,22],[21,21,21,22],[18,1,18,3],[18,8,18,9],[18,21,18,22],[19,1,19,3],[19,8,19,9],[14,23,14,24],[15,21,15,22],[8,5,8,9],[8,14,8,15],[9,5,9,9],[9,14,9,15],[11,0,11,4],[12,10,12,18],[16,21,16,22],[3,0,8,1],[3,2,8,3],[3,14,3,15],[3,17,3,19],[4,5,4,6],[4,7,4,9],[4,14,4,15],[4,17,4,18],[5,5,5,6],[5,7,5,9],[14,4,15,4],[14,21,14,22],[32,21,32,22],[30,1,30,3],[30,8,30,9],[30,21,30,22],[31,1,31,3],[31,8,31,9],[31,21,31,22],[28,21,28,22],[24,8,24,9],[29,21,29,22],[26,1,26,3],[26,8,26,9],[26,21,26,22],[27,1,27,3],[27,8,27,9],[27,21,27,22],[24,1,24,3],[57,1,57,5],[10,14,10,15],[55,1,55,5],[56,1,56,5],[58,1,58,5],[59,1,59,5],[64,7,64,11],[65,1,65,4],[82,1,82,5],[66,1,66,5],[67,1,67,5],[14,5,15,5],[14,6,15,6],[43,1,43,5],[44,1,44,5],[37,7,37,11],[38,1,38,5],[39,1,39,5],[54,1,54,5],[32,1,32,3],[32,8,32,9],[42,7,42,11],[17,1,17,3],[17,8,17,9],[60,1,60,5],[61,1,61,5],[81,1,81,5],[102,1,102,5],[128,7,128,11],[129,1,129,5],[130,1,130,5],[131,1,131,5],[132,1,132,5],[71,1,71,5],[72,1,72,5],[73,1,73,5],[95,1,95,5],[96,1,96,5],[135,1,135,5],[106,7,106,11],[107,1,107,5],[108,1,108,5],[116,1,116,5],[117,1,117,5],[118,1,118,5],[119,1,119,5],[120,1,120,5],[121,1,121,5],[122,1,122,5],[123,1,123,5],[124,1,124,5],[125,1,125,5]]}
[]
[]
[]
[null,null,null,null,null,null,null,null,null,null,null,null,null,null,"Grupo Etareo",null,"Usuarios"]
[null,null,null,null,null,"Establecimiento",null,{"$f":"Percapita!$G$6","v":"DEPARTAMENTO DE SALUD MUNICIPAL"},null,null,null,null,null,null,"Población 20 a 64 años",null,{"$f":"Resumen_Poblacion!N21","v":8827}]
[null,null,null,null,null,"Comuna",null,{"$f":"Percapita!$G$7","v":"CALLE LARGA"},null,null,null,null,null,null,"Población 45 a 54 años",null,{"$f":"Resumen_Poblacion!N22","v":1718}]
[null,null,null,null,null,"Fecha de Programación",null,{"$f":"Balance_Horas!$G$7","v":"2023-10-12"},null,null,null,null,null,null,"Población 25 a 44 años",null,{"$f":"Resumen_Poblacion!N23","v":4344}]
[null,null,null,null,null,null,null,null,null,null,null,null,null,null,"Población 45 a 64 años",null,{"$f":"Resumen_Poblacion!N24","v":3510}]
[null,null,null,null,null,"PROGRAMACION APS CICLO VITAL",null,null,null,null,null,null,null,null,"Embarazadas ",null,{"$f":"Resumen_Poblacion!N25","v":0}]
[null,null,null,null,null,"SALUD DEL ADULTO",null,null,null,null,null,null,null,null,"Puerperas - RN",null,{"$f":"Resumen_Poblacion!N26","v":0}]
[null,null,null,null,null,null,null,null,null,null,null,null,null,null,"Total Población",null,{"$f":"SUM(Resumen_Poblacion!N21)","v":8827}]
["Resumen Horas Programadas"]
[null,null,null,null,null,null,null,null,null,null,"Sectorizacion de Poblacion Percapitada",null,null,null,null,null,null,null,null,"Total"]
[null,null,null,null,null,null,null,null,null,"% Poblacion x Sector",0.4,0.5,0.1,null,null,null,null,null,null,{"$f":"SUM(K14:S14)","v":1}]
[null,null,null,null,"Total Horas Ciclo","Horas Contratadas","% uso de horas",null,null,"Total Poblacion",{"$f":"IFERROR($Q$11*K14,0)","v":3530.8},4413.5,882.7,0,0,0,0,0,0,{"$f":"SUM(K15:S15)","v":8827},null,"Tipo de Programa y/o Estrategia",null,"ECICEP Adulto"]
[null,null,null,null,null,null,null,null,null,null,"Sector A","Sector B","Posta","Sector D","Sector E","Sector F","Sector G","Sector H","Sector I","TOTAL",null,"Profesionales",null,"Horas Programadas","%"]
[null,"Médico",null,null,{"$f":"SUMIFS(AI$40:AI$156,AJ$40:AJ$156,B17,G$40:G$156,\"Si\")+SUMIFS(Q$40:Q$156,R$40:R$156,B17,G$40:G$156,\"Si\")+SUMIFS(W$40:W$156,X$40:X$156,B17,G$40:G$156,\"Si\")+SUMIFS(AC$40:AC$156,AD$40:AD$156,B17,G$40:G$156,\"Si\")+SUMIFS(Q$162:Q$176,R$162:R$176,B17,G$162:G$176,\"Si\")+SUMIFS(Q$162:Q$176,S$162:S$176,B17,G$162:G$176,\"Si\")+SUMIFS(X$162:X$176,Y$162:Y$176,B17,G$162:G$176,\"Si\")+SUMIFS(X$162:X$176,Z$162:Z$176,B17,G$162:G$176,\"Si\")+SUMIFS(AE$162:AE$176,AF$162:AF$176,B17,G$162:G$176,\"Si\")+SUMIFS(AE$162:AE$176,AG$162:AG$176,B17,G$162:G$176,\"Si\")","v":31.981305560606053},{"$f":"Balance_Horas!$G$30","v":74.8},{"$f":"IFERROR(E17/F17,0)","v":0.42755756097066916},null,"Médico",null,{"$f":"IF(K$14<>\"\",$E17*K$14,\"\")","v":12.792522224242422},15.990652780303027,3.1981305560606055,"","","","","","",{"$f":"SUM(K17:S17)","v":31.981305560606053},null,"Médico",null,{"$f":"SUMIFS(AI$40:AI$156,AJ$40:AJ$156,B17,G$40:G$156,\"Si\",A$40:A$156,X$15)+SUMIFS(Q$40:Q$156,R$40:R$156,B17,G$40:G$156,\"Si\",A$40:A$156,X$15)+SUMIFS(W$40:W$156,X$40:X$156,B17,G$40:G$156,\"Si\",A$40:A$156,X$15)+SUMIFS(AC$40:AC$156,AD$40:AD$156,B17,G$40:G$156,\"Si\",A$40:A$156,X$15)+SUMIFS(Q$162:Q$176,R$162:R$176,B17,G$162:G$176,\"Si\",A$162:A$176,X$15)+SUMIFS(Q$162:Q$176,S$162:S$176,B17,G$162:G$176,\"Si\",A$162:A$176,X$15)+SUMIFS(X$162:X$176,Y$162:Y$176,B17,G$162:G$176,\"Si\",A$162:A$176,X$15)+SUMIFS(X$162:X$176,Z$162:Z$176,B17,G$162:G$176,\"Si\",A$162:A$176,X$15)+SUMIFS(AE$162:AE$176,AF$162:AF$176,B17,G$162:G$176,\"Si\",A$162:A$176,X$15)+SUMIFS(AE$162:AE$176,AG$162:AG$176,B17,G$162:G$176,\"Si\",A$162:A$176,X$15)","v":6.1215909090909095},{"$f":"IFERROR(X17/X$34,0%)","v":0.450712002811198}]
[null,"Odontólogo",null,null,{"$f":"SUMIFS(AI$40:AI$156,AJ$40:AJ$156,B18,G$40:G$156,\"Si\")+SUMIFS(Q$40:Q$156,R$40:R$156,B18,G$40:G$156,\"Si\")+SUMIFS(W$40:W$156,X$40:X$156,B18,G$40:G$156,\"Si\")+SUMIFS(AC$40:AC$156,AD$40:AD$156,B18,G$40:G$156,\"Si\")+SUMIFS(Q$162:Q$176,R$162:R$176,B18,G$162:G$176,\"Si\")+SUMIFS(Q$162:Q$176,S$162:S$176,B18,G$162:G$176,\"Si\")+SUMIFS(X$162:X$176,Y$162:Y$176,B18,G$162:G$176,\"Si\")+SUMIFS(X$162:X$176,Z$162:Z$176,B18,G$162:G$176,\"Si\")+SUMIFS(AE$162:AE$176,AF$162:AF$176,B18,G$162:G$176,\"Si\")+SUMIFS(AE$162:AE$176,AG$162:AG$176,B18,G$162:G$176,\"Si\")","v":5.7298257575757585},{"$f":"Balance_Horas!$I$30","v":30},{"$f":"IFERROR(E18/F18,0)","v":0.19099419191919195},null,"Odontólogo",null,2.2919303030303033,2.8649128787878793,0.57298257575757583,"","","","","","",{"$f":"SUM(K18:S18)","v":5.7298257575757576},null,"Odontólogo",null,{"$f":"SUMIFS(AI$40:AI$156,AJ$40:AJ$156,B18,G$40:G$156,\"Si\",A$40:A$156,X$15)+SUMIFS(Q$40:Q$156,R$40:R$156,B18,G$40:G$156,\"Si\",A$40:A$156,X$15)+SUMIFS(W$40:W$156,X$40:X$156,B18,G$40:G$156,\"Si\",A$40:A$156,X$15)+SUMIFS(AC$40:AC$156,AD$40:AD$156,B18,G$40:G$156,\"Si\",A$40:A$156,X$15)+SUMIFS(Q$162:Q$176,R$162:R$176,B18,G$162:G$176,\"Si\",A$162:A$176,X$15)+SUMIFS(Q$162:Q$176,S$162:S$176,B18,G$162:G$176,\"Si\",A$162:A$176,X$15)+SUMIFS(X$162:X$176,Y$162:Y$176,B18,G$162:G$176,\"Si\",A$162:A$176,X$15)+SUMIFS(X$162:X$176,Z$162:Z$176,B18,G$162:G$176,\"Si\",A$162:A$176,X$15)+SUMIFS(AE$162:AE$176,AF$162:AF$176,B18,G$162:G$176,\"Si\",A$162:A$176,X$15)+SUMIFS(AE$162:AE$176,AG$162:AG$176,B18,G$162:G$176,\"Si\",A$162:A$176,X$15)","v":0},0]
[null,"Químico Farmacéutico",null,null,1.1272727272727272,{"$f":"Balance_Horas!$K$30","v":8.8000000000000007},0.128099173553719,null,"Químico Farmacéutico",null,0.45090909090909093,0.5636363636363636,0.11272727272727273,"","","","","","",1.1272727272727274,null,"Químico Farmacéutico",null,1.0727272727272728,7.8981275413731358E-2]
[null,"Matrón(a)",null,null,17.936740909090915,{"$f":"Balance_Horas!$M$30","v":19.8},0.90589600550964211,null,"Matrón(a)",null,7.1746963636363663,8.9683704545454574,1.7936740909090916,"","","","","","",17.936740909090915,null,"Matrón(a)",null,0,0]
[null,"Enfermero(a)",null,null,1.7098333333333333,{"$f":"Balance_Horas!$O$30","v":51},3.3526143790849672E-2,null,"Enfermero(a)",null,0.68393333333333339,0.85491666666666666,0.17098333333333335,"","","","","","",1.7098333333333333,null,"Enfermero(a)",null,0.74659090909090908,5.496895968942956E-2]
[null,"Nutricionista",null,null,6.8617727272727276,{"$f":"Balance_Horas!$Q$30","v":26.4},0.25991563360881548,null,"Nutricionista",null,2.7447090909090912,3.4308863636363638,0.6861772727272728,"","","","","","",6.8617727272727276,null,"Nutricionista",null,2.9738636363636362,0.21895550609929551]
[null,"Asistente Social",null,null,1.2568181818181818,{"$f":"Balance_Horas!$S$30","v":35.200000000000003},3.5705061983471072E-2,null,"Asistente Social",null,0.5027272727272728,0.62840909090909092,0.1256818181818182,"","","","","","",1.2568181818181821,null,"Asistente Social",null,0,0]
[null,"Psicólogo(a)",null,null,7.4386363636363644,{"$f":"Balance_Horas!$U$30","v":20.8},0.35762674825174828,null,"Psicólogo(a)",null,2.975454545454546,3.7193181818181822,0.7438636363636365,"","","","","","",7.4386363636363644,null,"Psicólogo(a)",null,0.86363636363636365,6.3586620036478636E-2]
[null,"Fonoaudiólogo(a)",null,null,0,{"$f":"Balance_Horas!$W$30","v":4.4000000000000004},0,null,"Fonoaudiólogo(a)",null,0,0,0,"","","","","","",0,null,"Fonoaudiólogo(a)",null,0,0]
[null,"Kinesiólogo(a)",null,null,1.8036363636363639,{"$f":"Balance_Horas!$Y$30","v":47},3.8375241779497103E-2,null,"Kinesiólogo(a)",null,0.72145454545454557,0.90181818181818196,0.18036363636363639,"","","","","","",1.8036363636363637,null,"Kinesiólogo(a)",null,1.8036363636363639,0.13279563594986699]
[null,"Terapeuta Ocupacional ",null,null,0,{"$f":"Balance_Horas!$AA$30","v":8.8000000000000007},0,null,"Terapeuta Ocupacional ",null,{"$f":"IF(K$14<>\"\",$E27*K$14,\"\")","v":0},0,0,"","","","","","",0,null,"Terapeuta Ocupacional ",null,0,0]
[null,"Tereapeuta Complementario",null,null,0,{"$f":"Balance_Horas!$AC$30","v":0},0,null,"Tereapeuta Complementario",null,0,0,0,"","","","","","",0,null,"Tereapeuta Complementario",null,0,0]
[null,"Prof. Educación Física",null,null,0,{"$f":"Balance_Horas!$AE$30","v":8.8000000000000007},0,null,"Prof. Educación Física",null,0,0,0,"","","","","","",0,null,"Prof. Educación Física",null,0,0]
[null,"Educador(a) Párvulos",null,null,0,{"$f":"Balance_Horas!$AG$30","v":8.8000000000000007},0,null,"Educador(a) Párvulos",null,0,0,0,"","","","","","",0,null,"Educador(a) Párvulos",null,0,0]
[null,"Podólogo(a)",null,null,6.7363636363636363,{"$f":"Balance_Horas!$AI$30","v":15.4},0.43742621015348288,null,"Podólogo(a)",null,2.6945454545454548,3.3681818181818182,0.6736363636363637,"","","","","","",6.7363636363636363,null,"Podólogo(a)",null,0,0]
[null,"TENS",null,null,1.8181818181818181E-2,{"$f":"Balance_Horas!$AK$30","v":176},1.0330578512396694E-4,null,"TENS",null,7.2727272727272727E-3,9.0909090909090905E-3,1.8181818181818182E-3,"","","","","","",1.8181818181818184E-2,null,"TENS",null,0,0]
[null,"TONS",null,null,7.4684772727272737,{"$f":"Balance_Horas!$AM$30","v":35.200000000000003},0.21217264979338843,null,"TONS",null,2.9873909090909097,3.7342386363636368,0.74684772727272741,"","","","","","",7.4684772727272737,null,"TONS",null,0,0]
[null,null,null,"TOTAL",{"$f":"SUM(E17:E33)","v":90.068864651515128},{"$f":"SUM(F17:F33)","v":571.20000000000005},{"$f":"IFERROR(E34/F34,0)","v":0.15768358657478138},null,null,"TOTAL",{"$f":"SUM(K17:K33)","v":36.027545860606061},45.034432325757564,9.0068864651515153,0,0,0,0,0,0,null,null,null,"TOTAL",{"$f":"SUM(X17:X33)","v":13.582045454545455},{"$f":"SUM(Y17:Y33)","v":1}]
[]
[]
[null,"Medicina Preventiva"]
[null,null,null,null,null,null,null,"Resumen Población",null,null,null,null,null,null,"Intervención Profesional",null,null,null,null,null,"Intervención Profesional",null,null,null,null,null,"Intervención Profesional",null,null,null,null,null,"Intervención Profesional"]
[null,"Actividades / Cartera de Servicios",null,null,null,null,"Se Realiza","Población","Cobertura","Usuarios","Concentración","Total Actividades","Concentración","Total Actividad","Tiempo","Rendimiento","Horas Diarias","Estamento ","Concentración","Total Actividad","Tiempo","Rendimiento","Horas Diarias","Estamento ","Concentración","Total Actividad","Tiempo","Rendimiento","Horas Diarias","Estamento ","Concentración","Total Actividad","Tiempo","Rendimiento","Horas Diarias","Estamento "]
[{"$f":"B$37","v":"Medicina Preventiva"},"Examen de Medicina Preventiva (EMP)",null,null,null,null,"Si",7696,0.2,{"$f":"IFERROR((H40*I40),0)","v":1539.2},{"$f":"IFERROR(SUM(M40,S40,Y40,AE40),0)","v":1},{"$f":"IFERROR(SUM(N40,T40,Z40,AF40),0)","v":1539.2000000000003},0.2,{"$f":"IFERROR((J40*M40),0)","v":307.84000000000003},20,{"$f":"IFERROR((60/O40),0)","v":3},{"$f":"IFERROR(N40/(60/O40)/220,0)","v":0.46642424242424246},"Enfermero(a)",0.6,{"$f":"IFERROR((J40*S40),0)","v":923.52},20,{"$f":"IFERROR((60/U40),0)","v":3},{"$f":"IFERROR(T40/(60/U40)/220,0)","v":1.3992727272727272},"Nutricionista",0.2,{"$f":"IFERROR((J40*Y40),0)","v":307.84000000000003},20,{"$f":"IFERROR((60/AA40),0)","v":3},{"$f":"IFERROR(Z40/(60/AA40)/220,0)","v":0.46642424242424246},"Matrón(a)",null,{"$f":"IFERROR((J$40*AE40),0)","v":0},null,{"$f":"IFERROR((60/AG40),0)","v":0},{"$f":"IFERROR(AF40/(60/AG40)/220,0)","v":0}]
[]
[null,"Evaluación Nutricional al Octavo Mes Post Parto"]
[null,null,null,null,null,null,null,"Resumen Población",null,null,null,null,null,null,"Intervención Profesional",null,null,null,null,null,"Intervención Profesional"]
[null,"Actividades / Cartera de Servicios",null,null,null,null,"Se Realiza","Población","Cobertura","Usuarios","Concentración","Total Actividades","Concentración","Total Actividad","Tiempo","Rendimiento","Horas Diarias","Estamento ","Concentración","Total Actividad","Tiempo","Rendimiento","Horas Diarias","Estamento "]
[{"$f":"B$42","v":"Evaluación Nutricional al Octavo Mes Post Parto"},"Evaluacion del  Estado Nutricional a Mujeres Controladas al  Octavo Mes Post Parto",null,null,null,null,"Si",122,0.3,{"$f":"IFERROR((H45*I45),0)","v":36.6},{"$f":"IFERROR(SUM(M45,S45),0)","v":1},{"$f":"IFERROR(SUM(N45,T45),0)","v":36.6},1,{"$f":"IFERROR((J45*M45),0)","v":36.6},30,{"$f":"IFERROR((60/O45),0)","v":2},{"$f":"IFERROR(N45/(60/O45)/220,0)","v":8.318181818181819E-2},"Enfermero(a)",null,{"$f":"IFERROR((J45*S45),0)","v":0},null,{"$f":"IFERROR((60/U45),0)","v":0},{"$f":"IFERROR(T45/(60/U45)/220,0)","v":0},"Nutricionista"]
[]
[null,"Otros Controles Crónicos"]
[null,null,null,null,null,null,null,"Resumen Población",null,null,null,null,null,null,"Intervención Profesional",null,null,null,null,null,"Intervención Profesional"]
[null,"Actividades / Cartera de Servicios",null,null,null,null,"Se Realiza","Población","Cobertura","Usuarios","Concentración","Total Actividades","Concentración","Total Actividad","Tiempo","Rendimiento","Horas Diarias","Estamento ","Concentración","Total Actividad","Tiempo","Rendimiento","Horas Diarias","Estamento "]
[{"$f":"B$47","v":"Otros Controles Crónicos"},"Epilepsia - Ingreso",null,null,null,null,"Si",8827,1E-4,{"$f":"IFERROR((H50*I50),0)","v":0.88270000000000004},{"$f":"IFERROR(SUM(M50,S50),0)","v":1},{"$f":"IFERROR(SUM(N50,T50),0)","v":0.88270000000000004},1,{"$f":"IFERROR((J50*M50),0)","v":0.88270000000000004},30,{"$f":"IFERROR((60/O50),0)","v":2},{"$f":"IFERROR(N50/(60/O50)/220,0)","v":2.0061363636363636E-3},"Médico",null,{"$f":"IFERROR((J50*S50),0)","v":0},null,{"$f":"IFERROR((60/U50),0)","v":0},{"$f":"IFERROR(T50/(60/U50)/220,0)","v":0}]
[{"$f":"B$47","v":"Otros Controles Crónicos"},"Epilepsia - Control",null,null,null,null,"Si",29,1,{"$f":"IFERROR((H51*I51),0)","v":29},3,87,2,{"$f":"IFERROR((J51*M51),0)","v":58},30,{"$f":"IFERROR((60/O51),0)","v":2},0.13181818181818181,"Médico",1,29,30,{"$f":"IFERROR((60/U51),0)","v":2},6.5909090909090903E-2,"Enfermero(a)"]
["Otros Controles Crónicos","Artrosis - Ingreso",null,null,null,null,"Si",8827,0.01,{"$f":"IFERROR((H52*I52),0)","v":88.27},1,88.27,1,88.27,30,2,0.20061363636363636,"Médico",null,0,null,0,0]
["Otros Controles Crónicos","Artrosis - Control",null,null,null,null,"Si",236,1,{"$f":"IFERROR((H53*I53),0)","v":236},2,472,2,472,30,2,1.0727272727272728,"Médico",null,0,null,0,0]
["Otros Controles Crónicos","Parkinson - Ingreso",null,null,null,null,"Si",8827,1E-4,{"$f":"IFERROR((H54*I54),0)","v":0.88270000000000004},1,0.88270000000000004,1,0.88270000000000004,30,2,2.0061363636363636E-3,"Médico",null,0,null,0,0]
["Otros Controles Crónicos","Parkinson - Control",null,null,null,null,"Si",2,1,2,2,4,2,4,30,2,9.0909090909090905E-3,"Médico",null,0,null,0,0]
["Otros Controles Crónicos","TBC - Ingreso",null,null,null,null,"Si",3,1,3,1,3,1,3,30,2,6.8181818181818179E-3,"Médico",null,0,null,0,0]
["Otros Controles Crónicos","TBC - Control",null,null,null,null,"Si",3,1,3,9,27,6,18,30,2,4.0909090909090909E-2,"Médico",3,9,30,2,2.0454545454545454E-2,"Enfermero(a)"]
["Otros Controles Crónicos","Estudio de contacto en domicilio - usuarios TBC",null,null,null,null,"Si",3,1,{"$f":"IFERROR((H58*I58),0)","v":3},2,6,2,6,90,0.66666666666666663,4.0909090909090909E-2,"Enfermero(a)",null,0,null,0,0]
["Otros Controles Crónicos","Hipotiroidismo - Ingreso",null,null,null,null,"Si",8827,3.9399999999999999E-3,34.778379999999999,1,34.778379999999999,1,34.778379999999999,30,2,7.9041772727272724E-2,"Médico",null,0,null,0,0]
["Otros Controles Crónicos","Hipotiroidismo - Control",null,null,null,null,"Si",305,1,305,2,610,2,610,30,2,1.3863636363636365,"Médico",null,0,null,0,0]
["Otros Controles Crónicos","Otros - Ingreso",null,null,null,null,"No",null,null,{"$f":"IFERROR((H61*I61),0)","v":0},0,0,null,0,null,0,0,null,null,0,null,0,0]
["Otros Controles Crónicos","Otros - Control",null,null,null,null,"No",null,null,{"$f":"IFERROR((H62*I62),0)","v":0},0,0,null,0,null,0,0,null,null,0,null,0,0]
[]
[null,"Programa Salud Sexual y Reproductiva"]
[null,null,null,null,null,null,null,"Resumen Población",null,null,null,null,null,null,"Intervención Profesional",null,null,null,null,null,"Intervención Profesional"]
[null,"Actividades / Cartera de Servicios",null,null,null,null,"Se Realiza","Población","Cobertura","Usuarios","Concentración","Total Actividades","Concentración","Total Actividad","Tiempo","Rendimiento","Horas Diarias","Estamento ","Concentración","Total Actividad","Tiempo","Rendimiento","Horas Diarias","Estamento "]
[{"$f":"B$64","v":"Programa Salud Sexual y Reproductiva"},"Consejería preconcepcional ",null,null,null,null,"Si",3360,0.01,{"$f":"IFERROR((H67*I67),0)","v":33.6},{"$f":"IFERROR(SUM(M67,S67),0)","v":1},{"$f":"IFERROR(SUM(N67,T67),0)","v":33.6},1,{"$f":"IFERROR((J67*M67),0)","v":33.6},30,{"$f":"IFERROR((60/O67),0)","v":2},{"$f":"IFERROR(N67/(60/O67)/220,0)","v":7.636363636363637E-2},"Matrón(a)",null,{"$f":"IFERROR((J67*S67),0)","v":0},null,{"$f":"IFERROR((60/U67),0)","v":0},{"$f":"IFERROR(T67/(60/U67)/220,0)","v":0}]
[{"$f":"B$64","v":"Programa Salud Sexual y Reproductiva"},"Control preconcepcional ",null,null,null,null,"Si",3360,0.01,33.6,2,67.2,2,{"$f":"IFERROR((J68*M68),0)","v":67.2},30,2,0.15272727272727274,"Matrón(a)",null,0,null,0,0]
["Programa Salud Sexual y Reproductiva","Ingreso Control Prenatal",null,null,null,null,"Si",135,1,135,1,135,1,135,60,1,0.61363636363636365,"Matrón(a)",null,0,null,0,0]
["Programa Salud Sexual y Reproductiva","Control prenatal ",null,null,null,null,"Si",135,1,135,8,1080,7,945,40,1.5,2.8636363636363638,"Matrón(a)",1,135,30,2,0.30681818181818182,"Médico"]
["Programa Salud Sexual y Reproductiva","Control Diada ",null,null,null,null,"Si",122,1,122,1,122,1,122,60,1,0.55454545454545456,"Matrón(a)",null,0,null,0,0]
["Programa Salud Sexual y Reproductiva","Control Perdida reproductiva",null,null,null,null,"Si",13,1,13,1,13,1,13,30,2,2.9545454545454545E-2,"Matrón(a)",null,0,null,0,0]
["Programa Salud Sexual y Reproductiva","Consulta Morbilidad Obstetrica",null,null,null,null,"Si",135,0.6,81,2,162,1,81,30,2,0.18409090909090908,"Matrón(a)",1,81,20,3,0.12272727272727273,"Médico"]
["Programa Salud Sexual y Reproductiva","Ingreso Control Regulacion de Fertilidad ",null,null,null,null,"Si",3360,0.04,134.4,1,134.4,1,134.4,30,2,0.30545454545454548,"Matrón(a)",null,0,null,0,0]
["Programa Salud Sexual y Reproductiva","Control Regulacion Fertilidad el 1° año",null,null,null,null,"Si",3360,0.04,134.4,3,403.20000000000005,3,403.20000000000005,30,2,0.91636363636363649,"Matrón(a)",null,0,null,0,0]
["Programa Salud Sexual y Reproductiva","Control Regulacion Fertilidad el Seguimiento",null,null,null,null,"Si",3360,0.45,1512,2,3024,2,3024,30,2,6.872727272727273,"Matrón(a)",null,0,null,0,0]
["Programa Salud Sexual y Reproductiva","Consulta Anticoncepciòn de emergencia (PAE)",null,null,null,null,"Si",3360,0.01,33.6,2,67.2,1,33.6,20,3,5.0909090909090911E-2,"Matrón(a)",1,33.6,20,3,5.0909090909090911E-2,"Médico"]
["Programa Salud Sexual y Reproductiva","Control ginecológico  ",null,null,null,null,"Si",4724,0.2,944.80000000000007,1,944.80000000000007,1,944.80000000000007,30,2,2.1472727272727274,"Matrón(a)",null,0,null,0,0]
["Programa Salud Sexual y Reproductiva","Consulta morbilidad ginecológica  ",null,null,null,null,"Si",4724,0.12,566.88,1,566.88,0.8,453.50400000000002,20,3,0.68712727272727281,"Matrón(a)",0.2,113.376,20,3,0.1717818181818182,"Médico"]
["Programa Salud Sexual y Reproductiva","Consulta Morbilidad Ginecológica de Piso Pélvico",null,null,null,null,"Si",4724,0.02,{"$f":"IFERROR((H80*I80),0)","v":94.48},{"$f":"IFERROR(SUM(M80,S80),0)","v":1},{"$f":"IFERROR(SUM(N80,T80),0)","v":94.48},1,{"$f":"IFERROR((J80*M80),0)","v":94.48},30,{"$f":"IFERROR((60/O80),0)","v":2},{"$f":"IFERROR(N80/(60/O80)/220,0)","v":0.21472727272727274},"Matrón(a)",null,{"$f":"IFERROR((J80*S80),0)","v":0},null,{"$f":"IFERROR((60/U80),0)","v":0},{"$f":"IFERROR(T80/(60/U80)/220,0)","v":0}]
["Programa Salud Sexual y Reproductiva","Ingreso Control Climaterio",null,null,null,null,"Si",1853,0.03,55.589999999999996,1,55.589999999999996,1,55.589999999999996,60,1,0.25268181818181817,"Matrón(a)",null,0,null,0,0]
["Programa Salud Sexual y Reproductiva","Control Climaterio Seguimiento",null,null,null,null,"Si",1853,0.04,74.12,2,148.24,1,74.12,30,2,0.16845454545454547,"Matrón(a)",1,74.12,30,2,0.16845454545454547,"Médico"]
["Programa Salud Sexual y Reproductiva","Consulta ITS-SIDA ",null,null,null,null,"Si",8827,0.01,88.27,1,88.27,0.5,44.134999999999998,20,3,6.6871212121212123E-2,"Matrón(a)",0.5,44.134999999999998,20,3,6.6871212121212123E-2,"Médico"]
["Programa Salud Sexual y Reproductiva","Consejería salud sex.y reprod.",null,null,null,null,"Si",3360,0.03,100.8,1,100.8,1,100.8,30,2,0.2290909090909091,"Matrón(a)",null,0,null,0,0]
["Programa Salud Sexual y Reproductiva","Ecografia Obstetrica I Trimestre: Inicial de embarazo antes 10 semanas",null,null,null,null,"Si",135,1,135,1,135,1,135,30,2,0.30681818181818182,"Matrón(a)",null,0,null,0,0]
["Programa Salud Sexual y Reproductiva","Ecografia Obstetrica I Trimestre: 11 - 14 semanas ",null,null,null,null,"Si",135,1,135,1,135,1,135,60,1,0.61363636363636365,"Matrón(a)",null,0,null,0,0]
["Programa Salud Sexual y Reproductiva","Evaluación Nutricional 6° mes post parto",null,null,null,null,"No",null,null,{"$f":"IFERROR((H87*I87),0)","v":0},0,0,null,0,null,0,0,null,null,0,null,0,0]
["Programa Salud Sexual y Reproductiva","Consulta Nutricional  Gestante  (énfasis en Bajo peso y obesa)",null,null,null,null,"Si",135,1,{"$f":"IFERROR((H88*I88),0)","v":135},4,540,4,540,30,2,1.2272727272727273,"Nutricionista",null,0,null,0,0]
["Programa Salud Sexual y Reproductiva","Consulta Social ",null,null,null,null,"Si",135,1,{"$f":"IFERROR((H89*I89),0)","v":135},1,135,1,135,30,2,0.30681818181818182,"Asistente Social",null,0,null,0,0]
["Programa Salud Sexual y Reproductiva","Aplicación de test de pesquisa de  Streptococo Grupo B en Control Prenatal",null,null,null,null,"Si",135,0.8,{"$f":"IFERROR((H90*I90),0)","v":108},1,108,1,108,20,3,0.16363636363636364,"Matrón(a)",null,0,null,0,0]
[]
[null,"Consulta Nutricional"]
[null,null,null,null,null,null,null,"Resumen Población",null,null,null,null,null,null,"Intervención Profesional"]
[null,"Actividades / Cartera de Servicios",null,null,null,null,"Se Realiza","Población","Cobertura","Usuarios","Concentración","Total Actividades","Concentración","Total Actividad","Tiempo","Rendimiento","Horas Diarias","Estamento "]
[{"$f":"B$92","v":"Consulta Nutricional"},"Consulta Nutricional Prediabéticos",null,null,null,null,"Si",17,1,{"$f":"IFERROR((H95*I95),0)","v":17},{"$f":"IFERROR(SUM(M95),0)","v":2},177.3,2,{"$f":"IFERROR((J95*M95),0)","v":34},30,{"$f":"IFERROR((60/O95),0)","v":2},{"$f":"IFERROR(N95/(60/O95)/220,0)","v":7.7272727272727271E-2},"Nutricionista"]
[{"$f":"B$92","v":"Consulta Nutricional"},"Consulta Nutricional Sobrepeso y Obesidad",null,null,null,null,"Si",310,1,{"$f":"IFERROR((H96*I96),0)","v":310},{"$f":"IFERROR(SUM(M96),0)","v":1.5},266,1.5,{"$f":"IFERROR((J96*M96),0)","v":465},30,{"$f":"IFERROR((60/O96),0)","v":2},{"$f":"IFERROR(N96/(60/O96)/220,0)","v":1.0568181818181819},"Nutricionista"]
[{"$f":"B$92","v":"Consulta Nutricional"},"Consulta Nutricional Trastornos Alimentarios",null,null,null,null,"Si",40,1,{"$f":"IFERROR((H97*I97),0)","v":40},{"$f":"IFERROR(SUM(M97),0)","v":1.2},5.3,1.2,{"$f":"IFERROR((J97*M97),0)","v":48},30,{"$f":"IFERROR((60/O97),0)","v":2},{"$f":"IFERROR(N97/(60/O97)/220,0)","v":0.10909090909090909},"Nutricionista"]
[{"$f":"B$92","v":"Consulta Nutricional"},"Consulta Nutricional Dietoterapia",null,null,null,null,"No",null,null,{"$f":"IFERROR((H98*I98),0)","v":0},{"$f":"IFERROR(SUM(M98),0)","v":0},{"$f":"IFERROR(SUM(N98,#REF!),0)","v":0},null,{"$f":"IFERROR((J98*M98),0)","v":0},null,{"$f":"IFERROR((60/O98),0)","v":0},{"$f":"IFERROR(N98/(60/O98)/220,0)","v":0}]
[{"$f":"B$92","v":"Consulta Nutricional"},"Otras consultas nutricionales",null,null,null,null,"No",null,null,{"$f":"IFERROR((H99*I99),0)","v":0},{"$f":"IFERROR(SUM(M99),0)","v":0},{"$f":"IFERROR(SUM(N99,#REF!),0)","v":0},null,{"$f":"IFERROR((J99*M99),0)","v":0},null,{"$f":"IFERROR((60/O99),0)","v":0},{"$f":"IFERROR(N99/(60/O99)/220,0)","v":0}]
[]
[null,"Consulta Morbilidad Adulto"]
[null,null,null,null,null,null,null,"Resumen Población",null,null,null,null,null,null,"Intervención Profesional"]
[null,"Actividades / Cartera de Servicios",null,null,null,null,"Se Realiza","Población","Cobertura","Usuarios","Concentración","Total Actividades","Concentración","Total Actividad","Tiempo","Rendimiento","Horas Diarias","Estamento "]
[{"$f":"B$101","v":"Consulta Morbilidad Adulto"},"Población de 20-64 años",null,null,null,null,"Si",8827,1,{"$f":"IFERROR((H104*I104),0)","v":8827},{"$f":"IFERROR(SUM(M104,S104),0)","v":1.2},{"$f":"IFERROR(SUM(N104,T104),0)","v":10592.4},1.2,{"$f":"IFERROR((J104*M104),0)","v":10592.4},20,{"$f":"IFERROR((60/O104),0)","v":3},{"$f":"IFERROR(N104/(60/O104)/220,0)","v":16.049090909090907},"Médico"]
[]
[null,"Programa Salud Mental Adulto"]
[null,null,null,null,null,null,null,"Resumen Población",null,null,null,null,null,null,"Intervención Profesional",null,null,null,null,null,"Intervención Profesional",null,null,null,null,null,"Intervención Profesional",null,null,null,null,null,"Intervención Profesional"]
[null,"Actividades / Cartera de Servicios",null,null,null,null,"Se Realiza","Población","Cobertura","Usuarios","Concentración","Total Actividades","Concentración","Total Actividad","Tiempo","Rendimiento","Horas Diarias","Estamento ","Concentración","Total Actividad","Tiempo","Rendimiento","Horas Diarias","Estamento ","Concentración","Total Actividad","Tiempo","Rendimiento","Horas Diarias","Estamento ","Concentración","Total Actividad","Tiempo","Rendimiento","Horas Diarias","Estamento "]
[{"$f":"B$106","v":"Programa Salud Mental Adulto"},"Ingreso a Salud Mental Médico (Ges OH/D, EQZ, Violencia, Depresión, Trastornos Ansiosos, Trastornos de la Infancia y Adolescencia, Demencia, otros Trastornos de Salud Mental)",null,null,null,null,"Si",250,1,{"$f":"IFERROR((H109*I109),0)","v":250},{"$f":"IFERROR(SUM(M109,S109),0)","v":1},250,1,{"$f":"IFERROR((J109*M109),0)","v":250},60,{"$f":"IFERROR((60/O109),0)","v":1},{"$f":"IFERROR(N109/(60/O109)/220,0)","v":1.1363636363636365},"Médico",null,{"$f":"IFERROR((J109*S109),0)","v":0},null,{"$f":"IFERROR((60/U109),0)","v":0},{"$f":"IFERROR(T109/(60/U109)/220,0)","v":0},null,null,{"$f":"IFERROR((J109*Y109),0)","v":0},null,{"$f":"IFERROR((60/AA109),0)","v":0},{"$f":"IFERROR(Z109/(60/AA109)/220,0)","v":0},null,null,{"$f":"IFERROR((J109*AE109),0)","v":0},null,{"$f":"IFERROR((60/AG109),0)","v":0},{"$f":"IFERROR(AF109/(60/AG109)/220,0)","v":0}]
[{"$f":"B$106","v":"Programa Salud Mental Adulto"},"Control de Salud Mental Medico  (Ges OH/D, EQZ, Violencia, Depresión, Trastornos Ansiosos, Trastornos de la Infancia y Adolescencia, Demencia, otros Trastornos de Salud Mental)",null,null,null,null,"Si",250,1,{"$f":"IFERROR((H110*I110),0)","v":250},4,1000,4,{"$f":"IFERROR((J110*M110),0)","v":1000},30,{"$f":"IFERROR((60/O110),0)","v":2},2.2727272727272729,"Médico",null,{"$f":"IFERROR((J110*S110),0)","v":0},null,{"$f":"IFERROR((60/U110),0)","v":0},{"$f":"IFERROR(T110/(60/U110)/220,0)","v":0},null,null,{"$f":"IFERROR((J110*Y110),0)","v":0},null,{"$f":"IFERROR((60/AA110),0)","v":0},{"$f":"IFERROR(Z110/(60/AA110)/220,0)","v":0},null,null,{"$f":"IFERROR((J110*AE110),0)","v":0},null,{"$f":"IFERROR((60/AG110),0)","v":0},{"$f":"IFERROR(AF110/(60/AG110)/220,0)","v":0}]
["Programa Salud Mental Adulto","Ingreso a Salud Mental otros profesionales (Ges OH/D, EQZ, Violencia, Depresión, Trastornos Ansiosos, Trastornos de la Infancia y Adolescencia, Demencia, otros Trastornos de Salud Mental)",null,null,null,null,"Si",170,1,{"$f":"IFERROR((H111*I111),0)","v":170},1,170,1,170,40,1.5,0.51515151515151514,"Psicólogo(a)",null,{"$f":"IFERROR((J111*S111),0)","v":0},null,0,{"$f":"IFERROR(T111/(60/U111)/220,0)","v":0},null,null,{"$f":"IFERROR((J111*Y111),0)","v":0},null,0,{"$f":"IFERROR(Z111/(60/AA111)/220,0)","v":0},null,null,{"$f":"IFERROR((J111*AE111),0)","v":0},null,0,{"$f":"IFERROR(AF111/(60/AG111)/220,0)","v":0}]
["Programa Salud Mental Adulto","Control de Salud Mental otros profesionales   (Ges OH/D, EQZ, Violencia, Depresión, Trastornos Ansiosos, Trastornos de la Infancia y Adolescencia, Demencia, otros Trastornos de Salud Mental)",null,null,null,null,"Si",250,1,250,8,2000,7,1750,40,1.5,5.3030303030303036,"Psicólogo(a)",1,{"$f":"IFERROR((J112*S112),0)","v":250},30,2,{"$f":"IFERROR(T112/(60/U112)/220,0)","v":0.56818181818181823},"Asistente Social",null,{"$f":"IFERROR((J112*Y112),0)","v":0},null,0,{"$f":"IFERROR(Z112/(60/AA112)/220,0)","v":0},null,null,{"$f":"IFERROR((J112*AE112),0)","v":0},null,0,{"$f":"IFERROR(AF112/(60/AG112)/220,0)","v":0}]
["Programa Salud Mental Adulto","Aplicación Pauta Evaluación Salud Mental (Ingreso Programa) + Elaboración de GHQ-12",null,null,null,null,"Si",170,1,170,1,170,1,170,45,1.3333333333333333,0.57954545454545459,"Médico",null,{"$f":"IFERROR((J113*S113),0)","v":0},null,0,{"$f":"IFERROR(T113/(60/U113)/220,0)","v":0},null,null,{"$f":"IFERROR((J113*Y113),0)","v":0},null,0,{"$f":"IFERROR(Z113/(60/AA113)/220,0)","v":0},null,null,{"$f":"IFERROR((J113*AE113),0)","v":0},null,0,0]
["Programa Salud Mental Adulto","Aplicación Pauta Evaluación Salud Mental (Egreso Programa)",null,null,null,null,"Si",250,1,250,1,250,1,250,30,2,0.56818181818181823,"Médico",null,0,null,0,0,null,null,0,null,0,0,null,null,0,null,0,0]
["Programa Salud Mental Adulto","Otras Consultas de Salud Mental Médico",null,null,null,null,"Si",150,1,150,1,150,1,150,20,3,0.22727272727272727,"Médico",null,0,null,0,0,null,null,0,null,0,0,null,null,0,null,0,0]
["Programa Salud Mental Adulto","Otras Consultas de Salud Mental otros Profesionales",null,null,null,null,"Si",20,1,20,2,40,1,20,45,1.3333333333333333,6.8181818181818177E-2,"Psicólogo(a)",1,20,45,0,6.8181818181818177E-2,"Asistente Social",null,0,null,0,0,null,null,0,null,0,0]
["Programa Salud Mental Adulto","Control de salud mental medico  (GES OH/D)",null,null,null,null,"No",null,null,0,0,0,null,0,null,0,0,null,null,0,null,0,0,null,null,0,null,0,0,null,null,0,null,0,0]
["Programa Salud Mental Adulto","Control de salud mental otros profesionales  (Ges OH/D)",null,null,null,null,"No",null,null,0,0,0,null,0,null,0,0,null,null,0,null,0,0,null,null,0,null,0,0,null,null,0,null,0,0]
["Programa Salud Mental Adulto","Intervención (consejeria) preventiva en OH y otras drogas (Individual) ",null,null,null,null,"Si",50,1,50,1,50,1,50,20,3,7.575757575757576E-2,"Médico",0,0,0,0,0,"Asistente Social",0,0,0,0,0,"Médico",null,0,null,0,0]
["Programa Salud Mental Adulto","Intervenciones preventivas en OH y otras drogas (Grupal)",null,null,null,null,"No",null,null,0,0,0,null,0,null,0,0,null,null,0,null,0,0,null,null,0,null,0,0,null,null,0,null,0,0]
["Programa Salud Mental Adulto","Intervención Psicosocial individual (Depresión, VIF, OH-drogas, Demencia, Ansiedad y otros)  ",null,null,null,null,"No",null,null,0,0,0,null,0,null,0,0,null,null,0,null,0,0,null,null,0,null,0,0,null,null,0,null,0,0]
["Programa Salud Mental Adulto","Administración e Interpretación pruebas Psicológicas",null,null,null,null,"Si",170,1,170,1,170,1,170,45,1.3333333333333333,0.57954545454545459,"Psicólogo(a)",null,0,null,0,0,null,null,0,null,0,0,null,null,0,null,0,0]
["Programa Salud Mental Adulto","Consultoría Salud Mental ",null,null,null,null,"Si",6,1,6,2,12,1,6,240,0.25,0.10909090909090909,"Psicólogo(a)",1,6,240,0.25,0.10909090909090909,"Asistente Social",1,6,240,0.25,0.10909090909090909,"Médico",null,0,null,0,0]
["Programa Salud Mental Adulto","Intervención Psicosocial Grupal (Depresión, VIF, OH-drogas, Demencia, Ansiedad y otros) ",null,null,null,null,"No",null,null,0,0,0,null,0,null,0,0,null,null,0,null,0,0,null,null,0,null,0,0,null,null,0,null,0,0]
["Programa Salud Mental Adulto","Intervenciones comunitarias con organizaciones de padres y apoderados y con profesores de establecimientos educacionales",null,null,null,null,"No",null,null,0,0,0,null,0,null,0,0,null,null,0,null,0,0,null,null,0,null,0,0,null,null,0,null,0,0]
["Programa Salud Mental Adulto","Agrupaciones de Autoayuda (Apoyo Técnico)",null,null,null,null,"Si",2,1,2,0,0,"0.6",0,120,0.5,0,"Psicólogo(a)","0.6",0,120,0.5,0,"Asistente Social","0.6",0,120,0.5,0,"Médico",null,0,null,0,0]
[]
[null,"Programa Odontológico Adulto"]
[null,null,null,null,null,null,null,"Resumen Población",null,null,null,null,null,null,"Intervención Profesional",null,null,null,null,null,"Intervención Profesional"]
[null,"Actividades / Cartera de Servicios",null,null,null,null,"Se Realiza","Población","Cobertura","Usuarios","Concentración","Total Actividades","Concentración","Total Actividad","Tiempo","Rendimiento","Horas Diarias","Estamento ","Concentración","Total Actividad","Tiempo","Rendimiento","Horas Diarias","Estamento "]
[{"$f":"$B$128","v":"Programa Odontológico Adulto"},"Ingreso GES Embarazadas ",null,null,null,null,"Si",135,1,{"$f":"IFERROR((H131*I131),0)","v":135},{"$f":"IFERROR(AVERAGE(M131,S131),0)","v":1},{"$f":"IFERROR(AVERAGE(N131,T131),0)","v":135},1,{"$f":"IFERROR((J131*M131),0)","v":135},30,{"$f":"IFERROR((60/O131),0)","v":2},{"$f":"IFERROR(N131/(60/O131)/220,0)","v":0.30681818181818182},"Odontólogo",1,{"$f":"IFERROR((J131*S131),0)","v":135},30,{"$f":"IFERROR((60/U131),0)","v":2},{"$f":"IFERROR(T131/(60/U131)/220,0)","v":0.30681818181818182},"TONS"]
[{"$f":"$B$128","v":"Programa Odontológico Adulto"},"Morbilidad Odontológica Embarazadas",null,null,null,null,"Si",135,0.5,{"$f":"IFERROR((H132*I132),0)","v":67.5},5,337.5,5,{"$f":"IFERROR((J132*M132),0)","v":337.5},30,2,0.76704545454545459,"Odontólogo",5,337.5,30,2,0.76704545454545459,"TONS"]
["Programa Odontológico Adulto","Educación grupal Embarazadas ",null,null,null,null,"No",null,null,{"$f":"IFERROR((H133*I133),0)","v":0},0,0,null,0,null,0,0,null,null,0,null,0,0]
["Programa Odontológico Adulto","Morbilidad Odontológica diurna (urgencias)",null,null,null,null,"Si",8827,0.17,1500.5900000000001,1,1500.5900000000001,1,1500.5900000000001,30,2,3.4104318181818187,"Odontólogo",1,1500.5900000000001,30,2,3.4104318181818187,"TONS"]
["Programa Odontológico Adulto","Morbilidad Odontológica usuario situación discapacidad ",null,null,null,null,"Si",5,0.1,0.5,2,1,2,1,60,1,4.5454545454545452E-3,"Odontólogo",2,1,60,1,4.5454545454545452E-3,"TONS"]
["Programa Odontológico Adulto","Educación grupal diabéticos del PSCV / ECICEP",null,null,null,null,"No",null,null,0,0,0,null,0,null,0,0,null,null,0,null,0,0]
["Programa Odontológico Adulto","Morbilidad Odontológica Adultos diabéticos del PSCV / ECICEP",null,null,null,null,"Si",494,7.0000000000000007E-2,34.580000000000005,4,138.32000000000002,4,138.32000000000002,30,2,0.3143636363636364,"Odontólogo",4,138.32000000000002,30,2,0.3143636363636364,"TONS"]
["Programa Odontológico Adulto","Atención Odontológica Domiciliaria (excluye PRAPS)",null,null,null,null,"No",null,null,0,0,0,null,0,null,0,0,null,null,0,null,0,0]
["Programa Odontológico Adulto","Morbilidad Odontológica en Extensión Horaria Percapitada",null,null,null,null,"Si",1706,0.17,290.02000000000004,1,290.02000000000004,1,290.02000000000004,30,2,0.65913636363636374,"Odontólogo",1,290.02000000000004,30,2,0.65913636363636374,"TONS"]
["Programa Odontológico Adulto","Urgencias odontológicas (GES)",null,null,null,null,"Si",8827,0.02,176.54,1,176.54,1,176.54,20,3,0.26748484848484849,"Odontólogo",1,176.54,20,3,0.26748484848484849,"TONS"]
["Programa Odontológico Adulto","Radiografías odontológicas (Periapical y BW)",null,null,null,null,"Si",8827,0.13,1147.51,{"$f":"IFERROR(SUM(M141,S141),0)","v":1},{"$f":"IFERROR(SUM(N141,T141),0)","v":1147.51},1,1147.51,20,3,1.7386515151515152,"TONS",null,0,null,0,0]
[]
[null,"Otras Prestaciones del PSCV"]
[null,null,null,null,null,null,"Resumen Población",null,null,null,null,null,null,null,"Intervención Profesional",null,null,null,null,null,"Intervención Profesional",null,null,null,null,null,"Intervención Profesional",null,null,null,null,null,"Intervención Profesional"]
[null,"Actividades / Cartera de Servicios",null,null,null,null,"Se Realiza","Población","Cobertura","Usuarios","Concentración","Total Actividades","Concentración","Total Actividad","Tiempo","Rendimiento","Horas Diarias","Estamento ","Concentración","Total Actividad","Tiempo","Rendimiento","Horas Diarias","Estamento ","Concentración","Total Actividad","Tiempo","Rendimiento","Horas Diarias","Estamento ","Concentración","Total Actividad","Tiempo","Rendimiento","Horas Diarias","Estamento "]
[{"$f":"B$143","v":"Otras Prestaciones del PSCV"},"PSCV - Ingreso (Solo Médico)",null,null,null,null,"No",null,null,{"$f":"IFERROR((H146*I146),0)","v":0},{"$f":"IFERROR(SUM(M146,S146,Y146,AE146),0)","v":0},0,null,{"$f":"IFERROR(($J146*M146),0)","v":0},null,{"$f":"IFERROR((60/O146),0)","v":0},{"$f":"IFERROR(N146/(60/O146)/220,0)","v":0},null,null,{"$f":"IFERROR(($J146*S146),0)","v":0},null,{"$f":"IFERROR((60/U146),0)","v":0},{"$f":"IFERROR(T146/(60/U146)/220,0)","v":0},null,null,{"$f":"IFERROR(($J146*Y146),0)","v":0},null,{"$f":"IFERROR((60/AA146),0)","v":0},{"$f":"IFERROR(Z198/(60/AA198)/220,0)","v":0},null,null,{"$f":"IFERROR(($J146*AE146),0)","v":0},null,{"$f":"IFERROR((60/AG146),0)","v":0},{"$f":"IFERROR(AF146/(60/AG146)/220,0)","v":0}]
[{"$f":"B$143","v":"Otras Prestaciones del PSCV"},"Consulta Médica de Seguimiento Descompensados (poli compensacion)",null,null,null,null,"Si",300,1,300,3,900,3,{"$f":"IFERROR(($J147*M147),0)","v":900},15,{"$f":"IFERROR((60/O147),0)","v":4},1.0227272727272727,"Médico",null,0,null,{"$f":"IFERROR((60/U147),0)","v":0},0,null,null,0,null,{"$f":"IFERROR((60/AA147),0)","v":0},{"$f":"IFERROR(Z147/(60/AA147)/220,0)","v":0},null,null,0,null,{"$f":"IFERROR((60/AG147),0)","v":0},0]
["Otras Prestaciones del PSCV","Control de Enfermera (incluye evaluaciòn Pie Diabetico)",null,null,null,null,"No",493,1,493,1,493,1,493,30,2,1.1204545454545454,"Enfermero(a)",null,0,null,0,0,null,null,0,null,0,0,null,null,0,null,0,0]
["Otras Prestaciones del PSCV","Control de Enfermera y Nutricionista",null,null,null,null,"No",null,null,0,0,0,null,0,null,0,0,null,null,0,null,0,0,null,null,0,null,0,0,null,null,0,null,0,0]
["Otras Prestaciones del PSCV","RCV Bajo - Control de Seguimiento ",null,null,null,null,"No",null,null,0,0,0,null,0,null,0,0,null,null,0,null,0,0,null,null,0,null,0,0,null,null,0,null,0,0]
["Otras Prestaciones del PSCV","Atención Grupal PSCV",null,null,null,null,"Si",2,1,2,6,12,3,6,120,0.5,5.4545454545454543E-2,"Químico Farmacéutico",1,2,120,0.5,1.8181818181818181E-2,"TENS",1,2,120,0.5,1.8181818181818181E-2,"Nutricionista",1,2,120,0.5,1.8181818181818181E-2,"Enfermero(a)"]
["Otras Prestaciones del PSCV","Control diabeticos para inicio insulinoterapia",null,null,null,null,"Si",20,1,20,1,20,1,20,60,1,9.0909090909090912E-2,"Enfermero(a)",null,0,null,0,0,null,null,0,null,0,0,null,null,0,null,0,0]
["Otras Prestaciones del PSCV","Curación avanzada de heridas",null,null,null,null,"Si",13,1,13,6,78,6,78,30,2,0.17727272727272728,"Enfermero(a)",null,0,null,0,0,null,null,0,null,0,0,null,null,0,null,0,0]
["Otras Prestaciones del PSCV","Atención Podológica ",null,null,null,null,"Si",494,1,494,4,1976,4,1976,45,1.3333333333333333,6.7363636363636363,"Podólogo(a)",null,0,null,0,0,null,null,0,null,0,0,null,null,0,null,0,0]
["Otras Prestaciones del PSCV","Consulta Social",null,null,null,null,"Si",300,0.3,90,1,90,1,90,30,2,0.20454545454545456,"Asistente Social",null,0,null,0,0,null,null,0,null,0,0,null,null,0,null,0,0]
["Otras Prestaciones del PSCV","RCV Moderado - Control de Seguimiento",null,null,null,null,"No",null,null,0,0,0,null,0,null,0,{"$f":"IFERROR(N208/(60/O208)/220,0)","v":0},null,null,0,null,0,0,null,null,0,null,0,{"$f":"IFERROR(Z208/(60/AA208)/220,0)","v":0},null,null,0,null,0,0]
[]
[]
[null,"ECICEP Adulto"]
[null,null,null,null,null,null,"Resumen Población",null,null,null,null,null,null,null,null,null,"Intervención Profesional",null,null,null,null,null,null,"Intervención Profesional",null,null,null,null,"Intervención Profesional"]
[null,"Actividades / Cartera de Servicios",null,null,null,null,"Se Realiza","Población","Cobertura","Usuarios","Concentración","Total Actividades","Concentración","Total Actividad","Tiempo","Rendimiento","Horas Diarias","Estamento  O DUPLAS",null,"Concentración","Total Actividad","Tiempo","Rendimiento","Horas Diarias","Estamento  O DUPLAS",null,"Concentración","Total Actividad","Tiempo","Rendimiento","Horas Diarias","Estamento  O DUPLAS"]
[{"$f":"$B$159","v":"ECICEP Adulto"},"G3 - Ingreso Integral Riesgo Alto con Plan Cuidados (G3)",null,null,null,null,"Si",80,1,{"$f":"IFERROR((H162*I162),0)","v":80},{"$f":"IFERROR(SUM(M162,T162,AA162),0)","v":3},240,1,{"$f":"IFERROR(($J162*M162),0)","v":80},60,{"$f":"IFERROR((60/O162),0)","v":1},{"$f":"IFERROR(N162/(60/O162)/220,0)","v":0.36363636363636365},"Médico",null,2,{"$f":"IFERROR(($J162*T162),0)","v":160},60,{"$f":"IFERROR((60/V162),0)","v":1},{"$f":"IFERROR(U162/(60/V162)/220,0)","v":0.72727272727272729},"Médico","Kinesiólogo(a)",null,{"$f":"IFERROR(($J162*AA162),0)","v":0},null,{"$f":"IFERROR((60/AC162),0)","v":0},{"$f":"IFERROR(AB162/(60/AC162)/220,0)","v":0}]
[{"$f":"$B$159","v":"ECICEP Adulto"},"G3 - Control Integral con Riesgo Alto (G3)",null,null,null,null,"Si",438,1,438,2,876,1,438,45,{"$f":"IFERROR((60/O163),0)","v":1.3333333333333333},1.4931818181818182,"Médico","Nutricionista",0.5,219,45,{"$f":"IFERROR((60/V163),0)","v":1.3333333333333333},0.74659090909090908,"Enfermero(a)",null,0.5,219,45,{"$f":"IFERROR((60/AC163),0)","v":1.3333333333333333},0.74659090909090908,"Nutricionista"]
["ECICEP Adulto","G3 - Seguimiento a Distancia con Riesgo Alto (G3)",null,null,null,null,"Si",44,1,44,1,44,1,44,15,4,0.05,"Kinesiólogo(a)",null,null,0,null,0,0,null,null,null,0,null,0,0]
["ECICEP Adulto","G3 - Atención Farmaceutica y conciliacion farmacologica ",null,null,null,null,"Si",438,0.25,109.5,1,109.5,1,109.5,60,1,0.49772727272727274,"Químico Farmacéutico",null,null,0,null,0,0,null,null,null,0,null,0,0]
["ECICEP Adulto","G3 - Visita familia con integrante c/Multimorbilidad Crónica",null,null,null,null,"Si",438,0.1,43.800000000000004,2,87.600000000000009,2,87.600000000000009,90,0.66666666666666663,0.5972727272727274,"Kinesiólogo(a)",null,null,0,null,0,0,null,null,null,0,null,0,0]
["ECICEP Adulto","G2 - Ingreso Integral Riesgo Moderado con Plan Cuidados (G2)",null,null,null,null,"Si",100,1,100,1.9,190,1.9,190,60,1,0.86363636363636365,"Médico","Psicólogo(a)",null,0,null,0,0,null,null,null,0,null,0,0]
["ECICEP Adulto","G2 - Control Integral con Riesgo Moderado (G2)",null,null,null,null,"Si",506,1,506,1.5,759,1,506,60,1,2.2999999999999998,"Médico",null,0.5,253,30,2,0.57499999999999996,"Nutricionista",null,null,0,null,0,0]
["ECICEP Adulto","G2 - Seguimiento a Distancia con Riesgo Moderado (G2)",null,null,null,null,"Si",25,1,25,1,25,1,25,15,4,2.8409090909090908E-2,"Kinesiólogo(a)",null,null,0,null,0,0,null,null,null,0,null,0,0]
["ECICEP Adulto","G2 - Atención Farmaceutica y conciliacion farmacologica ",null,null,null,null,"Si",506,0.25,126.5,1,126.5,1,126.5,60,1,0.57499999999999996,"Químico Farmacéutico",null,null,0,null,0,0,null,null,null,0,null,0,0]
["ECICEP Adulto","G2 - Visita familia con integrante c/Multimorbilidad Crónica",null,null,null,null,"Si",506,0.05,25.3,2,50.6,2,50.6,90,0.66666666666666663,0.34500000000000003,"Kinesiólogo(a)",null,null,0,null,0,0,null,null,null,0,null,0,0]
["ECICEP Adulto","G1 - Ingreso Integral Riesgo Leve con Plan Cuidados (G1)",null,null,null,null,"Si",70,1,70,0.35,24.5,0.35,24.5,30,2,5.568181818181818E-2,"Médico","Kinesiólogo(a)",null,0,null,0,0,null,null,null,0,null,0,0]
["ECICEP Adulto","G1 - Control Integral con Riesgo Leve (G1)",null,null,null,null,"Si",140,1,140,1.5,210,1,140,30,2,0.31818181818181818,"Médico",null,0.5,70,30,2,0.15909090909090909,"Nutricionista",null,null,0,null,0,0]
["ECICEP Adulto","G1 - Seguimiento a Distancia con Riesgo Leve (G1)",null,null,null,null,"No",null,null,0,0,0,null,0,null,0,0,null,null,null,0,null,0,0,null,null,null,0,null,0,0]
["ECICEP Adulto","G1 - Atención Farmaceutica y conciliacion farmacologica ",null,null,null,null,"No",null,null,0,0,0,null,0,null,0,0,null,null,null,0,null,0,0,null,null,null,0,null,0,0]
["ECICEP Adulto","G1 - Visita familia con integrante c/Multimorbilidad Crónica",null,null,null,null,"No",null,null,0,0,0,null,0,null,0,0,null,null,null,{"$f":"IFERROR((J193*T193),0)","v":0},null,0,0,null,null,null,0,null,0,0]

{"sheet":"Persona_Mayor","index":8,"n_rows":150,"n_cols":36,"rows_kept":150,"cut":false,"hidden":false,"merged":[[146,1,146,5],[147,1,147,5],[148,1,148,5],[149,1,149,5],[137,1,137,5],[138,1,138,5],[139,1,139,5],[140,1,140,5],[141,1,141,5],[142,1,142,5],[143,1,143,5],[144,1,144,5],[145,1,145,5],[133,6,133,11],[134,1,134,5],[134,17,134,18],[134,24,134,25],[134,31,134,32],[135,1,135,5],[136,1,136,5],[117,6,117,11],[118,1,118,5],[123,1,123,5],[124,1,124,5],[125,1,125,5],[126,1,126,5],[127,1,127,5],[128,1,128,5],[129,1,129,5],[119,1,119,5],[120,1,120,5],[121,1,121,5],[122,1,122,5],[2,14,2,15],[2,16,2,17],[5,14,5,15],[11,0,11,4],[5,17,5,18],[6,5,6,6],[6,7,6,9],[3,0,8,1],[3,2,8,3],[3,14,3,15],[3,17,3,19],[4,5,4,6],[4,7,4,9],[4,14,4,15],[4,17,4,18],[5,5,5,6],[5,7,5,9],[12,10,12,18],[14,4,15,4],[14,5,15,5],[14,6,15,6],[14,21,14,22],[14,23,14,24],[15,21,15,22],[8,5,8,9],[8,14,8,15],[9,5,9,9],[9,14,9,15],[18,1,18,3],[18,8,18,9],[18,21,18,22],[19,1,19,3],[19,8,19,9],[19,21,19,22],[16,1,16,3],[16,8,16,9],[16,21,16,22],[17,1,17,3],[17,8,17,9],[17,21,17,22],[22,1,22,3],[22,8,22,9],[22,21,22,22],[23,1,23,3],[23,8,23,9],[23,21,23,22],[20,1,20,3],[20,8,20,9],[20,21,20,22],[21,1,21,3],[21,8,21,9],[21,21,21,22],[26,1,26,3],[26,8,26,9],[26,21,26,22],[27,1,27,3],[27,8,27,9],[27,21,27,22],[24,1,24,3],[24,8,24,9],[24,21,24,22],[25,1,25,3],[25,8,25,9],[25,21,25,22],[30,1,30,3],[30,8,30,9],[30,21,30,22],[31,1,31,3],[31,8,31,9],[31,21,31,22],[28,1,28,3],[28,8,28,9],[28,21,28,22],[29,1,29,3],[29,8,29,9],[29,21,29,22],[32,1,32,3],[32,8,32,9],[32,21,32,22],[37,7,37,11],[38,1,38,5],[39,1,39,5],[40,1,40,5],[43,7,43,11],[44,1,44,4],[45,1,45,5],[110,1,110,5],[111,1,111,5],[114,1,114,5],[67,1,67,5],[66,1,66,5],[53,1,53,5],[69,1,69,5],[60,1,60,5],[68,1,68,5],[87,1,87,5],[88,1,88,5],[89,1,89,5],[90,1,90,5],[91,1,91,5],[92,1,92,5],[93,1,93,5],[94,1,94,5],[104,1,104,5],[105,1,105,5],[72,7,72,11],[73,1,73,4],[81,7,81,11],[108,7,108,11],[112,1,112,5],[113,1,113,5],[82,1,82,5],[83,1,83,5],[75,1,75,5],[76,1,76,5],[77,1,77,5],[78,1,78,5],[74,1,74,5],[109,1,109,5],[95,1,95,5],[96,1,96,5],[97,1,97,5],[98,1,98,5],[99,1,99,5],[100,1,100,5],[101,1,101,5],[102,1,102,5],[103,1,103,5],[86,7,86,11],[63,7,63,11],[64,1,64,4],[65,1,65,5],[49,1,49,5],[50,1,50,5],[51,1,51,5],[52,1,52,5],[48,1,48,5],[46,1,46,5],[47,1,47,5],[54,1,54,5],[55,1,55,5],[56,1,56,5],[57,1,57,5],[58,1,58,5],[59,1,59,5]]}
[]
[]
[]
[null,null,null,null,null,null,null,null,null,null,null,null,null,null,"Grupo Etareo",null,"Usuarios"]
[null,null,null,null,null,"Establecimiento",null,{"$f":"Percapita!$G$6","v":"DEPARTAMENTO DE SALUD MUNICIPAL"},null,null,null,null,null,null,"Población 65 años y mas",null,{"$f":"Resumen_Poblacion!S14","v":1923}]
[null,null,null,null,null,"Comuna",null,{"$f":"Percapita!$G$7","v":"CALLE LARGA"},null,null,null,null,null,null,"Total Población",null,{"$f":"Q5","v":1923}]
[null,null,null,null,null,"Fecha de Programación",null,{"$f":"Balance_Horas!$G$7","v":"2023-10-12"}]
[]
[null,null,null,null,null,"PROGRAMACION APS CICLO VITAL"]
[null,null,null,null,null,"SALUD DE PERSONA MAYOR"]
[]
["Resumen Horas Programadas"]
[null,null,null,null,null,null,null,null,null,null,"Sectorizacion de Poblacion Percapitada",null,null,null,null,null,null,null,null,"Total"]
[null,null,null,null,null,null,null,null,null,"% Poblacion x Sector",0.4,0.5,0.1,null,null,null,null,null,null,{"$f":"SUM(K14:S14)","v":1}]
[null,null,null,null,"Total Horas Ciclo","Horas Contratadas","% uso de horas",null,null,"Total Poblacion",{"$f":"IFERROR($Q$6*K14,0)","v":769.2},961.5,192.3,0,0,0,0,0,0,{"$f":"SUM(K15:S15)","v":1923},null,"Tipo de Programa y/o Estrategia",null,"Programa Salud Mental Persona Mayor"]
[null,null,null,null,null,null,null,null,null,null,"Sector A","Sector B","Posta ","Sector D","Sector E","Sector F","Sector G","Sector H","Sector I","TOTAL",null,"Profesionales",null,"Horas Programadas","%"]
[null,"Médico",null,null,{"$f":"SUMIFS(AI$40:AI$130,AJ$40:AJ$130,B17,G$40:G$130,\"Si\")+SUMIFS(Q$40:Q$130,R$40:R$130,B17,G$40:G$130,\"Si\")+SUMIFS(W$40:W$130,X$40:X$130,B17,G$40:G$130,\"Si\")+SUMIFS(AC$40:AC$130,AD$40:AD$130,B17,G$40:G$130,\"Si\")+SUMIFS(Q$136:Q$150,R$136:R$150,B17,G$136:G$150,\"Si\")+SUMIFS(Q$136:Q$150,S$136:S$150,B17,G$136:G$150,\"Si\")+SUMIFS(X$136:X$150,Y$136:Y$150,B17,G$136:G$150,\"Si\")+SUMIFS(X$136:X$150,Z$136:Z$150,B17,G$136:G$150,\"Si\")+SUMIFS(AE$136:AE$150,AF$136:AF$150,B17,G$136:G$150,\"Si\")+SUMIFS(AE$136:AE$150,AG$136:AG$150,B17,G$136:G$150,\"Si\")","v":17.744443128787879},{"$f":"Balance_Horas!$G$30","v":74.8},{"$f":"IFERROR(E17/F17,0)","v":0.23722517551855454},null,"Médico",null,{"$f":"IF(K$14<>\"\",$E17*K$14,\"\")","v":7.0977772515151516},8.8722215643939393,1.7744443128787879,"","","","","","",{"$f":"SUM(K17:S17)","v":17.744443128787879},null,"Médico",null,{"$f":"SUMIFS(AI$40:AI$130,AJ$40:AJ$130,B17,G$40:G$130,\"Si\",A$40:A$130,X$15)+SUMIFS(Q$40:Q$130,R$40:R$130,B17,G$40:G$130,\"Si\",A$40:A$130,X$15)+SUMIFS(W$40:W$130,X$40:X$130,B17,G$40:G$130,\"Si\",A$40:A$130,X$15)+SUMIFS(AC$40:AC$130,AD$40:AD$130,B17,G$40:G$130,\"Si\",A$40:A$130,X$15)+SUMIFS(Q$136:Q$150,R$136:R$150,B17,G$136:G$150,\"Si\",A$136:A$150,X$15)+SUMIFS(Q$136:Q$150,S$136:S$150,B17,G$136:G$150,\"Si\",A$136:A$150,X$15)+SUMIFS(X$136:X$150,Y$136:Y$150,B17,G$136:G$150,\"Si\",A$136:A$150,X$15)+SUMIFS(X$136:X$150,Z$136:Z$150,B17,G$136:G$150,\"Si\",A$136:A$150,X$15)+SUMIFS(AE$136:AE$150,AF$136:AF$150,B17,G$136:G$150,\"Si\",A$136:A$150,X$15)+SUMIFS(AE$136:AE$150,AG$136:AG$150,B17,G$136:G$150,\"Si\",A$136:A$150,X$15)","v":0.99198484848484858},{"$f":"IFERROR(X17/X$34,0%)","v":0.26774986402097145}]
[null,"Odontólogo",null,null,{"$f":"SUMIFS(AI$40:AI$130,AJ$40:AJ$130,B18,G$40:G$130,\"Si\")+SUMIFS(Q$40:Q$130,R$40:R$130,B18,G$40:G$130,\"Si\")+SUMIFS(W$40:W$130,X$40:X$130,B18,G$40:G$130,\"Si\")+SUMIFS(AC$40:AC$130,AD$40:AD$130,B18,G$40:G$130,\"Si\")+SUMIFS(Q$136:Q$150,R$136:R$150,B18,G$136:G$150,\"Si\")+SUMIFS(Q$136:Q$150,S$136:S$150,B18,G$136:G$150,\"Si\")+SUMIFS(X$136:X$150,Y$136:Y$150,B18,G$136:G$150,\"Si\")+SUMIFS(X$136:X$150,Z$136:Z$150,B18,G$136:G$150,\"Si\")+SUMIFS(AE$136:AE$150,AF$136:AF$150,B18,G$136:G$150,\"Si\")+SUMIFS(AE$136:AE$150,AG$136:AG$150,B18,G$136:G$150,\"Si\")","v":1.6989772727272725},{"$f":"Balance_Horas!$I$30","v":30},{"$f":"IFERROR(E18/F18,0)","v":5.663257575757575E-2},null,"Odontólogo",null,0.67959090909090902,0.84948863636363625,0.16989772727272726,"","","","","","",{"$f":"SUM(K18:S18)","v":1.6989772727272727},null,"Odontólogo",null,{"$f":"SUMIFS(AI$40:AI$130,AJ$40:AJ$130,B18,G$40:G$130,\"Si\",A$40:A$130,X$15)+SUMIFS(Q$40:Q$130,R$40:R$130,B18,G$40:G$130,\"Si\",A$40:A$130,X$15)+SUMIFS(W$40:W$130,X$40:X$130,B18,G$40:G$130,\"Si\",A$40:A$130,X$15)+SUMIFS(AC$40:AC$130,AD$40:AD$130,B18,G$40:G$130,\"Si\",A$40:A$130,X$15)+SUMIFS(Q$136:Q$150,R$136:R$150,B18,G$136:G$150,\"Si\",A$136:A$150,X$15)+SUMIFS(Q$136:Q$150,S$136:S$150,B18,G$136:G$150,\"Si\",A$136:A$150,X$15)+SUMIFS(X$136:X$150,Y$136:Y$150,B18,G$136:G$150,\"Si\",A$136:A$150,X$15)+SUMIFS(X$136:X$150,Z$136:Z$150,B18,G$136:G$150,\"Si\",A$136:A$150,X$15)+SUMIFS(AE$136:AE$150,AF$136:AF$150,B18,G$136:G$150,\"Si\",A$136:A$150,X$15)+SUMIFS(AE$136:AE$150,AG$136:AG$150,B18,G$136:G$150,\"Si\",A$136:A$150,X$15)","v":0},0]
[null,"Químico Farmacéutico",null,null,0.57215909090909089,{"$f":"Balance_Horas!$K$30","v":8.8000000000000007},6.5018078512396688E-2,null,"Químico Farmacéutico",null,0.22886363636363638,0.28607954545454545,5.7215909090909095E-2,"","","","","","",0.57215909090909089,null,"Químico Farmacéutico",null,0,0]
[null,"Matrón(a)",null,null,0.50966666666666671,{"$f":"Balance_Horas!$M$30","v":19.8},2.5740740740740741E-2,null,"Matrón(a)",null,0.2038666666666667,0.25483333333333336,5.0966666666666674E-2,"","","","","","",0.50966666666666671,null,"Matrón(a)",null,0,0]
[null,"Enfermero(a)",null,null,3.8151891363636365,{"$f":"Balance_Horas!$O$30","v":51},7.4807630124777189E-2,null,"Enfermero(a)",null,1.5260756545454548,1.9075945681818183,0.3815189136363637,"","","","","","",3.815189136363637,null,"Enfermero(a)",null,0,0]
[null,"Nutricionista",null,null,4.6012500000000003,{"$f":"Balance_Horas!$Q$30","v":26.4},0.17428977272727275,null,"Nutricionista",null,1.8405000000000002,2.3006250000000001,0.46012500000000006,"","","","","","",4.6012500000000003,null,"Nutricionista",null,0,0]
[null,"Asistente Social",null,null,0.47750000000000004,{"$f":"Balance_Horas!$S$30","v":35.200000000000003},1.3565340909090909E-2,null,"Asistente Social",null,0.19100000000000003,0.23875000000000002,4.7750000000000008E-2,"","","","","","",0.47750000000000009,null,"Asistente Social",null,0.32272727272727275,8.7108370173766894E-2]
[null,"Psicólogo(a)",null,null,3.5424545454545453,{"$f":"Balance_Horas!$U$30","v":20.8},0.17031031468531468,null,"Psicólogo(a)",null,1.4169818181818181,1.7712272727272727,0.35424545454545453,"","","","","","",3.5424545454545449,null,"Psicólogo(a)",null,2.390181818181818,0.64514176580526161]
[null,"Fonoaudiólogo(a)",null,null,0,{"$f":"Balance_Horas!$W$30","v":4.4000000000000004},0,null,"Fonoaudiólogo(a)",null,0,0,0,"","","","","","",0,null,"Fonoaudiólogo(a)",null,0,0]
[null,"Kinesiólogo(a)",null,null,4.2631363636363639,{"$f":"Balance_Horas!$Y$30","v":47},9.0705029013539662E-2,null,"Kinesiólogo(a)",null,1.7052545454545456,2.131568181818182,0.42631363636363639,"","","","","","",4.2631363636363639,null,"Kinesiólogo(a)",null,0,0]
[null,"Terapeuta Ocupacional ",null,null,0.40208181818181826,{"$f":"Balance_Horas!$AA$30","v":8.8000000000000007},4.5691115702479343E-2,null,"Terapeuta Ocupacional ",null,{"$f":"IF(K$14<>\"\",$E27*K$14,\"\")","v":0.16083272727272732},0.20104090909090913,4.020818181818183E-2,"","","","","","",0.40208181818181826,null,"Terapeuta Ocupacional ",null,0,0]
[null,"Tereapeuta Complementario",null,null,0,{"$f":"Balance_Horas!$AC$30","v":0},0,null,"Tereapeuta Complementario",null,0,0,0,"","","","","","",0,null,"Tereapeuta Complementario",null,0,0]
[null,"Prof. Educación Física",null,null,0,{"$f":"Balance_Horas!$AE$30","v":8.8000000000000007},0,null,"Prof. Educación Física",null,0,0,0,"","","","","","",0,null,"Prof. Educación Física",null,0,0]
[null,"Educador(a) Párvulos",null,null,0,{"$f":"Balance_Horas!$AG$30","v":8.8000000000000007},0,null,"Educador(a) Párvulos",null,0,0,0,"","","","","","",0,null,"Educador(a) Párvulos",null,0,0]
[null,"Podólogo(a)",null,null,4.6431818181818185,{"$f":"Balance_Horas!$AI$30","v":15.4},0.30150531286894927,null,"Podólogo(a)",null,1.8572727272727274,2.3215909090909093,0.46431818181818185,"","","","","","",4.6431818181818194,null,"Podólogo(a)",null,0,0]
[null,"TENS",null,null,0,{"$f":"Balance_Horas!$AK$30","v":176},0,null,"TENS",null,0,0,0,"","","","","","",0,null,"TENS",null,0,0]
[null,"TONS",null,null,1.8242636363636362,{"$f":"Balance_Horas!$AM$30","v":35.200000000000003},5.1825671487603295E-2,null,"TONS",null,0.72970545454545455,0.9121318181818181,0.18242636363636364,"","","","","","",1.8242636363636362,null,"TONS",null,0,0]
[null,null,null,"TOTAL",{"$f":"SUM(E17:E33)","v":44.094303477272724},{"$f":"SUM(F17:F33)","v":571.20000000000005},{"$f":"IFERROR(E34/F34,0)","v":7.7195909449006866E-2},null,null,"TOTAL",{"$f":"SUM(K17:K33)","v":17.637721390909089},22.047151738636362,4.4094303477272723,0,0,0,0,0,0,null,null,null,"TOTAL",{"$f":"SUM(X17:X33)","v":3.7048939393939393},{"$f":"SUM(Y17:Y33)","v":1}]
[]
[]
[null,"Medicina Preventiva"]
[null,null,null,null,null,null,null,"Resumen Población",null,null,null,null,null,null,"Intervención Profesional",null,null,null,null,null,"Intervención Profesional",null,null,null,null,null,"Intervención Profesional",null,null,null,null,null,"Intervención Profesional"]
[null,"Actividades / Cartera de Servicios",null,null,null,null,"Se Realiza","Población","Cobertura","Usuarios","Concentración","Total Actividades","Concentración","Total Actividad","Tiempo","Rendimiento","Horas Diarias","Estamento ","Concentración","Total Actividad","Tiempo","Rendimiento","Horas Diarias","Estamento ","Concentración","Total Actividad","Tiempo","Rendimiento","Horas Diarias","Estamento ","Concentración","Total Actividad","Tiempo","Rendimiento","Horas Diarias","Estamento "]
[{"$f":"B$37","v":"Medicina Preventiva"},"Examen de Medicina Preventiva (EMPAM)",null,null,null,null,"Si",1923,0.46,{"$f":"IFERROR((H40*I40),0)","v":884.58},{"$f":"IFERROR(SUM(M40,S40,Y40,AE40),0)","v":1},{"$f":"IFERROR(SUM(N40,T40,Z40,AF40),0)","v":884.58},0.4,{"$f":"IFERROR((J40*M40),0)","v":353.83200000000005},60,{"$f":"IFERROR((60/O40),0)","v":1},{"$f":"IFERROR(N40/(60/O40)/220,0)","v":1.608327272727273},"Enfermero(a)",0.5,{"$f":"IFERROR((J40*S40),0)","v":442.29},60,{"$f":"IFERROR((60/U40),0)","v":1},{"$f":"IFERROR(T40/(60/U40)/220,0)","v":2.010409090909091},"Kinesiólogo(a)",null,{"$f":"IFERROR((J40*Y40),0)","v":0},null,{"$f":"IFERROR((60/AA40),0)","v":0},{"$f":"IFERROR(Z40/(60/AA40)/220,0)","v":0},null,0.1,{"$f":"IFERROR((J40*AE40),0)","v":88.458000000000013},60,{"$f":"IFERROR((60/AG40),0)","v":1},{"$f":"IFERROR(AF40/(60/AG40)/220,0)","v":0.40208181818181826},"Terapeuta Ocupacional "]
[{"$f":"B$37","v":"Medicina Preventiva"},"Control de Seguimiento EMPAM 65 años y más  autovalente con riesgo y riesgo de dependencia",null,null,null,null,"Si",90,1,{"$f":"IFERROR((H41*I41),0)","v":90},{"$f":"IFERROR(SUM(M41,S41,Y41,AE41),0)","v":1.1000000000000001},{"$f":"IFERROR(SUM(N41,T41,Z41,AF41),0)","v":99},0.8,{"$f":"IFERROR((J41*M41),0)","v":72},30,{"$f":"IFERROR((60/O41),0)","v":2},{"$f":"IFERROR(N41/(60/O41)/220,0)","v":0.16363636363636364},"Enfermero(a)",0.3,{"$f":"IFERROR((J41*S41),0)","v":27},30,{"$f":"IFERROR((60/U41),0)","v":2},{"$f":"IFERROR(T41/(60/U41)/220,0)","v":6.1363636363636363E-2},"Kinesiólogo(a)",null,{"$f":"IFERROR((J41*Y41),0)","v":0},null,{"$f":"IFERROR((60/AA41),0)","v":0},{"$f":"IFERROR(Z41/(60/AA41)/220,0)","v":0},null,null,{"$f":"IFERROR((J41*AE41),0)","v":0},null,{"$f":"IFERROR((60/AG41),0)","v":0},{"$f":"IFERROR(AF41/(60/AG41)/220,0)","v":0}]
[]
[null,"Otros Controles Crónicos"]
[null,null,null,null,null,null,null,"Resumen Población",null,null,null,null,null,null,"Intervención Profesional",null,null,null,null,null,"Intervención Profesional"]
[null,"Actividades / Cartera de Servicios",null,null,null,null,"Se Realiza","Población","Cobertura","Usuarios","Concentración","Total Actividades","Concentración","Total Actividad","Tiempo","Rendimiento","Horas Diarias","Estamento ","Concentración","Total Actividad","Tiempo","Rendimiento","Horas Diarias","Estamento "]
[{"$f":"B$43","v":"Otros Controles Crónicos"},"Epilepsia - Ingreso",null,null,null,null,"Si",1923,5.0000000000000001E-4,{"$f":"IFERROR((H46*I46),0)","v":0.96150000000000002},{"$f":"IFERROR(SUM(M46,S46),0)","v":1},{"$f":"IFERROR(SUM(N46,T46),0)","v":0.96150000000000002},1,{"$f":"IFERROR((J46*M46),0)","v":0.96150000000000002},30,{"$f":"IFERROR((60/O46),0)","v":2},{"$f":"IFERROR(N46/(60/O46)/220,0)","v":2.1852272727272727E-3},"Médico",null,{"$f":"IFERROR((J46*S46),0)","v":0},30,{"$f":"IFERROR((60/U46),0)","v":2},{"$f":"IFERROR(T46/(60/U46)/220,0)","v":0}]
[{"$f":"B$43","v":"Otros Controles Crónicos"},"Epilepsia - Control",null,null,null,null,"Si",13,1,{"$f":"IFERROR((H47*I47),0)","v":13},3,39,2,{"$f":"IFERROR((J47*M47),0)","v":26},30,{"$f":"IFERROR((60/O47),0)","v":2},5.909090909090909E-2,"Enfermero(a)",1,13,30,{"$f":"IFERROR((60/U47),0)","v":2},2.9545454545454545E-2,"Médico"]
["Otros Controles Crónicos","Artrosis - Ingreso",null,null,null,null,"Si",1923,0.01,{"$f":"IFERROR((H48*I48),0)","v":19.23},1,19.23,1,19.23,30,2,4.3704545454545454E-2,"Médico",null,0,null,0,0]
["Otros Controles Crónicos","Artrosis - Control",null,null,null,null,"Si",316,1,{"$f":"IFERROR((H49*I49),0)","v":316},2,632,2,632,30,2,1.4363636363636363,"Médico",null,0,null,0,0]
["Otros Controles Crónicos","Parkinson - Ingreso",null,null,null,null,"Si",1923,1.5299999999999999E-3,{"$f":"IFERROR((H50*I50),0)","v":2.9421899999999996},1,2.9421899999999996,1,2.9421899999999996,30,2,6.6867954545454539E-3,"Médico",null,0,null,0,0]
["Otros Controles Crónicos","Parkinson - Control",null,null,null,null,"Si",16,1,16,2,32,2,32,30,2,7.2727272727272724E-2,"Médico",null,0,null,0,0]
["Otros Controles Crónicos","TBC - Ingreso",null,null,null,null,"Si",1923,1.3999999999999999E-4,0.26921999999999996,2,0.53843999999999992,1,0.26921999999999996,30,2,6.118636363636363E-4,"Médico",1,0.26921999999999996,30,2,6.118636363636363E-4,"Enfermero(a)"]
["Otros Controles Crónicos","TBC - Control",null,null,null,null,"Si",1,1,1,9,9,3,3,30,2,6.8181818181818179E-3,"Enfermero(a)",6,6,20,3,9.0909090909090905E-3,"Médico"]
["Otros Controles Crónicos","Estudio de contacto en domicilio - usuarios TBC",null,null,null,null,"Si",1,1,{"$f":"IFERROR((H54*I54),0)","v":1},2,2,2,2,90,0.66666666666666663,1.3636363636363636E-2,"Enfermero(a)",null,0,null,0,0]
["Otros Controles Crónicos","Demencia - Ingreso (post EMPAM MMSE alterado y segunda consulta)",null,null,null,null,"Si",959,3.0599999999999999E-2,29.345399999999998,1,29.345399999999998,1,29.345399999999998,30,2,6.6694090909090911E-2,"Médico",null,0,null,0,0]
["Otros Controles Crónicos","Demencia - Control",null,null,null,null,"Si",57,1,57,5,285,2,114,30,2,0.25909090909090909,"Médico",3,171,30,2,0.38863636363636361,"Psicólogo(a)"]
["Otros Controles Crónicos","Demencia - Consultoria en tematica de Demencia por Unidad de Memoria",null,null,null,null,"Si",4,1,4,1,4,0.5,2,180,0.33333333333333331,2.7272727272727271E-2,"Enfermero(a)",0.5,2,180,0.33333333333333331,2.7272727272727271E-2,"Médico"]
["Otros Controles Crónicos","Hipotiroidismo - Ingreso",null,null,null,null,"Si",1923,0.01,19.23,1,19.23,1,19.23,30,2,4.3704545454545454E-2,"Médico",null,0,null,0,0]
["Otros Controles Crónicos","Hipotiroidismo - Control",null,null,null,null,"Si",203,1,203,2,406,2,406,30,2,0.92272727272727273,"Médico",null,0,null,0,0]
["Otros Controles Crónicos","Otros - Ingreso",null,null,null,null,"No",null,null,{"$f":"IFERROR((H60*I60),0)","v":0},0,0,null,0,null,0,0,null,null,0,null,0,0]
["Otros Controles Crónicos","Otros - Control",null,null,null,null,"No",null,null,{"$f":"IFERROR((H61*I61),0)","v":0},0,0,null,0,null,0,0,null,null,0,null,0,0]
[]
[null,"Programa Salud Sexual "]
[null,null,null,null,null,null,null,"Resumen Población",null,null,null,null,null,null,"Intervención Profesional",null,null,null,null,null,"Intervención Profesional"]
[null,"Actividades / Cartera de Servicios",null,null,null,null,"Se Realiza","Población","Cobertura","Usuarios","Concentración","Total Actividades","Concentración","Total Actividad","Tiempo","Rendimiento","Horas Diarias","Estamento ","Concentración","Total Actividad","Tiempo","Rendimiento","Horas Diarias","Estamento "]
[{"$f":"B$63","v":"Programa Salud Sexual "},"Control ginecológico  ",null,null,null,null,"Si",556,0.2,{"$f":"IFERROR((H66*I66),0)","v":111.2},{"$f":"IFERROR(SUM(M66,S66),0)","v":1},111.2,1,{"$f":"IFERROR((J66*M66),0)","v":111.2},30,{"$f":"IFERROR((60/O66),0)","v":2},{"$f":"IFERROR(N66/(60/O66)/220,0)","v":0.25272727272727274},"Matrón(a)",null,{"$f":"IFERROR((J66*S66),0)","v":0},null,{"$f":"IFERROR((60/U66),0)","v":0},{"$f":"IFERROR(T66/(60/U66)/220,0)","v":0}]
[{"$f":"B$63","v":"Programa Salud Sexual "},"Consejeria Sexual y Reproductiva",null,null,null,null,"Si",556,0.1,{"$f":"IFERROR((H67*I67),0)","v":55.6},1,55.6,1,{"$f":"IFERROR((J67*M67),0)","v":55.6},30,{"$f":"IFERROR((60/O67),0)","v":2},{"$f":"IFERROR(N67/(60/O67)/220,0)","v":0.12636363636363637},"Matrón(a)",null,{"$f":"IFERROR((J67*S67),0)","v":0},null,{"$f":"IFERROR((60/U67),0)","v":0},{"$f":"IFERROR(T67/(60/U67)/220,0)","v":0}]
[{"$f":"B$63","v":"Programa Salud Sexual "},"Consulta morbilidad ginecológica  ",null,null,null,null,"Si",556,0.3,{"$f":"IFERROR((H68*I68),0)","v":166.79999999999998},1,166.79999999999998,0.5,{"$f":"IFERROR((J68*M68),0)","v":83.399999999999991},20,{"$f":"IFERROR((60/O68),0)","v":3},{"$f":"IFERROR(N68/(60/O68)/220,0)","v":0.12636363636363634},"Matrón(a)",0.5,{"$f":"IFERROR((J68*S68),0)","v":83.399999999999991},20,{"$f":"IFERROR((60/U68),0)","v":3},{"$f":"IFERROR(T68/(60/U68)/220,0)","v":0.12636363636363634},"Médico"]
[{"$f":"B$63","v":"Programa Salud Sexual "},"Consulta Morbilidad Ginecológica de Piso Pélvico",null,null,null,null,"Si",null,null,{"$f":"IFERROR((H69*I69),0)","v":0},{"$f":"IFERROR(SUM(M69,S69),0)","v":0},{"$f":"IFERROR(SUM(N69,T69),0)","v":0},null,{"$f":"IFERROR((J69*M69),0)","v":0},null,{"$f":"IFERROR((60/O69),0)","v":0},{"$f":"IFERROR(N69/(60/O69)/220,0)","v":0},null,null,{"$f":"IFERROR((J69*S69),0)","v":0},null,{"$f":"IFERROR((60/U69),0)","v":0},{"$f":"IFERROR(T69/(60/U69)/220,0)","v":0}]
[{"$f":"B$63","v":"Programa Salud Sexual "},"Consulta ITS-SIDA ",null,null,null,null,"Si",556,0.01,{"$f":"IFERROR((H70*I70),0)","v":5.5600000000000005},1,5.5600000000000005,0.5,{"$f":"IFERROR((J70*M70),0)","v":2.7800000000000002},20,{"$f":"IFERROR((60/O70),0)","v":3},{"$f":"IFERROR(N70/(60/O70)/220,0)","v":4.2121212121212122E-3},"Matrón(a)",0.5,{"$f":"IFERROR((J70*S70),0)","v":2.7800000000000002},20,{"$f":"IFERROR((60/U70),0)","v":3},{"$f":"IFERROR(T70/(60/U70)/220,0)","v":4.2121212121212122E-3},"Médico"]
[]
[null,"Consulta Nutricional"]
[null,null,null,null,null,null,null,"Resumen Población",null,null,null,null,null,null,"Intervención Profesional"]
[null,"Actividades / Cartera de Servicios",null,null,null,null,"Se Realiza","Población","Cobertura","Usuarios","Concentración","Total Actividades","Concentración","Total Actividad","Tiempo","Rendimiento","Horas Diarias","Estamento "]
[{"$f":"B$72","v":"Consulta Nutricional"},"Consulta Nutricional Prediabéticos",null,null,null,null,"Si",84,1,{"$f":"IFERROR((H75*I75),0)","v":84},{"$f":"IFERROR(SUM(M75,),0)","v":3},{"$f":"IFERROR(SUM(N75,#REF!),0)","v":0},3,{"$f":"IFERROR((J75*M75),0)","v":252},30,{"$f":"IFERROR((60/O75),0)","v":2},{"$f":"IFERROR(N75/(60/O75)/220,0)","v":0.57272727272727275},"Nutricionista"]
[{"$f":"B$72","v":"Consulta Nutricional"},"Consulta Nutricional Sobrepeso y Obesidad",null,null,null,null,"Si",422,0.2,{"$f":"IFERROR((H76*I76),0)","v":84.4},{"$f":"IFERROR(SUM(M76,),0)","v":3},{"$f":"IFERROR(SUM(N76,#REF!),0)","v":0},3,{"$f":"IFERROR((J76*M76),0)","v":253.20000000000002},20,{"$f":"IFERROR((60/O76),0)","v":3},{"$f":"IFERROR(N76/(60/O76)/220,0)","v":0.38363636363636366},"Nutricionista"]
[{"$f":"B$72","v":"Consulta Nutricional"},"Consulta Nutricional Trastornos Alimentarios",null,null,null,null,"Si",null,null,{"$f":"IFERROR((H77*I77),0)","v":0},{"$f":"IFERROR(SUM(M77,),0)","v":0},{"$f":"IFERROR(SUM(N77,#REF!),0)","v":0},null,{"$f":"IFERROR((J77*M77),0)","v":0},null,{"$f":"IFERROR((60/O77),0)","v":0},{"$f":"IFERROR(N77/(60/O77)/220,0)","v":0}]
[{"$f":"B$72","v":"Consulta Nutricional"},"Consulta Nutricional Dietoterapia",null,null,null,null,"No",null,null,{"$f":"IFERROR((H78*I78),0)","v":0},{"$f":"IFERROR(SUM(M78,),0)","v":0},{"$f":"IFERROR(SUM(N78,#REF!),0)","v":0},null,{"$f":"IFERROR((J78*M78),0)","v":0},null,{"$f":"IFERROR((60/O78),0)","v":0},{"$f":"IFERROR(N78/(60/O78)/220,0)","v":0}]
[{"$f":"B$72","v":"Consulta Nutricional"},"Otras consultas nutricionales",null,null,null,null,"No",null,null,{"$f":"IFERROR((H79*I79),0)","v":0},{"$f":"IFERROR(SUM(M79,),0)","v":0},{"$f":"IFERROR(SUM(N79,#REF!),0)","v":0},null,{"$f":"IFERROR((J79*M79),0)","v":0},null,{"$f":"IFERROR((60/O79),0)","v":0},{"$f":"IFERROR(N79/(60/O79)/220,0)","v":0}]
[]
[null,"Consulta Morbilidad Persona Mayor"]
[null,null,null,null,null,null,null,"Resumen Población",null,null,null,null,null,null,"Intervención Profesional"]
[null,"Actividades / Cartera de Servicios",null,null,null,null,"Se Realiza","Población","Cobertura","Usuarios","Concentración","Total Actividades","Concentración","Total Actividad","Tiempo","Rendimiento","Horas Diarias","Estamento "]
[{"$f":"B81","v":"Consulta Morbilidad Persona Mayor"},"Población de 65 años y mas",null,null,null,null,"Si",1923,1,{"$f":"IFERROR((H84*I84),0)","v":1923},{"$f":"IFERROR(SUM(M84,S84),0)","v":2.2000000000000002},{"$f":"IFERROR(SUM(N84,T84),0)","v":4230.6000000000004},2.2000000000000002,{"$f":"IFERROR((J84*M84),0)","v":4230.6000000000004},20,{"$f":"IFERROR((60/O84),0)","v":3},{"$f":"IFERROR(N84/(60/O84)/220,0)","v":6.41},"Médico"]
[]
[null,"Programa Salud Mental Persona Mayor"]
[null,null,null,null,null,null,null,"Resumen Población",null,null,null,null,null,null,"Intervención Profesional",null,null,null,null,null,"Intervención Profesional",null,null,null,null,null,"Intervención Profesional",null,null,null,null,null,"Intervención Profesional"]
[null,"Actividades / Cartera de Servicios",null,null,null,null,"Se Realiza","Población","Cobertura","Usuarios","Concentración","Total Actividades","Concentración","Total Actividad","Tiempo","Rendimiento","Horas Diarias","Estamento ","Concentración","Total Actividad","Tiempo","Rendimiento","Horas Diarias","Estamento ","Concentración","Total Actividad","Tiempo","Rendimiento","Horas Diarias","Estamento ","Concentración","Total Actividad","Tiempo","Rendimiento","Horas Diarias","Estamento "]
[{"$f":"B$86","v":"Programa Salud Mental Persona Mayor"},"Ingreso a Salud Mental Médico (Ges OH/D, EQZ, Violencia, Depresión, Trastornos Ansiosos, Trastornos de la Infancia y Adolescencia, Demencia, otros Trastornos de Salud Mental)",null,null,null,null,"Si",40,1.9E-2,{"$f":"IFERROR((H89*I89),0)","v":0.76},{"$f":"IFERROR(SUM(M89,S89),0)","v":1},0.76,1,{"$f":"IFERROR((J89*M89),0)","v":0.76},45,{"$f":"IFERROR((60/O89),0)","v":1.3333333333333333},{"$f":"IFERROR(N89/(60/O89)/220,0)","v":2.5909090909090912E-3},"Médico",null,{"$f":"IFERROR((J89*S89),0)","v":0},null,{"$f":"IFERROR((60/U89),0)","v":0},{"$f":"IFERROR(T89/(60/U89)/220,0)","v":0},null,null,{"$f":"IFERROR((J89*Y89),0)","v":0},null,{"$f":"IFERROR((60/AA89),0)","v":0},{"$f":"IFERROR(Z89/(60/AA89)/220,0)","v":0},null,null,{"$f":"IFERROR((J89*AE89),0)","v":0},null,{"$f":"IFERROR((60/AG89),0)","v":0},{"$f":"IFERROR(AF89/(60/AG89)/220,0)","v":0}]
[{"$f":"B$86","v":"Programa Salud Mental Persona Mayor"},"Control de Salud Mental Medico  (Ges OH/D, EQZ, Violencia, Depresión, Trastornos Ansiosos, Trastornos de la Infancia y Adolescencia, Demencia, otros Trastornos de Salud Mental)",null,null,null,null,"Si",80,1,{"$f":"IFERROR((H90*I90),0)","v":80},4,320,4,{"$f":"IFERROR((J90*M90),0)","v":320},30,{"$f":"IFERROR((60/O90),0)","v":2},0.72727272727272729,"Médico",null,{"$f":"IFERROR((J90*S90),0)","v":0},null,{"$f":"IFERROR((60/U90),0)","v":0},{"$f":"IFERROR(T90/(60/U90)/220,0)","v":0},null,null,{"$f":"IFERROR((J90*Y90),0)","v":0},null,{"$f":"IFERROR((60/AA90),0)","v":0},{"$f":"IFERROR(Z90/(60/AA90)/220,0)","v":0},null,null,{"$f":"IFERROR((J90*AE90),0)","v":0},null,{"$f":"IFERROR((60/AG90),0)","v":0},{"$f":"IFERROR(AF90/(60/AG90)/220,0)","v":0}]
["Programa Salud Mental Persona Mayor","Ingreso a Salud Mental otros profesionales (Ges OH/D, EQZ, Violencia, Depresión, Trastornos Ansiosos, Trastornos de la Infancia y Adolescencia, Demencia, otros Trastornos de Salud Mental)",null,null,null,null,"Si",40,1.9E-2,{"$f":"IFERROR((H91*I91),0)","v":0.76},1,0.76,1,0.76,40,1.5,2.3030303030303033E-3,"Psicólogo(a)",null,{"$f":"IFERROR((J91*S91),0)","v":0},null,0,{"$f":"IFERROR(T91/(60/U91)/220,0)","v":0},null,null,{"$f":"IFERROR((J91*Y91),0)","v":0},null,0,{"$f":"IFERROR(Z91/(60/AA91)/220,0)","v":0},null,null,{"$f":"IFERROR((J91*AE91),0)","v":0},null,0,{"$f":"IFERROR(AF91/(60/AG91)/220,0)","v":0}]
["Programa Salud Mental Persona Mayor","Control de Salud Mental otros profesionales   (Ges OH/D, EQZ, Violencia, Depresión, Trastornos Ansiosos, Trastornos de la Infancia y Adolescencia, Demencia, otros Trastornos de Salud Mental)",null,null,null,null,"Si",80,1,80,8,640,7,560,40,1.5,1.6969696969696968,"Psicólogo(a)",1,{"$f":"IFERROR((J92*S92),0)","v":80},30,2,{"$f":"IFERROR(T92/(60/U92)/220,0)","v":0.18181818181818182},"Asistente Social",null,{"$f":"IFERROR((J92*Y92),0)","v":0},null,0,{"$f":"IFERROR(Z92/(60/AA92)/220,0)","v":0},null,null,{"$f":"IFERROR((J92*AE92),0)","v":0},null,0,{"$f":"IFERROR(AF92/(60/AG92)/220,0)","v":0}]
["Programa Salud Mental Persona Mayor","Aplicación Pauta Evaluación Salud Mental (Ingreso Programa) + Elaboración de GHQ-12",null,null,null,null,"Si",80,1,80,1,80,1,80,45,1.3333333333333333,0.27272727272727271,"Psicólogo(a)",null,{"$f":"IFERROR((J93*S93),0)","v":0},null,0,{"$f":"IFERROR(T93/(60/U93)/220,0)","v":0},null,null,{"$f":"IFERROR((J93*Y93),0)","v":0},null,0,{"$f":"IFERROR(Z93/(60/AA93)/220,0)","v":0},null,null,{"$f":"IFERROR((J93*AE93),0)","v":0},null,0,0]
["Programa Salud Mental Persona Mayor","Aplicación Pauta Evaluación Salud Mental (Egreso Programa)",null,null,null,null,"Si",80,1,80,1,80,1,80,30,2,0.18181818181818182,"Psicólogo(a)",null,0,null,0,0,null,null,0,null,0,0,null,null,0,null,0,0]
["Programa Salud Mental Persona Mayor","Otras Consultas de Salud Mental Médico",null,null,null,null,"Si",50,1,50,1,50,1,50,20,3,7.575757575757576E-2,"Médico",null,0,null,0,0,null,null,0,null,0,0,null,null,0,null,0,0]
["Programa Salud Mental Persona Mayor","Otras Consultas de Salud Mental otros Profesionales",null,null,null,null,"Si",4,1,4,4,16,2,8,45,1.3333333333333333,2.7272727272727271E-2,"Psicólogo(a)",2,8,45,1.3333333333333333,2.7272727272727271E-2,"Asistente Social",null,0,null,0,0,null,null,0,null,0,0]
["Programa Salud Mental Persona Mayor","Control de salud mental medico  (GES OH/D)",null,null,null,null,"No",null,null,0,0,0,null,0,null,0,0,null,null,0,null,0,0,null,null,0,null,0,0,null,null,0,null,0,0]
["Programa Salud Mental Persona Mayor","Control de salud mental otros profesionales  (Ges OH/D)",null,null,null,null,"No",null,null,0,0,0,null,0,null,0,0,null,null,0,null,0,0,null,null,0,null,0,0,null,null,0,null,0,0]
["Programa Salud Mental Persona Mayor","Intervención (consejeria) preventiva en OH y otras drogas (Individual) ",null,null,null,null,"Si",80,0.3,24,1,24,0.5,12,45,1.3333333333333333,4.0909090909090909E-2,"Médico",0.5,12,45,1.3333333333333333,4.0909090909090909E-2,"Asistente Social",1,24,40,1.5,7.2727272727272724E-2,"Médico",null,0,null,0,0]
["Programa Salud Mental Persona Mayor","Intervenciones preventivas en OH y otras drogas (Grupal)",null,null,null,null,"No",null,null,0,0,0,null,0,null,0,0,null,null,0,null,0,0,null,null,0,null,0,0,null,null,0,null,0,0]
["Programa Salud Mental Persona Mayor","Intervención Psicosocial individual (Depresión, VIF, OH-drogas, Demencia, Ansiedad y otros)  ",null,null,null,null,"No",null,null,0,0,0,null,0,null,0,0,null,null,0,null,0,0,null,null,0,null,0,0,null,null,0,null,0,0]
["Programa Salud Mental Persona Mayor","Administración e Interpretación pruebas Psicológicas",null,null,null,null,"Si",10,1,10,1,10,1,10,180,0.33333333333333331,0.13636363636363635,"Psicólogo(a)",null,0,null,0,0,null,null,0,null,0,0,null,null,0,null,0,0]
["Programa Salud Mental Persona Mayor","Consultoría Salud Mental ",null,null,null,null,"Si",4,1,4,2,8,1,4,240,0.25,7.2727272727272724E-2,"Psicólogo(a)",1,4,240,0.25,7.2727272727272724E-2,"Asistente Social",1,4,240,0.25,7.2727272727272724E-2,"Médico",null,0,null,0,0]
["Programa Salud Mental Persona Mayor","Intervención Psicosocial Grupal (Depresión, VIF, OH-drogas, Demencia, Ansiedad y otros) ",null,null,null,null,"No",null,null,0,0,0,null,0,null,0,0,null,null,0,null,0,0,null,null,0,null,0,0,null,null,0,null,0,0]
["Programa Salud Mental Persona Mayor","Intervenciones comunitarias con organizaciones de padres y apoderados y con profesores de establecimientos educacionales",null,null,null,null,"No",null,null,0,1.5,0,1.5,0,120,0.5,0,"Asistente Social",null,0,null,0,0,null,null,0,null,0,0,null,null,0,null,0,0]
["Programa Salud Mental Persona Mayor","Agrupaciones de Autoayuda (Apoyo Técnico)",null,null,null,null,"No",null,null,0,0,0,null,0,null,0,0,null,null,0,null,0,0,null,null,0,null,0,0,null,null,0,null,0,0]
[]
[null,"Programa Odontológico Persona Mayor"]
[null,null,null,null,null,null,null,"Resumen Población",null,null,null,null,null,null,"Intervención Profesional",null,null,null,null,null,"Intervención Profesional"]
[null,"Actividades / Cartera de Servicios",null,null,null,null,"Se Realiza","Población","Cobertura","Usuarios","Concentración","Total Actividades","Concentración","Total Actividad","Tiempo","Rendimiento","Horas Diarias","Estamento ","Concentración","Total Actividad","Tiempo","Rendimiento","Horas Diarias","Estamento "]
[{"$f":"B$108","v":"Programa Odontológico Persona Mayor"},"Consulta Morbilidad Odontológica Exluye Pobl. ECICEP / PSCV",null,null,null,null,"Si",1923,0.3,{"$f":"IFERROR((H111*I111),0)","v":576.9},{"$f":"IFERROR(AVERAGE(M111,S111),0)","v":1},576.9,1,{"$f":"IFERROR((J111*M111),0)","v":576.9},30,{"$f":"IFERROR((60/O111),0)","v":2},{"$f":"IFERROR(N111/(60/O111)/220,0)","v":1.3111363636363635},"Odontólogo",1,{"$f":"IFERROR((J111*S111),0)","v":576.9},30,{"$f":"IFERROR((60/U111),0)","v":2},{"$f":"IFERROR(T111/(60/U111)/220,0)","v":1.3111363636363635},"TONS"]
[{"$f":"B$108","v":"Programa Odontológico Persona Mayor"},"Morb. Odon. Adultos Mayores de 65 años Diabéticos del PSCV / ECICEP",null,null,null,null,"Si",462,0.15,{"$f":"IFERROR((H112*I112),0)","v":69.3},2,138.6,2,{"$f":"IFERROR((J112*M112),0)","v":138.6},30,{"$f":"IFERROR((60/O112),0)","v":2},{"$f":"IFERROR(N112/(60/O112)/220,0)","v":0.315},"Odontólogo",2,{"$f":"IFERROR((J112*S112),0)","v":138.6},30,{"$f":"IFERROR((60/U112),0)","v":2},{"$f":"IFERROR(T112/(60/U112)/220,0)","v":0.315},"TONS"]
[{"$f":"B$108","v":"Programa Odontológico Persona Mayor"},"Atención Odontológica Domiciliaria (excluye PRAPS)",null,null,null,null,"No",null,null,{"$f":"IFERROR((H113*I113),0)","v":0},0,0,null,{"$f":"IFERROR((J113*M113),0)","v":0},null,{"$f":"IFERROR((60/O113),0)","v":0},{"$f":"IFERROR(N113/(60/O113)/220,0)","v":0},null,null,{"$f":"IFERROR((J113*S113),0)","v":0},null,{"$f":"IFERROR((60/U113),0)","v":0},{"$f":"IFERROR(T113/(60/U113)/220,0)","v":0}]
[{"$f":"B$108","v":"Programa Odontológico Persona Mayor"},"Urgencias odontológicas ",null,null,null,null,"Si",1923,2.5000000000000001E-2,{"$f":"IFERROR((H114*I114),0)","v":48.075000000000003},1,48.075000000000003,1,{"$f":"IFERROR((J114*M114),0)","v":48.075000000000003},20,{"$f":"IFERROR((60/O114),0)","v":3},{"$f":"IFERROR(N114/(60/O114)/220,0)","v":7.2840909090909095E-2},"Odontólogo",1,{"$f":"IFERROR((J114*S114),0)","v":48.075000000000003},20,{"$f":"IFERROR((60/U114),0)","v":3},{"$f":"IFERROR(T114/(60/U114)/220,0)","v":7.2840909090909095E-2},"TONS"]
[{"$f":"B$108","v":"Programa Odontológico Persona Mayor"},"Radiografías odontológicas (Periapical y BW)",null,null,null,null,"Si",1923,4.2999999999999997E-2,{"$f":"IFERROR((H115*I115),0)","v":82.688999999999993},{"$f":"IFERROR(SUM(M115,S115),0)","v":1},{"$f":"IFERROR(SUM(N115,T115),0)","v":82.688999999999993},1,{"$f":"IFERROR((J115*M115),0)","v":82.688999999999993},20,{"$f":"IFERROR((60/O115),0)","v":3},{"$f":"IFERROR(N115/(60/O115)/220,0)","v":0.12528636363636364},"TONS",null,{"$f":"IFERROR((J115*S115),0)","v":0},null,{"$f":"IFERROR((60/U115),0)","v":0},{"$f":"IFERROR(T115/(60/U115)/220,0)","v":0}]
[]
[null,"Otras Prestaciones del PSCV"]
[null,null,null,null,null,null,"Resumen Población",null,null,null,null,null,null,null,"Intervención Profesional",null,null,null,null,null,"Intervención Profesional",null,null,null,null,null,"Intervención Profesional",null,null,null,null,null,"Intervención Profesional"]
[null,"Actividades / Cartera de Servicios",null,null,null,null,"Se Realiza","Población","Cobertura","Usuarios","Concentración","Total Actividades","Concentración","Total Actividad","Tiempo","Rendimiento","Horas Diarias","Estamento ","Concentración","Total Actividad","Tiempo","Rendimiento","Horas Diarias","Estamento ","Concentración","Total Actividad","Tiempo","Rendimiento","Horas Diarias","Estamento ","Concentración","Total Actividad","Tiempo","Rendimiento","Horas Diarias","Estamento "]
[{"$f":"B$117","v":"Otras Prestaciones del PSCV"},"PSCV - Ingreso (Solo Médico)",null,null,null,null,"No",null,null,{"$f":"IFERROR((H120*I120),0)","v":0},{"$f":"IFERROR(SUM(M120,S120,Y120,AE120),0)","v":0},0,null,{"$f":"IFERROR(($J120*M120),0)","v":0},null,{"$f":"IFERROR((60/O120),0)","v":0},{"$f":"IFERROR(N120/(60/O120)/220,0)","v":0},null,null,{"$f":"IFERROR(($J120*S120),0)","v":0},null,{"$f":"IFERROR((60/U120),0)","v":0},{"$f":"IFERROR(T120/(60/U120)/220,0)","v":0},null,null,{"$f":"IFERROR(($J120*Y120),0)","v":0},null,{"$f":"IFERROR((60/AA120),0)","v":0},{"$f":"IFERROR(Z120/(60/AA120)/220,0)","v":0},null,null,{"$f":"IFERROR(($J120*AE120),0)","v":0},null,{"$f":"IFERROR((60/AG120),0)","v":0},{"$f":"IFERROR(AF120/(60/AG120)/220,0)","v":0}]
[{"$f":"B$117","v":"Otras Prestaciones del PSCV"},"Consulta Médica de Seguimiento Descompensados (poli compensacion)",null,null,null,null,"Si",145,0.5,72.5,3,217.5,3,217.5,15,{"$f":"IFERROR((60/O121),0)","v":4},0.24715909090909091,"Médico",null,0,null,{"$f":"IFERROR((60/U121),0)","v":0},0,null,null,0,null,{"$f":"IFERROR((60/AA121),0)","v":0},0,null,null,0,null,{"$f":"IFERROR((60/AG121),0)","v":0},0]
["Otras Prestaciones del PSCV","Control de Enfermera (incluye evaluaciòn Pie Diabetico)",null,null,null,null,"No",462,1,462,1,462,1,462,30,2,1.05,"Enfermero(a)",null,0,null,0,0,null,null,0,null,0,0,null,null,0,null,0,0]
["Otras Prestaciones del PSCV","Control de Enfermera y Nutricionista",null,null,null,null,"No",null,null,0,0,0,null,0,null,0,0,null,null,0,null,0,0,null,null,0,null,0,0,null,null,0,null,0,0]
["Otras Prestaciones del PSCV","RCV Bajo - Control de Seguimiento ",null,null,null,null,"No",null,null,0,0,0,null,0,null,0,0,null,null,0,null,0,0,null,null,0,null,0,0,null,null,0,null,0,0]
["Otras Prestaciones del PSCV","Atención Grupal PSCV",null,null,null,null,"No",null,null,0,0,0,null,0,null,0,0,null,null,0,null,0,0,null,null,0,null,0,0,null,null,0,null,0,0]
["Otras Prestaciones del PSCV","Control diabeticos para inicio insulinoterapia",null,null,null,null,"Si",10,1,10,1,10,1,10,60,1,4.5454545454545456E-2,"Enfermero(a)",null,0,null,0,0,null,null,0,null,0,0,null,null,0,null,0,0]
["Otras Prestaciones del PSCV","Curación avanzada de heridas",null,null,null,null,"Si",7,1,7,6,42,6,42,30,2,9.5454545454545459E-2,"Enfermero(a)",null,0,null,0,0,null,null,0,null,0,0,null,null,0,null,0,0]
["Otras Prestaciones del PSCV","Atención Podológica ",null,null,null,null,"Si",227,1,227,6,1362,6,1362,45,1.3333333333333333,4.6431818181818185,"Podólogo(a)",null,0,null,0,0,null,null,0,null,0,0,null,null,0,null,0,0]
["Otras Prestaciones del PSCV","Consulta Social",null,null,null,null,"Si",227,0.3,68.099999999999994,1,68.099999999999994,1,68.099999999999994,30,2,0.15477272727272726,"Asistente Social",null,0,null,0,0,null,null,0,null,0,0,null,null,0,null,0,0]
["Otras Prestaciones del PSCV","RCV Moderado - Control de Seguimiento",null,null,null,null,"Si",69,0.5,34.5,3,103.5,1,34.5,30,2,7.8409090909090914E-2,"Médico",1,34.5,30,2,7.8409090909090914E-2,"Enfermero(a)",1,34.5,30,2,7.8409090909090914E-2,"Nutricionista",null,0,null,0,0]
[]
[]
[null,"ECICEP Persona Mayor "]
[null,null,null,null,null,null,"Resumen Población",null,null,null,null,null,null,null,null,null,"Intervención Profesional",null,null,null,null,null,null,"Intervención Profesional",null,null,null,null,"Intervención Profesional"]
[null,"Actividades / Cartera de Servicios",null,null,null,null,"Se Realiza","Población","Cobertura","Usuarios","Concentración","Total Actividades","Concentración","Total Actividad","Tiempo","Rendimiento","Horas Diarias","Estamento  O DUPLAS",null,"Concentración","Total Actividad","Tiempo","Rendimiento","Horas Diarias","Estamento  O DUPLAS",null,"Concentración","Total Actividad","Tiempo","Rendimiento","Horas Diarias","Estamento  O DUPLAS"]
[{"$f":"B$133","v":"ECICEP Persona Mayor "},"G3 - Ingreso Integral Riesgo Alto con Plan Cuidados (G3)",null,null,null,null,"Si",100,1,{"$f":"IFERROR((H136*I136),0)","v":100},{"$f":"IFERROR(SUM(M136,T136,AA136),0)","v":3.2},320,1,{"$f":"IFERROR(($J136*M136),0)","v":100},60,{"$f":"IFERROR((60/O136),0)","v":1},{"$f":"IFERROR(N136/(60/O136)/220,0)","v":0.45454545454545453},"Médico",null,2.2000000000000002,{"$f":"IFERROR(($J136*T136),0)","v":220.00000000000003},60,{"$f":"IFERROR((60/V136),0)","v":1},{"$f":"IFERROR(U136/(60/V136)/220,0)","v":1.0000000000000002},"Médico","Kinesiólogo(a)",null,{"$f":"IFERROR(($J136*AA136),0)","v":0},null,{"$f":"IFERROR((60/AC136),0)","v":0},{"$f":"IFERROR(AB136/(60/AC136)/220,0)","v":0}]
[{"$f":"B$133","v":"ECICEP Persona Mayor "},"G3 - Control Integral con Riesgo Alto (G3)",null,null,null,null,"Si",467,1,467,2,934,1,467,60,{"$f":"IFERROR((60/O137),0)","v":1},2.1227272727272726,"Médico","Nutricionista",0.5,233.5,45,{"$f":"IFERROR((60/V137),0)","v":1.3333333333333333},0.79602272727272727,"Enfermero(a)",null,0.5,233.5,45,{"$f":"IFERROR((60/AC137),0)","v":1.3333333333333333},0.79602272727272727,"Nutricionista"]
["ECICEP Persona Mayor ","G3 - Seguimiento a Distancia con Riesgo Alto (G3)",null,null,null,null,"Si",47,1,47,1,47,1,47,15,4,5.3409090909090906E-2,"Kinesiólogo(a)",null,null,0,null,0,0,null,null,null,0,null,0,0]
["ECICEP Persona Mayor ","G3 - Atención Farmaceutica y conciliacion farmacologica ",null,null,null,null,"Si",467,0.25,116.75,1,116.75,1,116.75,30,2,0.26534090909090907,"Químico Farmacéutico",null,null,0,null,0,0,null,null,null,0,null,0,0]
["ECICEP Persona Mayor ","G3 - Visita familia con integrante c/Multimorbilidad Crónica",null,null,null,null,"Si",467,0.1,46.7,2,93.4,2,93.4,90,0.66666666666666663,0.63681818181818195,"Kinesiólogo(a)",null,null,0,null,0,0,null,null,null,0,null,0,0]
["ECICEP Persona Mayor ","G2 - Ingreso Integral Riesgo Moderado con Plan Cuidados (G2)",null,null,null,null,"Si",120,1,120,1.4,168,1.4,168,60,1,0.76363636363636367,"Médico","Psicólogo(a)",null,0,null,0,0,null,null,null,0,null,0,0]
["ECICEP Persona Mayor ","G2 - Control Integral con Riesgo Moderado (G2)",null,null,null,null,"Si",540,1,540,2,1080,1,540,60,1,2.4545454545454546,"Médico",null,0.5,270,30,2,0.61363636363636365,"Nutricionista",null,0.5,270,45,1.3333333333333333,0.92045454545454541,"Enfermero(a)"]
["ECICEP Persona Mayor ","G2 - Seguimiento a Distancia con Riesgo Moderado (G2)",null,null,null,null,"Si",27,1,27,1,27,1,27,15,4,3.0681818181818182E-2,"Kinesiólogo(a)",null,null,0,null,0,0,null,null,null,0,null,0,0]
["ECICEP Persona Mayor ","G2 - Atención Farmaceutica y conciliacion farmacologica ",null,null,null,null,"Si",540,0.25,135,1,135,1,135,30,2,0.30681818181818182,"Químico Farmacéutico",null,null,0,null,0,0,null,null,null,0,null,0,0]
["ECICEP Persona Mayor ","G2 - Visita familia con integrante c/Multimorbilidad Crónica",null,null,null,null,"Si",540,0.05,27,2,54,2,54,90,0.66666666666666663,0.36818181818181817,"Kinesiólogo(a)",null,null,0,null,0,0,null,null,null,0,null,0,0]
["ECICEP Persona Mayor ","G1 - Ingreso Integral Riesgo Leve con Plan Cuidados (G1)",null,null,null,null,"Si",15,1,15,3,45,3,45,30,2,0.10227272727272728,"Médico","Kinesiólogo(a)",null,0,null,0,0,null,null,null,0,null,0,0]
["ECICEP Persona Mayor ","G1 - Control Integral con Riesgo Leve (G1)",null,null,null,null,"Si",30,1,30,1.5,45,1,30,30,2,6.8181818181818177E-2,"Médico",null,null,0,null,0,0,null,null,0.5,15,30,2,3.4090909090909088E-2,"Nutricionista"]
["ECICEP Persona Mayor ","G1 - Seguimiento a Distancia con Riesgo Leve (G1)",null,null,null,null,"No",null,null,0,0,0,null,0,null,0,0,null,null,null,0,null,0,0,null,null,null,0,null,0,0]
["ECICEP Persona Mayor ","G1 - Atención Farmaceutica y conciliacion farmacologica ",null,null,null,null,"No",null,null,0,0,0,null,0,null,0,0,null,null,null,0,null,0,0,null,null,null,0,null,0,0]
["ECICEP Persona Mayor ","G1 - Visita familia con integrante c/Multimorbilidad Crónica",null,null,null,null,"No",null,null,0,0,0,null,0,null,0,0,null,null,null,0,null,0,0,null,null,null,0,null,0,0]

{"sheet":"E.Transversales","index":9,"n_rows":147,"n_cols":30,"rows_kept":147,"cut":false,"hidden":false,"merged":[[83,1,83,5],[84,1,84,5],[85,1,85,5],[86,1,86,5],[87,1,87,5],[88,1,88,5],[5,14,5,15],[74,7,74,11],[75,1,75,5],[76,1,76,5],[77,1,77,5],[78,1,78,5],[79,1,79,5],[80,1,80,5],[81,1,81,5],[82,1,82,5],[16,1,16,3],[16,8,16,9],[21,1,21,3],[21,8,21,9],[25,1,25,3],[25,8,25,9],[29,1,29,3],[29,8,29,9],[2,14,2,15],[2,16,2,17],[14,23,14,24],[15,21,15,22],[8,5,8,9],[8,14,8,15],[9,5,9,9],[9,14,9,15],[11,0,11,4],[12,10,12,18],[5,17,5,18],[6,5,6,6],[6,7,6,9],[7,14,7,15],[3,0,8,1],[3,2,8,3],[3,14,3,15],[3,17,3,19],[4,5,4,6],[4,7,4,9],[4,14,4,15],[4,17,4,18],[5,5,5,6],[5,7,5,9],[16,21,16,22],[17,1,17,3],[17,8,17,9],[17,21,17,22],[14,4,15,4],[14,5,15,5],[14,6,15,6],[14,21,14,22],[20,1,20,3],[20,8,20,9],[20,21,20,22],[21,21,21,22],[18,1,18,3],[18,8,18,9],[18,21,18,22],[19,1,19,3],[19,8,19,9],[19,21,19,22],[24,1,24,3],[24,8,24,9],[24,21,24,22],[25,21,25,22],[22,1,22,3],[22,8,22,9],[22,21,22,22],[23,1,23,3],[23,8,23,9],[23,21,23,22],[28,1,28,3],[28,8,28,9],[28,21,28,22],[29,21,29,22],[26,1,26,3],[26,8,26,9],[26,21,26,22],[27,1,27,3],[27,8,27,9],[27,21,27,22],[32,1,32,3],[32,8,32,9],[32,21,32,22],[30,1,30,3],[30,8,30,9],[30,21,30,22],[31,1,31,3],[31,8,31,9],[31,21,31,22],[37,7,37,11],[38,1,38,5],[39,1,39,5],[40,1,40,5],[52,1,52,5],[53,1,53,5],[54,1,54,5],[65,1,65,5],[45,1,45,5],[46,1,46,5],[47,1,47,5],[48,1,48,5],[49,1,49,5],[50,1,50,5],[112,1,112,5],[113,1,113,5],[110,1,110,5],[111,1,111,5],[99,1,99,5],[103,1,103,5],[104,1,104,5],[105,1,105,5],[93,1,93,5],[94,1,94,5],[98,1,98,5],[95,1,95,5],[96,1,96,5],[97,1,97,5],[100,1,100,5],[101,1,101,5],[102,1,102,5],[108,7,108,11],[109,1,109,4],[6,14,6,15],[41,1,41,5],[42,1,42,5],[43,1,43,5],[44,1,44,5],[57,7,57,11],[60,1,60,5],[61,1,61,5],[91,7,91,11],[92,1,92,4],[66,1,66,5],[67,1,67,5],[68,1,68,5],[69,1,69,5],[70,1,70,5],[71,1,71,5],[58,1,58,5],[59,1,59,5],[64,1,64,5],[62,1,62,5],[63,1,63,5],[51,1,51,5],[123,1,123,5],[125,1,125,5],[126,1,126,5],[129,7,129,11],[130,1,130,4],[116,7,116,11],[117,1,117,4],[118,1,118,5],[119,1,119,5],[120,1,120,5],[121,1,121,5],[124,1,124,5],[122,1,122,5],[141,4,141,5],[142,4,142,5],[143,4,143,5],[144,4,144,5],[145,4,145,5],[146,4,146,5],[134,1,146,3],[139,4,139,5],[131,4,131,5],[132,4,132,5],[133,4,133,5],[134,4,134,5],[135,4,135,5],[136,4,136,5],[137,4,137,5],[138,4,138,5],[131,1,133,3],[140,4,140,5]]}
[]
[]
[]
[null,null,null,null,null,null,null,null,null,null,null,null,null,null,"Grupo Etareo",null,"Usuarios"]
[null,null,null,null,null,"Establecimiento",null,{"$f":"Percapita!$G$6","v":"DEPARTAMENTO DE SALUD MUNICIPAL"},null,null,null,null,null,null,"Poblac. de 0 a 9 años",null,{"$f":"Resumen_Poblacion!I22","v":1715}]
[null,null,null,null,null,"Comuna",null,{"$f":"Percapita!$G$7","v":"CALLE LARGA"},null,null,null,null,null,null,"Poblac. de 10 a 19 años",null,{"$f":"SUM(Resumen_Poblacion!N14:N15)","v":2119}]
[null,null,null,null,null,"Fecha de Programación",null,{"$f":"Balance_Horas!$G$7","v":"2023-10-12"},null,null,null,null,null,null,"Poblac. > de 19 años",null,{"$f":"SUM(Resumen_Poblacion!N21,Resumen_Poblacion!S14)","v":10750}]
[null,null,null,null,null,null,null,null,null,null,null,null,null,null,"Total Población",null,{"$f":"SUM(Q5:Q7)","v":14584}]
[null,null,null,null,null,"PROGRAMACION APS "]
[null,null,null,null,null,"PROGRAMAS TRANSVERSALES"]
[]
["Resumen Horas Programadas"]
[null,null,null,null,null,null,null,null,null,null,"Sectorizacion de Poblacion Percapitada",null,null,null,null,null,null,null,null,"Total"]
[null,null,null,null,null,null,null,null,null,"% Poblacion x Sector",0.4,0.5,0.1,null,null,null,null,null,null,{"$f":"SUM(K14:S14)","v":1}]
[null,null,null,null,"Total Horas Ciclo","Horas Contratadas","% uso de horas",null,null,"Total Poblacion",{"$f":"IFERROR($Q$8*K14,0)","v":5833.6},7292,1458.4,0,0,0,0,0,0,{"$f":"SUM(K15:S15)","v":14584},null,"Tipo de Programa y/o Estrategia",null,"Sala IRA Infantil"]
[null,null,null,null,null,null,null,null,null,null,"Sector A","Sector B","Posta","Sector D","Sector E","Sector F","Sector G","Sector H","Sector I","TOTAL",null,"Profesionales",null,"Horas Programadas","%"]
[null,"Médico",null,null,{"$f":"SUMIFS(W$40:W$147,X$40:X$147,B17,G$40:G$147,\"Si\")+SUMIFS(AC$40:AC$147,AD$40:AD$147,B17,G$40:G$147,\"Si\")+SUMIFS(Q$40:Q$147,R$40:R$147,B17,G$40:G$147,\"Si\")","v":1.5401189393939392},{"$f":"Balance_Horas!$G$30","v":74.8},{"$f":"IFERROR(E17/F17,0)","v":2.0589825392967102E-2},null,"Médico",null,{"$f":"IF(K$14<>\"\",$E17*K$14,\"\")","v":0.61604757575757574},0.77005946969696959,0.15401189393939393,"","","","","","",{"$f":"SUM(K17:S17)","v":1.5401189393939394},null,"Médico",null,{"$f":"SUMIFS(W$40:W$147,X$40:X$147,B17,G$40:G$147,\"Si\",A$40:A$147,X$15)+SUMIFS(AC$40:AC$147,AD$40:AD$147,B17,G$40:G$147,\"Si\",A$40:A$147,X$15)+SUMIFS(Q$40:Q$147,R$40:R$147,B17,G$40:G$147,\"Si\",A$40:A$147,X$15)","v":0.72550909090909088},{"$f":"IFERROR(X17/X$34,0%)","v":0.15094974867243247}]
[null,"Odontólogo",null,null,0,{"$f":"Balance_Horas!$I$30","v":30},{"$f":"IFERROR(E18/F18,0)","v":0},null,"Odontólogo",null,0,0,0,"","","","","","",{"$f":"SUM(K18:S18)","v":0},null,"Odontólogo",null,0,0]
[null,"Químico Farmacéutico",null,null,0,{"$f":"Balance_Horas!$K$30","v":8.8000000000000007},0,null,"Químico Farmacéutico",null,0,0,0,"","","","","","",0,null,"Químico Farmacéutico",null,0,0]
[null,"Matrón(a)",null,null,0,{"$f":"Balance_Horas!$M$30","v":19.8},0,null,"Matrón(a)",null,0,0,0,"","","","","","",0,null,"Matrón(a)",null,0,0]
[null,"Enfermero(a)",null,null,0,{"$f":"Balance_Horas!$O$30","v":51},0,null,"Enfermero(a)",null,0,0,0,"","","","","","",0,null,"Enfermero(a)",null,0,0]
[null,"Nutricionista",null,null,0,{"$f":"Balance_Horas!$Q$30","v":26.4},0,null,"Nutricionista",null,0,0,0,"","","","","","",0,null,"Nutricionista",null,0,0]
[null,"Asistente Social",null,null,0,{"$f":"Balance_Horas!$S$30","v":35.200000000000003},0,null,"Asistente Social",null,0,0,0,"","","","","","",0,null,"Asistente Social",null,0,0]
[null,"Psicólogo(a)",null,null,0,{"$f":"Balance_Horas!$U$30","v":20.8},0,null,"Psicólogo(a)",null,0,0,0,"","","","","","",0,null,"Psicólogo(a)",null,0,0]
[null,"Fonoaudiólogo(a)",null,null,0,{"$f":"Balance_Horas!$W$30","v":4.4000000000000004},0,null,"Fonoaudiólogo(a)",null,0,0,0,"","","","","","",0,null,"Fonoaudiólogo(a)",null,0,0]
[null,"Kinesiólogo(a)",null,null,22.437714696969699,{"$f":"Balance_Horas!$Y$30","v":47},0.47739818504190851,null,"Kinesiólogo(a)",null,8.9750858787878798,11.21885734848485,2.2437714696969699,"","","","","","",22.437714696969699,null,"Kinesiólogo(a)",null,4.0807863636363635,0.84905025132756762]
[null,"Terapeuta Ocupacional ",null,null,9.1741818181818182,{"$f":"Balance_Horas!$AA$30","v":8.8000000000000007},1.0425206611570248,null,"Terapeuta Ocupacional ",null,{"$f":"IF(K$14<>\"\",$E27*K$14,\"\")","v":3.6696727272727276},4.5870909090909091,0.91741818181818191,"","","","","","",9.1741818181818182,null,"Terapeuta Ocupacional ",null,0,0]
[null,"Tereapeuta Complementario",null,null,0,{"$f":"Balance_Horas!$AC$30","v":0},0,null,"Tereapeuta Complementario",null,0,0,0,"","","","","","",0,null,"Tereapeuta Complementario",null,0,0]
[null,"Prof. Educación Física",null,null,0,{"$f":"Balance_Horas!$AE$30","v":8.8000000000000007},0,null,"Prof. Educación Física",null,0,0,0,"","","","","","",0,null,"Prof. Educación Física",null,0,0]
[null,"Educador(a) Párvulos",null,null,0,{"$f":"Balance_Horas!$AG$30","v":8.8000000000000007},0,null,"Educador(a) Párvulos",null,0,0,0,"","","","","","",0,null,"Educador(a) Párvulos",null,0,0]
[null,"Podólogo(a)",null,null,0,{"$f":"Balance_Horas!$AI$30","v":15.4},0,null,"Podólogo(a)",null,0,0,0,"","","","","","",0,null,"Podólogo(a)",null,0,0]
[null,"TENS",null,null,27.53459848484848,{"$f":"Balance_Horas!$AK$30","v":176},0.15644658230027544,null,"TENS",null,11.013839393939392,13.76729924242424,2.753459848484848,"","","","","","",27.53459848484848,null,"TENS",null,0,0]
[null,"TONS",null,null,0,{"$f":"Balance_Horas!$AM$30","v":35.200000000000003},0,null,"TONS",null,0,0,0,"","","","","","",0,null,"TONS",null,0,0]
[null,null,null,"TOTAL",{"$f":"SUM(E17:E33)","v":60.686613939393936},{"$f":"SUM(F17:F33)","v":571.20000000000005},{"$f":"IFERROR(E34/F34,0)","v":0.10624407202274848},null,null,"TOTAL",{"$f":"SUM(K17:K33)","v":24.274645575757575},30.343306969696968,6.0686613939393936,0,0,0,0,0,0,null,null,null,"TOTAL",{"$f":"SUM(X17:X33)","v":4.8062954545454541},{"$f":"SUM(Y17:Y33)","v":1}]
[]
[]
[null,"Rehabilitación Integral"]
[null,null,null,null,null,null,null,"Resumen Población",null,null,null,null,null,null,"Intervención Profesional",null,null,null,null,null,"Intervención Profesional",null,null,null,null,null,"Intervención Profesional"]
[null,"Actividades / Cartera de Servicios",null,null,null,null,"Se Realiza","Población","Cobertura","Usuarios","Concentración","Total Actividades","Concentración","Total Actividad","Tiempo","Rendimiento","Horas Diarias","Estamento ","Concentración","Total Actividad","Tiempo","Rendimiento","Horas Diarias","Estamento ","Concentración","Total Actividad","Tiempo","Rendimiento","Horas Diarias","Estamento "]
[{"$f":"B$37","v":"Rehabilitación Integral"},"Consulta y evaluacion inicial",null,null,null,null,"Si",466,0.8,{"$f":"IFERROR((H40*I40),0)","v":372.8},{"$f":"IFERROR(SUM(M40,S40),0)","v":1},{"$f":"IFERROR(SUM(N40,T40),0)","v":372.8},0.5,{"$f":"IFERROR((J40*M40),0)","v":186.4},60,{"$f":"IFERROR((60/O40),0)","v":1},{"$f":"IFERROR(N40/(60/O40)/220,0)","v":0.84727272727272729},"Kinesiólogo(a)",0.5,{"$f":"IFERROR((J40*S40),0)","v":186.4},60,{"$f":"IFERROR((60/U40),0)","v":1},{"$f":"IFERROR(T40/(60/U40)/220,0)","v":0.84727272727272729},"Terapeuta Ocupacional ",null,{"$f":"IFERROR((O40*Y40),0)","v":0},45,{"$f":"IFERROR((60/AA40),0)","v":1.3333333333333333},{"$f":"IFERROR(Z40/(60/AA40)/220,0)","v":0}]
[{"$f":"B$37","v":"Rehabilitación Integral"},"Control (Evaluacion intermedia)",null,null,null,null,"No",null,null,0,0,0,null,{"$f":"IFERROR((J41*M41),0)","v":0},null,{"$f":"IFERROR((60/O41),0)","v":0},0,null,null,0,null,{"$f":"IFERROR((60/U41),0)","v":0},0,null,null,0,null,{"$f":"IFERROR((60/AA41),0)","v":0},{"$f":"IFERROR(Z41/(60/AA41)/220,0)","v":0}]
["Rehabilitación Integral","Evaluacion final",null,null,null,null,"Si",466,0.6,279.59999999999997,1,279.59999999999997,0.5,139.79999999999998,30,2,0.31772727272727269,"Kinesiólogo(a)",0.5,139.79999999999998,30,2,0.31772727272727269,"Terapeuta Ocupacional ",null,0,30,2,0]
["Rehabilitación Integral","Sesiones de rehabilitación individual",null,null,null,null,"Si",466,0.8,372.8,10,3728,5,1864,30,2,4.2363636363636363,"Kinesiólogo(a)",5,1864,30,2,4.2363636363636363,"Terapeuta Ocupacional ",null,0,30,2,0]
["Rehabilitación Integral","Sesiones de rehabilitación grupal",null,null,null,null,"Si",95,0.8,76,10,760,5,380,60,1,1.7272727272727273,"Kinesiólogo(a)",5,380,60,1,1.7272727272727273,"Terapeuta Ocupacional ",null,0,6,10,0]
["Rehabilitación Integral","Consejeria en rehabilitación fisica individual",null,null,null,null,"Si",466,0.2,93.2,3,279.60000000000002,1.5,139.80000000000001,30,2,0.31772727272727275,"Kinesiólogo(a)",1.5,139.80000000000001,30,2,0.31772727272727275,"Terapeuta Ocupacional ",null,0,30,2,0]
["Rehabilitación Integral","Consejeria en rehabilitación fisica familiar",null,null,null,null,"Si",466,0.1,46.6,1,46.6,0.5,23.3,60,1,0.10590909090909091,"Kinesiólogo(a)",0.5,23.3,60,1,0.10590909090909091,"Terapeuta Ocupacional ",null,0,60,1,0]
["Rehabilitación Integral","Visitas Domicilirias integrales ",null,null,null,null,"Si",466,7.0000000000000007E-2,32.620000000000005,2,65.240000000000009,1,32.620000000000005,60,1,0.14827272727272731,"Kinesiólogo(a)",1,32.620000000000005,60,1,0.14827272727272731,"Terapeuta Ocupacional ",null,0,60,1,0]
["Rehabilitación Integral","Atencion en Domicilio",null,null,null,null,"Si",60,0.8,48,6,288,3,144,60,1,0.65454545454545454,"Kinesiólogo(a)",3,144,60,1,0.65454545454545454,"Terapeuta Ocupacional ",null,0,60,1,0]
["Rehabilitación Integral","Evaluación de Ayudas Técnicas",null,null,null,null,"Si",100,0.8,80,1,80,0.5,40,30,2,9.0909090909090912E-2,"Kinesiólogo(a)",0.5,40,30,2,9.0909090909090912E-2,"Terapeuta Ocupacional ",null,0,null,0,0]
["Rehabilitación Integral","Entrenamiento de Ayudas Técnicas",null,null,null,null,"Si",100,0.2,20,1,20,0.5,10,30,2,2.2727272727272728E-2,"Kinesiólogo(a)",0.5,10,30,2,2.2727272727272728E-2,"Terapeuta Ocupacional ",null,0,30,2,0]
["Rehabilitación Integral","Aplicación de IVADEC",null,null,null,null,"Si",144,0.8,115.2,2,230.4,1,115.2,60,1,0.52363636363636368,"Kinesiólogo(a)",1,115.2,60,1,0.52363636363636368,"Terapeuta Ocupacional ",null,0,60,1,0]
["Rehabilitación Integral","Actividades Comunitarias",null,null,null,null,"Si",50,0.8,40,1,40,0.5,20,120,0.5,0.18181818181818182,"Kinesiólogo(a)",0.5,20,120,0.5,0.18181818181818182,"Terapeuta Ocupacional ",null,0,60,1,0]
["Rehabilitación Integral","Sesiones remotas",null,null,null,null,"No",null,null,0,0,0,null,0,null,0,0,null,null,0,null,0,0,null,null,0,null,0,0]
["Rehabilitación Integral","Evaluacion intermedia remota",null,null,null,null,"No",null,null,0,0,0,null,0,null,0,0,null,null,0,null,0,0,null,null,0,null,0,0]
["Rehabilitación Integral","Educación remota al usuario y/o familia",null,null,null,null,"No",null,null,0,0,0,null,0,null,0,0,null,null,0,null,0,0,null,null,0,null,0,0]
[]
[null,"Sala IRA Infantil"]
[null,null,null,null,null,null,null,"Resumen Población",null,null,null,null,null,null,"Intervención Profesional",null,null,null,null,null,"Intervención Profesional"]
[null,"Actividades / Cartera de Servicios",null,null,null,null,"Se Realiza","Población","Cobertura","Usuarios","Concentración","Total Actividades","Concentración","Total Actividad","Tiempo","Rendimiento","Horas Diarias","Estamento ","Concentración","Total Actividad","Tiempo","Rendimiento","Horas Diarias","Estamento "]
[{"$f":"B$57","v":"Sala IRA Infantil"},"Ingresos agudos 0 - 9 años ",null,null,null,null,"Si",1698,0.12,{"$f":"IFERROR((H60*I60),0)","v":203.76},{"$f":"IFERROR(SUM(M60,S60),0)","v":2},{"$f":"IFERROR(SUM(N60,T60),0)","v":407.52},1,{"$f":"IFERROR((J60*M60),0)","v":203.76},20,{"$f":"IFERROR((60/O60),0)","v":3},{"$f":"IFERROR(N60/(60/O60)/220,0)","v":0.30872727272727274},"Médico",1,{"$f":"IFERROR((J60*S60),0)","v":203.76},20,{"$f":"IFERROR((60/U60),0)","v":3},{"$f":"IFERROR(T60/(60/U60)/220,0)","v":0.30872727272727274},"Kinesiólogo(a)"]
[{"$f":"B$57","v":"Sala IRA Infantil"},"Ingresos crónicos solo médico 0 - 9 años ",null,null,null,null,"Si",1698,1.2E-2,20.376000000000001,1,20.376000000000001,0.5,{"$f":"IFERROR((J61*M61),0)","v":10.188000000000001},60,1,4.6309090909090911E-2,"Médico",0.5,10.188000000000001,60,1,4.6309090909090911E-2,"Kinesiólogo(a)"]
["Sala IRA Infantil","Controles crónicos 0 - 9 años ",null,null,null,null,"Si",1698,9.6000000000000002E-2,163.00800000000001,4,652.03200000000004,3,489.024,30,2,1.1114181818181819,"Kinesiólogo(a)",1,163.00800000000001,30,2,0.37047272727272729,"Médico"]
["Sala IRA Infantil","Atención kinésica aguda 0 - 9 años ",null,null,null,null,"Si",1698,0.253,429.59399999999999,3.5,1503.579,3.5,1503.579,20,3,2.2781500000000001,"Kinesiólogo(a)",null,0,null,0,0]
["Sala IRA Infantil","Test de Ejercicio 0 - 9 años ",null,null,null,null,"No",null,null,0,0,0,null,0,null,0,0,null,null,0,null,0,0]
["Sala IRA Infantil","Espirometría post BD 0 - 9 años ",null,null,null,null,"Si",1698,0.01,16.98,1,16.98,1,16.98,60,1,7.7181818181818185E-2,"Kinesiólogo(a)",null,0,null,0,0]
["Sala IRA Infantil","Hospitalización Abreviada 0 - 9 años ",null,null,null,null,"Si",1698,0.01,{"$f":"IFERROR((H66*I66),0)","v":16.98},1,16.98,1,16.98,60,1,7.7181818181818185E-2,"Kinesiólogo(a)",null,0,null,0,0]
["Sala IRA Infantil","Intervencion en crisis 0 - 9 años  ",null,null,null,null,"No",null,null,0,0,0,null,0,null,0,0,null,null,0,null,0,0]
["Sala IRA Infantil","Educaciones intramuro 0 - 9 años ",null,null,null,null,"No",null,null,0,0,0,null,0,null,0,0,null,null,0,null,0,0]
["Sala IRA Infantil","Educaciones extramuro 0 - 9 años ",null,null,null,null,"Si",4,1,4,1,4,1,4,90,0.66666666666666663,2.7272727272727271E-2,"Kinesiólogo(a)",null,0,null,0,0]
["Sala IRA Infantil","visitas domiciliarias realizadas por equipo IRA (hogar libre de tabaco-programa AVNIA-AVIA, POA, cronicos respiratorios, otras) 0 - 9 años ",null,null,null,null,"Si",30,1,30,1,30,1,30,60,1,0.13636363636363635,"Kinesiólogo(a)",null,0,null,0,0]
["Sala IRA Infantil","Rescate telefónico 0 - 9 años ",null,null,null,null,"Si",12,1,12,1,12,1,12,15,4,1.3636363636363636E-2,"Kinesiólogo(a)",null,0,null,0,0]
["Sala IRA Infantil","Auditorias a pacientes que fallecen por neumonía en domicilio 0 - 9 años ",null,null,null,null,"Si",1,1,1,1,1,1,1,60,1,4.5454545454545452E-3,"Kinesiólogo(a)",null,0,null,0,0]
[]
[null,"Sala IRA Adolescente"]
[null,null,null,null,null,null,null,"Resumen Población",null,null,null,null,null,null,"Intervención Profesional",null,null,null,null,null,"Intervención Profesional"]
[null,"Actividades / Cartera de Servicios",null,null,null,null,"Se Realiza","Población","Cobertura","Usuarios","Concentración","Total Actividades","Concentración","Total Actividad","Tiempo","Rendimiento","Horas Diarias","Estamento ","Concentración","Total Actividad","Tiempo","Rendimiento","Horas Diarias","Estamento "]
[{"$f":"B$74","v":"Sala IRA Adolescente"},"Ingresos agudos 10 -19 años ",null,null,null,null,"Si",2138,0.01,{"$f":"IFERROR((H77*I77),0)","v":21.38},{"$f":"IFERROR(SUM(M77,S77),0)","v":2},{"$f":"IFERROR(SUM(N77,T77),0)","v":42.76},1,{"$f":"IFERROR((J77*M77),0)","v":21.38},20,{"$f":"IFERROR((60/O77),0)","v":3},{"$f":"IFERROR(N77/(60/O77)/220,0)","v":3.2393939393939392E-2},"Médico",1,{"$f":"IFERROR((J77*S77),0)","v":21.38},20,{"$f":"IFERROR((60/U77),0)","v":3},{"$f":"IFERROR(T77/(60/U77)/220,0)","v":3.2393939393939392E-2},"Kinesiólogo(a)"]
[{"$f":"B$74","v":"Sala IRA Adolescente"},"Ingresos crónicos solo médico 10 -19 años",null,null,null,null,"Si",2138,0.01,21.38,1,21.38,0.5,{"$f":"IFERROR((J78*M78),0)","v":10.69},60,1,4.8590909090909087E-2,"Médico",0.5,10.69,60,1,4.8590909090909087E-2,"Kinesiólogo(a)"]
["Sala IRA Adolescente","Controles crónicos 10 -19 años",null,null,null,null,"Si",2138,0.02,42.76,4,171.04,3,128.28,20,3,0.19436363636363635,"Kinesiólogo(a)",1,42.76,30,2,9.7181818181818175E-2,"Médico"]
["Sala IRA Adolescente","Atención kinésica aguda 10 -19 años",null,null,null,null,"Si",2138,0.02,42.76,4,171.04,4,171.04,20,3,0.25915151515151513,"Kinesiólogo(a)",null,0,null,0,0]
["Sala IRA Adolescente","Test de Ejercicio 10 -19 años",null,null,null,null,"No",null,null,0,0,0,null,0,null,0,0,null,null,0,null,0,0]
["Sala IRA Adolescente","Espirometría post BD 10 -19 años",null,null,null,null,"Si",2138,0.02,42.76,1,42.76,1,42.76,60,1,0.19436363636363635,"Kinesiólogo(a)",null,0,null,0,0]
["Sala IRA Adolescente","Hospitalización Abreviada 10 -19 años",null,null,null,null,"Si",2138,4.0000000000000001E-3,8.5519999999999996,1,8.5519999999999996,1,8.5519999999999996,60,1,3.8872727272727274E-2,"Kinesiólogo(a)",null,0,null,0,0]
["Sala IRA Adolescente","Intervencion en crisis 10 -19 años",null,null,null,null,"No",null,null,0,0,0,null,0,null,0,0,null,null,0,null,0,0]
["Sala IRA Adolescente","Educaciones intramuro 10 -19 años",null,null,null,null,"No",null,null,0,0,0,null,0,null,0,0,null,null,0,null,0,0]
["Sala IRA Adolescente","Educaciones extramuro 10 -19 años",null,null,null,null,"No",null,null,0,0,0,null,0,null,0,0,null,null,0,null,0,0]
["Sala IRA Adolescente","visitas domiciliarias realizadas por equipo IRA (hogar libre de tabaco-programa AVNIA-AVIA, POA, cronicos respiratorios, otras) 10 -19 años",null,null,null,null,"Si",2138,5.0000000000000001E-4,1.069,96,102.624,96,102.624,60,1,0.46647272727272726,"Kinesiólogo(a)",null,0,null,0,0]
["Sala IRA Adolescente","Rescate telefónico 10 -19 años",null,null,null,null,"Si",2138,4.0000000000000001E-3,8.5519999999999996,0.5,4.2759999999999998,0.5,4.2759999999999998,15,4,4.8590909090909093E-3,"Kinesiólogo(a)",null,0,null,0,0]
["Sala IRA Adolescente","Auditorias a pacientes que fallecen por neumonía en domicilio 10 -19 años",null,null,null,null,"Si",2138,5.0000000000000001E-4,1.069,1,1.069,1,1.069,60,1,4.8590909090909093E-3,"Kinesiólogo(a)",null,0,null,0,0]
[]
[null,"Sala ERA"]
[null,null,null,null,null,null,null,"Resumen Población",null,null,null,null,null,null,"Intervención Profesional",null,null,null,null,null,"Intervención Profesional"]
[null,"Actividades / Cartera de Servicios",null,null,null,null,"Se Realiza","Población","Cobertura","Usuarios","Concentración","Total Actividades","Concentración","Total Actividad","Tiempo","Rendimiento","Horas Diarias","Estamento ","Concentración","Total Actividad","Tiempo","Rendimiento","Horas Diarias","Estamento "]
[{"$f":"B$91","v":"Sala ERA"},"Ingresos agudos ",null,null,null,null,"Si",10814,2.5999999999999999E-2,{"$f":"IFERROR((H94*I94),0)","v":281.16399999999999},{"$f":"IFERROR(SUM(M94,S94),0)","v":1},{"$f":"IFERROR(SUM(N94,T94),0)","v":281.16399999999999},1,{"$f":"IFERROR((J94*M94),0)","v":281.16399999999999},30,{"$f":"IFERROR((60/O94),0)","v":2},{"$f":"IFERROR(N94/(60/O94)/220,0)","v":0.63900909090909086},"Kinesiólogo(a)",null,{"$f":"IFERROR((J94*S94),0)","v":0},null,{"$f":"IFERROR((60/U94),0)","v":0},{"$f":"IFERROR(T94/(60/U94)/220,0)","v":0}]
[{"$f":"B$91","v":"Sala ERA"},"Ingresos crónicos solo médico",null,null,null,null,"Si",10814,2.5000000000000001E-3,27.035,1,27.035,0.5,{"$f":"IFERROR((J95*M95),0)","v":13.5175},60,1,6.144318181818182E-2,"Médico",0.5,13.5175,60,1,6.144318181818182E-2,"Kinesiólogo(a)"]
["Sala ERA","Controles crónicos",null,null,null,null,"Si",253,1,253,4,1012,3,759,30,2,1.7250000000000001,"Kinesiólogo(a)",1,253,30,2,0.57499999999999996,"Médico"]
["Sala ERA","Atención kinésica aguda",null,null,null,null,"Si",10814,2.7E-2,291.97800000000001,3,875.93399999999997,3,875.93399999999997,30,2,1.9907590909090909,"Kinesiólogo(a)",null,0,null,0,0]
["Sala ERA","Test de Ejercicio",null,null,null,null,"Si",18,1,18,1,18,1,18,60,1,8.1818181818181818E-2,"Kinesiólogo(a)",null,0,null,0,0]
["Sala ERA","Espirometría post BD",null,null,null,null,"Si",10814,1.0999999999999999E-2,118.95399999999999,1,118.95399999999999,1,118.95399999999999,60,1,0.54069999999999996,"Kinesiólogo(a)",null,0,null,0,0]
["Sala ERA","Intervencion en crisis",null,null,null,null,"Si",10814,1.1999999999999999E-3,12.976799999999999,1,12.976799999999999,1,12.976799999999999,60,1,5.8985454545454542E-2,"Kinesiólogo(a)",null,0,null,0,0]
["Sala ERA","Educaciones intramuro",null,null,null,null,"Si",280,1,280,5,1400,4,1120,30,2,2.5454545454545454,"Kinesiólogo(a)",1,280,30,2,0.63636363636363635]
["Sala ERA","Educaciones extramuro",null,null,null,null,"Si",17,1,17,1,17,1,17,60,1,7.7272727272727271E-2,"Kinesiólogo(a)",null,0,null,0,0]
["Sala ERA","visitas domiciliarias realizadas por equipo IRA (hogar libre de tabaco-programa AVNIA-AVIA, POA, cronicos respiratorios, otras)",null,null,null,null,"Si",10814,6.9999999999999999E-4,7.5697999999999999,2,15.1396,2,15.1396,60,1,6.8816363636363634E-2,"Kinesiólogo(a)",null,0,null,0,0]
["Sala ERA","Rescate telefónico",null,null,null,null,"Si",253,0.14000000000000001,35.42,1,35.42,1,35.42,10,6,2.6833333333333334E-2,"Kinesiólogo(a)",null,0,null,0,0]
["Sala ERA","Auditorias a pacientes que fallecen por neumonía en domicilio",null,null,null,null,"Si",1,1,1,1,1,1,1,60,1,4.5454545454545452E-3,"Kinesiólogo(a)",null,0,null,0,0]
["Sala ERA","Rehabilitación Pulmonar",null,null,null,null,"Si",1,1,1,26,26,26,26,60,1,0.11818181818181818,"Kinesiólogo(a)",null,0,null,0,0]
[]
[null,"Actividad Física Grupal"]
[null,null,null,null,null,null,null,"Resumen Población",null,null,null,null,null,null,"Intervención Profesional",null,null,null,null,null,"Intervención Profesional"]
[null,"Actividades / Cartera de Servicios",null,null,null,null,"Se Realiza","Población","Cobertura","Usuarios","Concentración","Total Actividades","Concentración","Total Actividad","Tiempo","Rendimiento","Horas Diarias","Estamento ","Concentración","Total Actividad","Tiempo","Rendimiento","Horas Diarias","Estamento "]
[{"$f":"B$108","v":"Actividad Física Grupal"},"Infancia",null,null,null,null,"No",null,null,{"$f":"IFERROR((H111*I111),0)","v":0},{"$f":"IFERROR(SUM(M111,S111),0)","v":0},0,null,{"$f":"IFERROR((J111*M111),0)","v":0},null,{"$f":"IFERROR((60/O111),0)","v":0},{"$f":"IFERROR(N111/(60/O111)/220,0)","v":0},null,null,{"$f":"IFERROR((J111*S111),0)","v":0},null,{"$f":"IFERROR((60/U111),0)","v":0},{"$f":"IFERROR(T111/(60/U111)/220,0)","v":0}]
[{"$f":"B$108","v":"Actividad Física Grupal"},"Embarazadas y puerperas",null,null,null,null,"No",null,null,{"$f":"IFERROR((H112*I112),0)","v":0},0,0,null,{"$f":"IFERROR((J112*M112),0)","v":0},null,{"$f":"IFERROR((60/O112),0)","v":0},{"$f":"IFERROR(N112/(60/O112)/220,0)","v":0},null,null,{"$f":"IFERROR((J112*S112),0)","v":0},null,{"$f":"IFERROR((60/U112),0)","v":0},{"$f":"IFERROR(T112/(60/U112)/220,0)","v":0}]
[{"$f":"B$108","v":"Actividad Física Grupal"},"Adolescente y Adulto",null,null,null,null,"Si",null,null,{"$f":"IFERROR((H113*I113),0)","v":0},0,0,null,{"$f":"IFERROR((J113*M113),0)","v":0},null,{"$f":"IFERROR((60/O113),0)","v":0},{"$f":"IFERROR(N113/(60/O113)/220,0)","v":0},null,null,{"$f":"IFERROR((J113*S113),0)","v":0},null,{"$f":"IFERROR((60/U113),0)","v":0},{"$f":"IFERROR(T113/(60/U113)/220,0)","v":0}]
[{"$f":"B$108","v":"Actividad Física Grupal"},"Persona Mayor",null,null,null,null,"Si",null,null,{"$f":"IFERROR((H114*I114),0)","v":0},0,0,null,{"$f":"IFERROR((J114*M114),0)","v":0},null,{"$f":"IFERROR((60/O114),0)","v":0},{"$f":"IFERROR(N114/(60/O114)/220,0)","v":0},null,null,{"$f":"IFERROR((J114*S114),0)","v":0},null,{"$f":"IFERROR((60/U114),0)","v":0},{"$f":"IFERROR(T114/(60/U114)/220,0)","v":0}]
[]
[null,"Actividades TENS"]
[null,null,null,null,null,null,null,"Resumen Población",null,null,null,null,null,null,"Intervención Profesional"]
[null,"Actividades / Cartera de Servicios",null,null,null,null,"Se Realiza","Población","Cobertura","Usuarios","Concentración","Total Actividades","Concentración","Total Actividad","Tiempo","Rendimiento","Horas Diarias","Estamento "]
[{"$f":"B$116","v":"Actividades TENS"},"Atención TENS En Dispositivos de Salud",null,null,null,null,"Si",1043,1,{"$f":"IFERROR((H119*I119),0)","v":1043},{"$f":"IFERROR(SUM(M119),0)","v":2},2086,2,{"$f":"IFERROR((J119*M119),0)","v":2086},30,{"$f":"IFERROR((60/O119),0)","v":2},{"$f":"IFERROR(N119/(60/O119)/220,0)","v":4.7409090909090912},"TENS"]
[{"$f":"B$116","v":"Actividades TENS"},"Dispensación de Medicamentos",null,null,null,null,"No",null,null,0,0,0,null,{"$f":"IFERROR((J120*M120),0)","v":0},null,0,0]
["Actividades TENS","Procedimientos de Clinica",null,null,null,null,"Si",14654,0.15,2198.1,1,2198.1,1,2198.1,15,4,2.4978409090909088,"TENS"]
["Actividades TENS","Toma de Muestra",null,null,null,null,"Si",14654,0.45,6594.3,1,6594.3,1,6594.3,8,7.5,3.9965454545454544,"TENS"]
[{"$f":"B$116","v":"Actividades TENS"},"Visita Curaciones PAD",null,null,null,null,"Si",60,8.3000000000000004E-2,{"$f":"IFERROR((H123*I123),0)","v":4.9800000000000004},{"$f":"IFERROR(SUM(M123),0)","v":3},{"$f":"IFERROR(SUM(N123),0)","v":14.940000000000001},3,{"$f":"IFERROR((J123*M123),0)","v":14.940000000000001},60,{"$f":"IFERROR((60/O123),0)","v":1},{"$f":"IFERROR(N123/(60/O123)/220,0)","v":6.7909090909090919E-2},"TENS"]
["Actividades TENS","Vacunación",null,null,null,null,"Si",14654,0.8,11723.2,1,11723.2,1,11723.2,10,6,8.8812121212121209,"TENS"]
[{"$f":"B$116","v":"Actividades TENS"},"CSPA",null,null,null,null,"Si",11832,0.09,{"$f":"IFERROR((H125*I125),0)","v":1064.8799999999999},{"$f":"IFERROR(SUM(M125),0)","v":3},{"$f":"IFERROR(SUM(N125),0)","v":3194.6399999999994},3,{"$f":"IFERROR((J125*M125),0)","v":3194.6399999999994},20,{"$f":"IFERROR((60/O125),0)","v":3},{"$f":"IFERROR(N125/(60/O125)/220,0)","v":4.8403636363636355},"TENS"]
["Actividades TENS","Toma de Electrocardiograma",null,null,null,null,"Si",11832,0.14000000000000001,1656.4800000000002,1,1656.4800000000002,1,1656.4800000000002,20,3,2.5098181818181824,"TENS"]
["Actividades TENS","Toma de Antígenos - PCR",null,null,null,null,"No",null,null,0,0,0,null,0,null,0,0,"TENS"]
[]
[null,"Medicina Complementaria"]
[null,null,null,null,null,null,null,"Resumen Población",null,null,null,null,null,null,"Intervención Profesional",null,null,null,null,null,"Intervención Profesional",null,null,null,null,null,"Intervención Profesional"]
[null,"Actividades / Cartera de Servicios",null,null,null,null,"Se Realiza","Población","Cobertura","Usuarios","Concentración","Total Actividades","Concentración","Total Actividad","Tiempo","Rendimiento","Horas Diarias","Estamento ","Concentración","Total Actividad","Tiempo","Rendimiento","Horas Diarias","Estamento ","Concentración","Total Actividad","Tiempo","Rendimiento","Horas Diarias","Estamento "]
[{"$f":"B$129","v":"Medicina Complementaria"},"Reguladas",null,null,"Acupuntura",null,"No",null,null,{"$f":"IFERROR((H132*I132),0)","v":0},{"$f":"IFERROR(SUM(M132,S132),0)","v":1},{"$f":"IFERROR(SUM(N132,T132),0)","v":0},1,{"$f":"IFERROR((J132*M132),0)","v":0},30,{"$f":"IFERROR((60/O132),0)","v":2},{"$f":"IFERROR(N132/(60/O132)/220,0)","v":0},null,null,{"$f":"IFERROR((J132*S132),0)","v":0},null,{"$f":"IFERROR((60/U132),0)","v":0},{"$f":"IFERROR(T132/(60/U132)/220,0)","v":0},null,null,{"$f":"IFERROR((O132*Y132),0)","v":0},null,{"$f":"IFERROR((60/AA132),0)","v":0},{"$f":"IFERROR(Z132/(60/AA132)/220,0)","v":0}]
[{"$f":"B$129","v":"Medicina Complementaria"},null,null,null,"Homeopatía",null,"No",null,null,0,1,0,1,{"$f":"IFERROR((J133*M133),0)","v":0},30,2,0,null,null,0,null,0,{"$f":"IFERROR(T133/(60/U133)/220,0)","v":0},null,null,0,null,0,{"$f":"IFERROR(Z133/(60/AA133)/220,0)","v":0}]
["Medicina Complementaria",null,null,null,"Naturopatía",null,"No",null,null,0,3,0,3,0,30,2,0,null,null,0,null,0,{"$f":"IFERROR(T134/(60/U134)/220,0)","v":0},null,null,0,null,0,0]
["Medicina Complementaria","No Reguladas",null,null,"Apiterapia",null,"No",null,null,{"$f":"IFERROR((H135*I135),0)","v":0},4,0,4,{"$f":"IFERROR((J135*M135),0)","v":0},31,1.935483870967742,0,null,null,0,null,0,{"$f":"IFERROR(T135/(60/U135)/220,0)","v":0},null,null,0,null,0,0]
["Medicina Complementaria",null,null,null,"Aurículoterapia",null,"No",null,null,0,5,0,5,0,32,1.875,0,null,null,0,null,0,0,null,null,0,null,0,0]
["Medicina Complementaria",null,null,null,"Biomagnetismo",null,"No",null,null,0,6,0,6,0,33,1.8181818181818181,0,null,null,0,null,0,0,null,null,0,null,0,0]
["Medicina Complementaria",null,null,null,"Fitoterapia ",null,"No",null,null,0,7,0,7,0,34,1.7647058823529411,0,null,null,0,null,0,0,null,null,0,null,0,0]
["Medicina Complementaria",null,null,null,"Masoterapia",null,"No",null,null,0,8,0,8,0,35,1.7142857142857142,0,null,null,0,null,0,0,null,null,0,null,0,0]
["Medicina Complementaria",null,null,null,"Medicina Antroposófica",null,"No",null,null,0,9,0,9,0,36,1.6666666666666667,0,null,null,0,null,0,0,null,null,0,null,0,0]
["Medicina Complementaria",null,null,null,"Quiropraxia",null,"No",null,null,0,10,0,10,0,37,1.6216216216216217,0,null,null,0,null,0,0,null,null,0,null,0,0]
["Medicina Complementaria",null,null,null,"Reiki",null,"No",null,null,0,3,0,3,0,30,2,0,null,null,0,null,0,{"$f":"IFERROR(T142/(60/U142)/220,0)","v":0},null,null,0,null,0,0]
["Medicina Complementaria",null,null,null,"Sanación Pránica ",null,"No",null,null,0,1,0,1,0,30,2,0,null,null,0,null,0,0,null,null,0,null,0,0]
["Medicina Complementaria",null,null,null,"Sintergética",null,"No",null,null,0,1,0,1,0,60,1,0,null,null,0,null,0,0,null,null,0,null,0,0]
["Medicina Complementaria",null,null,null,"Terapia Floral",null,"No",null,null,0,1,0,1,0,60,1,0,null,null,0,null,0,0,null,null,0,null,0,0]
["Medicina Complementaria",null,null,null,"Terapia Neural",null,"No",null,null,0,1,0,1,0,30,2,0,null,null,0,null,0,0,null,null,0,null,0,0]
["Medicina Complementaria",null,null,null,"Otras",null,"No",null,null,0,0,0,null,0,60,1,0,null,null,0,null,0,0,null,null,0,null,0,0]

{"sheet":"MAISF","index":10,"n_rows":175,"n_cols":78,"rows_kept":175,"cut":false,"hidden":false,"merged":[[2,14,2,15],[2,16,2,17],[5,14,5,15],[5,17,5,18],[6,5,6,6],[6,7,6,9],[4,14,4,15],[8,5,8,9],[8,14,8,15],[3,0,8,1],[3,2,8,3],[3,14,3,15],[3,17,3,19],[4,5,4,6],[4,7,4,9],[4,17,4,18],[5,5,5,6],[5,7,5,9],[14,21,14,22],[14,23,14,24],[15,21,15,22],[16,1,16,3],[16,8,16,9],[16,21,16,22],[9,5,9,9],[9,14,9,15],[11,0,11,4],[12,10,12,18],[14,4,15,4],[14,5,15,5],[14,6,15,6],[19,1,19,3],[19,8,19,9],[19,21,19,22],[20,1,20,3],[20,8,20,9],[20,21,20,22],[17,1,17,3],[17,8,17,9],[17,21,17,22],[18,1,18,3],[18,8,18,9],[18,21,18,22],[23,1,23,3],[23,8,23,9],[23,21,23,22],[24,1,24,3],[24,8,24,9],[24,21,24,22],[21,1,21,3],[21,8,21,9],[21,21,21,22],[22,1,22,3],[22,8,22,9],[22,21,22,22],[27,1,27,3],[27,8,27,9],[27,21,27,22],[28,1,28,3],[28,8,28,9],[28,21,28,22],[25,1,25,3],[25,8,25,9],[25,21,25,22],[26,1,26,3],[26,8,26,9],[26,21,26,22],[31,1,31,3],[31,8,31,9],[31,21,31,22],[32,1,32,3],[32,8,32,9],[32,21,32,22],[29,1,29,3],[29,8,29,9],[29,21,29,22],[30,1,30,3],[30,8,30,9],[30,21,30,22],[60,1,60,5],[61,1,61,5],[71,1,71,5],[72,1,72,5],[39,1,39,5],[56,1,56,5],[57,1,57,5],[58,1,58,5],[62,1,62,5],[63,1,63,5],[50,1,50,5],[51,1,51,5],[55,1,55,5],[45,1,45,5],[46,1,46,5],[47,1,47,5],[48,1,48,5],[49,1,49,5],[37,7,37,11],[86,1,86,5],[80,1,80,5],[81,1,81,5],[82,1,82,5],[83,1,83,5],[84,1,84,5],[85,1,85,5],[75,1,75,5],[76,1,76,5],[77,1,77,5],[78,1,78,5],[79,1,79,5],[68,1,68,5],[70,1,70,5],[66,7,66,11],[67,1,67,4],[38,1,38,5],[69,1,69,5],[42,7,42,11],[43,1,43,5],[44,1,44,5],[54,7,54,11],[59,1,59,5],[109,7,109,11],[97,7,97,11],[98,1,98,4],[99,1,99,5],[100,1,100,5],[101,1,101,5],[102,1,102,5],[73,1,73,5],[74,1,74,5],[88,1,88,5],[89,1,89,5],[90,1,90,5],[91,1,91,5],[94,1,94,5],[87,1,87,5],[92,1,92,5],[93,1,93,5],[110,1,110,5],[111,1,111,5],[112,1,112,5],[113,1,113,5],[114,1,114,5],[115,1,115,5],[103,1,103,5],[104,1,104,5],[105,1,105,5],[106,1,106,5],[124,1,124,5],[125,1,125,5],[126,1,126,5],[127,1,127,5],[128,1,128,5],[129,1,129,5],[118,7,118,11],[119,1,119,5],[120,1,120,5],[121,1,121,5],[122,1,122,5],[123,1,123,5],[136,1,136,5],[137,1,137,5],[138,1,138,5],[139,1,139,5],[140,1,140,5],[141,1,141,5],[130,1,130,5],[131,1,131,5],[132,1,132,5],[133,1,133,5],[134,1,134,5],[135,1,135,5],[150,1,150,5],[151,1,151,5],[152,1,152,5],[153,1,153,5],[154,1,154,5],[155,1,155,5],[144,7,144,11],[145,1,145,5],[146,1,146,5],[147,1,147,5],[148,1,148,5],[149,1,149,5],[170,1,170,5],[171,1,171,5],[172,1,172,5],[173,1,173,5],[174,1,174,5],[167,1,167,5],[168,1,168,5],[169,1,169,5],[158,7,158,11],[159,1,159,5],[160,1,160,5],[161,1,161,5],[162,1,162,5],[163,1,163,5],[164,1,164,5],[165,1,165,5],[166,1,166,5]]}
[]
[]
[]
[null,null,null,null,null,null,null,null,null,null,null,null,null,null,"Grupo Etareo",null,"Usuarios"]
[null,null,null,null,null,"Establecimiento",null,{"$f":"Percapita!$G$6","v":"DEPARTAMENTO DE SALUD MUNICIPAL"},null,null,null,null,null,null,"Total Población",null,{"$f":"Resumen_Poblacion!B20","v":14588}]
[null,null,null,null,null,"Comuna",null,{"$f":"Percapita!$G$7","v":"CALLE LARGA"}]
[null,null,null,null,null,"Fecha de Programación",null,{"$f":"Balance_Horas!$G$7","v":"2023-10-12"}]
[]
[null,null,null,null,null,"PROGRAMACION APS "]
[null,null,null,null,null,"MODELO ATENCIÓN INTEGRAL SALUD FAMILIAR"]
[]
["Resumen Horas Programadas"]
[null,null,null,null,null,null,null,null,null,null,"Sectorizacion de Poblacion Percapitada",null,null,null,null,null,null,null,null,"Total"]
[null,null,null,null,null,null,null,null,null,"% Poblacion x Sector",0.4,0.5,0.1,null,null,null,null,null,null,{"$f":"SUM(K14:S14)","v":1}]
[null,null,null,null,"Total Horas Ciclo","Horas Contratadas","% uso de horas",null,null,"Total Poblacion",{"$f":"IFERROR($Q$5*K14,0)","v":5835.2000000000007},7294,1458.8000000000002,0,0,0,0,0,0,{"$f":"SUM(K15:S15)","v":14588},null,"Tipo de Programa y/o Estrategia",null,"Consejerías Individuales"]
[null,null,null,null,null,null,null,null,null,null,"Sector A","Sector B","Posta",null,null,null,null,null,null,"TOTAL",null,"Profesionales",null,"Horas Programadas","%"]
[null,"Médico",null,null,{"$f":"SUMIFS(Q$40,G$40,\"Si\")+SUMIFS(W$45:W$175,X$45:X$175,B17,G$45:G$175,\"Si\")+SUMIFS(AC$45:AC$175,AD$45:AD$175,B17,G$45:G$175,\"Si\")+SUMIFS(AO$45:AO$175,AP$45:AP$175,B17,G$45:G$175,\"Si\")+SUMIFS(Q$45:Q$175,R$45:R$175,B17,G$45:G$175,\"Si\")+SUMIFS(BA$45:BA$175,BB$45:BB$175,B17,G$45:G$175,\"Si\")+SUMIFS(AI$45:AI$175,AJ$45:AJ$175,B17,G$45:G$175,\"Si\")+SUMIFS(BM$45:BM$175,BN$45:BN$175,B17,G$45:G$175,\"Si\")+SUMIFS(AU$45:AU$175,AV$45:AV$175,B17,G$45:G$175,\"Si\")+SUMIFS(BY$45:BY$175,BZ$45:BZ$175,B17,G$45:G$175,\"Si\")+SUMIFS(BG$45:BG$175,BH$45:BH$175,B17,G$45:G$175,\"Si\")+SUMIFS(BS$45:BS$175,BT$45:BT$175,B17,G$45:G$175,\"Si\")","v":1.0227954545454545},{"$f":"Balance_Horas!$G$30","v":74.8},{"$f":"IFERROR(E17/F17,0)","v":1.3673736023334954E-2},null,"Médico",null,{"$f":"IF(K$14<>\"\",$E17*K$14,\"\")","v":0.40911818181818183},0.51139772727272725,0.10227954545454546,"","","","","","",{"$f":"SUM(K17:S17)","v":1.0227954545454545},null,"Médico",null,{"$f":"SUMIFS(Q$40,G$40,\"Si\",A$40,X$15)+SUMIFS(W$45:W$175,X$45:X$175,B17,G$45:G$175,\"Si\",A$45:A$175,X$15)+SUMIFS(AC$45:AC$175,AD$45:AD$175,B17,G$45:G$175,\"Si\",A$45:A$175,X$15)+SUMIFS(AO$45:AO$175,AP$45:AP$175,B17,G$45:G$175,\"Si\",A$45:A$175,X$15)+SUMIFS(Q$45:Q$175,R$45:R$175,B17,G$45:G$175,\"Si\",A$45:A$175,X$15)+SUMIFS(BA$45:BA$175,BB$45:BB$175,B17,G$45:G$175,\"Si\",A$45:A$175,X$15)+SUMIFS(AI$45:AI$175,AJ$45:AJ$175,B17,G$45:G$175,\"Si\",A$45:A$175,X$15)+SUMIFS(BM$45:BM$175,BN$45:BN$175,B17,G$45:G$175,\"Si\",A$45:A$175,X$15)+SUMIFS(AU$45:AU$175,AV$45:AV$175,B17,G$45:G$175,\"Si\",A$45:A$175,X$15)+SUMIFS(BY$45:BY$175,BZ$45:BZ$175,B17,G$45:G$175,\"Si\",A$45:A$175,X$15)+SUMIFS(BG$45:BG$175,BH$45:BH$175,B17,G$45:G$175,\"Si\",A$45:A$175,X$15)+SUMIFS(BS$45:BS$175,BT$45:BT$175,B17,G$45:G$175,\"Si\",A$45:A$175,X$15)","v":0},{"$f":"IFERROR(X17/X$34,0%)","v":0}]
[null,"Odontólogo",null,null,{"$f":"SUMIFS(Q$40,G$40,\"Si\")+SUMIFS(W$45:W$175,X$45:X$175,B18,G$45:G$175,\"Si\")+SUMIFS(AC$45:AC$175,AD$45:AD$175,B18,G$45:G$175,\"Si\")+SUMIFS(AO$45:AO$175,AP$45:AP$175,B18,G$45:G$175,\"Si\")+SUMIFS(Q$45:Q$175,R$45:R$175,B18,G$45:G$175,\"Si\")+SUMIFS(BA$45:BA$175,BB$45:BB$175,B18,G$45:G$175,\"Si\")+SUMIFS(AI$45:AI$175,AJ$45:AJ$175,B18,G$45:G$175,\"Si\")+SUMIFS(BM$45:BM$175,BN$45:BN$175,B18,G$45:G$175,\"Si\")+SUMIFS(AU$45:AU$175,AV$45:AV$175,B18,G$45:G$175,\"Si\")+SUMIFS(BY$45:BY$175,BZ$45:BZ$175,B18,G$45:G$175,\"Si\")+SUMIFS(BG$45:BG$175,BH$45:BH$175,B18,G$45:G$175,\"Si\")+SUMIFS(BS$45:BS$175,BT$45:BT$175,B18,G$45:G$175,\"Si\")","v":0.51890909090909088},{"$f":"Balance_Horas!$I$30","v":30},{"$f":"IFERROR(E18/F18,0)","v":1.7296969696969696E-2},null,"Odontólogo",null,0.20756363636363637,0.25945454545454544,5.1890909090909092E-2,"","","","","","",{"$f":"SUM(K18:S18)","v":0.51890909090909088},null,"Odontólogo",null,{"$f":"SUMIFS(Q$40,G$40,\"Si\",A$40,X$15)+SUMIFS(W$45:W$175,X$45:X$175,B18,G$45:G$175,\"Si\",A$45:A$175,X$15)+SUMIFS(AC$45:AC$175,AD$45:AD$175,B18,G$45:G$175,\"Si\",A$45:A$175,X$15)+SUMIFS(AO$45:AO$175,AP$45:AP$175,B18,G$45:G$175,\"Si\",A$45:A$175,X$15)+SUMIFS(Q$45:Q$175,R$45:R$175,B18,G$45:G$175,\"Si\",A$45:A$175,X$15)+SUMIFS(BA$45:BA$175,BB$45:BB$175,B18,G$45:G$175,\"Si\",A$45:A$175,X$15)+SUMIFS(AI$45:AI$175,AJ$45:AJ$175,B18,G$45:G$175,\"Si\",A$45:A$175,X$15)+SUMIFS(BM$45:BM$175,BN$45:BN$175,B18,G$45:G$175,\"Si\",A$45:A$175,X$15)+SUMIFS(AU$45:AU$175,AV$45:AV$175,B18,G$45:G$175,\"Si\",A$45:A$175,X$15)+SUMIFS(BY$45:BY$175,BZ$45:BZ$175,B18,G$45:G$175,\"Si\",A$45:A$175,X$15)+SUMIFS(BG$45:BG$175,BH$45:BH$175,B18,G$45:G$175,\"Si\",A$45:A$175,X$15)+SUMIFS(BS$45:BS$175,BT$45:BT$175,B18,G$45:G$175,\"Si\",A$45:A$175,X$15)","v":0},0]
[null,"Químico Farmacéutico",null,null,0.17163636363636364,{"$f":"Balance_Horas!$K$30","v":8.8000000000000007},1.9504132231404958E-2,null,"Químico Farmacéutico",null,6.8654545454545454E-2,8.5818181818181821E-2,1.7163636363636364E-2,"","","","","","",0.17163636363636361,null,"Químico Farmacéutico",null,0,0]
[null,"Matrón(a)",null,null,3.561295454545454,{"$f":"Balance_Horas!$M$30","v":19.8},0.17986340679522494,null,"Matrón(a)",null,1.4245181818181818,1.780647727272727,0.35612954545454545,"","","","","","",3.561295454545454,null,"Matrón(a)",null,2.3277272727272726,0.91731681339078341]
[null,"Enfermero(a)",null,null,2.1197214772727273,{"$f":"Balance_Horas!$O$30","v":51},4.156316622103387E-2,null,"Enfermero(a)",null,0.84788859090909097,1.0598607386363637,0.21197214772727274,"","","","","","",2.1197214772727273,null,"Enfermero(a)",null,0,0]
[null,"Nutricionista",null,null,1.3032290909090909,{"$f":"Balance_Horas!$Q$30","v":26.4},4.9364738292011025E-2,null,"Nutricionista",null,0.5212916363636364,0.65161454545454545,0.1303229090909091,"","","","","","",1.3032290909090909,null,"Nutricionista",null,5.3047272727272728E-2,2.0905007106025775E-2]
[null,"Asistente Social",null,null,2.1661728409090908,{"$f":"Balance_Horas!$S$30","v":35.200000000000003},6.1539001162190077E-2,null,"Asistente Social",null,0.86646913636363632,1.0830864204545454,0.21661728409090908,"","","","","","",2.1661728409090908,null,"Asistente Social",null,0,0]
[null,"Psicólogo(a)",null,null,0.70993227272727266,{"$f":"Balance_Horas!$U$30","v":20.8},3.4131359265734261E-2,null,"Psicólogo(a)",null,0.28397290909090905,0.35496613636363633,7.0993227272727263E-2,"","","","","","",0.70993227272727266,null,"Psicólogo(a)",null,5.2159545454545451E-2,2.0555169235189571E-2]
[null,"Fonoaudiólogo(a)",null,null,0.63213636363636361,{"$f":"Balance_Horas!$W$30","v":4.4000000000000004},0.14366735537190081,null,"Fonoaudiólogo(a)",null,0.25285454545454544,0.3160681818181818,6.3213636363636361E-2,"","","","","","",0.63213636363636372,null,"Fonoaudiólogo(a)",null,0,0]
[null,"Kinesiólogo(a)",null,null,1.1285686363636362,{"$f":"Balance_Horas!$Y$30","v":47},2.4012098646034815E-2,null,"Kinesiólogo(a)",null,0.45142745454545452,0.56428431818181812,0.11285686363636363,"","","","","","",1.1285686363636362,null,"Kinesiólogo(a)",null,0.104605,4.1223010268001251E-2]
[null,"Terapeuta Ocupacional ",null,null,0.16072727272727272,{"$f":"Balance_Horas!$AA$30","v":8.8000000000000007},1.8264462809917354E-2,null,"Terapeuta Ocupacional ",null,{"$f":"IF(K$14<>\"\",$E27*K$14,\"\")","v":6.4290909090909093E-2},8.0363636363636359E-2,1.6072727272727273E-2,"","","","","","",0.16072727272727272,null,"Terapeuta Ocupacional ",null,0,0]
[null,"Tereapeuta Complementario",null,null,0.16072727272727272,{"$f":"Balance_Horas!$AC$30","v":0},0,null,"Tereapeuta Complementario",null,6.4290909090909093E-2,8.0363636363636359E-2,1.6072727272727273E-2,"","","","","","",0.16072727272727272,null,"Tereapeuta Complementario",null,0,0]
[null,"Prof. Educación Física",null,null,0.81840909090909086,{"$f":"Balance_Horas!$AE$30","v":8.8000000000000007},9.3001033057851221E-2,null,"Prof. Educación Física",null,0.32736363636363636,0.40920454545454543,8.1840909090909089E-2,"","","","","","",0.81840909090909086,null,"Prof. Educación Física",null,0,0]
[null,"Educador(a) Párvulos",null,null,0.50181818181818183,{"$f":"Balance_Horas!$AG$30","v":8.8000000000000007},5.7024793388429751E-2,null,"Educador(a) Párvulos",null,0.20072727272727275,0.25090909090909091,5.0181818181818189E-2,"","","","","","",0.50181818181818183,null,"Educador(a) Párvulos",null,0,0]
[null,"Podólogo(a)",null,null,2.8430545454545455,{"$f":"Balance_Horas!$AI$30","v":15.4},0.18461393152302244,null,"Podólogo(a)",null,1.1372218181818183,1.4215272727272728,0.28430545454545458,"","","","","","",2.8430545454545455,null,"Podólogo(a)",null,0,0]
[null,"TENS",null,null,1.8884636363636365,{"$f":"Balance_Horas!$AK$30","v":176},1.0729907024793388E-2,null,"TENS",null,0.75538545454545458,0.94423181818181823,0.18884636363636365,"","","","","","",1.8884636363636362,null,"TENS",null,0,0]
[null,"TONS",null,null,0.16072727272727272,{"$f":"Balance_Horas!$AM$30","v":35.200000000000003},4.5661157024793385E-3,null,"TONS",null,6.4290909090909093E-2,8.0363636363636359E-2,1.6072727272727273E-2,"","","","","","",0.16072727272727272,null,"TONS",null,0,0]
[null,null,null,"TOTAL",{"$f":"SUM(E17:E33)","v":19.868324318181816},{"$f":"SUM(F17:F33)","v":571.20000000000005},{"$f":"IFERROR(E34/F34,0)","v":3.4783480949197858E-2},null,null,"TOTAL",{"$f":"SUM(K17:K33)","v":7.9473297272727272},9.9341621590909082,1.9868324318181818,0,0,0,0,0,0,null,null,null,"TOTAL",{"$f":"SUM(X17:X33)","v":2.5375390909090907},{"$f":"SUM(Y17:Y33)","v":0.99999999999999989}]
[]
[]
[null,"Salud Familiar"]
[null,null,null,null,null,null,null,"Resumen Población",null,null,null,null,null,null,"Intervención Profesional"]
[null,"Actividades / Cartera de Servicios",null,null,null,null,"Se Realiza","Población","Cobertura","Usuarios","Concentración","Total Actividades","Concentración","Total Actividad","Tiempo","Rendimiento","Horas Diarias","Estamento "]
[{"$f":"B$37","v":"Salud Familiar"},"Estudios de Caso y/o Familiar",null,null,null,null,"Si",4420,4.0000000000000001E-3,{"$f":"IFERROR((H40*I40),0)","v":17.68},{"$f":"IFERROR(SUM(M40),0)","v":1},{"$f":"IFERROR(SUM(N40),0)","v":17.68},1,{"$f":"IFERROR(($J40*M40),0)","v":17.68},120,{"$f":"IFERROR((60/O40),0)","v":0.5},{"$f":"IFERROR(N40/(60/O40)/220,0)","v":0.16072727272727272},"Todos los Profesionales"]
[]
[null,"Consejerías Individuales"]
[null,null,null,null,null,null,null,"Resumen Población",null,null,null,null,null,null,"Intervención Profesional",null,null,null,null,null,"Intervención Profesional",null,null,null,null,null,"Intervención Profesional",null,null,null,null,null,"Intervención Profesional",null,null,null,null,null,"Intervención Profesional",null,null,null,null,null,"Intervención Profesional",null,null,null,null,null,"Intervención Profesional",null,null,null,null,null,"Intervención Profesional",null,null,null,null,null,"Intervención Profesional",null,null,null,null,null,"Intervención Profesional",null,null,null,null,null,"Intervención Profesional"]
[null,"Actividades / Cartera de Servicios",null,null,null,null,"Se Realiza","Población","Cobertura","Usuarios","Concentración","Total Actividades","Concentración","Total Actividad","Tiempo","Rendimiento","Horas Diarias","Estamento ","Concentración","Total Actividad","Tiempo","Rendimiento","Horas Diarias","Estamento ","Concentración","Total Actividad","Tiempo","Rendimiento","Horas Diarias","Estamento ","Concentración","Total Actividad","Tiempo","Rendimiento","Horas Diarias","Estamento ","Concentración","Total Actividad","Tiempo","Rendimiento","Horas Diarias","Estamento ","Concentración","Total Actividad","Tiempo","Rendimiento","Horas Diarias","Estamento ","Concentración","Total Actividad","Tiempo","Rendimiento","Horas Diarias","Estamento ","Concentración","Total Actividad","Tiempo","Rendimiento","Horas Diarias","Estamento ","Concentración","Total Actividad","Tiempo","Rendimiento","Horas Diarias","Estamento ","Concentración","Total Actividad","Tiempo","Rendimiento","Horas Diarias","Estamento ","Concentración","Total Actividad","Tiempo","Rendimiento","Horas Diarias","Estamento "]
[{"$f":"B$42","v":"Consejerías Individuales"},"Actividad Física / Alimentación Saludable",null,null,null,null,"Si",14588,8.0000000000000004E-4,{"$f":"IFERROR((H45*I45),0)","v":11.670400000000001},{"$f":"IFERROR(SUM(M45,S45,Y45,AE45,AK45,AQ45,AW45,BC45,BI45,BO45,BU45),0)","v":1},{"$f":"IFERROR(SUM(N45,T45,Z45,AL45,AR45,AX45,BD45,BJ45,AF45,BV45,BP45),0)","v":11.670400000000001},1,{"$f":"IFERROR(($J45*M45),0)","v":11.670400000000001},60,{"$f":"IFERROR((60/O45),0)","v":1},{"$f":"IFERROR(N45/(60/O45)/220,0)","v":5.3047272727272728E-2},"Nutricionista",null,{"$f":"IFERROR(($J45*S45),0)","v":0},60,{"$f":"IFERROR((60/U45),0)","v":1},{"$f":"IFERROR(T45/(60/U45)/220,0)","v":0},null,null,{"$f":"IFERROR(($J45*Y45),0)","v":0},60,{"$f":"IFERROR((60/AA45),0)","v":1},{"$f":"IFERROR(Z45/(60/AA45)/220,0)","v":0},null,null,{"$f":"IFERROR(($J45*AE45),0)","v":0},null,{"$f":"IFERROR((60/AG45),0)","v":0},{"$f":"IFERROR(AF45/(60/AG45)/220,0)","v":0},null,null,{"$f":"IFERROR(($J45*AK45),0)","v":0},null,{"$f":"IFERROR((60/AM45),0)","v":0},{"$f":"IFERROR(AL45/(60/AM45)/220,0)","v":0},null,null,{"$f":"IFERROR(($J45*AQ45),0)","v":0},60,{"$f":"IFERROR((60/AS45),0)","v":1},{"$f":"IFERROR(AR45/(60/AS45)/220,0)","v":0},null,null,{"$f":"IFERROR(($J45*AW45),0)","v":0},60,{"$f":"IFERROR((60/AY45),0)","v":1},{"$f":"IFERROR(AX45/(60/AY45)/220,0)","v":0},null,null,{"$f":"IFERROR(($J45*BC45),0)","v":0},null,{"$f":"IFERROR((60/BE45),0)","v":0},{"$f":"IFERROR(BD45/(60/BE45)/220,0)","v":0},null,null,{"$f":"IFERROR(($J45*BI45),0)","v":0},null,{"$f":"IFERROR((60/BK45),0)","v":0},{"$f":"IFERROR(BJ45/(60/BK45)/220,0)","v":0},null,null,{"$f":"IFERROR(($J45*BO45),0)","v":0},60,{"$f":"IFERROR((60/BQ45),0)","v":1},{"$f":"IFERROR(BP45/(60/BQ45)/220,0)","v":0},null,null,{"$f":"IFERROR(($J45*BU45),0)","v":0},null,{"$f":"IFERROR((60/BW45),0)","v":0},{"$f":"IFERROR(BV45/(60/BW45)/220,0)","v":0}]
[{"$f":"B$42","v":"Consejerías Individuales"},"Tabaquismo",null,null,null,null,"Si",8827,1.2999999999999999E-3,11.475099999999999,1,11.475099999999999,1,11.475099999999999,60,{"$f":"IFERROR((60/O46),0)","v":1},5.2159545454545451E-2,"Kinesiólogo(a)",null,0,60,{"$f":"IFERROR((60/U46),0)","v":1},0,null,null,0,60,{"$f":"IFERROR((60/AA46),0)","v":1},0,null,null,0,null,{"$f":"IFERROR((60/AG46),0)","v":0},0,null,null,0,null,{"$f":"IFERROR((60/AM46),0)","v":0},0,null,null,0,60,{"$f":"IFERROR((60/AS46),0)","v":1},0,null,null,0,60,{"$f":"IFERROR((60/AY46),0)","v":1},0,null,null,0,null,{"$f":"IFERROR((60/BE46),0)","v":0},0,null,null,0,null,{"$f":"IFERROR((60/BK46),0)","v":0},0,null,null,0,60,{"$f":"IFERROR((60/BQ46),0)","v":1},0,null,null,0,null,{"$f":"IFERROR((60/BW46),0)","v":0},0]
["Consejerías Individuales","Consumo de Drogas",null,null,null,null,"Si",8827,1.2999999999999999E-3,11.475099999999999,1,11.475099999999999,1,11.475099999999999,60,1,5.2159545454545451E-2,"Psicólogo(a)",null,0,60,1,0,null,null,0,60,1,0,null,null,0,null,0,0,null,null,0,null,0,0,null,null,0,60,1,0,null,null,0,60,1,0,null,null,0,null,0,0,null,null,0,null,0,0,null,null,0,60,1,0,null,null,0,null,0,0]
["Consejerías Individuales","Regulación de Fertilidad",null,null,null,null,"Si",3360,0.03,100.8,1,100.8,1,100.8,60,1,0.45818181818181819,"Matrón(a)",null,0,30,2,0,null,null,0,30,2,0,null,null,0,null,0,0,null,null,0,null,0,0,null,null,0,30,2,0,null,null,0,30,2,0,null,null,0,null,0,0,null,null,0,null,0,0,null,null,0,30,2,0,null,null,0,null,0,0]
["Consejerías Individuales","Prevención VIH e Infección de Transmición Sexual (ITS)",null,null,null,null,"Si",10946,0.02,218.92000000000002,1,218.92000000000002,1,218.92000000000002,60,1,0.99509090909090914,"Matrón(a)",null,0,60,1,0,null,null,0,60,1,0,null,null,0,null,0,0,null,null,0,null,0,0,null,null,0,60,1,0,null,null,0,60,1,0,null,null,0,null,0,0,null,null,0,null,0,0,null,null,0,60,1,0,null,null,0,null,0,0]
["Consejerías Individuales","Prevención de Transmición Vertical del (Embarazadas)",null,null,null,null,"Si",150,1,150,1,150,1,150,60,1,0.68181818181818177,"Matrón(a)",null,0,60,1,0,null,null,0,60,1,0,null,null,0,null,0,0,null,null,0,null,0,0,null,null,0,60,1,0,null,null,0,60,1,0,null,null,0,null,0,0,null,null,0,null,0,0,null,null,0,60,1,0,null,null,0,null,0,0]
["Consejerías Individuales","Entrega de Preservativos Adolescentes ",null,null,null,null,"Si",2119,0.04,84.76,1,84.76,1,84.76,30,2,0.19263636363636366,"Matrón(a)",null,0,30,2,0,null,null,0,30,2,0,null,null,0,null,0,0,null,null,0,null,0,0,null,null,0,30,2,0,null,null,0,30,2,0,null,null,0,null,0,0,null,null,0,null,0,0,null,null,0,30,2,0,null,null,0,null,0,0]
["Consejerías Individuales","Envejecimiento Activo",null,null,null,null,"Si",1923,6.0000000000000001E-3,11.538,1,11.538,1,11.538,60,1,5.2445454545454545E-2,"Kinesiólogo(a)",null,0,60,1,0,null,null,0,60,1,0,null,null,0,null,0,0,null,null,0,null,0,0,null,null,0,60,1,0,null,null,0,60,1,0,null,null,0,null,0,0,null,null,0,null,0,0,null,null,0,60,1,0,null,null,0,null,0,0]
[]
[null,"Consejerías Familiares"]
[null,null,null,null,null,null,null,"Resumen Población",null,null,null,null,null,null,"Intervención Profesional",null,null,null,null,null,"Intervención Profesional",null,null,null,null,null,"Intervención Profesional",null,null,null,null,null,"Intervención Profesional",null,null,null,null,null,"Intervención Profesional",null,null,null,null,null,"Intervención Profesional",null,null,null,null,null,"Intervención Profesional",null,null,null,null,null,"Intervención Profesional",null,null,null,null,null,"Intervención Profesional",null,null,null,null,null,"Intervención Profesional",null,null,null,null,null,"Intervención Profesional"]
[null,"Actividades / Cartera de Servicios",null,null,null,null,"Se Realiza","Población","Cobertura","Usuarios","Concentración","Total Actividades","Concentración","Total Actividad","Tiempo","Rendimiento","Horas Diarias","Estamento ","Concentración","Total Actividad","Tiempo","Rendimiento","Horas Diarias","Estamento ","Concentración","Total Actividad","Tiempo","Rendimiento","Horas Diarias","Estamento ","Concentración","Total Actividad","Tiempo","Rendimiento","Horas Diarias","Estamento ","Concentración","Total Actividad","Tiempo","Rendimiento","Horas Diarias","Estamento ","Concentración","Total Actividad","Tiempo","Rendimiento","Horas Diarias","Estamento ","Concentración","Total Actividad","Tiempo","Rendimiento","Horas Diarias","Estamento ","Concentración","Total Actividad","Tiempo","Rendimiento","Horas Diarias","Estamento ","Concentración","Total Actividad","Tiempo","Rendimiento","Horas Diarias","Estamento ","Concentración","Total Actividad","Tiempo","Rendimiento","Horas Diarias","Estamento ","Concentración","Total Actividad","Tiempo","Rendimiento","Horas Diarias","Estamento "]
[{"$f":"B$54","v":"Consejerías Familiares"},"Consejerias familiares Con riesgo psicosocial ",null,null,null,null,"Si",4,1,{"$f":"IFERROR((H57*I57),0)","v":4},{"$f":"IFERROR(SUM(M57,S57,Y57,AE57,AK57,AQ57,AW57,BC57,BI57,BO57,BU57),0)","v":1},{"$f":"IFERROR(SUM(N57,T57,Z57,AL57,AR57,AX57,BD57,BJ57,AF57,BV57,BP57),0)","v":4},1,{"$f":"IFERROR(($J57*M57),0)","v":4},60,{"$f":"IFERROR((60/O57),0)","v":1},{"$f":"IFERROR(N57/(60/O57)/220,0)","v":1.8181818181818181E-2},"Asistente Social",null,{"$f":"IFERROR(($J57*S57),0)","v":0},60,{"$f":"IFERROR((60/U57),0)","v":1},{"$f":"IFERROR(T57/(60/U57)/220,0)","v":0},null,null,{"$f":"IFERROR(($J57*Y57),0)","v":0},60,{"$f":"IFERROR((60/AA57),0)","v":1},{"$f":"IFERROR(Z57/(60/AA57)/220,0)","v":0},null,null,{"$f":"IFERROR(($J57*AE57),0)","v":0},60,{"$f":"IFERROR((60/AG57),0)","v":1},{"$f":"IFERROR(AF57/(60/AG57)/220,0)","v":0},null,null,{"$f":"IFERROR(($J57*AK57),0)","v":0},60,{"$f":"IFERROR((60/AM57),0)","v":1},{"$f":"IFERROR(AL57/(60/AM57)/220,0)","v":0},null,null,{"$f":"IFERROR(($J57*AQ57),0)","v":0},60,{"$f":"IFERROR((60/AS57),0)","v":1},{"$f":"IFERROR(AR57/(60/AS57)/220,0)","v":0},null,null,{"$f":"IFERROR(($J57*AW57),0)","v":0},60,{"$f":"IFERROR((60/AY57),0)","v":1},{"$f":"IFERROR(AX57/(60/AY57)/220,0)","v":0},null,null,{"$f":"IFERROR(($J57*BC57),0)","v":0},60,{"$f":"IFERROR((60/BE57),0)","v":1},{"$f":"IFERROR(BD57/(60/BE57)/220,0)","v":0},null,null,{"$f":"IFERROR(($J57*BI57),0)","v":0},60,{"$f":"IFERROR((60/BK57),0)","v":1},{"$f":"IFERROR(BJ57/(60/BK57)/220,0)","v":0},null,null,{"$f":"IFERROR(($J57*BO57),0)","v":0},60,{"$f":"IFERROR((60/BQ57),0)","v":1},{"$f":"IFERROR(BP57/(60/BQ57)/220,0)","v":0},null,null,{"$f":"IFERROR(($J57*BU57),0)","v":0},60,{"$f":"IFERROR((60/BW57),0)","v":1},{"$f":"IFERROR(BV57/(60/BW57)/220,0)","v":0}]
[{"$f":"B$54","v":"Consejerías Familiares"},"Consejerias Familiares Con integrante de patología crónica ",null,null,null,null,"Si",14,1,14,1,13.720000000000002,0.14000000000000001,1.9600000000000002,60,{"$f":"IFERROR((60/O58),0)","v":1},8.9090909090909099E-3,"Médico",0.14000000000000001,1.9600000000000002,60,{"$f":"IFERROR((60/U58),0)","v":1},8.9090909090909099E-3,"Enfermero(a)",0.14000000000000001,1.9600000000000002,60,{"$f":"IFERROR((60/AA58),0)","v":1},8.9090909090909099E-3,"Nutricionista",0.14000000000000001,1.9600000000000002,60,{"$f":"IFERROR((60/AG58),0)","v":1},8.9090909090909099E-3,"Psicólogo(a)",0.14000000000000001,1.9600000000000002,60,{"$f":"IFERROR((60/AM58),0)","v":1},8.9090909090909099E-3,"Kinesiólogo(a)",0.14000000000000001,1.9600000000000002,60,{"$f":"IFERROR((60/AS58),0)","v":1},8.9090909090909099E-3,"Matrón(a)",0.14000000000000001,1.9600000000000002,60,{"$f":"IFERROR((60/AY58),0)","v":1},8.9090909090909099E-3,"Odontólogo",null,0,60,{"$f":"IFERROR((60/BE58),0)","v":1},0,null,null,0,60,{"$f":"IFERROR((60/BK58),0)","v":1},0,null,null,0,60,{"$f":"IFERROR((60/BQ58),0)","v":1},0,null,null,0,60,{"$f":"IFERROR((60/BW58),0)","v":1},0,"Terapeuta Ocupacional "]
["Consejerías Familiares","Con integrante con problema de salud mental",null,null,null,null,"Si",4441,2E-3,8.8819999999999997,{"$f":"IFERROR(SUM(M59,S59,Y59,AE59,AK59,AQ59,AW59,BC59,BI59,BO59,BU59),0)","v":1},8.8819999999999997,1,8.8819999999999997,60,1,4.0372727272727268E-2,"Kinesiólogo(a)",null,0,60,1,0,null,null,0,60,1,0,null,null,0,60,1,0,null,null,0,60,1,0,null,null,0,60,1,0,null,null,0,60,1,0,null,null,0,60,1,0,null,null,0,60,1,0,null,null,0,60,1,0,null,null,0,60,1,0]
["Consejerías Familiares","Consejerias Familiares Con adulto mayor dependiente",null,null,null,null,"Si",58,0.04,2.3199999999999998,1,2.3199999999999998,1,2.3199999999999998,60,1,1.0545454545454545E-2,"Enfermero(a)",null,0,null,0,0,null,null,0,60,1,0,null,null,0,60,1,0,null,null,0,60,1,0,null,null,0,60,1,0,null,null,0,60,1,0,null,null,0,60,1,0,null,null,0,60,1,0,null,null,0,60,1,0,null,null,0,60,1,0]
["Consejerías Familiares","Consejerias Familiares Con adulto mayor  con demencia",null,null,null,null,"Si",54,0.18,9.7199999999999989,1,9.7199999999999989,1,9.7199999999999989,60,1,4.4181818181818176E-2,"Fonoaudiólogo(a)",null,0,null,0,0,null,null,0,60,1,0,null,null,0,60,1,0,null,null,0,60,1,0,null,null,0,60,1,0,null,null,0,60,1,0,null,null,0,60,1,0,null,null,0,60,1,0,null,null,0,60,1,0,null,null,0,60,1,0]
["Consejerías Familiares","Consejerias Familiares Con integrante con enfermedad terminal",null,null,null,null,"Si",5,1,5,1,5,1,5,60,1,2.2727272727272728E-2,"Enfermero(a)",null,0,60,1,0,null,null,0,60,1,0,null,null,0,60,1,0,null,null,0,60,1,0,null,null,0,60,1,0,null,null,0,60,1,0,null,null,0,60,1,0,null,null,0,60,1,0,null,null,0,60,1,0,null,null,0,60,1,0]
["Consejerías Familiares"," Consejerias familiares Con integrante Dependiente Severo",null,null,null,null,"Si",60,0.05,3,1,3,1,3,60,1,1.3636363636363636E-2,"Enfermero(a)",null,0,60,1,0,null,null,0,60,1,0,null,null,0,60,1,0,null,null,0,60,1,0,null,null,0,60,1,0,null,null,0,60,1,0,null,null,0,60,1,0,null,null,0,60,1,0,null,null,0,60,1,0,null,null,0,60,1,0]
["Consejerías Familiares","Consejerias familiares Otras áreas de intervención",null,null,null,null,"No",null,null,0,0,0,null,0,null,0,0,null,null,0,null,0,0,null,null,0,null,0,0,null,null,0,null,0,0,null,null,0,null,0,0,null,null,0,null,0,0,null,null,0,null,0,0,null,null,0,null,0,0,null,null,0,null,0,0,null,null,0,null,0,0,null,null,0,null,0,0]
[]
[null,"Visita Domiciliaria Integral"]
[null,null,null,null,null,null,null,"Resumen Población",null,null,null,null,null,null,"Intervención Profesional",null,null,null,null,null,"Intervención Profesional",null,null,null,null,null,"Intervención Profesional",null,null,null,null,null,"Intervención Profesional",null,null,null,null,null,"Intervención Profesional",null,null,null,null,null,"Intervención Profesional",null,null,null,null,null,"Intervención Profesional",null,null,null,null,null,"Intervención Profesional",null,null,null,null,null,"Intervención Profesional",null,null,null,null,null,"Intervención Profesional",null,null,null,null,null,"Intervención Profesional"]
[null,"Actividades / Cartera de Servicios",null,null,null,null,"Se Realiza","Población","Cobertura","Usuarios","Concentración","Total Actividades","Concentración","Total Actividad","Tiempo","Rendimiento","Horas Diarias","Estamento ","Concentración","Total Actividad","Tiempo","Rendimiento","Horas Diarias","Estamento ","Concentración","Total Actividad","Tiempo","Rendimiento","Horas Diarias","Estamento ","Concentración","Total Actividad","Tiempo","Rendimiento","Horas Diarias","Estamento ","Concentración","Total Actividad","Tiempo","Rendimiento","Horas Diarias","Estamento ","Concentración","Total Actividad","Tiempo","Rendimiento","Horas Diarias","Estamento ","Concentración","Total Actividad","Tiempo","Rendimiento","Horas Diarias","Estamento ","Concentración","Total Actividad","Tiempo","Rendimiento","Horas Diarias","Estamento ","Concentración","Total Actividad","Tiempo","Rendimiento","Horas Diarias","Estamento ","Concentración","Total Actividad","Tiempo","Rendimiento","Horas Diarias","Estamento ","Concentración","Total Actividad","Tiempo","Rendimiento","Horas Diarias","Estamento "]
[{"$f":"B$66","v":"Visita Domiciliaria Integral"},"Familia con niño prematuro",null,null,null,null,"Si",10,1,{"$f":"IFERROR((H69*I69),0)","v":10},{"$f":"IFERROR(SUM(M69,S69,Y69,AE69,AK69,AQ69,AW69,BC69,BI69,BO69,BU69),0)","v":1},{"$f":"IFERROR(SUM(N69,T69,Z69,AL69,AR69,AX69,BD69,BJ69,AF69,BV69,BP69),0)","v":10},0.7,{"$f":"IFERROR(($J69*M69),0)","v":7},90,{"$f":"IFERROR((60/O69),0)","v":0.66666666666666663},{"$f":"IFERROR(N69/(60/O69)/220,0)","v":4.7727272727272729E-2},"Enfermero(a)",0.3,{"$f":"IFERROR(($J69*S69),0)","v":3},90,{"$f":"IFERROR((60/U69),0)","v":0.66666666666666663},{"$f":"IFERROR(T69/(60/U69)/220,0)","v":2.0454545454545454E-2},"Asistente Social",null,{"$f":"IFERROR(($J69*Y69),0)","v":0},90,{"$f":"IFERROR((60/AA69),0)","v":0.66666666666666663},{"$f":"IFERROR(Z69/(60/AA69)/220,0)","v":0},null,null,{"$f":"IFERROR(($J69*AE69),0)","v":0},null,{"$f":"IFERROR((60/AG69),0)","v":0},{"$f":"IFERROR(AF69/(60/AG69)/220,0)","v":0},null,null,{"$f":"IFERROR(($J69*AK69),0)","v":0},null,{"$f":"IFERROR((60/AM69),0)","v":0},{"$f":"IFERROR(AL69/(60/AM69)/220,0)","v":0},null,null,{"$f":"IFERROR(($J69*AQ69),0)","v":0},null,{"$f":"IFERROR((60/AS69),0)","v":0},{"$f":"IFERROR(AR69/(60/AS69)/220,0)","v":0},null,null,{"$f":"IFERROR(($J69*AW69),0)","v":0},null,{"$f":"IFERROR((60/AY69),0)","v":0},{"$f":"IFERROR(AX69/(60/AY69)/220,0)","v":0},null,null,{"$f":"IFERROR(($J69*BC69),0)","v":0},null,{"$f":"IFERROR((60/BE69),0)","v":0},{"$f":"IFERROR(BD69/(60/BE69)/220,0)","v":0},null,null,{"$f":"IFERROR(($J69*BI69),0)","v":0},null,{"$f":"IFERROR((60/BK69),0)","v":0},{"$f":"IFERROR(BJ69/(60/BK69)/220,0)","v":0},null,null,{"$f":"IFERROR(($J69*BO69),0)","v":0},null,{"$f":"IFERROR((60/BQ69),0)","v":0},{"$f":"IFERROR(BP69/(60/BQ69)/220,0)","v":0},null,null,{"$f":"IFERROR(($J69*BU69),0)","v":0},null,{"$f":"IFERROR((60/BW69),0)","v":0},{"$f":"IFERROR(BV69/(60/BW69)/220,0)","v":0}]
[{"$f":"B$66","v":"Visita Domiciliaria Integral"},"Actualizacion de Cartola y/o Riesgo Familiar",null,null,null,null,"Si",null,null,{"$f":"IFERROR((H70*I70),0)","v":0},0,0,null,{"$f":"IFERROR(($J70*M70),0)","v":0},null,{"$f":"IFERROR((60/O70),0)","v":0},0,null,null,{"$f":"IFERROR(($J70*S70),0)","v":0},null,{"$f":"IFERROR((60/U70),0)","v":0},0,null,null,{"$f":"IFERROR(($J70*Y70),0)","v":0},null,{"$f":"IFERROR((60/AA70),0)","v":0},0,null,null,{"$f":"IFERROR(($J70*AE70),0)","v":0},null,{"$f":"IFERROR((60/AG70),0)","v":0},0,null,null,{"$f":"IFERROR(($J70*AK70),0)","v":0},null,{"$f":"IFERROR((60/AM70),0)","v":0},0,null,null,{"$f":"IFERROR(($J70*AQ70),0)","v":0},null,{"$f":"IFERROR((60/AS70),0)","v":0},0,null,null,{"$f":"IFERROR(($J70*AW70),0)","v":0},null,{"$f":"IFERROR((60/AY70),0)","v":0},0,null,null,{"$f":"IFERROR(($J70*BC70),0)","v":0},null,{"$f":"IFERROR((60/BE70),0)","v":0},0,null,null,{"$f":"IFERROR(($J70*BI70),0)","v":0},null,{"$f":"IFERROR((60/BK70),0)","v":0},0,null,null,{"$f":"IFERROR(($J70*BO70),0)","v":0},null,{"$f":"IFERROR((60/BQ70),0)","v":0},0,null,null,{"$f":"IFERROR(($J70*BU70),0)","v":0},null,{"$f":"IFERROR((60/BW70),0)","v":0},{"$f":"IFERROR(BV70/(60/BW70)/220,0)","v":0}]
["Visita Domiciliaria Integral","Familia con niño recién nacido",null,null,null,null,"No",null,null,0,0,0,null,{"$f":"IFERROR(($J71*M71),0)","v":0},null,0,0,null,null,{"$f":"IFERROR(($J71*S71),0)","v":0},null,0,0,null,null,{"$f":"IFERROR(($J71*Y71),0)","v":0},null,0,0,null,null,{"$f":"IFERROR(($J71*AE71),0)","v":0},null,0,0,null,null,{"$f":"IFERROR(($J71*AK71),0)","v":0},null,0,0,null,null,{"$f":"IFERROR(($J71*AQ71),0)","v":0},null,0,0,null,null,{"$f":"IFERROR(($J71*AW71),0)","v":0},null,0,0,null,null,{"$f":"IFERROR(($J71*BC71),0)","v":0},null,0,0,null,null,{"$f":"IFERROR(($J71*BI71),0)","v":0},null,0,0,null,null,{"$f":"IFERROR(($J71*BO71),0)","v":0},null,0,0,null,null,{"$f":"IFERROR(($J71*BU71),0)","v":0},null,0,{"$f":"IFERROR(BV71/(60/BW71)/220,0)","v":0}]
["Visita Domiciliaria Integral","Familia con integrante NANEAS",null,null,null,null,"Si",18,1,18,0.99,17.82,0.33,5.94,90,0.66666666666666663,4.0500000000000008E-2,"Enfermero(a)",0.33,5.94,90,0.66666666666666663,4.0500000000000008E-2,"Asistente Social",0.33,5.94,90,0.66666666666666663,4.0500000000000008E-2,"Educador(a) Párvulos",null,0,null,0,0,null,null,0,null,0,0,null,null,0,null,0,0,null,null,0,null,0,0,null,null,0,null,0,0,null,null,0,null,0,0,null,null,0,null,0,0,null,null,0,null,0,0]
["Visita Domiciliaria Integral","Familia con niño con déficit del dsm",null,null,null,null,"Si",10,1,10,0.99,9.9,0.33,3.3000000000000003,90,0.66666666666666663,2.2500000000000006E-2,"Enfermero(a)",0.33,3.3000000000000003,90,0.66666666666666663,2.2500000000000006E-2,"Asistente Social",0.33,3.3000000000000003,90,0.66666666666666663,2.2500000000000006E-2,"Educador(a) Párvulos",null,0,null,0,0,null,null,0,null,0,0,null,null,0,null,0,0,null,null,0,null,0,0,null,null,0,null,0,0,null,null,0,null,0,0,null,null,0,null,0,0,null,null,0,null,0,0]
["Visita Domiciliaria Integral","Familia con niño en riesgo vincular afectivo",null,null,null,null,"No",null,null,0,0,0,null,0,null,0,0,null,null,0,null,0,0,null,null,0,null,0,0,null,null,0,null,0,0,null,null,0,null,0,0,null,null,0,null,0,0,null,null,0,null,0,0,null,null,0,null,0,0,null,null,0,null,0,0,null,null,0,null,0,0,null,null,0,null,0,0]
["Visita Domiciliaria Integral","Familia con niño < 7 meses con score de riesgo moderado de morir por neumonía",null,null,null,null,"Si",15,1,15,1,15,0.6,9,90,0.66666666666666663,6.1363636363636363E-2,"Kinesiólogo(a)",0.4,6,90,0.66666666666666663,4.0909090909090909E-2,"Enfermero(a)",null,0,90,0.66666666666666663,0,null,null,0,null,0,0,null,null,0,null,0,0,null,null,0,null,0,0,null,null,0,null,0,0,null,null,0,null,0,0,null,null,0,null,0,0,null,null,0,null,0,0,null,null,0,null,0,0]
["Visita Domiciliaria Integral","familia con niño < 7 meses con score de riesgo grave de morir por neumonía",null,null,null,null,"Si",5,1,5,1,5,0.6,3,90,0.66666666666666663,2.0454545454545454E-2,"Kinesiólogo(a)",0.4,2,90,0.66666666666666663,1.3636363636363636E-2,"Enfermero(a)",null,0,90,0.66666666666666663,0,null,null,0,null,0,0,null,null,0,null,0,0,null,null,0,null,0,0,null,null,0,null,0,0,null,null,0,null,0,0,null,null,0,null,0,0,null,null,0,null,0,0,null,null,0,null,0,0]
["Visita Domiciliaria Integral","Familia con niño con problema respiratorio crónico o no controlado",null,null,null,null,"Si",109,0.06,6.54,1,6.54,1,6.54,90,0.66666666666666663,4.4590909090909091E-2,"Kinesiólogo(a)",null,0,null,0,0,null,null,0,null,0,0,null,null,0,null,0,0,null,null,0,null,0,0,null,null,0,null,0,0,null,null,0,null,0,0,null,null,0,null,0,0,null,null,0,null,0,0,null,null,0,null,0,0,null,null,0,null,0,0]
["Visita Domiciliaria Integral","Familia con niño malnutrido",null,null,null,null,"Si",11,1,11,1,11,0.2,2.2000000000000002,90,0.66666666666666663,1.5000000000000001E-2,"Nutricionista",0.2,2.2000000000000002,90,0.66666666666666663,1.5000000000000001E-2,"Odontólogo",0.2,2.2000000000000002,90,0.66666666666666663,1.5000000000000001E-2,"Psicólogo(a)",0.2,2.2000000000000002,90,0.66666666666666663,1.5000000000000001E-2,"Matrón(a)",0.2,2.2000000000000002,90,0.66666666666666663,1.5000000000000001E-2,"Kinesiólogo(a)",null,0,null,0,0,null,null,0,null,0,0,null,null,0,null,0,0,null,null,0,null,0,0,null,null,0,null,0,0,null,null,0,null,0,0]
["Visita Domiciliaria Integral","Familia con niño con riesgo psicosocial (excluye vincular afectivo)",null,null,null,null,"No",null,1,0,0,0,null,0,90,0.66666666666666663,0,null,null,0,90,0.66666666666666663,0,null,null,0,90,0.66666666666666663,0,null,null,0,null,0,0,null,null,0,null,0,0,null,null,0,null,0,0,null,null,0,null,0,0,null,null,0,null,0,0,null,null,0,null,0,0,null,null,0,null,0,0,null,null,0,null,0,0]
["Visita Domiciliaria Integral","Familia con adolescente en riesgo o problema psicosocial",null,null,null,null,"Si",2119,0.01,21.19,1,21.19,1,21.19,90,0.66666666666666663,0.14447727272727273,"Asistente Social",null,0,90,0.66666666666666663,0,null,null,0,90,0.66666666666666663,0,null,null,0,null,0,0,null,null,0,null,0,0,null,null,0,null,0,0,null,null,0,null,0,0,null,null,0,null,0,0,null,null,0,null,0,0,null,null,0,null,0,0,null,null,0,null,0,0]
["Visita Domiciliaria Integral","Familia con integrante con patología crónica descompensada",null,null,null,null,"Si",5,1,5,1,5,1,5,90,0.66666666666666663,3.4090909090909088E-2,"Enfermero(a)",null,0,90,0.66666666666666663,0,null,null,0,90,0.66666666666666663,0,null,null,0,null,0,0,null,null,0,null,0,0,null,null,0,null,0,0,null,null,0,null,0,0,null,null,0,null,0,0,null,null,0,null,0,0,null,null,0,null,0,0,null,null,0,null,0,0]
["Visita Domiciliaria Integral","Familia con adulto mayor dependediente (excluye dependiente severo)",null,null,null,null,"No",null,null,0,0,0,null,0,null,0,0,null,null,0,90,0.66666666666666663,0,null,null,0,90,0.66666666666666663,0,null,null,0,null,0,0,null,null,0,null,0,0,null,null,0,null,0,0,null,null,0,null,0,0,null,null,0,null,0,0,null,null,0,null,0,0,null,null,0,null,0,0,null,null,0,null,0,0]
["Visita Domiciliaria Integral","Familia con adulto mayor con demencia",null,null,null,null,"Si",54,1,54,1,54,1,54,90,0.66666666666666663,0.36818181818181817,"Fonoaudiólogo(a)",null,0,90,0.66666666666666663,0,null,null,0,90,0.66666666666666663,0,null,null,0,null,0,0,null,null,0,null,0,0,null,null,0,null,0,0,null,null,0,null,0,0,null,null,0,null,0,0,null,null,0,null,0,0,null,null,0,null,0,0,null,null,0,null,0,0]
["Visita Domiciliaria Integral","Familia con adulto mayor en riesgo psicosocial",null,null,null,null,"Si",1923,1.5E-3,2.8845000000000001,1,2.8844999999999996,0.3,0.86534999999999995,90,0.66666666666666663,5.9001136363636365E-3,"Asistente Social",0.7,2.0191499999999998,90,0.66666666666666663,1.3766931818181817E-2,"Enfermero(a)",null,0,90,0.66666666666666663,0,null,null,0,null,0,0,null,null,0,null,0,0,null,null,0,null,0,0,null,null,0,null,0,0,null,null,0,null,0,0,null,null,0,null,0,0,null,null,0,null,0,0,null,null,0,null,0,0]
["Visita Domiciliaria Integral","Familia con gestante >20 años en riesgo psicosocial",null,null,null,null,"Si",40,1,40,3,39.6,0.33,13.200000000000001,90,0.66666666666666663,9.0000000000000024E-2,"Matrón(a)",0.33,13.200000000000001,90,0.66666666666666663,9.0000000000000024E-2,"Psicólogo(a)",0.33,13.200000000000001,90,0.66666666666666663,9.0000000000000024E-2,"Asistente Social",null,0,null,0,0,null,null,0,null,0,0,null,null,0,null,0,0,null,null,0,null,0,0,null,null,0,null,0,0,null,null,0,null,0,0,null,null,0,null,0,0,null,null,0,null,0,0]
["Visita Domiciliaria Integral","Familia con gestante adolescente 10 a 14 años",null,null,null,null,"Si",1,1,1,0.99,0.99,0.33,0.33,90,0.66666666666666663,2.2500000000000003E-3,"Matrón(a)",0.33,0.33,90,0.66666666666666663,2.2500000000000003E-3,"Psicólogo(a)",0.33,0.33,90,0.66666666666666663,2.2500000000000003E-3,"Asistente Social",null,0,null,0,0,null,null,0,null,0,0,null,null,0,null,0,0,null,null,0,null,0,0,null,null,0,null,0,0,null,null,0,null,0,0,null,null,0,null,0,0,null,null,0,null,0,0]
["Visita Domiciliaria Integral","Familia con gestante adolescente en riesgo psicosocial 15 a 19 años",null,null,null,null,"Si",14,1,14,0.99,13.86,0.33,4.62,90,0.66666666666666663,3.15E-2,"Matrón(a)",0.33,4.62,90,0.66666666666666663,3.15E-2,"Psicólogo(a)",0.33,4.62,90,0.66666666666666663,3.15E-2,"Asistente Social",null,0,null,0,0,null,null,0,null,0,0,null,null,0,null,0,0,null,null,0,null,0,0,null,null,0,null,0,0,null,null,0,null,0,0,null,null,0,null,0,0,null,null,0,null,0,0]
["Visita Domiciliaria Integral","Familia con adolescente con problema respiratorio crónico o no controlado",null,null,null,null,"No",null,null,0,0,0,null,0,null,0,0,null,null,0,null,0,0,null,null,0,null,0,0,null,null,0,null,0,0,null,null,0,null,0,0,null,null,0,null,0,0,null,null,0,null,0,0,null,null,0,null,0,0,null,null,0,null,0,0,null,null,0,null,0,0,null,null,0,null,0,0]
["Visita Domiciliaria Integral","Familia con adulto con problema respiratorio crónico o no controlado",null,null,null,null,"Si",5,1,5,1,5,1,5,90,0.66666666666666663,3.4090909090909088E-2,"Kinesiólogo(a)",null,0,null,0,0,null,null,0,null,0,0,null,null,0,null,0,0,null,null,0,null,0,0,null,null,0,null,0,0,null,null,0,null,0,0,null,null,0,null,0,0,null,null,0,null,0,0,null,null,0,null,0,0,null,null,0,null,0,0]
["Visita Domiciliaria Integral","Familia con gestante en riesgo biomédico",null,null,null,null,"No",null,null,0,0,0,null,0,null,0,0,null,null,0,null,0,0,null,null,0,null,0,0,null,null,0,null,0,0,null,null,0,null,0,0,null,null,0,null,0,0,null,null,0,null,0,0,null,null,0,null,0,0,null,null,0,null,0,0,null,null,0,null,0,0,null,null,0,null,0,0]
["Visita Domiciliaria Integral","Familia con integrante con enfermedad terminal",null,null,null,null,"No",null,1,0,0,0,null,0,90,0.66666666666666663,0,null,null,0,90,0.66666666666666663,0,null,null,0,90,0.66666666666666663,0,null,null,0,null,0,0,null,null,0,null,0,0,null,null,0,null,0,0,null,null,0,null,0,0,null,null,0,null,0,0,null,null,0,null,0,0,null,null,0,null,0,0,null,null,0,null,0,0]
["Visita Domiciliaria Integral","Familia con integrante alta hospitalización precoz",null,null,null,null,"No",null,null,0,0,0,null,0,null,0,0,null,null,0,null,0,0,null,null,0,null,0,0,null,null,0,null,0,0,null,null,0,null,0,0,null,null,0,null,0,0,null,null,0,null,0,0,null,null,0,null,0,0,null,null,0,null,0,0,null,null,0,null,0,0,null,null,0,null,0,0]
["Visita Domiciliaria Integral","Familia con integrante con dependencia severa/aplicación de pauta de sobrecarga al cuidador ZARIT",null,null,null,null,"Si",60,1,60,1,60,1,60,90,0.66666666666666663,0.40909090909090912,"Enfermero(a)",null,0,90,0.66666666666666663,0,null,null,0,90,0.66666666666666663,0,null,null,0,null,0,0,null,null,0,null,0,0,null,null,0,null,0,0,null,null,0,null,0,0,null,null,0,null,0,0,null,null,0,null,0,0,null,null,0,null,0,0,null,null,0,null,0,0]
["Visita Domiciliaria Integral","Familia con otro riesgo psicosocial",null,null,null,null,"Si",4420,1E-3,4.42,1,4.42,0.5,2.21,90,0.66666666666666663,1.5068181818181817E-2,"Médico",0.5,2.21,90,0.66666666666666663,1.5068181818181817E-2,"Psicólogo(a)",null,0,90,0.66666666666666663,0,null,null,0,null,0,0,null,null,0,null,0,0,null,null,0,null,0,0,null,null,0,null,0,0,null,null,0,null,0,0,null,null,0,null,0,0,null,null,0,null,0,0,null,null,0,null,0,0]
["Visita Domiciliaria Integral","Familia con integrante con problema de salud mental",null,null,null,null,"Si",4,1,4,1,4,0.5,2,90,0.66666666666666663,1.3636363636363636E-2,"Psicólogo(a)",0.5,2,90,0.66666666666666663,1.3636363636363636E-2,"Médico",null,0,90,0.66666666666666663,0,null,null,0,null,0,0,null,null,0,null,0,0,null,null,0,null,0,0,null,null,0,null,0,0,null,null,0,null,0,0,null,null,0,null,0,0,null,null,0,null,0,0,null,null,0,null,0,0]
[]
[null,"Otras Visitas"]
[null,null,null,null,null,null,null,"Resumen Población",null,null,null,null,null,null,"Intervención Profesional",null,null,null,null,null,"Intervención Profesional",null,null,null,null,null,"Intervención Profesional",null,null,null,null,null,"Intervención Profesional",null,null,null,null,null,"Intervención Profesional",null,null,null,null,null,"Intervención Profesional",null,null,null,null,null,"Intervención Profesional",null,null,null,null,null,"Intervención Profesional",null,null,null,null,null,"Intervención Profesional",null,null,null,null,null,"Intervención Profesional",null,null,null,null,null,"Intervención Profesional"]
[null,"Actividades / Cartera de Servicios",null,null,null,null,"Se Realiza","Población","Cobertura","Usuarios","Concentración","Total Actividades","Concentración","Total Actividad","Tiempo","Rendimiento","Horas Diarias","Estamento ","Concentración","Total Actividad","Tiempo","Rendimiento","Horas Diarias","Estamento ","Concentración","Total Actividad","Tiempo","Rendimiento","Horas Diarias","Estamento ","Concentración","Total Actividad","Tiempo","Rendimiento","Horas Diarias","Estamento ","Concentración","Total Actividad","Tiempo","Rendimiento","Horas Diarias","Estamento ","Concentración","Total Actividad","Tiempo","Rendimiento","Horas Diarias","Estamento ","Concentración","Total Actividad","Tiempo","Rendimiento","Horas Diarias","Estamento ","Concentración","Total Actividad","Tiempo","Rendimiento","Horas Diarias","Estamento ","Concentración","Total Actividad","Tiempo","Rendimiento","Horas Diarias","Estamento ","Concentración","Total Actividad","Tiempo","Rendimiento","Horas Diarias","Estamento ","Concentración","Total Actividad","Tiempo","Rendimiento","Horas Diarias","Estamento "]
[{"$f":"B$97","v":"Otras Visitas"},"Visita Epidemiológica",null,null,null,null,"No",1,1,{"$f":"IFERROR((H100*I100),0)","v":1},{"$f":"IFERROR(SUM(M100,S100,Y100,AE100,AK100,AQ100,AW100,BC100,BI100,BO100,BU100),0)","v":1},{"$f":"IFERROR(SUM(N100,T100,Z100,AL100,AR100,AX100,BD100,BJ100,AF100,BV100,BP100),0)","v":1},1,{"$f":"IFERROR(($J100*M100),0)","v":1},60,{"$f":"IFERROR((60/O100),0)","v":1},{"$f":"IFERROR(N100/(60/O100)/220,0)","v":4.5454545454545452E-3},"Enfermero(a)",null,{"$f":"IFERROR(($J100*S100),0)","v":0},null,{"$f":"IFERROR((60/U100),0)","v":0},{"$f":"IFERROR(T100/(60/U100)/220,0)","v":0},null,null,{"$f":"IFERROR(($J100*Y100),0)","v":0},null,{"$f":"IFERROR((60/AA100),0)","v":0},{"$f":"IFERROR(Z100/(60/AA100)/220,0)","v":0},null,null,{"$f":"IFERROR(($J100*AE100),0)","v":0},null,{"$f":"IFERROR((60/AG100),0)","v":0},{"$f":"IFERROR(AF100/(60/AG100)/220,0)","v":0},null,null,{"$f":"IFERROR(($J100*AK100),0)","v":0},null,{"$f":"IFERROR((60/AM100),0)","v":0},{"$f":"IFERROR(AL100/(60/AM100)/220,0)","v":0},null,null,{"$f":"IFERROR(($J100*AQ100),0)","v":0},null,{"$f":"IFERROR((60/AS100),0)","v":0},{"$f":"IFERROR(AR100/(60/AS100)/220,0)","v":0},null,null,{"$f":"IFERROR(($J100*AW100),0)","v":0},null,{"$f":"IFERROR((60/AY100),0)","v":0},{"$f":"IFERROR(AX100/(60/AY100)/220,0)","v":0},null,null,{"$f":"IFERROR(($J100*BC100),0)","v":0},null,{"$f":"IFERROR((60/BE100),0)","v":0},{"$f":"IFERROR(BD100/(60/BE100)/220,0)","v":0},null,null,{"$f":"IFERROR(($J100*BI100),0)","v":0},null,{"$f":"IFERROR((60/BK100),0)","v":0},{"$f":"IFERROR(BJ100/(60/BK100)/220,0)","v":0},null,null,{"$f":"IFERROR(($J100*BO100),0)","v":0},null,{"$f":"IFERROR((60/BQ100),0)","v":0},{"$f":"IFERROR(BP100/(60/BQ100)/220,0)","v":0},null,null,{"$f":"IFERROR(($J100*BU100),0)","v":0},null,{"$f":"IFERROR((60/BW100),0)","v":0},{"$f":"IFERROR(BV100/(60/BW100)/220,0)","v":0}]
["Otras Visitas","A lugar de trabajo ",null,null,null,null,"No",0,0,{"$f":"IFERROR((H101*I101),0)","v":0},0,0,null,{"$f":"IFERROR(($J101*M101),0)","v":0},null,{"$f":"IFERROR((60/O101),0)","v":0},0,null,null,{"$f":"IFERROR(($J101*S101),0)","v":0},null,{"$f":"IFERROR((60/U101),0)","v":0},0,null,null,{"$f":"IFERROR(($J101*Y101),0)","v":0},null,{"$f":"IFERROR((60/AA101),0)","v":0},0,null,null,{"$f":"IFERROR(($J101*AE101),0)","v":0},null,{"$f":"IFERROR((60/AG101),0)","v":0},0,null,null,{"$f":"IFERROR(($J101*AK101),0)","v":0},null,{"$f":"IFERROR((60/AM101),0)","v":0},0,null,null,{"$f":"IFERROR(($J101*AQ101),0)","v":0},null,{"$f":"IFERROR((60/AS101),0)","v":0},0,null,null,{"$f":"IFERROR(($J101*AW101),0)","v":0},null,{"$f":"IFERROR((60/AY101),0)","v":0},0,null,null,{"$f":"IFERROR(($J101*BC101),0)","v":0},null,{"$f":"IFERROR((60/BE101),0)","v":0},0,null,null,{"$f":"IFERROR(($J101*BI101),0)","v":0},null,{"$f":"IFERROR((60/BK101),0)","v":0},0,null,null,{"$f":"IFERROR(($J101*BO101),0)","v":0},null,{"$f":"IFERROR((60/BQ101),0)","v":0},0,null,null,{"$f":"IFERROR(($J101*BU101),0)","v":0},null,{"$f":"IFERROR((60/BW101),0)","v":0},{"$f":"IFERROR(BV101/(60/BW101)/220,0)","v":0}]
["Otras Visitas","A colegio, Salas cuna, Jardín Infantil ",null,null,null,null,"No",0,0,0,0,0,null,0,null,0,0,null,null,0,null,0,0,null,null,0,null,0,0,null,null,0,null,0,0,null,null,0,null,0,0,null,null,0,null,0,0,null,null,0,null,0,0,null,null,0,null,0,0,null,null,0,null,0,0,null,null,0,null,0,0,null,null,0,null,0,0]
["Otras Visitas","A grupo comunitario",null,null,null,null,"No",0,0,0,0,0,null,0,null,0,0,null,null,0,null,0,0,null,null,0,null,0,0,null,null,0,null,0,0,null,null,0,null,0,0,null,null,0,null,0,0,null,null,0,null,0,0,null,null,0,null,0,0,null,null,0,null,0,0,null,null,0,null,0,0,null,null,0,null,0,0]
["Otras Visitas","En Sector Rural",null,null,null,null,"No",0,0,0,0,0,null,0,null,0,0,null,null,0,null,0,0,null,null,0,null,0,0,null,null,0,null,0,0,null,null,0,null,0,0,null,null,0,null,0,0,null,null,0,null,0,0,null,null,0,null,0,0,null,null,0,null,0,0,null,null,0,null,0,0,null,null,0,null,0,0]
["Otras Visitas","Otras",null,null,null,null,"No",0,0,0,0,0,null,0,null,0,0,null,null,0,null,0,0,null,null,0,null,0,0,null,null,0,null,0,0,null,null,0,null,0,0,null,null,0,null,0,0,null,null,0,null,0,0,null,null,0,null,0,0,null,null,0,null,0,0,null,null,0,null,0,0,null,null,0,null,0,0]
["Otras Visitas","Familia con adulto mayor dependiente  (excluye dependiente severo)",null,null,null,null,"No",20,1,20,4,80,4,80,60,1,0.36363636363636365,"Podólogo(a)",null,0,null,0,0,null,null,0,null,0,0,null,null,0,null,0,0,null,null,0,null,0,0,null,null,0,null,0,0,null,null,0,null,0,0,null,null,0,null,0,0,null,null,0,null,0,0,null,null,0,null,0,0,null,null,0,null,0,0]
["Otras Visitas","Familia con adulto mayor con demencia",null,null,null,null,"No",0,0,0,0,0,null,0,null,0,0,null,null,0,null,0,0,null,null,0,null,0,0,null,null,0,null,0,0,null,null,0,null,0,0,null,null,0,null,0,0,null,null,0,null,0,0,null,null,0,null,0,0,null,null,0,null,0,0,null,null,0,null,0,0,null,null,0,null,0,0]
[]
[null,"Atención Domiciliaria (PAD)"]
[null,null,null,null,null,null,null,"Resumen Población",null,null,null,null,null,null,"Intervención Profesional",null,null,null,null,null,"Intervención Profesional",null,null,null,null,null,"Intervención Profesional",null,null,null,null,null,"Intervención Profesional",null,null,null,null,null,"Intervención Profesional",null,null,null,null,null,"Intervención Profesional",null,null,null,null,null,"Intervención Profesional",null,null,null,null,null,"Intervención Profesional",null,null,null,null,null,"Intervención Profesional",null,null,null,null,null,"Intervención Profesional",null,null,null,null,null,"Intervención Profesional"]
[null,"Actividades / Cartera de Servicios",null,null,null,null,"Se Realiza","Población","Cobertura","Usuarios","Concentración","Total Actividades","Concentración","Total Actividad","Tiempo","Rendimiento","Horas Diarias","Estamento ","Concentración","Total Actividad","Tiempo","Rendimiento","Horas Diarias","Estamento ","Concentración","Total Actividad","Tiempo","Rendimiento","Horas Diarias","Estamento ","Concentración","Total Actividad","Tiempo","Rendimiento","Horas Diarias","Estamento ","Concentración","Total Actividad","Tiempo","Rendimiento","Horas Diarias","Estamento ","Concentración","Total Actividad","Tiempo","Rendimiento","Horas Diarias","Estamento ","Concentración","Total Actividad","Tiempo","Rendimiento","Horas Diarias","Estamento ","Concentración","Total Actividad","Tiempo","Rendimiento","Horas Diarias","Estamento ","Concentración","Total Actividad","Tiempo","Rendimiento","Horas Diarias","Estamento ","Concentración","Total Actividad","Tiempo","Rendimiento","Horas Diarias","Estamento ","Concentración","Total Actividad","Tiempo","Rendimiento","Horas Diarias","Estamento "]
[{"$f":"B$109","v":"Atención Domiciliaria (PAD)"},"A personas con dependencia leve",null,null,null,null,"Si",14588,8.0000000000000002E-3,{"$f":"IFERROR((H112*I112),0)","v":116.70400000000001},{"$f":"IFERROR(SUM(M112,S112,Y112,AE112,AK112,AQ112,AW112,BC112,BI112,BO112,BU112),0)","v":6},{"$f":"IFERROR(SUM(N112,T112,Z112,AL112,AR112,AX112,BD112,BJ112,AF112,BV112,BP112),0)","v":700.22400000000005},3,{"$f":"IFERROR(($J112*M112),0)","v":350.11200000000002},60,{"$f":"IFERROR((60/O112),0)","v":1},{"$f":"IFERROR(N112/(60/O112)/220,0)","v":1.5914181818181818},"TENS",3,{"$f":"IFERROR(($J112*S112),0)","v":350.11200000000002},60,{"$f":"IFERROR((60/U112),0)","v":1},{"$f":"IFERROR(T112/(60/U112)/220,0)","v":1.5914181818181818},"Podólogo(a)",null,{"$f":"IFERROR(($J112*Y112),0)","v":0},null,{"$f":"IFERROR((60/AA112),0)","v":0},{"$f":"IFERROR(Z112/(60/AA112)/220,0)","v":0},null,null,{"$f":"IFERROR(($J112*AE112),0)","v":0},null,{"$f":"IFERROR((60/AG112),0)","v":0},{"$f":"IFERROR(AF112/(60/AG112)/220,0)","v":0},null,null,{"$f":"IFERROR(($J112*AK112),0)","v":0},null,{"$f":"IFERROR((60/AM112),0)","v":0},{"$f":"IFERROR(AL112/(60/AM112)/220,0)","v":0},null,null,{"$f":"IFERROR(($J112*AQ112),0)","v":0},null,{"$f":"IFERROR((60/AS112),0)","v":0},{"$f":"IFERROR(AR112/(60/AS112)/220,0)","v":0},null,null,{"$f":"IFERROR(($J112*AW112),0)","v":0},null,{"$f":"IFERROR((60/AY112),0)","v":0},{"$f":"IFERROR(AX112/(60/AY112)/220,0)","v":0},null,null,{"$f":"IFERROR(($J112*BC112),0)","v":0},null,{"$f":"IFERROR((60/BE112),0)","v":0},{"$f":"IFERROR(BD112/(60/BE112)/220,0)","v":0},null,null,{"$f":"IFERROR(($J112*BI112),0)","v":0},null,{"$f":"IFERROR((60/BK112),0)","v":0},{"$f":"IFERROR(BJ112/(60/BK112)/220,0)","v":0},null,null,{"$f":"IFERROR(($J112*BO112),0)","v":0},null,{"$f":"IFERROR((60/BQ112),0)","v":0},{"$f":"IFERROR(BP112/(60/BQ112)/220,0)","v":0},null,null,{"$f":"IFERROR(($J112*BU112),0)","v":0},null,{"$f":"IFERROR((60/BW112),0)","v":0},{"$f":"IFERROR(BV112/(60/BW112)/220,0)","v":0}]
[{"$f":"B$109","v":"Atención Domiciliaria (PAD)"},"A personas con dependencia moderada",null,null,null,null,"No",null,null,{"$f":"IFERROR((H113*I113),0)","v":0},{"$f":"IFERROR(SUM(M113,S113,Y113,AE113,AK113,AQ113,AW113,BC113,BI113,BO113,BU113),0)","v":0},{"$f":"IFERROR(SUM(N113,T113,Z113,AL113,AR113,AX113,BD113,BJ113,AF113,BV113,BP113),0)","v":0},null,{"$f":"IFERROR(($J113*M113),0)","v":0},null,{"$f":"IFERROR((60/O113),0)","v":0},{"$f":"IFERROR(N113/(60/O113)/220,0)","v":0},null,null,{"$f":"IFERROR(($J113*S113),0)","v":0},null,{"$f":"IFERROR((60/U113),0)","v":0},{"$f":"IFERROR(T113/(60/U113)/220,0)","v":0},null,null,{"$f":"IFERROR(($J113*Y113),0)","v":0},null,{"$f":"IFERROR((60/AA113),0)","v":0},{"$f":"IFERROR(Z113/(60/AA113)/220,0)","v":0},null,null,{"$f":"IFERROR(($J113*AE113),0)","v":0},null,{"$f":"IFERROR((60/AG113),0)","v":0},{"$f":"IFERROR(AF113/(60/AG113)/220,0)","v":0},null,null,{"$f":"IFERROR(($J113*AK113),0)","v":0},null,{"$f":"IFERROR((60/AM113),0)","v":0},{"$f":"IFERROR(AL113/(60/AM113)/220,0)","v":0},null,null,{"$f":"IFERROR(($J113*AQ113),0)","v":0},null,{"$f":"IFERROR((60/AS113),0)","v":0},{"$f":"IFERROR(AR113/(60/AS113)/220,0)","v":0},null,null,{"$f":"IFERROR(($J113*AW113),0)","v":0},null,{"$f":"IFERROR((60/AY113),0)","v":0},{"$f":"IFERROR(AX113/(60/AY113)/220,0)","v":0},null,null,{"$f":"IFERROR(($J113*BC113),0)","v":0},null,{"$f":"IFERROR((60/BE113),0)","v":0},{"$f":"IFERROR(BD113/(60/BE113)/220,0)","v":0},null,null,{"$f":"IFERROR(($J113*BI113),0)","v":0},null,{"$f":"IFERROR((60/BK113),0)","v":0},{"$f":"IFERROR(BJ113/(60/BK113)/220,0)","v":0},null,null,{"$f":"IFERROR(($J113*BO113),0)","v":0},null,{"$f":"IFERROR((60/BQ113),0)","v":0},{"$f":"IFERROR(BP113/(60/BQ113)/220,0)","v":0},null,null,{"$f":"IFERROR(($J113*BU113),0)","v":0},null,{"$f":"IFERROR((60/BW113),0)","v":0},{"$f":"IFERROR(BV113/(60/BW113)/220,0)","v":0}]
[{"$f":"B$109","v":"Atención Domiciliaria (PAD)"},"A personas con dependencia severa",null,null,null,null,"Si",60,1,{"$f":"IFERROR((H114*I114),0)","v":60},7.5,{"$f":"IFERROR(SUM(N114,T114,Z114,AL114,AR114,AX114,BD114,BJ114,AF114,BV114,BP114),0)","v":630},2,{"$f":"IFERROR(($J114*M114),0)","v":120},60,{"$f":"IFERROR((60/O114),0)","v":1},{"$f":"IFERROR(N114/(60/O114)/220,0)","v":0.54545454545454541},"Médico",2,{"$f":"IFERROR(($J114*S114),0)","v":120},60,{"$f":"IFERROR((60/U114),0)","v":1},{"$f":"IFERROR(T114/(60/U114)/220,0)","v":0.54545454545454541},"Enfermero(a)",1,{"$f":"IFERROR(($J114*Y114),0)","v":60},60,{"$f":"IFERROR((60/AA114),0)","v":1},{"$f":"IFERROR(Z114/(60/AA114)/220,0)","v":0.27272727272727271},"Nutricionista",1,{"$f":"IFERROR(($J114*AE114),0)","v":60},60,{"$f":"IFERROR((60/AG114),0)","v":1},{"$f":"IFERROR(AF114/(60/AG114)/220,0)","v":0.27272727272727271},"Asistente Social",0.5,{"$f":"IFERROR(($J114*AK114),0)","v":30},60,{"$f":"IFERROR((60/AM114),0)","v":1},{"$f":"IFERROR(AL114/(60/AM114)/220,0)","v":0.13636363636363635},"Psicólogo(a)",4,{"$f":"IFERROR(($J114*AQ114),0)","v":240},60,{"$f":"IFERROR((60/AS114),0)","v":1},{"$f":"IFERROR(AR114/(60/AS114)/220,0)","v":1.0909090909090908},"Podólogo(a)",null,{"$f":"IFERROR(($J114*AW114),0)","v":0},60,{"$f":"IFERROR((60/AY114),0)","v":1},{"$f":"IFERROR(AX114/(60/AY114)/220,0)","v":0},null,null,{"$f":"IFERROR(($J114*BC114),0)","v":0},60,{"$f":"IFERROR((60/BE114),0)","v":1},{"$f":"IFERROR(BD114/(60/BE114)/220,0)","v":0},null,null,{"$f":"IFERROR(($J114*BI114),0)","v":0},null,{"$f":"IFERROR((60/BK114),0)","v":0},{"$f":"IFERROR(BJ114/(60/BK114)/220,0)","v":0},null,null,{"$f":"IFERROR(($J114*BO114),0)","v":0},null,{"$f":"IFERROR((60/BQ114),0)","v":0},{"$f":"IFERROR(BP114/(60/BQ114)/220,0)","v":0},null,null,{"$f":"IFERROR(($J114*BU114),0)","v":0},null,{"$f":"IFERROR((60/BW114),0)","v":0},{"$f":"IFERROR(BV114/(60/BW114)/220,0)","v":0}]
[{"$f":"B$109","v":"Atención Domiciliaria (PAD)"},"a personas con post operatorio",null,null,null,null,"No",null,null,{"$f":"IFERROR((H115*I115),0)","v":0},{"$f":"IFERROR(SUM(M115,S115,Y115,AE115,AK115,AQ115,AW115,BC115,BI115,BO115,BU115),0)","v":0},{"$f":"IFERROR(SUM(N115,T115,Z115,AL115,AR115,AX115,BD115,BJ115,AF115,BV115,BP115),0)","v":0},null,{"$f":"IFERROR(($J115*M115),0)","v":0},null,{"$f":"IFERROR((60/O115),0)","v":0},{"$f":"IFERROR(N115/(60/O115)/220,0)","v":0},null,null,{"$f":"IFERROR(($J115*S115),0)","v":0},null,{"$f":"IFERROR((60/U115),0)","v":0},{"$f":"IFERROR(T115/(60/U115)/220,0)","v":0},null,null,{"$f":"IFERROR(($J115*Y115),0)","v":0},null,{"$f":"IFERROR((60/AA115),0)","v":0},{"$f":"IFERROR(Z115/(60/AA115)/220,0)","v":0},null,null,{"$f":"IFERROR(($J115*AE115),0)","v":0},null,{"$f":"IFERROR((60/AG115),0)","v":0},{"$f":"IFERROR(AF115/(60/AG115)/220,0)","v":0},null,null,{"$f":"IFERROR(($J115*AK115),0)","v":0},null,{"$f":"IFERROR((60/AM115),0)","v":0},{"$f":"IFERROR(AL115/(60/AM115)/220,0)","v":0},null,null,{"$f":"IFERROR(($J115*AQ115),0)","v":0},null,{"$f":"IFERROR((60/AS115),0)","v":0},{"$f":"IFERROR(AR115/(60/AS115)/220,0)","v":0},null,null,{"$f":"IFERROR(($J115*AW115),0)","v":0},null,{"$f":"IFERROR((60/AY115),0)","v":0},{"$f":"IFERROR(AX115/(60/AY115)/220,0)","v":0},null,null,{"$f":"IFERROR(($J115*BC115),0)","v":0},null,{"$f":"IFERROR((60/BE115),0)","v":0},{"$f":"IFERROR(BD115/(60/BE115)/220,0)","v":0},null,null,{"$f":"IFERROR(($J115*BI115),0)","v":0},null,{"$f":"IFERROR((60/BK115),0)","v":0},{"$f":"IFERROR(BJ115/(60/BK115)/220,0)","v":0},null,null,{"$f":"IFERROR(($J115*BO115),0)","v":0},null,{"$f":"IFERROR((60/BQ115),0)","v":0},{"$f":"IFERROR(BP115/(60/BQ115)/220,0)","v":0},null,null,{"$f":"IFERROR(($J115*BU115),0)","v":0},null,{"$f":"IFERROR((60/BW115),0)","v":0},{"$f":"IFERROR(BV115/(60/BW115)/220,0)","v":0}]
[{"$f":"B$109","v":"Atención Domiciliaria (PAD)"},"Atención Farmaceutica en domicilio",null,null,null,null,"No",null,null,{"$f":"IFERROR((H116*I116),0)","v":0},{"$f":"IFERROR(SUM(M116,S116,Y116,AE116,AK116,AQ116,AW116,BC116,BI116,BO116,BU116),0)","v":0},{"$f":"IFERROR(SUM(N116,T116,Z116,AL116,AR116,AX116,BD116,BJ116,AF116,BV116,BP116),0)","v":0},null,{"$f":"IFERROR(($J116*M116),0)","v":0},null,{"$f":"IFERROR((60/O116),0)","v":0},{"$f":"IFERROR(N116/(60/O116)/220,0)","v":0},null,null,{"$f":"IFERROR(($J116*S116),0)","v":0},null,{"$f":"IFERROR((60/U116),0)","v":0},{"$f":"IFERROR(T116/(60/U116)/220,0)","v":0},null,null,{"$f":"IFERROR(($J116*Y116),0)","v":0},null,{"$f":"IFERROR((60/AA116),0)","v":0},{"$f":"IFERROR(Z116/(60/AA116)/220,0)","v":0},null,null,{"$f":"IFERROR(($J116*AE116),0)","v":0},null,{"$f":"IFERROR((60/AG116),0)","v":0},{"$f":"IFERROR(AF116/(60/AG116)/220,0)","v":0},null,null,{"$f":"IFERROR(($J116*AK116),0)","v":0},null,{"$f":"IFERROR((60/AM116),0)","v":0},{"$f":"IFERROR(AL116/(60/AM116)/220,0)","v":0},null,null,{"$f":"IFERROR(($J116*AQ116),0)","v":0},null,{"$f":"IFERROR((60/AS116),0)","v":0},{"$f":"IFERROR(AR116/(60/AS116)/220,0)","v":0},null,null,{"$f":"IFERROR(($J116*AW116),0)","v":0},null,{"$f":"IFERROR((60/AY116),0)","v":0},{"$f":"IFERROR(AX116/(60/AY116)/220,0)","v":0},null,null,{"$f":"IFERROR(($J116*BC116),0)","v":0},null,{"$f":"IFERROR((60/BE116),0)","v":0},{"$f":"IFERROR(BD116/(60/BE116)/220,0)","v":0},null,null,{"$f":"IFERROR(($J116*BI116),0)","v":0},null,{"$f":"IFERROR((60/BK116),0)","v":0},{"$f":"IFERROR(BJ116/(60/BK116)/220,0)","v":0},null,null,{"$f":"IFERROR(($J116*BO116),0)","v":0},null,{"$f":"IFERROR((60/BQ116),0)","v":0},{"$f":"IFERROR(BP116/(60/BQ116)/220,0)","v":0},null,null,{"$f":"IFERROR(($J116*BU116),0)","v":0},null,{"$f":"IFERROR((60/BW116),0)","v":0},{"$f":"IFERROR(BV116/(60/BW116)/220,0)","v":0}]
[]
[null,"Educación de Grupo"]
[null,null,null,null,null,null,null,"Resumen Población",null,null,null,null,null,null,"Intervención Profesional",null,null,null,null,null,"Intervención Profesional",null,null,null,null,null,"Intervención Profesional",null,null,null,null,null,"Intervención Profesional",null,null,null,null,null,"Intervención Profesional",null,null,null,null,null,"Intervención Profesional",null,null,null,null,null,"Intervención Profesional",null,null,null,null,null,"Intervención Profesional",null,null,null,null,null,"Intervención Profesional",null,null,null,null,null,"Intervención Profesional",null,null,null,null,null,"Intervención Profesional"]
[null,"Actividades / Cartera de Servicios",null,null,null,null,"Se Realiza","N° Grupos","Cobertura","Usuarios","Concentración","Total Actividades","Concentración","Total Actividad","Tiempo","Rendimiento","Horas Diarias","Estamento ","Concentración","Total Actividad","Tiempo","Rendimiento","Horas Diarias","Estamento ","Concentración","Total Actividad","Tiempo","Rendimiento","Horas Diarias","Estamento ","Concentración","Total Actividad","Tiempo","Rendimiento","Horas Diarias","Estamento ","Concentración","Total Actividad","Tiempo","Rendimiento","Horas Diarias","Estamento ","Concentración","Total Actividad","Tiempo","Rendimiento","Horas Diarias","Estamento ","Concentración","Total Actividad","Tiempo","Rendimiento","Horas Diarias","Estamento ","Concentración","Total Actividad","Tiempo","Rendimiento","Horas Diarias","Estamento ","Concentración","Total Actividad","Tiempo","Rendimiento","Horas Diarias","Estamento ","Concentración","Total Actividad","Tiempo","Rendimiento","Horas Diarias","Estamento ","Concentración","Total Actividad","Tiempo","Rendimiento","Horas Diarias","Estamento "]
[{"$f":"B$118","v":"Educación de Grupo"},"Estimulación del Desarrollo Psicomotor",null,null,null,null,"Si",3,1,{"$f":"IFERROR((H121*I121),0)","v":3},1,{"$f":"IFERROR(SUM(N121,T121,Z121,AL121,AR121,AX121,BD121,BJ121,AF121,BV121,BP121),0)","v":2.9699999999999998},0.33,{"$f":"IFERROR(($J121*M121),0)","v":0.99},60,{"$f":"IFERROR((60/O121),0)","v":1},{"$f":"IFERROR(N121/(60/O121)/220,0)","v":4.4999999999999997E-3},"Educador(a) Párvulos",0.33,{"$f":"IFERROR(($J121*S121),0)","v":0.99},60,{"$f":"IFERROR((60/U121),0)","v":1},{"$f":"IFERROR(T121/(60/U121)/220,0)","v":4.4999999999999997E-3},"Kinesiólogo(a)",0.33,{"$f":"IFERROR(($J121*Y121),0)","v":0.99},60,{"$f":"IFERROR((60/AA121),0)","v":1},{"$f":"IFERROR(Z121/(60/AA121)/220,0)","v":4.4999999999999997E-3},"Fonoaudiólogo(a)",null,{"$f":"IFERROR(($J121*AE121),0)","v":0},null,{"$f":"IFERROR((60/AG121),0)","v":0},{"$f":"IFERROR(AF121/(60/AG121)/220,0)","v":0},null,null,{"$f":"IFERROR(($J121*AK121),0)","v":0},null,{"$f":"IFERROR((60/AM121),0)","v":0},{"$f":"IFERROR(AL121/(60/AM121)/220,0)","v":0},null,null,{"$f":"IFERROR(($J121*AQ121),0)","v":0},null,{"$f":"IFERROR((60/AS121),0)","v":0},{"$f":"IFERROR(AR121/(60/AS121)/220,0)","v":0},null,null,{"$f":"IFERROR(($J121*AW121),0)","v":0},null,{"$f":"IFERROR((60/AY121),0)","v":0},{"$f":"IFERROR(AX121/(60/AY121)/220,0)","v":0},null,null,{"$f":"IFERROR(($J121*BC121),0)","v":0},null,{"$f":"IFERROR((60/BE121),0)","v":0},{"$f":"IFERROR(BD121/(60/BE121)/220,0)","v":0},null,null,{"$f":"IFERROR(($J121*BI121),0)","v":0},null,{"$f":"IFERROR((60/BK121),0)","v":0},{"$f":"IFERROR(BJ121/(60/BK121)/220,0)","v":0},null,null,{"$f":"IFERROR(($J121*BO121),0)","v":0},null,{"$f":"IFERROR((60/BQ121),0)","v":0},{"$f":"IFERROR(BP121/(60/BQ121)/220,0)","v":0},null,null,{"$f":"IFERROR(($J121*BU121),0)","v":0},null,{"$f":"IFERROR((60/BW121),0)","v":0},{"$f":"IFERROR(BV121/(60/BW121)/220,0)","v":0}]
[{"$f":"B$118","v":"Educación de Grupo"},"Nutrición",null,null,null,null,"No",null,null,0,{"$f":"IFERROR(SUM(M122,S122,Y122,AE122,AK122,AQ122,AW122,BC122,BI122,BO122,BU122),0)","v":0},0,null,{"$f":"IFERROR(($J122*M122),0)","v":0},null,{"$f":"IFERROR((60/O122),0)","v":0},0,null,null,{"$f":"IFERROR(($J122*S122),0)","v":0},null,{"$f":"IFERROR((60/U122),0)","v":0},0,null,null,{"$f":"IFERROR(($J122*Y122),0)","v":0},null,{"$f":"IFERROR((60/AA122),0)","v":0},0,null,null,{"$f":"IFERROR(($J122*AE122),0)","v":0},null,{"$f":"IFERROR((60/AG122),0)","v":0},0,null,null,{"$f":"IFERROR(($J122*AK122),0)","v":0},null,{"$f":"IFERROR((60/AM122),0)","v":0},0,null,null,{"$f":"IFERROR(($J122*AQ122),0)","v":0},null,{"$f":"IFERROR((60/AS122),0)","v":0},0,null,null,{"$f":"IFERROR(($J122*AW122),0)","v":0},null,{"$f":"IFERROR((60/AY122),0)","v":0},0,null,null,{"$f":"IFERROR(($J122*BC122),0)","v":0},null,{"$f":"IFERROR((60/BE122),0)","v":0},0,null,null,{"$f":"IFERROR(($J122*BI122),0)","v":0},null,{"$f":"IFERROR((60/BK122),0)","v":0},0,null,null,{"$f":"IFERROR(($J122*BO122),0)","v":0},null,{"$f":"IFERROR((60/BQ122),0)","v":0},0,null,null,{"$f":"IFERROR(($J122*BU122),0)","v":0},null,{"$f":"IFERROR((60/BW122),0)","v":0},{"$f":"IFERROR(BV122/(60/BW122)/220,0)","v":0}]
["Educación de Grupo","Prevención IRA y ERA",null,null,null,null,"No",null,1,0,1,0,1,0,60,1,0,"Kinesiólogo(a) IRA-ERA",null,0,null,0,0,null,null,0,null,0,0,null,null,0,null,0,0,null,null,0,null,0,0,null,null,0,null,0,0,null,null,0,null,0,0,null,null,0,null,0,0,null,null,0,null,0,0,null,null,0,null,0,0,null,null,0,null,0,0]
["Educación de Grupo","Prevención de accidentes",null,null,null,null,"No",null,null,0,0,0,null,0,null,0,0,null,null,0,null,0,0,null,null,0,null,0,0,null,null,0,null,0,0,null,null,0,null,0,0,null,null,0,null,0,0,null,null,0,null,0,0,null,null,0,null,0,0,null,null,0,null,0,0,null,null,0,null,0,0,null,null,0,null,0,0]
["Educación de Grupo","Salud Buco Dental",null,null,null,null,"No",null,null,0,0,0,null,0,null,0,0,null,null,0,null,0,0,null,null,0,null,0,0,null,null,0,null,0,0,null,null,0,null,0,0,null,null,0,null,0,0,null,null,0,null,0,0,null,null,0,null,0,0,null,null,0,null,0,0,null,null,0,null,0,0,null,null,0,null,0,0]
["Educación de Grupo","Violencia de Genero",null,null,null,null,"No",null,null,0,0,0,null,0,60,1,0,null,null,0,60,1,0,null,null,0,60,1,0,null,null,0,null,0,0,null,null,0,null,0,0,null,null,0,null,0,0,null,null,0,null,0,0,null,null,0,null,0,0,null,null,0,null,0,0,null,null,0,null,0,0,null,null,0,null,0,0]
["Educación de Grupo","Salud Sexual y Reproductiva",null,null,null,null,"No",2,1,2,1,2,1,2,60,1,9.0909090909090905E-3,"Matrón(a)",null,0,null,0,0,null,null,0,null,0,0,null,null,0,null,0,0,null,null,0,null,0,0,null,null,0,null,0,0,null,null,0,null,0,0,null,null,0,null,0,0,null,null,0,null,0,0,null,null,0,null,0,0,null,null,0,null,0,0]
["Educación de Grupo","Preparación para el parto y la crianza",null,null,null,null,"Si",10,1,10,4,40,1,10,60,1,4.5454545454545456E-2,"Matrón(a)",1,10,60,1,4.5454545454545456E-2,"Odontólogo",1,10,60,1,4.5454545454545456E-2,"Kinesiólogo(a)",1,10,60,1,4.5454545454545456E-2,"Nutricionista",null,0,60,1,0,null,null,0,60,1,0,null,null,0,null,0,0,null,null,0,null,0,0,null,null,0,null,0,0,null,null,0,null,0,0,null,null,0,null,0,0]
["Educación de Grupo","Autocuidado estimulación y normas de crianza",null,null,null,null,"No",6,1,6,1,6,0.5,3,60,1,1.3636363636363636E-2,"Enfermero(a)",0.5,3,60,1,1.3636363636363636E-2,"Educador(a) Párvulos",null,0,null,0,0,null,null,0,null,0,0,null,null,0,null,0,0,null,null,0,null,0,0,null,null,0,null,0,0,null,null,0,null,0,0,null,null,0,null,0,0,null,null,0,null,0,0,null,null,0,null,0,0]
["Educación de Grupo","Habilidades parentales \"Nadie es Perfecto\"",null,null,null,null,"Si",8,1,8,3,24,1.5,12,60,1,5.4545454545454543E-2,"Fonoaudiólogo(a)",1.5,12,60,1,5.4545454545454543E-2,"Educador(a) Párvulos",null,0,null,0,0,null,null,0,null,0,0,null,null,0,null,0,0,null,null,0,null,0,0,null,null,0,null,0,0,null,null,0,null,0,0,null,null,0,null,0,0,null,null,0,null,0,0,null,null,0,null,0,0]
["Educación de Grupo","Autocuidado",null,null,null,null,"Si",1,1,1,6,6,2,2,120,0.5,1.8181818181818181E-2,"Enfermero(a)",1,1,120,0.5,9.0909090909090905E-3,"Nutricionista",1,1,120,0.5,9.0909090909090905E-3,"Asistente Social",1,1,120,0.5,9.0909090909090905E-3,"Kinesiólogo(a)",1,1,120,0.5,9.0909090909090905E-3,"Odontólogo",null,0,null,0,0,null,null,0,null,0,0,null,null,0,null,0,0,null,null,0,null,0,0,null,null,0,null,0,0,null,null,0,null,0,0]
["Educación de Grupo","Apoyo Madre a Madre",null,null,null,null,"No",null,null,0,0,0,null,0,null,0,0,null,null,0,null,0,0,null,null,0,null,0,0,null,null,0,null,0,0,null,null,0,null,0,0,null,null,0,null,0,0,null,null,0,null,0,0,null,null,0,null,0,0,null,null,0,null,0,0,null,null,0,null,0,0,null,null,0,null,0,0]
["Educación de Grupo","Prevención de Alcohol y drogas",null,null,null,null,"No",2,1,2,4,8,2,4,60,1,1.8181818181818181E-2,"Asistente Social",2,4,60,1,1.8181818181818181E-2,"Psicólogo(a)",null,0,null,0,0,null,null,0,null,0,0,null,null,0,null,0,0,null,null,0,null,0,0,null,null,0,null,0,0,null,null,0,null,0,0,null,null,0,null,0,0,null,null,0,null,0,0,null,null,0,null,0,0]
["Educación de Grupo","Antitabáquica (excluye REM 23)",null,null,null,null,"No",null,null,0,0,0,null,0,null,0,0,null,null,0,null,0,0,null,null,0,null,0,0,null,null,0,null,0,0,null,null,0,null,0,0,null,null,0,null,0,0,null,null,0,null,0,0,null,null,0,null,0,0,null,null,0,null,0,0,null,null,0,null,0,0,null,null,0,null,0,0]
["Educación de Grupo","Prevención de la transmisión vertical de VIH-Sífilis",null,null,null,null,"No",null,null,0,0,0,null,0,null,0,0,null,null,0,null,0,0,null,null,0,null,0,0,null,null,0,null,0,0,null,null,0,null,0,0,null,null,0,null,0,0,null,null,0,null,0,0,null,null,0,null,0,0,null,null,0,null,0,0,null,null,0,null,0,0,null,null,0,null,0,0]
["Educación de Grupo","Otras Areas Temáticas",null,null,null,null,"No",1,1,1,1.1200000000000001,1.1200000000000001,0.14000000000000001,0.14000000000000001,60,1,6.3636363636363641E-4,"Médico",0.14000000000000001,0.14000000000000001,60,1,6.3636363636363641E-4,"Enfermero(a)",0.14000000000000001,0.14000000000000001,60,1,6.3636363636363641E-4,"Nutricionista",0.14000000000000001,0.14000000000000001,60,1,6.3636363636363641E-4,"TENS",0.14000000000000001,0.14000000000000001,60,1,6.3636363636363641E-4,"Asistente Social",0.14000000000000001,0.14000000000000001,60,1,6.3636363636363641E-4,"Psicólogo(a)",7.0000000000000007E-2,7.0000000000000007E-2,60,1,3.181818181818182E-4,"Kinesiólogo(a) IRA-ERA",7.0000000000000007E-2,7.0000000000000007E-2,60,1,3.181818181818182E-4,"Kinesiólogo(a) RBC",0.14000000000000001,0.14000000000000001,60,1,6.3636363636363641E-4,"Odontólogo",null,0,null,0,0,null,null,0,null,0,0]
["Educación de Grupo","Estimulación de memoria adulto mayor",null,null,null,null,"No",1112,0.86,956.31999999999994,1,956.31999999999994,0.5,478.15999999999997,60,1,2.1734545454545455,"Kinesiólogo(a) RBC",0.5,478.15999999999997,60,1,2.1734545454545455,"Terapeuta Ocupacional RBC",null,0,null,0,0,null,null,0,null,0,0,null,null,0,null,0,0,null,null,0,null,0,0,null,null,0,null,0,0,null,null,0,null,0,0,null,null,0,null,0,0,null,null,0,null,0,0,null,null,0,null,0,0]
["Educación de Grupo","Prevención de caídas en adulto mayor",null,null,null,null,"No",1112,0.86,956.31999999999994,1,956.31999999999994,0.5,478.15999999999997,60,1,2.1734545454545455,"Kinesiólogo(a) RBC",0.5,478.15999999999997,60,1,2.1734545454545455,"Terapeuta Ocupacional RBC",null,0,null,0,0,null,null,0,null,0,0,null,null,0,null,0,0,null,null,0,null,0,0,null,null,0,null,0,0,null,null,0,null,0,0,null,null,0,null,0,0,null,null,0,null,0,0,null,null,0,null,0,0]
["Educación de Grupo","Estimulación de actividad física en adultos mayores",null,null,null,null,"No",1112,0.86,956.31999999999994,1,956.31999999999994,0.5,478.15999999999997,60,1,2.1734545454545455,"Kinesiólogo(a) RBC",0.5,478.15999999999997,60,1,2.1734545454545455,"Terapeuta Ocupacional RBC",null,0,null,0,0,null,null,0,null,0,0,null,null,0,null,0,0,null,null,0,null,0,0,null,null,0,null,0,0,null,null,0,null,0,0,null,null,0,null,0,0,null,null,0,null,0,0,null,null,0,null,0,0]
["Educación de Grupo","Rehabilitación Física",null,null,null,null,"No",null,null,0,0,0,null,0,null,0,0,null,null,0,null,0,0,null,null,0,null,0,0,null,null,0,null,0,0,null,null,0,null,0,0,null,null,0,null,0,0,null,null,0,null,0,0,null,null,0,null,0,0,null,null,0,null,0,0,null,null,0,null,0,0,null,null,0,null,0,0]
["Educación de Grupo","Enfermedades emergentes",null,null,null,null,"No",null,null,0,0,0,null,0,null,0,0,null,null,0,null,0,0,null,null,0,null,0,0,null,null,0,null,0,0,null,null,0,null,0,0,null,null,0,null,0,0,null,null,0,null,0,0,null,null,0,null,0,0,null,null,0,null,0,0,null,null,0,null,0,0,null,null,0,null,0,0]
["Educación de Grupo","Uso racional de medicamentos",null,null,null,null,"No",null,null,0,0,0,null,0,null,0,0,null,null,0,null,0,0,null,null,0,null,0,0,null,null,0,null,0,0,null,null,0,null,0,0,null,null,0,null,0,0,null,null,0,null,0,0,null,null,0,null,0,0,null,null,0,null,0,0,null,null,0,null,0,0,null,null,0,null,0,0]
[]
[null,"Promoción de la Salud"]
[null,null,null,null,null,null,null,"Resumen Población",null,null,null,null,null,null,"Intervención Profesional",null,null,null,null,null,"Intervención Profesional",null,null,null,null,null,"Intervención Profesional",null,null,null,null,null,"Intervención Profesional",null,null,null,null,null,"Intervención Profesional",null,null,null,null,null,"Intervención Profesional",null,null,null,null,null,"Intervención Profesional",null,null,null,null,null,"Intervención Profesional",null,null,null,null,null,"Intervención Profesional",null,null,null,null,null,"Intervención Profesional",null,null,null,null,null,"Intervención Profesional"]
[null,"Actividades / Cartera de Servicios",null,null,null,null,"Se Realiza","Población","Cobertura","Usuarios","Concentración","Total Actividades","Concentración","Total Actividad","Tiempo","Rendimiento","Horas Diarias","Estamento ","Concentración","Total Actividad","Tiempo","Rendimiento","Horas Diarias","Estamento ","Concentración","Total Actividad","Tiempo","Rendimiento","Horas Diarias","Estamento ","Concentración","Total Actividad","Tiempo","Rendimiento","Horas Diarias","Estamento ","Concentración","Total Actividad","Tiempo","Rendimiento","Horas Diarias","Estamento ","Concentración","Total Actividad","Tiempo","Rendimiento","Horas Diarias","Estamento ","Concentración","Total Actividad","Tiempo","Rendimiento","Horas Diarias","Estamento ","Concentración","Total Actividad","Tiempo","Rendimiento","Horas Diarias","Estamento ","Concentración","Total Actividad","Tiempo","Rendimiento","Horas Diarias","Estamento ","Concentración","Total Actividad","Tiempo","Rendimiento","Horas Diarias","Estamento ","Concentración","Total Actividad","Tiempo","Rendimiento","Horas Diarias","Estamento "]
[{"$f":"B$144","v":"Promoción de la Salud"},"Eventos Masivos",null,null,null,null,"Si",29,1,{"$f":"IFERROR((H147*I147),0)","v":29},1,{"$f":"IFERROR(SUM(N147,T147,Z147,AL147,AR147,AX147,BD147,BJ147,AF147,BV147,BP147),0)","v":28.709999999999997},0.09,{"$f":"IFERROR(($J147*M147),0)","v":2.61},180,{"$f":"IFERROR((60/O147),0)","v":0.33333333333333331},{"$f":"IFERROR(N147/(60/O147)/220,0)","v":3.559090909090909E-2},"Prof. Educación Física",0.09,{"$f":"IFERROR(($J147*S147),0)","v":2.61},180,{"$f":"IFERROR((60/U147),0)","v":0.33333333333333331},{"$f":"IFERROR(T147/(60/U147)/220,0)","v":3.559090909090909E-2},"Asistente Social",0.09,{"$f":"IFERROR(($J147*Y147),0)","v":2.61},180,{"$f":"IFERROR((60/AA147),0)","v":0.33333333333333331},{"$f":"IFERROR(Z147/(60/AA147)/220,0)","v":3.559090909090909E-2},"Enfermero(a)",0.09,{"$f":"IFERROR(($J147*AE147),0)","v":2.61},180,{"$f":"IFERROR((60/AG147),0)","v":0.33333333333333331},{"$f":"IFERROR(AF147/(60/AG147)/220,0)","v":3.559090909090909E-2},"Nutricionista",0.09,{"$f":"IFERROR(($J147*AK147),0)","v":2.61},180,{"$f":"IFERROR((60/AM147),0)","v":0.33333333333333331},{"$f":"IFERROR(AL147/(60/AM147)/220,0)","v":3.559090909090909E-2},"TENS",0.09,{"$f":"IFERROR(($J147*AQ147),0)","v":2.61},180,{"$f":"IFERROR((60/AS147),0)","v":0.33333333333333331},{"$f":"IFERROR(AR147/(60/AS147)/220,0)","v":3.559090909090909E-2},"Matrón(a)",0.09,{"$f":"IFERROR(($J147*AW147),0)","v":2.61},180,{"$f":"IFERROR((60/AY147),0)","v":0.33333333333333331},{"$f":"IFERROR(AX147/(60/AY147)/220,0)","v":3.559090909090909E-2},"Médico",0.09,{"$f":"IFERROR(($J147*BC147),0)","v":2.61},180,{"$f":"IFERROR((60/BE147),0)","v":0.33333333333333331},{"$f":"IFERROR(BD147/(60/BE147)/220,0)","v":3.559090909090909E-2},"Kinesiólogo(a)",0.09,{"$f":"IFERROR(($J147*BI147),0)","v":2.61},180,{"$f":"IFERROR((60/BK147),0)","v":0.33333333333333331},{"$f":"IFERROR(BJ147/(60/BK147)/220,0)","v":3.559090909090909E-2},"Odontólogo",0.09,{"$f":"IFERROR(($J147*BO147),0)","v":2.61},180,{"$f":"IFERROR((60/BQ147),0)","v":0.33333333333333331},{"$f":"IFERROR(BP147/(60/BQ147)/220,0)","v":3.559090909090909E-2},"Educador(a) Párvulos",0.09,{"$f":"IFERROR(($J147*BU147),0)","v":2.61},180,{"$f":"IFERROR((60/BW147),0)","v":0.33333333333333331},{"$f":"IFERROR(BV147/(60/BW147)/220,0)","v":3.559090909090909E-2},"Psicólogo(a)"]
[{"$f":"B$144","v":"Promoción de la Salud"},"Reuniones de planificación",null,null,null,null,"Si",50,1,{"$f":"IFERROR((H148*I148),0)","v":50},1,256,0.32,{"$f":"IFERROR(($J148*M148),0)","v":16},180,{"$f":"IFERROR((60/O148),0)","v":0.33333333333333331},0.21818181818181817,"Prof. Educación Física",0.96,{"$f":"IFERROR(($J148*S148),0)","v":48},180,{"$f":"IFERROR((60/U148),0)","v":0.33333333333333331},0.65454545454545454,"Asistente Social",0.64,{"$f":"IFERROR(($J148*Y148),0)","v":32},180,{"$f":"IFERROR((60/AA148),0)","v":0.33333333333333331},0.43636363636363634,"Enfermero(a)",0.96,{"$f":"IFERROR(($J148*AE148),0)","v":48},180,{"$f":"IFERROR((60/AG148),0)","v":0.33333333333333331},0.65454545454545454,"Nutricionista",0.96,{"$f":"IFERROR(($J148*AK148),0)","v":48},180,{"$f":"IFERROR((60/AM148),0)","v":0.33333333333333331},0.65454545454545454,"Matrón(a)",0.32,{"$f":"IFERROR(($J148*AQ148),0)","v":16},180,{"$f":"IFERROR((60/AS148),0)","v":0.33333333333333331},0.21818181818181817,"Médico",0.64,{"$f":"IFERROR(($J148*AW148),0)","v":32},180,{"$f":"IFERROR((60/AY148),0)","v":0.33333333333333331},0.43636363636363634,"Kinesiólogo(a)",0.32,{"$f":"IFERROR(($J148*BC148),0)","v":16},180,{"$f":"IFERROR((60/BE148),0)","v":0.33333333333333331},0.21818181818181817,"Odontólogo",null,{"$f":"IFERROR(($J148*BI148),0)","v":0},null,{"$f":"IFERROR((60/BK148),0)","v":0},0,null,null,{"$f":"IFERROR(($J148*BO148),0)","v":0},null,{"$f":"IFERROR((60/BQ148),0)","v":0},0,null,null,{"$f":"IFERROR(($J148*BU148),0)","v":0},null,{"$f":"IFERROR((60/BW148),0)","v":0},{"$f":"IFERROR(BV148/(60/BW148)/220,0)","v":0}]
["Promoción de la Salud","Capacitaciones",null,null,null,null,"Si",2,1,{"$f":"IFERROR((H149*I149),0)","v":2},{"$f":"IFERROR(SUM(M149,S149,Y149,AE149,AK149,AQ149,AW149,BC149,BI149,BO149,BU149),0)","v":3},6,2,4,120,0.5,3.6363636363636362E-2,"Prof. Educación Física",1,2,120,0.5,1.8181818181818181E-2,"Asistente Social",null,0,null,0,0,null,null,0,null,0,0,null,null,0,null,0,0,null,null,0,null,0,0,null,null,0,null,0,0,null,null,0,null,0,0,null,null,0,null,0,0,null,null,0,null,0,0,null,null,0,null,0,0]
["Promoción de la Salud","Jornadas / seminarios",null,null,null,null,"Si",3,1,3,3,9,2,6,300,0.2,0.13636363636363635,"Prof. Educación Física",1,3,300,0.2,6.8181818181818177E-2,"Asistente Social",null,0,null,0,0,null,null,0,null,0,0,null,null,0,null,0,0,null,null,0,null,0,0,null,null,0,null,0,0,null,null,0,null,0,0,null,null,0,null,0,0,null,null,0,null,0,0,null,null,0,null,0,0]
["Promoción de la Salud","Educación grupal",null,null,null,null,"Si",3,1,3,1,3,1,3,60,1,1.3636363636363636E-2,"Prof. Educación Física",null,0,60,1,0,null,null,0,null,0,0,null,null,0,null,0,0,null,null,0,null,0,0,null,null,0,null,0,0,null,null,0,null,0,0,null,null,0,null,0,0,null,null,0,null,0,0,null,null,0,null,0,0,null,null,0,null,0,0]
["Promoción de la Salud","Entrevistas (abogacia con instituciones e intersector)",null,null,null,null,"Si",3,1,3,1,3,1,3,30,2,6.8181818181818179E-3,"Prof. Educación Física",null,0,30,2,0,null,null,0,null,0,0,null,null,0,null,0,0,null,null,0,null,0,0,null,null,0,null,0,0,null,null,0,null,0,0,null,null,0,null,0,0,null,null,0,null,0,0,null,null,0,null,0,0,null,null,0,null,0,0]
["Promoción de la Salud","Reuniones masivas de gestión",null,null,null,null,"Si",2,1,2,12,24,10,20,120,0.5,0.18181818181818182,"Prof. Educación Física",1,2,120,0.5,1.8181818181818181E-2,"Asistente Social",1,2,120,0.5,1.8181818181818181E-2,"Odontólogo",null,0,null,0,0,null,null,0,null,0,0,null,null,0,null,0,0,null,null,0,null,0,0,null,null,0,null,0,0,null,null,0,null,0,0,null,null,0,null,0,0,null,null,0,null,0,0]
["Promoción de la Salud","Comunicación y difusión",null,null,null,null,"Si",3,1,3,2,6,1,3,120,0.5,2.7272727272727271E-2,"Prof. Educación Física",1,3,120,0.5,2.7272727272727271E-2,"Asistente Social",null,0,null,0,0,null,null,0,null,0,0,null,null,0,null,0,0,null,null,0,null,0,0,null,null,0,null,0,0,null,null,0,null,0,0,null,null,0,null,0,0,null,null,0,null,0,0,null,null,0,null,0,0]
["Promoción de la Salud","Gestión  actividades remotas",null,null,null,null,"No",null,1,0,20,0,20,0,60,1,0,"Prof. Educación Física",null,0,60,1,0,null,null,0,null,0,0,null,null,0,null,0,0,null,null,0,null,0,0,null,null,0,null,0,0,null,null,0,null,0,0,null,null,0,null,0,0,null,null,0,null,0,0,null,null,0,null,0,0,null,null,0,null,0,0]
["Promoción de la Salud","Otras",null,null,null,null,"No",null,null,{"$f":"IFERROR((H156*I156),0)","v":0},0,0,null,0,null,0,0,null,null,0,null,0,0,null,null,0,null,0,0,null,null,0,null,0,0,null,null,0,null,0,0,null,null,0,null,0,0,null,null,0,null,0,0,null,null,0,null,0,0,null,null,0,null,0,0,null,null,0,null,0,0,null,null,0,null,0,0]
[]
[null,"Participación Social"]
[null,null,null,null,null,null,null,"Resumen Población",null,null,null,null,null,null,"Intervención Profesional",null,null,null,null,null,"Intervención Profesional",null,null,null,null,null,"Intervención Profesional",null,null,null,null,null,"Intervención Profesional",null,null,null,null,null,"Intervención Profesional",null,null,null,null,null,"Intervención Profesional",null,null,null,null,null,"Intervención Profesional",null,null,null,null,null,"Intervención Profesional",null,null,null,null,null,"Intervención Profesional",null,null,null,null,null,"Intervención Profesional",null,null,null,null,null,"Intervención Profesional"]
[null,"Actividades / Cartera de Servicios",null,null,null,null,"Se Realiza","Población","Cobertura","Usuarios","Concentración","Total Actividades","Concentración","Total Actividad","Tiempo","Rendimiento","Horas Diarias","Estamento ","Concentración","Total Actividad","Tiempo","Rendimiento","Horas Diarias","Estamento ","Concentración","Total Actividad","Tiempo","Rendimiento","Horas Diarias","Estamento ","Concentración","Total Actividad","Tiempo","Rendimiento","Horas Diarias","Estamento ","Concentración","Total Actividad","Tiempo","Rendimiento","Horas Diarias","Estamento ","Concentración","Total Actividad","Tiempo","Rendimiento","Horas Diarias","Estamento ","Concentración","Total Actividad","Tiempo","Rendimiento","Horas Diarias","Estamento ","Concentración","Total Actividad","Tiempo","Rendimiento","Horas Diarias","Estamento ","Concentración","Total Actividad","Tiempo","Rendimiento","Horas Diarias","Estamento ","Concentración","Total Actividad","Tiempo","Rendimiento","Horas Diarias","Estamento ","Concentración","Total Actividad","Tiempo","Rendimiento","Horas Diarias","Estamento "]
[{"$f":"B$158","v":"Participación Social"},"Reunión Consejo de Desarrollo",null,null,null,null,"Si",10,0.8,{"$f":"IFERROR((H161*I161),0)","v":8},1,{"$f":"IFERROR(SUM(N161,T161,Z161,AL161,AR161,AX161,BD161,BJ161,AF161,BV161,BP161),0)","v":8},0.4,{"$f":"IFERROR(($J161*M161),0)","v":3.2},180,{"$f":"IFERROR((60/O161),0)","v":0.33333333333333331},{"$f":"IFERROR(N161/(60/O161)/220,0)","v":4.363636363636364E-2},"Asistente Social",0.2,{"$f":"IFERROR(($J161*S161),0)","v":1.6},180,{"$f":"IFERROR((60/U161),0)","v":0.33333333333333331},{"$f":"IFERROR(T161/(60/U161)/220,0)","v":2.181818181818182E-2},"Enfermero(a)",0.1,{"$f":"IFERROR(($J161*Y161),0)","v":0.8},180,{"$f":"IFERROR((60/AA161),0)","v":0.33333333333333331},{"$f":"IFERROR(Z161/(60/AA161)/220,0)","v":1.090909090909091E-2},"Kinesiólogo(a)",0.1,{"$f":"IFERROR(($J161*AE161),0)","v":0.8},180,{"$f":"IFERROR((60/AG161),0)","v":0.33333333333333331},{"$f":"IFERROR(AF161/(60/AG161)/220,0)","v":1.090909090909091E-2},"Nutricionista",0.1,{"$f":"IFERROR(($J161*AK161),0)","v":0.8},180,{"$f":"IFERROR((60/AM161),0)","v":0.33333333333333331},{"$f":"IFERROR(AL161/(60/AM161)/220,0)","v":1.090909090909091E-2},"Médico",0.1,{"$f":"IFERROR(($J161*AQ161),0)","v":0.8},180,{"$f":"IFERROR((60/AS161),0)","v":0.33333333333333331},{"$f":"IFERROR(AR161/(60/AS161)/220,0)","v":1.090909090909091E-2},"Químico Farmacéutico",null,{"$f":"IFERROR(($J161*AW161),0)","v":0},null,{"$f":"IFERROR((60/AY161),0)","v":0},{"$f":"IFERROR(AX161/(60/AY161)/220,0)","v":0},null,null,{"$f":"IFERROR(($J161*BC161),0)","v":0},null,{"$f":"IFERROR((60/BE161),0)","v":0},{"$f":"IFERROR(BD161/(60/BE161)/220,0)","v":0},null,null,{"$f":"IFERROR(($J161*BI161),0)","v":0},null,{"$f":"IFERROR((60/BK161),0)","v":0},{"$f":"IFERROR(BJ161/(60/BK161)/220,0)","v":0},null,null,{"$f":"IFERROR(($J161*BO161),0)","v":0},null,{"$f":"IFERROR((60/BQ161),0)","v":0},{"$f":"IFERROR(BP161/(60/BQ161)/220,0)","v":0},null,null,{"$f":"IFERROR(($J161*BU161),0)","v":0},null,{"$f":"IFERROR((60/BW161),0)","v":0},{"$f":"IFERROR(BV161/(60/BW161)/220,0)","v":0}]
[{"$f":"B$158","v":"Participación Social"},"Reunión Consejos Territoriales",null,null,null,null,"Si",4,1,{"$f":"IFERROR((H162*I162),0)","v":4},1,8.16,0.03,{"$f":"IFERROR(($J162*M162),0)","v":0.12},180,{"$f":"IFERROR((60/O162),0)","v":0.33333333333333331},1.6363636363636363E-3,"Prof. Educación Física",0.12,{"$f":"IFERROR(($J162*S162),0)","v":0.48},180,{"$f":"IFERROR((60/U162),0)","v":0.33333333333333331},6.5454545454545453E-3,"Asistente Social",0.6,{"$f":"IFERROR(($J162*Y162),0)","v":2.4},180,{"$f":"IFERROR((60/AA162),0)","v":0.33333333333333331},3.272727272727273E-2,"Enfermero(a)",0.6,{"$f":"IFERROR(($J162*AE162),0)","v":2.4},180,{"$f":"IFERROR((60/AG162),0)","v":0.33333333333333331},3.272727272727273E-2,"Nutricionista",0.18,{"$f":"IFERROR(($J162*AK162),0)","v":0.72},180,{"$f":"IFERROR((60/AM162),0)","v":0.33333333333333331},9.8181818181818196E-3,"TENS",0.06,{"$f":"IFERROR(($J162*AQ162),0)","v":0.24},180,{"$f":"IFERROR((60/AS162),0)","v":0.33333333333333331},3.2727272727272726E-3,"Matrón(a)",0.18,{"$f":"IFERROR(($J162*AW162),0)","v":0.72},180,{"$f":"IFERROR((60/AY162),0)","v":0.33333333333333331},9.8181818181818196E-3,"Médico",0.12,{"$f":"IFERROR(($J162*BC162),0)","v":0.48},180,{"$f":"IFERROR((60/BE162),0)","v":0.33333333333333331},6.5454545454545453E-3,"Kinesiólogo(a)",0.06,{"$f":"IFERROR(($J162*BI162),0)","v":0.24},180,{"$f":"IFERROR((60/BK162),0)","v":0.33333333333333331},3.2727272727272726E-3,"Odontólogo",0.03,{"$f":"IFERROR(($J162*BO162),0)","v":0.12},180,{"$f":"IFERROR((60/BQ162),0)","v":0.33333333333333331},1.6363636363636363E-3,"Educador(a) Párvulos",0.06,{"$f":"IFERROR(($J162*BU162),0)","v":0.24},180,{"$f":"IFERROR((60/BW162),0)","v":0.33333333333333331},{"$f":"IFERROR(BV162/(60/BW162)/220,0)","v":3.2727272727272726E-3},"Psicólogo(a)"]
["Participación Social","Reunión Comité Satisfacción Usuaria",null,null,null,null,"Si",11,1,{"$f":"IFERROR((H163*I163),0)","v":11},1,8.91,0.03,0.32999999999999996,120,0.5,2.9999999999999996E-3,"Asistente Social",0.06,0.65999999999999992,180,0.33333333333333331,8.9999999999999993E-3,"Enfermero(a)",0.6,6.6,180,0.33333333333333331,0.09,"Kinesiólogo(a)",0.03,0.32999999999999996,180,0.33333333333333331,4.4999999999999997E-3,"Odontólogo",0.03,0.32999999999999996,180,0.33333333333333331,4.4999999999999997E-3,"Matrón(a)",0.03,0.32999999999999996,180,0.33333333333333331,4.4999999999999997E-3,"Médico",0.03,0.32999999999999996,180,0.33333333333333331,4.4999999999999997E-3,"Nutricionista",null,0,null,0,0,null,null,0,null,0,0,null,null,0,null,0,0,null,null,0,null,0,0]
["Participación Social","Reunión Monitores y/o lideres de salud",null,null,null,null,"No",null,1,0,{"$f":"IFERROR(SUM(M164,S164,Y164,AE164,AK164,AQ164,AW164,BC164,BI164,BO164,BU164),0)","v":3},0,2,0,120,0.5,0,"Asistente Social",null,0,null,0,0,null,null,0,null,0,0,null,null,0,null,0,0,null,null,0,null,0,0,null,null,0,null,0,0,null,0.5,0,120,0.5,0,"Kinesiólogo(a) IRA-ERA",0.5,0,120,0.5,0,"Kinesiólogo(a) RBC",null,0,null,0,0,null,null,0,null,0,0,null,null,0,null,0,0]
["Participación Social","Reunión Comites de Promoción de la Salud ",null,null,null,null,"Si",6,1,6,1,0,null,0,null,0,0,null,null,0,null,0,0,null,null,0,null,0,0,null,null,0,null,0,0,null,null,0,null,0,0,null,null,0,null,0,0,null,null,0,null,0,0,null,null,0,null,0,0,null,null,0,null,0,0,null,null,0,null,0,0,null,null,0,null,0,0]
["Participación Social","Reunión Mesas de trabajo intersectorial",null,null,null,null,"Si",1,1,1,60,60,10,10,120,0.5,9.0909090909090912E-2,"Matrón(a)",10,10,120,0.5,9.0909090909090912E-2,"Enfermero(a)",20,20,120,0.5,0.18181818181818182,"Asistente Social",10,10,120,0.5,9.0909090909090912E-2,"Psicólogo(a)",10,10,120,0.5,9.0909090909090912E-2,"Educador(a) Párvulos",null,0,null,0,0,null,null,0,null,0,0,null,null,0,null,0,0,null,null,0,null,0,0,null,null,0,null,0,0,null,null,0,null,0,0]
["Participación Social","Gobierno en terreno",null,null,null,null,"Si",2,1,2,11,22,2,4,300,0.2,9.0909090909090912E-2,"Matrón(a)",2,4,300,0.2,9.0909090909090912E-2,"Enfermero(a)",2,4,300,0.2,9.0909090909090912E-2,"TENS",2,4,300,0.2,9.0909090909090912E-2,"Asistente Social",1,2,300,0.2,4.5454545454545456E-2,"Psicólogo(a)",2,4,300,0.2,9.0909090909090912E-2,"Educador(a) Párvulos",null,0,null,0,0,null,null,0,null,0,0,null,null,0,null,0,0,null,null,0,null,0,0,null,null,0,null,0,0]
["Participación Social","Cuenta Pública",null,null,null,null,"Si",2,1,2,0,0,null,0,null,0,0,null,null,0,null,0,0,null,null,0,null,0,0,null,null,0,null,0,0,null,null,0,null,0,0,null,null,0,null,0,0,null,null,0,null,0,0,null,null,0,null,0,0,null,null,0,null,0,0,null,null,0,null,0,0,null,null,0,null,0,0]
["Participación Social","Presupuestos Participativos",null,null,null,null,"No",null,1,0,3,0,2,0,120,0.5,0,"Asistente Social",1,0,120,0.5,0,"Educador(a) Párvulos",null,0,null,0,0,null,null,0,null,0,0,null,null,0,null,0,0,null,null,0,null,0,0,null,null,0,null,0,0,null,null,0,null,0,0,null,null,0,null,0,0,null,null,0,null,0,0,null,null,0,null,0,0]
["Participación Social","Diagnósticos Participativos",null,null,null,null,"No",null,1,{"$f":"IFERROR((H170*I170),0)","v":0},4,0,2,0,120,0.5,0,"Médico",2,0,120,0.5,0,"Prof. Educación Física",null,0,null,0,0,null,null,0,null,0,0,null,null,0,null,0,0,null,null,0,null,0,0,null,null,0,null,0,0,null,null,0,null,0,0,null,null,0,null,0,0,null,null,0,null,0,0,null,null,0,null,0,0]
["Participación Social","Diálogos Ciudadanos",null,null,null,null,"Si",1,null,0,0,0,null,0,null,0,{"$f":"IFERROR(N171/(60/O171)/220,0)","v":0},null,null,0,null,0,0,null,null,0,null,0,0,null,null,0,null,0,0,null,null,0,null,0,0,null,null,0,null,0,0,null,null,0,null,0,0,null,null,0,null,0,0,null,null,0,null,0,0,null,null,0,null,0,0,null,null,0,null,0,0]
["Participación Social","Talleres Comunitarios",null,null,null,null,"Si",1,1,1,3,3,2,2,120,0.5,{"$f":"IFERROR(N172/(60/O172)/220,0)","v":1.8181818181818181E-2},"Asistente Social",1,1,120,0.5,9.0909090909090905E-3,"Psicólogo(a)",null,0,null,0,0,null,null,0,null,0,0,null,null,0,null,0,0,null,null,0,null,0,0,null,null,0,null,0,0,null,null,0,null,0,0,null,null,0,null,0,0,null,null,0,null,0,0,null,null,0,null,0,0]
["Participación Social","Progama especial de salud y pueblos indigenas",null,null,null,null,"Si",2,null,0,0,0,null,0,null,0,{"$f":"IFERROR(N173/(60/O173)/220,0)","v":0},null,null,0,null,0,0,null,null,0,null,0,0,null,null,0,null,0,0,null,null,0,null,0,0,null,null,0,null,0,0,null,null,0,null,0,0,null,null,0,null,0,0,null,null,0,null,0,0,null,null,0,null,0,0,null,null,0,null,0,0]
["Participación Social","Gestión  actividades remotas",null,null,null,null,"Si",10,1,10,4,40,4,40,60,1,{"$f":"IFERROR(N174/(60/O174)/220,0)","v":0.18181818181818182},"Asistente Social",null,0,null,0,0,null,null,0,null,0,0,null,null,0,null,0,0,null,null,0,null,0,0,null,null,0,null,0,0,null,null,0,null,0,0,null,null,0,null,0,0,null,null,0,null,0,0,null,null,0,null,0,0,null,null,0,null,0,0]
["Participación Social","Otras",null,null,null,null,"Si",1,1,1,0,0,null,0,null,0,{"$f":"IFERROR(N175/(60/O175)/220,0)","v":0},null,null,0,null,0,0,null,null,0,null,0,0,null,null,0,null,0,0,null,null,0,null,0,0,null,null,0,null,0,0,null,null,0,null,0,0,null,null,0,null,0,0,null,null,0,null,0,0,null,null,0,null,0,0,null,null,0,null,0,0]

{"sheet":"TELESALUD","index":11,"n_rows":66,"n_cols":42,"rows_kept":66,"cut":false,"hidden":false,"merged":[[2,14,2,15],[2,16,2,17],[5,14,5,15],[5,17,5,18],[6,5,6,6],[6,7,6,9],[6,14,6,15],[8,5,8,9],[8,14,8,15],[3,0,8,1],[3,2,8,3],[3,14,3,15],[3,17,3,19],[4,5,4,6],[4,7,4,9],[4,14,4,15],[4,17,4,18],[5,5,5,6],[5,7,5,9],[14,21,14,22],[14,23,14,24],[15,21,15,22],[16,1,16,3],[16,8,16,9],[16,21,16,22],[9,5,9,9],[9,14,9,15],[11,0,11,4],[12,10,12,18],[14,4,15,4],[14,5,15,5],[14,6,15,6],[19,1,19,3],[19,8,19,9],[19,21,19,22],[20,1,20,3],[20,8,20,9],[20,21,20,22],[17,1,17,3],[17,8,17,9],[17,21,17,22],[18,1,18,3],[18,8,18,9],[18,21,18,22],[23,1,23,3],[23,8,23,9],[23,21,23,22],[24,1,24,3],[24,8,24,9],[24,21,24,22],[21,1,21,3],[21,8,21,9],[21,21,21,22],[22,1,22,3],[22,8,22,9],[22,21,22,22],[27,1,27,3],[27,8,27,9],[27,21,27,22],[28,1,28,3],[28,8,28,9],[28,21,28,22],[25,1,25,3],[25,8,25,9],[25,21,25,22],[26,1,26,3],[26,8,26,9],[26,21,26,22],[44,1,44,5],[31,1,31,3],[31,8,31,9],[31,21,31,22],[32,1,32,3],[32,8,32,9],[32,21,32,22],[29,1,29,3],[29,8,29,9],[29,21,29,22],[30,1,30,3],[30,8,30,9],[30,21,30,22],[45,1,45,5],[37,7,37,11],[38,1,38,5],[39,1,39,5],[57,1,57,5],[64,1,64,4],[65,1,65,5],[63,7,63,11],[58,1,58,5],[59,1,59,5],[60,1,60,5],[52,1,52,5],[55,7,55,11],[56,1,56,5],[46,1,46,5],[47,1,47,5],[48,1,48,5],[49,1,49,5],[50,1,50,5],[51,1,51,5],[40,1,40,5],[41,1,41,5],[42,1,42,5],[43,1,43,5]]}
[]
[]
[]
[null,null,null,null,null,null,null,null,null,null,null,null,null,null,"Grupo Etareo",null,"Usuarios"]
[null,null,null,null,null,"Establecimiento",null,{"$f":"Percapita!$G$6","v":"DEPARTAMENTO DE SALUD MUNICIPAL"},null,null,null,null,null,null,"Población Total  Masculino",null,{"$f":"Resumen_Poblacion!I27","v":6957}]
[null,null,null,null,null,"Comuna",null,{"$f":"Percapita!$G$7","v":"CALLE LARGA"},null,null,null,null,null,null,"Población Total  Femenino",null,{"$f":"Resumen_Poblacion!I26","v":7631}]
[null,null,null,null,null,"Fecha de Programación",null,{"$f":"Balance_Horas!$G$7","v":"2023-10-12"},null,null,null,null,null,null,"Total Población",null,{"$f":"SUM(Q5:Q6)","v":14588}]
[]
[null,null,null,null,null,"PROGRAMACION APS ESTRATEGIAS"]
[null,null,null,null,null,"MODELO ATENCIÓN TELESALUD"]
[]
["Resumen Horas Programadas"]
[null,null,null,null,null,null,null,null,null,null,"Sectorizacion de Poblacion Percapitada",null,null,null,null,null,null,null,null,"Total"]
[null,null,null,null,null,null,null,null,null,"% Poblacion x Sector",0.4,0.5,0.1,null,null,null,null,null,null,{"$f":"SUM(K14:S14)","v":1}]
[null,null,null,null,"Total Horas Ciclo","Horas Contratadas","% uso de horas",null,null,"Total Poblacion",{"$f":"IFERROR($Q$7*K14,0)","v":5835.2000000000007},7294,1458.8000000000002,0,0,0,0,0,0,{"$f":"SUM(K15:S15)","v":14588},null,"Tipo de Programa y/o Estrategia",null,"Teleinterconsultas"]
[null,null,null,null,null,null,null,null,null,null,"Sector A","Sector B","Posta","Sector D","Sector E","Sector F","Sector G","Sector H","Sector I","TOTAL",null,"Profesionales",null,"Horas Programadas","%"]
[null,"Médico",null,null,{"$f":"SUMIFS(AO$40:AO$66,AP$40:AP$66,B17,G$40:G$66,\"Si\")+SUMIFS(Q$40:Q$66,R$40:R$66,B17,G$40:G$66,\"Si\")+SUMIFS(W$40:W$66,X$40:X$66,B17,G$40:G$66,\"Si\")+SUMIFS(AC$40:AC$66,AD$40:AD$66,B17,G$40:G$66,\"Si\")+SUMIFS(AI$40:AI$66,AJ$40:AJ$66,B17,G$40:G$66,\"Si\")","v":0.7396109090909091},{"$f":"Balance_Horas!$G$30","v":74.8},{"$f":"IFERROR(E17/F17,0)","v":9.8878463782207104E-3},null,"Médico",null,{"$f":"IF(K$14<>\"\",$E17*K$14,\"\")","v":0.29584436363636363},{"$f":"IF(L$14<>\"\",$E17*L$14,\"\")","v":0.36980545454545455},7.3961090909090907E-2,"","","","","","",{"$f":"SUM(K17:S17)","v":0.7396109090909091},null,"Médico",null,{"$f":"SUMIFS(AO$40:AO$66,AP$40:AP$66,B17,G$40:G$66,\"Si\",A$40:A$66,X$15)+SUMIFS(Q$40:Q$66,R$40:R$66,B17,G$40:G$66,\"Si\",A$40:A$66,X$15)+SUMIFS(W$40:W$66,X$40:X$66,B17,G$40:G$66,\"Si\",A$40:A$66,X$15)+SUMIFS(AC$40:AC$66,AD$40:AD$66,B17,G$40:G$66,\"Si\",A$40:A$66,X$15)+SUMIFS(AI$40:AI$66,AJ$40:AJ$66,B17,G$40:G$66,\"Si\",A$40:A$66,X$15)","v":0.68581454545454545},{"$f":"IFERROR(X17/X$34,0%)","v":0.70936559054011217}]
[null,"Odontólogo",null,null,{"$f":"SUMIFS(AO$40:AO$66,AP$40:AP$66,B18,G$40:G$66,\"Si\")+SUMIFS(Q$40:Q$66,R$40:R$66,B18,G$40:G$66,\"Si\")+SUMIFS(W$40:W$66,X$40:X$66,B18,G$40:G$66,\"Si\")+SUMIFS(AC$40:AC$66,AD$40:AD$66,B18,G$40:G$66,\"Si\")+SUMIFS(AI$40:AI$66,AJ$40:AJ$66,B18,G$40:G$66,\"Si\")","v":0.26643666666666665},{"$f":"Balance_Horas!$I$30","v":30},{"$f":"IFERROR(E18/F18,0)","v":8.8812222222222226E-3},null,"Odontólogo",null,0.10657466666666666,0.13321833333333333,2.6643666666666666E-2,"","","","","","",{"$f":"SUM(K18:S18)","v":0.26643666666666665},null,"Odontólogo",null,{"$f":"SUMIFS(AO$40:AO$66,AP$40:AP$66,B18,G$40:G$66,\"Si\",A$40:A$66,X$15)+SUMIFS(Q$40:Q$66,R$40:R$66,B18,G$40:G$66,\"Si\",A$40:A$66,X$15)+SUMIFS(W$40:W$66,X$40:X$66,B18,G$40:G$66,\"Si\",A$40:A$66,X$15)+SUMIFS(AC$40:AC$66,AD$40:AD$66,B18,G$40:G$66,\"Si\",A$40:A$66,X$15)+SUMIFS(AI$40:AI$66,AJ$40:AJ$66,B18,G$40:G$66,\"Si\",A$40:A$66,X$15)","v":0.26643666666666665},0.27558616924094625]
[null,"Químico Farmacéutico",null,null,7.8879545454545452E-3,{"$f":"Balance_Horas!$K$30","v":8.8000000000000007},8.9635847107438012E-4,null,"Químico Farmacéutico",null,3.1551818181818183E-3,3.9439772727272726E-3,7.8879545454545457E-4,"","","","","","",7.8879545454545452E-3,null,"Químico Farmacéutico",null,7.8879545454545452E-3,8.1588289011592287E-3]
[null,"Matrón(a)",null,null,0,{"$f":"Balance_Horas!$M$30","v":19.8},0,null,"Matrón(a)",null,0,0,0,"","","","","","",0,null,"Matrón(a)",null,0,0]
[null,"Enfermero(a)",null,null,0,{"$f":"Balance_Horas!$O$30","v":51},0,null,"Enfermero(a)",null,0,0,0,"","","","","","",0,null,"Enfermero(a)",null,0,0]
[null,"Nutricionista",null,null,0,{"$f":"Balance_Horas!$Q$30","v":26.4},0,null,"Nutricionista",null,0,0,0,"","","","","","",0,null,"Nutricionista",null,0,0]
[null,"Asistente Social",null,null,0,{"$f":"Balance_Horas!$S$30","v":35.200000000000003},0,null,"Asistente Social",null,0,0,0,"","","","","","",0,null,"Asistente Social",null,0,0]
[null,"Psicólogo(a)",null,null,0,{"$f":"Balance_Horas!$U$30","v":20.8},0,null,"Psicólogo(a)",null,0,0,0,"","","","","","",0,null,"Psicólogo(a)",null,0,0]
[null,"Fonoaudiólogo(a)",null,null,0,{"$f":"Balance_Horas!$W$30","v":4.4000000000000004},0,null,"Fonoaudiólogo(a)",null,0,0,0,"","","","","","",0,null,"Fonoaudiólogo(a)",null,0,0]
[null,"Kinesiólogo(a)",null,null,6.6606818181818173E-3,{"$f":"Balance_Horas!$Y$30","v":47},1.4171663442940038E-4,null,"Kinesiólogo(a)",null,2.6642727272727269E-3,3.3303409090909087E-3,6.6606818181818173E-4,"","","","","","",6.6606818181818173E-3,null,"Kinesiólogo(a)",null,6.6606818181818173E-3,6.8894113177823922E-3]
[null,"Terapeuta Ocupacional ",null,null,0,{"$f":"Balance_Horas!$AA$30","v":8.8000000000000007},0,null,"Terapeuta Ocupacional ",null,{"$f":"IF(K$14<>\"\",$E27*K$14,\"\")","v":0},0,0,"","","","","","",0,null,"Terapeuta Ocupacional ",null,0,0]
[null,"Tereapeuta Complementario",null,null,0,{"$f":"Balance_Horas!$AC$30","v":0},0,null,"Tereapeuta Complementario",null,0,0,0,"","","","","","",0,null,"Tereapeuta Complementario",null,0,0]
[null,"Prof. Educación Física",null,null,0,{"$f":"Balance_Horas!$AE$30","v":8.8000000000000007},0,null,"Prof. Educación Física",null,0,0,0,"","","","","","",0,null,"Prof. Educación Física",null,0,0]
[null,"Educador(a) Párvulos",null,null,0,{"$f":"Balance_Horas!$AG$30","v":8.8000000000000007},0,null,"Educador(a) Párvulos",null,0,0,0,"","","","","","",0,null,"Educador(a) Párvulos",null,0,0]
[null,"Podólogo(a)",null,null,0,{"$f":"Balance_Horas!$AI$30","v":15.4},0,null,"Podólogo(a)",null,0,0,0,"","","","","","",0,null,"Podólogo(a)",null,0,0]
[null,"TENS",null,null,0,{"$f":"Balance_Horas!$AK$30","v":176},0,null,"TENS",null,0,0,0,"","","","","","",0,null,"TENS",null,0,0]
[null,"TONS",null,null,0,{"$f":"Balance_Horas!$AM$30","v":35.200000000000003},0,null,"TONS",null,0,0,0,"","","","","","",0,null,"TONS",null,0,0]
[null,null,null,"TOTAL",{"$f":"SUM(E17:E33)","v":1.0205962121212122},{"$f":"SUM(F17:F33)","v":571.20000000000005},{"$f":"IFERROR(E34/F34,0)","v":1.786758074441898E-3},null,null,"TOTAL",{"$f":"SUM(K17:K33)","v":0.4082384848484848},0.5102981060606061,0.1020596212121212,0,0,0,0,0,0,null,null,null,"TOTAL",{"$f":"SUM(X17:X33)","v":0.96679984848484846},{"$f":"SUM(Y17:Y33)","v":1}]
[]
[]
[null,"Teleinterconsultas"]
[null,null,null,null,null,null,null,"Resumen Población",null,null,null,null,null,null,"Intervención Profesional",null,null,null,null,null,"Intervención Profesional",null,null,null,null,null,"Intervención Profesional",null,null,null,null,null,"Intervención Profesional",null,null,null,null,null,"Intervención Profesional"]
[null,"Actividades / Cartera de Servicios",null,null,null,null,"Se Realiza","Población","Cobertura","Usuarios","Concentración","Total Actividades","Concentración","Total Actividad","Tiempo","Rendimiento","Horas Diarias","Estamento ","Concentración","Total Actividad","Tiempo","Rendimiento","Horas Diarias","Estamento ","Concentración","Total Actividad","Tiempo","Rendimiento","Horas Diarias","Estamento ","Concentración","Total Actividad","Tiempo","Rendimiento","Horas Diarias","Estamento ","Concentración","Total Actividad","Tiempo","Rendimiento","Horas Diarias","Estamento "]
[{"$f":"B$37","v":"Teleinterconsultas"},"Célula DIABETES - Ingreso en Plataforma de Teleinterconsulta Nueva",null,null,null,null,"Si",11744,1.8E-3,{"$f":"IFERROR((H40*I40),0)","v":21.139199999999999},{"$f":"IFERROR(SUM(M40,S40,Y40,AE40,AK40),0)","v":1},{"$f":"IFERROR(SUM(N40,T40,Z40,AF40,AL40),0)","v":21.139199999999999},1,{"$f":"IFERROR((J40*M40),0)","v":21.139199999999999},30,{"$f":"IFERROR((60/O40),0)","v":2},{"$f":"IFERROR(N40/(60/O40)/220,0)","v":4.8043636363636358E-2},"Médico",null,{"$f":"IFERROR((J40*S40),0)","v":0},null,{"$f":"IFERROR((60/U40),0)","v":0},{"$f":"IFERROR(T40/(60/U40)/220,0)","v":0},null,null,{"$f":"IFERROR((O40*Y40),0)","v":0},null,{"$f":"IFERROR((60/AA40),0)","v":0},{"$f":"IFERROR(Z40/(60/AA40)/220,0)","v":0},null,null,{"$f":"IFERROR((U40*AE40),0)","v":0},null,{"$f":"IFERROR((60/AG40),0)","v":0},{"$f":"IFERROR(AF40/(60/AG40)/220,0)","v":0},null,null,{"$f":"IFERROR((AA40*AK40),0)","v":0},null,{"$f":"IFERROR((60/AM40),0)","v":0},{"$f":"IFERROR(AL40/(60/AM40)/220,0)","v":0}]
[{"$f":"B$37","v":"Teleinterconsultas"},"Célula DIABETES - Control Presencial Teleinterconsulta",null,null,null,null,"Si",21,1,21,1,21,1,{"$f":"IFERROR((J41*M41),0)","v":21},30,{"$f":"IFERROR((60/O41),0)","v":2},4.7727272727272729E-2,"Médico",null,0,null,{"$f":"IFERROR((60/U41),0)","v":0},0,null,null,{"$f":"IFERROR((O41*Y41),0)","v":0},null,{"$f":"IFERROR((60/AA41),0)","v":0},0,null,null,{"$f":"IFERROR((U41*AE41),0)","v":0},null,{"$f":"IFERROR((60/AG41),0)","v":0},0,null,null,{"$f":"IFERROR((AA41*AK41),0)","v":0},null,{"$f":"IFERROR((60/AM41),0)","v":0},{"$f":"IFERROR(AL41/(60/AM41)/220,0)","v":0}]
["Teleinterconsultas","Célula NEFROLOGÍA - Ingreso en Plataforma de Teleinterconsulta Nueva",null,null,null,null,"Si",11744,2E-3,23.488,1,23.488,1,23.488,30,2,5.3381818181818183E-2,"Médico",null,0,null,0,0,null,null,{"$f":"IFERROR((O42*Y42),0)","v":0},null,0,0,null,null,{"$f":"IFERROR((U42*AE42),0)","v":0},null,0,0,null,null,{"$f":"IFERROR((AA42*AK42),0)","v":0},null,0,0]
["Teleinterconsultas","Célula NEFROLOGÍA - Control Presencial Teleinterconsulta",null,null,null,null,"Si",24,1,24,1,24,1,24,30,2,5.4545454545454543E-2,"Médico",null,0,null,0,0,null,null,{"$f":"IFERROR((O43*Y43),0)","v":0},null,0,0,null,null,{"$f":"IFERROR((U43*AE43),0)","v":0},null,0,0,null,null,{"$f":"IFERROR((AA43*AK43),0)","v":0},null,0,0]
["Teleinterconsultas","Célula GERIATRÍA - Ingreso en Plataforma de Teleinterconsulta Nueva",null,null,null,null,"Si",1923,3.0000000000000001E-3,5.7690000000000001,1,5.7690000000000001,0.4,2.3076000000000003,60,1,1.048909090909091E-2,"Médico",0.3,1.7306999999999999,30,2,3.9334090909090907E-3,"Kinesiólogo(a)",0.3,{"$f":"IFERROR((J44*Y44),0)","v":1.7306999999999999},30,2,3.9334090909090907E-3,"Químico Farmacéutico",null,{"$f":"IFERROR((J44*AE44),0)","v":0},null,0,0,null,null,{"$f":"IFERROR((J44*AK44),0)","v":0},null,0,0]
["Teleinterconsultas","Célula GERIATRÍA - Control Presencial Teleinterconsulta",null,null,null,null,"Si",6,1,6,1,6,0.4,2.4000000000000004,30,2,5.454545454545455E-3,"Médico",0.3,1.7999999999999998,20,3,2.7272727272727271E-3,"Kinesiólogo(a)",0.3,{"$f":"IFERROR((J45*Y45),0)","v":1.7999999999999998},29,2.0689655172413794,3.9545454545454536E-3,"Químico Farmacéutico",null,{"$f":"IFERROR((J45*AE45),0)","v":0},null,0,0,null,null,{"$f":"IFERROR((J45*AK45),0)","v":0},null,0,0]
["Teleinterconsultas","Célula DERMATOLOGÍA - Ingreso en Plataforma de Teleinterconsulta Nueva",null,null,null,null,"Si",14588,7.0000000000000001E-3,102.116,1,102.116,1,102.116,30,2,0.23208181818181819,"Médico",null,0,null,0,0,null,null,{"$f":"IFERROR((O46*Y46),0)","v":0},null,0,0,null,null,{"$f":"IFERROR((U46*AE46),0)","v":0},null,0,0,null,null,{"$f":"IFERROR((AA46*AK46),0)","v":0},null,0,0]
["Teleinterconsultas","Célula DERMATOLOGÍA - Control Presencial Teleinterconsulta",null,null,null,null,"Si",103,1,103,1,103,1,103,30,2,0.2340909090909091,"Médico",null,0,null,0,0,null,null,0,null,0,0,null,null,0,null,0,0,null,null,0,null,0,0]
["Teleinterconsultas","Célula PATOLOGÍA ORAL - Ingreso en Plataforma de Teleinterconsulta Nueva",null,null,null,null,"Si",2397,6.0000000000000001E-3,14.382,1,14.382,1,14.382,30,2,3.2686363636363638E-2,"Odontólogo",null,0,null,0,0,null,null,0,null,0,0,null,null,0,null,0,0,null,null,0,null,0,0]
["Teleinterconsultas","Célula PATOLOGÍA ORAL - Control Presencial Teleinterconsulta",null,null,null,null,"Si",15,1,15,1,15,1,15,30,2,3.4090909090909088E-2,"Odontólogo",null,0,null,0,0,null,null,0,null,0,0,null,null,0,null,0,0,null,null,0,null,0,0]
["Teleinterconsultas","Célula TELEORTODONCIA - Ingreso en Plataforma de Teleinterconsulta Nueva",null,null,null,null,"Si",14588,2.7000000000000001E-3,39.387599999999999,1,39.387599999999999,1,39.387599999999999,30,2,8.9517272727272723E-2,"Odontólogo",null,0,null,0,0,null,null,0,null,0,0,null,null,0,null,0,0,null,null,0,null,0,0]
["Teleinterconsultas","Célula TELEORTODONCIA - Control Presencial Teleinterconsulta",null,null,null,null,"Si",40,1,40,1,40,1,40,20,3,6.0606060606060608E-2,"Odontólogo",null,0,null,0,0,null,null,0,null,0,0,null,null,0,null,0,0,null,null,0,null,0,0]
["Teleinterconsultas","Célula TRASTORNO TEMPOROMANDIBULAR Y DOF - Ingreso en Plataforma de Teleinterconsulta Nueva",null,null,null,null,"Si",14588,8.9999999999999998E-4,13.129199999999999,1,13.129199999999999,1,13.129199999999999,30,2,2.9839090909090905E-2,"Odontólogo",null,0,null,0,0,null,null,0,null,0,0,null,null,0,null,0,0,null,null,0,null,0,0]
["Teleinterconsultas","Célula TRASTORNO TEMPOROMANDIBULAR Y DOF - Control Presencial Teleinterconsulta",null,null,null,null,"Si",13,1,13,1,13,1,13,20,3,1.9696969696969695E-2,"Odontólogo",null,0,null,0,0,null,null,0,null,0,0,null,null,0,null,0,0,null,null,0,null,0,0]
[]
[null,"Telecomité"]
[null,null,null,null,null,null,null,"Resumen Población",null,null,null,null,null,null,"Intervención Profesional",null,null,null,null,null,"Intervención Profesional",null,null,null,null,null,"Intervención Profesional",null,null,null,null,null,"Intervención Profesional"]
[null,"Actividades / Cartera de Servicios",null,null,null,null,"Se Realiza","Población","Cobertura","Usuarios","Concentración","Total Actividades","Concentración","Total Actividad","Tiempo","Rendimiento","Horas Diarias","Estamento ","Concentración","Total Actividad","Tiempo","Rendimiento","Horas Diarias","Estamento ","Concentración","Total Actividad","Tiempo","Rendimiento","Horas Diarias","Estamento ","Concentración","Total Actividad","Tiempo","Rendimiento","Horas Diarias","Estamento "]
[{"$f":"B$55","v":"Telecomité"},"Telecomité CP - Presentación de caso IC nueva telecomité",null,null,null,null,"Si",14588,2.0000000000000001E-4,{"$f":"IFERROR((H58*I58),0)","v":2.9176000000000002},{"$f":"IFERROR(SUM(M58,S58,Y58,AE58),0)","v":1},2.9176000000000002,1,{"$f":"IFERROR((J58*M58),0)","v":2.9176000000000002},60,{"$f":"IFERROR((60/O58),0)","v":1},{"$f":"IFERROR(N58/(60/O58)/220,0)","v":1.3261818181818182E-2},"Médico",null,{"$f":"IFERROR((J58*S58),0)","v":0},null,{"$f":"IFERROR((60/U58),0)","v":0},{"$f":"IFERROR(T58/(60/U58)/220,0)","v":0},null,null,{"$f":"IFERROR((J58*Y58),0)","v":0},null,{"$f":"IFERROR((60/AA58),0)","v":0},{"$f":"IFERROR(Z58/(60/AA58)/220,0)","v":0},null,null,{"$f":"IFERROR((J58*AE58),0)","v":0},null,{"$f":"IFERROR((60/AG58),0)","v":0},{"$f":"IFERROR(AF58/(60/AG58)/220,0)","v":0}]
[{"$f":"B$55","v":"Telecomité"},"Telecomité CP - Control telecomité",null,null,null,null,"Si",3,1,{"$f":"IFERROR((H59*I59),0)","v":3},1,3,1,{"$f":"IFERROR((J59*M59),0)","v":3},60,{"$f":"IFERROR((60/O59),0)","v":1},{"$f":"IFERROR(N59/(60/O59)/220,0)","v":1.3636363636363636E-2},"Médico",null,{"$f":"IFERROR((J59*S59),0)","v":0},null,{"$f":"IFERROR((60/U59),0)","v":0},{"$f":"IFERROR(T59/(60/U59)/220,0)","v":0},null,null,{"$f":"IFERROR((J59*Y59),0)","v":0},null,{"$f":"IFERROR((60/AA59),0)","v":0},{"$f":"IFERROR(Z59/(60/AA59)/220,0)","v":0},null,null,{"$f":"IFERROR((J59*AE59),0)","v":0},null,{"$f":"IFERROR((60/AG59),0)","v":0},{"$f":"IFERROR(AF59/(60/AG59)/220,0)","v":0}]
[{"$f":"B$55","v":"Telecomité"},"Telecomité DCNO - Presentación de caso IC nueva telecomité",null,null,null,null,"Si",14588,2.0000000000000001E-4,{"$f":"IFERROR((H60*I60),0)","v":2.9176000000000002},1,2.9176000000000002,1,{"$f":"IFERROR((J60*M60),0)","v":2.9176000000000002},60,{"$f":"IFERROR((60/O60),0)","v":1},{"$f":"IFERROR(N60/(60/O60)/220,0)","v":1.3261818181818182E-2},"Médico",null,{"$f":"IFERROR((J60*S60),0)","v":0},null,{"$f":"IFERROR((60/U60),0)","v":0},{"$f":"IFERROR(T60/(60/U60)/220,0)","v":0},null,null,{"$f":"IFERROR((J60*Y60),0)","v":0},null,{"$f":"IFERROR((60/AA60),0)","v":0},{"$f":"IFERROR(Z60/(60/AA60)/220,0)","v":0},null,null,{"$f":"IFERROR((J60*AE60),0)","v":0},null,{"$f":"IFERROR((60/AG60),0)","v":0},{"$f":"IFERROR(AF60/(60/AG60)/220,0)","v":0}]
[{"$f":"B$55","v":"Telecomité"},"Telecomité DCNO - Control telecomité",null,null,null,null,"Si",3,1,{"$f":"IFERROR((H61*I61),0)","v":3},1,3,1,{"$f":"IFERROR((J61*M61),0)","v":3},60,{"$f":"IFERROR((60/O61),0)","v":1},{"$f":"IFERROR(N61/(60/O61)/220,0)","v":1.3636363636363636E-2},"Médico",null,{"$f":"IFERROR((J61*S61),0)","v":0},null,{"$f":"IFERROR((60/U61),0)","v":0},{"$f":"IFERROR(T61/(60/U61)/220,0)","v":0},null,null,{"$f":"IFERROR((J61*Y61),0)","v":0},null,{"$f":"IFERROR((60/AA61),0)","v":0},{"$f":"IFERROR(Z61/(60/AA61)/220,0)","v":0},null,null,{"$f":"IFERROR((J61*AE61),0)","v":0},null,{"$f":"IFERROR((60/AG61),0)","v":0},{"$f":"IFERROR(AF61/(60/AG61)/220,0)","v":0}]
[]
[null,"Telesalud"]
[null,null,null,null,null,null,null,"Resumen Población",null,null,null,null,null,null,"Intervención Profesional",null,null,null,null,null,"Intervención Profesional",null,null,null,null,null,"Intervención Profesional",null,null,null,null,null,"Intervención Profesional"]
[null,"Actividades / Cartera de Servicios",null,null,null,null,"Se Realiza","Población","Cobertura","Usuarios","Concentración","Total Actividades","Concentración","Total Actividad","Tiempo","Rendimiento","Horas Diarias","Estamento ","Concentración","Total Actividad","Tiempo","Rendimiento","Horas Diarias","Estamento ","Concentración","Total Actividad","Tiempo","Rendimiento","Horas Diarias","Estamento ","Concentración","Total Actividad","Tiempo","Rendimiento","Horas Diarias","Estamento "]
[{"$f":"B$63","v":"Telesalud"},"Teletriage - Gestion de casos de Teletriage",null,null,null,null,"No",null,null,{"$f":"IFERROR((H66*I66),0)","v":0},{"$f":"IFERROR(SUM(M66,S66,Y66,AE66),0)","v":0},{"$f":"IFERROR(SUM(N66,T66,Z66,AF66),0)","v":0},null,{"$f":"IFERROR((J66*M66),0)","v":0},null,{"$f":"IFERROR((60/O66),0)","v":0},{"$f":"IFERROR(N66/(60/O66)/220,0)","v":0},null,null,{"$f":"IFERROR((J66*S66),0)","v":0},null,{"$f":"IFERROR((60/U66),0)","v":0},{"$f":"IFERROR(T66/(60/U66)/220,0)","v":0},null,null,{"$f":"IFERROR((J66*Y66),0)","v":0},null,{"$f":"IFERROR((60/AA66),0)","v":0},{"$f":"IFERROR(Z66/(60/AA66)/220,0)","v":0},null,null,{"$f":"IFERROR((J66*AE66),0)","v":0},null,{"$f":"IFERROR((60/AG66),0)","v":0},{"$f":"IFERROR(AF66/(60/AG66)/220,0)","v":0}]

{"sheet":"GESTION_FARMACEUTICA","index":12,"n_rows":67,"n_cols":17,"rows_kept":67,"cut":false,"hidden":false,"merged":[[16,1,16,3],[16,8,16,9],[2,14,2,15],[2,16,2,17],[4,17,4,18],[5,5,5,6],[5,7,5,9],[3,17,3,19],[11,0,11,4],[3,0,8,1],[3,2,8,3],[3,14,3,15],[4,5,4,6],[4,7,4,9],[4,14,4,15],[12,10,12,18],[5,14,5,15],[5,17,5,18],[6,5,6,6],[6,7,6,9],[6,14,6,15],[8,14,8,15],[8,5,8,10],[9,5,9,10],[9,14,9,15],[42,1,42,5],[25,1,25,5],[26,1,26,5],[27,1,27,5],[14,10,14,11],[15,8,15,9],[23,1,23,5],[24,1,24,5],[15,1,15,3],[17,8,17,9],[14,8,14,9],[31,1,31,5],[43,1,43,5],[44,1,44,5],[36,1,36,5],[37,1,37,5],[32,1,32,5],[41,1,41,5],[53,1,53,5],[54,1,54,5],[55,1,55,5],[45,1,45,5],[46,1,46,5],[47,1,47,5],[51,1,51,5],[52,1,52,5],[65,1,65,5],[66,1,66,5],[59,1,59,5],[60,1,60,5],[61,1,61,5],[62,1,62,5],[63,1,63,5],[64,1,64,5]]}
[]
[]
[]
[null,null,null,null,null,null,null,null,null,null,null,null,null,null,"Grupo Etareo",null,"Usuarios"]
[null,null,null,null,null,"Establecimiento",null,{"$f":"Percapita!$G$6","v":"DEPARTAMENTO DE SALUD MUNICIPAL"},null,null,null,null,null,null,"Población Total  Masculino",null,{"$f":"Resumen_Poblacion!I27","v":6957}]
[null,null,null,null,null,"Comuna",null,{"$f":"Percapita!$G$7","v":"CALLE LARGA"},null,null,null,null,null,null,"Población Total  Femenino",null,{"$f":"Resumen_Poblacion!I26","v":7631}]
[null,null,null,null,null,"Fecha de Programación",null,{"$f":"Balance_Horas!$G$7","v":"2023-10-12"},null,null,null,null,null,null,"Total Población",null,{"$f":"SUM(Q5:Q6)","v":14588}]
[]
[null,null,null,null,null,"PROGRAMACION APS ESTRATEGIA ADMINISTRATIVA"]
[null,null,null,null,null,"GESTIÓN FARMACEÚTICA"]
[]
["Resumen Horas Programadas"]
[]
[]
[null,null,null,null,"Total Horas Programadas","Horas Contratadas","% uso de horas",null,"Tipo de Programa y/o Estrategia",null,"Dispensación "]
[null,"Químico Farmacéutico",null,null,{"$f":"SUMIFS(L25:L67,M25:M67,B16,G25:G67,\"Si\")","v":28.388636363636362},{"$f":"SUM(Balance_Horas!K30:L30)","v":8.8000000000000007},{"$f":"IFERROR(E16/F16,0)","v":3.2259814049586772},null,"Profesionales",null,"Horas Programadas","%"]
[null,"TENS",null,null,{"$f":"SUMIFS(L26:L68,M26:M68,B17,G26:G68,\"Si\")","v":92.504848484848495},{"$f":"SUM(Balance_Horas!AK30:AL30)","v":176},{"$f":"IFERROR(E17/F17,0)","v":0.52559573002754822},null,"Profesionales",null,"Horas Programadas","%"]
[null,null,null,"TOTAL",{"$f":"SUM(E16:E17)","v":120.89348484848486},{"$f":"SUM(F16:F16)","v":8.8000000000000007},{"$f":"IFERROR(E18/F18,0)","v":13.737896005509642},null,"Químico Farmacéutico",null,{"$f":"SUMIFS(L25:L67,G25:G67,\"Si\",A25:A67,K15,M25:M67,I18)","v":27.679545454545451},{"$f":"IFERROR(K18/F$16,0%)","v":3.1454028925619828}]
[]
[]
[]
[null,"Dispensación "]
[null,null,null,null,null,null,null,null,null,"Intervencion Profesional"]
[null,"Actividades de Gestión y Administrativa",null,null,null,null,"Se Realiza","N°","Concentracion","Total Actividades","Rendimiento Minutos","Horas Diarias","Estamento "]
[{"$f":"B$22","v":"Dispensación "},"Atención Abierta -  Validación ",null,null,null,null,"Si",31,52,{"$f":"IFERROR(H25*I25,0)","v":1612},2,{"$f":"IFERROR(J25/(60/K25)/220,0)","v":0.24424242424242423},"Químico Farmacéutico"]
[{"$f":"B$22","v":"Dispensación "},"Nº Prescripciones Semanal por funcionario (Produccion)",null,null,null,null,"Si",3070,52,{"$f":"IFERROR(H26*I26,0)","v":159640},2,{"$f":"IFERROR(J26/(60/K26)/220,0)","v":24.187878787878788},"Químico Farmacéutico"]
[{"$f":"B$22","v":"Dispensación "},"Dispensación Directa (restringidos, controlados, alto costo, PM y LRS)",null,null,null,null,"Si",17,52,{"$f":"IFERROR(H27*I27,0)","v":884},4,0.26787878787878788,"Químico Farmacéutico"]
[{"$f":"B$22","v":"Dispensación "},"Nº Prescripciones Semanal    ",null,null,null,null,"Si",3070,52,{"$f":"IFERROR(H28*I28,0)","v":159640},2,{"$f":"IFERROR(J28/(60/K28)/220,0)","v":24.187878787878788},"TENS"]
[]
[null,"Control de Medicamentos Sujetos a Control Legal",null,null,null,null,null,null,null,null,null,null,null," "]
[null,null,null,null,null,null,null,null,null,"Intervencion Profesional"]
[null,"Actividades de Gestión y Administrativa",null,null,null,null,"Se Realiza","N°","Concentracion","Total Actividades","Rendimiento Minutos","Horas Diarias","Estamento "]
[{"$f":"B$30","v":"Control de Medicamentos Sujetos a Control Legal"},"N° Registros de Recetas de Medicamentos Estupefacientes y Psicotropicos",null,null,null,null,"Si",1,52,{"$f":"IFERROR(H33*I33,0)","v":52},180,{"$f":"IFERROR(J33/(60/K33)/220,0)","v":0.70909090909090911},"Químico Farmacéutico"]
[]
[null,"Reenvasado (Supervisión 10%) "]
[null,null,null,null,null,null,null,null,null,"Intervencion Profesional"]
[null,"Actividades de Gestión y Administrativa",null,null,null,null,"Se Realiza","N°","Concentracion","Total Actividades","Rendimiento Minutos","Horas Diarias","Estamento "]
[{"$f":"B$35","v":"Reenvasado (Supervisión 10%) "},"N° de Medicamentos Reenvasados/ Semanal",null,null,null,null,"Si",8611,52,{"$f":"IFERROR(H38*I38,0)","v":447772},2,{"$f":"IFERROR(J38/(60/K38)/220,0)","v":67.844242424242424},"TENS"]
[]
[null,"Farmacovigilancia"]
[null,null,null,null,null,null,null,null,null,"Intervencion Profesional"]
[null,"Actividades de Gestión y Administrativa",null,null,null,null,"Se Realiza","N°","Concentracion","Total Actividades","Rendimiento Minutos","Horas Diarias","Estamento "]
[{"$f":"B$22","v":"Dispensación "},"Notificación de RAM",null,null,null,null,"Si",2,52,{"$f":"IFERROR(H43*I43,0)","v":104},20,{"$f":"IFERROR(J43/(60/K43)/220,0)","v":0.15757575757575756},"Químico Farmacéutico"]
["Dispensación ","Nº Reportes y/o informes semanales",null,null,null,null,"Si",1,52,52,30,0.11818181818181818,"Químico Farmacéutico"]
["Dispensación ","Eventos adversos asociados de Medicación",null,null,null,null,"Si",1,12,12,20,1.8181818181818181E-2,"Químico Farmacéutico"]
["Dispensación ","Nº Reportes y/o informes semanales",null,null,null,null,"Si",1,52,52,30,0.11818181818181818,"Químico Farmacéutico"]
["Dispensación ","Denuncias de Calidad",null,null,null,null,"Si",1,52,52,20,7.8787878787878782E-2,"Químico Farmacéutico"]
["Dispensación ","Nº Reportes y/o informes semanales",null,null,null,null,"Si",1,52,52,30,0.11818181818181818,"Químico Farmacéutico"]
[]
[null,"Gestión de Inventario en Puntos de almacenamiento a cargo de Farmacia"]
[null,null,null,null,null,null,null,null,null,"Intervencion Profesional"]
[null,"Actividades de Gestión y Administrativa",null,null,null,null,"Se Realiza","N°","Concentracion","Total Actividades","Rendimiento Minutos","Horas Diarias","Estamento "]
[{"$f":"B$22","v":"Dispensación "},"Carros de paro/Armarios/ Puntos de Dispensación",null,null,null,null,"Si",1,12,{"$f":"IFERROR(H53*I53,0)","v":12},60,{"$f":"IFERROR(J53/(60/K53)/220,0)","v":5.4545454545454543E-2},"Químico Farmacéutico"]
[{"$f":"B$22","v":"Dispensación "},"Nº Items de almacenamiento",null,null,null,null,"Si",0.25,52,{"$f":"IFERROR(H54*I54,0)","v":13},30,{"$f":"IFERROR(J54/(60/K54)/220,0)","v":2.9545454545454545E-2},"Químico Farmacéutico"]
[{"$f":"B$22","v":"Dispensación "},"Bodegas activa",null,null,null,null,"Si",4,12,{"$f":"IFERROR(H55*I55,0)","v":48},420,{"$f":"IFERROR(J55/(60/K55)/220,0)","v":1.5272727272727273},"Químico Farmacéutico"]
[{"$f":"B$22","v":"Dispensación "},"Nº items que maneja la bodega (farmacos Rotativos)",null,null,null,null,"Si",5,52,{"$f":"IFERROR(H56*I56,0)","v":260},30,{"$f":"IFERROR(J56/(60/K56)/220,0)","v":0.59090909090909094},"Químico Farmacéutico"]
[]
[null,"Abastecimiento "]
[null,null,null,null,null,null,null,null,null,"Intervencion Profesional"]
[null,"Actividades de Gestión y Administrativa",null,null,null,null,"Se Realiza","N°","Concentracion","Total Actividades","Rendimiento Minutos","Horas Diarias","Estamento "]
[{"$f":"B$22","v":"Dispensación "},"Programación por Item",null,null,null,null,"Si",1,1,{"$f":"IFERROR(H61*I61,0)","v":1},420,{"$f":"IFERROR(J61/(60/K61)/220,0)","v":3.1818181818181815E-2},"Químico Farmacéutico"]
["Dispensación ","Programaciones de item  realizadas semanales",null,null,null,null,"No",null,null,0,null,0]
["Dispensación ","Adquisición",null,null,null,null,"Si",1,12,12,120,0.10909090909090909,"Químico Farmacéutico"]
["Dispensación ","Nº Evaluaciones tecnicas de Medicamentos y/o Dispositivos Medicos  Licitados",null,null,null,null,"Si",1,3,3,60,1.3636363636363636E-2,"Químico Farmacéutico"]
["Dispensación ","Nº Bases de licitación Elaboradas con requisitos Tecnicos por  Medicamentos y/o Dispositivos Medicos  ",null,null,null,null,"Si",1,3,3,60,1.3636363636363636E-2,"Químico Farmacéutico"]
["Dispensación ","Recepción/Almacenamiento/Salidas",null,null,null,null,"Si",3,52,156,10,0.11818181818181818,"TENS"]
["Dispensación ","Nº de Items de entrada y Salidas de Medicamentos y/o dispositivos medicos semanales",null,null,null,null,"Si",3,52,156,30,0.35454545454545455,"TENS"]

{"sheet":"COMGES_2.1","index":13,"n_rows":35,"n_cols":35,"rows_kept":35,"cut":false,"hidden":false,"merged":[[2,14,2,15],[2,16,2,17],[20,1,20,5],[21,1,21,5],[22,1,22,5],[8,6,8,11],[10,1,10,5],[13,6,13,8],[14,6,14,8],[15,6,15,8],[3,1,8,2],[3,3,8,4],[3,6,3,7],[3,8,3,10],[4,6,4,7],[4,8,4,10],[5,6,5,7],[5,8,5,10],[7,6,7,11],[27,6,27,8],[16,6,16,8],[17,6,17,8],[18,6,18,8],[19,6,19,8],[20,6,20,8],[21,6,21,8],[22,6,22,8],[23,6,23,8],[24,6,24,8],[25,6,25,8],[26,6,26,8],[34,6,34,8],[12,6,12,8],[13,1,13,5],[14,1,14,5],[15,1,15,5],[12,1,12,5],[16,1,16,5],[17,1,17,5],[18,1,18,5],[19,1,19,5],[28,6,28,8],[29,6,29,8],[30,6,30,8],[31,6,31,8],[32,6,32,8],[33,6,33,8],[34,1,34,5],[23,1,23,5],[24,1,24,5],[25,1,25,5],[26,1,26,5],[27,1,27,5],[28,1,28,5],[30,1,30,5],[31,1,31,5],[32,1,32,5],[33,1,33,5],[29,1,29,5]]}
[]
[]
[]
[null,null,null,null,null,null,"Establecimiento",null,{"$f":"Percapita!$G$6","v":"DEPARTAMENTO DE SALUD MUNICIPAL"}]
[null,null,null,null,null,null,"Comuna",null,{"$f":"Percapita!$G$7","v":"CALLE LARGA"}]
[null,null,null,null,null,null,"Fecha de Programación",null,{"$f":"Balance_Horas!$G$7","v":"2023-10-12"}]
[]
[null,null,null,null,null,null,"MONITOREO DE PROGRAMACION APS"]
[null,null,null,null,null,null,"COMGES 2.1"]
[]
[null,"ACTIVIDADES"]
[]
["N°","Actividades / Cartera de Servicios",null,null,null,null,"Poblacion a Atender",null,null,"Programado (Población y/o Actividad)","Ruta REM","ENERO","FEBRERO","MARZO","TOTAL","% Avance","BRECHA","ABRIL","MAYO","JUNIO","TOTAL","% Avance","BRECHA","JULIO","AGOSTO","SEPTIEMBRE","TOTAL","%","BRECHA","OCTUBRE","NOVIEMBRE","DICIEMBRE","TOTAL","%","BRECHA"]
["1.1","Control De Salud Infantil Con Evaluación Del Desarrollo Psicomotor",null,null,null,null,"Población de 8 meses",null,null,{"$f":"SUM(Infantil!J46,Infantil!J67,Infantil!J89,Infantil!J120)","v":155},"REM A03, Sección A.2, celdas H20 a H23+I20 a I23 ",null,null,null,{"$f":"SUM(L14:N14)","v":0},{"$f":"IFERROR(O14/$J14,0)","v":0},{"$f":"$J14-O14","v":155},null,null,null,{"$f":"SUM(R14:T14)+O14","v":0},{"$f":"IFERROR(U14/$J14,0)","v":0},{"$f":"$J14-U14","v":155},null,null,null,{"$f":"SUM(X14:Z14)+U14","v":0},{"$f":"IFERROR(AA14/$J14,0)","v":0},{"$f":"$J14-AA14","v":155},null,null,null,{"$f":"SUM(AD14:AF14)+AA14","v":0},{"$f":"IFERROR(AG14/$J14,0)","v":0},{"$f":"$J14-AG14","v":155}]
["1.2","Control De Salud Infantil Con Evaluación Del Desarrollo Psicomotor",null,null,null,null,"Población de 3 años",null,null,{"$f":"SUM(Infantil!J50,Infantil!J126)","v":115},"REM A03, Sección A.2, celdas N20 a N23+O20 a O23 ",null,null,null,{"$f":"SUM(L15:N15)","v":0},{"$f":"IFERROR(O15/$J15,0)","v":0},{"$f":"$J15-O15","v":115},null,null,null,{"$f":"SUM(R15:T15)+O15","v":0},{"$f":"IFERROR(U15/$J15,0)","v":0},{"$f":"$J15-U15","v":115},null,null,null,{"$f":"SUM(X15:Z15)+U15","v":0},{"$f":"IFERROR(AA15/$J15,0)","v":0},{"$f":"$J15-AA15","v":115},null,null,null,{"$f":"SUM(AD15:AF15)+AA15","v":0},{"$f":"IFERROR(AG15/$J15,0)","v":0},{"$f":"$J15-AG15","v":115}]
[2,"Educacion Grupal En Adolescentes (Prevencion Suicidio/Prevención Trastorno Mental)",null,null,null,null,"Población entre 10 y 19 años",null,null,{"$f":"SUM(Adolescente!J121)","v":2},"REM A27 Sección A, celdas J35+K35+J36+K36              ",null,null,null,0,0,2,null,null,null,0,0,2,null,null,null,0,0,2,null,null,null,0,0,2]
[3,"Ingreso A Programa De Regulacion De Fertilidad En Población Adolescente",null,null,null,null,"Población entre 10 y 19 años",null,null,{"$f":"SUM(Adolescente!J69)","v":84.64},"REM A05 sección C celdas D35+E35",null,null,null,0,0,84.64,null,null,null,0,0,84.64,null,null,null,0,0,84.64,null,null,null,0,0,84.64]
[4,"Control De Climaterio",null,null,null,null,"Población mujer 45 a 64 años",null,null,{"$f":"SUM(Adulto!L82)","v":148.24},"REM A01, Sección A, celdas M30 a P30+ M31 a P31",null,null,null,0,0,148.24,null,null,null,0,0,148.24,null,null,null,0,0,148.24,null,null,null,0,0,148.24]
["5.1","Ingresos Integrales De Personas Con Condiciones Crónicas**",null,null,null,null,"Población de 25-64  años y más con condiciones crónicas estratificada en riesgo moderado (G2) y riesgo alto (G3)",null,null,{"$f":"SUM(Adulto!J162,Adulto!J167)","v":180},"REM A05 Sección U, Celdas J,K,L,M,N,O,P,Q,R,S,T,U,V ,W, X, Y  340+341",null,null,null,0,0,180,null,null,null,0,0,180,null,null,null,0,0,180,null,null,null,0,0,180]
["5.2","Ingresos Integrales De Personas Con Condiciones Crónicas**",null,null,null,null,"Población de 65  años y más con condiciones crónicas estratificada en riesgo moderado (G2) y riesgo alto (G3)",null,null,{"$f":"SUM(Persona_Mayor!J136,Persona_Mayor!J141)","v":220},"REM A05 Sección U, Celdas Z,AA,AB,AC,AD,AE,AF,AG   340+341",null,null,null,0,0,220,null,null,null,0,0,220,null,null,null,0,0,220,null,null,null,0,0,220]
[6,"Intervencion Psicosocial Grupal",null,null,null,null,"Población bajo control ",null,null,{"$f":"SUM(Infantil!J206)+SUM(Adolescente!J120)+SUM(Adulto!J124)+SUM(Persona_Mayor!J104)","v":0},"REM A06 Sección A.1, Celda C24",null,null,null,0,0,0,null,null,null,0,0,0,null,null,null,0,0,0,null,null,null,0,0,0]
[7,"Consulta Morbilidad  Odontológica Adulto Mayor",null,null,null,null,"Población de 65 y más años",null,null,{"$f":"SUM(Persona_Mayor!L111)","v":576.9},"REM A09 Sección A, Celda AM 12+ AN12 + AO12 + AP12 ",null,null,null,0,0,576.9,null,null,null,0,0,576.9,null,null,null,0,0,576.9,null,null,null,0,0,576.9]
[8,"Control De Salud En Adultos Mayores (Empam) Seguimiento Autovalente  Con Riesgo Y En Riesgo De Dependencia",null,null,null,null,"Población de 65 y más años",null,null,{"$f":"SUM(Persona_Mayor!L41)","v":99},"REM A01 Sección C, celdas C49+C50+C51+C52+C53+C54",null,null,null,0,0,99,null,null,null,0,0,99,null,null,null,0,0,99,null,null,null,0,0,99]
[9,"Numero De Personas Que Retiran Pacam",null,null,null,null,"Población de 70 años y más (más población de 60-69 años con motivo de ingreso específico de PACAM)",null,null,null,"REM D16 Sección B, celda B26",null,null,null,0,0,0,null,null,null,0,0,0,null,null,null,0,0,0,null,null,null,0,0,0]
[10,"Visita Domiciliaria Integral: Evaluacion Sobrecarga Del Cuidador \"Zarit Abreviado\"",null,null,null,null,"Población total cuidadores",null,null,{"$f":"SUM(MAISF!L93)","v":60},"REM A03 Sección D.6, celda C195 + C196",null,null,null,0,0,60,null,null,null,0,0,60,null,null,null,0,0,60,null,null,null,0,0,60]
[11,"Control De Salud En Población Infantil Menor De 1 Año",null,null,null,null,"Población 2, 4, 6 meses",null,null,{"$f":"SUM(Infantil!J41,Infantil!J43,Infantil!J45,Infantil!J63,Infantil!J64,Infantil!J66,Infantil!J84,Infantil!J86,Infantil!J88,Infantil!J102,Infantil!J104,Infantil!J106,Infantil!J115,Infantil!J117,Infantil!J119)","v":538},"REM A01, Sección B celdas H38+J38+L38 ",null,null,null,0,0,538,null,null,null,0,0,538,null,null,null,0,0,538,null,null,null,0,0,538]
[12,"Control De Crónicos  Respiratorio Sala Ira",null,null,null,null,"Población  10 a 19 años ",null,null,{"$f":"SUM(E.Transversales!L79)","v":171.04}," REM A23, Sección E, celdas k70 a N70",null,null,null,0,0,171.04,null,null,null,0,0,171.04,null,null,null,0,0,171.04,null,null,null,0,0,171.04]
[13,"Control De Salud Mental En Población Adolescente",null,null,null,null,"Población bajo control entre 10 y 19 años",null,null,{"$f":"SUM(Adolescente!L108,Adolescente!L106)","v":1200},"REM A06 sección A.1, celdas J23+K23+L23+M23 +REM A32 Sección F2 celdas 147 JKLM  y 158  JKLM",null,null,null,0,0,1200,null,null,null,0,0,1200,null,null,null,0,0,1200,null,null,null,0,0,1200]
[14,"Control De Salud En Población Infantil Ingreso - Diáda (Madre -Rn Incluye Puerperio)",null,null,null,null,"Población menor de 28 días",null,null,{"$f":"SUM(Adolescente!J65)+SUM(Adulto!J71)","v":136},"REM A01, Sección A, Puérpera con Recién nacido hasta 28 días, celdas C20 a C23",null,null,null,0,0,136,null,null,null,0,0,136,null,null,null,0,0,136,null,null,null,0,0,136]
[15,"Control De Salud Mental (Por Médico)",null,null,null,null,"Población bajo control",null,null,{"$f":"SUM(Infantil!L196)+SUM(Adolescente!L106)+SUM(Adulto!L110)+SUM(Persona_Mayor!L90)","v":1840},"REM A06 Sección A.1 Celdas C13 + REM A32 Sección F2, celda C137+C148",null,null,null,0,0,1840,null,null,null,0,0,1840,null,null,null,0,0,1840,null,null,null,0,0,1840]
[16,"Consulta De Lactancia Materna ",null,null,null,null,"Madres y población menor de 6 meses",null,null,{"$f":"SUM(Infantil!L160)","v":40},"REM A04, Sección M: Consulta de Lactancia Materna en menores controlados, celdas D129 A F129+ D130 AF130+D131 A F131+D132 A F132",null,null,null,0,0,40,null,null,null,0,0,40,null,null,null,0,0,40,null,null,null,0,0,40]
[17,"Consulta Nutricional Al 5° Mes De Vida",null,null,null,null,"Población bajo control de 5 meses a 11 meses y 29 días (Según estrategia de intervención en el curso de vida)",null,null,{"$f":"SUM(Infantil!J44,Infantil!J65,Infantil!J87,Infantil!J105,Infantil!J118)","v":179},"REM P02, Seccion D, celda C95",null,null,null,0,0,179,null,null,null,0,0,179,null,null,null,0,0,179,null,null,null,0,0,179]
[18,"Control De Crónicos  Respiratorios Sala Era",null,null,null,null,"Población mayor de 20 años",null,null,{"$f":"SUM(E.Transversales!L96)","v":1012},"REM A23, Sección E, celda O69 a AJ69",null,null,null,0,0,1012,null,null,null,0,0,1012,null,null,null,0,0,1012,null,null,null,0,0,1012]
[19,"Intervencion Familiar (Familias Con Plan De Intervención)*",null,null,null,null,"Total de familias",null,null,{"$f":"SUM(MAISF!L40)","v":17.68},"REM P7 Sección B, celda D25",null,null,null,0,0,17.68,null,null,null,0,0,17.68,null,null,null,0,0,17.68,null,null,null,0,0,17.68]
[20,"Controles Integrales De Personas Con Condiciones Cronicas**",null,null,null,null,"Población de 15 y mas años con condiciones crónicas estratificada en riesgo moderado (G2) y riesgo alto (G3)",null,null,{"$f":"SUM(Adulto!L163,Adulto!L168)+SUM(Persona_Mayor!L137,Persona_Mayor!L142)","v":3649},"REM A01 sección E, Filas 98-99 desde columna F a la AF ",null,null,null,0,0,3649,null,null,null,0,0,3649,null,null,null,0,0,3649,null,null,null,0,0,3649]